{"text_format":"1","workbook":"xlsx","n_sheets":31,"sheets":["BUSCAR FECHA","HOJA GENERAL DE DATOS","ENLACES DATOS","ECUACIONES","CREDITOS GESTICOR","CALCULO THI","AMBIENTALES ADMISIBLES","PRODUCTOS GESTICOR","GEST TENDENCIAS","GEST CUENTA EXPL","GEST FINANCIACION","GEST PPCC","CRITERIOS PPCC","GEST BA","HOJA PUNTUACION BA","CRITERIOS BA","GEST EE","GEST CALIDAD CANAL","GEST EVALUAC CEBO","GEST EXPORTACION","GEST CALC ENER","GEST IND TECN","GEST CHEQ SEM","GEST CHEQ MES","GEST RUMEN","GEST DURAB CARNE","MODULO SALUD","MODULO MEJORA","MODULO BA&SOSTENIBILIDAD","MODULO ECONOMIA","GESTICOR MODEL"],"not_rendered":{"charts":42,"images":81,"macros":1,"external_links":2,"defined_names":28,"comments":13,"pivot_tables":0},"unopened":[],"bounds":{"document_bytes":16777216,"sheet_cells":100000,"rows_first":2000,"rows_last":500,"rows_between":2000,"halvings":0,"cell_chars":16384,"cell_head_chars":4096},"cells_cut":0,"cells_raw":0,"read":"whole","date_system":"1900"}

{"sheet":"BUSCAR FECHA","index":0,"n_rows":5480,"n_cols":10,"rows_kept":5480,"cut":false,"hidden":false,"merged":[]}
["DIA","SEMANA","SEMANA REAL","MES REAL","FECHA","SEMANA","SEMANA REAL","MES REAL","SEM TEXTO"]
["2009-02-02",906,{"$f":"RIGHT(B2,2)","v":"06"},{"$f":"MONTH(A2)","v":2},{"$f":"'GEST CHEQ SEM'!C12","v":"00:00:00"},{"$f":"VLOOKUP($E2,$A$2:$D$30000,2, FALSE)","v":{"$error":"#N/A"}},{"$f":"VALUE(I2)","v":{"$error":"#N/A"}},{"$f":"VLOOKUP($E2,$A$2:$D$30000,4, FALSE)","v":{"$error":"#N/A"}},{"$f":"VLOOKUP($E2,$A$2:$D$30000,3, FALSE)","v":{"$error":"#N/A"}},"CHEQUEO SEMANAL"]
["2009-02-03",906,{"$f":"RIGHT(B3,2)","v":"06"},{"$f":"MONTH(A3)","v":2},{"$f":"'GEST CHEQ MES'!C12","v":"00:00:00"},{"$f":"VLOOKUP($E3,$A$2:$D$30000,2, FALSE)","v":{"$error":"#N/A"}},{"$f":"VALUE(I3)","v":{"$error":"#N/A"}},{"$f":"VLOOKUP($E3,$A$2:$D$30000,4, FALSE)","v":{"$error":"#N/A"}},{"$f":"VLOOKUP($E3,$A$2:$D$30000,3, FALSE)","v":{"$error":"#N/A"}},"CHEQUEO MENSUAL"]
["2009-02-04",906,"06",2,{"$f":"'GEST RUMEN'!B9","v":"00:00:00"},{"$f":"VLOOKUP($E4,$A$2:$D$30000,2, FALSE)","v":{"$error":"#N/A"}},{"$f":"VALUE(I4)","v":{"$error":"#N/A"}},{"$f":"VLOOKUP($E4,$A$2:$D$30000,4, FALSE)","v":{"$error":"#N/A"}},{"$f":"VLOOKUP($E4,$A$2:$D$30000,3, FALSE)","v":{"$error":"#N/A"}},"CHEQUEO SALUD RUMINAL"]
["2009-02-05",906,"06",2,{"$f":"'GEST CALIDAD CANAL'!B9","v":"00:00:00"},{"$f":"VLOOKUP($E5,$A$2:$D$30000,2, FALSE)","v":{"$error":"#N/A"}},{"$f":"VALUE(I5)","v":{"$error":"#N/A"}},{"$f":"VLOOKUP($E5,$A$2:$D$30000,4, FALSE)","v":{"$error":"#N/A"}},{"$f":"VLOOKUP($E5,$A$2:$D$30000,3, FALSE)","v":{"$error":"#N/A"}},"CHEQUEO CALIDAD CANAL"]
["2009-02-06",906,"06",2,{"$f":"'GEST EE'!B9","v":"00:00:00"},{"$f":"VLOOKUP($E6,$A$2:$D$30000,2, FALSE)","v":{"$error":"#N/A"}},{"$f":"VALUE(I6)","v":{"$error":"#N/A"}},{"$f":"VLOOKUP($E6,$A$2:$D$30000,4, FALSE)","v":{"$error":"#N/A"}},{"$f":"VLOOKUP($E6,$A$2:$D$30000,3, FALSE)","v":{"$error":"#N/A"}},"CHEQUEO ESTADO ENGRASAMIENTO"]
["2009-02-07",906,"06",2]
["2009-02-08",906,"06",2]
["2009-02-09",907,"07",2]
["2009-02-10",907,"07",2]
["2009-02-11",907,"07",2]
["2009-02-12",907,"07",2]
["2009-02-13",907,"07",2]
["2009-02-14",907,"07",2]
["2009-02-15",907,"07",2]
["2009-02-16",908,"08",2]
["2009-02-17",908,"08",2]
["2009-02-18",908,"08",2]
["2009-02-19",908,"08",2]
["2009-02-20",908,"08",2]
["2009-02-21",908,"08",2]
["2009-02-22",908,"08",2]
["2009-02-23",909,"09",2]
["2009-02-24",909,"09",2]
["2009-02-25",909,"09",2]
["2009-02-26",909,"09",2]
["2009-02-27",909,"09",2]
["2009-02-28",909,"09",2]
["2009-03-01",909,"09",3]
["2009-03-02",910,"10",3]
["2009-03-03",910,"10",3]
["2009-03-04",910,"10",3]
["2009-03-05",910,"10",3]
["2009-03-06",910,"10",3]
["2009-03-07",910,"10",3]
["2009-03-08",910,"10",3]
["2009-03-09",911,"11",3]
["2009-03-10",911,"11",3]
["2009-03-11",911,"11",3]
["2009-03-12",911,"11",3]
["2009-03-13",911,"11",3]
["2009-03-14",911,"11",3]
["2009-03-15",911,"11",3]
["2009-03-16",912,"12",3]
["2009-03-17",912,"12",3]
["2009-03-18",912,"12",3]
["2009-03-19",912,"12",3]
["2009-03-20",912,"12",3]
["2009-03-21",912,"12",3]
["2009-03-22",912,"12",3]
["2009-03-23",913,"13",3]
["2009-03-24",913,"13",3]
["2009-03-25",913,"13",3]
["2009-03-26",913,"13",3]
["2009-03-27",913,"13",3]
["2009-03-28",913,"13",3]
["2009-03-29",913,"13",3]
["2009-03-30",914,"14",3]
["2009-03-31",914,"14",3]
["2009-04-01",914,"14",4]
["2009-04-02",914,"14",4]
["2009-04-03",914,"14",4]
["2009-04-04",914,"14",4]
["2009-04-05",914,"14",4]
["2009-04-06",915,"15",4]
["2009-04-07",915,"15",4]
["2009-04-08",915,{"$f":"RIGHT(B67,2)","v":"15"},{"$f":"MONTH(A67)","v":4}]
["2009-04-09",915,"15",4]
["2009-04-10",915,"15",4]
["2009-04-11",915,"15",4]
["2009-04-12",915,"15",4]
["2009-04-13",916,"16",4]
["2009-04-14",916,"16",4]
["2009-04-15",916,"16",4]
["2009-04-16",916,"16",4]
["2009-04-17",916,"16",4]
["2009-04-18",916,"16",4]
["2009-04-19",916,"16",4]
["2009-04-20",917,"17",4]
["2009-04-21",917,"17",4]
["2009-04-22",917,"17",4]
["2009-04-23",917,"17",4]
["2009-04-24",917,"17",4]
["2009-04-25",917,"17",4]
["2009-04-26",917,"17",4]
["2009-04-27",918,"18",4]
["2009-04-28",918,"18",4]
["2009-04-29",918,"18",4]
["2009-04-30",918,"18",4]
["2009-05-01",918,"18",5]
["2009-05-02",918,"18",5]
["2009-05-03",918,"18",5]
["2009-05-04",919,"19",5]
["2009-05-05",919,"19",5]
["2009-05-06",919,"19",5]
["2009-05-07",919,"19",5]
["2009-05-08",919,"19",5]
["2009-05-09",919,"19",5]
["2009-05-10",919,"19",5]
["2009-05-11",920,"20",5]
["2009-05-12",920,"20",5]
["2009-05-13",920,"20",5]
["2009-05-14",920,"20",5]
["2009-05-15",920,"20",5]
["2009-05-16",920,"20",5]
["2009-05-17",920,"20",5]
["2009-05-18",921,"21",5]
["2009-05-19",921,"21",5]
["2009-05-20",921,"21",5]
["2009-05-21",921,"21",5]
["2009-05-22",921,"21",5]
["2009-05-23",921,"21",5]
["2009-05-24",921,"21",5]
["2009-05-25",922,"22",5]
["2009-05-26",922,"22",5]
["2009-05-27",922,"22",5]
["2009-05-28",922,"22",5]
["2009-05-29",922,"22",5]
["2009-05-30",922,"22",5]
["2009-05-31",922,"22",5]
["2009-06-01",923,"23",6]
["2009-06-02",923,"23",6]
["2009-06-03",923,"23",6]
["2009-06-04",923,"23",6]
["2009-06-05",923,"23",6]
["2009-06-06",923,"23",6]
["2009-06-07",923,"23",6]
["2009-06-08",924,"24",6]
["2009-06-09",924,"24",6]
["2009-06-10",924,"24",6]
["2009-06-11",924,{"$f":"RIGHT(B131,2)","v":"24"},{"$f":"MONTH(A131)","v":6}]
["2009-06-12",924,"24",6]
["2009-06-13",924,"24",6]
["2009-06-14",924,"24",6]
["2009-06-15",925,"25",6]
["2009-06-16",925,"25",6]
["2009-06-17",925,"25",6]
["2009-06-18",925,"25",6]
["2009-06-19",925,"25",6]
["2009-06-20",925,"25",6]
["2009-06-21",925,"25",6]
["2009-06-22",926,"26",6]
["2009-06-23",926,"26",6]
["2009-06-24",926,"26",6]
["2009-06-25",926,"26",6]
["2009-06-26",926,"26",6]
["2009-06-27",926,"26",6]
["2009-06-28",926,"26",6]
["2009-06-29",927,"27",6]
["2009-06-30",927,"27",6]
["2009-07-01",927,"27",7]
["2009-07-02",927,"27",7]
["2009-07-03",927,"27",7]
["2009-07-04",927,"27",7]
["2009-07-05",927,"27",7]
["2009-07-06",928,"28",7]
["2009-07-07",928,"28",7]
["2009-07-08",928,"28",7]
["2009-07-09",928,"28",7]
["2009-07-10",928,"28",7]
["2009-07-11",928,"28",7]
["2009-07-12",928,"28",7]
["2009-07-13",929,"29",7]
["2009-07-14",929,"29",7]
["2009-07-15",929,"29",7]
["2009-07-16",929,"29",7]
["2009-07-17",929,"29",7]
["2009-07-18",929,"29",7]
["2009-07-19",929,"29",7]
["2009-07-20",930,"30",7]
["2009-07-21",930,"30",7]
["2009-07-22",930,"30",7]
["2009-07-23",930,"30",7]
["2009-07-24",930,"30",7]
["2009-07-25",930,"30",7]
["2009-07-26",930,"30",7]
["2009-07-27",931,"31",7]
["2009-07-28",931,"31",7]
["2009-07-29",931,"31",7]
["2009-07-30",931,"31",7]
["2009-07-31",931,"31",7]
["2009-08-01",931,"31",8]
["2009-08-02",931,"31",8]
["2009-08-03",932,"32",8]
["2009-08-04",932,"32",8]
["2009-08-05",932,"32",8]
["2009-08-06",932,"32",8]
["2009-08-07",932,"32",8]
["2009-08-08",932,"32",8]
["2009-08-09",932,"32",8]
["2009-08-10",933,"33",8]
["2009-08-11",933,"33",8]
["2009-08-12",933,"33",8]
["2009-08-13",933,"33",8]
["2009-08-14",933,{"$f":"RIGHT(B195,2)","v":"33"},{"$f":"MONTH(A195)","v":8}]
["2009-08-15",933,"33",8]
["2009-08-16",933,"33",8]
["2009-08-17",934,"34",8]
["2009-08-18",934,"34",8]
["2009-08-19",934,"34",8]
["2009-08-20",934,"34",8]
["2009-08-21",934,"34",8]
["2009-08-22",934,"34",8]
["2009-08-23",934,"34",8]
["2009-08-24",935,"35",8]
["2009-08-25",935,"35",8]
["2009-08-26",935,"35",8]
["2009-08-27",935,"35",8]
["2009-08-28",935,"35",8]
["2009-08-29",935,"35",8]
["2009-08-30",935,"35",8]
["2009-08-31",936,"36",8]
["2009-09-01",936,"36",9]
["2009-09-02",936,"36",9]
["2009-09-03",936,"36",9]
["2009-09-04",936,"36",9]
["2009-09-05",936,"36",9]
["2009-09-06",936,"36",9]
["2009-09-07",937,"37",9]
["2009-09-08",937,"37",9]
["2009-09-09",937,"37",9]
["2009-09-10",937,"37",9]
["2009-09-11",937,"37",9]
["2009-09-12",937,"37",9]
["2009-09-13",937,"37",9]
["2009-09-14",938,"38",9]
["2009-09-15",938,"38",9]
["2009-09-16",938,"38",9]
["2009-09-17",938,"38",9]
["2009-09-18",938,"38",9]
["2009-09-19",938,"38",9]
["2009-09-20",938,"38",9]
["2009-09-21",939,"39",9]
["2009-09-22",939,"39",9]
["2009-09-23",939,"39",9]
["2009-09-24",939,"39",9]
["2009-09-25",939,"39",9]
["2009-09-26",939,"39",9]
["2009-09-27",939,"39",9]
["2009-09-28",940,"40",9]
["2009-09-29",940,"40",9]
["2009-09-30",940,"40",9]
["2009-10-01",940,"40",10]
["2009-10-02",940,"40",10]
["2009-10-03",940,"40",10]
["2009-10-04",940,"40",10]
["2009-10-05",941,"41",10]
["2009-10-06",941,"41",10]
["2009-10-07",941,"41",10]
["2009-10-08",941,"41",10]
["2009-10-09",941,"41",10]
["2009-10-10",941,"41",10]
["2009-10-11",941,"41",10]
["2009-10-12",942,"42",10]
["2009-10-13",942,"42",10]
["2009-10-14",942,"42",10]
["2009-10-15",942,"42",10]
["2009-10-16",942,"42",10]
["2009-10-17",942,{"$f":"RIGHT(B259,2)","v":"42"},{"$f":"MONTH(A259)","v":10}]
["2009-10-18",942,"42",10]
["2009-10-19",943,"43",10]
["2009-10-20",943,"43",10]
["2009-10-21",943,"43",10]
["2009-10-22",943,"43",10]
["2009-10-23",943,"43",10]
["2009-10-24",943,"43",10]
["2009-10-25",943,"43",10]
["2009-10-26",944,"44",10]
["2009-10-27",944,"44",10]
["2009-10-28",944,"44",10]
["2009-10-29",944,"44",10]
["2009-10-30",944,"44",10]
["2009-10-31",944,"44",10]
["2009-11-01",944,"44",11]
["2009-11-02",945,"45",11]
["2009-11-03",945,"45",11]
["2009-11-04",945,"45",11]
["2009-11-05",945,"45",11]
["2009-11-06",945,"45",11]
["2009-11-07",945,"45",11]
["2009-11-08",945,"45",11]
["2009-11-09",946,"46",11]
["2009-11-10",946,"46",11]
["2009-11-11",946,"46",11]
["2009-11-12",946,"46",11]
["2009-11-13",946,"46",11]
["2009-11-14",946,"46",11]
["2009-11-15",946,"46",11]
["2009-11-16",947,"47",11]
["2009-11-17",947,"47",11]
["2009-11-18",947,"47",11]
["2009-11-19",947,"47",11]
["2009-11-20",947,"47",11]
["2009-11-21",947,"47",11]
["2009-11-22",947,"47",11]
["2009-11-23",948,"48",11]
["2009-11-24",948,"48",11]
["2009-11-25",948,"48",11]
["2009-11-26",948,"48",11]
["2009-11-27",948,"48",11]
["2009-11-28",948,"48",11]
["2009-11-29",948,"48",11]
["2009-11-30",949,"49",11]
["2009-12-01",949,"49",12]
["2009-12-02",949,"49",12]
["2009-12-03",949,"49",12]
["2009-12-04",949,"49",12]
["2009-12-05",949,"49",12]
["2009-12-06",949,"49",12]
["2009-12-07",950,"50",12]
["2009-12-08",950,"50",12]
["2009-12-09",950,"50",12]
["2009-12-10",950,"50",12]
["2009-12-11",950,"50",12]
["2009-12-12",950,"50",12]
["2009-12-13",950,"50",12]
["2009-12-14",951,"51",12]
["2009-12-15",951,"51",12]
["2009-12-16",951,"51",12]
["2009-12-17",951,"51",12]
["2009-12-18",951,"51",12]
["2009-12-19",951,"51",12]
["2009-12-20",951,{"$f":"RIGHT(B323,2)","v":"51"},{"$f":"MONTH(A323)","v":12}]
["2009-12-21",952,"52",12]
["2009-12-22",952,"52",12]
["2009-12-23",952,"52",12]
["2009-12-24",952,"52",12]
["2009-12-25",952,"52",12]
["2009-12-26",952,"52",12]
["2009-12-27",952,"52",12]
["2009-12-28",953,"53",12]
["2009-12-29",953,"53",12]
["2009-12-30",953,"53",12]
["2009-12-31",953,"53",12]
["2010-01-01",953,"53",1]
["2010-01-02",953,"53",1]
["2010-01-03",953,"53",1]
["2010-01-04",1001,"01",1]
["2010-01-05",1001,"01",1]
["2010-01-06",1001,"01",1]
["2010-01-07",1001,"01",1]
["2010-01-08",1001,"01",1]
["2010-01-09",1001,"01",1]
["2010-01-10",1001,"01",1]
["2010-01-11",1002,"02",1]
["2010-01-12",1002,"02",1]
["2010-01-13",1002,"02",1]
["2010-01-14",1002,"02",1]
["2010-01-15",1002,"02",1]
["2010-01-16",1002,"02",1]
["2010-01-17",1002,"02",1]
["2010-01-18",1003,"03",1]
["2010-01-19",1003,"03",1]
["2010-01-20",1003,"03",1]
["2010-01-21",1003,"03",1]
["2010-01-22",1003,"03",1]
["2010-01-23",1003,"03",1]
["2010-01-24",1003,"03",1]
["2010-01-25",1004,"04",1]
["2010-01-26",1004,"04",1]
["2010-01-27",1004,"04",1]
["2010-01-28",1004,"04",1]
["2010-01-29",1004,"04",1]
["2010-01-30",1004,"04",1]
["2010-01-31",1004,"04",1]
["2010-02-01",1005,"05",2]
["2010-02-02",1005,"05",2]
["2010-02-03",1005,"05",2]
["2010-02-04",1005,"05",2]
["2010-02-05",1005,"05",2]
["2010-02-06",1005,"05",2]
["2010-02-07",1005,"05",2]
["2010-02-08",1006,"06",2]
["2010-02-09",1006,"06",2]
["2010-02-10",1006,"06",2]
["2010-02-11",1006,"06",2]
["2010-02-12",1006,"06",2]
["2010-02-13",1006,"06",2]
["2010-02-14",1006,"06",2]
["2010-02-15",1007,"07",2]
["2010-02-16",1007,"07",2]
["2010-02-17",1007,"07",2]
["2010-02-18",1007,"07",2]
["2010-02-19",1007,"07",2]
["2010-02-20",1007,"07",2]
["2010-02-21",1007,"07",2]
["2010-02-22",1008,{"$f":"RIGHT(B387,2)","v":"08"},{"$f":"MONTH(A387)","v":2}]
["2010-02-23",1008,"08",2]
["2010-02-24",1008,"08",2]
["2010-02-25",1008,"08",2]
["2010-02-26",1008,"08",2]
["2010-02-27",1008,"08",2]
["2010-02-28",1008,"08",2]
["2010-03-01",1009,"09",3]
["2010-03-02",1009,"09",3]
["2010-03-03",1009,"09",3]
["2010-03-04",1009,"09",3]
["2010-03-05",1009,"09",3]
["2010-03-06",1009,"09",3]
["2010-03-07",1009,"09",3]
["2010-03-08",1010,"10",3]
["2010-03-09",1010,"10",3]
["2010-03-10",1010,"10",3]
["2010-03-11",1010,"10",3]
["2010-03-12",1010,"10",3]
["2010-03-13",1010,"10",3]
["2010-03-14",1010,"10",3]
["2010-03-15",1011,"11",3]
["2010-03-16",1011,"11",3]
["2010-03-17",1011,"11",3]
["2010-03-18",1011,"11",3]
["2010-03-19",1011,"11",3]
["2010-03-20",1011,"11",3]
["2010-03-21",1011,"11",3]
["2010-03-22",1012,"12",3]
["2010-03-23",1012,"12",3]
["2010-03-24",1012,"12",3]
["2010-03-25",1012,"12",3]
["2010-03-26",1012,"12",3]
["2010-03-27",1012,"12",3]
["2010-03-28",1012,"12",3]
["2010-03-29",1013,"13",3]
["2010-03-30",1013,"13",3]
["2010-03-31",1013,"13",3]
["2010-04-01",1013,"13",4]
["2010-04-02",1013,"13",4]
["2010-04-03",1013,"13",4]
["2010-04-04",1013,"13",4]
["2010-04-05",{"$f":"B422+1","v":1014},"14",4]
["2010-04-06",{"$f":"B423+1","v":1014},"14",4]
["2010-04-07",1014,"14",4]
["2010-04-08",1014,"14",4]
["2010-04-09",1014,"14",4]
["2010-04-10",1014,"14",4]
["2010-04-11",1014,"14",4]
["2010-04-12",{"$f":"B429+1","v":1015},"15",4]
["2010-04-13",{"$f":"B430+1","v":1015},"15",4]
["2010-04-14",1015,"15",4]
["2010-04-15",1015,"15",4]
["2010-04-16",1015,"15",4]
["2010-04-17",1015,"15",4]
["2010-04-18",1015,"15",4]
["2010-04-19",1016,"16",4]
["2010-04-20",1016,"16",4]
["2010-04-21",1016,"16",4]
["2010-04-22",1016,"16",4]
["2010-04-23",1016,"16",4]
["2010-04-24",1016,"16",4]
["2010-04-25",1016,"16",4]
["2010-04-26",1017,"17",4]
["2010-04-27",1017,{"$f":"RIGHT(B451,2)","v":"17"},{"$f":"MONTH(A451)","v":4}]
["2010-04-28",1017,"17",4]
["2010-04-29",1017,"17",4]
["2010-04-30",1017,"17",4]
["2010-05-01",1017,"17",5]
["2010-05-02",1017,"17",5]
["2010-05-03",1018,"18",5]
["2010-05-04",1018,"18",5]
["2010-05-05",1018,"18",5]
["2010-05-06",1018,"18",5]
["2010-05-07",1018,"18",5]
["2010-05-08",1018,"18",5]
["2010-05-09",1018,"18",5]
["2010-05-10",1019,"19",5]
["2010-05-11",1019,"19",5]
["2010-05-12",1019,"19",5]
["2010-05-13",1019,"19",5]
["2010-05-14",1019,"19",5]
["2010-05-15",1019,"19",5]
["2010-05-16",1019,"19",5]
["2010-05-17",1020,"20",5]
["2010-05-18",1020,"20",5]
["2010-05-19",1020,"20",5]
["2010-05-20",1020,"20",5]
["2010-05-21",1020,"20",5]
["2010-05-22",1020,"20",5]
["2010-05-23",1020,"20",5]
["2010-05-24",1021,"21",5]
["2010-05-25",1021,"21",5]
["2010-05-26",1021,"21",5]
["2010-05-27",1021,"21",5]
["2010-05-28",1021,"21",5]
["2010-05-29",1021,"21",5]
["2010-05-30",1021,"21",5]
["2010-05-31",1022,"22",5]
["2010-06-01",1022,"22",6]
["2010-06-02",1022,"22",6]
["2010-06-03",1022,"22",6]
["2010-06-04",1022,"22",6]
["2010-06-05",1022,"22",6]
["2010-06-06",1022,"22",6]
["2010-06-07",1023,"23",6]
["2010-06-08",1023,"23",6]
["2010-06-09",1023,"23",6]
["2010-06-10",1023,"23",6]
["2010-06-11",1023,"23",6]
["2010-06-12",1023,"23",6]
["2010-06-13",1023,"23",6]
["2010-06-14",1024,"24",6]
["2010-06-15",1024,"24",6]
["2010-06-16",{"$f":"B494+1","v":1024},"24",6]
["2010-06-17",1024,"24",6]
["2010-06-18",1024,"24",6]
["2010-06-19",1024,"24",6]
["2010-06-20",1024,"24",6]
["2010-06-21",1025,"25",6]
["2010-06-22",1025,"25",6]
["2010-06-23",1025,"25",6]
["2010-06-24",1025,"25",6]
["2010-06-25",1025,"25",6]
["2010-06-26",1025,"25",6]
["2010-06-27",1025,"25",6]
["2010-06-28",1026,"26",6]
["2010-06-29",1026,"26",6]
["2010-06-30",1026,{"$f":"RIGHT(B515,2)","v":"26"},{"$f":"MONTH(A515)","v":6}]
["2010-07-01",1026,"26",7]
["2010-07-02",1026,"26",7]
["2010-07-03",1026,"26",7]
["2010-07-04",1026,"26",7]
["2010-07-05",1027,"27",7]
["2010-07-06",1027,"27",7]
["2010-07-07",1027,"27",7]
["2010-07-08",1027,"27",7]
["2010-07-09",1027,"27",7]
["2010-07-10",1027,"27",7]
["2010-07-11",1027,"27",7]
["2010-07-12",1028,"28",7]
["2010-07-13",1028,"28",7]
["2010-07-14",1028,"28",7]
["2010-07-15",1028,"28",7]
["2010-07-16",1028,"28",7]
["2010-07-17",1028,"28",7]
["2010-07-18",1028,"28",7]
["2010-07-19",1029,"29",7]
["2010-07-20",1029,"29",7]
["2010-07-21",1029,"29",7]
["2010-07-22",1029,"29",7]
["2010-07-23",1029,"29",7]
["2010-07-24",1029,"29",7]
["2010-07-25",1029,"29",7]
["2010-07-26",1030,"30",7]
["2010-07-27",1030,"30",7]
["2010-07-28",1030,"30",7]
["2010-07-29",1030,"30",7]
["2010-07-30",1030,"30",7]
["2010-07-31",1030,"30",7]
["2010-08-01",1030,"30",8]
["2010-08-02",1031,"31",8]
["2010-08-03",1031,"31",8]
["2010-08-04",1031,"31",8]
["2010-08-05",1031,"31",8]
["2010-08-06",1031,"31",8]
["2010-08-07",1031,"31",8]
["2010-08-08",1031,"31",8]
["2010-08-09",1032,"32",8]
["2010-08-10",1032,"32",8]
["2010-08-11",1032,"32",8]
["2010-08-12",1032,"32",8]
["2010-08-13",1032,"32",8]
["2010-08-14",1032,"32",8]
["2010-08-15",1032,"32",8]
["2010-08-16",1033,"33",8]
["2010-08-17",1033,"33",8]
["2010-08-18",1033,"33",8]
["2010-08-19",{"$f":"B558+1","v":1033},"33",8]
["2010-08-20",1033,"33",8]
["2010-08-21",1033,"33",8]
["2010-08-22",1033,"33",8]
["2010-08-23",1034,"34",8]
["2010-08-24",1034,"34",8]
["2010-08-25",1034,"34",8]
["2010-08-26",1034,"34",8]
["2010-08-27",1034,"34",8]
["2010-08-28",1034,"34",8]
["2010-08-29",1034,"34",8]
["2010-08-30",1035,"35",8]
["2010-08-31",1035,"35",8]
["2010-09-01",1035,"35",9]
["2010-09-02",1035,{"$f":"RIGHT(B579,2)","v":"35"},{"$f":"MONTH(A579)","v":9}]
["2010-09-03",1035,"35",9]
["2010-09-04",1035,"35",9]
["2010-09-05",1035,"35",9]
["2010-09-06",1036,"36",9]
["2010-09-07",1036,"36",9]
["2010-09-08",1036,"36",9]
["2010-09-09",1036,"36",9]
["2010-09-10",1036,"36",9]
["2010-09-11",1036,"36",9]
["2010-09-12",1036,"36",9]
["2010-09-13",1037,"37",9]
["2010-09-14",1037,"37",9]
["2010-09-15",1037,"37",9]
["2010-09-16",1037,"37",9]
["2010-09-17",1037,"37",9]
["2010-09-18",1037,"37",9]
["2010-09-19",1037,"37",9]
["2010-09-20",1038,"38",9]
["2010-09-21",1038,"38",9]
["2010-09-22",1038,"38",9]
["2010-09-23",1038,"38",9]
["2010-09-24",1038,"38",9]
["2010-09-25",1038,"38",9]
["2010-09-26",1038,"38",9]
["2010-09-27",1039,"39",9]
["2010-09-28",1039,"39",9]
["2010-09-29",1039,"39",9]
["2010-09-30",1039,"39",9]
["2010-10-01",1039,"39",10]
["2010-10-02",1039,"39",10]
["2010-10-03",1039,"39",10]
["2010-10-04",1040,"40",10]
["2010-10-05",1040,"40",10]
["2010-10-06",1040,"40",10]
["2010-10-07",1040,"40",10]
["2010-10-08",1040,"40",10]
["2010-10-09",1040,"40",10]
["2010-10-10",1040,"40",10]
["2010-10-11",1041,"41",10]
["2010-10-12",1041,"41",10]
["2010-10-13",1041,"41",10]
["2010-10-14",1041,"41",10]
["2010-10-15",1041,"41",10]
["2010-10-16",1041,"41",10]
["2010-10-17",1041,"41",10]
["2010-10-18",1042,"42",10]
["2010-10-19",1042,"42",10]
["2010-10-20",1042,"42",10]
["2010-10-21",1042,"42",10]
["2010-10-22",{"$f":"B622+1","v":1042},"42",10]
["2010-10-23",1042,"42",10]
["2010-10-24",1042,"42",10]
["2010-10-25",1043,"43",10]
["2010-10-26",1043,"43",10]
["2010-10-27",1043,"43",10]
["2010-10-28",1043,"43",10]
["2010-10-29",1043,"43",10]
["2010-10-30",1043,"43",10]
["2010-10-31",1043,"43",10]
["2010-11-01",1044,"44",11]
["2010-11-02",1044,"44",11]
["2010-11-03",1044,"44",11]
["2010-11-04",1044,"44",11]
["2010-11-05",1044,{"$f":"RIGHT(B643,2)","v":"44"},{"$f":"MONTH(A643)","v":11}]
["2010-11-06",1044,"44",11]
["2010-11-07",1044,"44",11]
["2010-11-08",1045,"45",11]
["2010-11-09",1045,"45",11]
["2010-11-10",1045,"45",11]
["2010-11-11",1045,"45",11]
["2010-11-12",1045,"45",11]
["2010-11-13",1045,"45",11]
["2010-11-14",1045,"45",11]
["2010-11-15",1046,"46",11]
["2010-11-16",1046,"46",11]
["2010-11-17",1046,"46",11]
["2010-11-18",1046,"46",11]
["2010-11-19",1046,"46",11]
["2010-11-20",1046,"46",11]
["2010-11-21",1046,"46",11]
["2010-11-22",1047,"47",11]
["2010-11-23",1047,"47",11]
["2010-11-24",1047,"47",11]
["2010-11-25",1047,"47",11]
["2010-11-26",1047,"47",11]
["2010-11-27",1047,"47",11]
["2010-11-28",1047,"47",11]
["2010-11-29",1048,"48",11]
["2010-11-30",1048,"48",11]
["2010-12-01",1048,"48",12]
["2010-12-02",1048,"48",12]
["2010-12-03",1048,"48",12]
["2010-12-04",1048,"48",12]
["2010-12-05",1048,"48",12]
["2010-12-06",1049,"49",12]
["2010-12-07",1049,"49",12]
["2010-12-08",1049,"49",12]
["2010-12-09",1049,"49",12]
["2010-12-10",1049,"49",12]
["2010-12-11",1049,"49",12]
["2010-12-12",1049,"49",12]
["2010-12-13",1050,"50",12]
["2010-12-14",1050,"50",12]
["2010-12-15",1050,"50",12]
["2010-12-16",1050,"50",12]
["2010-12-17",1050,"50",12]
["2010-12-18",1050,"50",12]
["2010-12-19",1050,"50",12]
["2010-12-20",1051,"51",12]
["2010-12-21",1051,"51",12]
["2010-12-22",1051,"51",12]
["2010-12-23",1051,"51",12]
["2010-12-24",1051,"51",12]
["2010-12-25",{"$f":"B686+1","v":1051},"51",12]
["2010-12-26",1051,"51",12]
["2010-12-27",1052,"52",12]
["2010-12-28",1052,"52",12]
["2010-12-29",1052,"52",12]
["2010-12-30",1052,"52",12]
["2010-12-31",1052,"52",12]
["2011-01-01",1052,"52",1]
["2011-01-02",1052,"52",1]
["2011-01-03",1101,"01",1]
["2011-01-04",1101,"01",1]
["2011-01-05",1101,"01",1]
["2011-01-06",1101,"01",1]
["2011-01-07",1101,"01",1]
["2011-01-08",1101,{"$f":"RIGHT(B707,2)","v":"01"},{"$f":"MONTH(A707)","v":1}]
["2011-01-09",1101,"01",1]
["2011-01-10",{"$f":"B702+1","v":1102},"02",1]
["2011-01-11",{"$f":"B703+1","v":1102},"02",1]
["2011-01-12",1102,"02",1]
["2011-01-13",1102,"02",1]
["2011-01-14",1102,"02",1]
["2011-01-15",1102,"02",1]
["2011-01-16",1102,"02",1]
["2011-01-17",1103,"03",1]
["2011-01-18",1103,"03",1]
["2011-01-19",1103,"03",1]
["2011-01-20",1103,"03",1]
["2011-01-21",1103,"03",1]
["2011-01-22",1103,"03",1]
["2011-01-23",1103,"03",1]
["2011-01-24",1104,"04",1]
["2011-01-25",1104,"04",1]
["2011-01-26",1104,"04",1]
["2011-01-27",1104,"04",1]
["2011-01-28",1104,"04",1]
["2011-01-29",1104,"04",1]
["2011-01-30",1104,"04",1]
["2011-01-31",1105,"05",1]
["2011-02-01",1105,"05",2]
["2011-02-02",1105,"05",2]
["2011-02-03",1105,"05",2]
["2011-02-04",1105,"05",2]
["2011-02-05",1105,"05",2]
["2011-02-06",1105,"05",2]
["2011-02-07",1106,"06",2]
["2011-02-08",1106,"06",2]
["2011-02-09",1106,"06",2]
["2011-02-10",1106,"06",2]
["2011-02-11",1106,"06",2]
["2011-02-12",1106,"06",2]
["2011-02-13",1106,"06",2]
["2011-02-14",1107,"07",2]
["2011-02-15",1107,"07",2]
["2011-02-16",1107,"07",2]
["2011-02-17",1107,"07",2]
["2011-02-18",1107,"07",2]
["2011-02-19",1107,"07",2]
["2011-02-20",1107,"07",2]
["2011-02-21",1108,"08",2]
["2011-02-22",1108,"08",2]
["2011-02-23",1108,"08",2]
["2011-02-24",1108,"08",2]
["2011-02-25",1108,"08",2]
["2011-02-26",1108,"08",2]
["2011-02-27",1108,"08",2]
["2011-02-28",1109,"09",2]
["2011-03-01",1109,"09",3]
["2011-03-02",1109,"09",3]
["2011-03-03",1109,"09",3]
["2011-03-04",1109,"09",3]
["2011-03-05",1109,"09",3]
["2011-03-06",1109,"09",3]
["2011-03-07",1110,"10",3]
["2011-03-08",1110,"10",3]
["2011-03-09",1110,"10",3]
["2011-03-10",1110,"10",3]
["2011-03-11",1110,"10",3]
["2011-03-12",1110,"10",3]
["2011-03-13",1110,{"$f":"RIGHT(B771,2)","v":"10"},{"$f":"MONTH(A771)","v":3}]
["2011-03-14",1111,"11",3]
["2011-03-15",1111,"11",3]
["2011-03-16",{"$f":"B767+1","v":1111},"11",3]
["2011-03-17",1111,"11",3]
["2011-03-18",1111,"11",3]
["2011-03-19",1111,"11",3]
["2011-03-20",1111,"11",3]
["2011-03-21",1112,"12",3]
["2011-03-22",1112,"12",3]
["2011-03-23",1112,"12",3]
["2011-03-24",1112,"12",3]
["2011-03-25",1112,"12",3]
["2011-03-26",1112,"12",3]
["2011-03-27",1112,"12",3]
["2011-03-28",1113,"13",3]
["2011-03-29",1113,"13",3]
["2011-03-30",1113,"13",3]
["2011-03-31",1113,"13",3]
["2011-04-01",1113,"13",4]
["2011-04-02",1113,"13",4]
["2011-04-03",1113,"13",4]
["2011-04-04",1114,"14",4]
["2011-04-05",1114,"14",4]
["2011-04-06",1114,"14",4]
["2011-04-07",1114,"14",4]
["2011-04-08",1114,"14",4]
["2011-04-09",1114,"14",4]
["2011-04-10",1114,"14",4]
["2011-04-11",1115,"15",4]
["2011-04-12",1115,"15",4]
["2011-04-13",1115,"15",4]
["2011-04-14",1115,"15",4]
["2011-04-15",1115,"15",4]
["2011-04-16",1115,"15",4]
["2011-04-17",1115,"15",4]
["2011-04-18",1116,"16",4]
["2011-04-19",1116,"16",4]
["2011-04-20",1116,"16",4]
["2011-04-21",1116,"16",4]
["2011-04-22",1116,"16",4]
["2011-04-23",1116,"16",4]
["2011-04-24",1116,"16",4]
["2011-04-25",1117,"17",4]
["2011-04-26",1117,"17",4]
["2011-04-27",1117,"17",4]
["2011-04-28",1117,"17",4]
["2011-04-29",1117,"17",4]
["2011-04-30",1117,"17",4]
["2011-05-01",1117,"17",5]
["2011-05-02",1118,"18",5]
["2011-05-03",1118,"18",5]
["2011-05-04",1118,"18",5]
["2011-05-05",1118,"18",5]
["2011-05-06",1118,"18",5]
["2011-05-07",1118,"18",5]
["2011-05-08",1118,"18",5]
["2011-05-09",1119,"19",5]
["2011-05-10",1119,"19",5]
["2011-05-11",1119,"19",5]
["2011-05-12",1119,"19",5]
["2011-05-13",1119,"19",5]
["2011-05-14",1119,"19",5]
["2011-05-15",1119,"19",5]
["2011-05-16",1120,{"$f":"RIGHT(B835,2)","v":"20"},{"$f":"MONTH(A835)","v":5}]
["2011-05-17",1120,"20",5]
["2011-05-18",1120,"20",5]
["2011-05-19",{"$f":"B831+1","v":1120},"20",5]
["2011-05-20",1120,"20",5]
["2011-05-21",1120,"20",5]
["2011-05-22",1120,"20",5]
["2011-05-23",1121,"21",5]
["2011-05-24",1121,"21",5]
["2011-05-25",1121,"21",5]
["2011-05-26",1121,"21",5]
["2011-05-27",1121,"21",5]
["2011-05-28",1121,"21",5]
["2011-05-29",1121,"21",5]
["2011-05-30",1122,"22",5]
["2011-05-31",1122,"22",5]
["2011-06-01",1122,"22",6]
["2011-06-02",1122,"22",6]
["2011-06-03",1122,"22",6]
["2011-06-04",1122,"22",6]
["2011-06-05",1122,"22",6]
["2011-06-06",1123,"23",6]
["2011-06-07",1123,"23",6]
["2011-06-08",1123,"23",6]
["2011-06-09",1123,"23",6]
["2011-06-10",1123,"23",6]
["2011-06-11",1123,"23",6]
["2011-06-12",1123,"23",6]
["2011-06-13",1124,"24",6]
["2011-06-14",1124,"24",6]
["2011-06-15",1124,"24",6]
["2011-06-16",1124,"24",6]
["2011-06-17",1124,"24",6]
["2011-06-18",1124,"24",6]
["2011-06-19",1124,"24",6]
["2011-06-20",1125,"25",6]
["2011-06-21",1125,"25",6]
["2011-06-22",1125,"25",6]
["2011-06-23",1125,"25",6]
["2011-06-24",1125,"25",6]
["2011-06-25",1125,"25",6]
["2011-06-26",1125,"25",6]
["2011-06-27",1126,"26",6]
["2011-06-28",1126,"26",6]
["2011-06-29",1126,"26",6]
["2011-06-30",1126,"26",6]
["2011-07-01",1126,"26",7]
["2011-07-02",1126,"26",7]
["2011-07-03",1126,"26",7]
["2011-07-04",1127,"27",7]
["2011-07-05",1127,"27",7]
["2011-07-06",1127,"27",7]
["2011-07-07",1127,"27",7]
["2011-07-08",1127,"27",7]
["2011-07-09",1127,"27",7]
["2011-07-10",1127,"27",7]
["2011-07-11",1128,"28",7]
["2011-07-12",1128,"28",7]
["2011-07-13",1128,"28",7]
["2011-07-14",1128,"28",7]
["2011-07-15",1128,"28",7]
["2011-07-16",1128,"28",7]
["2011-07-17",1128,"28",7]
["2011-07-18",1129,"29",7]
["2011-07-19",1129,{"$f":"RIGHT(B899,2)","v":"29"},{"$f":"MONTH(A899)","v":7}]
["2011-07-20",1129,"29",7]
["2011-07-21",1129,"29",7]
["2011-07-22",{"$f":"B895+1","v":1129},"29",7]
["2011-07-23",1129,"29",7]
["2011-07-24",1129,"29",7]
["2011-07-25",1130,"30",7]
["2011-07-26",1130,"30",7]
["2011-07-27",1130,"30",7]
["2011-07-28",1130,"30",7]
["2011-07-29",1130,"30",7]
["2011-07-30",1130,"30",7]
["2011-07-31",1130,"30",7]
["2011-08-01",1131,"31",8]
["2011-08-02",1131,"31",8]
["2011-08-03",1131,"31",8]
["2011-08-04",1131,"31",8]
["2011-08-05",1131,"31",8]
["2011-08-06",1131,"31",8]
["2011-08-07",1131,"31",8]
["2011-08-08",1132,"32",8]
["2011-08-09",1132,"32",8]
["2011-08-10",1132,"32",8]
["2011-08-11",1132,"32",8]
["2011-08-12",1132,"32",8]
["2011-08-13",1132,"32",8]
["2011-08-14",1132,"32",8]
["2011-08-15",1133,"33",8]
["2011-08-16",1133,"33",8]
["2011-08-17",1133,"33",8]
["2011-08-18",1133,"33",8]
["2011-08-19",1133,"33",8]
["2011-08-20",1133,"33",8]
["2011-08-21",1133,"33",8]
["2011-08-22",1134,"34",8]
["2011-08-23",1134,"34",8]
["2011-08-24",1134,"34",8]
["2011-08-25",1134,"34",8]
["2011-08-26",1134,"34",8]
["2011-08-27",1134,"34",8]
["2011-08-28",1134,"34",8]
["2011-08-29",1135,"35",8]
["2011-08-30",1135,"35",8]
["2011-08-31",1135,"35",8]
["2011-09-01",1135,"35",9]
["2011-09-02",1135,"35",9]
["2011-09-03",1135,"35",9]
["2011-09-04",1135,"35",9]
["2011-09-05",1136,"36",9]
["2011-09-06",1136,"36",9]
["2011-09-07",1136,"36",9]
["2011-09-08",1136,"36",9]
["2011-09-09",1136,"36",9]
["2011-09-10",1136,"36",9]
["2011-09-11",1136,"36",9]
["2011-09-12",1137,"37",9]
["2011-09-13",1137,"37",9]
["2011-09-14",1137,"37",9]
["2011-09-15",1137,"37",9]
["2011-09-16",1137,"37",9]
["2011-09-17",1137,"37",9]
["2011-09-18",1137,"37",9]
["2011-09-19",1138,"38",9]
["2011-09-20",1138,"38",9]
["2011-09-21",1138,{"$f":"RIGHT(B963,2)","v":"38"},{"$f":"MONTH(A963)","v":9}]
["2011-09-22",1138,"38",9]
["2011-09-23",1138,"38",9]
["2011-09-24",{"$f":"B959+1","v":1138},"38",9]
["2011-09-25",1138,"38",9]
["2011-09-26",1139,"39",9]
["2011-09-27",1139,"39",9]
["2011-09-28",1139,"39",9]
["2011-09-29",1139,"39",9]
["2011-09-30",1139,"39",9]
["2011-10-01",1139,"39",10]
["2011-10-02",1139,"39",10]
["2011-10-03",1140,"40",10]
["2011-10-04",1140,"40",10]
["2011-10-05",1140,"40",10]
["2011-10-06",1140,"40",10]
["2011-10-07",1140,"40",10]
["2011-10-08",1140,"40",10]
["2011-10-09",1140,"40",10]
["2011-10-10",1141,"41",10]
["2011-10-11",1141,"41",10]
["2011-10-12",1141,"41",10]
["2011-10-13",1141,"41",10]
["2011-10-14",1141,"41",10]
["2011-10-15",1141,"41",10]
["2011-10-16",1141,"41",10]
["2011-10-17",1142,"42",10]
["2011-10-18",1142,"42",10]
["2011-10-19",1142,"42",10]
["2011-10-20",1142,"42",10]
["2011-10-21",1142,"42",10]
["2011-10-22",1142,"42",10]
["2011-10-23",1142,"42",10]
["2011-10-24",1143,"43",10]
["2011-10-25",1143,"43",10]
["2011-10-26",1143,"43",10]
["2011-10-27",1143,"43",10]
["2011-10-28",1143,"43",10]
["2011-10-29",1143,"43",10]
["2011-10-30",1143,"43",10]
["2011-10-31",1144,"44",10]
["2011-11-01",1144,"44",11]
["2011-11-02",1144,"44",11]
["2011-11-03",1144,"44",11]
["2011-11-04",1144,"44",11]
["2011-11-05",1144,"44",11]
["2011-11-06",1144,"44",11]
["2011-11-07",1145,"45",11]
["2011-11-08",1145,"45",11]
["2011-11-09",1145,"45",11]
["2011-11-10",1145,"45",11]
["2011-11-11",1145,"45",11]
["2011-11-12",1145,"45",11]
["2011-11-13",1145,"45",11]
["2011-11-14",1146,"46",11]
["2011-11-15",1146,"46",11]
["2011-11-16",1146,"46",11]
["2011-11-17",1146,"46",11]
["2011-11-18",1146,"46",11]
["2011-11-19",1146,"46",11]
["2011-11-20",1146,"46",11]
["2011-11-21",1147,"47",11]
["2011-11-22",1147,"47",11]
["2011-11-23",1147,"47",11]
["2011-11-24",1147,{"$f":"RIGHT(B1027,2)","v":"47"},{"$f":"MONTH(A1027)","v":11}]
["2011-11-25",1147,"47",11]
["2011-11-26",1147,"47",11]
["2011-11-27",{"$f":"B1023+1","v":1147},"47",11]
["2011-11-28",1148,"48",11]
["2011-11-29",1148,"48",11]
["2011-11-30",1148,"48",11]
["2011-12-01",1148,"48",12]
["2011-12-02",1148,"48",12]
["2011-12-03",1148,"48",12]
["2011-12-04",1148,"48",12]
["2011-12-05",1149,"49",12]
["2011-12-06",1149,"49",12]
["2011-12-07",1149,"49",12]
["2011-12-08",1149,"49",12]
["2011-12-09",1149,"49",12]
["2011-12-10",1149,"49",12]
["2011-12-11",1149,"49",12]
["2011-12-12",1150,"50",12]
["2011-12-13",1150,"50",12]
["2011-12-14",1150,"50",12]
["2011-12-15",1150,"50",12]
["2011-12-16",1150,"50",12]
["2011-12-17",1150,"50",12]
["2011-12-18",1150,"50",12]
["2011-12-19",1151,"51",12]
["2011-12-20",1151,"51",12]
["2011-12-21",1151,"51",12]
["2011-12-22",1151,"51",12]
["2011-12-23",1151,"51",12]
["2011-12-24",1151,"51",12]
["2011-12-25",1151,"51",12]
["2011-12-26",1152,"52",12]
["2011-12-27",1152,"52",12]
["2011-12-28",1152,"52",12]
["2011-12-29",1152,"52",12]
["2011-12-30",1152,"52",12]
["2011-12-31",1152,"52",12]
["2012-01-01",1152,"52",1]
["2012-01-02",1201,"01",1]
["2012-01-03",1201,"01",1]
["2012-01-04",1201,"01",1]
["2012-01-05",1201,"01",1]
["2012-01-06",1201,"01",1]
["2012-01-07",1201,"01",1]
["2012-01-08",1201,"01",1]
["2012-01-09",{"$f":"B1066+1","v":1202},"02",1]
["2012-01-10",{"$f":"B1067+1","v":1202},"02",1]
["2012-01-11",1202,"02",1]
["2012-01-12",1202,"02",1]
["2012-01-13",1202,"02",1]
["2012-01-14",1202,"02",1]
["2012-01-15",1202,"02",1]
["2012-01-16",1203,"03",1]
["2012-01-17",1203,"03",1]
["2012-01-18",1203,"03",1]
["2012-01-19",1203,"03",1]
["2012-01-20",1203,"03",1]
["2012-01-21",1203,"03",1]
["2012-01-22",1203,"03",1]
["2012-01-23",1204,"04",1]
["2012-01-24",1204,"04",1]
["2012-01-25",1204,"04",1]
["2012-01-26",1204,"04",1]
["2012-01-27",1204,{"$f":"RIGHT(B1091,2)","v":"04"},{"$f":"MONTH(A1091)","v":1}]
["2012-01-28",1204,"04",1]
["2012-01-29",1204,"04",1]
["2012-01-30",1205,"05",1]
["2012-01-31",1205,"05",1]
["2012-02-01",1205,"05",2]
["2012-02-02",1205,"05",2]
["2012-02-03",1205,"05",2]
["2012-02-04",1205,"05",2]
["2012-02-05",1205,"05",2]
["2012-02-06",1206,"06",2]
["2012-02-07",1206,"06",2]
["2012-02-08",1206,"06",2]
["2012-02-09",1206,"06",2]
["2012-02-10",1206,"06",2]
["2012-02-11",1206,"06",2]
["2012-02-12",1206,"06",2]
["2012-02-13",1207,"07",2]
["2012-02-14",1207,"07",2]
["2012-02-15",1207,"07",2]
["2012-02-16",1207,"07",2]
["2012-02-17",1207,"07",2]
["2012-02-18",1207,"07",2]
["2012-02-19",1207,"07",2]
["2012-02-20",1208,"08",2]
["2012-02-21",1208,"08",2]
["2012-02-22",1208,"08",2]
["2012-02-23",1208,"08",2]
["2012-02-24",1208,"08",2]
["2012-02-25",1208,"08",2]
["2012-02-26",1208,"08",2]
["2012-02-27",1209,"09",2]
["2012-02-28",1209,"09",2]
["2012-02-29",1209,"09",2]
["2012-03-01",1209,"09",3]
["2012-03-02",1209,"09",3]
["2012-03-03",1209,"09",3]
["2012-03-04",1209,"09",3]
["2012-03-05",1210,"10",3]
["2012-03-06",1210,"10",3]
["2012-03-07",1210,"10",3]
["2012-03-08",1210,"10",3]
["2012-03-09",1210,"10",3]
["2012-03-10",1210,"10",3]
["2012-03-11",1210,"10",3]
["2012-03-12",1211,"11",3]
["2012-03-13",1211,"11",3]
["2012-03-14",{"$f":"B1131+1","v":1211},"11",3]
["2012-03-15",1211,"11",3]
["2012-03-16",1211,"11",3]
["2012-03-17",1211,"11",3]
["2012-03-18",1211,"11",3]
["2012-03-19",1212,"12",3]
["2012-03-20",1212,"12",3]
["2012-03-21",1212,"12",3]
["2012-03-22",1212,"12",3]
["2012-03-23",1212,"12",3]
["2012-03-24",1212,"12",3]
["2012-03-25",1212,"12",3]
["2012-03-26",1213,"13",3]
["2012-03-27",1213,"13",3]
["2012-03-28",1213,"13",3]
["2012-03-29",1213,"13",3]
["2012-03-30",1213,"13",3]
["2012-03-31",1213,{"$f":"RIGHT(B1155,2)","v":"13"},{"$f":"MONTH(A1155)","v":3}]
["2012-04-01",1213,"13",4]
["2012-04-02",1214,"14",4]
["2012-04-03",1214,"14",4]
["2012-04-04",1214,"14",4]
["2012-04-05",1214,"14",4]
["2012-04-06",1214,"14",4]
["2012-04-07",1214,"14",4]
["2012-04-08",1214,"14",4]
["2012-04-09",1215,"15",4]
["2012-04-10",1215,"15",4]
["2012-04-11",1215,"15",4]
["2012-04-12",1215,"15",4]
["2012-04-13",1215,"15",4]
["2012-04-14",1215,"15",4]
["2012-04-15",1215,"15",4]
["2012-04-16",1216,"16",4]
["2012-04-17",1216,"16",4]
["2012-04-18",1216,"16",4]
["2012-04-19",1216,"16",4]
["2012-04-20",1216,"16",4]
["2012-04-21",1216,"16",4]
["2012-04-22",1216,"16",4]
["2012-04-23",1217,"17",4]
["2012-04-24",1217,"17",4]
["2012-04-25",1217,"17",4]
["2012-04-26",1217,"17",4]
["2012-04-27",1217,"17",4]
["2012-04-28",1217,"17",4]
["2012-04-29",1217,"17",4]
["2012-04-30",1218,"18",4]
["2012-05-01",1218,"18",5]
["2012-05-02",1218,"18",5]
["2012-05-03",1218,"18",5]
["2012-05-04",1218,"18",5]
["2012-05-05",1218,"18",5]
["2012-05-06",1218,"18",5]
["2012-05-07",1219,"19",5]
["2012-05-08",1219,"19",5]
["2012-05-09",1219,"19",5]
["2012-05-10",1219,"19",5]
["2012-05-11",1219,"19",5]
["2012-05-12",1219,"19",5]
["2012-05-13",1219,"19",5]
["2012-05-14",1220,"20",5]
["2012-05-15",1220,"20",5]
["2012-05-16",1220,"20",5]
["2012-05-17",{"$f":"B1195+1","v":1220},"20",5]
["2012-05-18",1220,"20",5]
["2012-05-19",1220,"20",5]
["2012-05-20",1220,"20",5]
["2012-05-21",1221,"21",5]
["2012-05-22",1221,"21",5]
["2012-05-23",1221,"21",5]
["2012-05-24",1221,"21",5]
["2012-05-25",1221,"21",5]
["2012-05-26",1221,"21",5]
["2012-05-27",1221,"21",5]
["2012-05-28",1222,"22",5]
["2012-05-29",1222,"22",5]
["2012-05-30",1222,"22",5]
["2012-05-31",1222,"22",5]
["2012-06-01",1222,"22",6]
["2012-06-02",1222,"22",6]
["2012-06-03",1222,{"$f":"RIGHT(B1219,2)","v":"22"},{"$f":"MONTH(A1219)","v":6}]
["2012-06-04",1223,"23",6]
["2012-06-05",1223,"23",6]
["2012-06-06",1223,"23",6]
["2012-06-07",1223,"23",6]
["2012-06-08",1223,"23",6]
["2012-06-09",1223,"23",6]
["2012-06-10",1223,"23",6]
["2012-06-11",1224,"24",6]
["2012-06-12",1224,"24",6]
["2012-06-13",1224,"24",6]
["2012-06-14",1224,"24",6]
["2012-06-15",1224,"24",6]
["2012-06-16",1224,"24",6]
["2012-06-17",1224,"24",6]
["2012-06-18",1225,"25",6]
["2012-06-19",1225,"25",6]
["2012-06-20",1225,"25",6]
["2012-06-21",1225,"25",6]
["2012-06-22",1225,"25",6]
["2012-06-23",1225,"25",6]
["2012-06-24",1225,"25",6]
["2012-06-25",1226,"26",6]
["2012-06-26",1226,"26",6]
["2012-06-27",1226,"26",6]
["2012-06-28",1226,"26",6]
["2012-06-29",1226,"26",6]
["2012-06-30",1226,"26",6]
["2012-07-01",1226,"26",7]
["2012-07-02",1227,"27",7]
["2012-07-03",1227,"27",7]
["2012-07-04",1227,"27",7]
["2012-07-05",1227,"27",7]
["2012-07-06",1227,"27",7]
["2012-07-07",1227,"27",7]
["2012-07-08",1227,"27",7]
["2012-07-09",1228,"28",7]
["2012-07-10",1228,"28",7]
["2012-07-11",1228,"28",7]
["2012-07-12",1228,"28",7]
["2012-07-13",1228,"28",7]
["2012-07-14",1228,"28",7]
["2012-07-15",1228,"28",7]
["2012-07-16",1229,"29",7]
["2012-07-17",1229,"29",7]
["2012-07-18",1229,"29",7]
["2012-07-19",1229,"29",7]
["2012-07-20",{"$f":"B1259+1","v":1229},"29",7]
["2012-07-21",1229,"29",7]
["2012-07-22",1229,"29",7]
["2012-07-23",1230,"30",7]
["2012-07-24",1230,"30",7]
["2012-07-25",1230,"30",7]
["2012-07-26",1230,"30",7]
["2012-07-27",1230,"30",7]
["2012-07-28",1230,"30",7]
["2012-07-29",1230,"30",7]
["2012-07-30",1231,"31",7]
["2012-07-31",1231,"31",7]
["2012-08-01",1231,"31",8]
["2012-08-02",1231,"31",8]
["2012-08-03",1231,"31",8]
["2012-08-04",1231,"31",8]
["2012-08-05",1231,"31",8]
["2012-08-06",1232,{"$f":"RIGHT(B1283,2)","v":"32"},{"$f":"MONTH(A1283)","v":8}]
["2012-08-07",1232,"32",8]
["2012-08-08",1232,"32",8]
["2012-08-09",1232,"32",8]
["2012-08-10",1232,"32",8]
["2012-08-11",1232,"32",8]
["2012-08-12",1232,"32",8]
["2012-08-13",1233,"33",8]
["2012-08-14",1233,"33",8]
["2012-08-15",1233,"33",8]
["2012-08-16",1233,"33",8]
["2012-08-17",1233,"33",8]
["2012-08-18",1233,"33",8]
["2012-08-19",1233,"33",8]
["2012-08-20",1234,"34",8]
["2012-08-21",1234,"34",8]
["2012-08-22",1234,"34",8]
["2012-08-23",1234,"34",8]
["2012-08-24",1234,"34",8]
["2012-08-25",1234,"34",8]
["2012-08-26",1234,"34",8]
["2012-08-27",1235,"35",8]
["2012-08-28",1235,"35",8]
["2012-08-29",1235,"35",8]
["2012-08-30",1235,"35",8]
["2012-08-31",1235,"35",8]
["2012-09-01",1235,"35",9]
["2012-09-02",1235,"35",9]
["2012-09-03",1236,"36",9]
["2012-09-04",1236,"36",9]
["2012-09-05",1236,"36",9]
["2012-09-06",1236,"36",9]
["2012-09-07",1236,"36",9]
["2012-09-08",1236,"36",9]
["2012-09-09",1236,"36",9]
["2012-09-10",1237,"37",9]
["2012-09-11",1237,"37",9]
["2012-09-12",1237,"37",9]
["2012-09-13",1237,"37",9]
["2012-09-14",1237,"37",9]
["2012-09-15",1237,"37",9]
["2012-09-16",1237,"37",9]
["2012-09-17",1238,"38",9]
["2012-09-18",1238,"38",9]
["2012-09-19",1238,"38",9]
["2012-09-20",1238,"38",9]
["2012-09-21",1238,"38",9]
["2012-09-22",{"$f":"B1323+1","v":1238},"38",9]
["2012-09-23",1238,"38",9]
["2012-09-24",1239,"39",9]
["2012-09-25",1239,"39",9]
["2012-09-26",1239,"39",9]
["2012-09-27",1239,"39",9]
["2012-09-28",1239,"39",9]
["2012-09-29",1239,"39",9]
["2012-09-30",1239,"39",9]
["2012-10-01",1240,"40",10]
["2012-10-02",1240,"40",10]
["2012-10-03",1240,"40",10]
["2012-10-04",1240,"40",10]
["2012-10-05",1240,"40",10]
["2012-10-06",1240,"40",10]
["2012-10-07",1240,"40",10]
["2012-10-08",1241,"41",10]
["2012-10-09",1241,{"$f":"RIGHT(B1347,2)","v":"41"},{"$f":"MONTH(A1347)","v":10}]
["2012-10-10",1241,"41",10]
["2012-10-11",1241,"41",10]
["2012-10-12",1241,"41",10]
["2012-10-13",1241,"41",10]
["2012-10-14",1241,"41",10]
["2012-10-15",1242,"42",10]
["2012-10-16",1242,"42",10]
["2012-10-17",1242,"42",10]
["2012-10-18",1242,"42",10]
["2012-10-19",1242,"42",10]
["2012-10-20",1242,"42",10]
["2012-10-21",1242,"42",10]
["2012-10-22",1243,"43",10]
["2012-10-23",1243,"43",10]
["2012-10-24",1243,"43",10]
["2012-10-25",1243,"43",10]
["2012-10-26",1243,"43",10]
["2012-10-27",1243,"43",10]
["2012-10-28",1243,"43",10]
["2012-10-29",1244,"44",10]
["2012-10-30",1244,"44",10]
["2012-10-31",1244,"44",10]
["2012-11-01",1244,"44",11]
["2012-11-02",1244,"44",11]
["2012-11-03",1244,"44",11]
["2012-11-04",1244,"44",11]
["2012-11-05",1245,"45",11]
["2012-11-06",1245,"45",11]
["2012-11-07",1245,"45",11]
["2012-11-08",1245,"45",11]
["2012-11-09",1245,"45",11]
["2012-11-10",1245,"45",11]
["2012-11-11",1245,"45",11]
["2012-11-12",1246,"46",11]
["2012-11-13",1246,"46",11]
["2012-11-14",1246,"46",11]
["2012-11-15",1246,"46",11]
["2012-11-16",1246,"46",11]
["2012-11-17",1246,"46",11]
["2012-11-18",1246,"46",11]
["2012-11-19",1247,"47",11]
["2012-11-20",1247,"47",11]
["2012-11-21",1247,"47",11]
["2012-11-22",1247,"47",11]
["2012-11-23",1247,"47",11]
["2012-11-24",1247,"47",11]
["2012-11-25",{"$f":"B1387+1","v":1247},"47",11]
["2012-11-26",1248,"48",11]
["2012-11-27",1248,"48",11]
["2012-11-28",1248,"48",11]
["2012-11-29",1248,"48",11]
["2012-11-30",1248,"48",11]
["2012-12-01",1248,"48",12]
["2012-12-02",1248,"48",12]
["2012-12-03",1249,"49",12]
["2012-12-04",1249,"49",12]
["2012-12-05",1249,"49",12]
["2012-12-06",1249,"49",12]
["2012-12-07",1249,"49",12]
["2012-12-08",1249,"49",12]
["2012-12-09",1249,"49",12]
["2012-12-10",1250,"50",12]
["2012-12-11",1250,"50",12]
["2012-12-12",1250,{"$f":"RIGHT(B1411,2)","v":"50"},{"$f":"MONTH(A1411)","v":12}]
["2012-12-13",1250,"50",12]
["2012-12-14",1250,"50",12]
["2012-12-15",1250,"50",12]
["2012-12-16",1250,"50",12]
["2012-12-17",1251,"51",12]
["2012-12-18",1251,"51",12]
["2012-12-19",1251,"51",12]
["2012-12-20",1251,"51",12]
["2012-12-21",1251,"51",12]
["2012-12-22",1251,"51",12]
["2012-12-23",1251,"51",12]
["2012-12-24",1252,"52",12]
["2012-12-25",1252,"52",12]
["2012-12-26",1252,"52",12]
["2012-12-27",1252,"52",12]
["2012-12-28",1252,"52",12]
["2012-12-29",1252,"52",12]
["2012-12-30",1252,"52",12]
["2012-12-31",1301,"01",12]
["2013-01-01",1301,"01",1]
["2013-01-02",1301,"01",1]
["2013-01-03",1301,"01",1]
["2013-01-04",1301,"01",1]
["2013-01-05",1301,"01",1]
["2013-01-06",1301,"01",1]
["2013-01-07",{"$f":"B1430+1","v":1302},"02",1]
["2013-01-08",{"$f":"B1431+1","v":1302},"02",1]
["2013-01-09",1302,"02",1]
["2013-01-10",1302,"02",1]
["2013-01-11",1302,"02",1]
["2013-01-12",1302,"02",1]
["2013-01-13",1302,"02",1]
["2013-01-14",1303,"03",1]
["2013-01-15",1303,"03",1]
["2013-01-16",1303,"03",1]
["2013-01-17",1303,"03",1]
["2013-01-18",1303,"03",1]
["2013-01-19",1303,"03",1]
["2013-01-20",1303,"03",1]
["2013-01-21",1304,"04",1]
["2013-01-22",1304,"04",1]
["2013-01-23",1304,"04",1]
["2013-01-24",1304,"04",1]
["2013-01-25",1304,"04",1]
["2013-01-26",1304,"04",1]
["2013-01-27",1304,"04",1]
["2013-01-28",1305,"05",1]
["2013-01-29",1305,"05",1]
["2013-01-30",1305,"05",1]
["2013-01-31",1305,"05",1]
["2013-02-01",1305,"05",2]
["2013-02-02",1305,"05",2]
["2013-02-03",1305,"05",2]
["2013-02-04",1306,"06",2]
["2013-02-05",1306,"06",2]
["2013-02-06",1306,"06",2]
["2013-02-07",1306,"06",2]
["2013-02-08",1306,"06",2]
["2013-02-09",1306,"06",2]
["2013-02-10",1306,"06",2]
["2013-02-11",1307,"07",2]
["2013-02-12",1307,"07",2]
["2013-02-13",1307,"07",2]
["2013-02-14",1307,{"$f":"RIGHT(B1475,2)","v":"07"},{"$f":"MONTH(A1475)","v":2}]
["2013-02-15",1307,"07",2]
["2013-02-16",1307,"07",2]
["2013-02-17",1307,"07",2]
["2013-02-18",1308,"08",2]
["2013-02-19",1308,"08",2]
["2013-02-20",1308,"08",2]
["2013-02-21",1308,"08",2]
["2013-02-22",1308,"08",2]
["2013-02-23",1308,"08",2]
["2013-02-24",1308,"08",2]
["2013-02-25",1309,"09",2]
["2013-02-26",1309,"09",2]
["2013-02-27",1309,"09",2]
["2013-02-28",1309,"09",2]
["2013-03-01",1309,"09",3]
["2013-03-02",1309,"09",3]
["2013-03-03",1309,"09",3]
["2013-03-04",1310,"10",3]
["2013-03-05",1310,"10",3]
["2013-03-06",1310,"10",3]
["2013-03-07",1310,"10",3]
["2013-03-08",1310,"10",3]
["2013-03-09",1310,"10",3]
["2013-03-10",1310,"10",3]
["2013-03-11",1311,"11",3]
["2013-03-12",1311,"11",3]
["2013-03-13",{"$f":"B1495+1","v":1311},"11",3]
["2013-03-14",1311,"11",3]
["2013-03-15",1311,"11",3]
["2013-03-16",1311,"11",3]
["2013-03-17",1311,"11",3]
["2013-03-18",1312,"12",3]
["2013-03-19",1312,"12",3]
["2013-03-20",1312,"12",3]
["2013-03-21",1312,"12",3]
["2013-03-22",1312,"12",3]
["2013-03-23",1312,"12",3]
["2013-03-24",1312,"12",3]
["2013-03-25",1313,"13",3]
["2013-03-26",1313,"13",3]
["2013-03-27",1313,"13",3]
["2013-03-28",1313,"13",3]
["2013-03-29",1313,"13",3]
["2013-03-30",1313,"13",3]
["2013-03-31",1313,"13",3]
["2013-04-01",1314,"14",4]
["2013-04-02",1314,"14",4]
["2013-04-03",1314,"14",4]
["2013-04-04",1314,"14",4]
["2013-04-05",1314,"14",4]
["2013-04-06",1314,"14",4]
["2013-04-07",1314,"14",4]
["2013-04-08",1315,"15",4]
["2013-04-09",1315,"15",4]
["2013-04-10",1315,"15",4]
["2013-04-11",1315,"15",4]
["2013-04-12",1315,"15",4]
["2013-04-13",1315,"15",4]
["2013-04-14",1315,"15",4]
["2013-04-15",1316,"16",4]
["2013-04-16",1316,"16",4]
["2013-04-17",1316,"16",4]
["2013-04-18",1316,"16",4]
["2013-04-19",1316,{"$f":"RIGHT(B1539,2)","v":"16"},{"$f":"MONTH(A1539)","v":4}]
["2013-04-20",1316,"16",4]
["2013-04-21",1316,"16",4]
["2013-04-22",1317,"17",4]
["2013-04-23",1317,"17",4]
["2013-04-24",1317,"17",4]
["2013-04-25",1317,"17",4]
["2013-04-26",1317,"17",4]
["2013-04-27",1317,"17",4]
["2013-04-28",1317,"17",4]
["2013-04-29",1318,"18",4]
["2013-04-30",1318,"18",4]
["2013-05-01",1318,"18",5]
["2013-05-02",1318,"18",5]
["2013-05-03",1318,"18",5]
["2013-05-04",1318,"18",5]
["2013-05-05",1318,"18",5]
["2013-05-06",1319,"19",5]
["2013-05-07",1319,"19",5]
["2013-05-08",1319,"19",5]
["2013-05-09",1319,"19",5]
["2013-05-10",1319,"19",5]
["2013-05-11",1319,"19",5]
["2013-05-12",1319,"19",5]
["2013-05-13",1320,"20",5]
["2013-05-14",1320,"20",5]
["2013-05-15",1320,"20",5]
["2013-05-16",{"$f":"B1559+1","v":1320},"20",5]
["2013-05-17",1320,"20",5]
["2013-05-18",1320,"20",5]
["2013-05-19",1320,"20",5]
["2013-05-20",1321,"21",5]
["2013-05-21",1321,"21",5]
["2013-05-22",1321,"21",5]
["2013-05-23",1321,"21",5]
["2013-05-24",1321,"21",5]
["2013-05-25",1321,"21",5]
["2013-05-26",1321,"21",5]
["2013-05-27",1322,"22",5]
["2013-05-28",1322,"22",5]
["2013-05-29",1322,"22",5]
["2013-05-30",1322,"22",5]
["2013-05-31",1322,"22",5]
["2013-06-01",1322,"22",6]
["2013-06-02",1322,"22",6]
["2013-06-03",1323,"23",6]
["2013-06-04",1323,"23",6]
["2013-06-05",1323,"23",6]
["2013-06-06",1323,"23",6]
["2013-06-07",1323,"23",6]
["2013-06-08",1323,"23",6]
["2013-06-09",1323,"23",6]
["2013-06-10",1324,"24",6]
["2013-06-11",1324,"24",6]
["2013-06-12",1324,"24",6]
["2013-06-13",1324,"24",6]
["2013-06-14",1324,"24",6]
["2013-06-15",1324,"24",6]
["2013-06-16",1324,"24",6]
["2013-06-17",1325,"25",6]
["2013-06-18",1325,"25",6]
["2013-06-19",1325,"25",6]
["2013-06-20",1325,"25",6]
["2013-06-21",1325,"25",6]
["2013-06-22",1325,{"$f":"RIGHT(B1603,2)","v":"25"},{"$f":"MONTH(A1603)","v":6}]
["2013-06-23",1325,"25",6]
["2013-06-24",1326,"26",6]
["2013-06-25",1326,"26",6]
["2013-06-26",1326,"26",6]
["2013-06-27",1326,"26",6]
["2013-06-28",1326,"26",6]
["2013-06-29",1326,"26",6]
["2013-06-30",1326,"26",6]
["2013-07-01",1327,"27",7]
["2013-07-02",1327,"27",7]
["2013-07-03",1327,"27",7]
["2013-07-04",1327,"27",7]
["2013-07-05",1327,"27",7]
["2013-07-06",1327,"27",7]
["2013-07-07",1327,"27",7]
["2013-07-08",1328,"28",7]
["2013-07-09",1328,"28",7]
["2013-07-10",1328,"28",7]
["2013-07-11",1328,"28",7]
["2013-07-12",1328,"28",7]
["2013-07-13",1328,"28",7]
["2013-07-14",1328,"28",7]
["2013-07-15",1329,"29",7]
["2013-07-16",1329,"29",7]
["2013-07-17",1329,"29",7]
["2013-07-18",1329,"29",7]
["2013-07-19",{"$f":"B1623+1","v":1329},"29",7]
["2013-07-20",1329,"29",7]
["2013-07-21",1329,"29",7]
["2013-07-22",1330,"30",7]
["2013-07-23",1330,"30",7]
["2013-07-24",1330,"30",7]
["2013-07-25",1330,"30",7]
["2013-07-26",1330,"30",7]
["2013-07-27",1330,"30",7]
["2013-07-28",1330,"30",7]
["2013-07-29",1331,"31",7]
["2013-07-30",1331,"31",7]
["2013-07-31",1331,"31",7]
["2013-08-01",1331,"31",8]
["2013-08-02",1331,"31",8]
["2013-08-03",1331,"31",8]
["2013-08-04",1331,"31",8]
["2013-08-05",1332,"32",8]
["2013-08-06",1332,"32",8]
["2013-08-07",1332,"32",8]
["2013-08-08",1332,"32",8]
["2013-08-09",1332,"32",8]
["2013-08-10",1332,"32",8]
["2013-08-11",1332,"32",8]
["2013-08-12",1333,"33",8]
["2013-08-13",1333,"33",8]
["2013-08-14",1333,"33",8]
["2013-08-15",1333,"33",8]
["2013-08-16",1333,"33",8]
["2013-08-17",1333,"33",8]
["2013-08-18",1333,"33",8]
["2013-08-19",1334,"34",8]
["2013-08-20",1334,"34",8]
["2013-08-21",1334,"34",8]
["2013-08-22",1334,"34",8]
["2013-08-23",1334,"34",8]
["2013-08-24",1334,"34",8]
["2013-08-25",1334,{"$f":"RIGHT(B1667,2)","v":"34"},{"$f":"MONTH(A1667)","v":8}]
["2013-08-26",1335,"35",8]
["2013-08-27",1335,"35",8]
["2013-08-28",1335,"35",8]
["2013-08-29",1335,"35",8]
["2013-08-30",1335,"35",8]
["2013-08-31",1335,"35",8]
["2013-09-01",1335,"35",9]
["2013-09-02",1336,"36",9]
["2013-09-03",1336,"36",9]
["2013-09-04",1336,"36",9]
["2013-09-05",1336,"36",9]
["2013-09-06",1336,"36",9]
["2013-09-07",1336,"36",9]
["2013-09-08",1336,"36",9]
["2013-09-09",1337,"37",9]
["2013-09-10",1337,"37",9]
["2013-09-11",1337,"37",9]
["2013-09-12",1337,"37",9]
["2013-09-13",1337,"37",9]
["2013-09-14",1337,"37",9]
["2013-09-15",1337,"37",9]
["2013-09-16",1338,"38",9]
["2013-09-17",1338,"38",9]
["2013-09-18",1338,"38",9]
["2013-09-19",1338,"38",9]
["2013-09-20",1338,"38",9]
["2013-09-21",{"$f":"B1687+1","v":1338},"38",9]
["2013-09-22",1338,"38",9]
["2013-09-23",1339,"39",9]
["2013-09-24",1339,"39",9]
["2013-09-25",1339,"39",9]
["2013-09-26",1339,"39",9]
["2013-09-27",1339,"39",9]
["2013-09-28",1339,"39",9]
["2013-09-29",1339,"39",9]
["2013-09-30",1340,"40",9]
["2013-10-01",1340,"40",10]
["2013-10-02",1340,"40",10]
["2013-10-03",1340,"40",10]
["2013-10-04",1340,"40",10]
["2013-10-05",1340,"40",10]
["2013-10-06",1340,"40",10]
["2013-10-07",1341,"41",10]
["2013-10-08",1341,"41",10]
["2013-10-09",1341,"41",10]
["2013-10-10",1341,"41",10]
["2013-10-11",1341,"41",10]
["2013-10-12",1341,"41",10]
["2013-10-13",1341,"41",10]
["2013-10-14",1342,"42",10]
["2013-10-15",1342,"42",10]
["2013-10-16",1342,"42",10]
["2013-10-17",1342,"42",10]
["2013-10-18",1342,"42",10]
["2013-10-19",1342,"42",10]
["2013-10-20",1342,"42",10]
["2013-10-21",1343,"43",10]
["2013-10-22",1343,"43",10]
["2013-10-23",1343,"43",10]
["2013-10-24",1343,"43",10]
["2013-10-25",1343,"43",10]
["2013-10-26",1343,"43",10]
["2013-10-27",1343,"43",10]
["2013-10-28",1344,{"$f":"RIGHT(B1731,2)","v":"44"},{"$f":"MONTH(A1731)","v":10}]
["2013-10-29",1344,"44",10]
["2013-10-30",1344,"44",10]
["2013-10-31",1344,"44",10]
["2013-11-01",1344,"44",11]
["2013-11-02",1344,"44",11]
["2013-11-03",1344,"44",11]
["2013-11-04",1345,"45",11]
["2013-11-05",1345,"45",11]
["2013-11-06",1345,"45",11]
["2013-11-07",1345,"45",11]
["2013-11-08",1345,"45",11]
["2013-11-09",1345,"45",11]
["2013-11-10",1345,"45",11]
["2013-11-11",1346,"46",11]
["2013-11-12",1346,"46",11]
["2013-11-13",1346,"46",11]
["2013-11-14",1346,"46",11]
["2013-11-15",1346,"46",11]
["2013-11-16",1346,"46",11]
["2013-11-17",1346,"46",11]
["2013-11-18",1347,"47",11]
["2013-11-19",1347,"47",11]
["2013-11-20",1347,"47",11]
["2013-11-21",1347,"47",11]
["2013-11-22",1347,"47",11]
["2013-11-23",1347,"47",11]
["2013-11-24",{"$f":"B1751+1","v":1347},"47",11]
["2013-11-25",1348,"48",11]
["2013-11-26",1348,"48",11]
["2013-11-27",1348,"48",11]
["2013-11-28",1348,"48",11]
["2013-11-29",1348,"48",11]
["2013-11-30",1348,"48",11]
["2013-12-01",1348,"48",12]
["2013-12-02",1349,"49",12]
["2013-12-03",1349,"49",12]
["2013-12-04",1349,"49",12]
["2013-12-05",1349,"49",12]
["2013-12-06",1349,"49",12]
["2013-12-07",1349,"49",12]
["2013-12-08",1349,"49",12]
["2013-12-09",1350,"50",12]
["2013-12-10",1350,"50",12]
["2013-12-11",1350,"50",12]
["2013-12-12",1350,"50",12]
["2013-12-13",1350,"50",12]
["2013-12-14",1350,"50",12]
["2013-12-15",1350,"50",12]
["2013-12-16",1351,"51",12]
["2013-12-17",1351,"51",12]
["2013-12-18",1351,"51",12]
["2013-12-19",1351,"51",12]
["2013-12-20",1351,"51",12]
["2013-12-21",1351,"51",12]
["2013-12-22",1351,"51",12]
["2013-12-23",1352,"52",12]
["2013-12-24",1352,"52",12]
["2013-12-25",1352,"52",12]
["2013-12-26",1352,"52",12]
["2013-12-27",1352,"52",12]
["2013-12-28",1352,"52",12]
["2013-12-29",1352,"52",12]
["2013-12-30",1401,"01",12]
["2013-12-31",1401,{"$f":"RIGHT(B1795,2)","v":"01"},{"$f":"MONTH(A1795)","v":12}]
["2014-01-01",1401,"01",1]
["2014-01-02",1401,"01",1]
["2014-01-03",1401,"01",1]
["2014-01-04",1401,"01",1]
["2014-01-05",1401,"01",1]
["2014-01-06",{"$f":"B1794+1","v":1402},"02",1]
["2014-01-07",{"$f":"B1795+1","v":1402},"02",1]
["2014-01-08",1402,"02",1]
["2014-01-09",1402,"02",1]
["2014-01-10",1402,"02",1]
["2014-01-11",1402,"02",1]
["2014-01-12",1402,"02",1]
["2014-01-13",1403,"03",1]
["2014-01-14",1403,"03",1]
["2014-01-15",1403,"03",1]
["2014-01-16",1403,"03",1]
["2014-01-17",1403,"03",1]
["2014-01-18",1403,"03",1]
["2014-01-19",1403,"03",1]
["2014-01-20",1404,"04",1]
["2014-01-21",1404,"04",1]
["2014-01-22",1404,"04",1]
["2014-01-23",1404,"04",1]
["2014-01-24",1404,"04",1]
["2014-01-25",1404,"04",1]
["2014-01-26",1404,"04",1]
["2014-01-27",1405,"05",1]
["2014-01-28",1405,"05",1]
["2014-01-29",1405,"05",1]
["2014-01-30",1405,"05",1]
["2014-01-31",1405,"05",1]
["2014-02-01",1405,"05",2]
["2014-02-02",1405,"05",2]
["2014-02-03",1406,"06",2]
["2014-02-04",1406,"06",2]
["2014-02-05",1406,"06",2]
["2014-02-06",1406,"06",2]
["2014-02-07",1406,"06",2]
["2014-02-08",1406,"06",2]
["2014-02-09",1406,"06",2]
["2014-02-10",1407,"07",2]
["2014-02-11",1407,"07",2]
["2014-02-12",1407,"07",2]
["2014-02-13",1407,"07",2]
["2014-02-14",1407,"07",2]
["2014-02-15",1407,"07",2]
["2014-02-16",1407,"07",2]
["2014-02-17",1408,"08",2]
["2014-02-18",1408,"08",2]
["2014-02-19",1408,"08",2]
["2014-02-20",1408,"08",2]
["2014-02-21",1408,"08",2]
["2014-02-22",1408,"08",2]
["2014-02-23",1408,"08",2]
["2014-02-24",1409,"09",2]
["2014-02-25",1409,"09",2]
["2014-02-26",1409,"09",2]
["2014-02-27",1409,"09",2]
["2014-02-28",1409,"09",2]
["2014-03-01",1409,"09",3]
["2014-03-02",1409,"09",3]
["2014-03-03",1410,"10",3]
["2014-03-04",1410,"10",3]
["2014-03-05",1410,{"$f":"RIGHT(B1859,2)","v":"10"},{"$f":"MONTH(A1859)","v":3}]
["2014-03-06",1410,"10",3]
["2014-03-07",1410,"10",3]
["2014-03-08",1410,"10",3]
["2014-03-09",1410,"10",3]
["2014-03-10",1411,"11",3]
["2014-03-11",1411,"11",3]
["2014-03-12",{"$f":"B1859+1","v":1411},"11",3]
["2014-03-13",1411,"11",3]
["2014-03-14",1411,"11",3]
["2014-03-15",1411,"11",3]
["2014-03-16",1411,"11",3]
["2014-03-17",1412,"12",3]
["2014-03-18",1412,"12",3]
["2014-03-19",1412,"12",3]
["2014-03-20",1412,"12",3]
["2014-03-21",1412,"12",3]
["2014-03-22",1412,"12",3]
["2014-03-23",1412,"12",3]
["2014-03-24",1413,"13",3]
["2014-03-25",1413,"13",3]
["2014-03-26",1413,"13",3]
["2014-03-27",1413,"13",3]
["2014-03-28",1413,"13",3]
["2014-03-29",1413,"13",3]
["2014-03-30",1413,"13",3]
["2014-03-31",1414,"14",3]
["2014-04-01",1414,"14",4]
["2014-04-02",1414,"14",4]
["2014-04-03",1414,"14",4]
["2014-04-04",1414,"14",4]
["2014-04-05",1414,"14",4]
["2014-04-06",1414,"14",4]
["2014-04-07",1415,"15",4]
["2014-04-08",1415,"15",4]
["2014-04-09",1415,"15",4]
["2014-04-10",1415,"15",4]
["2014-04-11",1415,"15",4]
["2014-04-12",1415,"15",4]
["2014-04-13",1415,"15",4]
["2014-04-14",1416,"16",4]
["2014-04-15",1416,"16",4]
["2014-04-16",1416,"16",4]
["2014-04-17",1416,"16",4]
["2014-04-18",1416,"16",4]
["2014-04-19",1416,"16",4]
["2014-04-20",1416,"16",4]
["2014-04-21",1417,"17",4]
["2014-04-22",1417,"17",4]
["2014-04-23",1417,"17",4]
["2014-04-24",1417,"17",4]
["2014-04-25",1417,"17",4]
["2014-04-26",1417,"17",4]
["2014-04-27",1417,"17",4]
["2014-04-28",1418,"18",4]
["2014-04-29",1418,"18",4]
["2014-04-30",1418,"18",4]
["2014-05-01",1418,"18",5]
["2014-05-02",1418,"18",5]
["2014-05-03",1418,"18",5]
["2014-05-04",1418,"18",5]
["2014-05-05",1419,"19",5]
["2014-05-06",1419,"19",5]
["2014-05-07",1419,"19",5]
["2014-05-08",1419,{"$f":"RIGHT(B1923,2)","v":"19"},{"$f":"MONTH(A1923)","v":5}]
["2014-05-09",1419,"19",5]
["2014-05-10",1419,"19",5]
["2014-05-11",1419,"19",5]
["2014-05-12",1420,"20",5]
["2014-05-13",1420,"20",5]
["2014-05-14",1420,"20",5]
["2014-05-15",{"$f":"B1923+1","v":1420},"20",5]
["2014-05-16",1420,"20",5]
["2014-05-17",1420,"20",5]
["2014-05-18",1420,"20",5]
["2014-05-19",1421,"21",5]
["2014-05-20",1421,"21",5]
["2014-05-21",1421,"21",5]
["2014-05-22",1421,"21",5]
["2014-05-23",1421,"21",5]
["2014-05-24",1421,"21",5]
["2014-05-25",1421,"21",5]
["2014-05-26",1422,"22",5]
["2014-05-27",1422,"22",5]
["2014-05-28",1422,"22",5]
["2014-05-29",1422,"22",5]
["2014-05-30",1422,"22",5]
["2014-05-31",1422,"22",5]
["2014-06-01",1422,"22",6]
["2014-06-02",1423,"23",6]
["2014-06-03",1423,"23",6]
["2014-06-04",1423,"23",6]
["2014-06-05",1423,"23",6]
["2014-06-06",1423,"23",6]
["2014-06-07",1423,"23",6]
["2014-06-08",1423,"23",6]
["2014-06-09",1424,"24",6]
["2014-06-10",1424,"24",6]
["2014-06-11",1424,"24",6]
["2014-06-12",1424,"24",6]
["2014-06-13",1424,"24",6]
["2014-06-14",1424,"24",6]
["2014-06-15",1424,"24",6]
["2014-06-16",1425,"25",6]
["2014-06-17",1425,"25",6]
["2014-06-18",1425,"25",6]
["2014-06-19",1425,"25",6]
["2014-06-20",1425,"25",6]
["2014-06-21",1425,"25",6]
["2014-06-22",1425,"25",6]
["2014-06-23",1426,"26",6]
["2014-06-24",1426,"26",6]
["2014-06-25",1426,"26",6]
["2014-06-26",1426,"26",6]
["2014-06-27",1426,"26",6]
["2014-06-28",1426,"26",6]
["2014-06-29",1426,"26",6]
["2014-06-30",1427,"27",6]
["2014-07-01",1427,"27",7]
["2014-07-02",1427,"27",7]
["2014-07-03",1427,"27",7]
["2014-07-04",1427,"27",7]
["2014-07-05",1427,"27",7]
["2014-07-06",1427,"27",7]
["2014-07-07",1428,"28",7]
["2014-07-08",1428,"28",7]
["2014-07-09",1428,"28",7]
["2014-07-10",1428,"28",7]
["2014-07-11",1428,{"$f":"RIGHT(B1987,2)","v":"28"},{"$f":"MONTH(A1987)","v":7}]
["2014-07-12",1428,"28",7]
["2014-07-13",1428,"28",7]
["2014-07-14",1429,"29",7]
["2014-07-15",1429,"29",7]
["2014-07-16",1429,"29",7]
["2014-07-17",1429,"29",7]
["2014-07-18",{"$f":"B1987+1","v":1429},"29",7]
["2014-07-19",1429,"29",7]
["2014-07-20",1429,"29",7]
["2014-07-21",1430,"30",7]
["2014-07-22",1430,"30",7]
["2014-07-23",1430,"30",7]
["2014-07-24",1430,"30",7]
["2014-07-25",1430,"30",7]
["2014-07-26",1430,"30",7]
["2014-07-27",1430,"30",7]
["2014-07-28",1431,"31",7]
["2014-07-29",1431,"31",7]
["2014-07-30",1431,"31",7]
["2014-07-31",1431,"31",7]
["2014-08-01",1431,"31",8]
["2014-08-02",1431,"31",8]
["2014-08-03",1431,"31",8]
["2014-08-04",1432,"32",8]
["2014-08-05",1432,"32",8]
["2014-08-06",1432,"32",8]
["2014-08-07",1432,"32",8]
["2014-08-08",1432,"32",8]
["2014-08-09",1432,"32",8]
["2014-08-10",1432,"32",8]
["2014-08-11",1433,"33",8]
["2014-08-12",1433,"33",8]
["2014-08-13",1433,"33",8]
["2014-08-14",1433,"33",8]
["2014-08-15",1433,"33",8]
["2014-08-16",1433,"33",8]
["2014-08-17",1433,"33",8]
["2014-08-18",1434,"34",8]
["2014-08-19",1434,"34",8]
["2014-08-20",1434,"34",8]
["2014-08-21",1434,"34",8]
["2014-08-22",1434,"34",8]
["2014-08-23",1434,"34",8]
["2014-08-24",1434,"34",8]
["2014-08-25",1435,"35",8]
["2014-08-26",1435,"35",8]
["2014-08-27",1435,"35",8]
["2014-08-28",1435,"35",8]
["2014-08-29",1435,"35",8]
["2014-08-30",1435,"35",8]
["2014-08-31",1435,"35",8]
["2014-09-01",1436,"36",9]
["2014-09-02",1436,"36",9]
["2014-09-03",1436,"36",9]
["2014-09-04",1436,"36",9]
["2014-09-05",1436,"36",9]
["2014-09-06",1436,"36",9]
["2014-09-07",1436,"36",9]
["2014-09-08",1437,"37",9]
["2014-09-09",1437,"37",9]
["2014-09-10",1437,"37",9]
["2014-09-11",1437,"37",9]
["2014-09-12",1437,"37",9]
["2014-09-13",1437,{"$f":"RIGHT(B2051,2)","v":"37"},{"$f":"MONTH(A2051)","v":9}]
["2014-09-14",1437,"37",9]
["2014-09-15",1438,"38",9]
["2014-09-16",1438,"38",9]
["2014-09-17",1438,"38",9]
["2014-09-18",1438,"38",9]
["2014-09-19",1438,"38",9]
["2014-09-20",{"$f":"B2051+1","v":1438},"38",9]
["2014-09-21",1438,"38",9]
["2014-09-22",1439,"39",9]
["2014-09-23",1439,"39",9]
["2014-09-24",1439,"39",9]
["2014-09-25",1439,"39",9]
["2014-09-26",1439,"39",9]
["2014-09-27",1439,"39",9]
["2014-09-28",1439,"39",9]
["2014-09-29",1440,"40",9]
["2014-09-30",1440,"40",9]
["2014-10-01",1440,"40",10]
["2014-10-02",1440,"40",10]
["2014-10-03",1440,"40",10]
["2014-10-04",1440,"40",10]
["2014-10-05",1440,"40",10]
["2014-10-06",1441,"41",10]
["2014-10-07",1441,"41",10]
["2014-10-08",1441,"41",10]
["2014-10-09",1441,"41",10]
["2014-10-10",1441,"41",10]
["2014-10-11",1441,"41",10]
["2014-10-12",1441,"41",10]
["2014-10-13",1442,"42",10]
["2014-10-14",1442,"42",10]
["2014-10-15",1442,"42",10]
["2014-10-16",1442,"42",10]
["2014-10-17",1442,"42",10]
["2014-10-18",1442,"42",10]
["2014-10-19",1442,"42",10]
["2014-10-20",1443,"43",10]
["2014-10-21",1443,"43",10]
["2014-10-22",1443,"43",10]
["2014-10-23",1443,"43",10]
["2014-10-24",1443,"43",10]
["2014-10-25",1443,"43",10]
["2014-10-26",1443,"43",10]
["2014-10-27",1444,"44",10]
["2014-10-28",1444,"44",10]
["2014-10-29",1444,"44",10]
["2014-10-30",1444,"44",10]
["2014-10-31",1444,"44",10]
["2014-11-01",1444,"44",11]
["2014-11-02",1444,"44",11]
["2014-11-03",1445,"45",11]
["2014-11-04",1445,"45",11]
["2014-11-05",1445,"45",11]
["2014-11-06",1445,"45",11]
["2014-11-07",1445,"45",11]
["2014-11-08",1445,"45",11]
["2014-11-09",1445,"45",11]
["2014-11-10",1446,"46",11]
["2014-11-11",1446,"46",11]
["2014-11-12",1446,"46",11]
["2014-11-13",1446,"46",11]
["2014-11-14",1446,"46",11]
["2014-11-15",1446,"46",11]
["2014-11-16",1446,{"$f":"RIGHT(B2115,2)","v":"46"},{"$f":"MONTH(A2115)","v":11}]
["2014-11-17",1447,"47",11]
["2014-11-18",1447,"47",11]
["2014-11-19",1447,"47",11]
["2014-11-20",1447,"47",11]
["2014-11-21",1447,"47",11]
["2014-11-22",1447,"47",11]
["2014-11-23",{"$f":"B2115+1","v":1447},"47",11]
["2014-11-24",1448,"48",11]
["2014-11-25",1448,"48",11]
["2014-11-26",1448,"48",11]
["2014-11-27",1448,"48",11]
["2014-11-28",1448,"48",11]
["2014-11-29",1448,"48",11]
["2014-11-30",1448,"48",11]
["2014-12-01",1449,"49",12]
["2014-12-02",1449,"49",12]
["2014-12-03",1449,"49",12]
["2014-12-04",1449,"49",12]
["2014-12-05",1449,"49",12]
["2014-12-06",1449,"49",12]
["2014-12-07",1449,"49",12]
["2014-12-08",1450,"50",12]
["2014-12-09",1450,"50",12]
["2014-12-10",1450,"50",12]
["2014-12-11",1450,"50",12]
["2014-12-12",1450,"50",12]
["2014-12-13",1450,"50",12]
["2014-12-14",1450,"50",12]
["2014-12-15",1451,"51",12]
["2014-12-16",1451,"51",12]
["2014-12-17",1451,"51",12]
["2014-12-18",1451,"51",12]
["2014-12-19",1451,"51",12]
["2014-12-20",1451,"51",12]
["2014-12-21",1451,"51",12]
["2014-12-22",1452,"52",12]
["2014-12-23",1452,"52",12]
["2014-12-24",1452,"52",12]
["2014-12-25",1452,"52",12]
["2014-12-26",1452,"52",12]
["2014-12-27",1452,"52",12]
["2014-12-28",1452,"52",12]
["2014-12-29",1501,"01",1]
["2014-12-30",1501,{"$f":"RIGHT(B2159,2)","v":"01"},1]
["2014-12-31",1501,"01",1]
["2015-01-01",1501,{"$f":"RIGHT(B2161,2)","v":"01"},{"$f":"MONTH(A2161)","v":1}]
["2015-01-02",1501,"01",1]
["2015-01-03",1501,"01",1]
["2015-01-04",1501,"01",1]
["2015-01-05",1502,"02",1]
["2015-01-06",1502,{"$f":"RIGHT(B2166,2)","v":"02"},{"$f":"MONTH(A2166)","v":1}]
["2015-01-07",1502,"02",1]
["2015-01-08",1502,"02",1]
["2015-01-09",1502,"02",1]
["2015-01-10",1502,"02",1]
["2015-01-11",1502,"02",1]
["2015-01-12",1503,"03",1]
["2015-01-13",1503,"03",1]
["2015-01-14",1503,"03",1]
["2015-01-15",1503,{"$f":"RIGHT(B2175,2)","v":"03"},{"$f":"MONTH(A2175)","v":1}]
["2015-01-16",1503,"03",1]
["2015-01-17",1503,"03",1]
["2015-01-18",1503,"03",1]
["2015-01-19",1504,"04",1]
["2015-01-20",1504,"04",1]
["2015-01-21",1504,"04",1]
["2015-01-22",1504,"04",1]
["2015-01-23",1504,"04",1]
["2015-01-24",1504,{"$f":"RIGHT(B2184,2)","v":"04"},{"$f":"MONTH(A2184)","v":1}]
["2015-01-25",1504,"04",1]
["2015-01-26",{"$f":"B2179+1","v":1505},"05",1]
["2015-01-27",1505,"05",1]
["2015-01-28",1505,"05",1]
["2015-01-29",1505,"05",1]
["2015-01-30",1505,"05",1]
["2015-01-31",1505,"05",1]
["2015-02-01",1505,"05",2]
["2015-02-02",1506,"06",2]
["2015-02-03",1506,"06",2]
["2015-02-04",1506,"06",2]
["2015-02-05",1506,"06",2]
["2015-02-06",1506,"06",2]
["2015-02-07",1506,"06",2]
["2015-02-08",1506,"06",2]
["2015-02-09",1507,"07",2]
["2015-02-10",1507,"07",2]
["2015-02-11",1507,"07",2]
["2015-02-12",1507,"07",2]
["2015-02-13",1507,{"$f":"RIGHT(B2204,2)","v":"07"},{"$f":"MONTH(A2204)","v":2}]
["2015-02-14",1507,"07",2]
["2015-02-15",1507,"07",2]
["2015-02-16",1508,"08",2]
["2015-02-17",1508,"08",2]
["2015-02-18",1508,"08",2]
["2015-02-19",1508,"08",2]
["2015-02-20",1508,"08",2]
["2015-02-21",1508,"08",2]
["2015-02-22",1508,"08",2]
["2015-02-23",1509,"09",2]
["2015-02-24",1509,"09",2]
["2015-02-25",1509,"09",2]
["2015-02-26",1509,"09",2]
["2015-02-27",1509,"09",2]
["2015-02-28",1509,"09",2]
["2015-03-01",1509,"09",3]
["2015-03-02",1510,"10",3]
["2015-03-03",1510,"10",3]
["2015-03-04",1510,"10",3]
["2015-03-05",1510,"10",3]
["2015-03-06",1510,"10",3]
["2015-03-07",1510,"10",3]
["2015-03-08",1510,"10",3]
["2015-03-09",1511,"11",3]
["2015-03-10",1511,"11",3]
["2015-03-11",1511,"11",3]
["2015-03-12",1511,"11",3]
["2015-03-13",1511,"11",3]
["2015-03-14",1511,"11",3]
["2015-03-15",1511,"11",3]
["2015-03-16",1512,"12",3]
["2015-03-17",1512,"12",3]
["2015-03-18",1512,"12",3]
["2015-03-19",1512,"12",3]
["2015-03-20",1512,"12",3]
["2015-03-21",1512,"12",3]
["2015-03-22",1512,"12",3]
["2015-03-23",1513,"13",3]
["2015-03-24",1513,"13",3]
["2015-03-25",1513,"13",3]
["2015-03-26",1513,"13",3]
["2015-03-27",1513,"13",3]
["2015-03-28",1513,"13",3]
["2015-03-29",1513,"13",3]
["2015-03-30",1514,"14",3]
["2015-03-31",{"$f":"B2243+1","v":1514},"14",3]
["2015-04-01",1514,"14",4]
["2015-04-02",1514,"14",4]
["2015-04-03",1514,"14",4]
["2015-04-04",1514,"14",4]
["2015-04-05",1514,"14",4]
["2015-04-06",1515,"15",4]
["2015-04-07",1515,"15",4]
["2015-04-08",1515,"15",4]
["2015-04-09",1515,"15",4]
["2015-04-10",1515,"15",4]
["2015-04-11",1515,"15",4]
["2015-04-12",1515,"15",4]
["2015-04-13",1516,"16",4]
["2015-04-14",1516,"16",4]
["2015-04-15",1516,"16",4]
["2015-04-16",1516,"16",4]
["2015-04-17",1516,"16",4]
["2015-04-18",1516,{"$f":"RIGHT(B2268,2)","v":"16"},{"$f":"MONTH(A2268)","v":4}]
["2015-04-19",1516,"16",4]
["2015-04-20",1517,"17",4]
["2015-04-21",1517,"17",4]
["2015-04-22",1517,"17",4]
["2015-04-23",1517,"17",4]
["2015-04-24",1517,"17",4]
["2015-04-25",1517,"17",4]
["2015-04-26",1517,"17",4]
["2015-04-27",1518,"18",4]
["2015-04-28",1518,"18",4]
["2015-04-29",1518,"18",4]
["2015-04-30",1518,"18",4]
["2015-05-01",1518,"18",5]
["2015-05-02",1518,"18",5]
["2015-05-03",1518,"18",5]
["2015-05-04",1519,"19",5]
["2015-05-05",1519,"19",5]
["2015-05-06",1519,"19",5]
["2015-05-07",1519,"19",5]
["2015-05-08",1519,"19",5]
["2015-05-09",1519,"19",5]
["2015-05-10",1519,"19",5]
["2015-05-11",1520,"20",5]
["2015-05-12",1520,"20",5]
["2015-05-13",1520,"20",5]
["2015-05-14",1520,"20",5]
["2015-05-15",1520,"20",5]
["2015-05-16",1520,"20",5]
["2015-05-17",1520,"20",5]
["2015-05-18",1521,"21",5]
["2015-05-19",1521,"21",5]
["2015-05-20",1521,"21",5]
["2015-05-21",1521,"21",5]
["2015-05-22",1521,"21",5]
["2015-05-23",1521,"21",5]
["2015-05-24",1521,"21",5]
["2015-05-25",1522,"22",5]
["2015-05-26",1522,"22",5]
["2015-05-27",1522,"22",5]
["2015-05-28",1522,"22",5]
["2015-05-29",1522,"22",5]
["2015-05-30",1522,"22",5]
["2015-05-31",1522,"22",5]
["2015-06-01",1523,"23",6]
["2015-06-02",1523,"23",6]
["2015-06-03",{"$f":"B2307+1","v":1523},"23",6]
["2015-06-04",1523,"23",6]
["2015-06-05",1523,"23",6]
["2015-06-06",1523,"23",6]
["2015-06-07",1523,"23",6]
["2015-06-08",1524,"24",6]
["2015-06-09",1524,"24",6]
["2015-06-10",1524,"24",6]
["2015-06-11",1524,"24",6]
["2015-06-12",1524,"24",6]
["2015-06-13",1524,"24",6]
["2015-06-14",1524,"24",6]
["2015-06-15",1525,"25",6]
["2015-06-16",1525,"25",6]
["2015-06-17",1525,"25",6]
["2015-06-18",1525,"25",6]
["2015-06-19",1525,"25",6]
["2015-06-20",1525,"25",6]
["2015-06-21",1525,{"$f":"RIGHT(B2332,2)","v":"25"},{"$f":"MONTH(A2332)","v":6}]
["2015-06-22",1526,"26",6]
["2015-06-23",1526,"26",6]
["2015-06-24",1526,"26",6]
["2015-06-25",1526,"26",6]
["2015-06-26",1526,"26",6]
["2015-06-27",1526,"26",6]
["2015-06-28",1526,"26",6]
["2015-06-29",1527,"27",6]
["2015-06-30",1527,"27",6]
["2015-07-01",1527,"27",7]
["2015-07-02",1527,"27",7]
["2015-07-03",1527,"27",7]
["2015-07-04",1527,"27",7]
["2015-07-05",1527,"27",7]
["2015-07-06",1528,"28",7]
["2015-07-07",1528,"28",7]
["2015-07-08",1528,"28",7]
["2015-07-09",1528,"28",7]
["2015-07-10",1528,"28",7]
["2015-07-11",1528,"28",7]
["2015-07-12",1528,"28",7]
["2015-07-13",1529,"29",7]
["2015-07-14",1529,"29",7]
["2015-07-15",1529,"29",7]
["2015-07-16",1529,"29",7]
["2015-07-17",1529,"29",7]
["2015-07-18",1529,"29",7]
["2015-07-19",1529,"29",7]
["2015-07-20",1530,"30",7]
["2015-07-21",1530,"30",7]
["2015-07-22",1530,"30",7]
["2015-07-23",1530,"30",7]
["2015-07-24",1530,"30",7]
["2015-07-25",1530,"30",7]
["2015-07-26",1530,"30",7]
["2015-07-27",1531,"31",7]
["2015-07-28",1531,"31",7]
["2015-07-29",1531,"31",7]
["2015-07-30",1531,"31",7]
["2015-07-31",1531,"31",7]
["2015-08-01",1531,"31",8]
["2015-08-02",1531,"31",8]
["2015-08-03",1532,"32",8]
["2015-08-04",1532,"32",8]
["2015-08-05",1532,"32",8]
["2015-08-06",{"$f":"B2371+1","v":1532},"32",8]
["2015-08-07",1532,"32",8]
["2015-08-08",1532,"32",8]
["2015-08-09",1532,"32",8]
["2015-08-10",1533,"33",8]
["2015-08-11",1533,"33",8]
["2015-08-12",1533,"33",8]
["2015-08-13",1533,"33",8]
["2015-08-14",1533,"33",8]
["2015-08-15",1533,"33",8]
["2015-08-16",1533,"33",8]
["2015-08-17",1534,"34",8]
["2015-08-18",1534,"34",8]
["2015-08-19",1534,"34",8]
["2015-08-20",1534,"34",8]
["2015-08-21",1534,"34",8]
["2015-08-22",1534,"34",8]
["2015-08-23",1534,"34",8]
["2015-08-24",1535,{"$f":"RIGHT(B2396,2)","v":"35"},{"$f":"MONTH(A2396)","v":8}]
["2015-08-25",1535,"35",8]
["2015-08-26",1535,"35",8]
["2015-08-27",1535,"35",8]
["2015-08-28",1535,"35",8]
["2015-08-29",1535,"35",8]
["2015-08-30",1535,"35",8]
["2015-08-31",1536,"36",8]
["2015-09-01",1536,"36",9]
["2015-09-02",1536,"36",9]
["2015-09-03",1536,"36",9]
["2015-09-04",1536,"36",9]
["2015-09-05",1536,"36",9]
["2015-09-06",1536,"36",9]
["2015-09-07",1537,"37",9]
["2015-09-08",1537,"37",9]
["2015-09-09",1537,"37",9]
["2015-09-10",1537,"37",9]
["2015-09-11",1537,"37",9]
["2015-09-12",1537,"37",9]
["2015-09-13",1537,"37",9]
["2015-09-14",1538,"38",9]
["2015-09-15",1538,"38",9]
["2015-09-16",1538,"38",9]
["2015-09-17",1538,"38",9]
["2015-09-18",1538,"38",9]
["2015-09-19",1538,"38",9]
["2015-09-20",1538,"38",9]
["2015-09-21",1539,"39",9]
["2015-09-22",1539,"39",9]
["2015-09-23",1539,"39",9]
["2015-09-24",1539,"39",9]
["2015-09-25",1539,"39",9]
["2015-09-26",1539,"39",9]
["2015-09-27",1539,"39",9]
["2015-09-28",1540,"40",9]
["2015-09-29",1540,"40",9]
["2015-09-30",1540,"40",9]
["2015-10-01",1540,"40",10]
["2015-10-02",1540,"40",10]
["2015-10-03",1540,"40",10]
["2015-10-04",1540,"40",10]
["2015-10-05",1541,"41",10]
["2015-10-06",1541,"41",10]
["2015-10-07",1541,"41",10]
["2015-10-08",1541,"41",10]
["2015-10-09",{"$f":"B2435+1","v":1541},"41",10]
["2015-10-10",1541,"41",10]
["2015-10-11",1541,"41",10]
["2015-10-12",1542,"42",10]
["2015-10-13",1542,"42",10]
["2015-10-14",1542,"42",10]
["2015-10-15",1542,"42",10]
["2015-10-16",1542,"42",10]
["2015-10-17",1542,"42",10]
["2015-10-18",1542,"42",10]
["2015-10-19",1543,"43",10]
["2015-10-20",1543,"43",10]
["2015-10-21",1543,"43",10]
["2015-10-22",1543,"43",10]
["2015-10-23",1543,"43",10]
["2015-10-24",1543,"43",10]
["2015-10-25",1543,"43",10]
["2015-10-26",1544,"44",10]
["2015-10-27",1544,{"$f":"RIGHT(B2460,2)","v":"44"},{"$f":"MONTH(A2460)","v":10}]
["2015-10-28",1544,"44",10]
["2015-10-29",1544,"44",10]
["2015-10-30",1544,"44",10]
["2015-10-31",1544,"44",10]
["2015-11-01",1544,"44",11]
["2015-11-02",1545,"45",11]
["2015-11-03",1545,"45",11]
["2015-11-04",1545,"45",11]
["2015-11-05",1545,"45",11]
["2015-11-06",1545,"45",11]
["2015-11-07",1545,"45",11]
["2015-11-08",1545,"45",11]
["2015-11-09",1546,"46",11]
["2015-11-10",1546,"46",11]
["2015-11-11",1546,"46",11]
["2015-11-12",1546,"46",11]
["2015-11-13",1546,"46",11]
["2015-11-14",1546,"46",11]
["2015-11-15",1546,"46",11]
["2015-11-16",1547,"47",11]
["2015-11-17",1547,"47",11]
["2015-11-18",1547,"47",11]
["2015-11-19",1547,"47",11]
["2015-11-20",1547,"47",11]
["2015-11-21",1547,"47",11]
["2015-11-22",1547,"47",11]
["2015-11-23",1548,"48",11]
["2015-11-24",1548,"48",11]
["2015-11-25",1548,"48",11]
["2015-11-26",1548,"48",11]
["2015-11-27",1548,"48",11]
["2015-11-28",1548,"48",11]
["2015-11-29",1548,"48",11]
["2015-11-30",1549,"49",11]
["2015-12-01",1549,"49",12]
["2015-12-02",1549,"49",12]
["2015-12-03",1549,"49",12]
["2015-12-04",1549,"49",12]
["2015-12-05",1549,"49",12]
["2015-12-06",1549,"49",12]
["2015-12-07",1550,"50",12]
["2015-12-08",1550,"50",12]
["2015-12-09",1550,"50",12]
["2015-12-10",1550,"50",12]
["2015-12-11",1550,"50",12]
["2015-12-12",{"$f":"B2499+1","v":1550},"50",12]
["2015-12-13",1550,"50",12]
["2015-12-14",1551,"51",12]
["2015-12-15",1551,"51",12]
["2015-12-16",1551,"51",12]
["2015-12-17",1551,"51",12]
["2015-12-18",1551,"51",12]
["2015-12-19",1551,"51",12]
["2015-12-20",1551,"51",12]
["2015-12-21",1552,"52",12]
["2015-12-22",1552,"52",12]
["2015-12-23",1552,"52",12]
["2015-12-24",1552,"52",12]
["2015-12-25",1552,"52",12]
["2015-12-26",1552,"52",12]
["2015-12-27",1552,"52",12]
["2015-12-28",1553,"53",12]
["2015-12-29",1553,"53",12]
["2015-12-30",1553,{"$f":"RIGHT(B2524,2)","v":"53"},{"$f":"MONTH(A2524)","v":12}]
["2015-12-31",1553,"53",12]
["2016-01-01",1553,"53",12]
["2016-01-02",1553,"53",12]
["2016-01-03",1553,"53",12]
["2016-01-04",1601,{"$f":"RIGHT(B2529,2)","v":"01"},{"$f":"MONTH(A2529)","v":1}]
["2016-01-05",1601,{"$f":"RIGHT(B2530,2)","v":"01"},{"$f":"MONTH(A2530)","v":1}]
["2016-01-06",1601,"01",1]
["2016-01-07",1601,"01",1]
["2016-01-08",1601,"01",1]
["2016-01-09",1601,"01",1]
["2016-01-10",1601,"01",1]
["2016-01-11",{"$f":"B2529+1","v":1602},"02",1]
["2016-01-12",1602,{"$f":"RIGHT(B2537,2)","v":"02"},{"$f":"MONTH(A2537)","v":1}]
["2016-01-13",1602,"02",1]
["2016-01-14",1602,{"$f":"RIGHT(B2539,2)","v":"02"},{"$f":"MONTH(A2539)","v":1}]
["2016-01-15",1602,"02",1]
["2016-01-16",1602,"02",1]
["2016-01-17",1602,"02",1]
["2016-01-18",1603,"03",1]
["2016-01-19",1603,"03",1]
["2016-01-20",1603,"03",1]
["2016-01-21",1603,"03",1]
["2016-01-22",1603,"03",1]
["2016-01-23",1603,"03",1]
["2016-01-24",1603,"03",1]
["2016-01-25",1604,"04",1]
["2016-01-26",1604,"04",1]
["2016-01-27",1604,"04",1]
["2016-01-28",1604,"04",1]
["2016-01-29",1604,"04",1]
["2016-01-30",1604,"04",1]
["2016-01-31",1604,"04",1]
["2016-02-01",1605,"05",2]
["2016-02-02",1605,"05",2]
["2016-02-03",1605,"05",2]
["2016-02-04",1605,"05",2]
["2016-02-05",1605,"05",2]
["2016-02-06",1605,"05",2]
["2016-02-07",1605,"05",2]
["2016-02-08",1606,"06",2]
["2016-02-09",1606,"06",2]
["2016-02-10",1606,"06",2]
["2016-02-11",1606,"06",2]
["2016-02-12",1606,{"$f":"RIGHT(B2568,2)","v":"06"},{"$f":"MONTH(A2568)","v":2}]
["2016-02-13",1606,"06",2]
["2016-02-14",1606,"06",2]
["2016-02-15",1607,"07",2]
["2016-02-16",1607,"07",2]
["2016-02-17",1607,"07",2]
["2016-02-18",1607,"07",2]
["2016-02-19",1607,"07",2]
["2016-02-20",1607,"07",2]
["2016-02-21",1607,"07",2]
["2016-02-22",1608,"08",2]
["2016-02-23",1608,"08",2]
["2016-02-24",1608,"08",2]
["2016-02-25",1608,"08",2]
["2016-02-26",1608,"08",2]
["2016-02-27",1608,"08",2]
["2016-02-28",1608,"08",2]
["2016-02-29",1609,"09",2]
["2016-03-01",1609,"09",3]
["2016-03-02",1609,"09",3]
["2016-03-03",1609,"09",3]
["2016-03-04",1609,"09",3]
["2016-03-05",1609,"09",3]
["2016-03-06",1609,"09",3]
["2016-03-07",1610,"10",3]
["2016-03-08",1610,"10",3]
["2016-03-09",1610,"10",3]
["2016-03-10",1610,"10",3]
["2016-03-11",1610,"10",3]
["2016-03-12",1610,"10",3]
["2016-03-13",1610,"10",3]
["2016-03-14",1611,"11",3]
["2016-03-15",{"$f":"B2593+1","v":1611},"11",3]
["2016-03-16",1611,"11",3]
["2016-03-17",1611,"11",3]
["2016-03-18",1611,"11",3]
["2016-03-19",1611,"11",3]
["2016-03-20",1611,"11",3]
["2016-03-21",1612,"12",3]
["2016-03-22",1612,"12",3]
["2016-03-23",1612,"12",3]
["2016-03-24",1612,"12",3]
["2016-03-25",1612,"12",3]
["2016-03-26",1612,"12",3]
["2016-03-27",1612,"12",3]
["2016-03-28",1613,"13",3]
["2016-03-29",1613,"13",3]
["2016-03-30",1613,"13",3]
["2016-03-31",1613,"13",3]
["2016-04-01",1613,"13",4]
["2016-04-02",1613,"13",4]
["2016-04-03",1613,"13",4]
["2016-04-04",1614,"14",4]
["2016-04-05",1614,"14",4]
["2016-04-06",1614,"14",4]
["2016-04-07",1614,"14",4]
["2016-04-08",1614,"14",4]
["2016-04-09",1614,"14",4]
["2016-04-10",1614,"14",4]
["2016-04-11",1615,"15",4]
["2016-04-12",1615,"15",4]
["2016-04-13",1615,"15",4]
["2016-04-14",1615,"15",4]
["2016-04-15",1615,"15",4]
["2016-04-16",1615,{"$f":"RIGHT(B2632,2)","v":"15"},{"$f":"MONTH(A2632)","v":4}]
["2016-04-17",1615,"15",4]
["2016-04-18",1616,"16",4]
["2016-04-19",1616,"16",4]
["2016-04-20",1616,"16",4]
["2016-04-21",1616,"16",4]
["2016-04-22",1616,"16",4]
["2016-04-23",1616,"16",4]
["2016-04-24",1616,"16",4]
["2016-04-25",1617,"17",4]
["2016-04-26",1617,"17",4]
["2016-04-27",1617,"17",4]
["2016-04-28",1617,"17",4]
["2016-04-29",1617,"17",4]
["2016-04-30",1617,"17",4]
["2016-05-01",1617,"17",5]
["2016-05-02",1618,"18",5]
["2016-05-03",1618,"18",5]
["2016-05-04",1618,"18",5]
["2016-05-05",1618,"18",5]
["2016-05-06",1618,"18",5]
["2016-05-07",1618,"18",5]
["2016-05-08",1618,"18",5]
["2016-05-09",1619,"19",5]
["2016-05-10",1619,"19",5]
["2016-05-11",1619,"19",5]
["2016-05-12",1619,"19",5]
["2016-05-13",1619,"19",5]
["2016-05-14",1619,"19",5]
["2016-05-15",1619,"19",5]
["2016-05-16",1620,"20",5]
["2016-05-17",1620,"20",5]
["2016-05-18",{"$f":"B2657+1","v":1620},"20",5]
["2016-05-19",1620,"20",5]
["2016-05-20",1620,"20",5]
["2016-05-21",1620,"20",5]
["2016-05-22",1620,"20",5]
["2016-05-23",1621,"21",5]
["2016-05-24",1621,"21",5]
["2016-05-25",1621,"21",5]
["2016-05-26",1621,"21",5]
["2016-05-27",1621,"21",5]
["2016-05-28",1621,"21",5]
["2016-05-29",1621,"21",5]
["2016-05-30",1622,"22",5]
["2016-05-31",1622,"22",5]
["2016-06-01",1622,"22",6]
["2016-06-02",1622,"22",6]
["2016-06-03",1622,"22",6]
["2016-06-04",1622,"22",6]
["2016-06-05",1622,"22",6]
["2016-06-06",1623,"23",6]
["2016-06-07",1623,"23",6]
["2016-06-08",1623,"23",6]
["2016-06-09",1623,"23",6]
["2016-06-10",1623,"23",6]
["2016-06-11",1623,"23",6]
["2016-06-12",1623,"23",6]
["2016-06-13",1624,"24",6]
["2016-06-14",1624,"24",6]
["2016-06-15",1624,"24",6]
["2016-06-16",1624,"24",6]
["2016-06-17",1624,"24",6]
["2016-06-18",1624,"24",6]
["2016-06-19",1624,{"$f":"RIGHT(B2696,2)","v":"24"},{"$f":"MONTH(A2696)","v":6}]
["2016-06-20",1625,"25",6]
["2016-06-21",1625,"25",6]
["2016-06-22",1625,"25",6]
["2016-06-23",1625,"25",6]
["2016-06-24",1625,"25",6]
["2016-06-25",1625,"25",6]
["2016-06-26",1625,"25",6]
["2016-06-27",1626,"26",6]
["2016-06-28",1626,"26",6]
["2016-06-29",1626,"26",6]
["2016-06-30",1626,"26",6]
["2016-07-01",1626,"26",7]
["2016-07-02",1626,"26",7]
["2016-07-03",1626,"26",7]
["2016-07-04",1627,"27",7]
["2016-07-05",1627,"27",7]
["2016-07-06",1627,"27",7]
["2016-07-07",1627,"27",7]
["2016-07-08",1627,"27",7]
["2016-07-09",1627,"27",7]
["2016-07-10",1627,"27",7]
["2016-07-11",1628,"28",7]
["2016-07-12",1628,"28",7]
["2016-07-13",1628,"28",7]
["2016-07-14",1628,"28",7]
["2016-07-15",1628,"28",7]
["2016-07-16",1628,"28",7]
["2016-07-17",1628,"28",7]
["2016-07-18",1629,"29",7]
["2016-07-19",1629,"29",7]
["2016-07-20",1629,"29",7]
["2016-07-21",{"$f":"B2721+1","v":1629},"29",7]
["2016-07-22",1629,"29",7]
["2016-07-23",1629,"29",7]
["2016-07-24",1629,"29",7]
["2016-07-25",1630,"30",7]
["2016-07-26",1630,"30",7]
["2016-07-27",1630,"30",7]
["2016-07-28",1630,"30",7]
["2016-07-29",1630,"30",7]
["2016-07-30",1630,"30",7]
["2016-07-31",1630,"30",7]
["2016-08-01",1631,"31",8]
["2016-08-02",1631,"31",8]
["2016-08-03",1631,"31",8]
["2016-08-04",1631,"31",8]
["2016-08-05",1631,"31",8]
["2016-08-06",1631,"31",8]
["2016-08-07",1631,"31",8]
["2016-08-08",1632,"32",8]
["2016-08-09",1632,"32",8]
["2016-08-10",1632,"32",8]
["2016-08-11",1632,"32",8]
["2016-08-12",1632,"32",8]
["2016-08-13",1632,"32",8]
["2016-08-14",1632,"32",8]
["2016-08-15",1633,"33",8]
["2016-08-16",1633,"33",8]
["2016-08-17",1633,"33",8]
["2016-08-18",1633,"33",8]
["2016-08-19",1633,"33",8]
["2016-08-20",1633,"33",8]
["2016-08-21",1633,"33",8]
["2016-08-22",1634,{"$f":"RIGHT(B2760,2)","v":"34"},{"$f":"MONTH(A2760)","v":8}]
["2016-08-23",1634,"34",8]
["2016-08-24",1634,"34",8]
["2016-08-25",1634,"34",8]
["2016-08-26",1634,"34",8]
["2016-08-27",1634,"34",8]
["2016-08-28",1634,"34",8]
["2016-08-29",1635,"35",8]
["2016-08-30",1635,"35",8]
["2016-08-31",1635,"35",8]
["2016-09-01",1635,"35",9]
["2016-09-02",1635,"35",9]
["2016-09-03",1635,"35",9]
["2016-09-04",1635,"35",9]
["2016-09-05",1636,"36",9]
["2016-09-06",1636,"36",9]
["2016-09-07",1636,"36",9]
["2016-09-08",1636,"36",9]
["2016-09-09",1636,"36",9]
["2016-09-10",1636,"36",9]
["2016-09-11",1636,"36",9]
["2016-09-12",1637,"37",9]
["2016-09-13",1637,"37",9]
["2016-09-14",1637,"37",9]
["2016-09-15",1637,"37",9]
["2016-09-16",1637,"37",9]
["2016-09-17",1637,"37",9]
["2016-09-18",1637,"37",9]
["2016-09-19",1638,"38",9]
["2016-09-20",1638,"38",9]
["2016-09-21",1638,"38",9]
["2016-09-22",1638,"38",9]
["2016-09-23",{"$f":"B2785+1","v":1638},"38",9]
["2016-09-24",1638,"38",9]
["2016-09-25",1638,"38",9]
["2016-09-26",1639,"39",9]
["2016-09-27",1639,"39",9]
["2016-09-28",1639,"39",9]
["2016-09-29",1639,"39",9]
["2016-09-30",1639,"39",9]
["2016-10-01",1639,"39",10]
["2016-10-02",1639,"39",10]
["2016-10-03",1640,"40",10]
["2016-10-04",1640,"40",10]
["2016-10-05",1640,"40",10]
["2016-10-06",1640,"40",10]
["2016-10-07",1640,"40",10]
["2016-10-08",1640,"40",10]
["2016-10-09",1640,"40",10]
["2016-10-10",1641,"41",10]
["2016-10-11",1641,"41",10]
["2016-10-12",1641,"41",10]
["2016-10-13",1641,"41",10]
["2016-10-14",1641,"41",10]
["2016-10-15",1641,"41",10]
["2016-10-16",1641,"41",10]
["2016-10-17",1642,"42",10]
["2016-10-18",1642,"42",10]
["2016-10-19",1642,"42",10]
["2016-10-20",1642,"42",10]
["2016-10-21",1642,"42",10]
["2016-10-22",1642,"42",10]
["2016-10-23",1642,"42",10]
["2016-10-24",1643,"43",10]
["2016-10-25",1643,{"$f":"RIGHT(B2824,2)","v":"43"},{"$f":"MONTH(A2824)","v":10}]
["2016-10-26",1643,"43",10]
["2016-10-27",1643,"43",10]
["2016-10-28",1643,"43",10]
["2016-10-29",1643,"43",10]
["2016-10-30",1643,"43",10]
["2016-10-31",1644,"44",10]
["2016-11-01",1644,"44",11]
["2016-11-02",1644,"44",11]
["2016-11-03",1644,"44",11]
["2016-11-04",1644,"44",11]
["2016-11-05",1644,"44",11]
["2016-11-06",1644,"44",11]
["2016-11-07",1645,"45",11]
["2016-11-08",1645,"45",11]
["2016-11-09",1645,"45",11]
["2016-11-10",1645,"45",11]
["2016-11-11",1645,"45",11]
["2016-11-12",1645,"45",11]
["2016-11-13",1645,"45",11]
["2016-11-14",1646,"46",11]
["2016-11-15",1646,"46",11]
["2016-11-16",1646,"46",11]
["2016-11-17",1646,"46",11]
["2016-11-18",1646,"46",11]
["2016-11-19",1646,"46",11]
["2016-11-20",1646,"46",11]
["2016-11-21",1647,"47",11]
["2016-11-22",1647,"47",11]
["2016-11-23",1647,"47",11]
["2016-11-24",1647,"47",11]
["2016-11-25",1647,"47",11]
["2016-11-26",{"$f":"B2849+1","v":1647},"47",11]
["2016-11-27",1647,"47",11]
["2016-11-28",1648,"48",11]
["2016-11-29",1648,"48",11]
["2016-11-30",1648,"48",11]
["2016-12-01",1648,"48",12]
["2016-12-02",1648,"48",12]
["2016-12-03",1648,"48",12]
["2016-12-04",1648,"48",12]
["2016-12-05",1649,"49",12]
["2016-12-06",1649,"49",12]
["2016-12-07",1649,"49",12]
["2016-12-08",1649,"49",12]
["2016-12-09",1649,"49",12]
["2016-12-10",1649,"49",12]
["2016-12-11",1649,"49",12]
["2016-12-12",1650,"50",12]
["2016-12-13",1650,"50",12]
["2016-12-14",1650,"50",12]
["2016-12-15",1650,"50",12]
["2016-12-16",1650,"50",12]
["2016-12-17",1650,"50",12]
["2016-12-18",1650,"50",12]
["2016-12-19",1651,"51",12]
["2016-12-20",1651,"51",12]
["2016-12-21",1651,"51",12]
["2016-12-22",1651,"51",12]
["2016-12-23",1651,"51",12]
["2016-12-24",1651,"51",12]
["2016-12-25",1651,"51",12]
["2016-12-26",1652,"52",12]
["2016-12-27",1652,"52",12]
["2016-12-28",1652,{"$f":"RIGHT(B2888,2)","v":"52"},{"$f":"MONTH(A2888)","v":12}]
["2016-12-29",1652,"52",12]
["2016-12-30",1652,"52",12]
["2016-12-31",1652,"52",12]
["2017-01-01",1652,{"$f":"RIGHT(B2892,2)","v":"52"},{"$f":"MONTH(A2892)","v":1}]
["2017-01-02",1701,{"$f":"RIGHT(B2893,2)","v":"01"},{"$f":"MONTH(A2893)","v":1}]
["2017-01-03",1701,{"$f":"RIGHT(B2894,2)","v":"01"},{"$f":"MONTH(A2894)","v":1}]
["2017-01-04",1701,"01",1]
["2017-01-05",1701,"01",1]
["2017-01-06",1701,"01",1]
["2017-01-07",1701,"01",1]
["2017-01-08",1701,"01",1]
["2017-01-09",{"$f":"B2893+1","v":1702},"02",1]
["2017-01-10",1702,{"$f":"RIGHT(B2901,2)","v":"02"},{"$f":"MONTH(A2901)","v":1}]
["2017-01-11",1702,"02",1]
["2017-01-12",1702,"02",1]
["2017-01-13",1702,"02",1]
["2017-01-14",1702,"02",1]
["2017-01-15",1702,"02",1]
["2017-01-16",1703,{"$f":"RIGHT(B2907,2)","v":"03"},{"$f":"MONTH(A2907)","v":1}]
["2017-01-17",1703,"03",1]
["2017-01-18",1703,{"$f":"RIGHT(B2909,2)","v":"03"},{"$f":"MONTH(A2909)","v":1}]
["2017-01-19",1703,"03",1]
["2017-01-20",1703,"03",1]
["2017-01-21",1703,"03",1]
["2017-01-22",1703,"03",1]
["2017-01-23",1704,"04",1]
["2017-01-24",1704,"04",1]
["2017-01-25",1704,"04",1]
["2017-01-26",1704,"04",1]
["2017-01-27",1704,"04",1]
["2017-01-28",1704,"04",1]
["2017-01-29",1704,"04",1]
["2017-01-30",1705,"05",1]
["2017-01-31",1705,"05",1]
["2017-02-01",1705,"05",2]
["2017-02-02",1705,"05",2]
["2017-02-03",1705,"05",2]
["2017-02-04",1705,"05",2]
["2017-02-05",1705,"05",2]
["2017-02-06",1706,"06",2]
["2017-02-07",1706,"06",2]
["2017-02-08",1706,"06",2]
["2017-02-09",1706,"06",2]
["2017-02-10",1706,"06",2]
["2017-02-11",1706,"06",2]
["2017-02-12",1706,"06",2]
["2017-02-13",1707,"07",2]
["2017-02-14",1707,"07",2]
["2017-02-15",1707,"07",2]
["2017-02-16",1707,"07",2]
["2017-02-17",1707,"07",2]
["2017-02-18",1707,"07",2]
["2017-02-19",1707,"07",2]
["2017-02-20",1708,"08",2]
["2017-02-21",1708,"08",2]
["2017-02-22",1708,"08",2]
["2017-02-23",1708,"08",2]
["2017-02-24",1708,"08",2]
["2017-02-25",1708,"08",2]
["2017-02-26",1708,"08",2]
["2017-02-27",1709,"09",2]
["2017-02-28",1709,"09",2]
["2017-03-01",1709,"09",3]
["2017-03-02",1709,"09",3]
["2017-03-03",1709,"09",3]
["2017-03-04",1709,"09",3]
["2017-03-05",1709,"09",3]
["2017-03-06",1710,"10",3]
["2017-03-07",1710,"10",3]
["2017-03-08",1710,"10",3]
["2017-03-09",1710,"10",3]
["2017-03-10",1710,"10",3]
["2017-03-11",1710,"10",3]
["2017-03-12",1710,"10",3]
["2017-03-13",1711,"11",3]
["2017-03-14",{"$f":"B2957+1","v":1711},"11",3]
["2017-03-15",1711,"11",3]
["2017-03-16",1711,"11",3]
["2017-03-17",1711,"11",3]
["2017-03-18",1711,"11",3]
["2017-03-19",1711,"11",3]
["2017-03-20",1712,"12",3]
["2017-03-21",1712,"12",3]
["2017-03-22",1712,"12",3]
["2017-03-23",1712,{"$f":"RIGHT(B2973,2)","v":"12"},{"$f":"MONTH(A2973)","v":3}]
["2017-03-24",1712,"12",3]
["2017-03-25",1712,"12",3]
["2017-03-26",1712,"12",3]
["2017-03-27",1713,"13",3]
["2017-03-28",1713,"13",3]
["2017-03-29",1713,"13",3]
["2017-03-30",1713,"13",3]
["2017-03-31",1713,"13",3]
["2017-04-01",1713,"13",4]
["2017-04-02",1713,"13",4]
["2017-04-03",1714,"14",4]
["2017-04-04",1714,"14",4]
["2017-04-05",1714,"14",4]
["2017-04-06",1714,"14",4]
["2017-04-07",1714,"14",4]
["2017-04-08",1714,"14",4]
["2017-04-09",1714,"14",4]
["2017-04-10",1715,"15",4]
["2017-04-11",1715,"15",4]
["2017-04-12",1715,"15",4]
["2017-04-13",1715,"15",4]
["2017-04-14",1715,"15",4]
["2017-04-15",1715,"15",4]
["2017-04-16",1715,"15",4]
["2017-04-17",1716,"16",4]
["2017-04-18",1716,"16",4]
["2017-04-19",1716,"16",4]
["2017-04-20",1716,"16",4]
["2017-04-21",1716,"16",4]
["2017-04-22",1716,"16",4]
["2017-04-23",1716,"16",4]
["2017-04-24",1717,"17",4]
["2017-04-25",1717,"17",4]
["2017-04-26",1717,"17",4]
["2017-04-27",1717,"17",4]
["2017-04-28",1717,"17",4]
["2017-04-29",1717,"17",4]
["2017-04-30",1717,"17",4]
["2017-05-01",1718,"18",5]
["2017-05-02",1718,"18",5]
["2017-05-03",1718,"18",5]
["2017-05-04",1718,"18",5]
["2017-05-05",1718,"18",5]
["2017-05-06",1718,"18",5]
["2017-05-07",1718,"18",5]
["2017-05-08",1719,"19",5]
["2017-05-09",1719,"19",5]
["2017-05-10",1719,"19",5]
["2017-05-11",1719,"19",5]
["2017-05-12",1719,"19",5]
["2017-05-13",1719,"19",5]
["2017-05-14",1719,"19",5]
["2017-05-15",1720,"20",5]
["2017-05-16",1720,"20",5]
["2017-05-17",{"$f":"B3021+1","v":1720},"20",5]
["2017-05-18",1720,"20",5]
["2017-05-19",1720,"20",5]
["2017-05-20",1720,"20",5]
["2017-05-21",1720,"20",5]
["2017-05-22",1721,"21",5]
["2017-05-23",1721,"21",5]
["2017-05-24",1721,"21",5]
["2017-05-25",1721,"21",5]
["2017-05-26",1721,{"$f":"RIGHT(B3037,2)","v":"21"},{"$f":"MONTH(A3037)","v":5}]
["2017-05-27",1721,"21",5]
["2017-05-28",1721,"21",5]
["2017-05-29",1722,"22",5]
["2017-05-30",1722,"22",5]
["2017-05-31",1722,"22",5]
["2017-06-01",1722,"22",6]
["2017-06-02",1722,"22",6]
["2017-06-03",1722,"22",6]
["2017-06-04",1722,"22",6]
["2017-06-05",1723,"23",6]
["2017-06-06",1723,"23",6]
["2017-06-07",1723,"23",6]
["2017-06-08",1723,"23",6]
["2017-06-09",1723,"23",6]
["2017-06-10",1723,"23",6]
["2017-06-11",1723,"23",6]
["2017-06-12",1724,"24",6]
["2017-06-13",1724,"24",6]
["2017-06-14",1724,"24",6]
["2017-06-15",1724,"24",6]
["2017-06-16",1724,"24",6]
["2017-06-17",1724,"24",6]
["2017-06-18",1724,"24",6]
["2017-06-19",1725,"25",6]
["2017-06-20",1725,"25",6]
["2017-06-21",1725,"25",6]
["2017-06-22",1725,"25",6]
["2017-06-23",1725,"25",6]
["2017-06-24",1725,"25",6]
["2017-06-25",1725,"25",6]
["2017-06-26",1726,"26",6]
["2017-06-27",1726,"26",6]
["2017-06-28",1726,"26",6]
["2017-06-29",1726,"26",6]
["2017-06-30",1726,"26",6]
["2017-07-01",1726,"26",7]
["2017-07-02",1726,"26",7]
["2017-07-03",1727,"27",7]
["2017-07-04",1727,"27",7]
["2017-07-05",1727,"27",7]
["2017-07-06",1727,"27",7]
["2017-07-07",1727,"27",7]
["2017-07-08",1727,"27",7]
["2017-07-09",1727,"27",7]
["2017-07-10",1728,"28",7]
["2017-07-11",1728,"28",7]
["2017-07-12",1728,"28",7]
["2017-07-13",1728,"28",7]
["2017-07-14",1728,"28",7]
["2017-07-15",1728,"28",7]
["2017-07-16",1728,"28",7]
["2017-07-17",1729,"29",7]
["2017-07-18",1729,"29",7]
["2017-07-19",1729,"29",7]
["2017-07-20",{"$f":"B3085+1","v":1729},"29",7]
["2017-07-21",1729,"29",7]
["2017-07-22",1729,"29",7]
["2017-07-23",1729,"29",7]
["2017-07-24",1730,"30",7]
["2017-07-25",1730,"30",7]
["2017-07-26",1730,"30",7]
["2017-07-27",1730,"30",7]
["2017-07-28",1730,"30",7]
["2017-07-29",1730,{"$f":"RIGHT(B3101,2)","v":"30"},{"$f":"MONTH(A3101)","v":7}]
["2017-07-30",1730,"30",7]
["2017-07-31",1731,"31",7]
["2017-08-01",1731,"31",8]
["2017-08-02",1731,"31",8]
["2017-08-03",1731,"31",8]
["2017-08-04",1731,"31",8]
["2017-08-05",1731,"31",8]
["2017-08-06",1731,"31",8]
["2017-08-07",1732,"32",8]
["2017-08-08",1732,"32",8]
["2017-08-09",1732,"32",8]
["2017-08-10",1732,"32",8]
["2017-08-11",1732,"32",8]
["2017-08-12",1732,"32",8]
["2017-08-13",1732,"32",8]
["2017-08-14",1733,"33",8]
["2017-08-15",1733,"33",8]
["2017-08-16",1733,"33",8]
["2017-08-17",1733,"33",8]
["2017-08-18",1733,"33",8]
["2017-08-19",1733,"33",8]
["2017-08-20",1733,"33",8]
["2017-08-21",1734,"34",8]
["2017-08-22",1734,"34",8]
["2017-08-23",1734,"34",8]
["2017-08-24",1734,"34",8]
["2017-08-25",1734,"34",8]
["2017-08-26",1734,"34",8]
["2017-08-27",1734,"34",8]
["2017-08-28",1735,"35",8]
["2017-08-29",1735,"35",8]
["2017-08-30",1735,"35",8]
["2017-08-31",1735,"35",8]
["2017-09-01",1735,"35",9]
["2017-09-02",1735,"35",9]
["2017-09-03",1735,"35",9]
["2017-09-04",1736,"36",9]
["2017-09-05",1736,"36",9]
["2017-09-06",1736,"36",9]
["2017-09-07",1736,"36",9]
["2017-09-08",1736,"36",9]
["2017-09-09",1736,"36",9]
["2017-09-10",1736,"36",9]
["2017-09-11",1737,"37",9]
["2017-09-12",1737,"37",9]
["2017-09-13",1737,"37",9]
["2017-09-14",1737,"37",9]
["2017-09-15",1737,"37",9]
["2017-09-16",1737,"37",9]
["2017-09-17",1737,"37",9]
["2017-09-18",1738,"38",9]
["2017-09-19",1738,"38",9]
["2017-09-20",1738,"38",9]
["2017-09-21",1738,"38",9]
["2017-09-22",{"$f":"B3149+1","v":1738},"38",9]
["2017-09-23",1738,"38",9]
["2017-09-24",1738,"38",9]
["2017-09-25",1739,"39",9]
["2017-09-26",1739,"39",9]
["2017-09-27",1739,"39",9]
["2017-09-28",1739,"39",9]
["2017-09-29",1739,"39",9]
["2017-09-30",1739,"39",9]
["2017-10-01",1739,{"$f":"RIGHT(B3165,2)","v":"39"},{"$f":"MONTH(A3165)","v":10}]
["2017-10-02",1740,"40",10]
["2017-10-03",1740,"40",10]
["2017-10-04",1740,"40",10]
["2017-10-05",1740,"40",10]
["2017-10-06",1740,"40",10]
["2017-10-07",1740,"40",10]
["2017-10-08",1740,"40",10]
["2017-10-09",1741,"41",10]
["2017-10-10",1741,"41",10]
["2017-10-11",1741,"41",10]
["2017-10-12",1741,"41",10]
["2017-10-13",1741,"41",10]
["2017-10-14",1741,"41",10]
["2017-10-15",1741,"41",10]
["2017-10-16",1742,"42",10]
["2017-10-17",1742,"42",10]
["2017-10-18",1742,"42",10]
["2017-10-19",1742,"42",10]
["2017-10-20",1742,"42",10]
["2017-10-21",1742,"42",10]
["2017-10-22",1742,"42",10]
["2017-10-23",1743,"43",10]
["2017-10-24",1743,"43",10]
["2017-10-25",1743,"43",10]
["2017-10-26",1743,"43",10]
["2017-10-27",1743,"43",10]
["2017-10-28",1743,"43",10]
["2017-10-29",1743,"43",10]
["2017-10-30",1744,"44",10]
["2017-10-31",1744,"44",10]
["2017-11-01",1744,"44",11]
["2017-11-02",1744,"44",11]
["2017-11-03",1744,"44",11]
["2017-11-04",1744,"44",11]
["2017-11-05",1744,"44",11]
["2017-11-06",1745,"45",11]
["2017-11-07",1745,"45",11]
["2017-11-08",1745,"45",11]
["2017-11-09",1745,"45",11]
["2017-11-10",1745,"45",11]
["2017-11-11",1745,"45",11]
["2017-11-12",1745,"45",11]
["2017-11-13",1746,"46",11]
["2017-11-14",1746,"46",11]
["2017-11-15",1746,"46",11]
["2017-11-16",1746,"46",11]
["2017-11-17",1746,"46",11]
["2017-11-18",1746,"46",11]
["2017-11-19",1746,"46",11]
["2017-11-20",1747,"47",11]
["2017-11-21",1747,"47",11]
["2017-11-22",1747,"47",11]
["2017-11-23",1747,"47",11]
["2017-11-24",1747,"47",11]
["2017-11-25",{"$f":"B3213+1","v":1747},"47",11]
["2017-11-26",1747,"47",11]
["2017-11-27",1748,"48",11]
["2017-11-28",1748,"48",11]
["2017-11-29",1748,"48",11]
["2017-11-30",1748,"48",11]
["2017-12-01",1748,"48",12]
["2017-12-02",1748,"48",12]
["2017-12-03",1748,"48",12]
["2017-12-04",1749,{"$f":"RIGHT(B3229,2)","v":"49"},{"$f":"MONTH(A3229)","v":12}]
["2017-12-05",1749,"49",12]
["2017-12-06",1749,"49",12]
["2017-12-07",1749,"49",12]
["2017-12-08",1749,"49",12]
["2017-12-09",1749,"49",12]
["2017-12-10",1749,"49",12]
["2017-12-11",1750,"50",12]
["2017-12-12",1750,"50",12]
["2017-12-13",1750,"50",12]
["2017-12-14",1750,"50",12]
["2017-12-15",1750,"50",12]
["2017-12-16",1750,"50",12]
["2017-12-17",1750,"50",12]
["2017-12-18",1751,"51",12]
["2017-12-19",1751,"51",12]
["2017-12-20",1751,"51",12]
["2017-12-21",1751,"51",12]
["2017-12-22",1751,"51",12]
["2017-12-23",1751,"51",12]
["2017-12-24",1751,"51",12]
["2017-12-25",1752,"52",12]
["2017-12-26",1752,"52",12]
["2017-12-27",1752,"52",12]
["2017-12-28",1752,"52",12]
["2017-12-29",1752,"52",12]
["2017-12-30",1752,"52",12]
["2017-12-31",1752,"52",12]
["2018-01-01",1801,{"$f":"RIGHT(B3257,2)","v":"01"},{"$f":"MONTH(A3257)","v":1}]
["2018-01-02",1801,{"$f":"RIGHT(B3258,2)","v":"01"},{"$f":"MONTH(A3258)","v":1}]
["2018-01-03",1801,"01",1]
["2018-01-04",1801,"01",1]
["2018-01-05",1801,"01",1]
["2018-01-06",1801,"01",1]
["2018-01-07",1801,"01",1]
["2018-01-08",{"$f":"B3257+1","v":1802},"02",1]
["2018-01-09",1802,{"$f":"RIGHT(B3265,2)","v":"02"},{"$f":"MONTH(A3265)","v":1}]
["2018-01-10",1802,"02",1]
["2018-01-11",1802,"02",1]
["2018-01-12",1802,"02",1]
["2018-01-13",1802,"02",1]
["2018-01-14",1802,"02",1]
["2018-01-15",1803,"03",1]
["2018-01-16",1803,"03",1]
["2018-01-17",1803,"03",1]
["2018-01-18",1803,"03",1]
["2018-01-19",1803,"03",1]
["2018-01-20",1803,"03",1]
["2018-01-21",1803,"03",1]
["2018-01-22",1804,"04",1]
["2018-01-23",1804,"04",1]
["2018-01-24",1804,"04",1]
["2018-01-25",1804,"04",1]
["2018-01-26",1804,"04",1]
["2018-01-27",1804,"04",1]
["2018-01-28",1804,"04",1]
["2018-01-29",1805,"05",1]
["2018-01-30",1805,"05",1]
["2018-01-31",1805,"05",1]
["2018-02-01",1805,"05",2]
["2018-02-02",1805,"05",2]
["2018-02-03",1805,"05",2]
["2018-02-04",1805,"05",2]
["2018-02-05",1806,"06",2]
["2018-02-06",1806,"06",2]
["2018-02-07",1806,"06",2]
["2018-02-08",1806,"06",2]
["2018-02-09",1806,"06",2]
["2018-02-10",1806,"06",2]
["2018-02-11",1806,"06",2]
["2018-02-12",1807,"07",2]
["2018-02-13",1807,"07",2]
["2018-02-14",1807,"07",2]
["2018-02-15",1807,"07",2]
["2018-02-16",1807,"07",2]
["2018-02-17",1807,"07",2]
["2018-02-18",1807,"07",2]
["2018-02-19",1808,"08",2]
["2018-02-20",1808,"08",2]
["2018-02-21",1808,"08",2]
["2018-02-22",1808,"08",2]
["2018-02-23",1808,"08",2]
["2018-02-24",1808,"08",2]
["2018-02-25",1808,"08",2]
["2018-02-26",1809,"09",2]
["2018-02-27",1809,"09",2]
["2018-02-28",1809,"09",2]
["2018-03-01",1809,"09",3]
["2018-03-02",1809,"09",3]
["2018-03-03",1809,"09",3]
["2018-03-04",1809,"09",3]
["2018-03-05",1810,"10",3]
["2018-03-06",1810,"10",3]
["2018-03-07",1810,"10",3]
["2018-03-08",1810,"10",3]
["2018-03-09",1810,"10",3]
["2018-03-10",1810,"10",3]
["2018-03-11",1810,"10",3]
["2018-03-12",1811,"11",3]
["2018-03-13",{"$f":"B3321+1","v":1811},"11",3]
["2018-03-14",1811,{"$f":"RIGHT(B3329,2)","v":"11"},{"$f":"MONTH(A3329)","v":3}]
["2018-03-15",1811,"11",3]
["2018-03-16",1811,"11",3]
["2018-03-17",1811,"11",3]
["2018-03-18",1811,"11",3]
["2018-03-19",1812,"12",3]
["2018-03-20",1812,"12",3]
["2018-03-21",1812,"12",3]
["2018-03-22",1812,"12",3]
["2018-03-23",1812,"12",3]
["2018-03-24",1812,"12",3]
["2018-03-25",1812,"12",3]
["2018-03-26",1813,"13",3]
["2018-03-27",1813,"13",3]
["2018-03-28",1813,"13",3]
["2018-03-29",1813,"13",3]
["2018-03-30",1813,"13",3]
["2018-03-31",1813,"13",3]
["2018-04-01",1813,"13",4]
["2018-04-02",1814,"14",4]
["2018-04-03",1814,"14",4]
["2018-04-04",1814,"14",4]
["2018-04-05",1814,"14",4]
["2018-04-06",1814,"14",4]
["2018-04-07",1814,"14",4]
["2018-04-08",1814,"14",4]
["2018-04-09",1815,"15",4]
["2018-04-10",1815,"15",4]
["2018-04-11",1815,"15",4]
["2018-04-12",1815,"15",4]
["2018-04-13",1815,"15",4]
["2018-04-14",1815,"15",4]
["2018-04-15",1815,"15",4]
["2018-04-16",1816,"16",4]
["2018-04-17",1816,"16",4]
["2018-04-18",1816,"16",4]
["2018-04-19",1816,"16",4]
["2018-04-20",1816,"16",4]
["2018-04-21",1816,"16",4]
["2018-04-22",1816,"16",4]
["2018-04-23",1817,"17",4]
["2018-04-24",1817,"17",4]
["2018-04-25",1817,"17",4]
["2018-04-26",1817,"17",4]
["2018-04-27",1817,"17",4]
["2018-04-28",1817,"17",4]
["2018-04-29",1817,"17",4]
["2018-04-30",1818,"18",4]
["2018-05-01",1818,"18",5]
["2018-05-02",1818,"18",5]
["2018-05-03",1818,"18",5]
["2018-05-04",1818,"18",5]
["2018-05-05",1818,"18",5]
["2018-05-06",1818,"18",5]
["2018-05-07",1819,"19",5]
["2018-05-08",1819,"19",5]
["2018-05-09",1819,"19",5]
["2018-05-10",1819,"19",5]
["2018-05-11",1819,"19",5]
["2018-05-12",1819,"19",5]
["2018-05-13",1819,"19",5]
["2018-05-14",1820,"20",5]
["2018-05-15",1820,"20",5]
["2018-05-16",{"$f":"B3385+1","v":1820},"20",5]
["2018-05-17",1820,{"$f":"RIGHT(B3393,2)","v":"20"},{"$f":"MONTH(A3393)","v":5}]
["2018-05-18",1820,"20",5]
["2018-05-19",1820,"20",5]
["2018-05-20",1820,"20",5]
["2018-05-21",1821,"21",5]
["2018-05-22",1821,"21",5]
["2018-05-23",1821,"21",5]
["2018-05-24",1821,"21",5]
["2018-05-25",1821,"21",5]
["2018-05-26",1821,"21",5]
["2018-05-27",1821,"21",5]
["2018-05-28",1822,"22",5]
["2018-05-29",1822,"22",5]
["2018-05-30",1822,"22",5]
["2018-05-31",1822,"22",5]
["2018-06-01",1822,"22",6]
["2018-06-02",1822,"22",6]
["2018-06-03",1822,"22",6]
["2018-06-04",1823,"23",6]
["2018-06-05",1823,"23",6]
["2018-06-06",1823,"23",6]
["2018-06-07",1823,"23",6]
["2018-06-08",1823,"23",6]
["2018-06-09",1823,"23",6]
["2018-06-10",1823,"23",6]
["2018-06-11",1824,"24",6]
["2018-06-12",1824,"24",6]
["2018-06-13",1824,"24",6]
["2018-06-14",1824,"24",6]
["2018-06-15",1824,"24",6]
["2018-06-16",1824,"24",6]
["2018-06-17",1824,"24",6]
["2018-06-18",1825,"25",6]
["2018-06-19",1825,"25",6]
["2018-06-20",1825,"25",6]
["2018-06-21",1825,"25",6]
["2018-06-22",1825,"25",6]
["2018-06-23",1825,"25",6]
["2018-06-24",1825,"25",6]
["2018-06-25",1826,"26",6]
["2018-06-26",1826,"26",6]
["2018-06-27",1826,"26",6]
["2018-06-28",1826,"26",6]
["2018-06-29",1826,"26",6]
["2018-06-30",1826,"26",6]
["2018-07-01",1826,"26",7]
["2018-07-02",1827,"27",7]
["2018-07-03",1827,"27",7]
["2018-07-04",1827,"27",7]
["2018-07-05",1827,"27",7]
["2018-07-06",1827,"27",7]
["2018-07-07",1827,"27",7]
["2018-07-08",1827,"27",7]
["2018-07-09",1828,"28",7]
["2018-07-10",1828,"28",7]
["2018-07-11",1828,"28",7]
["2018-07-12",1828,"28",7]
["2018-07-13",1828,"28",7]
["2018-07-14",1828,"28",7]
["2018-07-15",1828,"28",7]
["2018-07-16",1829,"29",7]
["2018-07-17",1829,"29",7]
["2018-07-18",1829,"29",7]
["2018-07-19",{"$f":"B3449+1","v":1829},"29",7]
["2018-07-20",1829,{"$f":"RIGHT(B3457,2)","v":"29"},{"$f":"MONTH(A3457)","v":7}]
["2018-07-21",1829,"29",7]
["2018-07-22",1829,"29",7]
["2018-07-23",1830,"30",7]
["2018-07-24",1830,"30",7]
["2018-07-25",1830,"30",7]
["2018-07-26",1830,"30",7]
["2018-07-27",1830,"30",7]
["2018-07-28",1830,"30",7]
["2018-07-29",1830,"30",7]
["2018-07-30",1831,"31",7]
["2018-07-31",1831,"31",7]
["2018-08-01",1831,"31",8]
["2018-08-02",1831,"31",8]
["2018-08-03",1831,"31",8]
["2018-08-04",1831,"31",8]
["2018-08-05",1831,"31",8]
["2018-08-06",1832,"32",8]
["2018-08-07",1832,"32",8]
["2018-08-08",1832,"32",8]
["2018-08-09",1832,"32",8]
["2018-08-10",1832,"32",8]
["2018-08-11",1832,"32",8]
["2018-08-12",1832,"32",8]
["2018-08-13",1833,"33",8]
["2018-08-14",1833,"33",8]
["2018-08-15",1833,"33",8]
["2018-08-16",1833,"33",8]
["2018-08-17",1833,"33",8]
["2018-08-18",1833,"33",8]
["2018-08-19",1833,"33",8]
["2018-08-20",1834,"34",8]
["2018-08-21",1834,"34",8]
["2018-08-22",1834,"34",8]
["2018-08-23",1834,"34",8]
["2018-08-24",1834,"34",8]
["2018-08-25",1834,"34",8]
["2018-08-26",1834,"34",8]
["2018-08-27",1835,"35",8]
["2018-08-28",1835,"35",8]
["2018-08-29",1835,"35",8]
["2018-08-30",1835,"35",8]
["2018-08-31",1835,"35",8]
["2018-09-01",1835,"35",9]
["2018-09-02",1835,"35",9]
["2018-09-03",1836,"36",9]
["2018-09-04",1836,"36",9]
["2018-09-05",1836,"36",9]
["2018-09-06",1836,"36",9]
["2018-09-07",1836,"36",9]
["2018-09-08",1836,"36",9]
["2018-09-09",1836,"36",9]
["2018-09-10",1837,"37",9]
["2018-09-11",1837,"37",9]
["2018-09-12",1837,"37",9]
["2018-09-13",1837,"37",9]
["2018-09-14",1837,"37",9]
["2018-09-15",1837,"37",9]
["2018-09-16",1837,"37",9]
["2018-09-17",1838,"38",9]
["2018-09-18",1838,"38",9]
["2018-09-19",1838,"38",9]
["2018-09-20",1838,"38",9]
["2018-09-21",{"$f":"B3513+1","v":1838},"38",9]
["2018-09-22",1838,{"$f":"RIGHT(B3521,2)","v":"38"},{"$f":"MONTH(A3521)","v":9}]
["2018-09-23",1838,"38",9]
["2018-09-24",1839,"39",9]
["2018-09-25",1839,"39",9]
["2018-09-26",1839,{"$f":"RIGHT(B3525,2)","v":"39"},{"$f":"MONTH(A3525)","v":9}]
["2018-09-27",1839,"39",9]
["2018-09-28",1839,"39",9]
["2018-09-29",1839,"39",9]
["2018-09-30",1839,"39",9]
["2018-10-01",1840,"40",10]
["2018-10-02",1840,"40",10]
["2018-10-03",1840,"40",10]
["2018-10-04",1840,"40",10]
["2018-10-05",1840,"40",10]
["2018-10-06",1840,"40",10]
["2018-10-07",1840,"40",10]
["2018-10-08",1841,"41",10]
["2018-10-09",1841,"41",10]
["2018-10-10",1841,"41",10]
["2018-10-11",1841,"41",10]
["2018-10-12",1841,"41",10]
["2018-10-13",1841,"41",10]
["2018-10-14",1841,"41",10]
["2018-10-15",1842,"42",10]
["2018-10-16",1842,"42",10]
["2018-10-17",1842,"42",10]
["2018-10-18",1842,"42",10]
["2018-10-19",1842,"42",10]
["2018-10-20",1842,"42",10]
["2018-10-21",1842,"42",10]
["2018-10-22",1843,"43",10]
["2018-10-23",1843,"43",10]
["2018-10-24",1843,"43",10]
["2018-10-25",1843,"43",10]
["2018-10-26",1843,"43",10]
["2018-10-27",1843,"43",10]
["2018-10-28",1843,"43",10]
["2018-10-29",1844,"44",10]
["2018-10-30",1844,"44",10]
["2018-10-31",1844,"44",10]
["2018-11-01",1844,"44",11]
["2018-11-02",1844,"44",11]
["2018-11-03",1844,"44",11]
["2018-11-04",1844,"44",11]
["2018-11-05",1845,"45",11]
["2018-11-06",1845,"45",11]
["2018-11-07",1845,"45",11]
["2018-11-08",1845,"45",11]
["2018-11-09",1845,"45",11]
["2018-11-10",1845,"45",11]
["2018-11-11",1845,"45",11]
["2018-11-12",1846,"46",11]
["2018-11-13",1846,"46",11]
["2018-11-14",1846,"46",11]
["2018-11-15",1846,"46",11]
["2018-11-16",1846,"46",11]
["2018-11-17",1846,"46",11]
["2018-11-18",1846,"46",11]
["2018-11-19",1847,"47",11]
["2018-11-20",1847,"47",11]
["2018-11-21",1847,"47",11]
["2018-11-22",1847,"47",11]
["2018-11-23",1847,"47",11]
["2018-11-24",{"$f":"B3577+1","v":1847},"47",11]
["2018-11-25",1847,"47",11]
["2018-11-26",1848,"48",11]
["2018-11-27",1848,"48",11]
["2018-11-28",1848,"48",11]
["2018-11-29",1848,{"$f":"RIGHT(B3589,2)","v":"48"},{"$f":"MONTH(A3589)","v":11}]
["2018-11-30",1848,"48",11]
["2018-12-01",1848,"48",12]
["2018-12-02",1848,"48",12]
["2018-12-03",1849,"49",12]
["2018-12-04",1849,"49",12]
["2018-12-05",1849,"49",12]
["2018-12-06",1849,"49",12]
["2018-12-07",1849,"49",12]
["2018-12-08",1849,"49",12]
["2018-12-09",1849,"49",12]
["2018-12-10",1850,"50",12]
["2018-12-11",1850,"50",12]
["2018-12-12",1850,"50",12]
["2018-12-13",1850,"50",12]
["2018-12-14",1850,"50",12]
["2018-12-15",1850,"50",12]
["2018-12-16",1850,"50",12]
["2018-12-17",1851,"51",12]
["2018-12-18",1851,"51",12]
["2018-12-19",1851,"51",12]
["2018-12-20",1851,"51",12]
["2018-12-21",1851,"51",12]
["2018-12-22",1851,"51",12]
["2018-12-23",1851,"51",12]
["2018-12-24",1852,"52",12]
["2018-12-25",1852,"52",12]
["2018-12-26",1852,"52",12]
["2018-12-27",1852,"52",12]
["2018-12-28",1852,"52",12]
["2018-12-29",1852,"52",12]
["2018-12-30",1852,"52",12]
["2018-12-31",1901,"01",1]
["2019-01-01",1901,{"$f":"RIGHT(B3622,2)","v":"01"},{"$f":"MONTH(A3622)","v":1}]
["2019-01-02",1901,"01",1]
["2019-01-03",1901,"01",1]
["2019-01-04",1901,"01",1]
["2019-01-05",1901,"01",1]
["2019-01-06",1901,"01",1]
["2019-01-07",{"$f":"B3621+1","v":1902},"02",1]
["2019-01-08",1902,{"$f":"RIGHT(B3629,2)","v":"02"},{"$f":"MONTH(A3629)","v":1}]
["2019-01-09",1902,"02",1]
["2019-01-10",1902,"02",1]
["2019-01-11",1902,"02",1]
["2019-01-12",1902,"02",1]
["2019-01-13",1902,"02",1]
["2019-01-14",1903,"03",1]
["2019-01-15",1903,"03",1]
["2019-01-16",1903,"03",1]
["2019-01-17",1903,"03",1]
["2019-01-18",1903,"03",1]
["2019-01-19",1903,"03",1]
["2019-01-20",1903,"03",1]
["2019-01-21",1904,"04",1]
["2019-01-22",1904,"04",1]
["2019-01-23",1904,"04",1]
["2019-01-24",1904,"04",1]
["2019-01-25",1904,"04",1]
["2019-01-26",1904,"04",1]
["2019-01-27",1904,"04",1]
["2019-01-28",1905,"05",1]
["2019-01-29",1905,"05",1]
["2019-01-30",1905,"05",1]
["2019-01-31",1905,"05",1]
["2019-02-01",1905,"05",2]
["2019-02-02",1905,"05",2]
["2019-02-03",1905,"05",2]
["2019-02-04",1906,"06",2]
["2019-02-05",1906,"06",2]
["2019-02-06",1906,"06",2]
["2019-02-07",1906,"06",2]
["2019-02-08",1906,"06",2]
["2019-02-09",1906,"06",2]
["2019-02-10",1906,"06",2]
["2019-02-11",1907,{"$f":"RIGHT(B3663,2)","v":"07"},{"$f":"MONTH(A3663)","v":2}]
["2019-02-12",1907,"07",2]
["2019-02-13",1907,"07",2]
["2019-02-14",1907,"07",2]
["2019-02-15",1907,"07",2]
["2019-02-16",1907,"07",2]
["2019-02-17",1907,"07",2]
["2019-02-18",1908,"08",2]
["2019-02-19",1908,"08",2]
["2019-02-20",1908,"08",2]
["2019-02-21",1908,"08",2]
["2019-02-22",1908,"08",2]
["2019-02-23",1908,"08",2]
["2019-02-24",1908,"08",2]
["2019-02-25",1909,"09",2]
["2019-02-26",1909,"09",2]
["2019-02-27",1909,"09",2]
["2019-02-28",1909,"09",2]
["2019-03-01",1909,"09",3]
["2019-03-02",1909,"09",3]
["2019-03-03",1909,"09",3]
["2019-03-04",1910,"10",3]
["2019-03-05",1910,"10",3]
["2019-03-06",1910,"10",3]
["2019-03-07",1910,"10",3]
["2019-03-08",1910,"10",3]
["2019-03-09",1910,"10",3]
["2019-03-10",1910,"10",3]
["2019-03-11",1911,"11",3]
["2019-03-12",{"$f":"B3685+1","v":1911},"11",3]
["2019-03-13",1911,"11",3]
["2019-03-14",1911,"11",3]
["2019-03-15",1911,"11",3]
["2019-03-16",1911,"11",3]
["2019-03-17",1911,"11",3]
["2019-03-18",1912,"12",3]
["2019-03-19",1912,"12",3]
["2019-03-20",1912,"12",3]
["2019-03-21",1912,"12",3]
["2019-03-22",1912,"12",3]
["2019-03-23",1912,"12",3]
["2019-03-24",1912,"12",3]
["2019-03-25",1913,"13",3]
["2019-03-26",1913,"13",3]
["2019-03-27",1913,"13",3]
["2019-03-28",1913,"13",3]
["2019-03-29",1913,"13",3]
["2019-03-30",1913,"13",3]
["2019-03-31",1913,"13",3]
["2019-04-01",1914,"14",4]
["2019-04-02",1914,"14",4]
["2019-04-03",1914,"14",4]
["2019-04-04",1914,"14",4]
["2019-04-05",1914,"14",4]
["2019-04-06",1914,"14",4]
["2019-04-07",1914,"14",4]
["2019-04-08",1915,"15",4]
["2019-04-09",1915,"15",4]
["2019-04-10",1915,"15",4]
["2019-04-11",1915,"15",4]
["2019-04-12",1915,"15",4]
["2019-04-13",1915,"15",4]
["2019-04-14",1915,"15",4]
["2019-04-15",1916,"16",4]
["2019-04-16",1916,{"$f":"RIGHT(B3727,2)","v":"16"},{"$f":"MONTH(A3727)","v":4}]
["2019-04-17",1916,"16",4]
["2019-04-18",1916,"16",4]
["2019-04-19",1916,"16",4]
["2019-04-20",1916,"16",4]
["2019-04-21",1916,"16",4]
["2019-04-22",1917,"17",4]
["2019-04-23",1917,"17",4]
["2019-04-24",1917,"17",4]
["2019-04-25",1917,"17",4]
["2019-04-26",1917,"17",4]
["2019-04-27",1917,"17",4]
["2019-04-28",1917,"17",4]
["2019-04-29",1918,"18",4]
["2019-04-30",1918,"18",4]
["2019-05-01",1918,"18",5]
["2019-05-02",1918,"18",5]
["2019-05-03",1918,"18",5]
["2019-05-04",1918,"18",5]
["2019-05-05",1918,"18",5]
["2019-05-06",1919,"19",5]
["2019-05-07",1919,"19",5]
["2019-05-08",1919,"19",5]
["2019-05-09",1919,"19",5]
["2019-05-10",1919,"19",5]
["2019-05-11",1919,"19",5]
["2019-05-12",1919,"19",5]
["2019-05-13",1920,"20",5]
["2019-05-14",1920,"20",5]
["2019-05-15",{"$f":"B3749+1","v":1920},"20",5]
["2019-05-16",1920,"20",5]
["2019-05-17",1920,"20",5]
["2019-05-18",1920,"20",5]
["2019-05-19",1920,"20",5]
["2019-05-20",1921,"21",5]
["2019-05-21",1921,"21",5]
["2019-05-22",1921,"21",5]
["2019-05-23",1921,"21",5]
["2019-05-24",1921,"21",5]
["2019-05-25",1921,"21",5]
["2019-05-26",1921,"21",5]
["2019-05-27",1922,"22",5]
["2019-05-28",1922,"22",5]
["2019-05-29",1922,"22",5]
["2019-05-30",1922,"22",5]
["2019-05-31",1922,"22",5]
["2019-06-01",1922,"22",6]
["2019-06-02",1922,"22",6]
["2019-06-03",1923,"23",6]
["2019-06-04",1923,"23",6]
["2019-06-05",1923,"23",6]
["2019-06-06",1923,"23",6]
["2019-06-07",1923,"23",6]
["2019-06-08",1923,"23",6]
["2019-06-09",1923,"23",6]
["2019-06-10",1924,"24",6]
["2019-06-11",1924,"24",6]
["2019-06-12",1924,"24",6]
["2019-06-13",1924,"24",6]
["2019-06-14",1924,"24",6]
["2019-06-15",1924,"24",6]
["2019-06-16",1924,"24",6]
["2019-06-17",1925,"25",6]
["2019-06-18",1925,"25",6]
["2019-06-19",1925,{"$f":"RIGHT(B3791,2)","v":"25"},{"$f":"MONTH(A3791)","v":6}]
["2019-06-20",1925,"25",6]
["2019-06-21",1925,"25",6]
["2019-06-22",1925,"25",6]
["2019-06-23",1925,"25",6]
["2019-06-24",1926,"26",6]
["2019-06-25",1926,"26",6]
["2019-06-26",1926,"26",6]
["2019-06-27",1926,"26",6]
["2019-06-28",1926,"26",6]
["2019-06-29",1926,"26",6]
["2019-06-30",1926,"26",6]
["2019-07-01",1927,"27",7]
["2019-07-02",1927,"27",7]
["2019-07-03",1927,"27",7]
["2019-07-04",1927,"27",7]
["2019-07-05",1927,"27",7]
["2019-07-06",1927,"27",7]
["2019-07-07",1927,"27",7]
["2019-07-08",1928,"28",7]
["2019-07-09",1928,"28",7]
["2019-07-10",1928,"28",7]
["2019-07-11",1928,"28",7]
["2019-07-12",1928,"28",7]
["2019-07-13",1928,"28",7]
["2019-07-14",1928,"28",7]
["2019-07-15",1929,"29",7]
["2019-07-16",1929,"29",7]
["2019-07-17",1929,"29",7]
["2019-07-18",{"$f":"B3813+1","v":1929},"29",7]
["2019-07-19",1929,"29",7]
["2019-07-20",1929,"29",7]
["2019-07-21",1929,"29",7]
["2019-07-22",1930,"30",7]
["2019-07-23",1930,"30",7]
["2019-07-24",1930,"30",7]
["2019-07-25",1930,"30",7]
["2019-07-26",1930,"30",7]
["2019-07-27",1930,"30",7]
["2019-07-28",1930,"30",7]
["2019-07-29",1931,"31",7]
["2019-07-30",1931,"31",7]
["2019-07-31",1931,"31",7]
["2019-08-01",1931,"31",8]
["2019-08-02",1931,"31",8]
["2019-08-03",1931,"31",8]
["2019-08-04",1931,"31",8]
["2019-08-05",1932,"32",8]
["2019-08-06",1932,"32",8]
["2019-08-07",1932,"32",8]
["2019-08-08",1932,"32",8]
["2019-08-09",1932,"32",8]
["2019-08-10",1932,"32",8]
["2019-08-11",1932,"32",8]
["2019-08-12",1933,"33",8]
["2019-08-13",1933,"33",8]
["2019-08-14",1933,"33",8]
["2019-08-15",1933,"33",8]
["2019-08-16",1933,"33",8]
["2019-08-17",1933,"33",8]
["2019-08-18",1933,"33",8]
["2019-08-19",1934,"34",8]
["2019-08-20",1934,"34",8]
["2019-08-21",1934,"34",8]
["2019-08-22",1934,{"$f":"RIGHT(B3855,2)","v":"34"},{"$f":"MONTH(A3855)","v":8}]
["2019-08-23",1934,"34",8]
["2019-08-24",1934,"34",8]
["2019-08-25",1934,"34",8]
["2019-08-26",1935,"35",8]
["2019-08-27",1935,"35",8]
["2019-08-28",1935,"35",8]
["2019-08-29",1935,"35",8]
["2019-08-30",1935,"35",8]
["2019-08-31",1935,"35",8]
["2019-09-01",1935,"35",9]
["2019-09-02",1936,"36",9]
["2019-09-03",1936,"36",9]
["2019-09-04",1936,"36",9]
["2019-09-05",1936,"36",9]
["2019-09-06",1936,"36",9]
["2019-09-07",1936,"36",9]
["2019-09-08",1936,"36",9]
["2019-09-09",1937,"37",9]
["2019-09-10",1937,"37",9]
["2019-09-11",1937,"37",9]
["2019-09-12",1937,"37",9]
["2019-09-13",1937,"37",9]
["2019-09-14",1937,"37",9]
["2019-09-15",1937,"37",9]
["2019-09-16",1938,"38",9]
["2019-09-17",1938,"38",9]
["2019-09-18",1938,"38",9]
["2019-09-19",1938,"38",9]
["2019-09-20",{"$f":"B3877+1","v":1938},"38",9]
["2019-09-21",1938,"38",9]
["2019-09-22",1938,"38",9]
["2019-09-23",1939,"39",9]
["2019-09-24",1939,"39",9]
["2019-09-25",1939,"39",9]
["2019-09-26",1939,"39",9]
["2019-09-27",1939,"39",9]
["2019-09-28",1939,"39",9]
["2019-09-29",1939,"39",9]
["2019-09-30",1940,"40",9]
["2019-10-01",1940,"40",10]
["2019-10-02",1940,"40",10]
["2019-10-03",1940,"40",10]
["2019-10-04",1940,"40",10]
["2019-10-05",1940,"40",10]
["2019-10-06",1940,"40",10]
["2019-10-07",1941,"41",10]
["2019-10-08",1941,"41",10]
["2019-10-09",1941,"41",10]
["2019-10-10",1941,"41",10]
["2019-10-11",1941,"41",10]
["2019-10-12",1941,"41",10]
["2019-10-13",1941,"41",10]
["2019-10-14",1942,"42",10]
["2019-10-15",1942,"42",10]
["2019-10-16",1942,"42",10]
["2019-10-17",1942,"42",10]
["2019-10-18",1942,"42",10]
["2019-10-19",1942,"42",10]
["2019-10-20",1942,"42",10]
["2019-10-21",1943,"43",10]
["2019-10-22",1943,"43",10]
["2019-10-23",1943,"43",10]
["2019-10-24",1943,"43",10]
["2019-10-25",1943,{"$f":"RIGHT(B3919,2)","v":"43"},{"$f":"MONTH(A3919)","v":10}]
["2019-10-26",1943,"43",10]
["2019-10-27",1943,"43",10]
["2019-10-28",1944,"44",10]
["2019-10-29",1944,"44",10]
["2019-10-30",1944,"44",10]
["2019-10-31",1944,"44",10]
["2019-11-01",1944,"44",11]
["2019-11-02",1944,"44",11]
["2019-11-03",1944,"44",11]
["2019-11-04",1945,"45",11]
["2019-11-05",1945,"45",11]
["2019-11-06",1945,"45",11]
["2019-11-07",1945,"45",11]
["2019-11-08",1945,"45",11]
["2019-11-09",1945,"45",11]
["2019-11-10",1945,"45",11]
["2019-11-11",1946,"46",11]
["2019-11-12",1946,"46",11]
["2019-11-13",1946,"46",11]
["2019-11-14",1946,"46",11]
["2019-11-15",1946,"46",11]
["2019-11-16",1946,"46",11]
["2019-11-17",1946,"46",11]
["2019-11-18",1947,"47",11]
["2019-11-19",1947,"47",11]
["2019-11-20",1947,"47",11]
["2019-11-21",1947,"47",11]
["2019-11-22",1947,"47",11]
["2019-11-23",{"$f":"B3941+1","v":1947},"47",11]
["2019-11-24",1947,"47",11]
["2019-11-25",1948,"48",11]
["2019-11-26",1948,"48",11]
["2019-11-27",1948,"48",11]
["2019-11-28",1948,"48",11]
["2019-11-29",1948,"48",11]
["2019-11-30",1948,"48",11]
["2019-12-01",1948,"48",12]
["2019-12-02",1949,"49",12]
["2019-12-03",1949,"49",12]
["2019-12-04",1949,"49",12]
["2019-12-05",1949,"49",12]
["2019-12-06",1949,"49",12]
["2019-12-07",1949,"49",12]
["2019-12-08",1949,"49",12]
["2019-12-09",1950,"50",12]
["2019-12-10",1950,"50",12]
["2019-12-11",1950,"50",12]
["2019-12-12",1950,"50",12]
["2019-12-13",1950,"50",12]
["2019-12-14",1950,"50",12]
["2019-12-15",1950,"50",12]
["2019-12-16",1951,"51",12]
["2019-12-17",1951,"51",12]
["2019-12-18",1951,"51",12]
["2019-12-19",1951,"51",12]
["2019-12-20",1951,"51",12]
["2019-12-21",1951,"51",12]
["2019-12-22",1951,"51",12]
["2019-12-23",1952,"52",12]
["2019-12-24",1952,"52",12]
["2019-12-25",1952,"52",12]
["2019-12-26",1952,"52",12]
["2019-12-27",1952,"52",12]
["2019-12-28",1952,{"$f":"RIGHT(B3983,2)","v":"52"},{"$f":"MONTH(A3983)","v":12}]
["2019-12-29",1952,"52",12]
["2019-12-30",2001,"01",1]
["2019-12-31",2001,{"$f":"RIGHT(B3986,2)","v":"01"},1]
["2020-01-01",2001,"01",{"$f":"MONTH(A3987)","v":1}]
["2020-01-02",2001,"01",1]
["2020-01-03",2001,"01",1]
["2020-01-04",2001,"01",1]
["2020-01-05",2001,"01",1]
["2020-01-06",{"$f":"B3985+1","v":2002},{"$f":"RIGHT(B3992,2)","v":"02"},{"$f":"MONTH(A3992)","v":1}]
["2020-01-07",2002,{"$f":"RIGHT(B3993,2)","v":"02"},{"$f":"MONTH(A3993)","v":1}]
["2020-01-08",2002,"02",1]
["2020-01-09",2002,"02",1]
["2020-01-10",2002,"02",1]
["2020-01-11",2002,"02",1]
["2020-01-12",2002,"02",1]
["2020-01-13",2003,"03",1]
["2020-01-14",2003,"03",1]
["2020-01-15",2003,"03",1]
["2020-01-16",2003,"03",1]
["2020-01-17",2003,"03",1]
["2020-01-18",2003,"03",1]
["2020-01-19",2003,"03",1]
["2020-01-20",2004,"04",1]
["2020-01-21",2004,"04",1]
["2020-01-22",2004,"04",1]
["2020-01-23",2004,"04",1]
["2020-01-24",2004,"04",1]
["2020-01-25",2004,"04",1]
["2020-01-26",2004,"04",1]
["2020-01-27",2005,"05",1]
["2020-01-28",2005,"05",1]
["2020-01-29",2005,"05",1]
["2020-01-30",2005,"05",1]
["2020-01-31",2005,"05",1]
["2020-02-01",2005,"05",2]
["2020-02-02",2005,"05",2]
["2020-02-03",2006,"06",2]
["2020-02-04",2006,"06",2]
["2020-02-05",2006,"06",2]
["2020-02-06",2006,"06",2]
["2020-02-07",2006,"06",2]
["2020-02-08",2006,"06",2]
["2020-02-09",2006,"06",2]
["2020-02-10",2007,"07",2]
["2020-02-11",2007,"07",2]
["2020-02-12",2007,"07",2]
["2020-02-13",2007,"07",2]
["2020-02-14",2007,"07",2]
["2020-02-15",2007,"07",2]
["2020-02-16",2007,"07",2]
["2020-02-17",2008,"08",2]
["2020-02-18",2008,"08",2]
["2020-02-19",2008,"08",2]
["2020-02-20",2008,"08",2]
["2020-02-21",2008,"08",2]
["2020-02-22",2008,"08",2]
["2020-02-23",2008,"08",2]
["2020-02-24",2009,"09",2]
["2020-02-25",2009,"09",2]
["2020-02-26",2009,"09",2]
["2020-02-27",2009,"09",2]
["2020-02-28",2009,"09",2]
["2020-02-29",2009,"09",2]
["2020-03-01",2009,"09",3]
["2020-03-02",2010,"10",3]
["2020-03-03",2010,"10",3]
["2020-03-04",2010,"10",3]
["2020-03-05",2010,"10",3]
["2020-03-06",2010,"10",3]
["2020-03-07",2010,"10",3]
["2020-03-08",2010,{"$f":"RIGHT(B4054,2)","v":"10"},{"$f":"MONTH(A4054)","v":3}]
["2020-03-09",2011,"11",3]
["2020-03-10",{"$f":"B4049+1","v":2011},"11",3]
["2020-03-11",2011,"11",3]
["2020-03-12",2011,"11",3]
["2020-03-13",2011,"11",3]
["2020-03-14",2011,"11",3]
["2020-03-15",2011,"11",3]
["2020-03-16",2012,"12",3]
["2020-03-17",2012,"12",3]
["2020-03-18",2012,"12",3]
["2020-03-19",2012,"12",3]
["2020-03-20",2012,"12",3]
["2020-03-21",2012,"12",3]
["2020-03-22",2012,"12",3]
["2020-03-23",2013,"13",3]
["2020-03-24",2013,"13",3]
["2020-03-25",2013,"13",3]
["2020-03-26",2013,"13",3]
["2020-03-27",2013,"13",3]
["2020-03-28",2013,"13",3]
["2020-03-29",2013,"13",3]
["2020-03-30",2014,"14",3]
["2020-03-31",2014,"14",3]
["2020-04-01",2014,"14",4]
["2020-04-02",2014,"14",4]
["2020-04-03",2014,"14",4]
["2020-04-04",2014,"14",4]
["2020-04-05",2014,"14",4]
["2020-04-06",2015,"15",4]
["2020-04-07",2015,"15",4]
["2020-04-08",2015,"15",4]
["2020-04-09",2015,"15",4]
["2020-04-10",2015,"15",4]
["2020-04-11",2015,"15",4]
["2020-04-12",2015,"15",4]
["2020-04-13",2016,"16",4]
["2020-04-14",2016,"16",4]
["2020-04-15",2016,"16",4]
["2020-04-16",2016,"16",4]
["2020-04-17",2016,"16",4]
["2020-04-18",2016,"16",4]
["2020-04-19",2016,"16",4]
["2020-04-20",2017,"17",4]
["2020-04-21",2017,"17",4]
["2020-04-22",2017,"17",4]
["2020-04-23",2017,"17",4]
["2020-04-24",2017,"17",4]
["2020-04-25",2017,"17",4]
["2020-04-26",2017,"17",4]
["2020-04-27",2018,"18",4]
["2020-04-28",2018,"18",4]
["2020-04-29",2018,"18",4]
["2020-04-30",2018,"18",4]
["2020-05-01",2018,"18",5]
["2020-05-02",2018,"18",5]
["2020-05-03",2018,"18",5]
["2020-05-04",2019,"19",5]
["2020-05-05",2019,"19",5]
["2020-05-06",2019,"19",5]
["2020-05-07",2019,"19",5]
["2020-05-08",2019,"19",5]
["2020-05-09",2019,"19",5]
["2020-05-10",2019,"19",5]
["2020-05-11",2020,{"$f":"RIGHT(B4118,2)","v":"20"},{"$f":"MONTH(A4118)","v":5}]
["2020-05-12",2020,"20",5]
["2020-05-13",{"$f":"B4113+1","v":2020},"20",5]
["2020-05-14",2020,"20",5]
["2020-05-15",2020,"20",5]
["2020-05-16",2020,"20",5]
["2020-05-17",2020,"20",5]
["2020-05-18",2021,"21",5]
["2020-05-19",2021,"21",5]
["2020-05-20",2021,"21",5]
["2020-05-21",2021,"21",5]
["2020-05-22",2021,"21",5]
["2020-05-23",2021,"21",5]
["2020-05-24",2021,"21",5]
["2020-05-25",2022,"22",5]
["2020-05-26",2022,"22",5]
["2020-05-27",2022,"22",5]
["2020-05-28",2022,"22",5]
["2020-05-29",2022,"22",5]
["2020-05-30",2022,"22",5]
["2020-05-31",2022,"22",5]
["2020-06-01",2023,"23",6]
["2020-06-02",2023,"23",6]
["2020-06-03",2023,"23",6]
["2020-06-04",2023,"23",6]
["2020-06-05",2023,"23",6]
["2020-06-06",2023,"23",6]
["2020-06-07",2023,"23",6]
["2020-06-08",2024,"24",6]
["2020-06-09",2024,"24",6]
["2020-06-10",2024,"24",6]
["2020-06-11",2024,"24",6]
["2020-06-12",2024,"24",6]
["2020-06-13",2024,"24",6]
["2020-06-14",2024,"24",6]
["2020-06-15",2025,"25",6]
["2020-06-16",2025,"25",6]
["2020-06-17",2025,"25",6]
["2020-06-18",2025,"25",6]
["2020-06-19",2025,"25",6]
["2020-06-20",2025,"25",6]
["2020-06-21",2025,"25",6]
["2020-06-22",2026,"26",6]
["2020-06-23",2026,"26",6]
["2020-06-24",2026,"26",6]
["2020-06-25",2026,"26",6]
["2020-06-26",2026,"26",6]
["2020-06-27",2026,"26",6]
["2020-06-28",2026,"26",6]
["2020-06-29",2027,"27",6]
["2020-06-30",2027,"27",6]
["2020-07-01",2027,"27",7]
["2020-07-02",2027,"27",7]
["2020-07-03",2027,"27",7]
["2020-07-04",2027,"27",7]
["2020-07-05",2027,"27",7]
["2020-07-06",2028,"28",7]
["2020-07-07",2028,"28",7]
["2020-07-08",2028,"28",7]
["2020-07-09",2028,"28",7]
["2020-07-10",2028,"28",7]
["2020-07-11",2028,"28",7]
["2020-07-12",2028,"28",7]
["2020-07-13",2029,"29",7]
["2020-07-14",2029,{"$f":"RIGHT(B4182,2)","v":"29"},{"$f":"MONTH(A4182)","v":7}]
["2020-07-15",2029,"29",7]
["2020-07-16",{"$f":"B4177+1","v":2029},"29",7]
["2020-07-17",2029,"29",7]
["2020-07-18",2029,"29",7]
["2020-07-19",2029,"29",7]
["2020-07-20",2030,"30",7]
["2020-07-21",2030,"30",7]
["2020-07-22",2030,"30",7]
["2020-07-23",2030,"30",7]
["2020-07-24",2030,"30",7]
["2020-07-25",2030,"30",7]
["2020-07-26",2030,"30",7]
["2020-07-27",2031,"31",7]
["2020-07-28",2031,"31",7]
["2020-07-29",2031,"31",7]
["2020-07-30",2031,"31",7]
["2020-07-31",2031,"31",7]
["2020-08-01",2031,"31",8]
["2020-08-02",2031,"31",8]
["2020-08-03",2032,"32",8]
["2020-08-04",2032,"32",8]
["2020-08-05",2032,"32",8]
["2020-08-06",2032,"32",8]
["2020-08-07",2032,"32",8]
["2020-08-08",2032,"32",8]
["2020-08-09",2032,"32",8]
["2020-08-10",2033,"33",8]
["2020-08-11",2033,"33",8]
["2020-08-12",2033,"33",8]
["2020-08-13",2033,"33",8]
["2020-08-14",2033,"33",8]
["2020-08-15",2033,"33",8]
["2020-08-16",2033,"33",8]
["2020-08-17",2034,"34",8]
["2020-08-18",2034,"34",8]
["2020-08-19",2034,"34",8]
["2020-08-20",2034,"34",8]
["2020-08-21",2034,"34",8]
["2020-08-22",2034,"34",8]
["2020-08-23",2034,"34",8]
["2020-08-24",2035,"35",8]
["2020-08-25",2035,"35",8]
["2020-08-26",2035,"35",8]
["2020-08-27",2035,"35",8]
["2020-08-28",2035,"35",8]
["2020-08-29",2035,"35",8]
["2020-08-30",2035,"35",8]
["2020-08-31",2036,"36",8]
["2020-09-01",2036,"36",9]
["2020-09-02",2036,"36",9]
["2020-09-03",2036,"36",9]
["2020-09-04",2036,"36",9]
["2020-09-05",2036,"36",9]
["2020-09-06",2036,"36",9]
["2020-09-07",2037,"37",9]
["2020-09-08",2037,"37",9]
["2020-09-09",2037,"37",9]
["2020-09-10",2037,"37",9]
["2020-09-11",2037,"37",9]
["2020-09-12",2037,"37",9]
["2020-09-13",2037,"37",9]
["2020-09-14",2038,"38",9]
["2020-09-15",2038,"38",9]
["2020-09-16",2038,{"$f":"RIGHT(B4246,2)","v":"38"},{"$f":"MONTH(A4246)","v":9}]
["2020-09-17",2038,"38",9]
["2020-09-18",{"$f":"B4241+1","v":2038},"38",9]
["2020-09-19",2038,"38",9]
["2020-09-20",2038,"38",9]
["2020-09-21",2039,"39",9]
["2020-09-22",2039,"39",9]
["2020-09-23",2039,"39",9]
["2020-09-24",2039,"39",9]
["2020-09-25",2039,"39",9]
["2020-09-26",2039,"39",9]
["2020-09-27",2039,"39",9]
["2020-09-28",2040,"40",9]
["2020-09-29",2040,"40",9]
["2020-09-30",2040,"40",9]
["2020-10-01",2040,"40",10]
["2020-10-02",2040,"40",10]
["2020-10-03",2040,"40",10]
["2020-10-04",2040,"40",10]
["2020-10-05",2041,"41",10]
["2020-10-06",2041,"41",10]
["2020-10-07",2041,"41",10]
["2020-10-08",2041,"41",10]
["2020-10-09",2041,"41",10]
["2020-10-10",2041,"41",10]
["2020-10-11",2041,"41",10]
["2020-10-12",2042,"42",10]
["2020-10-13",2042,"42",10]
["2020-10-14",2042,"42",10]
["2020-10-15",2042,"42",10]
["2020-10-16",2042,"42",10]
["2020-10-17",2042,"42",10]
["2020-10-18",2042,"42",10]
["2020-10-19",2043,"43",10]
["2020-10-20",2043,"43",10]
["2020-10-21",2043,"43",10]
["2020-10-22",2043,"43",10]
["2020-10-23",2043,"43",10]
["2020-10-24",2043,"43",10]
["2020-10-25",2043,"43",10]
["2020-10-26",2044,"44",10]
["2020-10-27",2044,"44",10]
["2020-10-28",2044,"44",10]
["2020-10-29",2044,"44",10]
["2020-10-30",2044,"44",10]
["2020-10-31",2044,"44",10]
["2020-11-01",2044,"44",11]
["2020-11-02",2045,"45",11]
["2020-11-03",2045,"45",11]
["2020-11-04",2045,"45",11]
["2020-11-05",2045,"45",11]
["2020-11-06",2045,"45",11]
["2020-11-07",2045,"45",11]
["2020-11-08",2045,"45",11]
["2020-11-09",2046,"46",11]
["2020-11-10",2046,"46",11]
["2020-11-11",2046,"46",11]
["2020-11-12",2046,"46",11]
["2020-11-13",2046,"46",11]
["2020-11-14",2046,"46",11]
["2020-11-15",2046,"46",11]
["2020-11-16",2047,"47",11]
["2020-11-17",2047,"47",11]
["2020-11-18",2047,"47",11]
["2020-11-19",2047,{"$f":"RIGHT(B4310,2)","v":"47"},{"$f":"MONTH(A4310)","v":11}]
["2020-11-20",2047,"47",11]
["2020-11-21",{"$f":"B4305+1","v":2047},"47",11]
["2020-11-22",2047,"47",11]
["2020-11-23",2048,"48",11]
["2020-11-24",2048,"48",11]
["2020-11-25",2048,"48",11]
["2020-11-26",2048,"48",11]
["2020-11-27",2048,"48",11]
["2020-11-28",2048,"48",11]
["2020-11-29",2048,"48",11]
["2020-11-30",2049,"49",11]
["2020-12-01",2049,"49",12]
["2020-12-02",2049,"49",12]
["2020-12-03",2049,"49",12]
["2020-12-04",2049,"49",12]
["2020-12-05",2049,"49",12]
["2020-12-06",2049,"49",12]
["2020-12-07",2050,"50",12]
["2020-12-08",2050,"50",12]
["2020-12-09",2050,"50",12]
["2020-12-10",2050,"50",12]
["2020-12-11",2050,"50",12]
["2020-12-12",2050,"50",12]
["2020-12-13",2050,"50",12]
["2020-12-14",2051,"51",12]
["2020-12-15",2051,"51",12]
["2020-12-16",2051,"51",12]
["2020-12-17",2051,"51",12]
["2020-12-18",2051,"51",12]
["2020-12-19",2051,"51",12]
["2020-12-20",2051,"51",12]
["2020-12-21",2052,"52",12]
["2020-12-22",2052,"52",12]
["2020-12-23",2052,"52",12]
["2020-12-24",2052,"52",12]
["2020-12-25",2052,"52",12]
["2020-12-26",2052,"52",12]
["2020-12-27",2052,"52",12]
["2020-12-28",2053,"53",12]
["2020-12-29",2053,"53",12]
["2020-12-30",2053,"53",12]
["2020-12-31",2053,"53",12]
["2021-01-01",2053,"53",1]
["2021-01-02",2053,{"$f":"RIGHT(B4354,2)","v":"53"},{"$f":"MONTH(A4354)","v":1}]
["2021-01-03",2053,"53",1]
["2021-01-04",2101,{"$f":"RIGHT(B4356,2)","v":"01"},{"$f":"MONTH(A4356)","v":1}]
["2021-01-05",2101,"01",1]
["2021-01-06",2101,"01",1]
["2021-01-07",2101,"01",1]
["2021-01-08",2101,"01",1]
["2021-01-09",2101,"01",1]
["2021-01-10",2101,"01",1]
["2021-01-11",{"$f":"B4356+1","v":2102},"02",1]
["2021-01-12",{"$f":"B4357+1","v":2102},"02",1]
["2021-01-13",2102,"02",1]
["2021-01-14",2102,"02",1]
["2021-01-15",2102,"02",1]
["2021-01-16",2102,"02",1]
["2021-01-17",2102,"02",1]
["2021-01-18",2103,"03",1]
["2021-01-19",2103,"03",1]
["2021-01-20",2103,"03",1]
["2021-01-21",2103,"03",1]
["2021-01-22",2103,"03",1]
["2021-01-23",2103,"03",1]
["2021-01-24",2103,"03",1]
["2021-01-25",2104,"04",1]
["2021-01-26",2104,"04",1]
["2021-01-27",2104,"04",1]
["2021-01-28",2104,"04",1]
["2021-01-29",2104,"04",1]
["2021-01-30",2104,"04",1]
["2021-01-31",2104,"04",1]
["2021-02-01",2105,"05",2]
["2021-02-02",2105,"05",2]
["2021-02-03",2105,"05",2]
["2021-02-04",2105,"05",2]
["2021-02-05",2105,"05",2]
["2021-02-06",2105,"05",2]
["2021-02-07",2105,"05",2]
["2021-02-08",2106,"06",2]
["2021-02-09",2106,"06",2]
["2021-02-10",2106,"06",2]
["2021-02-11",2106,"06",2]
["2021-02-12",2106,"06",2]
["2021-02-13",2106,"06",2]
["2021-02-14",2106,"06",2]
["2021-02-15",2107,"07",2]
["2021-02-16",2107,"07",2]
["2021-02-17",2107,"07",2]
["2021-02-18",2107,"07",2]
["2021-02-19",2107,"07",2]
["2021-02-20",2107,"07",2]
["2021-02-21",2107,"07",2]
["2021-02-22",2108,"08",2]
["2021-02-23",2108,"08",2]
["2021-02-24",2108,"08",2]
["2021-02-25",2108,"08",2]
["2021-02-26",2108,"08",2]
["2021-02-27",2108,"08",2]
["2021-02-28",2108,"08",2]
["2021-03-01",2109,"09",3]
["2021-03-02",2109,"09",3]
["2021-03-03",2109,"09",3]
["2021-03-04",2109,"09",3]
["2021-03-05",2109,"09",3]
["2021-03-06",2109,"09",3]
["2021-03-07",2109,"09",3]
["2021-03-08",2110,"10",3]
["2021-03-09",2110,{"$f":"RIGHT(B4420,2)","v":"10"},{"$f":"MONTH(A4420)","v":3}]
["2021-03-10",2110,"10",3]
["2021-03-11",2110,"10",3]
["2021-03-12",2110,"10",3]
["2021-03-13",2110,"10",3]
["2021-03-14",2110,"10",3]
["2021-03-15",2111,"11",3]
["2021-03-16",2111,"11",3]
["2021-03-17",{"$f":"B4421+1","v":2111},"11",3]
["2021-03-18",2111,"11",3]
["2021-03-19",2111,"11",3]
["2021-03-20",2111,"11",3]
["2021-03-21",2111,"11",3]
["2021-03-22",2112,"12",3]
["2021-03-23",2112,"12",3]
["2021-03-24",2112,"12",3]
["2021-03-25",2112,"12",3]
["2021-03-26",2112,"12",3]
["2021-03-27",2112,"12",3]
["2021-03-28",2112,"12",3]
["2021-03-29",2113,"13",3]
["2021-03-30",2113,"13",3]
["2021-03-31",2113,"13",3]
["2021-04-01",2113,"13",4]
["2021-04-02",2113,"13",4]
["2021-04-03",2113,"13",4]
["2021-04-04",2113,"13",4]
["2021-04-05",2114,"14",4]
["2021-04-06",2114,"14",4]
["2021-04-07",2114,"14",4]
["2021-04-08",2114,"14",4]
["2021-04-09",2114,"14",4]
["2021-04-10",2114,"14",4]
["2021-04-11",2114,"14",4]
["2021-04-12",2115,"15",4]
["2021-04-13",2115,"15",4]
["2021-04-14",2115,"15",4]
["2021-04-15",2115,"15",4]
["2021-04-16",2115,"15",4]
["2021-04-17",2115,"15",4]
["2021-04-18",2115,"15",4]
["2021-04-19",2116,"16",4]
["2021-04-20",2116,"16",4]
["2021-04-21",2116,"16",4]
["2021-04-22",2116,"16",4]
["2021-04-23",2116,"16",4]
["2021-04-24",2116,"16",4]
["2021-04-25",2116,"16",4]
["2021-04-26",2117,"17",4]
["2021-04-27",2117,"17",4]
["2021-04-28",2117,"17",4]
["2021-04-29",2117,"17",4]
["2021-04-30",2117,"17",4]
["2021-05-01",2117,"17",5]
["2021-05-02",2117,"17",5]
["2021-05-03",2118,"18",5]
["2021-05-04",2118,"18",5]
["2021-05-05",2118,"18",5]
["2021-05-06",2118,"18",5]
["2021-05-07",2118,"18",5]
["2021-05-08",2118,"18",5]
["2021-05-09",2118,"18",5]
["2021-05-10",2119,"19",5]
["2021-05-11",2119,"19",5]
["2021-05-12",2119,{"$f":"RIGHT(B4484,2)","v":"19"},{"$f":"MONTH(A4484)","v":5}]
["2021-05-13",2119,"19",5]
["2021-05-14",2119,"19",5]
["2021-05-15",2119,"19",5]
["2021-05-16",2119,"19",5]
["2021-05-17",2120,"20",5]
["2021-05-18",2120,"20",5]
["2021-05-19",2120,"20",5]
["2021-05-20",{"$f":"B4485+1","v":2120},"20",5]
["2021-05-21",2120,"20",5]
["2021-05-22",2120,"20",5]
["2021-05-23",2120,"20",5]
["2021-05-24",2121,"21",5]
["2021-05-25",2121,"21",5]
["2021-05-26",2121,"21",5]
["2021-05-27",2121,"21",5]
["2021-05-28",2121,"21",5]
["2021-05-29",2121,"21",5]
["2021-05-30",2121,"21",5]
["2021-05-31",2122,"22",5]
["2021-06-01",2122,"22",6]
["2021-06-02",2122,"22",6]
["2021-06-03",2122,"22",6]
["2021-06-04",2122,"22",6]
["2021-06-05",2122,"22",6]
["2021-06-06",2122,"22",6]
["2021-06-07",2123,"23",6]
["2021-06-08",2123,"23",6]
["2021-06-09",2123,"23",6]
["2021-06-10",2123,"23",6]
["2021-06-11",2123,"23",6]
["2021-06-12",2123,"23",6]
["2021-06-13",2123,"23",6]
["2021-06-14",2124,"24",6]
["2021-06-15",2124,"24",6]
["2021-06-16",2124,"24",6]
["2021-06-17",2124,"24",6]
["2021-06-18",2124,"24",6]
["2021-06-19",2124,"24",6]
["2021-06-20",2124,"24",6]
["2021-06-21",2125,"25",6]
["2021-06-22",2125,"25",6]
["2021-06-23",2125,"25",6]
["2021-06-24",2125,"25",6]
["2021-06-25",2125,"25",6]
["2021-06-26",2125,"25",6]
["2021-06-27",2125,"25",6]
["2021-06-28",2126,"26",6]
["2021-06-29",2126,"26",6]
["2021-06-30",2126,"26",6]
["2021-07-01",2126,"26",7]
["2021-07-02",2126,"26",7]
["2021-07-03",2126,"26",7]
["2021-07-04",2126,"26",7]
["2021-07-05",2127,"27",7]
["2021-07-06",2127,"27",7]
["2021-07-07",2127,"27",7]
["2021-07-08",2127,"27",7]
["2021-07-09",2127,"27",7]
["2021-07-10",2127,"27",7]
["2021-07-11",2127,"27",7]
["2021-07-12",2128,"28",7]
["2021-07-13",2128,"28",7]
["2021-07-14",2128,"28",7]
["2021-07-15",2128,{"$f":"RIGHT(B4548,2)","v":"28"},{"$f":"MONTH(A4548)","v":7}]
["2021-07-16",2128,"28",7]
["2021-07-17",2128,"28",7]
["2021-07-18",2128,"28",7]
["2021-07-19",2129,"29",7]
["2021-07-20",2129,"29",7]
["2021-07-21",2129,"29",7]
["2021-07-22",2129,"29",7]
["2021-07-23",{"$f":"B4549+1","v":2129},"29",7]
["2021-07-24",2129,"29",7]
["2021-07-25",2129,"29",7]
["2021-07-26",2130,"30",7]
["2021-07-27",2130,"30",7]
["2021-07-28",2130,"30",7]
["2021-07-29",2130,"30",7]
["2021-07-30",2130,"30",7]
["2021-07-31",2130,"30",7]
["2021-08-01",2130,"30",8]
["2021-08-02",2131,"31",8]
["2021-08-03",2131,"31",8]
["2021-08-04",2131,"31",8]
["2021-08-05",2131,"31",8]
["2021-08-06",2131,"31",8]
["2021-08-07",2131,"31",8]
["2021-08-08",2131,"31",8]
["2021-08-09",2132,"32",8]
["2021-08-10",2132,"32",8]
["2021-08-11",2132,"32",8]
["2021-08-12",2132,"32",8]
["2021-08-13",2132,"32",8]
["2021-08-14",2132,"32",8]
["2021-08-15",2132,"32",8]
["2021-08-16",2133,"33",8]
["2021-08-17",2133,"33",8]
["2021-08-18",2133,"33",8]
["2021-08-19",2133,"33",8]
["2021-08-20",2133,"33",8]
["2021-08-21",2133,"33",8]
["2021-08-22",2133,"33",8]
["2021-08-23",2134,"34",8]
["2021-08-24",2134,"34",8]
["2021-08-25",2134,"34",8]
["2021-08-26",2134,"34",8]
["2021-08-27",2134,"34",8]
["2021-08-28",2134,"34",8]
["2021-08-29",2134,"34",8]
["2021-08-30",2135,"35",8]
["2021-08-31",2135,"35",8]
["2021-09-01",2135,"35",9]
["2021-09-02",2135,"35",9]
["2021-09-03",2135,"35",9]
["2021-09-04",2135,"35",9]
["2021-09-05",2135,"35",9]
["2021-09-06",2136,"36",9]
["2021-09-07",2136,"36",9]
["2021-09-08",2136,"36",9]
["2021-09-09",2136,"36",9]
["2021-09-10",2136,"36",9]
["2021-09-11",2136,"36",9]
["2021-09-12",2136,"36",9]
["2021-09-13",2137,"37",9]
["2021-09-14",2137,"37",9]
["2021-09-15",2137,"37",9]
["2021-09-16",2137,"37",9]
["2021-09-17",2137,{"$f":"RIGHT(B4612,2)","v":"37"},{"$f":"MONTH(A4612)","v":9}]
["2021-09-18",2137,"37",9]
["2021-09-19",2137,"37",9]
["2021-09-20",2138,"38",9]
["2021-09-21",2138,"38",9]
["2021-09-22",2138,"38",9]
["2021-09-23",2138,"38",9]
["2021-09-24",2138,"38",9]
["2021-09-25",{"$f":"B4613+1","v":2138},"38",9]
["2021-09-26",2138,"38",9]
["2021-09-27",2139,"39",9]
["2021-09-28",2139,"39",9]
["2021-09-29",2139,"39",9]
["2021-09-30",2139,"39",9]
["2021-10-01",2139,"39",10]
["2021-10-02",2139,"39",10]
["2021-10-03",2139,"39",10]
["2021-10-04",2140,"40",10]
["2021-10-05",2140,"40",10]
["2021-10-06",2140,"40",10]
["2021-10-07",2140,"40",10]
["2021-10-08",2140,"40",10]
["2021-10-09",2140,"40",10]
["2021-10-10",2140,"40",10]
["2021-10-11",2141,"41",10]
["2021-10-12",2141,"41",10]
["2021-10-13",2141,"41",10]
["2021-10-14",2141,"41",10]
["2021-10-15",2141,"41",10]
["2021-10-16",2141,"41",10]
["2021-10-17",2141,"41",10]
["2021-10-18",2142,"42",10]
["2021-10-19",2142,"42",10]
["2021-10-20",2142,"42",10]
["2021-10-21",2142,"42",10]
["2021-10-22",2142,"42",10]
["2021-10-23",2142,"42",10]
["2021-10-24",2142,"42",10]
["2021-10-25",2143,"43",10]
["2021-10-26",2143,"43",10]
["2021-10-27",2143,"43",10]
["2021-10-28",2143,"43",10]
["2021-10-29",2143,"43",10]
["2021-10-30",2143,"43",10]
["2021-10-31",2143,"43",10]
["2021-11-01",2144,"44",11]
["2021-11-02",2144,"44",11]
["2021-11-03",2144,"44",11]
["2021-11-04",2144,"44",11]
["2021-11-05",2144,"44",11]
["2021-11-06",2144,"44",11]
["2021-11-07",2144,"44",11]
["2021-11-08",2145,"45",11]
["2021-11-09",2145,"45",11]
["2021-11-10",2145,"45",11]
["2021-11-11",2145,"45",11]
["2021-11-12",2145,"45",11]
["2021-11-13",2145,"45",11]
["2021-11-14",2145,"45",11]
["2021-11-15",2146,"46",11]
["2021-11-16",2146,"46",11]
["2021-11-17",2146,"46",11]
["2021-11-18",2146,"46",11]
["2021-11-19",2146,"46",11]
["2021-11-20",2146,{"$f":"RIGHT(B4676,2)","v":"46"},{"$f":"MONTH(A4676)","v":11}]
["2021-11-21",2146,"46",11]
["2021-11-22",2147,"47",11]
["2021-11-23",2147,"47",11]
["2021-11-24",2147,"47",11]
["2021-11-25",2147,"47",11]
["2021-11-26",2147,"47",11]
["2021-11-27",2147,"47",11]
["2021-11-28",{"$f":"B4677+1","v":2147},"47",11]
["2021-11-29",2148,"48",11]
["2021-11-30",2148,"48",11]
["2021-12-01",2148,"48",12]
["2021-12-02",2148,"48",12]
["2021-12-03",2148,"48",12]
["2021-12-04",2148,"48",12]
["2021-12-05",2148,"48",12]
["2021-12-06",2149,"49",12]
["2021-12-07",2149,"49",12]
["2021-12-08",2149,"49",12]
["2021-12-09",2149,"49",12]
["2021-12-10",2149,"49",12]
["2021-12-11",2149,"49",12]
["2021-12-12",2149,"49",12]
["2021-12-13",2150,"50",12]
["2021-12-14",2150,"50",12]
["2021-12-15",2150,"50",12]
["2021-12-16",2150,"50",12]
["2021-12-17",2150,"50",12]
["2021-12-18",2150,"50",12]
["2021-12-19",2150,"50",12]
["2021-12-20",2151,"51",12]
["2021-12-21",2151,"51",12]
["2021-12-22",2151,"51",12]
["2021-12-23",2151,"51",12]
["2021-12-24",2151,"51",12]
["2021-12-25",2151,"51",12]
["2021-12-26",2151,"51",12]
["2021-12-27",2152,"52",12]
["2021-12-28",2152,"52",12]
["2021-12-29",2152,"52",12]
["2021-12-30",2152,"52",12]
["2021-12-31",2152,"52",12]
["2022-01-01",2152,"52",1]
["2022-01-02",2152,"52",1]
["2022-01-03",2201,"01",1]
["2022-01-04",2201,"01",1]
["2022-01-05",2201,"01",1]
["2022-01-06",2201,"01",1]
["2022-01-07",2201,"01",1]
["2022-01-08",2201,"01",1]
["2022-01-09",2201,"01",1]
["2022-01-10",{"$f":"B4720+1","v":2202},"02",1]
["2022-01-11",{"$f":"B4721+1","v":2202},"02",1]
["2022-01-12",2202,"02",1]
["2022-01-13",2202,"02",1]
["2022-01-14",2202,"02",1]
["2022-01-15",2202,"02",1]
["2022-01-16",2202,"02",1]
["2022-01-17",2203,"03",1]
["2022-01-18",2203,"03",1]
["2022-01-19",2203,"03",1]
["2022-01-20",2203,"03",1]
["2022-01-21",2203,"03",1]
["2022-01-22",2203,"03",1]
["2022-01-23",2203,{"$f":"RIGHT(B4740,2)","v":"03"},{"$f":"MONTH(A4740)","v":1}]
["2022-01-24",2204,"04",1]
["2022-01-25",2204,"04",1]
["2022-01-26",2204,"04",1]
["2022-01-27",2204,"04",1]
["2022-01-28",2204,"04",1]
["2022-01-29",2204,"04",1]
["2022-01-30",2204,"04",1]
["2022-01-31",2205,"05",1]
["2022-02-01",2205,"05",2]
["2022-02-02",2205,"05",2]
["2022-02-03",2205,"05",2]
["2022-02-04",2205,"05",2]
["2022-02-05",2205,"05",2]
["2022-02-06",2205,"05",2]
["2022-02-07",2206,"06",2]
["2022-02-08",2206,"06",2]
["2022-02-09",2206,"06",2]
["2022-02-10",2206,"06",2]
["2022-02-11",2206,"06",2]
["2022-02-12",2206,"06",2]
["2022-02-13",2206,"06",2]
["2022-02-14",2207,"07",2]
["2022-02-15",2207,"07",2]
["2022-02-16",2207,"07",2]
["2022-02-17",2207,"07",2]
["2022-02-18",2207,"07",2]
["2022-02-19",2207,"07",2]
["2022-02-20",2207,"07",2]
["2022-02-21",2208,"08",2]
["2022-02-22",2208,"08",2]
["2022-02-23",2208,"08",2]
["2022-02-24",2208,"08",2]
["2022-02-25",2208,"08",2]
["2022-02-26",2208,"08",2]
["2022-02-27",2208,"08",2]
["2022-02-28",2209,"09",2]
["2022-03-01",2209,"09",3]
["2022-03-02",2209,"09",3]
["2022-03-03",2209,"09",3]
["2022-03-04",2209,"09",3]
["2022-03-05",2209,"09",3]
["2022-03-06",2209,"09",3]
["2022-03-07",2210,"10",3]
["2022-03-08",2210,"10",3]
["2022-03-09",2210,"10",3]
["2022-03-10",2210,"10",3]
["2022-03-11",2210,"10",3]
["2022-03-12",2210,"10",3]
["2022-03-13",2210,"10",3]
["2022-03-14",2211,"11",3]
["2022-03-15",2211,"11",3]
["2022-03-16",{"$f":"B4785+1","v":2211},"11",3]
["2022-03-17",2211,"11",3]
["2022-03-18",2211,"11",3]
["2022-03-19",2211,"11",3]
["2022-03-20",2211,"11",3]
["2022-03-21",2212,"12",3]
["2022-03-22",2212,"12",3]
["2022-03-23",2212,"12",3]
["2022-03-24",2212,"12",3]
["2022-03-25",2212,"12",3]
["2022-03-26",2212,"12",3]
["2022-03-27",2212,"12",3]
["2022-03-28",2213,{"$f":"RIGHT(B4804,2)","v":"13"},{"$f":"MONTH(A4804)","v":3}]
["2022-03-29",2213,"13",3]
["2022-03-30",2213,"13",3]
["2022-03-31",2213,"13",3]
["2022-04-01",2213,"13",4]
["2022-04-02",2213,"13",4]
["2022-04-03",2213,"13",4]
["2022-04-04",2214,"14",4]
["2022-04-05",2214,"14",4]
["2022-04-06",2214,"14",4]
["2022-04-07",2214,"14",4]
["2022-04-08",2214,"14",4]
["2022-04-09",2214,"14",4]
["2022-04-10",2214,"14",4]
["2022-04-11",2215,"15",4]
["2022-04-12",2215,"15",4]
["2022-04-13",2215,"15",4]
["2022-04-14",2215,"15",4]
["2022-04-15",2215,"15",4]
["2022-04-16",2215,"15",4]
["2022-04-17",2215,"15",4]
["2022-04-18",2216,"16",4]
["2022-04-19",2216,"16",4]
["2022-04-20",2216,"16",4]
["2022-04-21",2216,"16",4]
["2022-04-22",2216,"16",4]
["2022-04-23",2216,"16",4]
["2022-04-24",2216,"16",4]
["2022-04-25",2217,"17",4]
["2022-04-26",2217,"17",4]
["2022-04-27",2217,"17",4]
["2022-04-28",2217,"17",4]
["2022-04-29",2217,"17",4]
["2022-04-30",2217,"17",4]
["2022-05-01",2217,"17",5]
["2022-05-02",2218,"18",5]
["2022-05-03",2218,"18",5]
["2022-05-04",2218,"18",5]
["2022-05-05",2218,"18",5]
["2022-05-06",2218,"18",5]
["2022-05-07",2218,"18",5]
["2022-05-08",2218,"18",5]
["2022-05-09",2219,"19",5]
["2022-05-10",2219,"19",5]
["2022-05-11",2219,"19",5]
["2022-05-12",2219,"19",5]
["2022-05-13",2219,"19",5]
["2022-05-14",2219,"19",5]
["2022-05-15",2219,"19",5]
["2022-05-16",2220,"20",5]
["2022-05-17",2220,"20",5]
["2022-05-18",2220,"20",5]
["2022-05-19",{"$f":"B4849+1","v":2220},"20",5]
["2022-05-20",2220,"20",5]
["2022-05-21",2220,"20",5]
["2022-05-22",2220,"20",5]
["2022-05-23",2221,"21",5]
["2022-05-24",2221,"21",5]
["2022-05-25",2221,"21",5]
["2022-05-26",2221,"21",5]
["2022-05-27",2221,"21",5]
["2022-05-28",2221,"21",5]
["2022-05-29",2221,"21",5]
["2022-05-30",2222,"22",5]
["2022-05-31",2222,{"$f":"RIGHT(B4868,2)","v":"22"},{"$f":"MONTH(A4868)","v":5}]
["2022-06-01",2222,"22",6]
["2022-06-02",2222,"22",6]
["2022-06-03",2222,"22",6]
["2022-06-04",2222,"22",6]
["2022-06-05",2222,"22",6]
["2022-06-06",2223,"23",6]
["2022-06-07",2223,"23",6]
["2022-06-08",2223,"23",6]
["2022-06-09",2223,"23",6]
["2022-06-10",2223,"23",6]
["2022-06-11",2223,"23",6]
["2022-06-12",2223,"23",6]
["2022-06-13",2224,"24",6]
["2022-06-14",2224,"24",6]
["2022-06-15",2224,"24",6]
["2022-06-16",2224,"24",6]
["2022-06-17",2224,"24",6]
["2022-06-18",2224,"24",6]
["2022-06-19",2224,"24",6]
["2022-06-20",2225,"25",6]
["2022-06-21",2225,"25",6]
["2022-06-22",2225,"25",6]
["2022-06-23",2225,"25",6]
["2022-06-24",2225,"25",6]
["2022-06-25",2225,"25",6]
["2022-06-26",2225,"25",6]
["2022-06-27",2226,"26",6]
["2022-06-28",2226,"26",6]
["2022-06-29",2226,"26",6]
["2022-06-30",2226,"26",6]
["2022-07-01",2226,"26",7]
["2022-07-02",2226,"26",7]
["2022-07-03",2226,"26",7]
["2022-07-04",2227,"27",7]
["2022-07-05",2227,"27",7]
["2022-07-06",2227,"27",7]
["2022-07-07",2227,"27",7]
["2022-07-08",2227,"27",7]
["2022-07-09",2227,"27",7]
["2022-07-10",2227,"27",7]
["2022-07-11",2228,"28",7]
["2022-07-12",2228,"28",7]
["2022-07-13",2228,"28",7]
["2022-07-14",2228,"28",7]
["2022-07-15",2228,"28",7]
["2022-07-16",2228,"28",7]
["2022-07-17",2228,"28",7]
["2022-07-18",2229,"29",7]
["2022-07-19",2229,"29",7]
["2022-07-20",2229,"29",7]
["2022-07-21",2229,"29",7]
["2022-07-22",{"$f":"B4913+1","v":2229},"29",7]
["2022-07-23",2229,"29",7]
["2022-07-24",2229,"29",7]
["2022-07-25",2230,"30",7]
["2022-07-26",2230,"30",7]
["2022-07-27",2230,"30",7]
["2022-07-28",2230,"30",7]
["2022-07-29",2230,"30",7]
["2022-07-30",2230,"30",7]
["2022-07-31",2230,"30",7]
["2022-08-01",2231,"31",8]
["2022-08-02",2231,"31",8]
["2022-08-03",2231,{"$f":"RIGHT(B4932,2)","v":"31"},{"$f":"MONTH(A4932)","v":8}]
["2022-08-04",2231,"31",8]
["2022-08-05",2231,"31",8]
["2022-08-06",2231,"31",8]
["2022-08-07",2231,"31",8]
["2022-08-08",2232,"32",8]
["2022-08-09",2232,"32",8]
["2022-08-10",2232,"32",8]
["2022-08-11",2232,"32",8]
["2022-08-12",2232,"32",8]
["2022-08-13",2232,"32",8]
["2022-08-14",2232,"32",8]
["2022-08-15",2233,"33",8]
["2022-08-16",2233,"33",8]
["2022-08-17",2233,"33",8]
["2022-08-18",2233,"33",8]
["2022-08-19",2233,"33",8]
["2022-08-20",2233,"33",8]
["2022-08-21",2233,"33",8]
["2022-08-22",2234,"34",8]
["2022-08-23",2234,"34",8]
["2022-08-24",2234,"34",8]
["2022-08-25",2234,"34",8]
["2022-08-26",2234,"34",8]
["2022-08-27",2234,"34",8]
["2022-08-28",2234,"34",8]
["2022-08-29",2235,"35",8]
["2022-08-30",2235,"35",8]
["2022-08-31",2235,"35",8]
["2022-09-01",2235,"35",9]
["2022-09-02",2235,"35",9]
["2022-09-03",2235,"35",9]
["2022-09-04",2235,"35",9]
["2022-09-05",2236,"36",9]
["2022-09-06",2236,"36",9]
["2022-09-07",2236,"36",9]
["2022-09-08",2236,"36",9]
["2022-09-09",2236,"36",9]
["2022-09-10",2236,"36",9]
["2022-09-11",2236,"36",9]
["2022-09-12",2237,"37",9]
["2022-09-13",2237,"37",9]
["2022-09-14",2237,"37",9]
["2022-09-15",2237,"37",9]
["2022-09-16",2237,"37",9]
["2022-09-17",2237,"37",9]
["2022-09-18",2237,"37",9]
["2022-09-19",2238,"38",9]
["2022-09-20",2238,"38",9]
["2022-09-21",2238,"38",9]
["2022-09-22",2238,"38",9]
["2022-09-23",2238,"38",9]
["2022-09-24",{"$f":"B4977+1","v":2238},"38",9]
["2022-09-25",2238,"38",9]
["2022-09-26",2239,"39",9]
["2022-09-27",2239,"39",9]
["2022-09-28",2239,"39",9]
["2022-09-29",2239,"39",9]
["2022-09-30",2239,"39",9]
["2022-10-01",2239,"39",10]
["2022-10-02",2239,"39",10]
["2022-10-03",2240,"40",10]
["2022-10-04",2240,"40",10]
["2022-10-05",2240,"40",10]
["2022-10-06",2240,{"$f":"RIGHT(B4996,2)","v":"40"},{"$f":"MONTH(A4996)","v":10}]
["2022-10-07",2240,"40",10]
["2022-10-08",2240,"40",10]
["2022-10-09",2240,"40",10]
["2022-10-10",2241,"41",10]
["2022-10-11",2241,"41",10]
["2022-10-12",2241,"41",10]
["2022-10-13",2241,"41",10]
["2022-10-14",2241,"41",10]
["2022-10-15",2241,"41",10]
["2022-10-16",2241,"41",10]
["2022-10-17",2242,"42",10]
["2022-10-18",2242,"42",10]
["2022-10-19",2242,"42",10]
["2022-10-20",2242,"42",10]
["2022-10-21",2242,"42",10]
["2022-10-22",2242,"42",10]
["2022-10-23",2242,"42",10]
["2022-10-24",2243,"43",10]
["2022-10-25",2243,"43",10]
["2022-10-26",2243,"43",10]
["2022-10-27",2243,"43",10]
["2022-10-28",2243,"43",10]
["2022-10-29",2243,"43",10]
["2022-10-30",2243,"43",10]
["2022-10-31",2244,"44",10]
["2022-11-01",2244,"44",11]
["2022-11-02",2244,"44",11]
["2022-11-03",2244,"44",11]
["2022-11-04",2244,"44",11]
["2022-11-05",2244,"44",11]
["2022-11-06",2244,"44",11]
["2022-11-07",2245,"45",11]
["2022-11-08",2245,"45",11]
["2022-11-09",2245,"45",11]
["2022-11-10",2245,"45",11]
["2022-11-11",2245,"45",11]
["2022-11-12",2245,"45",11]
["2022-11-13",2245,"45",11]
["2022-11-14",2246,"46",11]
["2022-11-15",2246,"46",11]
["2022-11-16",2246,"46",11]
["2022-11-17",2246,"46",11]
["2022-11-18",2246,"46",11]
["2022-11-19",2246,"46",11]
["2022-11-20",2246,"46",11]
["2022-11-21",2247,"47",11]
["2022-11-22",2247,"47",11]
["2022-11-23",2247,"47",11]
["2022-11-24",2247,"47",11]
["2022-11-25",2247,"47",11]
["2022-11-26",2247,"47",11]
["2022-11-27",{"$f":"B5041+1","v":2247},"47",11]
["2022-11-28",2248,"48",11]
["2022-11-29",2248,"48",11]
["2022-11-30",2248,"48",11]
["2022-12-01",2248,"48",12]
["2022-12-02",2248,"48",12]
["2022-12-03",2248,"48",12]
["2022-12-04",2248,"48",12]
["2022-12-05",2249,"49",12]
["2022-12-06",2249,"49",12]
["2022-12-07",2249,"49",12]
["2022-12-08",2249,"49",12]
["2022-12-09",2249,{"$f":"RIGHT(B5060,2)","v":"49"},{"$f":"MONTH(A5060)","v":12}]
["2022-12-10",2249,"49",12]
["2022-12-11",2249,"49",12]
["2022-12-12",2250,"50",12]
["2022-12-13",2250,"50",12]
["2022-12-14",2250,"50",12]
["2022-12-15",2250,"50",12]
["2022-12-16",2250,"50",12]
["2022-12-17",2250,"50",12]
["2022-12-18",2250,"50",12]
["2022-12-19",2251,"51",12]
["2022-12-20",2251,"51",12]
["2022-12-21",2251,"51",12]
["2022-12-22",2251,"51",12]
["2022-12-23",2251,"51",12]
["2022-12-24",2251,"51",12]
["2022-12-25",2251,"51",12]
["2022-12-26",2252,"52",12]
["2022-12-27",2252,"52",12]
["2022-12-28",2252,"52",12]
["2022-12-29",2252,"52",12]
["2022-12-30",2252,"52",12]
["2022-12-31",2252,"52",12]
["2023-01-01",{"$f":"B5076+1","v":2252},"52",1]
["2023-01-02",2301,"01",1]
["2023-01-03",2301,"01",1]
["2023-01-04",2301,"01",1]
["2023-01-05",2301,"01",1]
["2023-01-06",2301,"01",1]
["2023-01-07",2301,"01",1]
["2023-01-08",2301,"01",1]
["2023-01-09",{"$f":"B5084+1","v":2302},"02",1]
["2023-01-10",{"$f":"B5085+1","v":2302},"02",1]
["2023-01-11",2302,"02",1]
["2023-01-12",2302,"02",1]
["2023-01-13",2302,"02",1]
["2023-01-14",2302,"02",1]
["2023-01-15",2302,"02",1]
["2023-01-16",2303,"03",1]
["2023-01-17",2303,"03",1]
["2023-01-18",2303,"03",1]
["2023-01-19",2303,"03",1]
["2023-01-20",2303,"03",1]
["2023-01-21",2303,"03",1]
["2023-01-22",2303,"03",1]
["2023-01-23",2304,"04",1]
["2023-01-24",2304,"04",1]
["2023-01-25",2304,"04",1]
["2023-01-26",2304,"04",1]
["2023-01-27",2304,"04",1]
["2023-01-28",2304,"04",1]
["2023-01-29",2304,"04",1]
["2023-01-30",2305,"05",1]
["2023-01-31",2305,"05",1]
["2023-02-01",2305,"05",2]
["2023-02-02",2305,"05",2]
["2023-02-03",2305,"05",2]
["2023-02-04",2305,"05",2]
["2023-02-05",2305,"05",2]
["2023-02-06",2306,"06",2]
["2023-02-07",2306,"06",2]
["2023-02-08",2306,"06",2]
["2023-02-09",2306,"06",2]
["2023-02-10",2306,"06",2]
["2023-02-11",2306,{"$f":"RIGHT(B5124,2)","v":"06"},{"$f":"MONTH(A5124)","v":2}]
["2023-02-12",2306,"06",2]
["2023-02-13",2307,"07",2]
["2023-02-14",2307,"07",2]
["2023-02-15",2307,"07",2]
["2023-02-16",2307,"07",2]
["2023-02-17",2307,"07",2]
["2023-02-18",2307,"07",2]
["2023-02-19",2307,"07",2]
["2023-02-20",2308,"08",2]
["2023-02-21",2308,"08",2]
["2023-02-22",2308,"08",2]
["2023-02-23",2308,"08",2]
["2023-02-24",2308,"08",2]
["2023-02-25",2308,"08",2]
["2023-02-26",2308,"08",2]
["2023-02-27",2309,"09",2]
["2023-02-28",2309,"09",2]
["2023-03-01",2309,"09",3]
["2023-03-02",2309,"09",3]
["2023-03-03",2309,"09",3]
["2023-03-04",2309,"09",3]
["2023-03-05",2309,"09",3]
["2023-03-06",2310,"10",3]
["2023-03-07",2310,"10",3]
["2023-03-08",2310,"10",3]
["2023-03-09",2310,"10",3]
["2023-03-10",2310,"10",3]
["2023-03-11",2310,"10",3]
["2023-03-12",2310,"10",3]
["2023-03-13",2311,"11",3]
["2023-03-14",2311,"11",3]
["2023-03-15",{"$f":"B5149+1","v":2311},"11",3]
["2023-03-16",2311,"11",3]
["2023-03-17",2311,"11",3]
["2023-03-18",2311,"11",3]
["2023-03-19",2311,"11",3]
["2023-03-20",2312,"12",3]
["2023-03-21",2312,"12",3]
["2023-03-22",2312,"12",3]
["2023-03-23",2312,"12",3]
["2023-03-24",2312,"12",3]
["2023-03-25",2312,"12",3]
["2023-03-26",2312,"12",3]
["2023-03-27",2313,"13",3]
["2023-03-28",2313,"13",3]
["2023-03-29",2313,"13",3]
["2023-03-30",2313,"13",3]
["2023-03-31",2313,"13",3]
["2023-04-01",2313,"13",4]
["2023-04-02",2313,"13",4]
["2023-04-03",2314,"14",4]
["2023-04-04",2314,"14",4]
["2023-04-05",2314,"14",4]
["2023-04-06",2314,"14",4]
["2023-04-07",2314,"14",4]
["2023-04-08",2314,"14",4]
["2023-04-09",2314,"14",4]
["2023-04-10",2315,"15",4]
["2023-04-11",2315,"15",4]
["2023-04-12",2315,"15",4]
["2023-04-13",2315,"15",4]
["2023-04-14",2315,"15",4]
["2023-04-15",2315,"15",4]
["2023-04-16",2315,{"$f":"RIGHT(B5188,2)","v":"15"},{"$f":"MONTH(A5188)","v":4}]
["2023-04-17",2316,"16",4]
["2023-04-18",2316,"16",4]
["2023-04-19",2316,"16",4]
["2023-04-20",2316,"16",4]
["2023-04-21",2316,"16",4]
["2023-04-22",2316,"16",4]
["2023-04-23",2316,"16",4]
["2023-04-24",2317,"17",4]
["2023-04-25",2317,"17",4]
["2023-04-26",2317,"17",4]
["2023-04-27",2317,"17",4]
["2023-04-28",2317,"17",4]
["2023-04-29",2317,"17",4]
["2023-04-30",2317,"17",4]
["2023-05-01",2318,"18",5]
["2023-05-02",2318,"18",5]
["2023-05-03",2318,"18",5]
["2023-05-04",2318,"18",5]
["2023-05-05",2318,"18",5]
["2023-05-06",2318,"18",5]
["2023-05-07",2318,"18",5]
["2023-05-08",2319,"19",5]
["2023-05-09",2319,"19",5]
["2023-05-10",2319,"19",5]
["2023-05-11",2319,"19",5]
["2023-05-12",2319,"19",5]
["2023-05-13",2319,"19",5]
["2023-05-14",2319,"19",5]
["2023-05-15",2320,"20",5]
["2023-05-16",2320,"20",5]
["2023-05-17",2320,"20",5]
["2023-05-18",{"$f":"B5213+1","v":2320},"20",5]
["2023-05-19",2320,"20",5]
["2023-05-20",2320,"20",5]
["2023-05-21",2320,"20",5]
["2023-05-22",2321,"21",5]
["2023-05-23",2321,"21",5]
["2023-05-24",2321,"21",5]
["2023-05-25",2321,"21",5]
["2023-05-26",2321,"21",5]
["2023-05-27",2321,"21",5]
["2023-05-28",2321,"21",5]
["2023-05-29",2322,"22",5]
["2023-05-30",2322,"22",5]
["2023-05-31",2322,"22",5]
["2023-06-01",2322,"22",6]
["2023-06-02",2322,"22",6]
["2023-06-03",2322,"22",6]
["2023-06-04",2322,"22",6]
["2023-06-05",2323,"23",6]
["2023-06-06",2323,"23",6]
["2023-06-07",2323,"23",6]
["2023-06-08",2323,"23",6]
["2023-06-09",2323,"23",6]
["2023-06-10",2323,"23",6]
["2023-06-11",2323,"23",6]
["2023-06-12",2324,"24",6]
["2023-06-13",2324,"24",6]
["2023-06-14",2324,"24",6]
["2023-06-15",2324,"24",6]
["2023-06-16",2324,"24",6]
["2023-06-17",2324,"24",6]
["2023-06-18",2324,"24",6]
["2023-06-19",2325,{"$f":"RIGHT(B5252,2)","v":"25"},{"$f":"MONTH(A5252)","v":6}]
["2023-06-20",2325,"25",6]
["2023-06-21",2325,"25",6]
["2023-06-22",2325,"25",6]
["2023-06-23",2325,"25",6]
["2023-06-24",2325,"25",6]
["2023-06-25",2325,"25",6]
["2023-06-26",2326,"26",6]
["2023-06-27",2326,"26",6]
["2023-06-28",2326,"26",6]
["2023-06-29",2326,"26",6]
["2023-06-30",2326,"26",6]
["2023-07-01",2326,"26",7]
["2023-07-02",2326,"26",7]
["2023-07-03",2327,"27",7]
["2023-07-04",2327,"27",7]
["2023-07-05",2327,"27",7]
["2023-07-06",2327,"27",7]
["2023-07-07",2327,"27",7]
["2023-07-08",2327,"27",7]
["2023-07-09",2327,"27",7]
["2023-07-10",2328,"28",7]
["2023-07-11",2328,"28",7]
["2023-07-12",2328,"28",7]
["2023-07-13",2328,"28",7]
["2023-07-14",2328,"28",7]
["2023-07-15",2328,"28",7]
["2023-07-16",2328,"28",7]
["2023-07-17",2329,"29",7]
["2023-07-18",2329,"29",7]
["2023-07-19",2329,"29",7]
["2023-07-20",2329,"29",7]
["2023-07-21",{"$f":"B5277+1","v":2329},"29",7]
["2023-07-22",2329,"29",7]
["2023-07-23",2329,"29",7]
["2023-07-24",2330,"30",7]
["2023-07-25",2330,"30",7]
["2023-07-26",2330,"30",7]
["2023-07-27",2330,"30",7]
["2023-07-28",2330,"30",7]
["2023-07-29",2330,"30",7]
["2023-07-30",2330,"30",7]
["2023-07-31",2331,"31",7]
["2023-08-01",2331,"31",8]
["2023-08-02",2331,"31",8]
["2023-08-03",2331,"31",8]
["2023-08-04",2331,"31",8]
["2023-08-05",2331,"31",8]
["2023-08-06",2331,"31",8]
["2023-08-07",2332,"32",8]
["2023-08-08",2332,"32",8]
["2023-08-09",2332,"32",8]
["2023-08-10",2332,"32",8]
["2023-08-11",2332,"32",8]
["2023-08-12",2332,"32",8]
["2023-08-13",2332,"32",8]
["2023-08-14",2333,"33",8]
["2023-08-15",2333,"33",8]
["2023-08-16",2333,"33",8]
["2023-08-17",2333,"33",8]
["2023-08-18",2333,"33",8]
["2023-08-19",2333,"33",8]
["2023-08-20",2333,"33",8]
["2023-08-21",2334,"34",8]
["2023-08-22",2334,{"$f":"RIGHT(B5316,2)","v":"34"},{"$f":"MONTH(A5316)","v":8}]
["2023-08-23",2334,"34",8]
["2023-08-24",2334,"34",8]
["2023-08-25",2334,"34",8]
["2023-08-26",2334,"34",8]
["2023-08-27",2334,"34",8]
["2023-08-28",2335,"35",8]
["2023-08-29",2335,"35",8]
["2023-08-30",2335,"35",8]
["2023-08-31",2335,"35",8]
["2023-09-01",2335,"35",9]
["2023-09-02",2335,"35",9]
["2023-09-03",2335,"35",9]
["2023-09-04",2336,"36",9]
["2023-09-05",2336,"36",9]
["2023-09-06",2336,"36",9]
["2023-09-07",2336,"36",9]
["2023-09-08",2336,"36",9]
["2023-09-09",2336,"36",9]
["2023-09-10",2336,"36",9]
["2023-09-11",2337,"37",9]
["2023-09-12",2337,"37",9]
["2023-09-13",2337,"37",9]
["2023-09-14",2337,"37",9]
["2023-09-15",2337,"37",9]
["2023-09-16",2337,"37",9]
["2023-09-17",2337,"37",9]
["2023-09-18",2338,"38",9]
["2023-09-19",2338,"38",9]
["2023-09-20",2338,"38",9]
["2023-09-21",2338,"38",9]
["2023-09-22",2338,"38",9]
["2023-09-23",{"$f":"B5341+1","v":2338},"38",9]
["2023-09-24",2338,"38",9]
["2023-09-25",2339,"39",9]
["2023-09-26",2339,"39",9]
["2023-09-27",2339,"39",9]
["2023-09-28",2339,"39",9]
["2023-09-29",2339,"39",9]
["2023-09-30",2339,"39",9]
["2023-10-01",2339,"39",10]
["2023-10-02",2340,"40",10]
["2023-10-03",2340,"40",10]
["2023-10-04",2340,"40",10]
["2023-10-05",2340,"40",10]
["2023-10-06",2340,"40",10]
["2023-10-07",2340,"40",10]
["2023-10-08",2340,"40",10]
["2023-10-09",2341,"41",10]
["2023-10-10",2341,"41",10]
["2023-10-11",2341,"41",10]
["2023-10-12",2341,"41",10]
["2023-10-13",2341,"41",10]
["2023-10-14",2341,"41",10]
["2023-10-15",2341,"41",10]
["2023-10-16",2342,"42",10]
["2023-10-17",2342,"42",10]
["2023-10-18",2342,"42",10]
["2023-10-19",2342,"42",10]
["2023-10-20",2342,"42",10]
["2023-10-21",2342,"42",10]
["2023-10-22",2342,"42",10]
["2023-10-23",2343,"43",10]
["2023-10-24",2343,"43",10]
["2023-10-25",2343,{"$f":"RIGHT(B5380,2)","v":"43"},{"$f":"MONTH(A5380)","v":10}]
["2023-10-26",2343,"43",10]
["2023-10-27",2343,"43",10]
["2023-10-28",2343,"43",10]
["2023-10-29",2343,"43",10]
["2023-10-30",2344,"44",10]
["2023-10-31",2344,"44",10]
["2023-11-01",2344,"44",11]
["2023-11-02",2344,"44",11]
["2023-11-03",2344,"44",11]
["2023-11-04",2344,"44",11]
["2023-11-05",2344,"44",11]
["2023-11-06",2345,"45",11]
["2023-11-07",2345,"45",11]
["2023-11-08",2345,"45",11]
["2023-11-09",2345,"45",11]
["2023-11-10",2345,"45",11]
["2023-11-11",2345,"45",11]
["2023-11-12",2345,"45",11]
["2023-11-13",2346,"46",11]
["2023-11-14",2346,"46",11]
["2023-11-15",2346,"46",11]
["2023-11-16",2346,"46",11]
["2023-11-17",2346,"46",11]
["2023-11-18",2346,"46",11]
["2023-11-19",2346,"46",11]
["2023-11-20",2347,"47",11]
["2023-11-21",2347,"47",11]
["2023-11-22",2347,"47",11]
["2023-11-23",2347,"47",11]
["2023-11-24",2347,"47",11]
["2023-11-25",2347,"47",11]
["2023-11-26",{"$f":"B5405+1","v":2347},"47",11]
["2023-11-27",2348,"48",11]
["2023-11-28",2348,"48",11]
["2023-11-29",2348,"48",11]
["2023-11-30",2348,"48",11]
["2023-12-01",2348,"48",12]
["2023-12-02",2348,"48",12]
["2023-12-03",2348,"48",12]
["2023-12-04",2349,"49",12]
["2023-12-05",2349,"49",12]
["2023-12-06",2349,"49",12]
["2023-12-07",2349,"49",12]
["2023-12-08",2349,"49",12]
["2023-12-09",2349,"49",12]
["2023-12-10",2349,"49",12]
["2023-12-11",2350,"50",12]
["2023-12-12",2350,"50",12]
["2023-12-13",2350,"50",12]
["2023-12-14",2350,"50",12]
["2023-12-15",2350,"50",12]
["2023-12-16",2350,"50",12]
["2023-12-17",2350,"50",12]
["2023-12-18",2351,"51",12]
["2023-12-19",2351,"51",12]
["2023-12-20",2351,"51",12]
["2023-12-21",2351,"51",12]
["2023-12-22",2351,"51",12]
["2023-12-23",2351,"51",12]
["2023-12-24",2351,"51",12]
["2023-12-25",2352,"52",12]
["2023-12-26",2352,"52",12]
["2023-12-27",2352,"52",12]
["2023-12-28",2352,{"$f":"RIGHT(B5444,2)","v":"52"},{"$f":"MONTH(A5444)","v":12}]
["2023-12-29",2352,"52",12]
["2023-12-30",2352,"52",12]
["2023-12-31",2352,"52",12]
["2024-01-01",2401,"01",1]
["2024-01-02",2401,"01",1]
["2024-01-03",2401,"01",1]
["2024-01-04",2401,"01",1]
["2024-01-05",2401,"01",1]
["2024-01-06",2401,"01",1]
["2024-01-07",2401,"01",1]
["2024-01-08",{"$f":"B5448+1","v":2402},"02",1]
["2024-01-09",{"$f":"B5449+1","v":2402},"02",1]
["2024-01-10",2402,"02",1]
["2024-01-11",2402,"02",1]
["2024-01-12",2402,"02",1]
["2024-01-13",2402,"02",1]
["2024-01-14",2402,"02",1]
["2024-01-15",2403,"03",1]
["2024-01-16",2403,"03",1]
["2024-01-17",2403,"03",1]
["2024-01-18",2403,"03",1]
["2024-01-19",2403,"03",1]
["2024-01-20",2403,"03",1]
["2024-01-21",2403,"03",1]
["2024-01-22",2404,"04",1]
["2024-01-23",2404,"04",1]
["2024-01-24",2404,"04",1]
["2024-01-25",2404,"04",1]
["2024-01-26",2404,"04",1]
["2024-01-27",2404,"04",1]
["2024-01-28",2404,"04",1]
["2024-01-29",2405,"05",1]
["2024-01-30",2405,"05",1]
["2024-01-31",2405,"05",1]
["2024-02-01",2405,"05",2]
["2024-02-02",2405,"05",2]

{"sheet":"HOJA GENERAL DE DATOS","index":1,"n_rows":517,"n_cols":29,"rows_kept":517,"cut":false,"hidden":false,"merged":[]}
["MODULO SALUD",0,0,0,0,0,0,0,0,"TOTAL LARGO",0.1165854782750274,0,0,0]
["MORTALIDAD SEMANAL",0,0,0,0,0,0,0,0,"TOTAL CORTO",0.10079437043261588,0,0,0]
["SEMANA REAL","TIPO CEBO","SEMANA","%BAJAS SEMANAL","%BAJAS SEM MAX","COEF GRANJA","PRECIOS 15Kg","PRECIOS 25Kg","CENSO","AFORO","IMPORTANCIA  EN MORT",0,0,0]
[1,"CEBO LARGO",1,1.502837081306E-3,2.6323594792325299E-3,0.65614035087719302,43.1,67.641999999999996,3408.18947368421,0.84156472015248696,1.2890431154391101E-2,0,0,0]
[2,"CEBO LARGO",2,1.7392126882233099E-3,3.08520115264022E-3,0.68181818181818199,38.69,62.542000000000009,3320.1535714285701,0.837214517291066,1.4917918714717399E-2,0,0,0]
[3,"CEBO LARGO",3,1.67224856644524E-3,2.8226163205098101E-3,0.64784053156146204,38.03,58.64200000000001,3204.91,0.81000252737994904,1.4343540818182976E-2,0,0,0]
[4,"CEBO LARGO",4,1.5063045337591599E-3,2.4531916655466E-3,0.65423728813559301,37.416000000000004,56.916000000000011,3452.75850340136,0.88201494482578902,1.2920172872694816E-2,0,0,0]
[5,"CEBO LARGO",5,1.7668968382001399E-3,3.1296168382758502E-3,0.55297157622739002,38.287999999999997,57.236000000000004,3704.9246753246798,0.83871111895102002,1.5155376675918387E-2,0,0,0]
[6,"CEBO LARGO",6,1.6905201868738699E-3,2.8829131887989001E-3,0.64048338368580104,40.636000000000003,58.69,4125.0241691842903,0.93589896497361003,1.4500263771152528E-2,0,0,0]
[7,"CEBO LARGO",7,1.7346780609748601E-3,3.4144843475000402E-3,0.59891598915989197,41.775999999999996,58.835999999999999,4718.0243902438997,1.0135951327433601,1.487902341389998E-2,0,0,0]
[8,"CEBO LARGO",8,2.9824862685157E-3,9.6031119591839E-3,0.58005249343831999,41.775999999999996,58.236000000000004,4257.4068241469804,1.0033228180862199,2.5581970521920041E-2,0,0,0]
[9,"CEBO LARGO",9,1.6136799493138201E-3,3.2835855840904599E-3,0.61027837259100604,41.176000000000002,58.31,4575.4307304785898,1.09135183850036,1.3841174502943821E-2,0,0,0]
[10,"CEBO LARGO",10,1.68869488727512E-3,2.9667270216498899E-3,0.579059829059829,41.176000000000002,58.31,5370.3626609442099,1.23395739855037,1.4484607450779214E-2,0,0,0]
[11,"CEBO LARGO",11,2.0801380050514602E-3,3.7094912324743099E-3,0.56106870229007599,41.176000000000002,58.31,5462.1872586872596,1.18197552009358,1.7842170704522688E-2,0,0,0]
[12,"CEBO LARGO",12,2.5124230097121601E-3,5.5598798980615602E-3,0.500863557858377,39.938000000000002,57.39,5174.8191881918801,1.0965485964500701,2.1550051060264176E-2,0,0,0]
[13,"CEBO LARGO",13,1.59933573691718E-3,2.8844343964691999E-3,0.63013698630137005,39.938000000000002,57.39,5233.1348837209298,1.17011491862098,1.3718138490149828E-2,0,0,0]
[14,"CEBO LARGO",14,1.83107469354882E-3,3.6635265093791902E-3,0.61290322580645196,39.938000000000002,57.39,5074.7875288683599,1.0869524139295601,1.5705855657505468E-2,0,0,0]
[15,"CEBO LARGO",15,2.03217386832347E-3,3.5527199476435602E-3,0.66265060240963902,39.224000000000004,56.613999999999997,4697.1304347826099,1.04341471266835,1.7430763233904075E-2,0,0,0]
[16,"CEBO LARGO",16,1.846750546388E-3,3.2574953769753498E-3,0.64480874316939896,37.944000000000003,54.965999999999994,4610.0519125683104,1.14859019741321,1.5840313679817652E-2,0,0,0]
[17,"CEBO LARGO",17,2.40914909306103E-3,4.3227892960082297E-3,0.61521739130434805,36.486000000000004,53.855999999999995,4459.0043668122298,1.04788547385705,2.0664229616812146E-2,0,0,0]
[18,"CEBO LARGO",18,3.2576146741662201E-3,1.2835898934508899E-2,0.62530413625304104,36.486000000000004,53.347999999999999,4899.1070559610698,1.2033305444331599,2.7941856244578282E-2,0,0,0]
[19,"CEBO LARGO",19,1.9413103215260199E-3,3.4902561857499399E-3,0.54365079365079405,37.613999999999997,54.212000000000003,5486.2680412371101,1.3040980487589,1.6651390466885005E-2,0,0,0]
[20,"CEBO LARGO",20,2.39970513536835E-3,4.1962580932449903E-3,0.63941299790356398,38.064,54.661999999999999,5238.88607594937,1.2502426744537301,2.0583225036890095E-2,0,0,0]
[21,"CEBO LARGO",21,2.7990799976068E-3,4.9389037404621097E-3,0.58739837398373995,38.552,54.661999999999999,4598.6239837398398,1.13245057310176,2.4008822016441157E-2,0,0,0]
[22,"CEBO LARGO",22,3.4909794958156199E-3,1.25316435676373E-2,0.586440677966102,39.811999999999998,54.661999999999999,4606.0559322033896,1.11728528553221,2.9943519102613551E-2,0,0,0]
[23,"CEBO LARGO",23,2.5492807289368498E-3,4.3603385307598701E-3,0.54365733113673798,41.552,53.75,5188.0313014826997,1.1870537901918701,2.1866194372193143E-2,0,0,0]
[24,"CEBO LARGO",24,2.8891324919309799E-3,4.98306427285656E-3,0.53945480631276899,42.497999999999998,53.75,4968.2768115941999,1.1114713225043,2.4781238063933318E-2,0,0,0]
[25,"CEBO LARGO",25,2.7353736811527802E-3,4.5071527599600796E-3,0.53138075313807498,42.887999999999998,53.75,5406.3588652482304,1.2356890906143601,2.3462387611431167E-2,0,0,0]
[26,"CEBO LARGO",26,3.39986196039097E-3,7.1249324297519298E-3,0.46878547105561902,44.762,55.65,5567.1136363636397,1.1590196124819601,2.9161967774156486E-2,0,0,0]
[27,"CEBO LARGO",27,3.1258265551154401E-3,6.3672578482439398E-3,0.477961432506887,47.731999999999999,58.676000000000002,4624.0873925501401,0.99771653786707903,2.6811457150276941E-2,0,0,0]
[28,"CEBO LARGO",28,2.9481661264375101E-3,6.0784847397207303E-3,0.48848484848484802,49.502000000000002,60.525999999999996,5077.75189873418,1.1806987490802101,2.5287593018083514E-2,0,0,0]
[29,"CEBO LARGO",29,2.5086622094872501E-3,4.5513499018834903E-3,0.50833333333333297,50.701999999999998,61.475999999999999,5035.6408045976996,1.1825778587576301,2.1517793181490986E-2,0,0,0]
[30,"CEBO LARGO",30,2.8907236103391E-3,4.9832281199711599E-3,0.50063211125158003,51.676000000000002,62.275999999999996,4985.00518806744,1.1483578834145001,2.4794885719127274E-2,0,0,0]
[31,"CEBO LARGO",31,2.8400247509769998E-3,5.2650045593880699E-3,0.43417721518987301,52.688333333333333,63.125,4945.1509433962301,1.16076745436715,2.4360021445186564E-2,0,0,0]
[32,"CEBO LARGO",32,2.4354247150836601E-3,4.6173801419497401E-3,0.53791887125220506,53.627499999999998,64.739583333333329,4872.5110294117603,1.14079879492145,2.0889606073737983E-2,0,0,0]
[33,"CEBO LARGO",33,2.57410835031141E-3,4.8038064932770701E-3,0.51782945736434105,55.664999999999999,66.795000000000002,4971.3083067092603,1.15706387566924,2.2079150751854692E-2,0,0,0]
[34,"CEBO LARGO",34,2.53274267824717E-3,4.7483711841907403E-3,0.53405572755417996,56.701666666666675,70.076666666666668,4673.4340222575502,1.0845594746162901,2.1724340936118827E-2,0,0,0]
[35,"CEBO LARGO",35,2.1001418677555799E-3,3.9754720999246197E-3,0.56327985739750397,57.551666666666669,70.951666666666668,4310.3037735849102,1.01024233847787,1.8013751788205599E-2,0,0,0]
[36,"CEBO LARGO",36,2.0821585035412202E-3,3.6064243824816202E-3,0.57007575757575801,56.301666666666669,69.573333333333338,4253.2911646586299,1.0093104927094301,1.7859501323392681E-2,0,0,0]
[37,"CEBO LARGO",37,2.1666924310381201E-3,3.70743489047983E-3,0.589686098654709,56.276666666666664,67.858333333333334,4563.1869158878499,1.03642751008279,1.8584582429098509E-2,0,0,0]
[38,"CEBO LARGO",38,2.0358773397337899E-3,3.2904126477056599E-3,0.64611260053619302,57.393333333333338,69.168333333333337,3745.0736543909302,0.89652176861521804,1.7462529380641353E-2,0,0,0]
[39,"CEBO LARGO",39,2.0106252546660298E-3,3.5077827942653701E-3,0.60824742268041199,57.776666666666664,71.649999999999991,3842.1685393258399,0.86047559134373397,1.724593220712211E-2,0,0,0]
[40,"CEBO LARGO",40,2.4904522256212099E-3,4.8605662469508098E-3,0.61055276381909596,58.101666666666667,72.841666666666669,3759.65860215054,0.89167548613324799,2.1361598909824642E-2,0,0,0]
[41,"CEBO LARGO",41,2.0233270186813999E-3,3.47286910904258E-3,0.60360360360360399,58.326666666666675,73.424999999999997,4010.3876221498399,0.92514953411481804,1.7354880287134323E-2,0,0,0]
[42,"CEBO LARGO",42,2.1729061601025801E-3,3.4422184561431401E-3,0.56349206349206304,57.321666666666658,73.918333333333337,4196.3920454545496,0.93584009123162704,1.8637880053780389E-2,0,0,0]
[43,"CEBO LARGO",43,2.2454294586850198E-3,3.8654267087357402E-3,0.49127182044887802,56.896666666666668,74.683333333333337,4429.7338709677397,0.95070732129463997,1.9259941220020629E-2,0,0,0]
[44,"CEBO LARGO",44,2.2364082470197198E-3,4.2589389060761502E-3,0.49240780911062898,56.721666666666671,75.396666666666661,4193.7522935779798,0.89329034149201203,1.9182562700853615E-2,0,0,0]
[45,"CEBO LARGO",45,2.0478496098142699E-3,3.3271955540575002E-3,0.495145631067961,56.348333333333336,75.73,4352.1170483460601,0.93647722295225599,1.7565220301136931E-2,0,0,0]
[46,"CEBO LARGO",46,1.7175612567042E-3,3.17178258069707E-3,0.58808290155440401,56.636666666666677,75.73,4615.0483870967701,0.99259828862164701,1.4732205778256876E-2,0,0,0]
[47,"CEBO LARGO",47,1.7910812958386499E-3,2.99862490678434E-3,0.62933333333333297,55.524999999999999,75.926666666666662,4613.5013927576601,1.0206735687434501,1.536281638450249E-2,0,0,0]
[48,"CEBO LARGO",48,1.44832691304741E-3,2.4756457341595902E-3,0.60869565217391297,50.21,74.156666666666666,4153.9769230769198,1.05082117143413,1.2422875768719487E-2,0,0,0]
[49,"CEBO LARGO",49,1.8472246808118899E-3,3.7381655915318902E-3,0.56934306569343096,48.446666666666665,73.323333333333338,4626.1658163265301,0.97126934818702804,1.5844380519280894E-2,0,0,0]
[50,"CEBO LARGO",50,1.4679845203853801E-3,2.5734369580091101E-3,0.629737609329446,46.946666666666665,73.323333333333338,4660.453125,1.01951394585726,1.2591486882460406E-2,0,0,0]
[51,"CEBO LARGO",51,1.5951355713943499E-3,3.04301636174117E-3,0.55660377358490598,45.73,70.402000000000001,4281.4105263157899,0.93430474732006097,1.3682112000530584E-2,0,0,0]
[52,"CEBO LARGO",52,1.61083373112923E-3,2.6026754880069899E-3,0.65652173913043499,45.136000000000003,70.001999999999995,3874.5911330049298,0.88714414617640402,1.381676135795611E-2,0,0,0]
[53,"CEBO LARGO",53,1.9688406922748702E-3,2.9837435256523498E-3,0.86046511627906996,45.136000000000003,70.001999999999995,2853.8837209302301,0.71471753057658705,1.6887529402507033E-2,0,0,0]
[1,"CEBO CORTO",1,1.55077088224513E-3,2.76793769489804E-3,0.75182481751824803,43.1,67.641999999999996,2881.4452554744498,0.808433340159738,1.5385491030789936E-2,0,0,0]
[2,"CEBO CORTO",2,1.5748432927643601E-3,2.8307706464441801E-3,0.71153846153846201,38.69,62.542000000000009,2725.30666666667,0.76324869305451803,1.5624317965428347E-2,0,0,0]
[3,"CEBO CORTO",3,1.58183186868718E-3,2.7643381930610501E-3,0.70588235294117696,38.03,58.64200000000001,2658.5789473684199,0.74065982404692099,1.5693652948055099E-2,0,0,0]
[4,"CEBO CORTO",4,1.4451001567223E-3,2.39336616346615E-3,0.72185430463576195,37.416000000000004,56.916000000000011,2662.61333333333,0.74360826661701696,1.433711179027001E-2,0,0,0]
[5,"CEBO CORTO",5,1.5721048643452199E-3,2.65345947919348E-3,0.60624999999999996,38.287999999999997,57.236000000000004,2286.7341772151899,0.63453459782226895,1.5597149499497297E-2,0,0,0]
[6,"CEBO CORTO",6,1.6406808392862599E-3,2.7824267763722601E-3,0.71544715447154505,40.636000000000003,58.69,2215.8048780487802,0.62054644808743198,1.6277504708292267E-2,0,0,0]
[7,"CEBO CORTO",7,1.4683242236760399E-3,3.1253078168070698E-3,0.77669902912621402,41.775999999999996,58.835999999999999,2034.0388349514601,0.56167828418230603,1.4567522148051508E-2,0,0,0]
[8,"CEBO CORTO",8,3.2743225811136898E-3,1.1438968401357301E-2,0.66447368421052599,41.775999999999996,58.236000000000004,2070.6842105263199,0.57456005841547997,3.2485173200250052E-2,0,0,0]
[9,"CEBO CORTO",9,1.16786872291667E-3,2.1622798234146698E-3,0.75524475524475498,41.176000000000002,58.31,2545.4883720930202,0.69984654731457796,1.1586646336537474E-2,0,0,0]
[10,"CEBO CORTO",10,1.37952229173469E-3,2.30332026757951E-3,0.71428571428571397,41.176000000000002,58.31,2735.8913043478301,0.74762970297029696,1.3686501396989655E-2,0,0,0]
[11,"CEBO CORTO",11,1.68372029849665E-3,3.1193532014457798E-3,0.64197530864197505,41.176000000000002,58.31,2607.66025641026,0.71618838028168996,1.6704507317918796E-2,0,0,0]
[12,"CEBO CORTO",12,1.8492406281694601E-3,3.0648615258627499E-3,0.61046511627906996,39.938000000000002,57.39,2844.9411764705901,0.77506410256410296,1.8346665793262076E-2,0,0,0]
[13,"CEBO CORTO",13,1.58834642116228E-3,2.7273079968958302E-3,0.70414201183432001,39.938000000000002,57.39,3242.6726190476202,0.89087326246933796,1.575828505446282E-2,0,0,0]
[14,"CEBO CORTO",14,1.30463894593104E-3,2.2925753892293001E-3,0.74285714285714299,39.938000000000002,57.39,3296.4964028776999,0.90288275862069001,1.2943569569723449E-2,0,0,0]
[15,"CEBO CORTO",15,1.3455544162925999E-3,2.0137684907792601E-3,0.71223021582733803,39.224000000000004,56.613999999999997,3286.1014492753602,0.88744031311154603,1.3349499684529942E-2,0,0,0]
[16,"CEBO CORTO",16,1.71526868425205E-3,2.9994785302931799E-3,0.70833333333333304,37.944000000000003,54.965999999999994,3486.4404761904798,0.95628081632653095,1.7017504815894053E-2,0,0,0]
[17,"CEBO CORTO",17,1.9933504753595799E-3,3.5610552280723302E-3,0.68544600938967104,36.486000000000004,53.855999999999995,3508.4834123222699,0.96266579973992195,1.9776406825143034E-2,0,0,0]
[18,"CEBO CORTO",18,1.33536818172887E-3,2.4787208563604298E-3,0.65550239234449803,36.486000000000004,53.347999999999999,3982.2344497607701,1.1023668874172201,1.3248440126143795E-2,0,0,0]
[19,"CEBO CORTO",19,1.5485233709370001E-3,2.8321566964351198E-3,0.62385321100917401,37.613999999999997,54.212000000000003,3887.1376146788998,1.0712970922882401,1.5363193046304459E-2,0,0,0]
[20,"CEBO CORTO",20,1.83731476536549E-3,3.0196690101291098E-3,0.70560747663551404,38.064,54.661999999999999,3754.76168224299,1.03813824289406,1.8228347054300924E-2,0,0,0]
[21,"CEBO CORTO",21,2.4371563409284198E-3,3.98440344307174E-3,0.63855421686747005,38.552,54.661999999999999,3629.1084337349398,0.99575537190082697,2.4179488700291386E-2,0,0,0]
[22,"CEBO CORTO",22,1.95170679974856E-3,3.7487811452012599E-3,0.58922558922558899,39.811999999999998,54.661999999999999,3994.9393939393899,1.1146049788633201,1.9363252048420061E-2,0,0,0]
[23,"CEBO CORTO",23,2.3805492353753599E-3,3.51616852103876E-3,0.57254901960784299,41.552,53.75,3788.8039215686299,1.0473116531165301,2.3617878906906115E-2,0,0,0]
[24,"CEBO CORTO",24,2.5651665057206201E-3,4.2688602631048801E-3,0.62411347517730498,42.497999999999998,53.75,3388.3563636363601,0.93273073073073098,2.5449501740134509E-2,0,0,0]
[25,"CEBO CORTO",25,2.3193024878347701E-3,3.9821682802022897E-3,0.62730627306273101,42.887999999999998,53.75,3587.8339768339802,0.99331801175841805,2.3010238348433305E-2,0,0,0]
[26,"CEBO CORTO",26,1.80646040542868E-3,2.9290079920813701E-3,0.65463917525773196,44.762,55.65,3261.8134715025899,0.89740555951532397,1.7922235117648302E-2,0,0,0]
[27,"CEBO CORTO",27,2.1233963848052702E-3,4.2459878199250503E-3,0.572052401746725,47.731999999999999,58.676000000000002,3023.53947368421,0.83813617021276599,2.1066616872465367E-2,0,0,0]
[28,"CEBO CORTO",28,2.7000971118432801E-3,4.46221085139636E-3,0.60481099656357395,49.502000000000002,60.525999999999996,3239.0729166666702,0.89097707736389697,2.6788173786435599E-2,0,0,0]
[29,"CEBO CORTO",29,2.57617713508769E-3,4.2899426531470396E-3,0.59541984732824405,50.701999999999998,61.475999999999999,3288.4656488549599,0.90883755274261602,2.555874027518177E-2,0,0,0]
[30,"CEBO CORTO",30,2.6476631291858402E-3,4.2754877580903202E-3,0.54180602006689005,51.676000000000002,62.275999999999996,3463.2675585284301,0.95088797061524299,2.6267966334051204E-2,0,0,0]
[31,"CEBO CORTO",31,1.9459635254308E-3,3.3949729137583299E-3,0.55000000000000004,52.688333333333333,63.125,3699.3278008298798,1.0206502575844301,1.9306271938389019E-2,0,0,0]
[32,"CEBO CORTO",32,1.8534035262484201E-3,2.9944589788120598E-3,0.63761467889908297,53.627499999999998,64.739583333333329,3789.1064814814799,1.0479475032010199,1.8387966691924298E-2,0,0,0]
[33,"CEBO CORTO",33,2.35051911564613E-3,3.7721690773256699E-3,0.59622641509434005,55.664999999999999,66.795000000000002,3616.5056603773601,0.99674882995319802,2.331994441314085E-2,0,0,0]
[34,"CEBO CORTO",34,2.5232600620352401E-3,4.18842434413382E-3,0.59856630824372803,56.701666666666675,70.076666666666668,3597.6272401433698,0.99577182539682496,2.5033739991680553E-2,0,0,0]
[35,"CEBO CORTO",35,2.2335800358700602E-3,3.8754522421418202E-3,0.61764705882352899,57.551666666666669,70.951666666666668,3427.40756302521,0.951835472578763,2.2159769700265917E-2,0,0,0]
[36,"CEBO CORTO",36,2.4149941653091099E-3,3.9085621534652804E-3,0.60792951541850204,56.301666666666669,69.573333333333338,3196.6418604651199,0.88853005817711705,2.395961356714468E-2,0,0,0]
[37,"CEBO CORTO",37,1.8519541755929001E-3,3.0358236529530601E-3,0.67415730337078705,56.276666666666664,67.858333333333334,3153.8483146067401,0.87103956555469397,1.8373587410132078E-2,0,0,0]
[38,"CEBO CORTO",38,2.1104930674301298E-3,3.4933033242958099E-3,0.66315789473684195,57.393333333333338,69.168333333333337,2859.5820105820098,0.79304622157006599,2.0938600621956946E-2,0,0,0]
[39,"CEBO CORTO",39,1.93519884372218E-3,3.1513628517969598E-3,0.61818181818181805,57.776666666666664,71.649999999999991,2598.2484848484801,0.71037448218724097,1.9199473496547305E-2,0,0,0]
[40,"CEBO CORTO",40,2.3797582782671498E-3,4.1931535857522503E-3,0.61764705882352899,58.101666666666667,72.841666666666669,2444.1647058823501,0.675622764227642,2.3610031671938373E-2,0,0,0]
[41,"CEBO CORTO",41,2.0323113821938202E-3,3.3860367677573302E-3,0.62393162393162405,58.326666666666675,73.424999999999997,2143.5315315315302,0.59113540372670803,2.0162945345766931E-2,0,0,0]
[42,"CEBO CORTO",42,2.3897067983997601E-3,3.6951088402635999E-3,0.62589928057554001,57.321666666666658,73.918333333333337,2146.3453237410099,0.582130731707317,2.3708732820523465E-2,0,0,0]
[43,"CEBO CORTO",43,2.2344677923408001E-3,3.7269897168149199E-3,0.547619047619048,56.896666666666668,74.683333333333337,2020.6079999999999,0.55511208791208799,2.2168577300005165E-2,0,0,0]
[44,"CEBO CORTO",44,2.1736374757139799E-3,4.1841697918585698E-3,0.483870967741936,56.721666666666671,75.396666666666661,2163.3881578947398,0.59142985611510801,2.156506823133662E-2,0,0,0]
[45,"CEBO CORTO",45,2.0929759590690702E-3,3.2672645821368901E-3,0.569620253164557,56.348333333333336,75.73,2666.5477707006398,0.72998779424585902,2.0764810079034014E-2,0,0,0]
[46,"CEBO CORTO",46,1.4529011737227299E-3,2.8084112698429798E-3,0.58015267175572505,56.636666666666677,75.73,3008.6538461538498,0.83752676659528902,1.441450715438556E-2,0,0,0]
[47,"CEBO CORTO",47,1.4189930893717599E-3,2.43475569047857E-3,0.71532846715328502,55.524999999999999,75.926666666666662,3275.4890510948899,0.909304964539007,1.4078098640641842E-2,0,0,0]
[48,"CEBO CORTO",48,1.53786627607799E-3,2.4752643997463801E-3,0.587096774193548,50.21,74.156666666666666,3674.7161290322601,1.0171089285714301,1.5257461993932495E-2,0,0,0]
[49,"CEBO CORTO",49,1.3817574298488301E-3,2.38115613600395E-3,0.64814814814814803,48.446666666666665,73.323333333333338,3845.1812500000001,1.0755751748251701,1.3708676624678926E-2,0,0,0]
[50,"CEBO CORTO",50,1.3223869396707499E-3,1.95550968759529E-3,0.66257668711656403,46.946666666666665,73.323333333333338,3811.5986842105299,1.0543457688808,1.3119650770127148E-2,0,0,0]
[51,"CEBO CORTO",51,1.2339297471607199E-3,2.0777988171557398E-3,0.61111111111111105,45.73,70.402000000000001,3695.6774193548399,1.02063251670379,1.2242050244121915E-2,0,0,0]
[52,"CEBO CORTO",52,1.26917320608507E-3,1.99014935221137E-3,0.75,45.136000000000003,70.001999999999995,2988.1518987341801,0.83121126760563402,1.2591707261404555E-2,0,0,0]
[53,"CEBO CORTO",53,2.2907669202634701E-3,3.7950508958259398E-3,0.875,45.136000000000003,70.001999999999995,2393.3333333333298,0.66404624277456703,2.2727131589109113E-2,0,0,0]
[0,0,0,0,0,0,0,0,0,"TOTAL LARGO",0.10082400224805284,0,0,0]
["MORTALIDAD MENSUAL",0,0,0,0,0,0,0,0,"TOTAL CORTO",8.1987514310422269E-2,0,0,0]
["MES REAL","TIPO DE CEBO",0,"%BAJAS MES","%BAJAS MES MAX","COEF GRANJA","PRECIOS 15Kg","PRECIOS 25Kg","CENSO","AFORO","IMPORTANCIA  EN MORT",0,0,0]
[1,"CEBO LARGO",1,5.8984452411349796E-3,1.05185786795728E-2,0.429323308270677,38.743750000000006,63.619374999999998,2669.34135338346,0.74600210128178202,5.8502391391122281E-2,0,0,0]
[2,"CEBO LARGO",2,7.7803760312850001E-3,2.4164051568865599E-2,0.42799188640973601,38.893749999999997,58.110624999999999,2162.1931166347999,0.60048162701784202,7.716789512226746E-2,0,0,0]
[3,"CEBO LARGO",3,8.0221188431577294E-3,1.6999640774797702E-2,0.35975341259357102,38.682499999999997,56.962499999999999,2858.8708272859199,0.78196188963874602,7.9565566375963376E-2,0,0,0]
[4,"CEBO LARGO",4,8.1076944414714292E-3,1.5473931143222101E-2,0.43796455117209798,37.35125,55.0625,3342.4762611276001,0.91337076829515496,8.0414328539789831E-2,0,0,0]
[5,"CEBO LARGO",5,8.3897510678576301E-3,1.49709712708147E-2,0.38674534725374499,38.667500000000004,55.3,3871.0559241706201,1.06994079119728,8.321184321979895E-2,0,0,0]
[6,"CEBO LARGO",6,1.0977149127228801E-2,2.13683856932569E-2,0.33633151300995801,43.811250000000001,56.28125,3594.8722426470599,0.99332596825396802,0.1088743640648405,0,0,0]
[7,"CEBO LARGO",7,1.1788712402737701E-2,2.3813182109333999E-2,0.30762411347517699,51.202500000000001,63.0625,3264.3344768439101,0.89938894139886605,0.11692367035514473,0,0,0]
[8,"CEBO LARGO",8,9.2596888070367502E-3,1.7664157227395599E-2,0.32390745501285301,53.670500000000004,65.625,3624.5781818181799,1.00227149321267,9.1840123389027417E-2,0,0,0]
[9,"CEBO LARGO",9,8.1378433023329005E-3,1.3988823902561899E-2,0.37563710499490299,59.149374999999999,72.328125,3035.9115151515198,0.83963359034528995,8.0713353178658034E-2,0,0,0]
[10,"CEBO LARGO",10,8.3287892545247204E-3,1.4328892311075399E-2,0.38213851761846901,60.62,77.03125,2179.7650085763298,0.59844737461737696,8.2607207300041202E-2,0,0,0]
[11,"CEBO LARGO",11,7.1703538518066998E-3,1.2162830481178E-2,0.38124614435533599,58.794374999999995,79.532499999999999,2944.1433333333298,0.81348653004835403,7.1117528484594322E-2,0,0,0]
[12,"CEBO LARGO",12,6.9630798774785001E-3,1.31814571381857E-2,0.396610169491525,48.479166666666671,76.752499999999998,3619.6247987117599,1.00347633928571,6.9061728578751938E-2,0,0,0]
[1,"CEBO CORTO",1,5.4731045117184301E-3,9.2788595655161604E-3,0.47407407407407398,38.743750000000006,63.619374999999998,2669.34135338346,0.74600210128178202,6.6755341441333202E-2,0,0,0]
[2,"CEBO CORTO",2,5.0922852098296096E-3,9.07433046970685E-3,0.538167938931298,38.893749999999997,58.110624999999999,2162.1931166347999,0.60048162701784202,6.2110496368375415E-2,0,0,0]
[3,"CEBO CORTO",3,5.29542467876018E-3,8.8612916786155807E-3,0.42917251051893401,38.682499999999997,56.962499999999999,2858.8708272859199,0.78196188963874602,6.4588184229010401E-2,0,0,0]
[4,"CEBO CORTO",4,5.5725968323776399E-3,1.00823458122171E-2,0.50294985250737501,37.35125,55.0625,3342.4762611276001,0.91337076829515496,6.7968847198838056E-2,0,0,0]
[5,"CEBO CORTO",5,7.3866613374830798E-3,1.31422999187123E-2,0.39526066350710898,38.667500000000004,55.3,3871.0559241706201,1.06994079119728,9.0094954086735693E-2,0,0,0]
[6,"CEBO CORTO",6,8.87141874656148E-3,1.47394033689683E-2,0.39259927797833899,43.811250000000001,56.28125,3594.8722426470599,0.99332596825396802,0.10820450920090577,0,0,0]
[7,"CEBO CORTO",7,9.9726747678563106E-3,1.8039499370047299E-2,0.36433447098976102,51.202500000000001,63.0625,3264.3344768439101,0.89938894139886605,0.1216365058964665,0,0,0]
[8,"CEBO CORTO",8,9.0159466879267194E-3,1.5821876797347999E-2,0.35746201966041102,53.670500000000004,65.625,3624.5781818181799,1.00227149321267,0.10996731348373871,0,0,0]
[9,"CEBO CORTO",9,7.0490753512399097E-3,1.20788544690952E-2,0.41169451073985702,59.149374999999999,72.328125,3035.9115151515198,0.83963359034528995,8.5977424861919852E-2,0,0,0]
[10,"CEBO CORTO",10,7.5094436607701697E-3,1.24159540008127E-2,0.404721753794266,60.62,77.03125,2179.7650085763298,0.59844737461737696,9.159252751995639E-2,0,0,0]
[11,"CEBO CORTO",11,5.5395984153009904E-3,9.2877753645987209E-3,0.41029900332225899,58.794374999999995,79.532499999999999,2944.1433333333298,0.81348653004835403,6.7566366194819441E-2,0,0,0]
[12,"CEBO CORTO",12,5.2092841105977599E-3,8.5189818542421494E-3,0.44186046511627902,48.479166666666671,76.752499999999998,3619.6247987117599,1.00347633928571,6.353752951790069E-2,0,0,0]
[0,0,0,0,0,0,0,0,0,0,0,0,0,0]
["MORBILIDAD MENSUAL",0,0,0,0,0,0,0,0,0,0,0,0,0]
["MES REAL","TIPO DE CEBO","MES REAL","%MORB MES","%MORB MAX",0,0,0,0,0,0,0,0,0]
[1,"GENERAL",1,2.3133333333333301E-2,2.8161898793604801E-2,0,0,0,0,0,0,0,0,0]
[2,"GENERAL",2,2.8414999999999999E-2,4.1212278442165601E-2,0,0,0,0,0,0,0,0,0]
[3,"GENERAL",3,3.8047368421052601E-2,5.1020881699406599E-2,0,0,0,0,0,0,0,0,0]
[4,"GENERAL",4,3.8631578947368399E-2,5.3308810489147498E-2,0,0,0,0,0,0,0,0,0]
[5,"GENERAL",5,3.3433333333333301E-2,4.5307910725194203E-2,0,0,0,0,0,0,0,0,0]
[6,"GENERAL",6,3.3099999999999997E-2,4.1844072822421398E-2,0,0,0,0,0,0,0,0,0]
[7,"GENERAL",7,5.5E-2,7.5612413224738398E-2,0,0,0,0,0,0,0,0,0]
[8,"GENERAL",8,4.6295238095238098E-2,5.9942806341911903E-2,0,0,0,0,0,0,0,0,0]
[9,"GENERAL",9,3.2883333333333299E-2,4.13620827208592E-2,0,0,0,0,0,0,0,0,0]
[10,"GENERAL",10,2.2523809523809502E-2,3.41544039278147E-2,0,0,0,0,0,0,0,0,0]
[11,"GENERAL",11,2.9874999999999999E-2,4.3863499740858597E-2,0,0,0,0,0,0,0,0,0]
[12,"GENERAL",12,2.6636842105263198E-2,3.6170673830672503E-2,0,0,0,0,0,0,0,0,0]
[0,0,0,0,0,0,0,0,0,0,0,0,0,0]
["DECOMISOS POR MES",0,0,0,0,0,0,0,0,0,0,0,0,0]
["MES REAL","DEC.PULMON","MES REAL","DEC.HIGADO","DEC.CANALES","MAX DEC PULMON","MAX DEC HIGADO","MAX DEC CANALES",0,0,0,0,0,0]
[1,0.251228075850639,1,0.14666207947809901,1.4660294249883401E-3,0.28540331848481798,0.16929435891054301,1.9770499798499801E-3,0,0,0,0,0,0]
[2,0.26682274236632503,2,0.14819491070028901,1.9971890915680898E-3,0.30157532711760998,0.16972920956635101,2.5516031224851799E-3,0,0,0,0,0,0]
[3,0.27366972464407802,3,0.13472154896265601,2.1965242228607E-3,0.31175825736815399,0.15886190561497401,2.7972984279099901E-3,0,0,0,0,0,0]
[4,0.26255497431755098,4,0.12213605873093999,2.3297376272091602E-3,0.29233236576900001,0.14555773880008399,2.8446836058826398E-3,0,0,0,0,0,0]
[5,0.30232219573790797,5,0.135743261906796,3.8472461585190802E-3,0.34591358553752999,0.16352601502121,4.69751840404657E-3,0,0,0,0,0,0]
[6,0.28815702907243002,6,0.12616302794290199,3.57712502214731E-3,0.30929954363496298,0.14788338988481001,4.1359600175085E-3,0,0,0,0,0,0]
[7,0.27590715985692099,7,0.10948284293972101,3.61120564873119E-3,0.29296508093311302,0.12547869353197699,4.47310222923123E-3,0,0,0,0,0,0]
[8,0.27385997678656099,8,0.117755142301868,2.6168373738674599E-3,0.30029753932091202,0.14006329539665099,3.04803306052563E-3,0,0,0,0,0,0]
[9,0.27252242969352403,9,0.12728960556714899,3.4896518849545101E-3,0.30097292997834402,0.151804123130343,4.72970254542568E-3,0,0,0,0,0,0]
[10,0.26339743850043801,10,0.145423346313622,1.71582100587495E-3,0.28849920600103102,0.17364600465907201,1.91244893020038E-3,0,0,0,0,0,0]
[11,0.260086272996851,11,0.136917418850074,2.3260811878867299E-3,0.29609122839155699,0.16437282456557301,3.0338429046447399E-3,0,0,0,0,0,0]
[12,0.26762029575861301,12,0.13151492006877399,1.1592836238678E-3,0.29709684182324603,0.153574077391952,1.3722630742498501E-3,0,0,0,0,0,0]
[0,0,0,0,0,0,0,0,0,0,0,0,0,0]
["pH PANZA POR MES",0,0,0,0,0,0,0,0,0,0,0,0,0]
["MES REAL","pH","MES REAL","DesvSt",0,0,0,0,0,0,0,0,0,0]
[3,7.1159541984732799,3,0.25914883940123001,0,0,0,0,0,0,0,0,0,0]
[4,7.1737068965517201,4,0.36851884542082303,0,0,0,0,0,0,0,0,0,0]
[5,7.0903716216216202,5,0.322513744926478,0,0,0,0,0,0,0,0,0,0]
[7,7.0900657894736803,7,0.23715615530850301,0,0,0,0,0,0,0,0,0,0]
[9,6.407,9,0.660993360195271,0,0,0,0,0,0,0,0,0,0]
[10,6.9697023809523797,10,0.31842506445158902,0,0,0,0,0,0,0,0,0,0]
[11,7.0721078431372497,11,0.29107067199539,0,0,0,0,0,0,0,0,0,0]
[1,7.0721078431372497,1,0.29107067199539,0,0,0,0,0,0,0,0,0,0]
[2,7.1159541984732799,2,0.25914883940123001,0,0,0,0,0,0,0,0,0,0]
[6,7.0900657894736803,6,0.23715615530850301,0,0,0,0,0,0,0,0,0,0]
[8,6.407,8,0.660993360195271,0,0,0,0,0,0,0,0,0,0]
[12,7.0721078431372497,12,0.29107067199539,0,0,0,0,0,0,0,0,0,0]
[0,0,0,0,0,0,0,0,0,0,0,0,0,0]
["DATOS PRUEBAS CORDEROS",0,0,0,0,0,0,0,0,0,0,0,0,0]
["GRUPOS",0,0,0,0,0,0,0,0,0,0,0,0,0]
["COD","GRUPO","SEXO","RAZA","EPOCA","CuentaDeNº REGISTRO PRUEBA","SumaDeNº ANIMALES","PromedioDePESO ENTRADA","PromedioDePESO SALIDA","PromedioDeGMD","PromedioDeIC","PromedioDeENERGIA (UFC2007)","PromedioDeDIAS EN CEBO","PromedioDeCMD","DesvEstDeGMD","DesvEstDeIC"]
[1,1,"MACHOS&HEMBRAS","CARNICO&CRUZADO","INVIERNO",9,596,13511.1111111111,13253.333333333299,302.66666666666703,2347.7777777777801,100.1875,-0.32802022119910901,704.70888888888896,36.407416826795099,792.44523119547205]
[2,1,"MACHOS&HEMBRAS","CARNICO&CRUZADO","VERANO",7,246,12857.142857142901,14771.4285714286,319.71428571428601,2030,100.5,6.1050100202324904,624.86428571428598,45.6498057159586,647.84257346982099]
[3,0,0,0,0,0,0,0,0,0,0,0,0,0,0,0]
[4,0,0,0,0,0,0,0,0,0,0,0,0,0,0,0]
[5,0,0,0,0,0,0,0,0,0,0,0,0,0,0,0]
[6,0,0,0,0,0,0,0,0,0,0,0,0,0,0,0]
[7,0,0,0,0,0,0,0,0,0,0,0,0,0,0,0]
[8,0,0,0,0,0,0,0,0,0,0,0,0,0,0,0]
[9,0,0,0,0,0,0,0,0,0,0,0,0,0,0,0]
[10,0,0,0,0,0,0,0,0,0,0,0,0,0,0,0]
[11,0,0,0,0,0,0,0,0,0,0,0,0,0,0,0]
[12,0,0,0,0,0,0,0,0,0,0,0,0,0,0,0]
[13,0,0,0,0,0,0,0,0,0,0,0,0,0,0,0]
[14,0,0,0,0,0,0,0,0,0,0,0,0,0,0,0]
[15,0,0,0,0,0,0,0,0,0,0,0,0,0,0,0]
[16,0,0,0,0,0,0,0,0,0,0,0,0,0,0,0]
[17,0,0,0,0,0,0,0,0,0,0,0,0,0,0,0]
[18,0,0,0,0,0,0,0,0,0,0,0,0,0,0,0]
[19,0,0,0,0,0,0,0,0,0,0,0,0,0,0,0]
[20,2,"MACHOS&HEMBRAS","ENTREFINO","INDEFINIDO",1,54,12600,22400,239,3240,0,41.004184100418399,774.36,0,0]
[21,2,"HEMBRAS","ENTREFINO","VERANO",8,160,15675,18687.5,257.625,3167.5,101.5,11.3369610778549,785.52750000000003,50.869405624318297,774.14930269111699]
[22,2,"HEMBRAS","ENTREFINO","INVIERNO",4,321,13100,20150,279.75,3080,100.5,26.620758749171301,834.58249999999998,49.842251153012697,762.758153020995]
[23,2,"MACHOS","ENTREFINO","VERANO",8,160,15487.5,18787.5,292,2752.5,101.5,11.117707411372701,787.66375000000005,53.473625007367602,430.77173272428797]
[24,2,"HEMBRAS","CARNICO&CRUZADO","INVIERNO",7,49,15288.5714285714,17550,294.28571428571399,3354.2857142857101,99.928571428571402,7.63036423346768,978.88571428571402,34.572215654165099,438.552814867915]
[25,2,"MACHOS&HEMBRAS","ENTREFINO","INVIERNO",3,218,14000,20300,295.33333333333297,2416.6666666666702,100.166666666667,21.3715843026188,716.76666666666699,31.9426569548204,159.478316185409]
[26,2,"MACHOS","ENTREFINO","INVIERNO",3,227,13633.333333333299,21666.666666666701,307.66666666666703,2423.3333333333298,100.5,27.022465064272598,743.51,39.803684921541297,80.829037686547593]
[27,2,"MACHOS&HEMBRAS","CARNICO&CRUZADO","VERANO",14,474,14471.4285714286,18850,309.357142857143,2793.9285714285702,100.5,14.4793364501346,861.02964285714302,30.655297303194601,320.181310242449]
[28,2,"MACHOS&HEMBRAS","ENTREFINO","VERANO",2,40,13650,21500,311.5,2620,100.5,25.2512276485092,816.13,31.819805153394601,0]
[29,2,"MACHOS&HEMBRAS","CARNICO&CRUZADO","INVIERNO",40,2409,13616.424999999999,19945.875,322.25,2517.5,100.304347826087,19.791445139654702,803.84775000000002,42.605976467735502,323.66293007957]
[30,2,"MACHOS","CARNICO&CRUZADO","INVIERNO",7,49,15411.4285714286,17762.857142857101,322.857142857143,2945.7142857142899,100.071428571429,7.2506228065939,946.857142857143,26.2769136406122,251.51919362526701]
[31,0,0,0,0,0,0,0,0,0,0,0,0,0,0,0]
[32,0,0,0,0,0,0,0,0,0,0,0,0,0,0,0]
[33,0,0,0,0,0,0,0,0,0,0,0,0,0,0,0]
[34,0,0,0,0,0,0,0,0,0,0,0,0,0,0,0]
[35,0,0,0,0,0,0,0,0,0,0,0,0,0,0,0]
[36,0,0,0,0,0,0,0,0,0,0,0,0,0,0,0]
[37,0,0,0,0,0,0,0,0,0,0,0,0,0,0,0]
[38,0,0,0,0,0,0,0,0,0,0,0,0,0,0,0]
[39,3,"HEMBRAS","ENTREFINO","INVIERNO",2,78,15200,22350,278.5,2595,100.5,25.6521231312292,722.14499999999998,31.819805153394601,35.355339059327399]
[40,3,"HEMBRAS","ENTREFINO","VERANO",14,280,16028.5714285714,22914.285714285699,290.142857142857,3015.7142857142899,101.5,24.368538644864401,868.71285714285705,31.478581589727,287.60855571189302]
[41,3,"MACHOS&HEMBRAS","ENTREFINO","INDEFINIDO",2,132,15900,23100,300,2755,100.5,23.8878175474579,825.39499999999998,24.0416305603426,91.923881554251196]
[42,3,"MACHOS&HEMBRAS","CARNICO&CRUZADO","VERANO",14,761,17665.928571428602,21417.571428571398,300.57142857142901,2873.2142857142899,100.5,12.090496367397799,854.30535714285702,45.905780238883402,473.861417354423]
[43,3,"MACHOS","CARNICO&CRUZADO","VERANO",25,550,14056,25656,312.76,2665.6,102.5,37.025503465445603,833.95479999999998,7.5015553942721303,135.15669918037099]
[44,3,"MACHOS&HEMBRAS","INDEFINIDA","INVIERNO",1,66,15100,23800,313,2900,99,27.7955271565495,907.7,0,0]
[45,3,"HEMBRAS","CARNICO&CRUZADO","INVIERNO",7,75,17405.714285714301,20491.428571428602,318.857142857143,3085.7142857142899,100.78571428571399,10.112973556518099,971.34857142857197,41.498709102125801,397.61191895520199]
[46,3,"MACHOS&HEMBRAS","CARNICO&CRUZADO","INVIERNO",60,3575,15916.333333333299,22483.0333333333,321.53333333333302,2867.8333333333298,100.269230769231,20.891764423107499,915.63866666666695,36.489360727857097,328.77322907772202]
[47,3,"MACHOS&HEMBRAS","ENTREFINO","INVIERNO",6,244,14450,22766.666666666701,323,2488.3333333333298,100.3,25.591385523528299,807.84333333333302,33.508207949694899,155.74551892965201]
[48,3,"MACHOS","ENTREFINO","VERANO",12,240,16125,23033.333333333299,325.83333333333297,2591.6666666666702,101.5,21.344136665268898,833.50833333333298,41.856537087648498,404.65099066037698]
[49,3,"MACHOS","ENTREFINO","INVIERNO",3,172,16000,23366.666666666701,337.66666666666703,2763.3333333333298,100.5,21.773977907459201,926.88333333333298,28.6763549520042,325.166623953525]
[50,3,"MACHOS&HEMBRAS","ENTREFINO","VERANO",2,74,16310,23560,351,2515,100.5,20.039682539682499,881.28,38.183766184073598,77.781745930520202]
[51,3,"MACHOS","CARNICO&CRUZADO","INVIERNO",5,35,18328,20686,358,2638,99.9,6.58515829804396,932.68,41.472882706655398,398.83580581487399]
[52,0,0,0,0,0,0,0,0,0,0,0,0,0,0,0]
[53,0,0,0,0,0,0,0,0,0,0,0,0,0,0,0]
[54,0,0,0,0,0,0,0,0,0,0,0,0,0,0,0]
[55,0,0,0,0,0,0,0,0,0,0,0,0,0,0,0]
[56,0,0,0,0,0,0,0,0,0,0,0,0,0,0,0]
[57,0,0,0,0,0,0,0,0,0,0,0,0,0,0,0]
[58,4,"HEMBRAS","ENTREFINO","INVIERNO",16,160,22073.472222222201,25178.75,221.805555555555,4599.1942203025401,99.3,14,1009.35714285714,23.119661988688001,565.18182035309201]
[59,4,"HEMBRAS","CARNICO&CRUZADO","VERANO",9,268,20561.777777777799,24531,229.444444444444,4076.3333333333298,99.5,17.225685832588901,925.89633333333302,25.451478891761401,446.63211931073698]
[60,4,"MACHOS&HEMBRAS","ENTREFINO","INVIERNO",8,400,19810,24673.75,254.25,3473.125,0,18.9949841430061,879.38499999999999,19.926651213172502,238.38590412546299]
[61,4,"MACHOS&HEMBRAS","ENTREFINO","VERANO",17,382,19997.647058823499,25797.848297213601,274.791105084408,3437.0644807081699,101.42307692307701,20.919268914772601,929.92458712477003,44.955215672196204,380.22638408137198]
[62,4,"HEMBRAS","ENTREFINO","VERANO",7,140,18757.142857142899,25100,277.42857142857099,3598.5714285714298,101.5,22.744802751466299,996.08285714285705,23.803761207402701,272.78981966760699]
[63,4,"HEMBRAS","CARNICO&CRUZADO","INVIERNO",6,188,18741.666666666701,25851.666666666701,280,3516.6666666666702,99.9,25.066778866143299,979.77499999999998,26.6458251889485,563.370807432074]
[64,4,"MACHOS","CARNICO&CRUZADO","INVIERNO",4,28,21090,23207.5,305,2825,100,6.9430854072398196,863.7,34.156502553198699,288.27070610799097]
[65,4,"MACHOS&HEMBRAS","CARNICO&CRUZADO","VERANO",6,435,19668.166666666701,24109.833333333299,308.5,3070,100.166666666667,14.4059612095731,933.23333333333301,57.308812585849303,358.55264606470303]
[66,4,"MACHOS","CARNICO&CRUZADO","VERANO",35,329,20689.5142857143,25267.5142857143,316.62857142857098,3179.2285714285699,100.014285714286,14.3472748955146,969.80942857142895,66.787673093999302,609.97599208851602]
[67,4,"MACHOS&HEMBRAS","CARNICO&CRUZADO","INVIERNO",24,1471,18891.333333333299,25168.5,320.79166666666703,3461.25,99.78125,19.274360106442501,1086.04708333333,46.929159533202302,683.57317282694396]
[68,4,"MACHOS","ENTREFINO","VERANO",8,160,17262.5,27050,330.625,3045,101.5,29.638646208451298,1004.6675,24.5003644287765,133.950950511212]
[69,4,"MACHOS&HEMBRAS","INDEFINIDA","INVIERNO",1,66,15100,28800,345,3010,99,39.710144927536199,1038.45,0,0]
[70,0,0,0,0,0,0,0,0,0,0,0,0,0,0,0]
[71,0,0,0,0,0,0,0,0,0,0,0,0,0,0,0]
[72,0,0,0,0,0,0,0,0,0,0,0,0,0,0,0]
[73,0,0,0,0,0,0,0,0,0,0,0,0,0,0,0]
[74,0,0,0,0,0,0,0,0,0,0,0,0,0,0,0]
[75,0,0,0,0,0,0,0,0,0,0,0,0,0,0,0]
[76,0,0,0,0,0,0,0,0,0,0,0,0,0,0,0]
[77,5,"HEMBRAS","ENTREFINO","INVIERNO",2,20,22380,25690,236.42857142857201,4459.4928728070099,99.3,14,1053.6428571428601,11.111677990073099,127.554465029498]
[78,5,"HEMBRAS","CARNICO&CRUZADO","VERANO",7,139,23023.571428571398,27532,238,4260.8571428571404,99.5,18.705244111274599,1011.302,16.522711641858301,228.78405289080499]
[79,5,"HEMBRAS","ENTREFINO","VERANO",6,200,23900,26783.333333333299,251.333333333333,4263.1666666666697,101.5,11.935603163667899,1054.4283333333301,48.906713922187301,564.03915348729697]
[80,5,"MACHOS&HEMBRAS","CARNICO&CRUZADO","VERANO",2,200,22745,28190,254.5,4045,99.5,21.495175601886299,1022.89,24.7487373415292,530.33008588991095]
[81,5,"MACHOS&HEMBRAS","ENTREFINO","INVIERNO",4,200,23495,25852.5,262,3510,0,8.9978635788582402,912.72500000000002,28.130647581122901,360.92473823037801]
[82,5,"MACHOS","ENTREFINO","VERANO",15,156,23426.666666666701,27093.333333333299,296.02857142857101,3456.1163317652099,99.34,12.593327593327601,1008.9846864705499,46.616533184920399,453.662619509411]
[83,5,"MACHOS","ENTREFINO","INVIERNO",42,365,23044.119425548,27313.380574452,304.94722492171502,3450.8426325657801,99.014285714285805,14,1043.26089106206,34.864620931129998,346.58591182840797]
[84,5,"MACHOS&HEMBRAS","ENTREFINO","VERANO",4,80,22400,28842.5,306.78571428571399,3484.2777815934501,101.5,21,1068.69047619048,11.575608363913901,79.047454115523294]
[85,5,"MACHOS","CARNICO&CRUZADO","INVIERNO",8,600,20825,29975,314,3436.25,100.5,29.533596314509399,1076.7774999999999,18.205179796656001,151.93396121811799]
[86,5,"MACHOS","CARNICO&CRUZADO","VERANO",52,808,23267.538461538501,27714.942307692301,327,3382.98076923077,100.538461538462,13.7262159035922,1095.17853846154,39.798512140875999,343.95590747884103]
[87,5,"MACHOS&HEMBRAS","CARNICO&CRUZADO","INVIERNO",8,720,23396.25,27171.25,343.625,3417.125,100.2,11.1401541631498,1165.2681250000001,38.507652300734797,535.80418531400096]
[88,0,0,0,0,0,0,0,0,0,0,0,0,0,0,0]
[89,0,0,0,0,0,0,0,0,0,0,0,0,0,0,0]
[90,0,0,0,0,0,0,0,0,0,0,0,0,0,0,0]
[91,0,0,0,0,0,0,0,0,0,0,0,0,0,0,0]
[92,0,0,0,0,0,0,0,0,0,0,0,0,0,0,0]
[93,0,0,0,0,0,0,0,0,0,0,0,0,0,0,0]
[94,0,0,0,0,0,0,0,0,0,0,0,0,0,0,0]
[95,0,0,0,0,0,0,0,0,0,0,0,0,0,0,0]
[96,6,"MACHOS","CARNICO&CRUZADO","INVIERNO",3,1883,25720,32193.666666666701,282.33333333333297,4035.3333333333298,101,22.064106556801001,1139.59533333333,42.335957923889403,13.6137185711081]
[97,6,"MACHOS&HEMBRAS","CARNICO&CRUZADO","INVIERNO",4,820,24925,31470,293.0625,4852.5,99,19.004596828610001,1338.09453125,87.067786690409605,1300.03525593219]
[98,6,"MACHOS","ENTREFINO","VERANO",4,160,25575,29750,303,3642.5,101.5,14.8830992888133,1092.47,49.578221024962197,339.84064893221199]
[99,6,"MACHOS","CARNICO&CRUZADO","VERANO",7,554,25977.714285714301,32098.142857142899,309,3909.4285714285702,97.9166666666667,22.1833986016685,1162.0337142857099,60.989070059041502,1069.78360072538]
[100,0,0,0,0,0,0,0,0,0,0,0,0,0,0,0]
[101,0,0,0,0,0,0,0,0,0,0,0,0,0,0,0]
[102,0,0,0,0,0,0,0,0,0,0,0,0,0,0,0]
[103,0,0,0,0,0,0,0,0,0,0,0,0,0,0,0]
[104,0,0,0,0,0,0,0,0,0,0,0,0,0,0,0]
[105,0,0,0,0,0,0,0,0,0,0,0,0,0,0,0]
[106,0,0,0,0,0,0,0,0,0,0,0,0,0,0,0]
[107,0,0,0,0,0,0,0,0,0,0,0,0,0,0,0]
[108,0,0,0,0,0,0,0,0,0,0,0,0,0,0,0]
[109,0,0,0,0,0,0,0,0,0,0,0,0,0,0,0]
[110,0,0,0,0,0,0,0,0,0,0,0,0,0,0,0]
[111,0,0,0,0,0,0,0,0,0,0,0,0,0,0,0]
[112,0,0,0,0,0,0,0,0,0,0,0,0,0,0,0]
[113,0,0,0,0,0,0,0,0,0,0,0,0,0,0,0]
[114,0,0,0,0,0,0,0,0,0,0,0,0,0,0,0]
[115,7,"MACHOS","CARNICO&CRUZADO","VERANO",1,70,24290,35710,254,4450,101.5,44.960629921259802,1130.3,0,0]
[116,7,"MACHOS","CARNICO&CRUZADO","INVIERNO",22,2154,34162.727272727301,40958.181818181802,323.63636363636402,4238.2272727272702,96.966666666666697,21.3540257131048,1360.71018181818,63.408385696399598,513.35506433454202]
[117,0,0,0,0,0,0,0,0,0,0,0,0,0,0,0]
[118,0,0,0,0,0,0,0,0,0,0,0,0,0,0,0]
[119,0,0,0,0,0,0,0,0,0,0,0,0,0,0,0]
[120,0,0,0,0,0,0,0,0,0,0,0,0,0,0,0]
[121,0,0,0,0,0,0,0,0,0,0,0,0,0,0,0]
[122,0,0,0,0,0,0,0,0,0,0,0,0,0,0,0]
[123,0,0,0,0,0,0,0,0,0,0,0,0,0,0,0]
[124,0,0,0,0,0,0,0,0,0,0,0,0,0,0,0]
[125,0,0,0,0,0,0,0,0,0,0,0,0,0,0,0]
[126,0,0,0,0,0,0,0,0,0,0,0,0,0,0,0]
[127,0,0,0,0,0,0,0,0,0,0,0,0,0,0,0]
[128,0,0,0,0,0,0,0,0,0,0,0,0,0,0,0]
[129,0,0,0,0,0,0,0,0,0,0,0,0,0,0,0]
[130,0,0,0,0,0,0,0,0,0,0,0,0,0,0,0]
[131,0,0,0,0,0,0,0,0,0,0,0,0,0,0,0]
[132,0,0,0,0,0,0,0,0,0,0,0,0,0,0,0]
[133,0,0,0,0,0,0,0,0,0,0,0,0,0,0,0]
[]
["GRUPO","SEXO","RAZA","EPOCA","PromedioDeENERGIA (UFC2007)","DesvEstDeENERGIA (UFC2007)","CuentaDeNº REGISTRO PRUEBA","SumaDeNº ANIMALES"]
[2,"HEMBRAS","ENTREFINO","INVIERNO",100.5,0,4,321]
[2,"MACHOS","ENTREFINO","INVIERNO",100.5,0,3,227]
[2,"MACHOS&HEMBRAS","CARNICO&CRUZADO","INVIERNO",100.318181818182,0.40451991747794502,26,1479]
[2,"MACHOS&HEMBRAS","CARNICO&CRUZADO","VERANO",100.5,0,5,168]
[2,"MACHOS&HEMBRAS","ENTREFINO","INDEFINIDO",0,0,1,54]
[2,"MACHOS&HEMBRAS","ENTREFINO","INVIERNO",100.166666666667,0.57735026918962595,3,218]
[2,"MACHOS&HEMBRAS","ENTREFINO","VERANO",100.5,0,2,40]
[3,"HEMBRAS","CARNICO&CRUZADO","INVIERNO",102.5,0,2,40]
[3,"HEMBRAS","ENTREFINO","INVIERNO",100.5,0,2,78]
[3,"HEMBRAS","ENTREFINO","VERANO",101.5,0,1,20]
[3,"MACHOS","CARNICO&CRUZADO","VERANO",102.5,0,12,290]
[3,"MACHOS","ENTREFINO","INVIERNO",100.5,0,3,172]
[3,"MACHOS&HEMBRAS","CARNICO&CRUZADO","INVIERNO",100.85,1.7646214576755199,39,2155]
[3,"MACHOS&HEMBRAS","CARNICO&CRUZADO","VERANO",100.5,0,6,467]
[3,"MACHOS&HEMBRAS","ENTREFINO","INDEFINIDO",100.5,0,2,132]
[3,"MACHOS&HEMBRAS","ENTREFINO","INVIERNO",100.3,0.44721359549995798,6,244]
[3,"MACHOS&HEMBRAS","ENTREFINO","VERANO",100.5,0,2,74]
[3,"MACHOS&HEMBRAS","INDEFINIDA","INVIERNO",99,0,1,66]
[4,"HEMBRAS","CARNICO&CRUZADO","INVIERNO",99.5,0,2,160]
[4,"HEMBRAS","CARNICO&CRUZADO","VERANO",99.5,0,1,110]
[4,"HEMBRAS","ENTREFINO","INVIERNO",99.3,2.4126263886782701E-6,16,160]
[4,"HEMBRAS","ENTREFINO","VERANO",101.5,0,2,40]
[4,"MACHOS","CARNICO&CRUZADO","VERANO",100.08064516128999,0.44901325506693701,31,250]
[4,"MACHOS","ENTREFINO","VERANO",101.5,0,3,60]
[4,"MACHOS&HEMBRAS","CARNICO&CRUZADO","INVIERNO",99.5833333333333,0.73598007219398698,10,690]
[4,"MACHOS&HEMBRAS","CARNICO&CRUZADO","VERANO",99.5,0,4,357]
[4,"MACHOS&HEMBRAS","ENTREFINO","INVIERNO",0,0,4,200]
[4,"MACHOS&HEMBRAS","ENTREFINO","VERANO",101.42307692307701,0.27735009811261502,17,382]
[4,"MACHOS&HEMBRAS","INDEFINIDA","INVIERNO",99,0,1,66]
[5,"HEMBRAS","CARNICO&CRUZADO","VERANO",99.5,0,3,60]
[5,"HEMBRAS","ENTREFINO","INVIERNO",99.3,0,2,20]
[5,"HEMBRAS","ENTREFINO","VERANO",101.5,0,2,120]
[5,"MACHOS","CARNICO&CRUZADO","INVIERNO",100.5,1.8027756377319899,4,300]
[5,"MACHOS","CARNICO&CRUZADO","VERANO",99.983870967741893,8.9802651013387497E-2,31,350]
[5,"MACHOS","ENTREFINO","INVIERNO",99.014285714285805,0.25043516130867,42,365]
[5,"MACHOS","ENTREFINO","VERANO",98.8,2.6562142327224399E-6,12,96]
[5,"MACHOS&HEMBRAS","CARNICO&CRUZADO","INVIERNO",103.5,0,1,165]
[5,"MACHOS&HEMBRAS","CARNICO&CRUZADO","VERANO",99.5,0,2,200]
[5,"MACHOS&HEMBRAS","ENTREFINO","VERANO",101.5,0,4,80]
[6,"MACHOS","CARNICO&CRUZADO","INVIERNO",103,0,1,1733]
[6,"MACHOS","CARNICO&CRUZADO","VERANO",97.9166666666667,2.3540744819709198,7,554]
[6,"MACHOS","ENTREFINO","VERANO",101.5,0,2,120]
[6,"MACHOS&HEMBRAS","CARNICO&CRUZADO","INVIERNO",0,0,2,620]
[7,"MACHOS","CARNICO&CRUZADO","INVIERNO",96.431250000000006,3.0444964006111901,20,2004]
[7,"MACHOS","CARNICO&CRUZADO","VERANO",101.5,0,1,70]
[8,"MACHOS","CARNICO&CRUZADO","INVIERNO",92.5,0.70710678118654802,3,320]
[9,"MACHOS","CARNICO&CRUZADO","INVIERNO",97,0,2,260]
[0,0,0,0,0,0,0,0]
[0,0,0,0,0,0,0,0]
[]
["PH CANALES"]
[]
["MES DE TOMA","PhCANAL","DESVST"]
[1,5.8117154811715501,0.21466405894947099]
[2,5.8027173913043502,0.36508848021908702]
[3,5.8288659793814404,0.19313677280906899]
[4,5.8281512605041996,0.20848445038711]
[5,5.7636363636363601,0.21161947784526899]
[6,5.8663865546218501,0.22361710453070599]
[7,5.7981617647058803,0.22077589514227799]
[8,5.7457142857142802,0.202624864312174]
[9,5.7504201680672198,0.20617188323052199]
[10,5.6844155844155901,0.38023306244439198]
[11,5.75,0.20208411324687001]
[12,5.8167999999999997,0.194163217007399]
[]
[]
[]
["MES","SEXO","MEDIA EE","DESV ST EE"]
[1,"HEMBRA",3.40151515151515,0.71898835294952901]
[1,"MACHO",2.9237668161435,0.621332612737033]
[2,"HEMBRA",3.2155688622754499,0.761417198617094]
[2,"MACHO",2.8657243816254399,0.65476303575033001]
[3,"",3,0]
[3,"HEMBRA",3.26605504587156,0.72829330979355]
[3,"MACHO",3.0098360655737699,0.67612112499808796]
[4,"HEMBRA",3.1042944785276099,0.75860086394084403]
[4,"MACHO",2.8233695652173898,0.57542549530897702]
[5,"",3.0847457627118602,0.79411923870629098]
[5,"HEMBRA",3.3879003558718899,0.617364389996368]
[5,"MACHO",3.01157407407407,0.61486257425505897]
[6,"",2.9423076923076898,0.89472224934282296]
[6,"HEMBRA",3.3529411764705901,0.60765836583958899]
[6,"MACHO",3.1055900621118,0.57665505798581296]
[7,"",3.3508771929824599,0.71940521241447997]
[7,"HEMBRA",3.1621621621621601,0.64577345733610703]
[7,"MACHO",2.95789473684211,0.57119181951525499]
[8,"",3,0]
[8,"HEMBRA",3.3076923076923102,0.66979989922942196]
[8,"MACHO",2.9693486590038298,0.64971825039198805]
[9,"HEMBRA",3.3880597014925402,0.63494312772767303]
[9,"MACHO",2.9454545454545502,0.60192027015467797]
[10,"HEMBRA",3.2890995260663498,0.64499881472741805]
[10,"MACHO",3.0972762645914398,0.61418166269108998]
[11,"",3.27868852459016,0.609129092529753]
[11,"HEMBRA",3.51977401129944,0.68332738293975603]
[11,"MACHO",3.1612903225806499,0.59743902550089101]
[12,"HEMBRA",3.5340909090909101,0.72633331439124205]
[12,"MACHO",3.1785714285714302,0.54295966222657399]
[0,0,0,0]
[0,0,0,0]
["ESPECIE","TIPO EXPLOTACION","CuentaDeNº VISITA","PromedioDeTEMPERATURA"]
["OVINO","CEBO",172,6.0232558139534902]
[0,0,0,0]
["ESPECIE","TIPO EXPLOTACION","CuentaDeNº VISITA","DesvEstDeTEMPERATURA"]
["OVINO","CEBO",172,1.0257132071389801]
[0,0,0,0]
[0,0,0,0]
["CuentaDeNº REGISTRO","PromedioDeCC ALI CALIDAD AGUA","PromedioDeCC ALI TIPO DE PIENSOS","PromedioDeCC ALI METRO LINEAL COMEDERO/M2"]
[8,2.75,3.125,3.625]
[0,0,0,0]
["CuentaDeNº REGISTRO","DesvEstDeCC ALI CALIDAD AGUA","DesvEstDeCC ALI TIPO DE PIENSOS","DesvEstDeCC ALI METRO LINEAL COMEDERO/M2"]
[8,0.70710678118654802,0.99103120896511498,0.74402380914284505]
[0,0,0,0]
[]
["ESPECIE","TIPO EXPLOTACION","CuentaDeNº VISITA","PromedioDeTEMPERATURA","PromedioDeCORRIENTES AIRE","PromedioDeVENTILACION","PromedioDeAMBIENTE CARGADO","PromedioDeDENSIDAD ANIMALES","PromedioDeCALIDAD CAMA","PromedioDeCONFORT ANIMALES","PromedioDeANIMALES ESTRESADOS","PromedioDeLIMPIEZA ANIMALES","PromedioDeCOMEDEROS PIENSO","PromedioDeCOMEDEROS PAJA","PromedioDeBEBEDEROS","PromedioDeCONSISTENCIA HECES","PromedioDeESTADO CORPORAL","CC"]
["OVINO","CEBO",172,6.0232558139534902,6.03488372093023,5.6686046511627897,5.3488372093023298,5.8604651162790704,5.8837209302325597,5.7441860465116301,5.6569767441860499,5.6918604651162799,6.0232558139534902,5.96511627906977,5.4534883720930196,3.5116279069767402,402.21511627907,4.0221511627907001]
[]
["ESPECIE","TIPO EXPLOTACION","CuentaDeNº VISITA","DesvEstDeTEMPERATURA","DesvEstDeCORRIENTES AIRE","DesvEstDeVENTILACION","DesvEstDeAMBIENTE CARGADO","DesvEstDeDENSIDAD ANIMALES","DesvEstDeCALIDAD CAMA","DesvEstDeCONFORT ANIMALES","DesvEstDeANIMALES ESTRESADOS","DesvEstDeLIMPIEZA ANIMALES","DesvEstDeCOMEDEROS PIENSO","DesvEstDeCOMEDEROS PAJA","DesvEstDeBEBEDEROS","DesvEstDeCONSISTENCIA HECES","DesvEstDeESTADO CORPORAL","CC"]
["OVINO","CEBO",172,1.0257132071389801,0.82288430711208504,1.1137378850983699,1.0843646034555201,1.26733860937904,0.99022833507366104,0.90076051703209503,0.86775110260038901,1.05039286621655,0.77197618643462096,1.0139111281930899,0.97521299810701201,0.59715085806420998,279.87326957325502,2.79873269573255]
[]
[]
["CuentaDeNº REGISTRO","PromedioDeCC ALI CALIDAD AGUA","PromedioDeCC ALI TIPO DE PIENSOS","PromedioDeCC ALI METRO LINEAL COMEDERO/M2","PromedioDeCC ALI PUNTOS DE AGUA/M2","PromedioDeCC ALI METRO LINEAL FORRAJERA/M2","PromedioDeCC SA CONTROL DE ORIGENES","PromedioDeCC SA PROFILAXIS A LA ENTRADA","PromedioDeCC SA MANEJO DE ENFERMOS","PromedioDeCC SA PLAN DDD","PromedioDeCC SA GESTION DE BAJAS","PromedioDeCC IBA DENSIDAD DE ANIMALES","PromedioDeCC IBA AISLAMIENTO Y VENTILACION","PromedioDeCC IBA FRECUENCIA LIMPIEZA CORDEROS","PromedioDeCC IBA SISTEMAS DE MEDICACION","PromedioDeCC IBA GESTION DE ESTIERCOL","PromedioDeCC PRI CONTROL PESO ENTRADA Y SALIDA","PromedioDeCC PRI DIAS DE ESTANCIA","PromedioDeCC PRI PORCENTAJE DE BAJAS","PromedioDeCC PRI GESTION DE LOTES","PromedioDeCC PRI CORDEROS VENDIDOS / M2","PromedioDeCC REC UTH","PromedioDeCC REC COMERCIALIZACIÓN","PromedioDeCC REC AMORTIZACION INSTALACIONES","PromedioDeCC REC CUALIFICACION PERSONAL","PromedioDeCC REC GMD E IC"]
[8,2.75,3.125,3.625,2.25,3.5,3.125,2.375,2.5,2.5,1.5,2,1.625,2.25,2,1.875,2.125,2,2.375,2.625,2,3.5,3.125,1.875,3.25,2.875]
[]
["CuentaDeNº REGISTRO","DesvEstDeCC ALI CALIDAD AGUA","DesvEstDeCC ALI TIPO DE PIENSOS","DesvEstDeCC ALI METRO LINEAL COMEDERO/M2","DesvEstDeCC ALI PUNTOS DE AGUA/M2","DesvEstDeCC ALI METRO LINEAL FORRAJERA/M2","DesvEstDeCC SA CONTROL DE ORIGENES","DesvEstDeCC SA PROFILAXIS A LA ENTRADA","DesvEstDeCC SA MANEJO DE ENFERMOS","DesvEstDeCC SA PLAN DDD","DesvEstDeCC SA GESTION DE BAJAS","DesvEstDeCC IBA DENSIDAD DE ANIMALES","DesvEstDeCC IBA AISLAMIENTO Y VENTILACION","DesvEstDeCC IBA FRECUENCIA LIMPIEZA CORDEROS","DesvEstDeCC IBA SISTEMAS DE MEDICACION","DesvEstDeCC IBA GESTION DE ESTIERCOL","DesvEstDeCC PRI CONTROL PESO ENTRADA Y SALIDA","DesvEstDeCC PRI DIAS DE ESTANCIA","DesvEstDeCC PRI PORCENTAJE DE BAJAS","DesvEstDeCC PRI GESTION DE LOTES","DesvEstDeCC PRI CORDEROS VENDIDOS / M2","DesvEstDeCC REC UTH","DesvEstDeCC REC COMERCIALIZACIÓN","DesvEstDeCC REC AMORTIZACION INSTALACIONES","DesvEstDeCC REC CUALIFICACION PERSONAL","DesvEstDeCC REC GMD E IC"]
[8,0.70710678118654802,0.99103120896511498,0.74402380914284505,1.38873014965883,0.75592894601845395,0.99103120896511498,0.74402380914284505,1.30930734141595,1.30930734141595,0.75592894601845395,1.30930734141595,0.916125381312904,1.28173988892331,1.0690449676497,0.99103120896511498,1.4577379737113301,1.30930734141595,1.84681192483541,0.916125381312904,1.6035674514745499,0.75592894601845395,0.83452296039628004,1.6420805617960901,0.88640526042791801,0.83452296039628004]
[]
[]
[]
["PRODUCTOS GESTICOR",0,0]
["CODIGO IRIS","NOMBRE PRODUCTO","UFL/UFV","HUMEDAD","PROTEINA BRUTA","FIBRA BRUTA","GRASA BRUTA","CENIZAS","A+A","MODO DE EMPLEO","OBSERVACIONES","PRESENTACION"]
["1796 GGR.","GESTICOR BASIC",94,110,160,60,22,69,370,"Pienso compuesto complememtario de paja destinado a corderos de engorde a partir de la entrada a cebadero (mínimo 16 Kg de peso vivo) hasta el sacrificio, guardando el correspondiente periodo de espera en caso de que vaya medicado.","Los animales dispondrán de paja a libre disposición y agua limpia y fresca  Los animales dispondrán siempre a voluntad este producto evitando que se queden sin él.","GRANULADO 3,5"]
["1503 GGR.","GESTICOR CEBIAL",96,110,165,56,25,66,370,"Pienso compuesto complememtario de paja destinado a corderos de engorde a partir de la entrada a cebadero (mínimo 16 Kg de peso vivo) hasta el sacrificio, guardando el correspondiente periodo de espera en caso de que vaya medicado.","Los animales dispondrán de paja a libre disposición y agua limpia y fresca  Los animales dispondrán siempre a voluntad este producto evitando que se queden sin él.","GRANULADO 3,5"]
["1506 GGR","GESTICOR PESADO",98,110,170,44,25,70,380,"Pienso compuesto complememtario de paja destinado a corderos de engorde a partir del destete hasta el sacrificio guardando el correspondiente periodo de espera si ha lugar.","Los animales dispondrán de paja a libre disposición y agua limpia y fresca  Los animales dispondrán siempre a voluntad este producto evitando que se queden sin él.","GRANULADO 3,5"]
["1507 GGR","GESTICOR INTENSIVO",100,110,175,41,28,68,400,"Pienso compuesto complemetario de paja destinado a corderos de engorde a partir del destete hasta el sacrificio guardando el correspondiente periodo de espera si ha lugar.","Los animales dispondrán de paja a libre disposición y agua limpia y fresca  Los animales dispondrán siempre a voluntad este producto evitando que se queden sin él.","GRANULADO 3,5"]
["1504 GGR","GESTICOR LIGERO",102,110,177,34,27,64,420,"Pienso compuesto complememtario de paja destinado a corderos de engorde a partir del destete hasta el sacrificio guardando el correspondiente periodo de espera si ha lugar.","Los animales dispondrán de paja a libre disposición y agua limpia y fresca  Los animales dispondrán siempre a voluntad este producto evitando que se queden sin él.","GRANULADO 3,5"]
["1505 GGR","GESTICOR ESPECIAL",104,110,180,30,34,64,440,"Pienso compuesto complememtario de paja destinado a corderos de engorde a partir del destete hasta el sacrificio guardando el correspondiente periodo de espera si ha lugar.","Los animales dispondrán de paja a libre disposición y agua limpia y fresca  Los animales dispondrán siempre a voluntad este producto evitando que se queden sin él.","GRANULADO 3,5"]
["1508 GGR","GESTICOR PLUS",104,110,160,40,48,65,390,"Pienso compuesto complememtario de paja destinado a corderos de engorde a partir del destete hasta el sacrificio guardando el correspondiente periodo de espera si ha lugar.","Los animales dispondrán de paja a libre disposición y agua limpia y fresca  Los animales dispondrán siempre a voluntad este producto evitando que se queden sin él.","GRANULADO 3,5"]
[0,0,0,0,0,0,0,0,0,0,0,0]
[0,0,0,0,0,0,0,0,0,0,0,0]
[0,0,0,0,0,0,0,0,0,0,0,0]
[0,0,0,0,0,0,0,0,0,0,0,0]
[0,0,0,0,0,0,0,0,0,0,0,0]
[0,0,0,0,0,0,0,0,0,0,0,0]
[0,0,0,0,0,0,0,0,0,0,0,0]
[0,0,0,0,0,0,0,0,0,0,0,0]
[0,0,0,0,0,0,0,0,0,0,0,0]
[0,0,0,0,0,0,0,0,0,0,0,0]
[0,0,0,0,0,0,0,0,0,0,0,0]
[0,0,0,0,0,0,0,0,0,0,0,0]
[0,0,0,0,0,0,0,0,0,0,0,0]
[0,0,0,0,0,0,0,0,0,0,0,0]
[]
[]
["BAJAS",0,0,0,0,0,0,0,0,0,0]
["CuentaDeNºREGISTRO",0,0,0,0,0,0,0,0,0,0]
[35347,0,0,0,0,0,0,0,0,0,0]
[0,0,0,0,0,0,0,0,0,0,0]
["CuentaDeNº REGISTRO","MESES","SEMANAS",0,0,0,0,0,0,0,0]
[18752,625.06666666666695,2678.8571428571399,0,0,0,0,0,0,0,0]
[0,0,0,"RUMEN PH",0,0,0,0,0,0,0]
["CuentaDe% MORBILIDAD","CuentaDeDECPULMON",0,"CuentaDeNºREGISTRO",0,0,0,0,0,0,0]
[235,204,0,1077,0,0,0,0,0,0,0]
[0,0,0,0,0,0,0,0,0,0,0]
["ENSAYOS",0,0,0,0,0,0,0,0,0,0]
[0,0,0,0,0,0,0,0,0,0,0]
["CuentaDeNº REGISTRO PRUEBA",0,0,0,0,0,0,0,0,0,0]
[352,0,0,0,0,0,0,0,0,0,0]
[0,0,0,0,0,0,0,0,0,0,0]
["SumaDeNº ANIMALES",0,0,0,0,0,0,0,0,0,0]
[16157,0,0,0,0,0,0,0,0,0,0]
[0,0,0,0,0,0,0,0,0,0,0]
["CuentaDeNº REGISTRO PRUEBA",0,0,0,0,0,0,0,0,0,0]
[567,0,0,0,0,0,0,0,0,0,0]
[0,0,0,0,0,0,0,0,0,0,0]
["CANALES",0,0,0,0,0,0,0,0,0,0]
[0,0,0,0,0,0,0,0,0,0,0]
["CuentaDePH","CuentaDeENGRASAMIENTO",0,0,0,0,0,0,0,0,0]
[5293,5378,0,0,0,0,0,0,0,0,0]
[0,0,0,0,0,0,0,0,0,0,0]
["BIENESTAR",0,0,0,0,0,0,0,0,0,0]
[0,0,0,0,0,0,0,0,0,0,0]
["CuentaDeNº REGISTRO",0,0,0,0,0,0,0,0,0,0]
[452,0,0,0,0,0,0,0,0,0,0]
[0,0,0,0,0,0,0,0,0,0,0]
[0,0,0,0,0,0,0,0,0,0,0]
["PPCC",0,0,0,0,0,0,0,0,0,0]
[0,0,0,0,0,0,0,0,0,0,0]
["CuentaDeNºREGISTRO",0,0,0,0,0,0,0,0,0,0]
[8,0,0,0,0,0,0,0,0,0,0]
[0,0,0,0]
["DIFERENCIAS AMBIENTALES ADMISIBLES",0,0,0,0,0,0,0,0,0,0,0,0,0,0,0,0,0,0,0,0,0,0,0,0,0,0,0,0]
[0,0,0,0,0,0,0,0,0,0,0,0,0,0,0,0,0,0,0,0,0,0,0,0,0,0,0,0,0]
["ESTACION","CuentaDeCuentaDeNº REGISTRO","PromedioDePromedioDeEXTERIOR TEMPERATURA","PromedioDePromedioDeCUADRA TEMPERATURA","DesvEstDePromedioDeCUADRA TEMPERATURA","PromedioDePromedioDeANIMALES TEMPERATURA","DesvEstDePromedioDeANIMALES TEMPERATURA","PromedioDePromedioDeCAMA TEMPERATURA","DesvEstDePromedioDeCAMA TEMPERATURA","PromedioDePromedioDeEXTERIOR HUMEDAD","PromedioDePromedioDeCUADRA HUMEDAD","DesvEstDePromedioDeCUADRA HUMEDAD","PromedioDePromedioDeANIMALES HUMEDAD","DesvEstDePromedioDeANIMALES HUMEDAD","PromedioDePromedioDeCAMA HUMEDAD","DesvEstDePromedioDeCAMA HUMEDAD","PromedioDePromedioDeEXTERIOR VELOCIDAD AIRE","PromedioDePromedioDeCUADRA VELOCIDAD AIRE","DesvEstDePromedioDeCUADRA VELOCIDAD AIRE","PromedioDePromedioDeANIMALES VELOCIDAD AIRE","DesvEstDePromedioDeANIMALES VELOCIDAD AIRE","T AISLAM NAVE","T DENSIDAD","T CAMA","H VENTILACION","H DENSIDAD","H CAMA","CORRIENTES ANIMALES",0]
["INVIERNO",19,183.57894736842101,195.07894736842101,41.651084805765599,194.68421052631601,41.653067956339498,194.894736842105,40.898783922211997,274.23684210526301,315.28947368421098,116.41560078126599,332.23684210526301,116.695516483074,397.81578947368399,96.650747328017701,15.526315789473699,3.3947368421052602,6.9892356667005,1.34210526315789,3.4723216360037301,21.105759364035901,29.4334633589114,28.481780324495801,110.22776265215001,93.550019432888902,113.560786287507,3.8674672504657699,0]
["VERANO",28,287.04761904761898,281.517857142857,39.125926783635897,283.41071428571399,39.174151691999,273.46428571428601,61.535502100921001,254.38095238095201,274.58928571428601,104.334619979276,295.56547619047598,107.629741205421,346.267857142857,114.13863618484,16.244047619047599,3.61904761904762,4.1103245350770896,1.7083333333333299,2.9015481180710201,31.258982081878401,26.096906184399302,50.037351470644701,87.180067318826303,90.024152177128002,115.388711996054,3.36858368264972,0]

{"sheet":"ENLACES DATOS","index":2,"n_rows":873,"n_cols":30,"rows_kept":873,"cut":false,"hidden":false,"merged":[[838,1,838,2],[841,2,843,2]]}
["ESTIMACION SEMANAL"]
[null,null,"cebadero","semana","mes","COEF,BAJAS"]
["CEBO LARGO","CEBO LARGO",{"$f":"VLOOKUP('GEST CHEQ SEM'!C11,A3:B4,2,FALSE)","v":{"$error":"#N/A"}},{"$f":"'BUSCAR FECHA'!G2","v":{"$error":"#N/A"}},{"$f":"'BUSCAR FECHA'!H2","v":{"$error":"#N/A"}},{"$f":"('GEST CHEQ SEM'!C19/'GEST CHEQ SEM'!C22)","v":{"$error":"#VALUE!"}}]
["CEBADERO REGULADOR","CEBO CORTO"]
[null,1,2,4,5,6,7,8,9,10,11,12,13]
[null,"SEMANA","CEBO","%BAJAS SEMANAL","%BAJAS SEM MAX","COEF GRANJA","PRECIOS 15Kg","PRECIOS 25Kg","CENSO","AFORO"]
["BUSQUEDA",{"$f":"D3","v":{"$error":"#N/A"}},{"$f":"VLOOKUP($B7,'HOJA GENERAL DE DATOS'!$A$4:$N$56,C5,FALSE)","v":{"$error":"#N/A"}},{"$f":"VLOOKUP($B7,'HOJA GENERAL DE DATOS'!$A$4:$N$56,D5,FALSE)","v":{"$error":"#N/A"}},{"$f":"VLOOKUP($B7,'HOJA GENERAL DE DATOS'!$A$4:$N$56,E5,FALSE)","v":{"$error":"#N/A"}},{"$f":"VLOOKUP($B7,'HOJA GENERAL DE DATOS'!$A$4:$N$56,F5,FALSE)","v":{"$error":"#N/A"}},{"$f":"VLOOKUP($B7,'HOJA GENERAL DE DATOS'!$A$4:$N$56,G5,FALSE)","v":{"$error":"#N/A"}},{"$f":"VLOOKUP($B7,'HOJA GENERAL DE DATOS'!$A$4:$N$56,H5,FALSE)","v":{"$error":"#N/A"}},{"$f":"VLOOKUP($B7,'HOJA GENERAL DE DATOS'!$A$4:$N$56,I5,FALSE)","v":{"$error":"#N/A"}},{"$f":"VLOOKUP($B7,'HOJA GENERAL DE DATOS'!$A$4:$N$56,J5,FALSE)","v":{"$error":"#N/A"}},{"$f":"VLOOKUP($B7,'HOJA GENERAL DE DATOS'!$A$4:$N$56,K5,FALSE)","v":{"$error":"#N/A"}},{"$f":"VLOOKUP($B7,'HOJA GENERAL DE DATOS'!$A$4:$N$56,L5,FALSE)","v":{"$error":"#N/A"}},{"$f":"VLOOKUP($B7,'HOJA GENERAL DE DATOS'!$A$4:$N$56,M5,FALSE)","v":{"$error":"#N/A"}}]
[null,{"$f":"D3","v":{"$error":"#N/A"}},{"$f":"VLOOKUP($B8,'HOJA GENERAL DE DATOS'!$A$57:$N$109,C5,FALSE)","v":{"$error":"#N/A"}},{"$f":"VLOOKUP($B8,'HOJA GENERAL DE DATOS'!$A$57:$N$109,D5,FALSE)","v":{"$error":"#N/A"}},{"$f":"VLOOKUP($B8,'HOJA GENERAL DE DATOS'!$A$57:$N$109,E5,FALSE)","v":{"$error":"#N/A"}},{"$f":"VLOOKUP($B8,'HOJA GENERAL DE DATOS'!$A$57:$N$109,F5,FALSE)","v":{"$error":"#N/A"}},{"$f":"VLOOKUP($B8,'HOJA GENERAL DE DATOS'!$A$57:$N$109,G5,FALSE)","v":{"$error":"#N/A"}},{"$f":"VLOOKUP($B8,'HOJA GENERAL DE DATOS'!$A$57:$N$109,H5,FALSE)","v":{"$error":"#N/A"}},{"$f":"VLOOKUP($B8,'HOJA GENERAL DE DATOS'!$A$57:$N$109,I5,FALSE)","v":{"$error":"#N/A"}},{"$f":"VLOOKUP($B8,'HOJA GENERAL DE DATOS'!$A$57:$N$109,J5,FALSE)","v":{"$error":"#N/A"}},{"$f":"VLOOKUP($B8,'HOJA GENERAL DE DATOS'!$A$57:$N$109,K5,FALSE)","v":{"$error":"#N/A"}},{"$f":"VLOOKUP($B8,'HOJA GENERAL DE DATOS'!$A$57:$N$109,L5,FALSE)","v":{"$error":"#N/A"}},{"$f":"VLOOKUP($B8,'HOJA GENERAL DE DATOS'!$A$57:$N$109,M5,FALSE)","v":{"$error":"#N/A"}}]
[]
[null,"MES REAL","TIPO DE CEBO","%BAJAS MES","%BAJAS MES MAX","COEF GRANJA","PRECIOS 15Kg","PRECIOS 25Kg","CENSO","AFORO",0,0,0]
[null,{"$f":"E3","v":{"$error":"#N/A"}},{"$f":"VLOOKUP($B11,'HOJA GENERAL DE DATOS'!$A$113:$N$124,C5,FALSE)","v":{"$error":"#N/A"}},{"$f":"VLOOKUP($B11,'HOJA GENERAL DE DATOS'!$A$113:$N$124,D5,FALSE)","v":{"$error":"#N/A"}},{"$f":"VLOOKUP($B11,'HOJA GENERAL DE DATOS'!$A$113:$N$124,E5,FALSE)","v":{"$error":"#N/A"}},{"$f":"VLOOKUP($B11,'HOJA GENERAL DE DATOS'!$A$113:$N$124,F5,FALSE)","v":{"$error":"#N/A"}},{"$f":"VLOOKUP($B11,'HOJA GENERAL DE DATOS'!$A$113:$N$124,G5,FALSE)","v":{"$error":"#N/A"}},{"$f":"VLOOKUP($B11,'HOJA GENERAL DE DATOS'!$A$113:$N$124,H5,FALSE)","v":{"$error":"#N/A"}},{"$f":"VLOOKUP($B11,'HOJA GENERAL DE DATOS'!$A$113:$N$124,I5,FALSE)","v":{"$error":"#N/A"}},{"$f":"VLOOKUP($B11,'HOJA GENERAL DE DATOS'!$A$113:$N$124,J5,FALSE)","v":{"$error":"#N/A"}},{"$f":"VLOOKUP($B11,'HOJA GENERAL DE DATOS'!$A$113:$N$124,K5,FALSE)","v":{"$error":"#N/A"}},{"$f":"VLOOKUP($B11,'HOJA GENERAL DE DATOS'!$A$113:$N$124,L5,FALSE)","v":{"$error":"#N/A"}},{"$f":"VLOOKUP($B11,'HOJA GENERAL DE DATOS'!$A$113:$N$124,M5,FALSE)","v":{"$error":"#N/A"}}]
[null,{"$f":"E3","v":{"$error":"#N/A"}},{"$f":"VLOOKUP($B12,'HOJA GENERAL DE DATOS'!$A$125:$N$136,C5,FALSE)","v":{"$error":"#N/A"}},{"$f":"VLOOKUP($B12,'HOJA GENERAL DE DATOS'!$A$125:$N$136,D5,FALSE)","v":{"$error":"#N/A"}},{"$f":"VLOOKUP($B12,'HOJA GENERAL DE DATOS'!$A$125:$N$136,E5,FALSE)","v":{"$error":"#N/A"}},{"$f":"VLOOKUP($B12,'HOJA GENERAL DE DATOS'!$A$125:$N$136,F5,FALSE)","v":{"$error":"#N/A"}},{"$f":"VLOOKUP($B12,'HOJA GENERAL DE DATOS'!$A$125:$N$136,G5,FALSE)","v":{"$error":"#N/A"}},{"$f":"VLOOKUP($B12,'HOJA GENERAL DE DATOS'!$A$125:$N$136,H5,FALSE)","v":{"$error":"#N/A"}},{"$f":"VLOOKUP($B12,'HOJA GENERAL DE DATOS'!$A$125:$N$136,I5,FALSE)","v":{"$error":"#N/A"}},{"$f":"VLOOKUP($B12,'HOJA GENERAL DE DATOS'!$A$125:$N$136,J5,FALSE)","v":{"$error":"#N/A"}},{"$f":"VLOOKUP($B12,'HOJA GENERAL DE DATOS'!$A$125:$N$136,K5,FALSE)","v":{"$error":"#N/A"}},{"$f":"VLOOKUP($B12,'HOJA GENERAL DE DATOS'!$A$125:$N$136,L5,FALSE)","v":{"$error":"#N/A"}},{"$f":"VLOOKUP($B12,'HOJA GENERAL DE DATOS'!$A$125:$N$136,M5,FALSE)","v":{"$error":"#N/A"}}]
[]
["SOLUCION","SEMANAL",{"$f":"VLOOKUP($C$3,$C$7:$M$8,B5,FALSE)","v":{"$error":"#N/A"}},{"$error":"#N/A"},{"$f":"VLOOKUP($C$3,$C$7:$M$8,3,FALSE)","v":{"$error":"#N/A"}},{"$f":"VLOOKUP($C$3,$C$7:$M$8,D5,FALSE)","v":{"$error":"#N/A"}},{"$error":"#N/A"},{"$error":"#N/A"},{"$error":"#N/A"},{"$error":"#N/A"},{"$error":"#N/A"},{"$error":"#N/A"},{"$error":"#N/A"}]
[null,"MENSUAL",{"$f":"VLOOKUP($C$3,$C$11:$M$12,B5,FALSE)","v":{"$error":"#N/A"}},{"$error":"#N/A"},{"$f":"VLOOKUP($C$3,$C$11:$M$12,3,FALSE)","v":{"$error":"#N/A"}},{"$f":"VLOOKUP($C$3,$C$11:$M$12,D5,FALSE)","v":{"$error":"#N/A"}},{"$error":"#N/A"},{"$error":"#N/A"},{"$error":"#N/A"},{"$error":"#N/A"},{"$error":"#N/A"},{"$error":"#N/A"},{"$error":"#N/A"}]
[]
[null,"MES REAL","TIPO DE CEBO","%MORB MES","%MORB MAX"]
[null,{"$f":"E3","v":{"$error":"#N/A"}},{"$f":"VLOOKUP($B18,'HOJA GENERAL DE DATOS'!$A$140:$D$151,C5,FALSE)","v":{"$error":"#N/A"}},{"$f":"VLOOKUP($B18,'HOJA GENERAL DE DATOS'!$A$140:$E$151,D5,FALSE)","v":{"$error":"#N/A"}},{"$f":"VLOOKUP($B18,'HOJA GENERAL DE DATOS'!$A$140:$E$151,E5,FALSE)","v":{"$error":"#N/A"}}]
[]
[]
["CALCULO PERDIDAS","SEMANA","CEBO"]
[null,{"$f":"D3","v":{"$error":"#N/A"}},{"$f":"VLOOKUP($B22,'HOJA GENERAL DE DATOS'!$A$4:$N$56,2,FALSE)","v":{"$error":"#N/A"}},{"$f":"VLOOKUP($B22,'HOJA GENERAL DE DATOS'!$A$4:$N$56,11,FALSE)","v":{"$error":"#N/A"}}]
[null,{"$f":"D3","v":{"$error":"#N/A"}},{"$f":"VLOOKUP($B23,'HOJA GENERAL DE DATOS'!$A$57:$N109,2,FALSE)","v":{"$error":"#N/A"}},{"$f":"VLOOKUP($B23,'HOJA GENERAL DE DATOS'!$A$57:$N109,11,FALSE)","v":{"$error":"#N/A"}}]
[]
["SOLUCION","SEMANA",{"$f":"VLOOKUP($C$3,$C$22:$M$23,B5,FALSE)","v":{"$error":"#N/A"}},{"$f":"VLOOKUP($C$3,$C$22:$M$23,C5,FALSE)","v":{"$error":"#N/A"}}]
[]
[]
[]
[null,"TIPO CEBO","SEMANA","%BAJAS SEMANAL","%BAJAS SEM MAX","%BAJAS EST","CENSO","AFORO","%BAJASX100"]
[null,{"$f":"IF($C$3='ENLACES DATOS'!$B$4,'HOJA GENERAL DE DATOS'!B57,'HOJA GENERAL DE DATOS'!B4)","v":{"$error":"#N/A"}},{"$f":"IF($C$3='ENLACES DATOS'!$B$4,'HOJA GENERAL DE DATOS'!C57,'HOJA GENERAL DE DATOS'!C4)","v":{"$error":"#N/A"}},{"$f":"IF($C$3='ENLACES DATOS'!$B$4,'HOJA GENERAL DE DATOS'!D57,'HOJA GENERAL DE DATOS'!D4)","v":{"$error":"#N/A"}},{"$f":"IF($C$3='ENLACES DATOS'!$B$4,'HOJA GENERAL DE DATOS'!E57,'HOJA GENERAL DE DATOS'!E4)","v":{"$error":"#N/A"}},{"$f":"D30+(D30*$F$3)","v":{"$error":"#N/A"}},{"$f":"IF($C$3='ENLACES DATOS'!$B$4,'HOJA GENERAL DE DATOS'!I57,'HOJA GENERAL DE DATOS'!I4)","v":{"$error":"#N/A"}},{"$f":"IF($C$3='ENLACES DATOS'!$B$4,'HOJA GENERAL DE DATOS'!J57,'HOJA GENERAL DE DATOS'!J4)","v":{"$error":"#N/A"}},{"$f":"D30*100","v":{"$error":"#N/A"}}]
[null,{"$f":"IF($C$3='ENLACES DATOS'!$B$4,'HOJA GENERAL DE DATOS'!B58,'HOJA GENERAL DE DATOS'!B5)","v":{"$error":"#N/A"}},{"$f":"IF($C$3='ENLACES DATOS'!$B$4,'HOJA GENERAL DE DATOS'!C58,'HOJA GENERAL DE DATOS'!C5)","v":{"$error":"#N/A"}},{"$f":"IF($C$3='ENLACES DATOS'!$B$4,'HOJA GENERAL DE DATOS'!D58,'HOJA GENERAL DE DATOS'!D5)","v":{"$error":"#N/A"}},{"$f":"IF($C$3='ENLACES DATOS'!$B$4,'HOJA GENERAL DE DATOS'!E58,'HOJA GENERAL DE DATOS'!E5)","v":{"$error":"#N/A"}},{"$f":"D31+(D31*$F$3)","v":{"$error":"#N/A"}},{"$f":"IF($C$3='ENLACES DATOS'!$B$4,'HOJA GENERAL DE DATOS'!I58,'HOJA GENERAL DE DATOS'!I5)","v":{"$error":"#N/A"}},{"$f":"IF($C$3='ENLACES DATOS'!$B$4,'HOJA GENERAL DE DATOS'!J58,'HOJA GENERAL DE DATOS'!J5)","v":{"$error":"#N/A"}},{"$f":"D31*100","v":{"$error":"#N/A"}}]
[null,{"$f":"IF($C$3='ENLACES DATOS'!$B$4,'HOJA GENERAL DE DATOS'!B59,'HOJA GENERAL DE DATOS'!B6)","v":{"$error":"#N/A"}},{"$f":"IF($C$3='ENLACES DATOS'!$B$4,'HOJA GENERAL DE DATOS'!C59,'HOJA GENERAL DE DATOS'!C6)","v":{"$error":"#N/A"}},{"$f":"IF($C$3='ENLACES DATOS'!$B$4,'HOJA GENERAL DE DATOS'!D59,'HOJA GENERAL DE DATOS'!D6)","v":{"$error":"#N/A"}},{"$f":"IF($C$3='ENLACES DATOS'!$B$4,'HOJA GENERAL DE DATOS'!E59,'HOJA GENERAL DE DATOS'!E6)","v":{"$error":"#N/A"}},{"$error":"#N/A"},{"$f":"IF($C$3='ENLACES DATOS'!$B$4,'HOJA GENERAL DE DATOS'!I59,'HOJA GENERAL DE DATOS'!I6)","v":{"$error":"#N/A"}},{"$f":"IF($C$3='ENLACES DATOS'!$B$4,'HOJA GENERAL DE DATOS'!J59,'HOJA GENERAL DE DATOS'!J6)","v":{"$error":"#N/A"}},{"$error":"#N/A"}]
[null,{"$f":"IF($C$3='ENLACES DATOS'!$B$4,'HOJA GENERAL DE DATOS'!B60,'HOJA GENERAL DE DATOS'!B7)","v":{"$error":"#N/A"}},{"$f":"IF($C$3='ENLACES DATOS'!$B$4,'HOJA GENERAL DE DATOS'!C60,'HOJA GENERAL DE DATOS'!C7)","v":{"$error":"#N/A"}},{"$f":"IF($C$3='ENLACES DATOS'!$B$4,'HOJA GENERAL DE DATOS'!D60,'HOJA GENERAL DE DATOS'!D7)","v":{"$error":"#N/A"}},{"$f":"IF($C$3='ENLACES DATOS'!$B$4,'HOJA GENERAL DE DATOS'!E60,'HOJA GENERAL DE DATOS'!E7)","v":{"$error":"#N/A"}},{"$error":"#N/A"},{"$f":"IF($C$3='ENLACES DATOS'!$B$4,'HOJA GENERAL DE DATOS'!I60,'HOJA GENERAL DE DATOS'!I7)","v":{"$error":"#N/A"}},{"$f":"IF($C$3='ENLACES DATOS'!$B$4,'HOJA GENERAL DE DATOS'!J60,'HOJA GENERAL DE DATOS'!J7)","v":{"$error":"#N/A"}},{"$error":"#N/A"}]
[null,{"$f":"IF($C$3='ENLACES DATOS'!$B$4,'HOJA GENERAL DE DATOS'!B61,'HOJA GENERAL DE DATOS'!B8)","v":{"$error":"#N/A"}},{"$f":"IF($C$3='ENLACES DATOS'!$B$4,'HOJA GENERAL DE DATOS'!C61,'HOJA GENERAL DE DATOS'!C8)","v":{"$error":"#N/A"}},{"$f":"IF($C$3='ENLACES DATOS'!$B$4,'HOJA GENERAL DE DATOS'!D61,'HOJA GENERAL DE DATOS'!D8)","v":{"$error":"#N/A"}},{"$f":"IF($C$3='ENLACES DATOS'!$B$4,'HOJA GENERAL DE DATOS'!E61,'HOJA GENERAL DE DATOS'!E8)","v":{"$error":"#N/A"}},{"$error":"#N/A"},{"$f":"IF($C$3='ENLACES DATOS'!$B$4,'HOJA GENERAL DE DATOS'!I61,'HOJA GENERAL DE DATOS'!I8)","v":{"$error":"#N/A"}},{"$f":"IF($C$3='ENLACES DATOS'!$B$4,'HOJA GENERAL DE DATOS'!J61,'HOJA GENERAL DE DATOS'!J8)","v":{"$error":"#N/A"}},{"$error":"#N/A"}]
[null,{"$f":"IF($C$3='ENLACES DATOS'!$B$4,'HOJA GENERAL DE DATOS'!B62,'HOJA GENERAL DE DATOS'!B9)","v":{"$error":"#N/A"}},{"$f":"IF($C$3='ENLACES DATOS'!$B$4,'HOJA GENERAL DE DATOS'!C62,'HOJA GENERAL DE DATOS'!C9)","v":{"$error":"#N/A"}},{"$f":"IF($C$3='ENLACES DATOS'!$B$4,'HOJA GENERAL DE DATOS'!D62,'HOJA GENERAL DE DATOS'!D9)","v":{"$error":"#N/A"}},{"$f":"IF($C$3='ENLACES DATOS'!$B$4,'HOJA GENERAL DE DATOS'!E62,'HOJA GENERAL DE DATOS'!E9)","v":{"$error":"#N/A"}},{"$error":"#N/A"},{"$f":"IF($C$3='ENLACES DATOS'!$B$4,'HOJA GENERAL DE DATOS'!I62,'HOJA GENERAL DE DATOS'!I9)","v":{"$error":"#N/A"}},{"$f":"IF($C$3='ENLACES DATOS'!$B$4,'HOJA GENERAL DE DATOS'!J62,'HOJA GENERAL DE DATOS'!J9)","v":{"$error":"#N/A"}},{"$error":"#N/A"}]
[null,{"$f":"IF($C$3='ENLACES DATOS'!$B$4,'HOJA GENERAL DE DATOS'!B63,'HOJA GENERAL DE DATOS'!B10)","v":{"$error":"#N/A"}},{"$f":"IF($C$3='ENLACES DATOS'!$B$4,'HOJA GENERAL DE DATOS'!C63,'HOJA GENERAL DE DATOS'!C10)","v":{"$error":"#N/A"}},{"$f":"IF($C$3='ENLACES DATOS'!$B$4,'HOJA GENERAL DE DATOS'!D63,'HOJA GENERAL DE DATOS'!D10)","v":{"$error":"#N/A"}},{"$f":"IF($C$3='ENLACES DATOS'!$B$4,'HOJA GENERAL DE DATOS'!E63,'HOJA GENERAL DE DATOS'!E10)","v":{"$error":"#N/A"}},{"$error":"#N/A"},{"$f":"IF($C$3='ENLACES DATOS'!$B$4,'HOJA GENERAL DE DATOS'!I63,'HOJA GENERAL DE DATOS'!I10)","v":{"$error":"#N/A"}},{"$f":"IF($C$3='ENLACES DATOS'!$B$4,'HOJA GENERAL DE DATOS'!J63,'HOJA GENERAL DE DATOS'!J10)","v":{"$error":"#N/A"}},{"$error":"#N/A"}]
[null,{"$f":"IF($C$3='ENLACES DATOS'!$B$4,'HOJA GENERAL DE DATOS'!B64,'HOJA GENERAL DE DATOS'!B11)","v":{"$error":"#N/A"}},{"$f":"IF($C$3='ENLACES DATOS'!$B$4,'HOJA GENERAL DE DATOS'!C64,'HOJA GENERAL DE DATOS'!C11)","v":{"$error":"#N/A"}},{"$f":"IF($C$3='ENLACES DATOS'!$B$4,'HOJA GENERAL DE DATOS'!D64,'HOJA GENERAL DE DATOS'!D11)","v":{"$error":"#N/A"}},{"$f":"IF($C$3='ENLACES DATOS'!$B$4,'HOJA GENERAL DE DATOS'!E64,'HOJA GENERAL DE DATOS'!E11)","v":{"$error":"#N/A"}},{"$error":"#N/A"},{"$f":"IF($C$3='ENLACES DATOS'!$B$4,'HOJA GENERAL DE DATOS'!I64,'HOJA GENERAL DE DATOS'!I11)","v":{"$error":"#N/A"}},{"$f":"IF($C$3='ENLACES DATOS'!$B$4,'HOJA GENERAL DE DATOS'!J64,'HOJA GENERAL DE DATOS'!J11)","v":{"$error":"#N/A"}},{"$error":"#N/A"}]
[null,{"$f":"IF($C$3='ENLACES DATOS'!$B$4,'HOJA GENERAL DE DATOS'!B65,'HOJA GENERAL DE DATOS'!B12)","v":{"$error":"#N/A"}},{"$f":"IF($C$3='ENLACES DATOS'!$B$4,'HOJA GENERAL DE DATOS'!C65,'HOJA GENERAL DE DATOS'!C12)","v":{"$error":"#N/A"}},{"$f":"IF($C$3='ENLACES DATOS'!$B$4,'HOJA GENERAL DE DATOS'!D65,'HOJA GENERAL DE DATOS'!D12)","v":{"$error":"#N/A"}},{"$f":"IF($C$3='ENLACES DATOS'!$B$4,'HOJA GENERAL DE DATOS'!E65,'HOJA GENERAL DE DATOS'!E12)","v":{"$error":"#N/A"}},{"$error":"#N/A"},{"$f":"IF($C$3='ENLACES DATOS'!$B$4,'HOJA GENERAL DE DATOS'!I65,'HOJA GENERAL DE DATOS'!I12)","v":{"$error":"#N/A"}},{"$f":"IF($C$3='ENLACES DATOS'!$B$4,'HOJA GENERAL DE DATOS'!J65,'HOJA GENERAL DE DATOS'!J12)","v":{"$error":"#N/A"}},{"$error":"#N/A"}]
[null,{"$f":"IF($C$3='ENLACES DATOS'!$B$4,'HOJA GENERAL DE DATOS'!B66,'HOJA GENERAL DE DATOS'!B13)","v":{"$error":"#N/A"}},{"$f":"IF($C$3='ENLACES DATOS'!$B$4,'HOJA GENERAL DE DATOS'!C66,'HOJA GENERAL DE DATOS'!C13)","v":{"$error":"#N/A"}},{"$f":"IF($C$3='ENLACES DATOS'!$B$4,'HOJA GENERAL DE DATOS'!D66,'HOJA GENERAL DE DATOS'!D13)","v":{"$error":"#N/A"}},{"$f":"IF($C$3='ENLACES DATOS'!$B$4,'HOJA GENERAL DE DATOS'!E66,'HOJA GENERAL DE DATOS'!E13)","v":{"$error":"#N/A"}},{"$error":"#N/A"},{"$f":"IF($C$3='ENLACES DATOS'!$B$4,'HOJA GENERAL DE DATOS'!I66,'HOJA GENERAL DE DATOS'!I13)","v":{"$error":"#N/A"}},{"$f":"IF($C$3='ENLACES DATOS'!$B$4,'HOJA GENERAL DE DATOS'!J66,'HOJA GENERAL DE DATOS'!J13)","v":{"$error":"#N/A"}},{"$error":"#N/A"}]
[null,{"$f":"IF($C$3='ENLACES DATOS'!$B$4,'HOJA GENERAL DE DATOS'!B67,'HOJA GENERAL DE DATOS'!B14)","v":{"$error":"#N/A"}},{"$f":"IF($C$3='ENLACES DATOS'!$B$4,'HOJA GENERAL DE DATOS'!C67,'HOJA GENERAL DE DATOS'!C14)","v":{"$error":"#N/A"}},{"$f":"IF($C$3='ENLACES DATOS'!$B$4,'HOJA GENERAL DE DATOS'!D67,'HOJA GENERAL DE DATOS'!D14)","v":{"$error":"#N/A"}},{"$f":"IF($C$3='ENLACES DATOS'!$B$4,'HOJA GENERAL DE DATOS'!E67,'HOJA GENERAL DE DATOS'!E14)","v":{"$error":"#N/A"}},{"$error":"#N/A"},{"$f":"IF($C$3='ENLACES DATOS'!$B$4,'HOJA GENERAL DE DATOS'!I67,'HOJA GENERAL DE DATOS'!I14)","v":{"$error":"#N/A"}},{"$f":"IF($C$3='ENLACES DATOS'!$B$4,'HOJA GENERAL DE DATOS'!J67,'HOJA GENERAL DE DATOS'!J14)","v":{"$error":"#N/A"}},{"$error":"#N/A"}]
[null,{"$f":"IF($C$3='ENLACES DATOS'!$B$4,'HOJA GENERAL DE DATOS'!B68,'HOJA GENERAL DE DATOS'!B15)","v":{"$error":"#N/A"}},{"$f":"IF($C$3='ENLACES DATOS'!$B$4,'HOJA GENERAL DE DATOS'!C68,'HOJA GENERAL DE DATOS'!C15)","v":{"$error":"#N/A"}},{"$f":"IF($C$3='ENLACES DATOS'!$B$4,'HOJA GENERAL DE DATOS'!D68,'HOJA GENERAL DE DATOS'!D15)","v":{"$error":"#N/A"}},{"$f":"IF($C$3='ENLACES DATOS'!$B$4,'HOJA GENERAL DE DATOS'!E68,'HOJA GENERAL DE DATOS'!E15)","v":{"$error":"#N/A"}},{"$error":"#N/A"},{"$f":"IF($C$3='ENLACES DATOS'!$B$4,'HOJA GENERAL DE DATOS'!I68,'HOJA GENERAL DE DATOS'!I15)","v":{"$error":"#N/A"}},{"$f":"IF($C$3='ENLACES DATOS'!$B$4,'HOJA GENERAL DE DATOS'!J68,'HOJA GENERAL DE DATOS'!J15)","v":{"$error":"#N/A"}},{"$error":"#N/A"}]
[null,{"$f":"IF($C$3='ENLACES DATOS'!$B$4,'HOJA GENERAL DE DATOS'!B69,'HOJA GENERAL DE DATOS'!B16)","v":{"$error":"#N/A"}},{"$f":"IF($C$3='ENLACES DATOS'!$B$4,'HOJA GENERAL DE DATOS'!C69,'HOJA GENERAL DE DATOS'!C16)","v":{"$error":"#N/A"}},{"$f":"IF($C$3='ENLACES DATOS'!$B$4,'HOJA GENERAL DE DATOS'!D69,'HOJA GENERAL DE DATOS'!D16)","v":{"$error":"#N/A"}},{"$f":"IF($C$3='ENLACES DATOS'!$B$4,'HOJA GENERAL DE DATOS'!E69,'HOJA GENERAL DE DATOS'!E16)","v":{"$error":"#N/A"}},{"$error":"#N/A"},{"$f":"IF($C$3='ENLACES DATOS'!$B$4,'HOJA GENERAL DE DATOS'!I69,'HOJA GENERAL DE DATOS'!I16)","v":{"$error":"#N/A"}},{"$f":"IF($C$3='ENLACES DATOS'!$B$4,'HOJA GENERAL DE DATOS'!J69,'HOJA GENERAL DE DATOS'!J16)","v":{"$error":"#N/A"}},{"$error":"#N/A"}]
[null,{"$f":"IF($C$3='ENLACES DATOS'!$B$4,'HOJA GENERAL DE DATOS'!B70,'HOJA GENERAL DE DATOS'!B17)","v":{"$error":"#N/A"}},{"$f":"IF($C$3='ENLACES DATOS'!$B$4,'HOJA GENERAL DE DATOS'!C70,'HOJA GENERAL DE DATOS'!C17)","v":{"$error":"#N/A"}},{"$f":"IF($C$3='ENLACES DATOS'!$B$4,'HOJA GENERAL DE DATOS'!D70,'HOJA GENERAL DE DATOS'!D17)","v":{"$error":"#N/A"}},{"$f":"IF($C$3='ENLACES DATOS'!$B$4,'HOJA GENERAL DE DATOS'!E70,'HOJA GENERAL DE DATOS'!E17)","v":{"$error":"#N/A"}},{"$error":"#N/A"},{"$f":"IF($C$3='ENLACES DATOS'!$B$4,'HOJA GENERAL DE DATOS'!I70,'HOJA GENERAL DE DATOS'!I17)","v":{"$error":"#N/A"}},{"$f":"IF($C$3='ENLACES DATOS'!$B$4,'HOJA GENERAL DE DATOS'!J70,'HOJA GENERAL DE DATOS'!J17)","v":{"$error":"#N/A"}},{"$error":"#N/A"}]
[null,{"$f":"IF($C$3='ENLACES DATOS'!$B$4,'HOJA GENERAL DE DATOS'!B71,'HOJA GENERAL DE DATOS'!B18)","v":{"$error":"#N/A"}},{"$f":"IF($C$3='ENLACES DATOS'!$B$4,'HOJA GENERAL DE DATOS'!C71,'HOJA GENERAL DE DATOS'!C18)","v":{"$error":"#N/A"}},{"$f":"IF($C$3='ENLACES DATOS'!$B$4,'HOJA GENERAL DE DATOS'!D71,'HOJA GENERAL DE DATOS'!D18)","v":{"$error":"#N/A"}},{"$f":"IF($C$3='ENLACES DATOS'!$B$4,'HOJA GENERAL DE DATOS'!E71,'HOJA GENERAL DE DATOS'!E18)","v":{"$error":"#N/A"}},{"$error":"#N/A"},{"$f":"IF($C$3='ENLACES DATOS'!$B$4,'HOJA GENERAL DE DATOS'!I71,'HOJA GENERAL DE DATOS'!I18)","v":{"$error":"#N/A"}},{"$f":"IF($C$3='ENLACES DATOS'!$B$4,'HOJA GENERAL DE DATOS'!J71,'HOJA GENERAL DE DATOS'!J18)","v":{"$error":"#N/A"}},{"$error":"#N/A"}]
[null,{"$f":"IF($C$3='ENLACES DATOS'!$B$4,'HOJA GENERAL DE DATOS'!B72,'HOJA GENERAL DE DATOS'!B19)","v":{"$error":"#N/A"}},{"$f":"IF($C$3='ENLACES DATOS'!$B$4,'HOJA GENERAL DE DATOS'!C72,'HOJA GENERAL DE DATOS'!C19)","v":{"$error":"#N/A"}},{"$f":"IF($C$3='ENLACES DATOS'!$B$4,'HOJA GENERAL DE DATOS'!D72,'HOJA GENERAL DE DATOS'!D19)","v":{"$error":"#N/A"}},{"$f":"IF($C$3='ENLACES DATOS'!$B$4,'HOJA GENERAL DE DATOS'!E72,'HOJA GENERAL DE DATOS'!E19)","v":{"$error":"#N/A"}},{"$error":"#N/A"},{"$f":"IF($C$3='ENLACES DATOS'!$B$4,'HOJA GENERAL DE DATOS'!I72,'HOJA GENERAL DE DATOS'!I19)","v":{"$error":"#N/A"}},{"$f":"IF($C$3='ENLACES DATOS'!$B$4,'HOJA GENERAL DE DATOS'!J72,'HOJA GENERAL DE DATOS'!J19)","v":{"$error":"#N/A"}},{"$error":"#N/A"}]
[null,{"$f":"IF($C$3='ENLACES DATOS'!$B$4,'HOJA GENERAL DE DATOS'!B73,'HOJA GENERAL DE DATOS'!B20)","v":{"$error":"#N/A"}},{"$f":"IF($C$3='ENLACES DATOS'!$B$4,'HOJA GENERAL DE DATOS'!C73,'HOJA GENERAL DE DATOS'!C20)","v":{"$error":"#N/A"}},{"$f":"IF($C$3='ENLACES DATOS'!$B$4,'HOJA GENERAL DE DATOS'!D73,'HOJA GENERAL DE DATOS'!D20)","v":{"$error":"#N/A"}},{"$f":"IF($C$3='ENLACES DATOS'!$B$4,'HOJA GENERAL DE DATOS'!E73,'HOJA GENERAL DE DATOS'!E20)","v":{"$error":"#N/A"}},{"$error":"#N/A"},{"$f":"IF($C$3='ENLACES DATOS'!$B$4,'HOJA GENERAL DE DATOS'!I73,'HOJA GENERAL DE DATOS'!I20)","v":{"$error":"#N/A"}},{"$f":"IF($C$3='ENLACES DATOS'!$B$4,'HOJA GENERAL DE DATOS'!J73,'HOJA GENERAL DE DATOS'!J20)","v":{"$error":"#N/A"}},{"$error":"#N/A"}]
[null,{"$f":"IF($C$3='ENLACES DATOS'!$B$4,'HOJA GENERAL DE DATOS'!B74,'HOJA GENERAL DE DATOS'!B21)","v":{"$error":"#N/A"}},{"$f":"IF($C$3='ENLACES DATOS'!$B$4,'HOJA GENERAL DE DATOS'!C74,'HOJA GENERAL DE DATOS'!C21)","v":{"$error":"#N/A"}},{"$f":"IF($C$3='ENLACES DATOS'!$B$4,'HOJA GENERAL DE DATOS'!D74,'HOJA GENERAL DE DATOS'!D21)","v":{"$error":"#N/A"}},{"$f":"IF($C$3='ENLACES DATOS'!$B$4,'HOJA GENERAL DE DATOS'!E74,'HOJA GENERAL DE DATOS'!E21)","v":{"$error":"#N/A"}},{"$error":"#N/A"},{"$f":"IF($C$3='ENLACES DATOS'!$B$4,'HOJA GENERAL DE DATOS'!I74,'HOJA GENERAL DE DATOS'!I21)","v":{"$error":"#N/A"}},{"$f":"IF($C$3='ENLACES DATOS'!$B$4,'HOJA GENERAL DE DATOS'!J74,'HOJA GENERAL DE DATOS'!J21)","v":{"$error":"#N/A"}},{"$error":"#N/A"}]
[null,{"$f":"IF($C$3='ENLACES DATOS'!$B$4,'HOJA GENERAL DE DATOS'!B75,'HOJA GENERAL DE DATOS'!B22)","v":{"$error":"#N/A"}},{"$f":"IF($C$3='ENLACES DATOS'!$B$4,'HOJA GENERAL DE DATOS'!C75,'HOJA GENERAL DE DATOS'!C22)","v":{"$error":"#N/A"}},{"$f":"IF($C$3='ENLACES DATOS'!$B$4,'HOJA GENERAL DE DATOS'!D75,'HOJA GENERAL DE DATOS'!D22)","v":{"$error":"#N/A"}},{"$f":"IF($C$3='ENLACES DATOS'!$B$4,'HOJA GENERAL DE DATOS'!E75,'HOJA GENERAL DE DATOS'!E22)","v":{"$error":"#N/A"}},{"$error":"#N/A"},{"$f":"IF($C$3='ENLACES DATOS'!$B$4,'HOJA GENERAL DE DATOS'!I75,'HOJA GENERAL DE DATOS'!I22)","v":{"$error":"#N/A"}},{"$f":"IF($C$3='ENLACES DATOS'!$B$4,'HOJA GENERAL DE DATOS'!J75,'HOJA GENERAL DE DATOS'!J22)","v":{"$error":"#N/A"}},{"$error":"#N/A"}]
[null,{"$f":"IF($C$3='ENLACES DATOS'!$B$4,'HOJA GENERAL DE DATOS'!B76,'HOJA GENERAL DE DATOS'!B23)","v":{"$error":"#N/A"}},{"$f":"IF($C$3='ENLACES DATOS'!$B$4,'HOJA GENERAL DE DATOS'!C76,'HOJA GENERAL DE DATOS'!C23)","v":{"$error":"#N/A"}},{"$f":"IF($C$3='ENLACES DATOS'!$B$4,'HOJA GENERAL DE DATOS'!D76,'HOJA GENERAL DE DATOS'!D23)","v":{"$error":"#N/A"}},{"$f":"IF($C$3='ENLACES DATOS'!$B$4,'HOJA GENERAL DE DATOS'!E76,'HOJA GENERAL DE DATOS'!E23)","v":{"$error":"#N/A"}},{"$error":"#N/A"},{"$f":"IF($C$3='ENLACES DATOS'!$B$4,'HOJA GENERAL DE DATOS'!I76,'HOJA GENERAL DE DATOS'!I23)","v":{"$error":"#N/A"}},{"$f":"IF($C$3='ENLACES DATOS'!$B$4,'HOJA GENERAL DE DATOS'!J76,'HOJA GENERAL DE DATOS'!J23)","v":{"$error":"#N/A"}},{"$error":"#N/A"}]
[null,{"$f":"IF($C$3='ENLACES DATOS'!$B$4,'HOJA GENERAL DE DATOS'!B77,'HOJA GENERAL DE DATOS'!B24)","v":{"$error":"#N/A"}},{"$f":"IF($C$3='ENLACES DATOS'!$B$4,'HOJA GENERAL DE DATOS'!C77,'HOJA GENERAL DE DATOS'!C24)","v":{"$error":"#N/A"}},{"$f":"IF($C$3='ENLACES DATOS'!$B$4,'HOJA GENERAL DE DATOS'!D77,'HOJA GENERAL DE DATOS'!D24)","v":{"$error":"#N/A"}},{"$f":"IF($C$3='ENLACES DATOS'!$B$4,'HOJA GENERAL DE DATOS'!E77,'HOJA GENERAL DE DATOS'!E24)","v":{"$error":"#N/A"}},{"$error":"#N/A"},{"$f":"IF($C$3='ENLACES DATOS'!$B$4,'HOJA GENERAL DE DATOS'!I77,'HOJA GENERAL DE DATOS'!I24)","v":{"$error":"#N/A"}},{"$f":"IF($C$3='ENLACES DATOS'!$B$4,'HOJA GENERAL DE DATOS'!J77,'HOJA GENERAL DE DATOS'!J24)","v":{"$error":"#N/A"}},{"$error":"#N/A"}]
[null,{"$f":"IF($C$3='ENLACES DATOS'!$B$4,'HOJA GENERAL DE DATOS'!B78,'HOJA GENERAL DE DATOS'!B25)","v":{"$error":"#N/A"}},{"$f":"IF($C$3='ENLACES DATOS'!$B$4,'HOJA GENERAL DE DATOS'!C78,'HOJA GENERAL DE DATOS'!C25)","v":{"$error":"#N/A"}},{"$f":"IF($C$3='ENLACES DATOS'!$B$4,'HOJA GENERAL DE DATOS'!D78,'HOJA GENERAL DE DATOS'!D25)","v":{"$error":"#N/A"}},{"$f":"IF($C$3='ENLACES DATOS'!$B$4,'HOJA GENERAL DE DATOS'!E78,'HOJA GENERAL DE DATOS'!E25)","v":{"$error":"#N/A"}},{"$error":"#N/A"},{"$f":"IF($C$3='ENLACES DATOS'!$B$4,'HOJA GENERAL DE DATOS'!I78,'HOJA GENERAL DE DATOS'!I25)","v":{"$error":"#N/A"}},{"$f":"IF($C$3='ENLACES DATOS'!$B$4,'HOJA GENERAL DE DATOS'!J78,'HOJA GENERAL DE DATOS'!J25)","v":{"$error":"#N/A"}},{"$error":"#N/A"}]
[null,{"$f":"IF($C$3='ENLACES DATOS'!$B$4,'HOJA GENERAL DE DATOS'!B79,'HOJA GENERAL DE DATOS'!B26)","v":{"$error":"#N/A"}},{"$f":"IF($C$3='ENLACES DATOS'!$B$4,'HOJA GENERAL DE DATOS'!C79,'HOJA GENERAL DE DATOS'!C26)","v":{"$error":"#N/A"}},{"$f":"IF($C$3='ENLACES DATOS'!$B$4,'HOJA GENERAL DE DATOS'!D79,'HOJA GENERAL DE DATOS'!D26)","v":{"$error":"#N/A"}},{"$f":"IF($C$3='ENLACES DATOS'!$B$4,'HOJA GENERAL DE DATOS'!E79,'HOJA GENERAL DE DATOS'!E26)","v":{"$error":"#N/A"}},{"$error":"#N/A"},{"$f":"IF($C$3='ENLACES DATOS'!$B$4,'HOJA GENERAL DE DATOS'!I79,'HOJA GENERAL DE DATOS'!I26)","v":{"$error":"#N/A"}},{"$f":"IF($C$3='ENLACES DATOS'!$B$4,'HOJA GENERAL DE DATOS'!J79,'HOJA GENERAL DE DATOS'!J26)","v":{"$error":"#N/A"}},{"$error":"#N/A"}]
[null,{"$f":"IF($C$3='ENLACES DATOS'!$B$4,'HOJA GENERAL DE DATOS'!B80,'HOJA GENERAL DE DATOS'!B27)","v":{"$error":"#N/A"}},{"$f":"IF($C$3='ENLACES DATOS'!$B$4,'HOJA GENERAL DE DATOS'!C80,'HOJA GENERAL DE DATOS'!C27)","v":{"$error":"#N/A"}},{"$f":"IF($C$3='ENLACES DATOS'!$B$4,'HOJA GENERAL DE DATOS'!D80,'HOJA GENERAL DE DATOS'!D27)","v":{"$error":"#N/A"}},{"$f":"IF($C$3='ENLACES DATOS'!$B$4,'HOJA GENERAL DE DATOS'!E80,'HOJA GENERAL DE DATOS'!E27)","v":{"$error":"#N/A"}},{"$error":"#N/A"},{"$f":"IF($C$3='ENLACES DATOS'!$B$4,'HOJA GENERAL DE DATOS'!I80,'HOJA GENERAL DE DATOS'!I27)","v":{"$error":"#N/A"}},{"$f":"IF($C$3='ENLACES DATOS'!$B$4,'HOJA GENERAL DE DATOS'!J80,'HOJA GENERAL DE DATOS'!J27)","v":{"$error":"#N/A"}},{"$error":"#N/A"}]
[null,{"$f":"IF($C$3='ENLACES DATOS'!$B$4,'HOJA GENERAL DE DATOS'!B81,'HOJA GENERAL DE DATOS'!B28)","v":{"$error":"#N/A"}},{"$f":"IF($C$3='ENLACES DATOS'!$B$4,'HOJA GENERAL DE DATOS'!C81,'HOJA GENERAL DE DATOS'!C28)","v":{"$error":"#N/A"}},{"$f":"IF($C$3='ENLACES DATOS'!$B$4,'HOJA GENERAL DE DATOS'!D81,'HOJA GENERAL DE DATOS'!D28)","v":{"$error":"#N/A"}},{"$f":"IF($C$3='ENLACES DATOS'!$B$4,'HOJA GENERAL DE DATOS'!E81,'HOJA GENERAL DE DATOS'!E28)","v":{"$error":"#N/A"}},{"$error":"#N/A"},{"$f":"IF($C$3='ENLACES DATOS'!$B$4,'HOJA GENERAL DE DATOS'!I81,'HOJA GENERAL DE DATOS'!I28)","v":{"$error":"#N/A"}},{"$f":"IF($C$3='ENLACES DATOS'!$B$4,'HOJA GENERAL DE DATOS'!J81,'HOJA GENERAL DE DATOS'!J28)","v":{"$error":"#N/A"}},{"$error":"#N/A"}]
[null,{"$f":"IF($C$3='ENLACES DATOS'!$B$4,'HOJA GENERAL DE DATOS'!B82,'HOJA GENERAL DE DATOS'!B29)","v":{"$error":"#N/A"}},{"$f":"IF($C$3='ENLACES DATOS'!$B$4,'HOJA GENERAL DE DATOS'!C82,'HOJA GENERAL DE DATOS'!C29)","v":{"$error":"#N/A"}},{"$f":"IF($C$3='ENLACES DATOS'!$B$4,'HOJA GENERAL DE DATOS'!D82,'HOJA GENERAL DE DATOS'!D29)","v":{"$error":"#N/A"}},{"$f":"IF($C$3='ENLACES DATOS'!$B$4,'HOJA GENERAL DE DATOS'!E82,'HOJA GENERAL DE DATOS'!E29)","v":{"$error":"#N/A"}},{"$error":"#N/A"},{"$f":"IF($C$3='ENLACES DATOS'!$B$4,'HOJA GENERAL DE DATOS'!I82,'HOJA GENERAL DE DATOS'!I29)","v":{"$error":"#N/A"}},{"$f":"IF($C$3='ENLACES DATOS'!$B$4,'HOJA GENERAL DE DATOS'!J82,'HOJA GENERAL DE DATOS'!J29)","v":{"$error":"#N/A"}},{"$error":"#N/A"}]
[null,{"$f":"IF($C$3='ENLACES DATOS'!$B$4,'HOJA GENERAL DE DATOS'!B83,'HOJA GENERAL DE DATOS'!B30)","v":{"$error":"#N/A"}},{"$f":"IF($C$3='ENLACES DATOS'!$B$4,'HOJA GENERAL DE DATOS'!C83,'HOJA GENERAL DE DATOS'!C30)","v":{"$error":"#N/A"}},{"$f":"IF($C$3='ENLACES DATOS'!$B$4,'HOJA GENERAL DE DATOS'!D83,'HOJA GENERAL DE DATOS'!D30)","v":{"$error":"#N/A"}},{"$f":"IF($C$3='ENLACES DATOS'!$B$4,'HOJA GENERAL DE DATOS'!E83,'HOJA GENERAL DE DATOS'!E30)","v":{"$error":"#N/A"}},{"$error":"#N/A"},{"$f":"IF($C$3='ENLACES DATOS'!$B$4,'HOJA GENERAL DE DATOS'!I83,'HOJA GENERAL DE DATOS'!I30)","v":{"$error":"#N/A"}},{"$f":"IF($C$3='ENLACES DATOS'!$B$4,'HOJA GENERAL DE DATOS'!J83,'HOJA GENERAL DE DATOS'!J30)","v":{"$error":"#N/A"}},{"$error":"#N/A"}]
[null,{"$f":"IF($C$3='ENLACES DATOS'!$B$4,'HOJA GENERAL DE DATOS'!B84,'HOJA GENERAL DE DATOS'!B31)","v":{"$error":"#N/A"}},{"$f":"IF($C$3='ENLACES DATOS'!$B$4,'HOJA GENERAL DE DATOS'!C84,'HOJA GENERAL DE DATOS'!C31)","v":{"$error":"#N/A"}},{"$f":"IF($C$3='ENLACES DATOS'!$B$4,'HOJA GENERAL DE DATOS'!D84,'HOJA GENERAL DE DATOS'!D31)","v":{"$error":"#N/A"}},{"$f":"IF($C$3='ENLACES DATOS'!$B$4,'HOJA GENERAL DE DATOS'!E84,'HOJA GENERAL DE DATOS'!E31)","v":{"$error":"#N/A"}},{"$error":"#N/A"},{"$f":"IF($C$3='ENLACES DATOS'!$B$4,'HOJA GENERAL DE DATOS'!I84,'HOJA GENERAL DE DATOS'!I31)","v":{"$error":"#N/A"}},{"$f":"IF($C$3='ENLACES DATOS'!$B$4,'HOJA GENERAL DE DATOS'!J84,'HOJA GENERAL DE DATOS'!J31)","v":{"$error":"#N/A"}},{"$error":"#N/A"}]
[null,{"$f":"IF($C$3='ENLACES DATOS'!$B$4,'HOJA GENERAL DE DATOS'!B85,'HOJA GENERAL DE DATOS'!B32)","v":{"$error":"#N/A"}},{"$f":"IF($C$3='ENLACES DATOS'!$B$4,'HOJA GENERAL DE DATOS'!C85,'HOJA GENERAL DE DATOS'!C32)","v":{"$error":"#N/A"}},{"$f":"IF($C$3='ENLACES DATOS'!$B$4,'HOJA GENERAL DE DATOS'!D85,'HOJA GENERAL DE DATOS'!D32)","v":{"$error":"#N/A"}},{"$f":"IF($C$3='ENLACES DATOS'!$B$4,'HOJA GENERAL DE DATOS'!E85,'HOJA GENERAL DE DATOS'!E32)","v":{"$error":"#N/A"}},{"$error":"#N/A"},{"$f":"IF($C$3='ENLACES DATOS'!$B$4,'HOJA GENERAL DE DATOS'!I85,'HOJA GENERAL DE DATOS'!I32)","v":{"$error":"#N/A"}},{"$f":"IF($C$3='ENLACES DATOS'!$B$4,'HOJA GENERAL DE DATOS'!J85,'HOJA GENERAL DE DATOS'!J32)","v":{"$error":"#N/A"}},{"$error":"#N/A"}]
[null,{"$f":"IF($C$3='ENLACES DATOS'!$B$4,'HOJA GENERAL DE DATOS'!B86,'HOJA GENERAL DE DATOS'!B33)","v":{"$error":"#N/A"}},{"$f":"IF($C$3='ENLACES DATOS'!$B$4,'HOJA GENERAL DE DATOS'!C86,'HOJA GENERAL DE DATOS'!C33)","v":{"$error":"#N/A"}},{"$f":"IF($C$3='ENLACES DATOS'!$B$4,'HOJA GENERAL DE DATOS'!D86,'HOJA GENERAL DE DATOS'!D33)","v":{"$error":"#N/A"}},{"$f":"IF($C$3='ENLACES DATOS'!$B$4,'HOJA GENERAL DE DATOS'!E86,'HOJA GENERAL DE DATOS'!E33)","v":{"$error":"#N/A"}},{"$error":"#N/A"},{"$f":"IF($C$3='ENLACES DATOS'!$B$4,'HOJA GENERAL DE DATOS'!I86,'HOJA GENERAL DE DATOS'!I33)","v":{"$error":"#N/A"}},{"$f":"IF($C$3='ENLACES DATOS'!$B$4,'HOJA GENERAL DE DATOS'!J86,'HOJA GENERAL DE DATOS'!J33)","v":{"$error":"#N/A"}},{"$error":"#N/A"}]
[null,{"$f":"IF($C$3='ENLACES DATOS'!$B$4,'HOJA GENERAL DE DATOS'!B87,'HOJA GENERAL DE DATOS'!B34)","v":{"$error":"#N/A"}},{"$f":"IF($C$3='ENLACES DATOS'!$B$4,'HOJA GENERAL DE DATOS'!C87,'HOJA GENERAL DE DATOS'!C34)","v":{"$error":"#N/A"}},{"$f":"IF($C$3='ENLACES DATOS'!$B$4,'HOJA GENERAL DE DATOS'!D87,'HOJA GENERAL DE DATOS'!D34)","v":{"$error":"#N/A"}},{"$f":"IF($C$3='ENLACES DATOS'!$B$4,'HOJA GENERAL DE DATOS'!E87,'HOJA GENERAL DE DATOS'!E34)","v":{"$error":"#N/A"}},{"$error":"#N/A"},{"$f":"IF($C$3='ENLACES DATOS'!$B$4,'HOJA GENERAL DE DATOS'!I87,'HOJA GENERAL DE DATOS'!I34)","v":{"$error":"#N/A"}},{"$f":"IF($C$3='ENLACES DATOS'!$B$4,'HOJA GENERAL DE DATOS'!J87,'HOJA GENERAL DE DATOS'!J34)","v":{"$error":"#N/A"}},{"$error":"#N/A"}]
[null,{"$f":"IF($C$3='ENLACES DATOS'!$B$4,'HOJA GENERAL DE DATOS'!B88,'HOJA GENERAL DE DATOS'!B35)","v":{"$error":"#N/A"}},{"$f":"IF($C$3='ENLACES DATOS'!$B$4,'HOJA GENERAL DE DATOS'!C88,'HOJA GENERAL DE DATOS'!C35)","v":{"$error":"#N/A"}},{"$f":"IF($C$3='ENLACES DATOS'!$B$4,'HOJA GENERAL DE DATOS'!D88,'HOJA GENERAL DE DATOS'!D35)","v":{"$error":"#N/A"}},{"$f":"IF($C$3='ENLACES DATOS'!$B$4,'HOJA GENERAL DE DATOS'!E88,'HOJA GENERAL DE DATOS'!E35)","v":{"$error":"#N/A"}},{"$error":"#N/A"},{"$f":"IF($C$3='ENLACES DATOS'!$B$4,'HOJA GENERAL DE DATOS'!I88,'HOJA GENERAL DE DATOS'!I35)","v":{"$error":"#N/A"}},{"$f":"IF($C$3='ENLACES DATOS'!$B$4,'HOJA GENERAL DE DATOS'!J88,'HOJA GENERAL DE DATOS'!J35)","v":{"$error":"#N/A"}},{"$error":"#N/A"}]
[null,{"$f":"IF($C$3='ENLACES DATOS'!$B$4,'HOJA GENERAL DE DATOS'!B89,'HOJA GENERAL DE DATOS'!B36)","v":{"$error":"#N/A"}},{"$f":"IF($C$3='ENLACES DATOS'!$B$4,'HOJA GENERAL DE DATOS'!C89,'HOJA GENERAL DE DATOS'!C36)","v":{"$error":"#N/A"}},{"$f":"IF($C$3='ENLACES DATOS'!$B$4,'HOJA GENERAL DE DATOS'!D89,'HOJA GENERAL DE DATOS'!D36)","v":{"$error":"#N/A"}},{"$f":"IF($C$3='ENLACES DATOS'!$B$4,'HOJA GENERAL DE DATOS'!E89,'HOJA GENERAL DE DATOS'!E36)","v":{"$error":"#N/A"}},{"$error":"#N/A"},{"$f":"IF($C$3='ENLACES DATOS'!$B$4,'HOJA GENERAL DE DATOS'!I89,'HOJA GENERAL DE DATOS'!I36)","v":{"$error":"#N/A"}},{"$f":"IF($C$3='ENLACES DATOS'!$B$4,'HOJA GENERAL DE DATOS'!J89,'HOJA GENERAL DE DATOS'!J36)","v":{"$error":"#N/A"}},{"$error":"#N/A"}]
[null,{"$f":"IF($C$3='ENLACES DATOS'!$B$4,'HOJA GENERAL DE DATOS'!B90,'HOJA GENERAL DE DATOS'!B37)","v":{"$error":"#N/A"}},{"$f":"IF($C$3='ENLACES DATOS'!$B$4,'HOJA GENERAL DE DATOS'!C90,'HOJA GENERAL DE DATOS'!C37)","v":{"$error":"#N/A"}},{"$f":"IF($C$3='ENLACES DATOS'!$B$4,'HOJA GENERAL DE DATOS'!D90,'HOJA GENERAL DE DATOS'!D37)","v":{"$error":"#N/A"}},{"$f":"IF($C$3='ENLACES DATOS'!$B$4,'HOJA GENERAL DE DATOS'!E90,'HOJA GENERAL DE DATOS'!E37)","v":{"$error":"#N/A"}},{"$error":"#N/A"},{"$f":"IF($C$3='ENLACES DATOS'!$B$4,'HOJA GENERAL DE DATOS'!I90,'HOJA GENERAL DE DATOS'!I37)","v":{"$error":"#N/A"}},{"$f":"IF($C$3='ENLACES DATOS'!$B$4,'HOJA GENERAL DE DATOS'!J90,'HOJA GENERAL DE DATOS'!J37)","v":{"$error":"#N/A"}},{"$error":"#N/A"}]
[null,{"$f":"IF($C$3='ENLACES DATOS'!$B$4,'HOJA GENERAL DE DATOS'!B91,'HOJA GENERAL DE DATOS'!B38)","v":{"$error":"#N/A"}},{"$f":"IF($C$3='ENLACES DATOS'!$B$4,'HOJA GENERAL DE DATOS'!C91,'HOJA GENERAL DE DATOS'!C38)","v":{"$error":"#N/A"}},{"$f":"IF($C$3='ENLACES DATOS'!$B$4,'HOJA GENERAL DE DATOS'!D91,'HOJA GENERAL DE DATOS'!D38)","v":{"$error":"#N/A"}},{"$f":"IF($C$3='ENLACES DATOS'!$B$4,'HOJA GENERAL DE DATOS'!E91,'HOJA GENERAL DE DATOS'!E38)","v":{"$error":"#N/A"}},{"$error":"#N/A"},{"$f":"IF($C$3='ENLACES DATOS'!$B$4,'HOJA GENERAL DE DATOS'!I91,'HOJA GENERAL DE DATOS'!I38)","v":{"$error":"#N/A"}},{"$f":"IF($C$3='ENLACES DATOS'!$B$4,'HOJA GENERAL DE DATOS'!J91,'HOJA GENERAL DE DATOS'!J38)","v":{"$error":"#N/A"}},{"$error":"#N/A"}]
[null,{"$f":"IF($C$3='ENLACES DATOS'!$B$4,'HOJA GENERAL DE DATOS'!B92,'HOJA GENERAL DE DATOS'!B39)","v":{"$error":"#N/A"}},{"$f":"IF($C$3='ENLACES DATOS'!$B$4,'HOJA GENERAL DE DATOS'!C92,'HOJA GENERAL DE DATOS'!C39)","v":{"$error":"#N/A"}},{"$f":"IF($C$3='ENLACES DATOS'!$B$4,'HOJA GENERAL DE DATOS'!D92,'HOJA GENERAL DE DATOS'!D39)","v":{"$error":"#N/A"}},{"$f":"IF($C$3='ENLACES DATOS'!$B$4,'HOJA GENERAL DE DATOS'!E92,'HOJA GENERAL DE DATOS'!E39)","v":{"$error":"#N/A"}},{"$error":"#N/A"},{"$f":"IF($C$3='ENLACES DATOS'!$B$4,'HOJA GENERAL DE DATOS'!I92,'HOJA GENERAL DE DATOS'!I39)","v":{"$error":"#N/A"}},{"$f":"IF($C$3='ENLACES DATOS'!$B$4,'HOJA GENERAL DE DATOS'!J92,'HOJA GENERAL DE DATOS'!J39)","v":{"$error":"#N/A"}},{"$error":"#N/A"}]
[null,{"$f":"IF($C$3='ENLACES DATOS'!$B$4,'HOJA GENERAL DE DATOS'!B93,'HOJA GENERAL DE DATOS'!B40)","v":{"$error":"#N/A"}},{"$f":"IF($C$3='ENLACES DATOS'!$B$4,'HOJA GENERAL DE DATOS'!C93,'HOJA GENERAL DE DATOS'!C40)","v":{"$error":"#N/A"}},{"$f":"IF($C$3='ENLACES DATOS'!$B$4,'HOJA GENERAL DE DATOS'!D93,'HOJA GENERAL DE DATOS'!D40)","v":{"$error":"#N/A"}},{"$f":"IF($C$3='ENLACES DATOS'!$B$4,'HOJA GENERAL DE DATOS'!E93,'HOJA GENERAL DE DATOS'!E40)","v":{"$error":"#N/A"}},{"$error":"#N/A"},{"$f":"IF($C$3='ENLACES DATOS'!$B$4,'HOJA GENERAL DE DATOS'!I93,'HOJA GENERAL DE DATOS'!I40)","v":{"$error":"#N/A"}},{"$f":"IF($C$3='ENLACES DATOS'!$B$4,'HOJA GENERAL DE DATOS'!J93,'HOJA GENERAL DE DATOS'!J40)","v":{"$error":"#N/A"}},{"$error":"#N/A"}]
[null,{"$f":"IF($C$3='ENLACES DATOS'!$B$4,'HOJA GENERAL DE DATOS'!B94,'HOJA GENERAL DE DATOS'!B41)","v":{"$error":"#N/A"}},{"$f":"IF($C$3='ENLACES DATOS'!$B$4,'HOJA GENERAL DE DATOS'!C94,'HOJA GENERAL DE DATOS'!C41)","v":{"$error":"#N/A"}},{"$f":"IF($C$3='ENLACES DATOS'!$B$4,'HOJA GENERAL DE DATOS'!D94,'HOJA GENERAL DE DATOS'!D41)","v":{"$error":"#N/A"}},{"$f":"IF($C$3='ENLACES DATOS'!$B$4,'HOJA GENERAL DE DATOS'!E94,'HOJA GENERAL DE DATOS'!E41)","v":{"$error":"#N/A"}},{"$error":"#N/A"},{"$f":"IF($C$3='ENLACES DATOS'!$B$4,'HOJA GENERAL DE DATOS'!I94,'HOJA GENERAL DE DATOS'!I41)","v":{"$error":"#N/A"}},{"$f":"IF($C$3='ENLACES DATOS'!$B$4,'HOJA GENERAL DE DATOS'!J94,'HOJA GENERAL DE DATOS'!J41)","v":{"$error":"#N/A"}},{"$error":"#N/A"}]
[null,{"$f":"IF($C$3='ENLACES DATOS'!$B$4,'HOJA GENERAL DE DATOS'!B95,'HOJA GENERAL DE DATOS'!B42)","v":{"$error":"#N/A"}},{"$f":"IF($C$3='ENLACES DATOS'!$B$4,'HOJA GENERAL DE DATOS'!C95,'HOJA GENERAL DE DATOS'!C42)","v":{"$error":"#N/A"}},{"$f":"IF($C$3='ENLACES DATOS'!$B$4,'HOJA GENERAL DE DATOS'!D95,'HOJA GENERAL DE DATOS'!D42)","v":{"$error":"#N/A"}},{"$f":"IF($C$3='ENLACES DATOS'!$B$4,'HOJA GENERAL DE DATOS'!E95,'HOJA GENERAL DE DATOS'!E42)","v":{"$error":"#N/A"}},{"$error":"#N/A"},{"$f":"IF($C$3='ENLACES DATOS'!$B$4,'HOJA GENERAL DE DATOS'!I95,'HOJA GENERAL DE DATOS'!I42)","v":{"$error":"#N/A"}},{"$f":"IF($C$3='ENLACES DATOS'!$B$4,'HOJA GENERAL DE DATOS'!J95,'HOJA GENERAL DE DATOS'!J42)","v":{"$error":"#N/A"}},{"$error":"#N/A"}]
[null,{"$f":"IF($C$3='ENLACES DATOS'!$B$4,'HOJA GENERAL DE DATOS'!B96,'HOJA GENERAL DE DATOS'!B43)","v":{"$error":"#N/A"}},{"$f":"IF($C$3='ENLACES DATOS'!$B$4,'HOJA GENERAL DE DATOS'!C96,'HOJA GENERAL DE DATOS'!C43)","v":{"$error":"#N/A"}},{"$f":"IF($C$3='ENLACES DATOS'!$B$4,'HOJA GENERAL DE DATOS'!D96,'HOJA GENERAL DE DATOS'!D43)","v":{"$error":"#N/A"}},{"$f":"IF($C$3='ENLACES DATOS'!$B$4,'HOJA GENERAL DE DATOS'!E96,'HOJA GENERAL DE DATOS'!E43)","v":{"$error":"#N/A"}},{"$error":"#N/A"},{"$f":"IF($C$3='ENLACES DATOS'!$B$4,'HOJA GENERAL DE DATOS'!I96,'HOJA GENERAL DE DATOS'!I43)","v":{"$error":"#N/A"}},{"$f":"IF($C$3='ENLACES DATOS'!$B$4,'HOJA GENERAL DE DATOS'!J96,'HOJA GENERAL DE DATOS'!J43)","v":{"$error":"#N/A"}},{"$error":"#N/A"}]
[null,{"$f":"IF($C$3='ENLACES DATOS'!$B$4,'HOJA GENERAL DE DATOS'!B97,'HOJA GENERAL DE DATOS'!B44)","v":{"$error":"#N/A"}},{"$f":"IF($C$3='ENLACES DATOS'!$B$4,'HOJA GENERAL DE DATOS'!C97,'HOJA GENERAL DE DATOS'!C44)","v":{"$error":"#N/A"}},{"$f":"IF($C$3='ENLACES DATOS'!$B$4,'HOJA GENERAL DE DATOS'!D97,'HOJA GENERAL DE DATOS'!D44)","v":{"$error":"#N/A"}},{"$f":"IF($C$3='ENLACES DATOS'!$B$4,'HOJA GENERAL DE DATOS'!E97,'HOJA GENERAL DE DATOS'!E44)","v":{"$error":"#N/A"}},{"$error":"#N/A"},{"$f":"IF($C$3='ENLACES DATOS'!$B$4,'HOJA GENERAL DE DATOS'!I97,'HOJA GENERAL DE DATOS'!I44)","v":{"$error":"#N/A"}},{"$f":"IF($C$3='ENLACES DATOS'!$B$4,'HOJA GENERAL DE DATOS'!J97,'HOJA GENERAL DE DATOS'!J44)","v":{"$error":"#N/A"}},{"$error":"#N/A"}]
[null,{"$f":"IF($C$3='ENLACES DATOS'!$B$4,'HOJA GENERAL DE DATOS'!B98,'HOJA GENERAL DE DATOS'!B45)","v":{"$error":"#N/A"}},{"$f":"IF($C$3='ENLACES DATOS'!$B$4,'HOJA GENERAL DE DATOS'!C98,'HOJA GENERAL DE DATOS'!C45)","v":{"$error":"#N/A"}},{"$f":"IF($C$3='ENLACES DATOS'!$B$4,'HOJA GENERAL DE DATOS'!D98,'HOJA GENERAL DE DATOS'!D45)","v":{"$error":"#N/A"}},{"$f":"IF($C$3='ENLACES DATOS'!$B$4,'HOJA GENERAL DE DATOS'!E98,'HOJA GENERAL DE DATOS'!E45)","v":{"$error":"#N/A"}},{"$error":"#N/A"},{"$f":"IF($C$3='ENLACES DATOS'!$B$4,'HOJA GENERAL DE DATOS'!I98,'HOJA GENERAL DE DATOS'!I45)","v":{"$error":"#N/A"}},{"$f":"IF($C$3='ENLACES DATOS'!$B$4,'HOJA GENERAL DE DATOS'!J98,'HOJA GENERAL DE DATOS'!J45)","v":{"$error":"#N/A"}},{"$error":"#N/A"}]
[null,{"$f":"IF($C$3='ENLACES DATOS'!$B$4,'HOJA GENERAL DE DATOS'!B99,'HOJA GENERAL DE DATOS'!B46)","v":{"$error":"#N/A"}},{"$f":"IF($C$3='ENLACES DATOS'!$B$4,'HOJA GENERAL DE DATOS'!C99,'HOJA GENERAL DE DATOS'!C46)","v":{"$error":"#N/A"}},{"$f":"IF($C$3='ENLACES DATOS'!$B$4,'HOJA GENERAL DE DATOS'!D99,'HOJA GENERAL DE DATOS'!D46)","v":{"$error":"#N/A"}},{"$f":"IF($C$3='ENLACES DATOS'!$B$4,'HOJA GENERAL DE DATOS'!E99,'HOJA GENERAL DE DATOS'!E46)","v":{"$error":"#N/A"}},{"$error":"#N/A"},{"$f":"IF($C$3='ENLACES DATOS'!$B$4,'HOJA GENERAL DE DATOS'!I99,'HOJA GENERAL DE DATOS'!I46)","v":{"$error":"#N/A"}},{"$f":"IF($C$3='ENLACES DATOS'!$B$4,'HOJA GENERAL DE DATOS'!J99,'HOJA GENERAL DE DATOS'!J46)","v":{"$error":"#N/A"}},{"$error":"#N/A"}]
[null,{"$f":"IF($C$3='ENLACES DATOS'!$B$4,'HOJA GENERAL DE DATOS'!B100,'HOJA GENERAL DE DATOS'!B47)","v":{"$error":"#N/A"}},{"$f":"IF($C$3='ENLACES DATOS'!$B$4,'HOJA GENERAL DE DATOS'!C100,'HOJA GENERAL DE DATOS'!C47)","v":{"$error":"#N/A"}},{"$f":"IF($C$3='ENLACES DATOS'!$B$4,'HOJA GENERAL DE DATOS'!D100,'HOJA GENERAL DE DATOS'!D47)","v":{"$error":"#N/A"}},{"$f":"IF($C$3='ENLACES DATOS'!$B$4,'HOJA GENERAL DE DATOS'!E100,'HOJA GENERAL DE DATOS'!E47)","v":{"$error":"#N/A"}},{"$error":"#N/A"},{"$f":"IF($C$3='ENLACES DATOS'!$B$4,'HOJA GENERAL DE DATOS'!I100,'HOJA GENERAL DE DATOS'!I47)","v":{"$error":"#N/A"}},{"$f":"IF($C$3='ENLACES DATOS'!$B$4,'HOJA GENERAL DE DATOS'!J100,'HOJA GENERAL DE DATOS'!J47)","v":{"$error":"#N/A"}},{"$error":"#N/A"}]
[null,{"$f":"IF($C$3='ENLACES DATOS'!$B$4,'HOJA GENERAL DE DATOS'!B101,'HOJA GENERAL DE DATOS'!B48)","v":{"$error":"#N/A"}},{"$f":"IF($C$3='ENLACES DATOS'!$B$4,'HOJA GENERAL DE DATOS'!C101,'HOJA GENERAL DE DATOS'!C48)","v":{"$error":"#N/A"}},{"$f":"IF($C$3='ENLACES DATOS'!$B$4,'HOJA GENERAL DE DATOS'!D101,'HOJA GENERAL DE DATOS'!D48)","v":{"$error":"#N/A"}},{"$f":"IF($C$3='ENLACES DATOS'!$B$4,'HOJA GENERAL DE DATOS'!E101,'HOJA GENERAL DE DATOS'!E48)","v":{"$error":"#N/A"}},{"$error":"#N/A"},{"$f":"IF($C$3='ENLACES DATOS'!$B$4,'HOJA GENERAL DE DATOS'!I101,'HOJA GENERAL DE DATOS'!I48)","v":{"$error":"#N/A"}},{"$f":"IF($C$3='ENLACES DATOS'!$B$4,'HOJA GENERAL DE DATOS'!J101,'HOJA GENERAL DE DATOS'!J48)","v":{"$error":"#N/A"}},{"$error":"#N/A"}]
[null,{"$f":"IF($C$3='ENLACES DATOS'!$B$4,'HOJA GENERAL DE DATOS'!B102,'HOJA GENERAL DE DATOS'!B49)","v":{"$error":"#N/A"}},{"$f":"IF($C$3='ENLACES DATOS'!$B$4,'HOJA GENERAL DE DATOS'!C102,'HOJA GENERAL DE DATOS'!C49)","v":{"$error":"#N/A"}},{"$f":"IF($C$3='ENLACES DATOS'!$B$4,'HOJA GENERAL DE DATOS'!D102,'HOJA GENERAL DE DATOS'!D49)","v":{"$error":"#N/A"}},{"$f":"IF($C$3='ENLACES DATOS'!$B$4,'HOJA GENERAL DE DATOS'!E102,'HOJA GENERAL DE DATOS'!E49)","v":{"$error":"#N/A"}},{"$error":"#N/A"},{"$f":"IF($C$3='ENLACES DATOS'!$B$4,'HOJA GENERAL DE DATOS'!I102,'HOJA GENERAL DE DATOS'!I49)","v":{"$error":"#N/A"}},{"$f":"IF($C$3='ENLACES DATOS'!$B$4,'HOJA GENERAL DE DATOS'!J102,'HOJA GENERAL DE DATOS'!J49)","v":{"$error":"#N/A"}},{"$error":"#N/A"}]
[null,{"$f":"IF($C$3='ENLACES DATOS'!$B$4,'HOJA GENERAL DE DATOS'!B103,'HOJA GENERAL DE DATOS'!B50)","v":{"$error":"#N/A"}},{"$f":"IF($C$3='ENLACES DATOS'!$B$4,'HOJA GENERAL DE DATOS'!C103,'HOJA GENERAL DE DATOS'!C50)","v":{"$error":"#N/A"}},{"$f":"IF($C$3='ENLACES DATOS'!$B$4,'HOJA GENERAL DE DATOS'!D103,'HOJA GENERAL DE DATOS'!D50)","v":{"$error":"#N/A"}},{"$f":"IF($C$3='ENLACES DATOS'!$B$4,'HOJA GENERAL DE DATOS'!E103,'HOJA GENERAL DE DATOS'!E50)","v":{"$error":"#N/A"}},{"$error":"#N/A"},{"$f":"IF($C$3='ENLACES DATOS'!$B$4,'HOJA GENERAL DE DATOS'!I103,'HOJA GENERAL DE DATOS'!I50)","v":{"$error":"#N/A"}},{"$f":"IF($C$3='ENLACES DATOS'!$B$4,'HOJA GENERAL DE DATOS'!J103,'HOJA GENERAL DE DATOS'!J50)","v":{"$error":"#N/A"}},{"$error":"#N/A"}]
[null,{"$f":"IF($C$3='ENLACES DATOS'!$B$4,'HOJA GENERAL DE DATOS'!B104,'HOJA GENERAL DE DATOS'!B51)","v":{"$error":"#N/A"}},{"$f":"IF($C$3='ENLACES DATOS'!$B$4,'HOJA GENERAL DE DATOS'!C104,'HOJA GENERAL DE DATOS'!C51)","v":{"$error":"#N/A"}},{"$f":"IF($C$3='ENLACES DATOS'!$B$4,'HOJA GENERAL DE DATOS'!D104,'HOJA GENERAL DE DATOS'!D51)","v":{"$error":"#N/A"}},{"$f":"IF($C$3='ENLACES DATOS'!$B$4,'HOJA GENERAL DE DATOS'!E104,'HOJA GENERAL DE DATOS'!E51)","v":{"$error":"#N/A"}},{"$error":"#N/A"},{"$f":"IF($C$3='ENLACES DATOS'!$B$4,'HOJA GENERAL DE DATOS'!I104,'HOJA GENERAL DE DATOS'!I51)","v":{"$error":"#N/A"}},{"$f":"IF($C$3='ENLACES DATOS'!$B$4,'HOJA GENERAL DE DATOS'!J104,'HOJA GENERAL DE DATOS'!J51)","v":{"$error":"#N/A"}},{"$error":"#N/A"}]
[null,{"$f":"IF($C$3='ENLACES DATOS'!$B$4,'HOJA GENERAL DE DATOS'!B105,'HOJA GENERAL DE DATOS'!B52)","v":{"$error":"#N/A"}},{"$f":"IF($C$3='ENLACES DATOS'!$B$4,'HOJA GENERAL DE DATOS'!C105,'HOJA GENERAL DE DATOS'!C52)","v":{"$error":"#N/A"}},{"$f":"IF($C$3='ENLACES DATOS'!$B$4,'HOJA GENERAL DE DATOS'!D105,'HOJA GENERAL DE DATOS'!D52)","v":{"$error":"#N/A"}},{"$f":"IF($C$3='ENLACES DATOS'!$B$4,'HOJA GENERAL DE DATOS'!E105,'HOJA GENERAL DE DATOS'!E52)","v":{"$error":"#N/A"}},{"$error":"#N/A"},{"$f":"IF($C$3='ENLACES DATOS'!$B$4,'HOJA GENERAL DE DATOS'!I105,'HOJA GENERAL DE DATOS'!I52)","v":{"$error":"#N/A"}},{"$f":"IF($C$3='ENLACES DATOS'!$B$4,'HOJA GENERAL DE DATOS'!J105,'HOJA GENERAL DE DATOS'!J52)","v":{"$error":"#N/A"}},{"$error":"#N/A"}]
[null,{"$f":"IF($C$3='ENLACES DATOS'!$B$4,'HOJA GENERAL DE DATOS'!B106,'HOJA GENERAL DE DATOS'!B53)","v":{"$error":"#N/A"}},{"$f":"IF($C$3='ENLACES DATOS'!$B$4,'HOJA GENERAL DE DATOS'!C106,'HOJA GENERAL DE DATOS'!C53)","v":{"$error":"#N/A"}},{"$f":"IF($C$3='ENLACES DATOS'!$B$4,'HOJA GENERAL DE DATOS'!D106,'HOJA GENERAL DE DATOS'!D53)","v":{"$error":"#N/A"}},{"$f":"IF($C$3='ENLACES DATOS'!$B$4,'HOJA GENERAL DE DATOS'!E106,'HOJA GENERAL DE DATOS'!E53)","v":{"$error":"#N/A"}},{"$error":"#N/A"},{"$f":"IF($C$3='ENLACES DATOS'!$B$4,'HOJA GENERAL DE DATOS'!I106,'HOJA GENERAL DE DATOS'!I53)","v":{"$error":"#N/A"}},{"$f":"IF($C$3='ENLACES DATOS'!$B$4,'HOJA GENERAL DE DATOS'!J106,'HOJA GENERAL DE DATOS'!J53)","v":{"$error":"#N/A"}},{"$error":"#N/A"}]
[null,{"$f":"IF($C$3='ENLACES DATOS'!$B$4,'HOJA GENERAL DE DATOS'!B107,'HOJA GENERAL DE DATOS'!B54)","v":{"$error":"#N/A"}},{"$f":"IF($C$3='ENLACES DATOS'!$B$4,'HOJA GENERAL DE DATOS'!C107,'HOJA GENERAL DE DATOS'!C54)","v":{"$error":"#N/A"}},{"$f":"IF($C$3='ENLACES DATOS'!$B$4,'HOJA GENERAL DE DATOS'!D107,'HOJA GENERAL DE DATOS'!D54)","v":{"$error":"#N/A"}},{"$f":"IF($C$3='ENLACES DATOS'!$B$4,'HOJA GENERAL DE DATOS'!E107,'HOJA GENERAL DE DATOS'!E54)","v":{"$error":"#N/A"}},{"$error":"#N/A"},{"$f":"IF($C$3='ENLACES DATOS'!$B$4,'HOJA GENERAL DE DATOS'!I107,'HOJA GENERAL DE DATOS'!I54)","v":{"$error":"#N/A"}},{"$f":"IF($C$3='ENLACES DATOS'!$B$4,'HOJA GENERAL DE DATOS'!J107,'HOJA GENERAL DE DATOS'!J54)","v":{"$error":"#N/A"}},{"$error":"#N/A"}]
[null,{"$f":"IF($C$3='ENLACES DATOS'!$B$4,'HOJA GENERAL DE DATOS'!B108,'HOJA GENERAL DE DATOS'!B55)","v":{"$error":"#N/A"}},{"$f":"IF($C$3='ENLACES DATOS'!$B$4,'HOJA GENERAL DE DATOS'!C108,'HOJA GENERAL DE DATOS'!C55)","v":{"$error":"#N/A"}},{"$f":"IF($C$3='ENLACES DATOS'!$B$4,'HOJA GENERAL DE DATOS'!D108,'HOJA GENERAL DE DATOS'!D55)","v":{"$error":"#N/A"}},{"$f":"IF($C$3='ENLACES DATOS'!$B$4,'HOJA GENERAL DE DATOS'!E108,'HOJA GENERAL DE DATOS'!E55)","v":{"$error":"#N/A"}},{"$error":"#N/A"},{"$f":"IF($C$3='ENLACES DATOS'!$B$4,'HOJA GENERAL DE DATOS'!I108,'HOJA GENERAL DE DATOS'!I55)","v":{"$error":"#N/A"}},{"$f":"IF($C$3='ENLACES DATOS'!$B$4,'HOJA GENERAL DE DATOS'!J108,'HOJA GENERAL DE DATOS'!J55)","v":{"$error":"#N/A"}},{"$error":"#N/A"}]
[null,{"$f":"IF($C$3='ENLACES DATOS'!$B$4,'HOJA GENERAL DE DATOS'!B109,'HOJA GENERAL DE DATOS'!B56)","v":{"$error":"#N/A"}},{"$f":"IF($C$3='ENLACES DATOS'!$B$4,'HOJA GENERAL DE DATOS'!C109,'HOJA GENERAL DE DATOS'!C56)","v":{"$error":"#N/A"}},{"$f":"IF($C$3='ENLACES DATOS'!$B$4,'HOJA GENERAL DE DATOS'!D109,'HOJA GENERAL DE DATOS'!D56)","v":{"$error":"#N/A"}},{"$f":"IF($C$3='ENLACES DATOS'!$B$4,'HOJA GENERAL DE DATOS'!E109,'HOJA GENERAL DE DATOS'!E56)","v":{"$error":"#N/A"}},{"$error":"#N/A"},{"$f":"IF($C$3='ENLACES DATOS'!$B$4,'HOJA GENERAL DE DATOS'!I109,'HOJA GENERAL DE DATOS'!I56)","v":{"$error":"#N/A"}},{"$f":"IF($C$3='ENLACES DATOS'!$B$4,'HOJA GENERAL DE DATOS'!J109,'HOJA GENERAL DE DATOS'!J56)","v":{"$error":"#N/A"}},{"$error":"#N/A"}]
[]
[]
["GRAFICO SEMANAS ANTERIOR Y POSTERIOR"]
[]
[null,"SEMANAS",{"$f":"D3-1","v":{"$error":"#N/A"}},{"$f":"VLOOKUP($C87,'HOJA GENERAL DE DATOS'!$A$4:$D$56,2,FALSE)","v":{"$error":"#N/A"}},{"$f":"VLOOKUP($C87,'HOJA GENERAL DE DATOS'!$A$4:$D$56,4,FALSE)","v":{"$error":"#N/A"}},null,"SOLUCION","SEM.ANT",{"$f":"VLOOKUP(C3,D87:E88,2,FALSE)","v":{"$error":"#N/A"}}]
[null,null,{"$f":"D3-1","v":{"$error":"#N/A"}},{"$f":"VLOOKUP($C88,'HOJA GENERAL DE DATOS'!$A$57:$D$109,2,FALSE)","v":{"$error":"#N/A"}},{"$f":"VLOOKUP($C88,'HOJA GENERAL DE DATOS'!$A$57:$D$109,4,FALSE)","v":{"$error":"#N/A"}},null,null,"SEM ",{"$f":"VLOOKUP(C3,D89:E90,2,FALSE)","v":{"$error":"#N/A"}}]
[null,null,{"$f":"D3","v":{"$error":"#N/A"}},{"$f":"VLOOKUP($C89,'HOJA GENERAL DE DATOS'!$A$4:$D$56,2,FALSE)","v":{"$error":"#N/A"}},{"$f":"VLOOKUP($C89,'HOJA GENERAL DE DATOS'!$A$4:$D$56,4,FALSE)","v":{"$error":"#N/A"}},null,null,"SEM POST",{"$f":"VLOOKUP(C3,D91:E92,2,FALSE)","v":{"$error":"#N/A"}}]
[null,null,{"$f":"D3","v":{"$error":"#N/A"}},{"$f":"VLOOKUP($C90,'HOJA GENERAL DE DATOS'!$A$57:$D$109,2,FALSE)","v":{"$error":"#N/A"}},{"$f":"VLOOKUP($C90,'HOJA GENERAL DE DATOS'!$A$57:$D$109,4,FALSE)","v":{"$error":"#N/A"}}]
[null,null,{"$f":"D3+1","v":{"$error":"#N/A"}},{"$f":"VLOOKUP($C91,'HOJA GENERAL DE DATOS'!$A$4:$D$56,2,FALSE)","v":{"$error":"#N/A"}},{"$f":"VLOOKUP($C91,'HOJA GENERAL DE DATOS'!$A$4:$D$56,4,FALSE)","v":{"$error":"#N/A"}}]
[null,null,{"$f":"D3+1","v":{"$error":"#N/A"}},{"$f":"VLOOKUP($C92,'HOJA GENERAL DE DATOS'!$A$57:$D$109,2,FALSE)","v":{"$error":"#N/A"}},{"$f":"VLOOKUP($C92,'HOJA GENERAL DE DATOS'!$A$57:$D$109,4,FALSE)","v":{"$error":"#N/A"}}]
[]
[]
["ESTIMACION MENSUAL"]
[null,null,"cebadero","semana","mes","COEF,BAJAS"]
["CEBO LARGO","CEBO LARGO",{"$f":"VLOOKUP('GEST CHEQ MES'!C11,'ENLACES DATOS'!A3:B4,2,FALSE)","v":{"$error":"#N/A"}},{"$f":"'BUSCAR FECHA'!G3","v":{"$error":"#N/A"}},{"$f":"'BUSCAR FECHA'!H3","v":{"$error":"#N/A"}},{"$f":"'GEST CHEQ MES'!$C$18/'GEST CHEQ MES'!$C$19","v":{"$error":"#VALUE!"}}]
["CEBADERO REGULADOR","CEBO CORTO"]
[]
[null,1,2,4,5,6,7,8,9,10,11]
[null,"MES REAL","TIPO DE CEBO","%BAJAS MES","%BAJAS MES MAX","COEF GRANJA","PRECIOS 15Kg","PRECIOS 25Kg","CENSO","AFORO","IMPORT"]
[null,{"$f":"E97","v":{"$error":"#N/A"}},{"$f":"VLOOKUP($B102,'HOJA GENERAL DE DATOS'!$A$113:$K$124,'ENLACES DATOS'!C100,FALSE)","v":{"$error":"#N/A"}},{"$f":"VLOOKUP($B102,'HOJA GENERAL DE DATOS'!$A$113:$K$124,'ENLACES DATOS'!D100,FALSE)","v":{"$error":"#N/A"}},{"$f":"VLOOKUP($B102,'HOJA GENERAL DE DATOS'!$A$113:$K$124,'ENLACES DATOS'!E100,FALSE)","v":{"$error":"#N/A"}},{"$f":"VLOOKUP($B102,'HOJA GENERAL DE DATOS'!$A$113:$K$124,'ENLACES DATOS'!F100,FALSE)","v":{"$error":"#N/A"}},{"$f":"VLOOKUP($B102,'HOJA GENERAL DE DATOS'!$A$113:$K$124,'ENLACES DATOS'!G100,FALSE)","v":{"$error":"#N/A"}},{"$f":"VLOOKUP($B102,'HOJA GENERAL DE DATOS'!$A$113:$K$124,'ENLACES DATOS'!H100,FALSE)","v":{"$error":"#N/A"}},{"$f":"VLOOKUP($B102,'HOJA GENERAL DE DATOS'!$A$113:$K$124,'ENLACES DATOS'!I100,FALSE)","v":{"$error":"#N/A"}},{"$f":"VLOOKUP($B102,'HOJA GENERAL DE DATOS'!$A$113:$K$124,'ENLACES DATOS'!J100,FALSE)","v":{"$error":"#N/A"}},{"$f":"VLOOKUP($B102,'HOJA GENERAL DE DATOS'!$A$113:$K$124,'ENLACES DATOS'!K100,FALSE)","v":{"$error":"#N/A"}}]
[null,{"$f":"E97","v":{"$error":"#N/A"}},{"$f":"VLOOKUP($B103,'HOJA GENERAL DE DATOS'!$A$125:$K$136,'ENLACES DATOS'!C100,FALSE)","v":{"$error":"#N/A"}},{"$f":"VLOOKUP($B103,'HOJA GENERAL DE DATOS'!$A$125:$K$136,'ENLACES DATOS'!D100,FALSE)","v":{"$error":"#N/A"}},{"$f":"VLOOKUP($B103,'HOJA GENERAL DE DATOS'!$A$125:$K$136,'ENLACES DATOS'!E100,FALSE)","v":{"$error":"#N/A"}},{"$f":"VLOOKUP($B103,'HOJA GENERAL DE DATOS'!$A$125:$K$136,'ENLACES DATOS'!F100,FALSE)","v":{"$error":"#N/A"}},{"$f":"VLOOKUP($B103,'HOJA GENERAL DE DATOS'!$A$125:$K$136,'ENLACES DATOS'!G100,FALSE)","v":{"$error":"#N/A"}},{"$f":"VLOOKUP($B103,'HOJA GENERAL DE DATOS'!$A$125:$K$136,'ENLACES DATOS'!H100,FALSE)","v":{"$error":"#N/A"}},{"$f":"VLOOKUP($B103,'HOJA GENERAL DE DATOS'!$A$125:$K$136,'ENLACES DATOS'!I100,FALSE)","v":{"$error":"#N/A"}},{"$f":"VLOOKUP($B103,'HOJA GENERAL DE DATOS'!$A$125:$K$136,'ENLACES DATOS'!J100,FALSE)","v":{"$error":"#N/A"}},{"$f":"VLOOKUP($B103,'HOJA GENERAL DE DATOS'!$A$125:$K$136,'ENLACES DATOS'!K100,FALSE)","v":{"$error":"#N/A"}}]
[]
[]
["SOLUCION","MENSUAL",{"$f":"VLOOKUP($C$97,$C$102:$K$103,1,FALSE)","v":{"$error":"#N/A"}},{"$f":"VLOOKUP($C$97,$C$102:$K$103,2,FALSE)","v":{"$error":"#N/A"}},{"$f":"VLOOKUP($C$97,$C$102:$K$103,D100-1,FALSE)","v":{"$error":"#N/A"}},{"$f":"VLOOKUP($C$97,$C$102:$K$103,E100-1,FALSE)","v":{"$error":"#N/A"}},{"$f":"VLOOKUP($C$97,$C$102:$K$103,F100-1,FALSE)","v":{"$error":"#N/A"}},{"$error":"#N/A"},{"$error":"#N/A"},{"$error":"#N/A"},{"$error":"#N/A"}]
[]
[]
[null,null,null,null,null,"GRAFICO MORBvsMORT"]
[null,"MES REAL","%MORB MES","%MORB MAX",null,"MORTALIDAD REAL",{"$f":"'GEST CHEQ MES'!C18","v":""}]
[null,{"$f":"E97","v":{"$error":"#N/A"}},{"$f":"VLOOKUP($B111,'HOJA GENERAL DE DATOS'!$A$139:$E$151,D100,FALSE)","v":{"$error":"#N/A"}},{"$f":"VLOOKUP($B111,'HOJA GENERAL DE DATOS'!$A$139:$E$151,E100,FALSE)","v":{"$error":"#N/A"}},null,"MORTALIDAD ESPERADA",{"$f":"D106","v":{"$error":"#N/A"}}]
[null,null,null,null,null,"MORBILIDAD",{"$f":"IF(B111=\"\",\"\",C111)","v":{"$error":"#N/A"}}]
["CALCULO PERDIDAS","MES","CEBO"]
[null,{"$f":"E97","v":{"$error":"#N/A"}},{"$f":"VLOOKUP($B114,'HOJA GENERAL DE DATOS'!$A$113:$K$124,C100,FALSE)","v":{"$error":"#N/A"}},{"$f":"VLOOKUP($B114,'HOJA GENERAL DE DATOS'!$A$113:$K$124,11,FALSE)","v":{"$error":"#N/A"}}]
[null,{"$f":"E97","v":{"$error":"#N/A"}},{"$f":"VLOOKUP($B115,'HOJA GENERAL DE DATOS'!$A$125:$K$136,C100,FALSE)","v":{"$error":"#N/A"}},{"$f":"VLOOKUP($B115,'HOJA GENERAL DE DATOS'!$A$125:$K$136,11,FALSE)","v":{"$error":"#N/A"}}]
[]
["SOLUCION","MES",{"$f":"VLOOKUP($C$97,$C$114:$M$115,B100,FALSE)","v":{"$error":"#N/A"}},{"$f":"VLOOKUP($C$97,$C$114:$M$115,C100,FALSE)","v":{"$error":"#N/A"}}]
[]
[]
[null,"TIPO CEBO","MES","%BAJAS MES","%BAJAS MES MAX","%BAJAS EST","CENSO","AFORO","%BAJASX100"]
[null,{"$f":"IF($C$97=$B$98,'HOJA GENERAL DE DATOS'!B125,'HOJA GENERAL DE DATOS'!B113)","v":{"$error":"#N/A"}},{"$f":"IF($C$97=$B$98,'HOJA GENERAL DE DATOS'!C125,'HOJA GENERAL DE DATOS'!C113)","v":{"$error":"#N/A"}},{"$f":"IF($C$97=$B$98,'HOJA GENERAL DE DATOS'!D125,'HOJA GENERAL DE DATOS'!D113)","v":{"$error":"#N/A"}},{"$f":"IF($C$97=$B$98,'HOJA GENERAL DE DATOS'!E125,'HOJA GENERAL DE DATOS'!E113)","v":{"$error":"#N/A"}},{"$f":"D121*$F$97","v":{"$error":"#N/A"}},{"$f":"IF($C$97=$B$98,'HOJA GENERAL DE DATOS'!I125,'HOJA GENERAL DE DATOS'!I113)","v":{"$error":"#N/A"}},{"$f":"IF($C$97=$B$98,'HOJA GENERAL DE DATOS'!J125,'HOJA GENERAL DE DATOS'!J113)","v":{"$error":"#N/A"}},{"$f":"D121*100","v":{"$error":"#N/A"}}]
[null,{"$f":"IF($C$97=$B$98,'HOJA GENERAL DE DATOS'!B126,'HOJA GENERAL DE DATOS'!B114)","v":{"$error":"#N/A"}},{"$f":"IF($C$97=$B$98,'HOJA GENERAL DE DATOS'!C126,'HOJA GENERAL DE DATOS'!C114)","v":{"$error":"#N/A"}},{"$f":"IF($C$97=$B$98,'HOJA GENERAL DE DATOS'!D126,'HOJA GENERAL DE DATOS'!D114)","v":{"$error":"#N/A"}},{"$f":"IF($C$97=$B$98,'HOJA GENERAL DE DATOS'!E126,'HOJA GENERAL DE DATOS'!E114)","v":{"$error":"#N/A"}},{"$f":"D122*$F$97","v":{"$error":"#N/A"}},{"$f":"IF($C$97=$B$98,'HOJA GENERAL DE DATOS'!I126,'HOJA GENERAL DE DATOS'!I114)","v":{"$error":"#N/A"}},{"$f":"IF($C$97=$B$98,'HOJA GENERAL DE DATOS'!J126,'HOJA GENERAL DE DATOS'!J114)","v":{"$error":"#N/A"}},{"$f":"D122*100","v":{"$error":"#N/A"}}]
[null,{"$f":"IF($C$97=$B$98,'HOJA GENERAL DE DATOS'!B127,'HOJA GENERAL DE DATOS'!B115)","v":{"$error":"#N/A"}},{"$f":"IF($C$97=$B$98,'HOJA GENERAL DE DATOS'!C127,'HOJA GENERAL DE DATOS'!C115)","v":{"$error":"#N/A"}},{"$f":"IF($C$97=$B$98,'HOJA GENERAL DE DATOS'!D127,'HOJA GENERAL DE DATOS'!D115)","v":{"$error":"#N/A"}},{"$f":"IF($C$97=$B$98,'HOJA GENERAL DE DATOS'!E127,'HOJA GENERAL DE DATOS'!E115)","v":{"$error":"#N/A"}},{"$error":"#N/A"},{"$f":"IF($C$97=$B$98,'HOJA GENERAL DE DATOS'!I127,'HOJA GENERAL DE DATOS'!I115)","v":{"$error":"#N/A"}},{"$f":"IF($C$97=$B$98,'HOJA GENERAL DE DATOS'!J127,'HOJA GENERAL DE DATOS'!J115)","v":{"$error":"#N/A"}},{"$error":"#N/A"}]
[null,{"$f":"IF($C$97=$B$98,'HOJA GENERAL DE DATOS'!B128,'HOJA GENERAL DE DATOS'!B116)","v":{"$error":"#N/A"}},{"$f":"IF($C$97=$B$98,'HOJA GENERAL DE DATOS'!C128,'HOJA GENERAL DE DATOS'!C116)","v":{"$error":"#N/A"}},{"$f":"IF($C$97=$B$98,'HOJA GENERAL DE DATOS'!D128,'HOJA GENERAL DE DATOS'!D116)","v":{"$error":"#N/A"}},{"$f":"IF($C$97=$B$98,'HOJA GENERAL DE DATOS'!E128,'HOJA GENERAL DE DATOS'!E116)","v":{"$error":"#N/A"}},{"$error":"#N/A"},{"$f":"IF($C$97=$B$98,'HOJA GENERAL DE DATOS'!I128,'HOJA GENERAL DE DATOS'!I116)","v":{"$error":"#N/A"}},{"$f":"IF($C$97=$B$98,'HOJA GENERAL DE DATOS'!J128,'HOJA GENERAL DE DATOS'!J116)","v":{"$error":"#N/A"}},{"$error":"#N/A"}]
[null,{"$f":"IF($C$97=$B$98,'HOJA GENERAL DE DATOS'!B129,'HOJA GENERAL DE DATOS'!B117)","v":{"$error":"#N/A"}},{"$f":"IF($C$97=$B$98,'HOJA GENERAL DE DATOS'!C129,'HOJA GENERAL DE DATOS'!C117)","v":{"$error":"#N/A"}},{"$f":"IF($C$97=$B$98,'HOJA GENERAL DE DATOS'!D129,'HOJA GENERAL DE DATOS'!D117)","v":{"$error":"#N/A"}},{"$f":"IF($C$97=$B$98,'HOJA GENERAL DE DATOS'!E129,'HOJA GENERAL DE DATOS'!E117)","v":{"$error":"#N/A"}},{"$error":"#N/A"},{"$f":"IF($C$97=$B$98,'HOJA GENERAL DE DATOS'!I129,'HOJA GENERAL DE DATOS'!I117)","v":{"$error":"#N/A"}},{"$f":"IF($C$97=$B$98,'HOJA GENERAL DE DATOS'!J129,'HOJA GENERAL DE DATOS'!J117)","v":{"$error":"#N/A"}},{"$error":"#N/A"}]
[null,{"$f":"IF($C$97=$B$98,'HOJA GENERAL DE DATOS'!B130,'HOJA GENERAL DE DATOS'!B118)","v":{"$error":"#N/A"}},{"$f":"IF($C$97=$B$98,'HOJA GENERAL DE DATOS'!C130,'HOJA GENERAL DE DATOS'!C118)","v":{"$error":"#N/A"}},{"$f":"IF($C$97=$B$98,'HOJA GENERAL DE DATOS'!D130,'HOJA GENERAL DE DATOS'!D118)","v":{"$error":"#N/A"}},{"$f":"IF($C$97=$B$98,'HOJA GENERAL DE DATOS'!E130,'HOJA GENERAL DE DATOS'!E118)","v":{"$error":"#N/A"}},{"$error":"#N/A"},{"$f":"IF($C$97=$B$98,'HOJA GENERAL DE DATOS'!I130,'HOJA GENERAL DE DATOS'!I118)","v":{"$error":"#N/A"}},{"$f":"IF($C$97=$B$98,'HOJA GENERAL DE DATOS'!J130,'HOJA GENERAL DE DATOS'!J118)","v":{"$error":"#N/A"}},{"$error":"#N/A"}]
[null,{"$f":"IF($C$97=$B$98,'HOJA GENERAL DE DATOS'!B131,'HOJA GENERAL DE DATOS'!B119)","v":{"$error":"#N/A"}},{"$f":"IF($C$97=$B$98,'HOJA GENERAL DE DATOS'!C131,'HOJA GENERAL DE DATOS'!C119)","v":{"$error":"#N/A"}},{"$f":"IF($C$97=$B$98,'HOJA GENERAL DE DATOS'!D131,'HOJA GENERAL DE DATOS'!D119)","v":{"$error":"#N/A"}},{"$f":"IF($C$97=$B$98,'HOJA GENERAL DE DATOS'!E131,'HOJA GENERAL DE DATOS'!E119)","v":{"$error":"#N/A"}},{"$f":"D127*$F$97","v":{"$error":"#N/A"}},{"$f":"IF($C$97=$B$98,'HOJA GENERAL DE DATOS'!I131,'HOJA GENERAL DE DATOS'!I119)","v":{"$error":"#N/A"}},{"$f":"IF($C$97=$B$98,'HOJA GENERAL DE DATOS'!J131,'HOJA GENERAL DE DATOS'!J119)","v":{"$error":"#N/A"}},{"$error":"#N/A"}]
[null,{"$f":"IF($C$97=$B$98,'HOJA GENERAL DE DATOS'!B132,'HOJA GENERAL DE DATOS'!B120)","v":{"$error":"#N/A"}},{"$f":"IF($C$97=$B$98,'HOJA GENERAL DE DATOS'!C132,'HOJA GENERAL DE DATOS'!C120)","v":{"$error":"#N/A"}},{"$f":"IF($C$97=$B$98,'HOJA GENERAL DE DATOS'!D132,'HOJA GENERAL DE DATOS'!D120)","v":{"$error":"#N/A"}},{"$f":"IF($C$97=$B$98,'HOJA GENERAL DE DATOS'!E132,'HOJA GENERAL DE DATOS'!E120)","v":{"$error":"#N/A"}},{"$error":"#N/A"},{"$f":"IF($C$97=$B$98,'HOJA GENERAL DE DATOS'!I132,'HOJA GENERAL DE DATOS'!I120)","v":{"$error":"#N/A"}},{"$f":"IF($C$97=$B$98,'HOJA GENERAL DE DATOS'!J132,'HOJA GENERAL DE DATOS'!J120)","v":{"$error":"#N/A"}},{"$error":"#N/A"}]
[null,{"$f":"IF($C$97=$B$98,'HOJA GENERAL DE DATOS'!B133,'HOJA GENERAL DE DATOS'!B121)","v":{"$error":"#N/A"}},{"$f":"IF($C$97=$B$98,'HOJA GENERAL DE DATOS'!C133,'HOJA GENERAL DE DATOS'!C121)","v":{"$error":"#N/A"}},{"$f":"IF($C$97=$B$98,'HOJA GENERAL DE DATOS'!D133,'HOJA GENERAL DE DATOS'!D121)","v":{"$error":"#N/A"}},{"$f":"IF($C$97=$B$98,'HOJA GENERAL DE DATOS'!E133,'HOJA GENERAL DE DATOS'!E121)","v":{"$error":"#N/A"}},{"$error":"#N/A"},{"$f":"IF($C$97=$B$98,'HOJA GENERAL DE DATOS'!I133,'HOJA GENERAL DE DATOS'!I121)","v":{"$error":"#N/A"}},{"$f":"IF($C$97=$B$98,'HOJA GENERAL DE DATOS'!J133,'HOJA GENERAL DE DATOS'!J121)","v":{"$error":"#N/A"}},{"$error":"#N/A"}]
[null,{"$f":"IF($C$97=$B$98,'HOJA GENERAL DE DATOS'!B134,'HOJA GENERAL DE DATOS'!B122)","v":{"$error":"#N/A"}},{"$f":"IF($C$97=$B$98,'HOJA GENERAL DE DATOS'!C134,'HOJA GENERAL DE DATOS'!C122)","v":{"$error":"#N/A"}},{"$f":"IF($C$97=$B$98,'HOJA GENERAL DE DATOS'!D134,'HOJA GENERAL DE DATOS'!D122)","v":{"$error":"#N/A"}},{"$f":"IF($C$97=$B$98,'HOJA GENERAL DE DATOS'!E134,'HOJA GENERAL DE DATOS'!E122)","v":{"$error":"#N/A"}},{"$error":"#N/A"},{"$f":"IF($C$97=$B$98,'HOJA GENERAL DE DATOS'!I134,'HOJA GENERAL DE DATOS'!I122)","v":{"$error":"#N/A"}},{"$f":"IF($C$97=$B$98,'HOJA GENERAL DE DATOS'!J134,'HOJA GENERAL DE DATOS'!J122)","v":{"$error":"#N/A"}},{"$error":"#N/A"}]
[null,{"$f":"IF($C$97=$B$98,'HOJA GENERAL DE DATOS'!B135,'HOJA GENERAL DE DATOS'!B123)","v":{"$error":"#N/A"}},{"$f":"IF($C$97=$B$98,'HOJA GENERAL DE DATOS'!C135,'HOJA GENERAL DE DATOS'!C123)","v":{"$error":"#N/A"}},{"$f":"IF($C$97=$B$98,'HOJA GENERAL DE DATOS'!D135,'HOJA GENERAL DE DATOS'!D123)","v":{"$error":"#N/A"}},{"$f":"IF($C$97=$B$98,'HOJA GENERAL DE DATOS'!E135,'HOJA GENERAL DE DATOS'!E123)","v":{"$error":"#N/A"}},{"$error":"#N/A"},{"$f":"IF($C$97=$B$98,'HOJA GENERAL DE DATOS'!I135,'HOJA GENERAL DE DATOS'!I123)","v":{"$error":"#N/A"}},{"$f":"IF($C$97=$B$98,'HOJA GENERAL DE DATOS'!J135,'HOJA GENERAL DE DATOS'!J123)","v":{"$error":"#N/A"}},{"$error":"#N/A"}]
[null,{"$f":"IF($C$97=$B$98,'HOJA GENERAL DE DATOS'!B136,'HOJA GENERAL DE DATOS'!B124)","v":{"$error":"#N/A"}},{"$f":"IF($C$97=$B$98,'HOJA GENERAL DE DATOS'!C136,'HOJA GENERAL DE DATOS'!C124)","v":{"$error":"#N/A"}},{"$f":"IF($C$97=$B$98,'HOJA GENERAL DE DATOS'!D136,'HOJA GENERAL DE DATOS'!D124)","v":{"$error":"#N/A"}},{"$f":"IF($C$97=$B$98,'HOJA GENERAL DE DATOS'!E136,'HOJA GENERAL DE DATOS'!E124)","v":{"$error":"#N/A"}},{"$error":"#N/A"},{"$f":"IF($C$97=$B$98,'HOJA GENERAL DE DATOS'!I136,'HOJA GENERAL DE DATOS'!I124)","v":{"$error":"#N/A"}},{"$f":"IF($C$97=$B$98,'HOJA GENERAL DE DATOS'!J136,'HOJA GENERAL DE DATOS'!J124)","v":{"$error":"#N/A"}},{"$error":"#N/A"}]
[]
["GRAFICO DECOMISOS","PULMON REAL",{"$f":"'GEST CHEQ MES'!K11","v":0},"MES","PULMON","HIGADO","CANALES X100"]
[null,"PULMON ESPERADO",{"$f":"'GEST CHEQ MES'!K15","v":""},1,{"$f":"IF('GEST CHEQ MES'!$K$11=\"\",\"\",'HOJA GENERAL DE DATOS'!B155)","v":""},{"$f":"IF('GEST CHEQ MES'!$K$12=\"\",\"\",'HOJA GENERAL DE DATOS'!D155)","v":""},{"$f":"IF('GEST CHEQ MES'!$K$13=\"\",\"\",'HOJA GENERAL DE DATOS'!E155*100)","v":""}]
[null,"PULMON MAX",{"$f":"'GEST CHEQ MES'!K19","v":""},2,{"$f":"IF('GEST CHEQ MES'!$K$11=\"\",\"\",'HOJA GENERAL DE DATOS'!B156)","v":""},{"$f":"IF('GEST CHEQ MES'!$K$12=\"\",\"\",'HOJA GENERAL DE DATOS'!D156)","v":""},{"$f":"IF('GEST CHEQ MES'!$K$13=\"\",\"\",'HOJA GENERAL DE DATOS'!E156*100)","v":""}]
[null,"HIGADO REAL",{"$f":"'GEST CHEQ MES'!K12","v":0},3,{"$f":"IF('GEST CHEQ MES'!$K$11=\"\",\"\",'HOJA GENERAL DE DATOS'!B157)","v":""},{"$f":"IF('GEST CHEQ MES'!$K$12=\"\",\"\",'HOJA GENERAL DE DATOS'!D157)","v":""},{"$f":"IF('GEST CHEQ MES'!$K$13=\"\",\"\",'HOJA GENERAL DE DATOS'!E157*100)","v":""}]
[null,"HIGADO ESPERADO",{"$f":"'GEST CHEQ MES'!K16","v":""},4,{"$f":"IF('GEST CHEQ MES'!$K$11=\"\",\"\",'HOJA GENERAL DE DATOS'!B158)","v":""},{"$f":"IF('GEST CHEQ MES'!$K$12=\"\",\"\",'HOJA GENERAL DE DATOS'!D158)","v":""},{"$f":"IF('GEST CHEQ MES'!$K$13=\"\",\"\",'HOJA GENERAL DE DATOS'!E158*100)","v":""}]
[null,"HIGADO MAXIMO",{"$f":"'GEST CHEQ MES'!K20","v":""},5,{"$f":"IF('GEST CHEQ MES'!$K$11=\"\",\"\",'HOJA GENERAL DE DATOS'!B159)","v":""},{"$f":"IF('GEST CHEQ MES'!$K$12=\"\",\"\",'HOJA GENERAL DE DATOS'!D159)","v":""},{"$f":"IF('GEST CHEQ MES'!$K$13=\"\",\"\",'HOJA GENERAL DE DATOS'!E159*100)","v":""}]
[null,"CANALES REALx100",{"$f":"'GEST CHEQ MES'!K13*100","v":0},6,{"$f":"IF('GEST CHEQ MES'!$K$11=\"\",\"\",'HOJA GENERAL DE DATOS'!B160)","v":""},{"$f":"IF('GEST CHEQ MES'!$K$12=\"\",\"\",'HOJA GENERAL DE DATOS'!D160)","v":""},{"$f":"IF('GEST CHEQ MES'!$K$13=\"\",\"\",'HOJA GENERAL DE DATOS'!E160*100)","v":""}]
[null,"CANALES ESPERADOx100",{"$f":"'GEST CHEQ MES'!K17*100","v":{"$error":"#VALUE!"}},7,{"$f":"IF('GEST CHEQ MES'!$K$11=\"\",\"\",'HOJA GENERAL DE DATOS'!B161)","v":""},{"$f":"IF('GEST CHEQ MES'!$K$12=\"\",\"\",'HOJA GENERAL DE DATOS'!D161)","v":""},{"$f":"IF('GEST CHEQ MES'!$K$13=\"\",\"\",'HOJA GENERAL DE DATOS'!E161*100)","v":""}]
[null,"CANALES MAXIMOx100",{"$f":"'GEST CHEQ MES'!K21*100","v":{"$error":"#VALUE!"}},8,{"$f":"IF('GEST CHEQ MES'!$K$11=\"\",\"\",'HOJA GENERAL DE DATOS'!B162)","v":""},{"$f":"IF('GEST CHEQ MES'!$K$12=\"\",\"\",'HOJA GENERAL DE DATOS'!D162)","v":""},{"$f":"IF('GEST CHEQ MES'!$K$13=\"\",\"\",'HOJA GENERAL DE DATOS'!E162*100)","v":""}]
[null,null,null,9,{"$f":"IF('GEST CHEQ MES'!$K$11=\"\",\"\",'HOJA GENERAL DE DATOS'!B163)","v":""},{"$f":"IF('GEST CHEQ MES'!$K$12=\"\",\"\",'HOJA GENERAL DE DATOS'!D163)","v":""},{"$f":"IF('GEST CHEQ MES'!$K$13=\"\",\"\",'HOJA GENERAL DE DATOS'!E163*100)","v":""}]
[null,null,null,10,{"$f":"IF('GEST CHEQ MES'!$K$11=\"\",\"\",'HOJA GENERAL DE DATOS'!B164)","v":""},{"$f":"IF('GEST CHEQ MES'!$K$12=\"\",\"\",'HOJA GENERAL DE DATOS'!D164)","v":""},{"$f":"IF('GEST CHEQ MES'!$K$13=\"\",\"\",'HOJA GENERAL DE DATOS'!E164*100)","v":""}]
[null,null,null,11,{"$f":"IF('GEST CHEQ MES'!$K$11=\"\",\"\",'HOJA GENERAL DE DATOS'!B165)","v":""},{"$f":"IF('GEST CHEQ MES'!$K$12=\"\",\"\",'HOJA GENERAL DE DATOS'!D165)","v":""},{"$f":"IF('GEST CHEQ MES'!$K$13=\"\",\"\",'HOJA GENERAL DE DATOS'!E165*100)","v":""}]
[null,null,null,12,{"$f":"IF('GEST CHEQ MES'!$K$11=\"\",\"\",'HOJA GENERAL DE DATOS'!B166)","v":""},{"$f":"IF('GEST CHEQ MES'!$K$12=\"\",\"\",'HOJA GENERAL DE DATOS'!D166)","v":""},{"$f":"IF('GEST CHEQ MES'!$K$13=\"\",\"\",'HOJA GENERAL DE DATOS'!E166*100)","v":""}]
[]
["DATOS pH PANZAS",null,"Desv st",null,"Diferencial",null,null,"grupo 1","grupo 2","grupo 3","grupo 4","grupo 5","grupo 6","grupo 7","GRUPO"]
[]
[1,{"$f":"IF('GEST RUMEN'!B12=\"\",\"\",'GEST RUMEN'!B12)","v":""},{"$f":"B150-$B$167","v":{"$error":"#VALUE!"}},{"$f":"IF(C150<-$B$168,1,\"\")","v":{"$error":"#VALUE!"}},{"$f":"B150-$B$171","v":{"$error":"#VALUE!"}},{"$f":"IF(E150<-$B$172,1,\"\")","v":{"$error":"#VALUE!"}},null,{"$f":"IF(B150=\"\",\"\",IF(B150<5.99,1,\"\"))","v":""},{"$f":"IF(B150=\"\",\"\",IF(B150>5.99,1,\"\"))","v":""},{"$f":"IF(B150=\"\",\"\",IF(B150>6.5,1,\"\"))","v":""},{"$f":"IF(B150=\"\",\"\",IF(B150>6.75,1,\"\"))","v":""},{"$f":"IF(B150=\"\",\"\",IF(B150>6.99,1,\"\"))","v":""},{"$f":"IF(B150=\"\",\"\",IF(B150>7.2,1,\"\"))","v":""},{"$f":"IF(B150=\"\",\"\",IF(B150>7.4,1,\"\"))","v":""},{"$f":"IF(B150=\"\",\"\",SUM(H150:N150))","v":""}]
[2,{"$f":"IF('GEST RUMEN'!B13=\"\",\"\",'GEST RUMEN'!B13)","v":""},{"$f":"B151-$B$167","v":{"$error":"#VALUE!"}},{"$f":"IF(C151<-$B$168,1,\"\")","v":{"$error":"#VALUE!"}},{"$f":"B151-$B$171","v":{"$error":"#VALUE!"}},{"$f":"IF(E151<-$B$172,1,\"\")","v":{"$error":"#VALUE!"}},null,{"$f":"IF(B151=\"\",\"\",IF(B151<5.99,1,\"\"))","v":""},{"$f":"IF(B151=\"\",\"\",IF(B151>5.99,1,\"\"))","v":""},{"$f":"IF(B151=\"\",\"\",IF(B151>6.5,1,\"\"))","v":""},{"$f":"IF(B151=\"\",\"\",IF(B151>6.75,1,\"\"))","v":""},{"$f":"IF(B151=\"\",\"\",IF(B151>6.99,1,\"\"))","v":""},{"$f":"IF(B151=\"\",\"\",IF(B151>7.2,1,\"\"))","v":""},{"$f":"IF(B151=\"\",\"\",IF(B151>7.4,1,\"\"))","v":""},{"$f":"IF(B151=\"\",\"\",SUM(H151:N151))","v":""}]
[3,{"$f":"IF('GEST RUMEN'!B14=\"\",\"\",'GEST RUMEN'!B14)","v":""},{"$error":"#VALUE!"},{"$error":"#VALUE!"},{"$error":"#VALUE!"},{"$error":"#VALUE!"},null,"","","","","","","",""]
[4,{"$f":"IF('GEST RUMEN'!B15=\"\",\"\",'GEST RUMEN'!B15)","v":""},{"$error":"#VALUE!"},{"$error":"#VALUE!"},{"$error":"#VALUE!"},{"$error":"#VALUE!"},null,"","","","","","","",""]
[5,{"$f":"IF('GEST RUMEN'!B16=\"\",\"\",'GEST RUMEN'!B16)","v":""},{"$error":"#VALUE!"},{"$error":"#VALUE!"},{"$error":"#VALUE!"},{"$error":"#VALUE!"},null,"","","","","","","",""]
[6,{"$f":"IF('GEST RUMEN'!B17=\"\",\"\",'GEST RUMEN'!B17)","v":""},{"$error":"#VALUE!"},{"$error":"#VALUE!"},{"$error":"#VALUE!"},{"$error":"#VALUE!"},null,"","","","","","","",""]
[7,{"$f":"IF('GEST RUMEN'!B18=\"\",\"\",'GEST RUMEN'!B18)","v":""},{"$error":"#VALUE!"},{"$error":"#VALUE!"},{"$error":"#VALUE!"},{"$error":"#VALUE!"},null,"","","","","","","",""]
[8,{"$f":"IF('GEST RUMEN'!B19=\"\",\"\",'GEST RUMEN'!B19)","v":""},{"$error":"#VALUE!"},{"$error":"#VALUE!"},{"$error":"#VALUE!"},{"$error":"#VALUE!"},null,"","","","","","","",""]
[9,{"$f":"IF('GEST RUMEN'!B20=\"\",\"\",'GEST RUMEN'!B20)","v":""},{"$error":"#VALUE!"},{"$error":"#VALUE!"},{"$error":"#VALUE!"},{"$error":"#VALUE!"},null,"","","","","","","",""]
[10,{"$f":"IF('GEST RUMEN'!B21=\"\",\"\",'GEST RUMEN'!B21)","v":""},{"$error":"#VALUE!"},{"$error":"#VALUE!"},{"$error":"#VALUE!"},{"$error":"#VALUE!"},null,"","","","","","","",""]
[11,{"$f":"IF('GEST RUMEN'!B22=\"\",\"\",'GEST RUMEN'!B22)","v":""},{"$error":"#VALUE!"},{"$error":"#VALUE!"},{"$error":"#VALUE!"},{"$error":"#VALUE!"},null,"","","","","","","",""]
[12,{"$f":"IF('GEST RUMEN'!B23=\"\",\"\",'GEST RUMEN'!B23)","v":""},{"$error":"#VALUE!"},{"$error":"#VALUE!"},{"$error":"#VALUE!"},{"$error":"#VALUE!"},null,"","","","","","","",""]
[13,{"$f":"IF('GEST RUMEN'!B24=\"\",\"\",'GEST RUMEN'!B24)","v":""},{"$error":"#VALUE!"},{"$error":"#VALUE!"},{"$error":"#VALUE!"},{"$error":"#VALUE!"},null,"","","","","","","",""]
[14,{"$f":"IF('GEST RUMEN'!B25=\"\",\"\",'GEST RUMEN'!B25)","v":""},{"$error":"#VALUE!"},{"$error":"#VALUE!"},{"$error":"#VALUE!"},{"$error":"#VALUE!"},null,"","","","","","","",""]
[15,{"$f":"IF('GEST RUMEN'!B26=\"\",\"\",'GEST RUMEN'!B26)","v":""},{"$error":"#VALUE!"},{"$error":"#VALUE!"},{"$error":"#VALUE!"},{"$error":"#VALUE!"},null,"","","","","","","",""]
[16,{"$f":"IF('GEST RUMEN'!B27=\"\",\"\",'GEST RUMEN'!B27)","v":""},{"$error":"#VALUE!"},{"$error":"#VALUE!"},{"$error":"#VALUE!"},{"$error":"#VALUE!"},null,"","","","","","","",""]
[null,{"$f":"COUNT(B150:B165)","v":0},null,{"$f":"SUM(D150:D165)","v":{"$error":"#VALUE!"}},null,{"$f":"SUM(F150:F165)","v":{"$error":"#VALUE!"}}]
["MEDIA",{"$f":"IF(B$10=\"\",\"\",AVERAGE(B150:B165))","v":{"$error":"#DIV/0!"}}]
["DESV.ST",{"$f":"IF(B150=\"\",\"\",STDEVP(B150:B165))","v":""},null,{"$f":"B168/B167","v":{"$error":"#VALUE!"}}]
[null,null,"diferencias"]
["MES",{"$f":"'BUSCAR FECHA'!H4","v":{"$error":"#N/A"}},null,null,null,null,"  pH REAL",{"$f":"B167","v":{"$error":"#DIV/0!"}}]
["pH",{"$f":"VLOOKUP($B$170,'HOJA GENERAL DE DATOS'!$A$170:$D$181,2,FALSE)","v":{"$error":"#N/A"}},{"$f":"B167-B171","v":{"$error":"#DIV/0!"}},null,null,null,"  pH ESPERADO",{"$f":"B171","v":{"$error":"#N/A"}}]
["DESV.ST",{"$f":"VLOOKUP($B$170,'HOJA GENERAL DE DATOS'!$A$170:$D$181,4,FALSE)","v":{"$error":"#N/A"}},{"$f":"B168-B172","v":{"$error":"#VALUE!"}},{"$f":"B172/B171","v":{"$error":"#N/A"}},null,null,"VAR.REAL",{"$f":"B168","v":""}]
["%pHs fuera de DS",{"$f":"D166/B166","v":{"$error":"#VALUE!"}},null,null,null,null,"VAR.ESPERADA",{"$f":"B172","v":{"$error":"#N/A"}}]
["%pHs altos",{"$f":"F166/B166","v":{"$error":"#VALUE!"}}]
[]
["GRAFICOS",null,null,"CHEQUEO","MEDIA","MEJOR"]
[1,"grupo 1",{"$f":"COUNTIF($O$150:$O$166,A177)","v":0},{"$f":"IF($B$170=\"\",\"\",C177/$B$166)","v":{"$error":"#N/A"}},{"$f":"IF($B$170=\"\",\"\",VLOOKUP($B$170,$B$186:$K$198,G177,FALSE))","v":{"$error":"#N/A"}},{"$f":"E198","v":0},4]
[2,"grupo 2",{"$f":"COUNTIF($O$150:$O$166,A178)","v":0},{"$f":"IF($B$170=\"\",\"\",C178/$B$166)","v":{"$error":"#N/A"}},{"$f":"IF($B$170=\"\",\"\",VLOOKUP($B$170,$B$186:$K$198,G178,FALSE))","v":{"$error":"#N/A"}},{"$f":"F198","v":0},5]
[3,"grupo 3",0,{"$error":"#N/A"},{"$error":"#N/A"},{"$f":"G198","v":0},6]
[4,"grupo 4",0,{"$error":"#N/A"},{"$error":"#N/A"},{"$f":"H198","v":0.15094339622641509},7]
[5,"grupo 5",0,{"$error":"#N/A"},{"$error":"#N/A"},{"$f":"I198","v":0.39622641509433959},8]
[6,"grupo 6",0,{"$error":"#N/A"},{"$error":"#N/A"},{"$f":"J198","v":0.339622641509434},9]
[7,"grupo 7",0,{"$error":"#N/A"},{"$error":"#N/A"},{"$f":"K198","v":0.11320754716981134},10]
[null,null,null,{"$f":"SUM(D177:D183)","v":{"$error":"#N/A"}},{"$f":"SUM(E177:E183)","v":{"$error":"#N/A"}},1]
[null,"MES DE TOMA","pH","desv St","grupo1","grupo2","grupo3","grupo4","grupo5","grupo6","grupo7"]
[null,3,{"$f":"VLOOKUP($B186,'HOJA GENERAL DE DATOS'!$A$170:$D$181,2,FALSE)","v":7.1159541984732799},{"$f":"VLOOKUP($B186,'HOJA GENERAL DE DATOS'!$A$170:$D$181,4,FALSE)","v":0.25914883940123001},7.6335877862595417E-3,7.6335877862595417E-3,3.0534351145038167E-2,0.16793893129770993,0.41221374045801523,0.29770992366412213,7.6335877862595422E-2,{"$f":"SUM(E186:K186)","v":0.99999999999999989}]
[null,4,{"$f":"VLOOKUP(B187,'HOJA GENERAL DE DATOS'!$A$170:$D$181,2,FALSE)","v":7.1737068965517201},{"$f":"VLOOKUP($B187,'HOJA GENERAL DE DATOS'!$A$170:$D$181,4,FALSE)","v":0.36851884542082303},3.4482758620689655E-2,1.7241379310344827E-2,0,0.12068965517241378,0.25862068965517243,0.35344827586206895,0.21551724137931033,{"$f":"SUM(E187:K187)","v":1}]
[null,5,{"$f":"VLOOKUP(B188,'HOJA GENERAL DE DATOS'!$A$170:$D$181,2,FALSE)","v":7.0903716216216202},{"$f":"VLOOKUP($B188,'HOJA GENERAL DE DATOS'!$A$170:$D$181,4,FALSE)","v":0.322513744926478},1.3513513513513513E-2,3.3783783783783786E-2,8.4459459459459457E-2,0.17567567567567569,0.26351351351351349,0.30405405405405406,0.125,1]
[null,7,{"$f":"VLOOKUP(B189,'HOJA GENERAL DE DATOS'!$A$170:$D$181,2,FALSE)","v":7.0900657894736803},{"$f":"VLOOKUP($B189,'HOJA GENERAL DE DATOS'!$A$170:$D$181,4,FALSE)","v":0.23715615530850301},6.5789473684210523E-3,6.5789473684210523E-3,5.2631578947368418E-2,0.21710526315789477,0.38815789473684215,0.25657894736842107,7.2368421052631582E-2,1.0000000000000002]
[null,10,{"$f":"VLOOKUP(B190,'HOJA GENERAL DE DATOS'!$A$170:$D$181,2,FALSE)","v":6.9697023809523797},{"$f":"VLOOKUP($B190,'HOJA GENERAL DE DATOS'!$A$170:$D$181,4,FALSE)","v":0.31842506445158902},2.9761904761904757E-2,2.9761904761904757E-2,0.10714285714285714,0.2857142857142857,0.30357142857142855,0.23809523809523805,5.9523809523809521E-3,0.99999999999999989]
[null,11,{"$f":"VLOOKUP(B191,'HOJA GENERAL DE DATOS'!$A$170:$D$181,2,FALSE)","v":7.0721078431372497},{"$f":"VLOOKUP($B191,'HOJA GENERAL DE DATOS'!$A$170:$D$181,4,FALSE)","v":0.29107067199539},0,5.9880239520958087E-3,2.3952095808383235E-2,0.19161676646706588,0.34131736526946116,0.31736526946107785,0.11976047904191617,1.0000000000000002]
[null,1,{"$f":"VLOOKUP(B192,'HOJA GENERAL DE DATOS'!$A$170:$D$181,2,FALSE)","v":7.0721078431372497},{"$f":"VLOOKUP($B192,'HOJA GENERAL DE DATOS'!$A$170:$D$181,4,FALSE)","v":0.29107067199539},0,5.9880239520958087E-3,2.3952095808383235E-2,0.19161676646706588,0.34131736526946116,0.31736526946107785,0.11976047904191617,1.0000000000000002]
[null,2,{"$f":"VLOOKUP(B193,'HOJA GENERAL DE DATOS'!$A$170:$D$181,2,FALSE)","v":7.1159541984732799},{"$f":"VLOOKUP($B193,'HOJA GENERAL DE DATOS'!$A$170:$D$181,4,FALSE)","v":0.25914883940123001},1.5810276679841896E-2,1.4492753623188406E-2,4.7430830039525682E-2,0.19235836627140976,0.31620553359683795,0.30830039525691699,0.10540184453227931,1]
[null,6,{"$f":"VLOOKUP(B194,'HOJA GENERAL DE DATOS'!$A$170:$D$181,2,FALSE)","v":7.0900657894736803},{"$f":"VLOOKUP($B194,'HOJA GENERAL DE DATOS'!$A$170:$D$181,4,FALSE)","v":0.23715615530850301},1.107011070110701E-2,3.3210332103321034E-2,8.4870848708487087E-2,0.2029520295202952,0.32841328413284132,0.25092250922509224,8.8560885608856083E-2,0.99999999999999989]
[null,8,{"$f":"VLOOKUP(B195,'HOJA GENERAL DE DATOS'!$A$170:$D$181,2,FALSE)","v":6.407},{"$f":"VLOOKUP($B195,'HOJA GENERAL DE DATOS'!$A$170:$D$181,4,FALSE)","v":0.660993360195271},6.5789473684210523E-3,6.5789473684210523E-3,5.2631578947368418E-2,0.21710526315789477,0.38815789473684215,0.25657894736842107,7.2368421052631582E-2,1.0000000000000002]
[null,9,{"$f":"VLOOKUP(B196,'HOJA GENERAL DE DATOS'!$A$170:$D$181,2,FALSE)","v":6.407},{"$f":"VLOOKUP($B196,'HOJA GENERAL DE DATOS'!$A$170:$D$181,4,FALSE)","v":0.660993360195271},1.4799154334038054E-2,2.0084566596194498E-2,6.0253699788583512E-2,0.19661733615221988,0.31606765327695563,0.28752642706131076,0.10465116279069768,1]
[null,12,{"$f":"VLOOKUP(B197,'HOJA GENERAL DE DATOS'!$A$170:$D$181,2,FALSE)","v":7.0721078431372497},{"$f":"VLOOKUP($B197,'HOJA GENERAL DE DATOS'!$A$170:$D$181,4,FALSE)","v":0.29107067199539},0,0,5.8823529411764698E-2,0.82352941176470584,0,0.1176470588235294,0,1]
[null,"mejor",7.1859999999999999,0.18292,0,0,0,0.15094339622641509,0.39622641509433959,0.339622641509434,0.11320754716981134,1]
[]
[]
["PRUEBAS DE CORDEROS"]
[null,"SEXO","RAZA","EPOCA",null,"SEXO","RAZA","EPOCA","GRUPO","PESO PRUEBA"]
[null,"MACHOS","CARNICO&CRUZADO","INVIERNO",null,{"$f":"'GEST IND TECN'!C12","v":0},{"$f":"'GEST IND TECN'!C15","v":0},{"$f":"'GEST IND TECN'!C16","v":0},{"$f":"VLOOKUP(J203,$AA$210:$AB$232,2)","v":{"$error":"#DIV/0!"}},{"$f":"AVERAGE('GEST IND TECN'!C18:C19)","v":{"$error":"#DIV/0!"}},null,{"$f":"I203","v":{"$error":"#DIV/0!"}},{"$f":"F203","v":0},{"$f":"G203","v":0},{"$f":"H203","v":0},{"$f":"CONCATENATE(L203,M203,N203,O203)","v":{"$error":"#DIV/0!"}},{"$f":"VLOOKUP(P203,B210:C342,2,FALSE)","v":{"$error":"#DIV/0!"}}]
[null,"HEMBRAS","ENTREFINO","VERANO"]
[null,"MACHOS&HEMBRAS","INDEFINIDA","INDEFINIDO"]
[]
["CALCULO POR SEGMENTOS",null,1,2,3,4,5,6,7,8,9,10,11,12,13,14,15,16]
["COD","TEXTO","COD","GRUPO","SEXO","RAZA","EPOCA","NºPRUEBAS","NºCORDEROS","PESO ENTRADA","PESO SALIDA","GMD","IC","UFC","DIAS","CMD","DsT GMD","DsT IC",null,null,null,null,null,null,null,null,"PESO","GRUPO"]
[null,null,{"$f":"VLOOKUP($Q$203,'HOJA GENERAL DE DATOS'!$A$186:$P$318,C207,FALSE)","v":{"$error":"#DIV/0!"}},{"$f":"VLOOKUP($Q$203,'HOJA GENERAL DE DATOS'!$A$186:$P$318,D207,FALSE)","v":{"$error":"#DIV/0!"}},{"$f":"VLOOKUP($Q$203,'HOJA GENERAL DE DATOS'!$A$186:$P$318,E207,FALSE)","v":{"$error":"#DIV/0!"}},{"$f":"VLOOKUP($Q$203,'HOJA GENERAL DE DATOS'!$A$186:$P$318,F207,FALSE)","v":{"$error":"#DIV/0!"}},{"$f":"VLOOKUP($Q$203,'HOJA GENERAL DE DATOS'!$A$186:$P$318,G207,FALSE)","v":{"$error":"#DIV/0!"}},{"$f":"VLOOKUP($Q$203,'HOJA GENERAL DE DATOS'!$A$186:$P$318,H207,FALSE)","v":{"$error":"#DIV/0!"}},{"$f":"VLOOKUP($Q$203,'HOJA GENERAL DE DATOS'!$A$186:$P$318,I207,FALSE)","v":{"$error":"#DIV/0!"}},{"$f":"VLOOKUP($Q$203,'HOJA GENERAL DE DATOS'!$A$186:$P$318,J207,FALSE)","v":{"$error":"#DIV/0!"}},{"$f":"VLOOKUP($Q$203,'HOJA GENERAL DE DATOS'!$A$186:$P$318,K207,FALSE)","v":{"$error":"#DIV/0!"}},{"$f":"VLOOKUP($Q$203,'HOJA GENERAL DE DATOS'!$A$186:$P$318,L207,FALSE)","v":{"$error":"#DIV/0!"}},{"$f":"VLOOKUP($Q$203,'HOJA GENERAL DE DATOS'!$A$186:$P$318,M207,FALSE)","v":{"$error":"#DIV/0!"}},{"$f":"VLOOKUP($Q$203,'HOJA GENERAL DE DATOS'!$A$186:$P$318,N207,FALSE)","v":{"$error":"#DIV/0!"}},{"$f":"VLOOKUP($Q$203,'HOJA GENERAL DE DATOS'!$A$186:$P$318,O207,FALSE)","v":{"$error":"#DIV/0!"}},{"$f":"VLOOKUP($Q$203,'HOJA GENERAL DE DATOS'!$A$186:$P$318,P207,FALSE)","v":{"$error":"#DIV/0!"}},{"$f":"VLOOKUP($Q$203,'HOJA GENERAL DE DATOS'!$A$186:$P$318,Q207,FALSE)","v":{"$error":"#DIV/0!"}},{"$f":"VLOOKUP($Q$203,'HOJA GENERAL DE DATOS'!$A$186:$P$318,R207,FALSE)","v":{"$error":"#DIV/0!"}}]
[1,{"$f":"CONCATENATE('HOJA GENERAL DE DATOS'!B186,'HOJA GENERAL DE DATOS'!C186,'HOJA GENERAL DE DATOS'!D186,'HOJA GENERAL DE DATOS'!E186)","v":"1MACHOS&HEMBRASCARNICO&CRUZADOINVIERNO"},1,{"$f":"'HOJA GENERAL DE DATOS'!B186","v":1},{"$f":"'HOJA GENERAL DE DATOS'!C186","v":"MACHOS&HEMBRAS"},{"$f":"'HOJA GENERAL DE DATOS'!D186","v":"CARNICO&CRUZADO"},{"$f":"'HOJA GENERAL DE DATOS'!E186","v":"INVIERNO"},{"$f":"'HOJA GENERAL DE DATOS'!F186","v":9},{"$f":"'HOJA GENERAL DE DATOS'!G186","v":596},{"$f":"'HOJA GENERAL DE DATOS'!H186","v":13511.1111111111},{"$f":"'HOJA GENERAL DE DATOS'!I186","v":13253.333333333299},{"$f":"'HOJA GENERAL DE DATOS'!J186","v":302.66666666666703},{"$f":"'HOJA GENERAL DE DATOS'!K186","v":2347.7777777777801},{"$f":"'HOJA GENERAL DE DATOS'!L186","v":100.1875},{"$f":"'HOJA GENERAL DE DATOS'!M186","v":-0.32802022119910901},{"$f":"'HOJA GENERAL DE DATOS'!N186","v":704.70888888888896},{"$f":"'HOJA GENERAL DE DATOS'!O186","v":36.407416826795099},{"$f":"'HOJA GENERAL DE DATOS'!P186","v":792.44523119547205},null,null,null,null,null,null,null,null,11,1]
[2,{"$f":"CONCATENATE('HOJA GENERAL DE DATOS'!B187,'HOJA GENERAL DE DATOS'!C187,'HOJA GENERAL DE DATOS'!D187,'HOJA GENERAL DE DATOS'!E187)","v":"1MACHOS&HEMBRASCARNICO&CRUZADOVERANO"},2,{"$f":"'HOJA GENERAL DE DATOS'!B187","v":1},{"$f":"'HOJA GENERAL DE DATOS'!C187","v":"MACHOS&HEMBRAS"},{"$f":"'HOJA GENERAL DE DATOS'!D187","v":"CARNICO&CRUZADO"},{"$f":"'HOJA GENERAL DE DATOS'!E187","v":"VERANO"},{"$f":"'HOJA GENERAL DE DATOS'!F187","v":7},{"$f":"'HOJA GENERAL DE DATOS'!G187","v":246},{"$f":"'HOJA GENERAL DE DATOS'!H187","v":12857.142857142901},{"$f":"'HOJA GENERAL DE DATOS'!I187","v":14771.4285714286},{"$f":"'HOJA GENERAL DE DATOS'!J187","v":319.71428571428601},{"$f":"'HOJA GENERAL DE DATOS'!K187","v":2030},{"$f":"'HOJA GENERAL DE DATOS'!L187","v":100.5},{"$f":"'HOJA GENERAL DE DATOS'!M187","v":6.1050100202324904},{"$f":"'HOJA GENERAL DE DATOS'!N187","v":624.86428571428598},{"$f":"'HOJA GENERAL DE DATOS'!O187","v":45.6498057159586},{"$f":"'HOJA GENERAL DE DATOS'!P187","v":647.84257346982099},null,null,null,null,null,null,null,null,12,1]
[3,{"$f":"CONCATENATE('HOJA GENERAL DE DATOS'!B188,'HOJA GENERAL DE DATOS'!C188,'HOJA GENERAL DE DATOS'!D188,'HOJA GENERAL DE DATOS'!E188)","v":"0000"},3,{"$f":"'HOJA GENERAL DE DATOS'!B188","v":0},{"$f":"'HOJA GENERAL DE DATOS'!C188","v":0},{"$f":"'HOJA GENERAL DE DATOS'!D188","v":0},{"$f":"'HOJA GENERAL DE DATOS'!E188","v":0},{"$f":"'HOJA GENERAL DE DATOS'!F188","v":0},{"$f":"'HOJA GENERAL DE DATOS'!G188","v":0},{"$f":"'HOJA GENERAL DE DATOS'!H188","v":0},{"$f":"'HOJA GENERAL DE DATOS'!I188","v":0},{"$f":"'HOJA GENERAL DE DATOS'!J188","v":0},{"$f":"'HOJA GENERAL DE DATOS'!K188","v":0},{"$f":"'HOJA GENERAL DE DATOS'!L188","v":0},{"$f":"'HOJA GENERAL DE DATOS'!M188","v":0},{"$f":"'HOJA GENERAL DE DATOS'!N188","v":0},{"$f":"'HOJA GENERAL DE DATOS'!O188","v":0},{"$f":"'HOJA GENERAL DE DATOS'!P188","v":0},null,null,null,null,null,null,null,null,13,1]
[4,{"$f":"CONCATENATE('HOJA GENERAL DE DATOS'!B189,'HOJA GENERAL DE DATOS'!C189,'HOJA GENERAL DE DATOS'!D189,'HOJA GENERAL DE DATOS'!E189)","v":"0000"},4,{"$f":"'HOJA GENERAL DE DATOS'!B189","v":0},{"$f":"'HOJA GENERAL DE DATOS'!C189","v":0},{"$f":"'HOJA GENERAL DE DATOS'!D189","v":0},{"$f":"'HOJA GENERAL DE DATOS'!E189","v":0},{"$f":"'HOJA GENERAL DE DATOS'!F189","v":0},{"$f":"'HOJA GENERAL DE DATOS'!G189","v":0},{"$f":"'HOJA GENERAL DE DATOS'!H189","v":0},{"$f":"'HOJA GENERAL DE DATOS'!I189","v":0},{"$f":"'HOJA GENERAL DE DATOS'!J189","v":0},{"$f":"'HOJA GENERAL DE DATOS'!K189","v":0},{"$f":"'HOJA GENERAL DE DATOS'!L189","v":0},{"$f":"'HOJA GENERAL DE DATOS'!M189","v":0},{"$f":"'HOJA GENERAL DE DATOS'!N189","v":0},{"$f":"'HOJA GENERAL DE DATOS'!O189","v":0},{"$f":"'HOJA GENERAL DE DATOS'!P189","v":0},null,null,null,null,null,null,null,null,14,1]
[5,{"$f":"CONCATENATE('HOJA GENERAL DE DATOS'!B190,'HOJA GENERAL DE DATOS'!C190,'HOJA GENERAL DE DATOS'!D190,'HOJA GENERAL DE DATOS'!E190)","v":"0000"},5,{"$f":"'HOJA GENERAL DE DATOS'!B190","v":0},{"$f":"'HOJA GENERAL DE DATOS'!C190","v":0},{"$f":"'HOJA GENERAL DE DATOS'!D190","v":0},{"$f":"'HOJA GENERAL DE DATOS'!E190","v":0},{"$f":"'HOJA GENERAL DE DATOS'!F190","v":0},{"$f":"'HOJA GENERAL DE DATOS'!G190","v":0},{"$f":"'HOJA GENERAL DE DATOS'!H190","v":0},{"$f":"'HOJA GENERAL DE DATOS'!I190","v":0},{"$f":"'HOJA GENERAL DE DATOS'!J190","v":0},{"$f":"'HOJA GENERAL DE DATOS'!K190","v":0},{"$f":"'HOJA GENERAL DE DATOS'!L190","v":0},{"$f":"'HOJA GENERAL DE DATOS'!M190","v":0},{"$f":"'HOJA GENERAL DE DATOS'!N190","v":0},{"$f":"'HOJA GENERAL DE DATOS'!O190","v":0},{"$f":"'HOJA GENERAL DE DATOS'!P190","v":0},null,null,null,null,null,null,null,null,14.99,1]
[6,{"$f":"CONCATENATE('HOJA GENERAL DE DATOS'!B191,'HOJA GENERAL DE DATOS'!C191,'HOJA GENERAL DE DATOS'!D191,'HOJA GENERAL DE DATOS'!E191)","v":"0000"},6,{"$f":"'HOJA GENERAL DE DATOS'!B191","v":0},{"$f":"'HOJA GENERAL DE DATOS'!C191","v":0},{"$f":"'HOJA GENERAL DE DATOS'!D191","v":0},{"$f":"'HOJA GENERAL DE DATOS'!E191","v":0},{"$f":"'HOJA GENERAL DE DATOS'!F191","v":0},{"$f":"'HOJA GENERAL DE DATOS'!G191","v":0},{"$f":"'HOJA GENERAL DE DATOS'!H191","v":0},{"$f":"'HOJA GENERAL DE DATOS'!I191","v":0},{"$f":"'HOJA GENERAL DE DATOS'!J191","v":0},{"$f":"'HOJA GENERAL DE DATOS'!K191","v":0},{"$f":"'HOJA GENERAL DE DATOS'!L191","v":0},{"$f":"'HOJA GENERAL DE DATOS'!M191","v":0},{"$f":"'HOJA GENERAL DE DATOS'!N191","v":0},{"$f":"'HOJA GENERAL DE DATOS'!O191","v":0},{"$f":"'HOJA GENERAL DE DATOS'!P191","v":0},null,null,null,null,null,null,null,null,15,2]
[7,{"$f":"CONCATENATE('HOJA GENERAL DE DATOS'!B192,'HOJA GENERAL DE DATOS'!C192,'HOJA GENERAL DE DATOS'!D192,'HOJA GENERAL DE DATOS'!E192)","v":"0000"},7,{"$f":"'HOJA GENERAL DE DATOS'!B192","v":0},{"$f":"'HOJA GENERAL DE DATOS'!C192","v":0},{"$f":"'HOJA GENERAL DE DATOS'!D192","v":0},{"$f":"'HOJA GENERAL DE DATOS'!E192","v":0},{"$f":"'HOJA GENERAL DE DATOS'!F192","v":0},{"$f":"'HOJA GENERAL DE DATOS'!G192","v":0},{"$f":"'HOJA GENERAL DE DATOS'!H192","v":0},{"$f":"'HOJA GENERAL DE DATOS'!I192","v":0},{"$f":"'HOJA GENERAL DE DATOS'!J192","v":0},{"$f":"'HOJA GENERAL DE DATOS'!K192","v":0},{"$f":"'HOJA GENERAL DE DATOS'!L192","v":0},{"$f":"'HOJA GENERAL DE DATOS'!M192","v":0},{"$f":"'HOJA GENERAL DE DATOS'!N192","v":0},{"$f":"'HOJA GENERAL DE DATOS'!O192","v":0},{"$f":"'HOJA GENERAL DE DATOS'!P192","v":0},null,null,null,null,null,null,null,null,16,2]
[8,{"$f":"CONCATENATE('HOJA GENERAL DE DATOS'!B193,'HOJA GENERAL DE DATOS'!C193,'HOJA GENERAL DE DATOS'!D193,'HOJA GENERAL DE DATOS'!E193)","v":"0000"},8,{"$f":"'HOJA GENERAL DE DATOS'!B193","v":0},{"$f":"'HOJA GENERAL DE DATOS'!C193","v":0},{"$f":"'HOJA GENERAL DE DATOS'!D193","v":0},{"$f":"'HOJA GENERAL DE DATOS'!E193","v":0},{"$f":"'HOJA GENERAL DE DATOS'!F193","v":0},{"$f":"'HOJA GENERAL DE DATOS'!G193","v":0},{"$f":"'HOJA GENERAL DE DATOS'!H193","v":0},{"$f":"'HOJA GENERAL DE DATOS'!I193","v":0},{"$f":"'HOJA GENERAL DE DATOS'!J193","v":0},{"$f":"'HOJA GENERAL DE DATOS'!K193","v":0},{"$f":"'HOJA GENERAL DE DATOS'!L193","v":0},{"$f":"'HOJA GENERAL DE DATOS'!M193","v":0},{"$f":"'HOJA GENERAL DE DATOS'!N193","v":0},{"$f":"'HOJA GENERAL DE DATOS'!O193","v":0},{"$f":"'HOJA GENERAL DE DATOS'!P193","v":0},null,null,null,null,null,null,null,null,17.989999999999998,2]
[9,{"$f":"CONCATENATE('HOJA GENERAL DE DATOS'!B194,'HOJA GENERAL DE DATOS'!C194,'HOJA GENERAL DE DATOS'!D194,'HOJA GENERAL DE DATOS'!E194)","v":"0000"},9,{"$f":"'HOJA GENERAL DE DATOS'!B194","v":0},{"$f":"'HOJA GENERAL DE DATOS'!C194","v":0},{"$f":"'HOJA GENERAL DE DATOS'!D194","v":0},{"$f":"'HOJA GENERAL DE DATOS'!E194","v":0},{"$f":"'HOJA GENERAL DE DATOS'!F194","v":0},{"$f":"'HOJA GENERAL DE DATOS'!G194","v":0},{"$f":"'HOJA GENERAL DE DATOS'!H194","v":0},{"$f":"'HOJA GENERAL DE DATOS'!I194","v":0},{"$f":"'HOJA GENERAL DE DATOS'!J194","v":0},{"$f":"'HOJA GENERAL DE DATOS'!K194","v":0},{"$f":"'HOJA GENERAL DE DATOS'!L194","v":0},{"$f":"'HOJA GENERAL DE DATOS'!M194","v":0},{"$f":"'HOJA GENERAL DE DATOS'!N194","v":0},{"$f":"'HOJA GENERAL DE DATOS'!O194","v":0},{"$f":"'HOJA GENERAL DE DATOS'!P194","v":0},null,null,null,null,null,null,null,null,18,3]
[10,{"$f":"CONCATENATE('HOJA GENERAL DE DATOS'!B195,'HOJA GENERAL DE DATOS'!C195,'HOJA GENERAL DE DATOS'!D195,'HOJA GENERAL DE DATOS'!E195)","v":"0000"},10,{"$f":"'HOJA GENERAL DE DATOS'!B195","v":0},{"$f":"'HOJA GENERAL DE DATOS'!C195","v":0},{"$f":"'HOJA GENERAL DE DATOS'!D195","v":0},{"$f":"'HOJA GENERAL DE DATOS'!E195","v":0},{"$f":"'HOJA GENERAL DE DATOS'!F195","v":0},{"$f":"'HOJA GENERAL DE DATOS'!G195","v":0},{"$f":"'HOJA GENERAL DE DATOS'!H195","v":0},{"$f":"'HOJA GENERAL DE DATOS'!I195","v":0},{"$f":"'HOJA GENERAL DE DATOS'!J195","v":0},{"$f":"'HOJA GENERAL DE DATOS'!K195","v":0},{"$f":"'HOJA GENERAL DE DATOS'!L195","v":0},{"$f":"'HOJA GENERAL DE DATOS'!M195","v":0},{"$f":"'HOJA GENERAL DE DATOS'!N195","v":0},{"$f":"'HOJA GENERAL DE DATOS'!O195","v":0},{"$f":"'HOJA GENERAL DE DATOS'!P195","v":0},null,null,null,null,null,null,null,null,20.99,3]
[11,{"$f":"CONCATENATE('HOJA GENERAL DE DATOS'!B196,'HOJA GENERAL DE DATOS'!C196,'HOJA GENERAL DE DATOS'!D196,'HOJA GENERAL DE DATOS'!E196)","v":"0000"},11,{"$f":"'HOJA GENERAL DE DATOS'!B196","v":0},{"$f":"'HOJA GENERAL DE DATOS'!C196","v":0},{"$f":"'HOJA GENERAL DE DATOS'!D196","v":0},{"$f":"'HOJA GENERAL DE DATOS'!E196","v":0},{"$f":"'HOJA GENERAL DE DATOS'!F196","v":0},{"$f":"'HOJA GENERAL DE DATOS'!G196","v":0},{"$f":"'HOJA GENERAL DE DATOS'!H196","v":0},{"$f":"'HOJA GENERAL DE DATOS'!I196","v":0},{"$f":"'HOJA GENERAL DE DATOS'!J196","v":0},{"$f":"'HOJA GENERAL DE DATOS'!K196","v":0},{"$f":"'HOJA GENERAL DE DATOS'!L196","v":0},{"$f":"'HOJA GENERAL DE DATOS'!M196","v":0},{"$f":"'HOJA GENERAL DE DATOS'!N196","v":0},{"$f":"'HOJA GENERAL DE DATOS'!O196","v":0},{"$f":"'HOJA GENERAL DE DATOS'!P196","v":0},null,null,null,null,null,null,null,null,21,4]
[12,{"$f":"CONCATENATE('HOJA GENERAL DE DATOS'!B197,'HOJA GENERAL DE DATOS'!C197,'HOJA GENERAL DE DATOS'!D197,'HOJA GENERAL DE DATOS'!E197)","v":"0000"},12,{"$f":"'HOJA GENERAL DE DATOS'!B197","v":0},{"$f":"'HOJA GENERAL DE DATOS'!C197","v":0},{"$f":"'HOJA GENERAL DE DATOS'!D197","v":0},{"$f":"'HOJA GENERAL DE DATOS'!E197","v":0},{"$f":"'HOJA GENERAL DE DATOS'!F197","v":0},{"$f":"'HOJA GENERAL DE DATOS'!G197","v":0},{"$f":"'HOJA GENERAL DE DATOS'!H197","v":0},{"$f":"'HOJA GENERAL DE DATOS'!I197","v":0},{"$f":"'HOJA GENERAL DE DATOS'!J197","v":0},{"$f":"'HOJA GENERAL DE DATOS'!K197","v":0},{"$f":"'HOJA GENERAL DE DATOS'!L197","v":0},{"$f":"'HOJA GENERAL DE DATOS'!M197","v":0},{"$f":"'HOJA GENERAL DE DATOS'!N197","v":0},{"$f":"'HOJA GENERAL DE DATOS'!O197","v":0},{"$f":"'HOJA GENERAL DE DATOS'!P197","v":0},null,null,null,null,null,null,null,null,22,4]
[13,{"$f":"CONCATENATE('HOJA GENERAL DE DATOS'!B198,'HOJA GENERAL DE DATOS'!C198,'HOJA GENERAL DE DATOS'!D198,'HOJA GENERAL DE DATOS'!E198)","v":"0000"},13,{"$f":"'HOJA GENERAL DE DATOS'!B198","v":0},{"$f":"'HOJA GENERAL DE DATOS'!C198","v":0},{"$f":"'HOJA GENERAL DE DATOS'!D198","v":0},{"$f":"'HOJA GENERAL DE DATOS'!E198","v":0},{"$f":"'HOJA GENERAL DE DATOS'!F198","v":0},{"$f":"'HOJA GENERAL DE DATOS'!G198","v":0},{"$f":"'HOJA GENERAL DE DATOS'!H198","v":0},{"$f":"'HOJA GENERAL DE DATOS'!I198","v":0},{"$f":"'HOJA GENERAL DE DATOS'!J198","v":0},{"$f":"'HOJA GENERAL DE DATOS'!K198","v":0},{"$f":"'HOJA GENERAL DE DATOS'!L198","v":0},{"$f":"'HOJA GENERAL DE DATOS'!M198","v":0},{"$f":"'HOJA GENERAL DE DATOS'!N198","v":0},{"$f":"'HOJA GENERAL DE DATOS'!O198","v":0},{"$f":"'HOJA GENERAL DE DATOS'!P198","v":0},null,null,null,null,null,null,null,null,23.99,4]
[14,{"$f":"CONCATENATE('HOJA GENERAL DE DATOS'!B199,'HOJA GENERAL DE DATOS'!C199,'HOJA GENERAL DE DATOS'!D199,'HOJA GENERAL DE DATOS'!E199)","v":"0000"},14,{"$f":"'HOJA GENERAL DE DATOS'!B199","v":0},{"$f":"'HOJA GENERAL DE DATOS'!C199","v":0},{"$f":"'HOJA GENERAL DE DATOS'!D199","v":0},{"$f":"'HOJA GENERAL DE DATOS'!E199","v":0},{"$f":"'HOJA GENERAL DE DATOS'!F199","v":0},{"$f":"'HOJA GENERAL DE DATOS'!G199","v":0},{"$f":"'HOJA GENERAL DE DATOS'!H199","v":0},{"$f":"'HOJA GENERAL DE DATOS'!I199","v":0},{"$f":"'HOJA GENERAL DE DATOS'!J199","v":0},{"$f":"'HOJA GENERAL DE DATOS'!K199","v":0},{"$f":"'HOJA GENERAL DE DATOS'!L199","v":0},{"$f":"'HOJA GENERAL DE DATOS'!M199","v":0},{"$f":"'HOJA GENERAL DE DATOS'!N199","v":0},{"$f":"'HOJA GENERAL DE DATOS'!O199","v":0},{"$f":"'HOJA GENERAL DE DATOS'!P199","v":0},null,null,null,null,null,null,null,null,24,5]
[15,{"$f":"CONCATENATE('HOJA GENERAL DE DATOS'!B200,'HOJA GENERAL DE DATOS'!C200,'HOJA GENERAL DE DATOS'!D200,'HOJA GENERAL DE DATOS'!E200)","v":"0000"},15,{"$f":"'HOJA GENERAL DE DATOS'!B200","v":0},{"$f":"'HOJA GENERAL DE DATOS'!C200","v":0},{"$f":"'HOJA GENERAL DE DATOS'!D200","v":0},{"$f":"'HOJA GENERAL DE DATOS'!E200","v":0},{"$f":"'HOJA GENERAL DE DATOS'!F200","v":0},{"$f":"'HOJA GENERAL DE DATOS'!G200","v":0},{"$f":"'HOJA GENERAL DE DATOS'!H200","v":0},{"$f":"'HOJA GENERAL DE DATOS'!I200","v":0},{"$f":"'HOJA GENERAL DE DATOS'!J200","v":0},{"$f":"'HOJA GENERAL DE DATOS'!K200","v":0},{"$f":"'HOJA GENERAL DE DATOS'!L200","v":0},{"$f":"'HOJA GENERAL DE DATOS'!M200","v":0},{"$f":"'HOJA GENERAL DE DATOS'!N200","v":0},{"$f":"'HOJA GENERAL DE DATOS'!O200","v":0},{"$f":"'HOJA GENERAL DE DATOS'!P200","v":0},null,null,null,null,null,null,null,null,25,5]
[16,{"$f":"CONCATENATE('HOJA GENERAL DE DATOS'!B201,'HOJA GENERAL DE DATOS'!C201,'HOJA GENERAL DE DATOS'!D201,'HOJA GENERAL DE DATOS'!E201)","v":"0000"},16,{"$f":"'HOJA GENERAL DE DATOS'!B201","v":0},{"$f":"'HOJA GENERAL DE DATOS'!C201","v":0},{"$f":"'HOJA GENERAL DE DATOS'!D201","v":0},{"$f":"'HOJA GENERAL DE DATOS'!E201","v":0},{"$f":"'HOJA GENERAL DE DATOS'!F201","v":0},{"$f":"'HOJA GENERAL DE DATOS'!G201","v":0},{"$f":"'HOJA GENERAL DE DATOS'!H201","v":0},{"$f":"'HOJA GENERAL DE DATOS'!I201","v":0},{"$f":"'HOJA GENERAL DE DATOS'!J201","v":0},{"$f":"'HOJA GENERAL DE DATOS'!K201","v":0},{"$f":"'HOJA GENERAL DE DATOS'!L201","v":0},{"$f":"'HOJA GENERAL DE DATOS'!M201","v":0},{"$f":"'HOJA GENERAL DE DATOS'!N201","v":0},{"$f":"'HOJA GENERAL DE DATOS'!O201","v":0},{"$f":"'HOJA GENERAL DE DATOS'!P201","v":0},null,null,null,null,null,null,null,null,26.99,5]
[17,{"$f":"CONCATENATE('HOJA GENERAL DE DATOS'!B202,'HOJA GENERAL DE DATOS'!C202,'HOJA GENERAL DE DATOS'!D202,'HOJA GENERAL DE DATOS'!E202)","v":"0000"},17,{"$f":"'HOJA GENERAL DE DATOS'!B202","v":0},{"$f":"'HOJA GENERAL DE DATOS'!C202","v":0},{"$f":"'HOJA GENERAL DE DATOS'!D202","v":0},{"$f":"'HOJA GENERAL DE DATOS'!E202","v":0},{"$f":"'HOJA GENERAL DE DATOS'!F202","v":0},{"$f":"'HOJA GENERAL DE DATOS'!G202","v":0},{"$f":"'HOJA GENERAL DE DATOS'!H202","v":0},{"$f":"'HOJA GENERAL DE DATOS'!I202","v":0},{"$f":"'HOJA GENERAL DE DATOS'!J202","v":0},{"$f":"'HOJA GENERAL DE DATOS'!K202","v":0},{"$f":"'HOJA GENERAL DE DATOS'!L202","v":0},{"$f":"'HOJA GENERAL DE DATOS'!M202","v":0},{"$f":"'HOJA GENERAL DE DATOS'!N202","v":0},{"$f":"'HOJA GENERAL DE DATOS'!O202","v":0},{"$f":"'HOJA GENERAL DE DATOS'!P202","v":0},null,null,null,null,null,null,null,null,27,6]
[18,{"$f":"CONCATENATE('HOJA GENERAL DE DATOS'!B203,'HOJA GENERAL DE DATOS'!C203,'HOJA GENERAL DE DATOS'!D203,'HOJA GENERAL DE DATOS'!E203)","v":"0000"},18,{"$f":"'HOJA GENERAL DE DATOS'!B203","v":0},{"$f":"'HOJA GENERAL DE DATOS'!C203","v":0},{"$f":"'HOJA GENERAL DE DATOS'!D203","v":0},{"$f":"'HOJA GENERAL DE DATOS'!E203","v":0},{"$f":"'HOJA GENERAL DE DATOS'!F203","v":0},{"$f":"'HOJA GENERAL DE DATOS'!G203","v":0},{"$f":"'HOJA GENERAL DE DATOS'!H203","v":0},{"$f":"'HOJA GENERAL DE DATOS'!I203","v":0},{"$f":"'HOJA GENERAL DE DATOS'!J203","v":0},{"$f":"'HOJA GENERAL DE DATOS'!K203","v":0},{"$f":"'HOJA GENERAL DE DATOS'!L203","v":0},{"$f":"'HOJA GENERAL DE DATOS'!M203","v":0},{"$f":"'HOJA GENERAL DE DATOS'!N203","v":0},{"$f":"'HOJA GENERAL DE DATOS'!O203","v":0},{"$f":"'HOJA GENERAL DE DATOS'!P203","v":0},null,null,null,null,null,null,null,null,28,6]
[19,{"$f":"CONCATENATE('HOJA GENERAL DE DATOS'!B204,'HOJA GENERAL DE DATOS'!C204,'HOJA GENERAL DE DATOS'!D204,'HOJA GENERAL DE DATOS'!E204)","v":"0000"},19,{"$f":"'HOJA GENERAL DE DATOS'!B204","v":0},{"$f":"'HOJA GENERAL DE DATOS'!C204","v":0},{"$f":"'HOJA GENERAL DE DATOS'!D204","v":0},{"$f":"'HOJA GENERAL DE DATOS'!E204","v":0},{"$f":"'HOJA GENERAL DE DATOS'!F204","v":0},{"$f":"'HOJA GENERAL DE DATOS'!G204","v":0},{"$f":"'HOJA GENERAL DE DATOS'!H204","v":0},{"$f":"'HOJA GENERAL DE DATOS'!I204","v":0},{"$f":"'HOJA GENERAL DE DATOS'!J204","v":0},{"$f":"'HOJA GENERAL DE DATOS'!K204","v":0},{"$f":"'HOJA GENERAL DE DATOS'!L204","v":0},{"$f":"'HOJA GENERAL DE DATOS'!M204","v":0},{"$f":"'HOJA GENERAL DE DATOS'!N204","v":0},{"$f":"'HOJA GENERAL DE DATOS'!O204","v":0},{"$f":"'HOJA GENERAL DE DATOS'!P204","v":0},null,null,null,null,null,null,null,null,29.99,6]
[20,{"$f":"CONCATENATE('HOJA GENERAL DE DATOS'!B205,'HOJA GENERAL DE DATOS'!C205,'HOJA GENERAL DE DATOS'!D205,'HOJA GENERAL DE DATOS'!E205)","v":"2MACHOS&HEMBRASENTREFINOINDEFINIDO"},20,{"$f":"'HOJA GENERAL DE DATOS'!B205","v":2},{"$f":"'HOJA GENERAL DE DATOS'!C205","v":"MACHOS&HEMBRAS"},{"$f":"'HOJA GENERAL DE DATOS'!D205","v":"ENTREFINO"},{"$f":"'HOJA GENERAL DE DATOS'!E205","v":"INDEFINIDO"},{"$f":"'HOJA GENERAL DE DATOS'!F205","v":1},{"$f":"'HOJA GENERAL DE DATOS'!G205","v":54},{"$f":"'HOJA GENERAL DE DATOS'!H205","v":12600},{"$f":"'HOJA GENERAL DE DATOS'!I205","v":22400},{"$f":"'HOJA GENERAL DE DATOS'!J205","v":239},{"$f":"'HOJA GENERAL DE DATOS'!K205","v":3240},{"$f":"'HOJA GENERAL DE DATOS'!L205","v":0},{"$f":"'HOJA GENERAL DE DATOS'!M205","v":41.004184100418399},{"$f":"'HOJA GENERAL DE DATOS'!N205","v":774.36},{"$f":"'HOJA GENERAL DE DATOS'!O205","v":0},{"$f":"'HOJA GENERAL DE DATOS'!P205","v":0},null,null,null,null,null,null,null,null,30,7]
[21,{"$f":"CONCATENATE('HOJA GENERAL DE DATOS'!B206,'HOJA GENERAL DE DATOS'!C206,'HOJA GENERAL DE DATOS'!D206,'HOJA GENERAL DE DATOS'!E206)","v":"2HEMBRASENTREFINOVERANO"},21,{"$f":"'HOJA GENERAL DE DATOS'!B206","v":2},{"$f":"'HOJA GENERAL DE DATOS'!C206","v":"HEMBRAS"},{"$f":"'HOJA GENERAL DE DATOS'!D206","v":"ENTREFINO"},{"$f":"'HOJA GENERAL DE DATOS'!E206","v":"VERANO"},{"$f":"'HOJA GENERAL DE DATOS'!F206","v":8},{"$f":"'HOJA GENERAL DE DATOS'!G206","v":160},{"$f":"'HOJA GENERAL DE DATOS'!H206","v":15675},{"$f":"'HOJA GENERAL DE DATOS'!I206","v":18687.5},{"$f":"'HOJA GENERAL DE DATOS'!J206","v":257.625},{"$f":"'HOJA GENERAL DE DATOS'!K206","v":3167.5},{"$f":"'HOJA GENERAL DE DATOS'!L206","v":101.5},{"$f":"'HOJA GENERAL DE DATOS'!M206","v":11.3369610778549},{"$f":"'HOJA GENERAL DE DATOS'!N206","v":785.52750000000003},{"$f":"'HOJA GENERAL DE DATOS'!O206","v":50.869405624318297},{"$f":"'HOJA GENERAL DE DATOS'!P206","v":774.14930269111699},null,null,null,null,null,null,null,null,31,7]
[22,{"$f":"CONCATENATE('HOJA GENERAL DE DATOS'!B207,'HOJA GENERAL DE DATOS'!C207,'HOJA GENERAL DE DATOS'!D207,'HOJA GENERAL DE DATOS'!E207)","v":"2HEMBRASENTREFINOINVIERNO"},22,{"$f":"'HOJA GENERAL DE DATOS'!B207","v":2},{"$f":"'HOJA GENERAL DE DATOS'!C207","v":"HEMBRAS"},{"$f":"'HOJA GENERAL DE DATOS'!D207","v":"ENTREFINO"},{"$f":"'HOJA GENERAL DE DATOS'!E207","v":"INVIERNO"},{"$f":"'HOJA GENERAL DE DATOS'!F207","v":4},{"$f":"'HOJA GENERAL DE DATOS'!G207","v":321},{"$f":"'HOJA GENERAL DE DATOS'!H207","v":13100},{"$f":"'HOJA GENERAL DE DATOS'!I207","v":20150},{"$f":"'HOJA GENERAL DE DATOS'!J207","v":279.75},{"$f":"'HOJA GENERAL DE DATOS'!K207","v":3080},{"$f":"'HOJA GENERAL DE DATOS'!L207","v":100.5},{"$f":"'HOJA GENERAL DE DATOS'!M207","v":26.620758749171301},{"$f":"'HOJA GENERAL DE DATOS'!N207","v":834.58249999999998},{"$f":"'HOJA GENERAL DE DATOS'!O207","v":49.842251153012697},{"$f":"'HOJA GENERAL DE DATOS'!P207","v":762.758153020995},null,null,null,null,null,null,null,null,32,7]
[23,{"$f":"CONCATENATE('HOJA GENERAL DE DATOS'!B208,'HOJA GENERAL DE DATOS'!C208,'HOJA GENERAL DE DATOS'!D208,'HOJA GENERAL DE DATOS'!E208)","v":"2MACHOSENTREFINOVERANO"},23,{"$f":"'HOJA GENERAL DE DATOS'!B208","v":2},{"$f":"'HOJA GENERAL DE DATOS'!C208","v":"MACHOS"},{"$f":"'HOJA GENERAL DE DATOS'!D208","v":"ENTREFINO"},{"$f":"'HOJA GENERAL DE DATOS'!E208","v":"VERANO"},{"$f":"'HOJA GENERAL DE DATOS'!F208","v":8},{"$f":"'HOJA GENERAL DE DATOS'!G208","v":160},{"$f":"'HOJA GENERAL DE DATOS'!H208","v":15487.5},{"$f":"'HOJA GENERAL DE DATOS'!I208","v":18787.5},{"$f":"'HOJA GENERAL DE DATOS'!J208","v":292},{"$f":"'HOJA GENERAL DE DATOS'!K208","v":2752.5},{"$f":"'HOJA GENERAL DE DATOS'!L208","v":101.5},{"$f":"'HOJA GENERAL DE DATOS'!M208","v":11.117707411372701},{"$f":"'HOJA GENERAL DE DATOS'!N208","v":787.66375000000005},{"$f":"'HOJA GENERAL DE DATOS'!O208","v":53.473625007367602},{"$f":"'HOJA GENERAL DE DATOS'!P208","v":430.77173272428797},null,null,null,null,null,null,null,null,33,7]
[24,{"$f":"CONCATENATE('HOJA GENERAL DE DATOS'!B209,'HOJA GENERAL DE DATOS'!C209,'HOJA GENERAL DE DATOS'!D209,'HOJA GENERAL DE DATOS'!E209)","v":"2HEMBRASCARNICO&CRUZADOINVIERNO"},24,{"$f":"'HOJA GENERAL DE DATOS'!B209","v":2},{"$f":"'HOJA GENERAL DE DATOS'!C209","v":"HEMBRAS"},{"$f":"'HOJA GENERAL DE DATOS'!D209","v":"CARNICO&CRUZADO"},{"$f":"'HOJA GENERAL DE DATOS'!E209","v":"INVIERNO"},{"$f":"'HOJA GENERAL DE DATOS'!F209","v":7},{"$f":"'HOJA GENERAL DE DATOS'!G209","v":49},{"$f":"'HOJA GENERAL DE DATOS'!H209","v":15288.5714285714},{"$f":"'HOJA GENERAL DE DATOS'!I209","v":17550},{"$f":"'HOJA GENERAL DE DATOS'!J209","v":294.28571428571399},{"$f":"'HOJA GENERAL DE DATOS'!K209","v":3354.2857142857101},{"$f":"'HOJA GENERAL DE DATOS'!L209","v":99.928571428571402},{"$f":"'HOJA GENERAL DE DATOS'!M209","v":7.63036423346768},{"$f":"'HOJA GENERAL DE DATOS'!N209","v":978.88571428571402},{"$f":"'HOJA GENERAL DE DATOS'!O209","v":34.572215654165099},{"$f":"'HOJA GENERAL DE DATOS'!P209","v":438.552814867915}]
[25,{"$f":"CONCATENATE('HOJA GENERAL DE DATOS'!B210,'HOJA GENERAL DE DATOS'!C210,'HOJA GENERAL DE DATOS'!D210,'HOJA GENERAL DE DATOS'!E210)","v":"2MACHOS&HEMBRASENTREFINOINVIERNO"},25,{"$f":"'HOJA GENERAL DE DATOS'!B210","v":2},{"$f":"'HOJA GENERAL DE DATOS'!C210","v":"MACHOS&HEMBRAS"},{"$f":"'HOJA GENERAL DE DATOS'!D210","v":"ENTREFINO"},{"$f":"'HOJA GENERAL DE DATOS'!E210","v":"INVIERNO"},{"$f":"'HOJA GENERAL DE DATOS'!F210","v":3},{"$f":"'HOJA GENERAL DE DATOS'!G210","v":218},{"$f":"'HOJA GENERAL DE DATOS'!H210","v":14000},{"$f":"'HOJA GENERAL DE DATOS'!I210","v":20300},{"$f":"'HOJA GENERAL DE DATOS'!J210","v":295.33333333333297},{"$f":"'HOJA GENERAL DE DATOS'!K210","v":2416.6666666666702},{"$f":"'HOJA GENERAL DE DATOS'!L210","v":100.166666666667},{"$f":"'HOJA GENERAL DE DATOS'!M210","v":21.3715843026188},{"$f":"'HOJA GENERAL DE DATOS'!N210","v":716.76666666666699},{"$f":"'HOJA GENERAL DE DATOS'!O210","v":31.9426569548204},{"$f":"'HOJA GENERAL DE DATOS'!P210","v":159.478316185409}]
[26,{"$f":"CONCATENATE('HOJA GENERAL DE DATOS'!B211,'HOJA GENERAL DE DATOS'!C211,'HOJA GENERAL DE DATOS'!D211,'HOJA GENERAL DE DATOS'!E211)","v":"2MACHOSENTREFINOINVIERNO"},26,{"$f":"'HOJA GENERAL DE DATOS'!B211","v":2},{"$f":"'HOJA GENERAL DE DATOS'!C211","v":"MACHOS"},{"$f":"'HOJA GENERAL DE DATOS'!D211","v":"ENTREFINO"},{"$f":"'HOJA GENERAL DE DATOS'!E211","v":"INVIERNO"},{"$f":"'HOJA GENERAL DE DATOS'!F211","v":3},{"$f":"'HOJA GENERAL DE DATOS'!G211","v":227},{"$f":"'HOJA GENERAL DE DATOS'!H211","v":13633.333333333299},{"$f":"'HOJA GENERAL DE DATOS'!I211","v":21666.666666666701},{"$f":"'HOJA GENERAL DE DATOS'!J211","v":307.66666666666703},{"$f":"'HOJA GENERAL DE DATOS'!K211","v":2423.3333333333298},{"$f":"'HOJA GENERAL DE DATOS'!L211","v":100.5},{"$f":"'HOJA GENERAL DE DATOS'!M211","v":27.022465064272598},{"$f":"'HOJA GENERAL DE DATOS'!N211","v":743.51},{"$f":"'HOJA GENERAL DE DATOS'!O211","v":39.803684921541297},{"$f":"'HOJA GENERAL DE DATOS'!P211","v":80.829037686547593},null,null,null,null,null,null,null,null,"MACHOS","CARNICO&CRUZADO","INVIERNO",{"$f":"CONCATENATE(AA235,AB235,AC235)","v":"MACHOSCARNICO&CRUZADOINVIERNO"}]
[27,{"$f":"CONCATENATE('HOJA GENERAL DE DATOS'!B212,'HOJA GENERAL DE DATOS'!C212,'HOJA GENERAL DE DATOS'!D212,'HOJA GENERAL DE DATOS'!E212)","v":"2MACHOS&HEMBRASCARNICO&CRUZADOVERANO"},27,{"$f":"'HOJA GENERAL DE DATOS'!B212","v":2},{"$f":"'HOJA GENERAL DE DATOS'!C212","v":"MACHOS&HEMBRAS"},{"$f":"'HOJA GENERAL DE DATOS'!D212","v":"CARNICO&CRUZADO"},{"$f":"'HOJA GENERAL DE DATOS'!E212","v":"VERANO"},{"$f":"'HOJA GENERAL DE DATOS'!F212","v":14},{"$f":"'HOJA GENERAL DE DATOS'!G212","v":474},{"$f":"'HOJA GENERAL DE DATOS'!H212","v":14471.4285714286},{"$f":"'HOJA GENERAL DE DATOS'!I212","v":18850},{"$f":"'HOJA GENERAL DE DATOS'!J212","v":309.357142857143},{"$f":"'HOJA GENERAL DE DATOS'!K212","v":2793.9285714285702},{"$f":"'HOJA GENERAL DE DATOS'!L212","v":100.5},{"$f":"'HOJA GENERAL DE DATOS'!M212","v":14.4793364501346},{"$f":"'HOJA GENERAL DE DATOS'!N212","v":861.02964285714302},{"$f":"'HOJA GENERAL DE DATOS'!O212","v":30.655297303194601},{"$f":"'HOJA GENERAL DE DATOS'!P212","v":320.181310242449},null,null,null,null,null,null,null,null,"MACHOS","CARNICO&CRUZADO","VERANO",{"$f":"CONCATENATE(AA236,AB236,AC236)","v":"MACHOSCARNICO&CRUZADOVERANO"}]
[28,{"$f":"CONCATENATE('HOJA GENERAL DE DATOS'!B213,'HOJA GENERAL DE DATOS'!C213,'HOJA GENERAL DE DATOS'!D213,'HOJA GENERAL DE DATOS'!E213)","v":"2MACHOS&HEMBRASENTREFINOVERANO"},28,{"$f":"'HOJA GENERAL DE DATOS'!B213","v":2},{"$f":"'HOJA GENERAL DE DATOS'!C213","v":"MACHOS&HEMBRAS"},{"$f":"'HOJA GENERAL DE DATOS'!D213","v":"ENTREFINO"},{"$f":"'HOJA GENERAL DE DATOS'!E213","v":"VERANO"},{"$f":"'HOJA GENERAL DE DATOS'!F213","v":2},{"$f":"'HOJA GENERAL DE DATOS'!G213","v":40},{"$f":"'HOJA GENERAL DE DATOS'!H213","v":13650},{"$f":"'HOJA GENERAL DE DATOS'!I213","v":21500},{"$f":"'HOJA GENERAL DE DATOS'!J213","v":311.5},{"$f":"'HOJA GENERAL DE DATOS'!K213","v":2620},{"$f":"'HOJA GENERAL DE DATOS'!L213","v":100.5},{"$f":"'HOJA GENERAL DE DATOS'!M213","v":25.2512276485092},{"$f":"'HOJA GENERAL DE DATOS'!N213","v":816.13},{"$f":"'HOJA GENERAL DE DATOS'!O213","v":31.819805153394601},{"$f":"'HOJA GENERAL DE DATOS'!P213","v":0},null,null,null,null,null,null,null,null,"MACHOS","CARNICO&CRUZADO","INDEFINIDO","MACHOSCARNICO&CRUZADOINDEFINIDO"]
[29,{"$f":"CONCATENATE('HOJA GENERAL DE DATOS'!B214,'HOJA GENERAL DE DATOS'!C214,'HOJA GENERAL DE DATOS'!D214,'HOJA GENERAL DE DATOS'!E214)","v":"2MACHOS&HEMBRASCARNICO&CRUZADOINVIERNO"},29,{"$f":"'HOJA GENERAL DE DATOS'!B214","v":2},{"$f":"'HOJA GENERAL DE DATOS'!C214","v":"MACHOS&HEMBRAS"},{"$f":"'HOJA GENERAL DE DATOS'!D214","v":"CARNICO&CRUZADO"},{"$f":"'HOJA GENERAL DE DATOS'!E214","v":"INVIERNO"},{"$f":"'HOJA GENERAL DE DATOS'!F214","v":40},{"$f":"'HOJA GENERAL DE DATOS'!G214","v":2409},{"$f":"'HOJA GENERAL DE DATOS'!H214","v":13616.424999999999},{"$f":"'HOJA GENERAL DE DATOS'!I214","v":19945.875},{"$f":"'HOJA GENERAL DE DATOS'!J214","v":322.25},{"$f":"'HOJA GENERAL DE DATOS'!K214","v":2517.5},{"$f":"'HOJA GENERAL DE DATOS'!L214","v":100.304347826087},{"$f":"'HOJA GENERAL DE DATOS'!M214","v":19.791445139654702},{"$f":"'HOJA GENERAL DE DATOS'!N214","v":803.84775000000002},{"$f":"'HOJA GENERAL DE DATOS'!O214","v":42.605976467735502},{"$f":"'HOJA GENERAL DE DATOS'!P214","v":323.66293007957},null,null,null,null,null,null,null,null,"MACHOS","ENTREFINO","INVIERNO","MACHOSENTREFINOINVIERNO"]
[30,{"$f":"CONCATENATE('HOJA GENERAL DE DATOS'!B215,'HOJA GENERAL DE DATOS'!C215,'HOJA GENERAL DE DATOS'!D215,'HOJA GENERAL DE DATOS'!E215)","v":"2MACHOSCARNICO&CRUZADOINVIERNO"},30,{"$f":"'HOJA GENERAL DE DATOS'!B215","v":2},{"$f":"'HOJA GENERAL DE DATOS'!C215","v":"MACHOS"},{"$f":"'HOJA GENERAL DE DATOS'!D215","v":"CARNICO&CRUZADO"},{"$f":"'HOJA GENERAL DE DATOS'!E215","v":"INVIERNO"},{"$f":"'HOJA GENERAL DE DATOS'!F215","v":7},{"$f":"'HOJA GENERAL DE DATOS'!G215","v":49},{"$f":"'HOJA GENERAL DE DATOS'!H215","v":15411.4285714286},{"$f":"'HOJA GENERAL DE DATOS'!I215","v":17762.857142857101},{"$f":"'HOJA GENERAL DE DATOS'!J215","v":322.857142857143},{"$f":"'HOJA GENERAL DE DATOS'!K215","v":2945.7142857142899},{"$f":"'HOJA GENERAL DE DATOS'!L215","v":100.071428571429},{"$f":"'HOJA GENERAL DE DATOS'!M215","v":7.2506228065939},{"$f":"'HOJA GENERAL DE DATOS'!N215","v":946.857142857143},{"$f":"'HOJA GENERAL DE DATOS'!O215","v":26.2769136406122},{"$f":"'HOJA GENERAL DE DATOS'!P215","v":251.51919362526701},null,null,null,null,null,null,null,null,"MACHOS","ENTREFINO","VERANO","MACHOSENTREFINOVERANO"]
[31,{"$f":"CONCATENATE('HOJA GENERAL DE DATOS'!B216,'HOJA GENERAL DE DATOS'!C216,'HOJA GENERAL DE DATOS'!D216,'HOJA GENERAL DE DATOS'!E216)","v":"0000"},31,{"$f":"'HOJA GENERAL DE DATOS'!B216","v":0},{"$f":"'HOJA GENERAL DE DATOS'!C216","v":0},{"$f":"'HOJA GENERAL DE DATOS'!D216","v":0},{"$f":"'HOJA GENERAL DE DATOS'!E216","v":0},{"$f":"'HOJA GENERAL DE DATOS'!F216","v":0},{"$f":"'HOJA GENERAL DE DATOS'!G216","v":0},{"$f":"'HOJA GENERAL DE DATOS'!H216","v":0},{"$f":"'HOJA GENERAL DE DATOS'!I216","v":0},{"$f":"'HOJA GENERAL DE DATOS'!J216","v":0},{"$f":"'HOJA GENERAL DE DATOS'!K216","v":0},{"$f":"'HOJA GENERAL DE DATOS'!L216","v":0},{"$f":"'HOJA GENERAL DE DATOS'!M216","v":0},{"$f":"'HOJA GENERAL DE DATOS'!N216","v":0},{"$f":"'HOJA GENERAL DE DATOS'!O216","v":0},{"$f":"'HOJA GENERAL DE DATOS'!P216","v":0},null,null,null,null,null,null,null,null,"MACHOS","ENTREFINO","INDEFINIDO","MACHOSENTREFINOINDEFINIDO"]
[32,{"$f":"CONCATENATE('HOJA GENERAL DE DATOS'!B217,'HOJA GENERAL DE DATOS'!C217,'HOJA GENERAL DE DATOS'!D217,'HOJA GENERAL DE DATOS'!E217)","v":"0000"},32,{"$f":"'HOJA GENERAL DE DATOS'!B217","v":0},{"$f":"'HOJA GENERAL DE DATOS'!C217","v":0},{"$f":"'HOJA GENERAL DE DATOS'!D217","v":0},{"$f":"'HOJA GENERAL DE DATOS'!E217","v":0},{"$f":"'HOJA GENERAL DE DATOS'!F217","v":0},{"$f":"'HOJA GENERAL DE DATOS'!G217","v":0},{"$f":"'HOJA GENERAL DE DATOS'!H217","v":0},{"$f":"'HOJA GENERAL DE DATOS'!I217","v":0},{"$f":"'HOJA GENERAL DE DATOS'!J217","v":0},{"$f":"'HOJA GENERAL DE DATOS'!K217","v":0},{"$f":"'HOJA GENERAL DE DATOS'!L217","v":0},{"$f":"'HOJA GENERAL DE DATOS'!M217","v":0},{"$f":"'HOJA GENERAL DE DATOS'!N217","v":0},{"$f":"'HOJA GENERAL DE DATOS'!O217","v":0},{"$f":"'HOJA GENERAL DE DATOS'!P217","v":0},null,null,null,null,null,null,null,null,"MACHOS","INDEFINIDA","INVIERNO","MACHOSINDEFINIDAINVIERNO"]
[33,{"$f":"CONCATENATE('HOJA GENERAL DE DATOS'!B218,'HOJA GENERAL DE DATOS'!C218,'HOJA GENERAL DE DATOS'!D218,'HOJA GENERAL DE DATOS'!E218)","v":"0000"},33,{"$f":"'HOJA GENERAL DE DATOS'!B218","v":0},{"$f":"'HOJA GENERAL DE DATOS'!C218","v":0},{"$f":"'HOJA GENERAL DE DATOS'!D218","v":0},{"$f":"'HOJA GENERAL DE DATOS'!E218","v":0},{"$f":"'HOJA GENERAL DE DATOS'!F218","v":0},{"$f":"'HOJA GENERAL DE DATOS'!G218","v":0},{"$f":"'HOJA GENERAL DE DATOS'!H218","v":0},{"$f":"'HOJA GENERAL DE DATOS'!I218","v":0},{"$f":"'HOJA GENERAL DE DATOS'!J218","v":0},{"$f":"'HOJA GENERAL DE DATOS'!K218","v":0},{"$f":"'HOJA GENERAL DE DATOS'!L218","v":0},{"$f":"'HOJA GENERAL DE DATOS'!M218","v":0},{"$f":"'HOJA GENERAL DE DATOS'!N218","v":0},{"$f":"'HOJA GENERAL DE DATOS'!O218","v":0},{"$f":"'HOJA GENERAL DE DATOS'!P218","v":0},null,null,null,null,null,null,null,null,"MACHOS","INDEFINIDA","VERANO","MACHOSINDEFINIDAVERANO"]
[34,{"$f":"CONCATENATE('HOJA GENERAL DE DATOS'!B219,'HOJA GENERAL DE DATOS'!C219,'HOJA GENERAL DE DATOS'!D219,'HOJA GENERAL DE DATOS'!E219)","v":"0000"},34,{"$f":"'HOJA GENERAL DE DATOS'!B219","v":0},{"$f":"'HOJA GENERAL DE DATOS'!C219","v":0},{"$f":"'HOJA GENERAL DE DATOS'!D219","v":0},{"$f":"'HOJA GENERAL DE DATOS'!E219","v":0},{"$f":"'HOJA GENERAL DE DATOS'!F219","v":0},{"$f":"'HOJA GENERAL DE DATOS'!G219","v":0},{"$f":"'HOJA GENERAL DE DATOS'!H219","v":0},{"$f":"'HOJA GENERAL DE DATOS'!I219","v":0},{"$f":"'HOJA GENERAL DE DATOS'!J219","v":0},{"$f":"'HOJA GENERAL DE DATOS'!K219","v":0},{"$f":"'HOJA GENERAL DE DATOS'!L219","v":0},{"$f":"'HOJA GENERAL DE DATOS'!M219","v":0},{"$f":"'HOJA GENERAL DE DATOS'!N219","v":0},{"$f":"'HOJA GENERAL DE DATOS'!O219","v":0},{"$f":"'HOJA GENERAL DE DATOS'!P219","v":0},null,null,null,null,null,null,null,null,"MACHOS","INDEFINIDA","INDEFINIDO","MACHOSINDEFINIDAINDEFINIDO"]
[35,{"$f":"CONCATENATE('HOJA GENERAL DE DATOS'!B220,'HOJA GENERAL DE DATOS'!C220,'HOJA GENERAL DE DATOS'!D220,'HOJA GENERAL DE DATOS'!E220)","v":"0000"},35,{"$f":"'HOJA GENERAL DE DATOS'!B220","v":0},{"$f":"'HOJA GENERAL DE DATOS'!C220","v":0},{"$f":"'HOJA GENERAL DE DATOS'!D220","v":0},{"$f":"'HOJA GENERAL DE DATOS'!E220","v":0},{"$f":"'HOJA GENERAL DE DATOS'!F220","v":0},{"$f":"'HOJA GENERAL DE DATOS'!G220","v":0},{"$f":"'HOJA GENERAL DE DATOS'!H220","v":0},{"$f":"'HOJA GENERAL DE DATOS'!I220","v":0},{"$f":"'HOJA GENERAL DE DATOS'!J220","v":0},{"$f":"'HOJA GENERAL DE DATOS'!K220","v":0},{"$f":"'HOJA GENERAL DE DATOS'!L220","v":0},{"$f":"'HOJA GENERAL DE DATOS'!M220","v":0},{"$f":"'HOJA GENERAL DE DATOS'!N220","v":0},{"$f":"'HOJA GENERAL DE DATOS'!O220","v":0},{"$f":"'HOJA GENERAL DE DATOS'!P220","v":0},null,null,null,null,null,null,null,null,"HEMBRAS","CARNICO&CRUZADO","INVIERNO","HEMBRASCARNICO&CRUZADOINVIERNO"]
[36,{"$f":"CONCATENATE('HOJA GENERAL DE DATOS'!B221,'HOJA GENERAL DE DATOS'!C221,'HOJA GENERAL DE DATOS'!D221,'HOJA GENERAL DE DATOS'!E221)","v":"0000"},36,{"$f":"'HOJA GENERAL DE DATOS'!B221","v":0},{"$f":"'HOJA GENERAL DE DATOS'!C221","v":0},{"$f":"'HOJA GENERAL DE DATOS'!D221","v":0},{"$f":"'HOJA GENERAL DE DATOS'!E221","v":0},{"$f":"'HOJA GENERAL DE DATOS'!F221","v":0},{"$f":"'HOJA GENERAL DE DATOS'!G221","v":0},{"$f":"'HOJA GENERAL DE DATOS'!H221","v":0},{"$f":"'HOJA GENERAL DE DATOS'!I221","v":0},{"$f":"'HOJA GENERAL DE DATOS'!J221","v":0},{"$f":"'HOJA GENERAL DE DATOS'!K221","v":0},{"$f":"'HOJA GENERAL DE DATOS'!L221","v":0},{"$f":"'HOJA GENERAL DE DATOS'!M221","v":0},{"$f":"'HOJA GENERAL DE DATOS'!N221","v":0},{"$f":"'HOJA GENERAL DE DATOS'!O221","v":0},{"$f":"'HOJA GENERAL DE DATOS'!P221","v":0},null,null,null,null,null,null,null,null,"HEMBRAS","CARNICO&CRUZADO","VERANO","HEMBRASCARNICO&CRUZADOVERANO"]
[37,{"$f":"CONCATENATE('HOJA GENERAL DE DATOS'!B222,'HOJA GENERAL DE DATOS'!C222,'HOJA GENERAL DE DATOS'!D222,'HOJA GENERAL DE DATOS'!E222)","v":"0000"},37,{"$f":"'HOJA GENERAL DE DATOS'!B222","v":0},{"$f":"'HOJA GENERAL DE DATOS'!C222","v":0},{"$f":"'HOJA GENERAL DE DATOS'!D222","v":0},{"$f":"'HOJA GENERAL DE DATOS'!E222","v":0},{"$f":"'HOJA GENERAL DE DATOS'!F222","v":0},{"$f":"'HOJA GENERAL DE DATOS'!G222","v":0},{"$f":"'HOJA GENERAL DE DATOS'!H222","v":0},{"$f":"'HOJA GENERAL DE DATOS'!I222","v":0},{"$f":"'HOJA GENERAL DE DATOS'!J222","v":0},{"$f":"'HOJA GENERAL DE DATOS'!K222","v":0},{"$f":"'HOJA GENERAL DE DATOS'!L222","v":0},{"$f":"'HOJA GENERAL DE DATOS'!M222","v":0},{"$f":"'HOJA GENERAL DE DATOS'!N222","v":0},{"$f":"'HOJA GENERAL DE DATOS'!O222","v":0},{"$f":"'HOJA GENERAL DE DATOS'!P222","v":0},null,null,null,null,null,null,null,null,"HEMBRAS","CARNICO&CRUZADO","INDEFINIDO","HEMBRASCARNICO&CRUZADOINDEFINIDO"]
[38,{"$f":"CONCATENATE('HOJA GENERAL DE DATOS'!B223,'HOJA GENERAL DE DATOS'!C223,'HOJA GENERAL DE DATOS'!D223,'HOJA GENERAL DE DATOS'!E223)","v":"0000"},38,{"$f":"'HOJA GENERAL DE DATOS'!B223","v":0},{"$f":"'HOJA GENERAL DE DATOS'!C223","v":0},{"$f":"'HOJA GENERAL DE DATOS'!D223","v":0},{"$f":"'HOJA GENERAL DE DATOS'!E223","v":0},{"$f":"'HOJA GENERAL DE DATOS'!F223","v":0},{"$f":"'HOJA GENERAL DE DATOS'!G223","v":0},{"$f":"'HOJA GENERAL DE DATOS'!H223","v":0},{"$f":"'HOJA GENERAL DE DATOS'!I223","v":0},{"$f":"'HOJA GENERAL DE DATOS'!J223","v":0},{"$f":"'HOJA GENERAL DE DATOS'!K223","v":0},{"$f":"'HOJA GENERAL DE DATOS'!L223","v":0},{"$f":"'HOJA GENERAL DE DATOS'!M223","v":0},{"$f":"'HOJA GENERAL DE DATOS'!N223","v":0},{"$f":"'HOJA GENERAL DE DATOS'!O223","v":0},{"$f":"'HOJA GENERAL DE DATOS'!P223","v":0},null,null,null,null,null,null,null,null,"HEMBRAS","ENTREFINO","INVIERNO","HEMBRASENTREFINOINVIERNO"]
[39,{"$f":"CONCATENATE('HOJA GENERAL DE DATOS'!B224,'HOJA GENERAL DE DATOS'!C224,'HOJA GENERAL DE DATOS'!D224,'HOJA GENERAL DE DATOS'!E224)","v":"3HEMBRASENTREFINOINVIERNO"},39,{"$f":"'HOJA GENERAL DE DATOS'!B224","v":3},{"$f":"'HOJA GENERAL DE DATOS'!C224","v":"HEMBRAS"},{"$f":"'HOJA GENERAL DE DATOS'!D224","v":"ENTREFINO"},{"$f":"'HOJA GENERAL DE DATOS'!E224","v":"INVIERNO"},{"$f":"'HOJA GENERAL DE DATOS'!F224","v":2},{"$f":"'HOJA GENERAL DE DATOS'!G224","v":78},{"$f":"'HOJA GENERAL DE DATOS'!H224","v":15200},{"$f":"'HOJA GENERAL DE DATOS'!I224","v":22350},{"$f":"'HOJA GENERAL DE DATOS'!J224","v":278.5},{"$f":"'HOJA GENERAL DE DATOS'!K224","v":2595},{"$f":"'HOJA GENERAL DE DATOS'!L224","v":100.5},{"$f":"'HOJA GENERAL DE DATOS'!M224","v":25.6521231312292},{"$f":"'HOJA GENERAL DE DATOS'!N224","v":722.14499999999998},{"$f":"'HOJA GENERAL DE DATOS'!O224","v":31.819805153394601},{"$f":"'HOJA GENERAL DE DATOS'!P224","v":35.355339059327399},null,null,null,null,null,null,null,null,"HEMBRAS","ENTREFINO","VERANO","HEMBRASENTREFINOVERANO"]
[40,{"$f":"CONCATENATE('HOJA GENERAL DE DATOS'!B225,'HOJA GENERAL DE DATOS'!C225,'HOJA GENERAL DE DATOS'!D225,'HOJA GENERAL DE DATOS'!E225)","v":"3HEMBRASENTREFINOVERANO"},40,{"$f":"'HOJA GENERAL DE DATOS'!B225","v":3},{"$f":"'HOJA GENERAL DE DATOS'!C225","v":"HEMBRAS"},{"$f":"'HOJA GENERAL DE DATOS'!D225","v":"ENTREFINO"},{"$f":"'HOJA GENERAL DE DATOS'!E225","v":"VERANO"},{"$f":"'HOJA GENERAL DE DATOS'!F225","v":14},{"$f":"'HOJA GENERAL DE DATOS'!G225","v":280},{"$f":"'HOJA GENERAL DE DATOS'!H225","v":16028.5714285714},{"$f":"'HOJA GENERAL DE DATOS'!I225","v":22914.285714285699},{"$f":"'HOJA GENERAL DE DATOS'!J225","v":290.142857142857},{"$f":"'HOJA GENERAL DE DATOS'!K225","v":3015.7142857142899},{"$f":"'HOJA GENERAL DE DATOS'!L225","v":101.5},{"$f":"'HOJA GENERAL DE DATOS'!M225","v":24.368538644864401},{"$f":"'HOJA GENERAL DE DATOS'!N225","v":868.71285714285705},{"$f":"'HOJA GENERAL DE DATOS'!O225","v":31.478581589727},{"$f":"'HOJA GENERAL DE DATOS'!P225","v":287.60855571189302},null,null,null,null,null,null,null,null,"HEMBRAS","ENTREFINO","INDEFINIDO","HEMBRASENTREFINOINDEFINIDO"]
[41,{"$f":"CONCATENATE('HOJA GENERAL DE DATOS'!B226,'HOJA GENERAL DE DATOS'!C226,'HOJA GENERAL DE DATOS'!D226,'HOJA GENERAL DE DATOS'!E226)","v":"3MACHOS&HEMBRASENTREFINOINDEFINIDO"},41,{"$f":"'HOJA GENERAL DE DATOS'!B226","v":3},{"$f":"'HOJA GENERAL DE DATOS'!C226","v":"MACHOS&HEMBRAS"},{"$f":"'HOJA GENERAL DE DATOS'!D226","v":"ENTREFINO"},{"$f":"'HOJA GENERAL DE DATOS'!E226","v":"INDEFINIDO"},{"$f":"'HOJA GENERAL DE DATOS'!F226","v":2},{"$f":"'HOJA GENERAL DE DATOS'!G226","v":132},{"$f":"'HOJA GENERAL DE DATOS'!H226","v":15900},{"$f":"'HOJA GENERAL DE DATOS'!I226","v":23100},{"$f":"'HOJA GENERAL DE DATOS'!J226","v":300},{"$f":"'HOJA GENERAL DE DATOS'!K226","v":2755},{"$f":"'HOJA GENERAL DE DATOS'!L226","v":100.5},{"$f":"'HOJA GENERAL DE DATOS'!M226","v":23.8878175474579},{"$f":"'HOJA GENERAL DE DATOS'!N226","v":825.39499999999998},{"$f":"'HOJA GENERAL DE DATOS'!O226","v":24.0416305603426},{"$f":"'HOJA GENERAL DE DATOS'!P226","v":91.923881554251196},null,null,null,null,null,null,null,null,"HEMBRAS","INDEFINIDA","INVIERNO","HEMBRASINDEFINIDAINVIERNO"]
[42,{"$f":"CONCATENATE('HOJA GENERAL DE DATOS'!B227,'HOJA GENERAL DE DATOS'!C227,'HOJA GENERAL DE DATOS'!D227,'HOJA GENERAL DE DATOS'!E227)","v":"3MACHOS&HEMBRASCARNICO&CRUZADOVERANO"},42,{"$f":"'HOJA GENERAL DE DATOS'!B227","v":3},{"$f":"'HOJA GENERAL DE DATOS'!C227","v":"MACHOS&HEMBRAS"},{"$f":"'HOJA GENERAL DE DATOS'!D227","v":"CARNICO&CRUZADO"},{"$f":"'HOJA GENERAL DE DATOS'!E227","v":"VERANO"},{"$f":"'HOJA GENERAL DE DATOS'!F227","v":14},{"$f":"'HOJA GENERAL DE DATOS'!G227","v":761},{"$f":"'HOJA GENERAL DE DATOS'!H227","v":17665.928571428602},{"$f":"'HOJA GENERAL DE DATOS'!I227","v":21417.571428571398},{"$f":"'HOJA GENERAL DE DATOS'!J227","v":300.57142857142901},{"$f":"'HOJA GENERAL DE DATOS'!K227","v":2873.2142857142899},{"$f":"'HOJA GENERAL DE DATOS'!L227","v":100.5},{"$f":"'HOJA GENERAL DE DATOS'!M227","v":12.090496367397799},{"$f":"'HOJA GENERAL DE DATOS'!N227","v":854.30535714285702},{"$f":"'HOJA GENERAL DE DATOS'!O227","v":45.905780238883402},{"$f":"'HOJA GENERAL DE DATOS'!P227","v":473.861417354423},null,null,null,null,null,null,null,null,"HEMBRAS","INDEFINIDA","VERANO","HEMBRASINDEFINIDAVERANO"]
[43,{"$f":"CONCATENATE('HOJA GENERAL DE DATOS'!B228,'HOJA GENERAL DE DATOS'!C228,'HOJA GENERAL DE DATOS'!D228,'HOJA GENERAL DE DATOS'!E228)","v":"3MACHOSCARNICO&CRUZADOVERANO"},43,{"$f":"'HOJA GENERAL DE DATOS'!B228","v":3},{"$f":"'HOJA GENERAL DE DATOS'!C228","v":"MACHOS"},{"$f":"'HOJA GENERAL DE DATOS'!D228","v":"CARNICO&CRUZADO"},{"$f":"'HOJA GENERAL DE DATOS'!E228","v":"VERANO"},{"$f":"'HOJA GENERAL DE DATOS'!F228","v":25},{"$f":"'HOJA GENERAL DE DATOS'!G228","v":550},{"$f":"'HOJA GENERAL DE DATOS'!H228","v":14056},{"$f":"'HOJA GENERAL DE DATOS'!I228","v":25656},{"$f":"'HOJA GENERAL DE DATOS'!J228","v":312.76},{"$f":"'HOJA GENERAL DE DATOS'!K228","v":2665.6},{"$f":"'HOJA GENERAL DE DATOS'!L228","v":102.5},{"$f":"'HOJA GENERAL DE DATOS'!M228","v":37.025503465445603},{"$f":"'HOJA GENERAL DE DATOS'!N228","v":833.95479999999998},{"$f":"'HOJA GENERAL DE DATOS'!O228","v":7.5015553942721303},{"$f":"'HOJA GENERAL DE DATOS'!P228","v":135.15669918037099},null,null,null,null,null,null,null,null,"HEMBRAS","INDEFINIDA","INDEFINIDO","HEMBRASINDEFINIDAINDEFINIDO"]
[44,{"$f":"CONCATENATE('HOJA GENERAL DE DATOS'!B229,'HOJA GENERAL DE DATOS'!C229,'HOJA GENERAL DE DATOS'!D229,'HOJA GENERAL DE DATOS'!E229)","v":"3MACHOS&HEMBRASINDEFINIDAINVIERNO"},44,{"$f":"'HOJA GENERAL DE DATOS'!B229","v":3},{"$f":"'HOJA GENERAL DE DATOS'!C229","v":"MACHOS&HEMBRAS"},{"$f":"'HOJA GENERAL DE DATOS'!D229","v":"INDEFINIDA"},{"$f":"'HOJA GENERAL DE DATOS'!E229","v":"INVIERNO"},{"$f":"'HOJA GENERAL DE DATOS'!F229","v":1},{"$f":"'HOJA GENERAL DE DATOS'!G229","v":66},{"$f":"'HOJA GENERAL DE DATOS'!H229","v":15100},{"$f":"'HOJA GENERAL DE DATOS'!I229","v":23800},{"$f":"'HOJA GENERAL DE DATOS'!J229","v":313},{"$f":"'HOJA GENERAL DE DATOS'!K229","v":2900},{"$f":"'HOJA GENERAL DE DATOS'!L229","v":99},{"$f":"'HOJA GENERAL DE DATOS'!M229","v":27.7955271565495},{"$f":"'HOJA GENERAL DE DATOS'!N229","v":907.7},{"$f":"'HOJA GENERAL DE DATOS'!O229","v":0},{"$f":"'HOJA GENERAL DE DATOS'!P229","v":0},null,null,null,null,null,null,null,null,"MACHOS&HEMBRAS","CARNICO&CRUZADO","INVIERNO","MACHOS&HEMBRASCARNICO&CRUZADOINVIERNO"]
[45,{"$f":"CONCATENATE('HOJA GENERAL DE DATOS'!B230,'HOJA GENERAL DE DATOS'!C230,'HOJA GENERAL DE DATOS'!D230,'HOJA GENERAL DE DATOS'!E230)","v":"3HEMBRASCARNICO&CRUZADOINVIERNO"},45,{"$f":"'HOJA GENERAL DE DATOS'!B230","v":3},{"$f":"'HOJA GENERAL DE DATOS'!C230","v":"HEMBRAS"},{"$f":"'HOJA GENERAL DE DATOS'!D230","v":"CARNICO&CRUZADO"},{"$f":"'HOJA GENERAL DE DATOS'!E230","v":"INVIERNO"},{"$f":"'HOJA GENERAL DE DATOS'!F230","v":7},{"$f":"'HOJA GENERAL DE DATOS'!G230","v":75},{"$f":"'HOJA GENERAL DE DATOS'!H230","v":17405.714285714301},{"$f":"'HOJA GENERAL DE DATOS'!I230","v":20491.428571428602},{"$f":"'HOJA GENERAL DE DATOS'!J230","v":318.857142857143},{"$f":"'HOJA GENERAL DE DATOS'!K230","v":3085.7142857142899},{"$f":"'HOJA GENERAL DE DATOS'!L230","v":100.78571428571399},{"$f":"'HOJA GENERAL DE DATOS'!M230","v":10.112973556518099},{"$f":"'HOJA GENERAL DE DATOS'!N230","v":971.34857142857197},{"$f":"'HOJA GENERAL DE DATOS'!O230","v":41.498709102125801},{"$f":"'HOJA GENERAL DE DATOS'!P230","v":397.61191895520199},null,null,null,null,null,null,null,null,"MACHOS&HEMBRAS","CARNICO&CRUZADO","VERANO","MACHOS&HEMBRASCARNICO&CRUZADOVERANO"]
[46,{"$f":"CONCATENATE('HOJA GENERAL DE DATOS'!B231,'HOJA GENERAL DE DATOS'!C231,'HOJA GENERAL DE DATOS'!D231,'HOJA GENERAL DE DATOS'!E231)","v":"3MACHOS&HEMBRASCARNICO&CRUZADOINVIERNO"},46,{"$f":"'HOJA GENERAL DE DATOS'!B231","v":3},{"$f":"'HOJA GENERAL DE DATOS'!C231","v":"MACHOS&HEMBRAS"},{"$f":"'HOJA GENERAL DE DATOS'!D231","v":"CARNICO&CRUZADO"},{"$f":"'HOJA GENERAL DE DATOS'!E231","v":"INVIERNO"},{"$f":"'HOJA GENERAL DE DATOS'!F231","v":60},{"$f":"'HOJA GENERAL DE DATOS'!G231","v":3575},{"$f":"'HOJA GENERAL DE DATOS'!H231","v":15916.333333333299},{"$f":"'HOJA GENERAL DE DATOS'!I231","v":22483.0333333333},{"$f":"'HOJA GENERAL DE DATOS'!J231","v":321.53333333333302},{"$f":"'HOJA GENERAL DE DATOS'!K231","v":2867.8333333333298},{"$f":"'HOJA GENERAL DE DATOS'!L231","v":100.269230769231},{"$f":"'HOJA GENERAL DE DATOS'!M231","v":20.891764423107499},{"$f":"'HOJA GENERAL DE DATOS'!N231","v":915.63866666666695},{"$f":"'HOJA GENERAL DE DATOS'!O231","v":36.489360727857097},{"$f":"'HOJA GENERAL DE DATOS'!P231","v":328.77322907772202},null,null,null,null,null,null,null,null,"MACHOS&HEMBRAS","CARNICO&CRUZADO","INDEFINIDO","MACHOS&HEMBRASCARNICO&CRUZADOINDEFINIDO"]
[47,{"$f":"CONCATENATE('HOJA GENERAL DE DATOS'!B232,'HOJA GENERAL DE DATOS'!C232,'HOJA GENERAL DE DATOS'!D232,'HOJA GENERAL DE DATOS'!E232)","v":"3MACHOS&HEMBRASENTREFINOINVIERNO"},47,{"$f":"'HOJA GENERAL DE DATOS'!B232","v":3},{"$f":"'HOJA GENERAL DE DATOS'!C232","v":"MACHOS&HEMBRAS"},{"$f":"'HOJA GENERAL DE DATOS'!D232","v":"ENTREFINO"},{"$f":"'HOJA GENERAL DE DATOS'!E232","v":"INVIERNO"},{"$f":"'HOJA GENERAL DE DATOS'!F232","v":6},{"$f":"'HOJA GENERAL DE DATOS'!G232","v":244},{"$f":"'HOJA GENERAL DE DATOS'!H232","v":14450},{"$f":"'HOJA GENERAL DE DATOS'!I232","v":22766.666666666701},{"$f":"'HOJA GENERAL DE DATOS'!J232","v":323},{"$f":"'HOJA GENERAL DE DATOS'!K232","v":2488.3333333333298},{"$f":"'HOJA GENERAL DE DATOS'!L232","v":100.3},{"$f":"'HOJA GENERAL DE DATOS'!M232","v":25.591385523528299},{"$f":"'HOJA GENERAL DE DATOS'!N232","v":807.84333333333302},{"$f":"'HOJA GENERAL DE DATOS'!O232","v":33.508207949694899},{"$f":"'HOJA GENERAL DE DATOS'!P232","v":155.74551892965201},null,null,null,null,null,null,null,null,"MACHOS&HEMBRAS","ENTREFINO","INVIERNO","MACHOS&HEMBRASENTREFINOINVIERNO"]
[48,{"$f":"CONCATENATE('HOJA GENERAL DE DATOS'!B233,'HOJA GENERAL DE DATOS'!C233,'HOJA GENERAL DE DATOS'!D233,'HOJA GENERAL DE DATOS'!E233)","v":"3MACHOSENTREFINOVERANO"},48,{"$f":"'HOJA GENERAL DE DATOS'!B233","v":3},{"$f":"'HOJA GENERAL DE DATOS'!C233","v":"MACHOS"},{"$f":"'HOJA GENERAL DE DATOS'!D233","v":"ENTREFINO"},{"$f":"'HOJA GENERAL DE DATOS'!E233","v":"VERANO"},{"$f":"'HOJA GENERAL DE DATOS'!F233","v":12},{"$f":"'HOJA GENERAL DE DATOS'!G233","v":240},{"$f":"'HOJA GENERAL DE DATOS'!H233","v":16125},{"$f":"'HOJA GENERAL DE DATOS'!I233","v":23033.333333333299},{"$f":"'HOJA GENERAL DE DATOS'!J233","v":325.83333333333297},{"$f":"'HOJA GENERAL DE DATOS'!K233","v":2591.6666666666702},{"$f":"'HOJA GENERAL DE DATOS'!L233","v":101.5},{"$f":"'HOJA GENERAL DE DATOS'!M233","v":21.344136665268898},{"$f":"'HOJA GENERAL DE DATOS'!N233","v":833.50833333333298},{"$f":"'HOJA GENERAL DE DATOS'!O233","v":41.856537087648498},{"$f":"'HOJA GENERAL DE DATOS'!P233","v":404.65099066037698},null,null,null,null,null,null,null,null,"MACHOS&HEMBRAS","ENTREFINO","VERANO","MACHOS&HEMBRASENTREFINOVERANO"]
[49,{"$f":"CONCATENATE('HOJA GENERAL DE DATOS'!B234,'HOJA GENERAL DE DATOS'!C234,'HOJA GENERAL DE DATOS'!D234,'HOJA GENERAL DE DATOS'!E234)","v":"3MACHOSENTREFINOINVIERNO"},49,{"$f":"'HOJA GENERAL DE DATOS'!B234","v":3},{"$f":"'HOJA GENERAL DE DATOS'!C234","v":"MACHOS"},{"$f":"'HOJA GENERAL DE DATOS'!D234","v":"ENTREFINO"},{"$f":"'HOJA GENERAL DE DATOS'!E234","v":"INVIERNO"},{"$f":"'HOJA GENERAL DE DATOS'!F234","v":3},{"$f":"'HOJA GENERAL DE DATOS'!G234","v":172},{"$f":"'HOJA GENERAL DE DATOS'!H234","v":16000},{"$f":"'HOJA GENERAL DE DATOS'!I234","v":23366.666666666701},{"$f":"'HOJA GENERAL DE DATOS'!J234","v":337.66666666666703},{"$f":"'HOJA GENERAL DE DATOS'!K234","v":2763.3333333333298},{"$f":"'HOJA GENERAL DE DATOS'!L234","v":100.5},{"$f":"'HOJA GENERAL DE DATOS'!M234","v":21.773977907459201},{"$f":"'HOJA GENERAL DE DATOS'!N234","v":926.88333333333298},{"$f":"'HOJA GENERAL DE DATOS'!O234","v":28.6763549520042},{"$f":"'HOJA GENERAL DE DATOS'!P234","v":325.166623953525},null,null,null,null,null,null,null,null,"MACHOS&HEMBRAS","ENTREFINO","INDEFINIDO","MACHOS&HEMBRASENTREFINOINDEFINIDO"]
[50,{"$f":"CONCATENATE('HOJA GENERAL DE DATOS'!B235,'HOJA GENERAL DE DATOS'!C235,'HOJA GENERAL DE DATOS'!D235,'HOJA GENERAL DE DATOS'!E235)","v":"3MACHOS&HEMBRASENTREFINOVERANO"},50,{"$f":"'HOJA GENERAL DE DATOS'!B235","v":3},{"$f":"'HOJA GENERAL DE DATOS'!C235","v":"MACHOS&HEMBRAS"},{"$f":"'HOJA GENERAL DE DATOS'!D235","v":"ENTREFINO"},{"$f":"'HOJA GENERAL DE DATOS'!E235","v":"VERANO"},{"$f":"'HOJA GENERAL DE DATOS'!F235","v":2},{"$f":"'HOJA GENERAL DE DATOS'!G235","v":74},{"$f":"'HOJA GENERAL DE DATOS'!H235","v":16310},{"$f":"'HOJA GENERAL DE DATOS'!I235","v":23560},{"$f":"'HOJA GENERAL DE DATOS'!J235","v":351},{"$f":"'HOJA GENERAL DE DATOS'!K235","v":2515},{"$f":"'HOJA GENERAL DE DATOS'!L235","v":100.5},{"$f":"'HOJA GENERAL DE DATOS'!M235","v":20.039682539682499},{"$f":"'HOJA GENERAL DE DATOS'!N235","v":881.28},{"$f":"'HOJA GENERAL DE DATOS'!O235","v":38.183766184073598},{"$f":"'HOJA GENERAL DE DATOS'!P235","v":77.781745930520202},null,null,null,null,null,null,null,null,"MACHOS&HEMBRAS","INDEFINIDA","INVIERNO","MACHOS&HEMBRASINDEFINIDAINVIERNO"]
[51,{"$f":"CONCATENATE('HOJA GENERAL DE DATOS'!B236,'HOJA GENERAL DE DATOS'!C236,'HOJA GENERAL DE DATOS'!D236,'HOJA GENERAL DE DATOS'!E236)","v":"3MACHOSCARNICO&CRUZADOINVIERNO"},51,{"$f":"'HOJA GENERAL DE DATOS'!B236","v":3},{"$f":"'HOJA GENERAL DE DATOS'!C236","v":"MACHOS"},{"$f":"'HOJA GENERAL DE DATOS'!D236","v":"CARNICO&CRUZADO"},{"$f":"'HOJA GENERAL DE DATOS'!E236","v":"INVIERNO"},{"$f":"'HOJA GENERAL DE DATOS'!F236","v":5},{"$f":"'HOJA GENERAL DE DATOS'!G236","v":35},{"$f":"'HOJA GENERAL DE DATOS'!H236","v":18328},{"$f":"'HOJA GENERAL DE DATOS'!I236","v":20686},{"$f":"'HOJA GENERAL DE DATOS'!J236","v":358},{"$f":"'HOJA GENERAL DE DATOS'!K236","v":2638},{"$f":"'HOJA GENERAL DE DATOS'!L236","v":99.9},{"$f":"'HOJA GENERAL DE DATOS'!M236","v":6.58515829804396},{"$f":"'HOJA GENERAL DE DATOS'!N236","v":932.68},{"$f":"'HOJA GENERAL DE DATOS'!O236","v":41.472882706655398},{"$f":"'HOJA GENERAL DE DATOS'!P236","v":398.83580581487399},null,null,null,null,null,null,null,null,"MACHOS&HEMBRAS","INDEFINIDA","VERANO","MACHOS&HEMBRASINDEFINIDAVERANO"]
[52,{"$f":"CONCATENATE('HOJA GENERAL DE DATOS'!B237,'HOJA GENERAL DE DATOS'!C237,'HOJA GENERAL DE DATOS'!D237,'HOJA GENERAL DE DATOS'!E237)","v":"0000"},52,{"$f":"'HOJA GENERAL DE DATOS'!B237","v":0},{"$f":"'HOJA GENERAL DE DATOS'!C237","v":0},{"$f":"'HOJA GENERAL DE DATOS'!D237","v":0},{"$f":"'HOJA GENERAL DE DATOS'!E237","v":0},{"$f":"'HOJA GENERAL DE DATOS'!F237","v":0},{"$f":"'HOJA GENERAL DE DATOS'!G237","v":0},{"$f":"'HOJA GENERAL DE DATOS'!H237","v":0},{"$f":"'HOJA GENERAL DE DATOS'!I237","v":0},{"$f":"'HOJA GENERAL DE DATOS'!J237","v":0},{"$f":"'HOJA GENERAL DE DATOS'!K237","v":0},{"$f":"'HOJA GENERAL DE DATOS'!L237","v":0},{"$f":"'HOJA GENERAL DE DATOS'!M237","v":0},{"$f":"'HOJA GENERAL DE DATOS'!N237","v":0},{"$f":"'HOJA GENERAL DE DATOS'!O237","v":0},{"$f":"'HOJA GENERAL DE DATOS'!P237","v":0},null,null,null,null,null,null,null,null,"MACHOS&HEMBRAS","INDEFINIDA","INDEFINIDO","MACHOS&HEMBRASINDEFINIDAINDEFINIDO"]
[53,{"$f":"CONCATENATE('HOJA GENERAL DE DATOS'!B238,'HOJA GENERAL DE DATOS'!C238,'HOJA GENERAL DE DATOS'!D238,'HOJA GENERAL DE DATOS'!E238)","v":"0000"},53,{"$f":"'HOJA GENERAL DE DATOS'!B238","v":0},{"$f":"'HOJA GENERAL DE DATOS'!C238","v":0},{"$f":"'HOJA GENERAL DE DATOS'!D238","v":0},{"$f":"'HOJA GENERAL DE DATOS'!E238","v":0},{"$f":"'HOJA GENERAL DE DATOS'!F238","v":0},{"$f":"'HOJA GENERAL DE DATOS'!G238","v":0},{"$f":"'HOJA GENERAL DE DATOS'!H238","v":0},{"$f":"'HOJA GENERAL DE DATOS'!I238","v":0},{"$f":"'HOJA GENERAL DE DATOS'!J238","v":0},{"$f":"'HOJA GENERAL DE DATOS'!K238","v":0},{"$f":"'HOJA GENERAL DE DATOS'!L238","v":0},{"$f":"'HOJA GENERAL DE DATOS'!M238","v":0},{"$f":"'HOJA GENERAL DE DATOS'!N238","v":0},{"$f":"'HOJA GENERAL DE DATOS'!O238","v":0},{"$f":"'HOJA GENERAL DE DATOS'!P238","v":0}]
[54,{"$f":"CONCATENATE('HOJA GENERAL DE DATOS'!B239,'HOJA GENERAL DE DATOS'!C239,'HOJA GENERAL DE DATOS'!D239,'HOJA GENERAL DE DATOS'!E239)","v":"0000"},54,{"$f":"'HOJA GENERAL DE DATOS'!B239","v":0},{"$f":"'HOJA GENERAL DE DATOS'!C239","v":0},{"$f":"'HOJA GENERAL DE DATOS'!D239","v":0},{"$f":"'HOJA GENERAL DE DATOS'!E239","v":0},{"$f":"'HOJA GENERAL DE DATOS'!F239","v":0},{"$f":"'HOJA GENERAL DE DATOS'!G239","v":0},{"$f":"'HOJA GENERAL DE DATOS'!H239","v":0},{"$f":"'HOJA GENERAL DE DATOS'!I239","v":0},{"$f":"'HOJA GENERAL DE DATOS'!J239","v":0},{"$f":"'HOJA GENERAL DE DATOS'!K239","v":0},{"$f":"'HOJA GENERAL DE DATOS'!L239","v":0},{"$f":"'HOJA GENERAL DE DATOS'!M239","v":0},{"$f":"'HOJA GENERAL DE DATOS'!N239","v":0},{"$f":"'HOJA GENERAL DE DATOS'!O239","v":0},{"$f":"'HOJA GENERAL DE DATOS'!P239","v":0}]
[55,{"$f":"CONCATENATE('HOJA GENERAL DE DATOS'!B240,'HOJA GENERAL DE DATOS'!C240,'HOJA GENERAL DE DATOS'!D240,'HOJA GENERAL DE DATOS'!E240)","v":"0000"},55,{"$f":"'HOJA GENERAL DE DATOS'!B240","v":0},{"$f":"'HOJA GENERAL DE DATOS'!C240","v":0},{"$f":"'HOJA GENERAL DE DATOS'!D240","v":0},{"$f":"'HOJA GENERAL DE DATOS'!E240","v":0},{"$f":"'HOJA GENERAL DE DATOS'!F240","v":0},{"$f":"'HOJA GENERAL DE DATOS'!G240","v":0},{"$f":"'HOJA GENERAL DE DATOS'!H240","v":0},{"$f":"'HOJA GENERAL DE DATOS'!I240","v":0},{"$f":"'HOJA GENERAL DE DATOS'!J240","v":0},{"$f":"'HOJA GENERAL DE DATOS'!K240","v":0},{"$f":"'HOJA GENERAL DE DATOS'!L240","v":0},{"$f":"'HOJA GENERAL DE DATOS'!M240","v":0},{"$f":"'HOJA GENERAL DE DATOS'!N240","v":0},{"$f":"'HOJA GENERAL DE DATOS'!O240","v":0},{"$f":"'HOJA GENERAL DE DATOS'!P240","v":0}]
[56,{"$f":"CONCATENATE('HOJA GENERAL DE DATOS'!B241,'HOJA GENERAL DE DATOS'!C241,'HOJA GENERAL DE DATOS'!D241,'HOJA GENERAL DE DATOS'!E241)","v":"0000"},56,{"$f":"'HOJA GENERAL DE DATOS'!B241","v":0},{"$f":"'HOJA GENERAL DE DATOS'!C241","v":0},{"$f":"'HOJA GENERAL DE DATOS'!D241","v":0},{"$f":"'HOJA GENERAL DE DATOS'!E241","v":0},{"$f":"'HOJA GENERAL DE DATOS'!F241","v":0},{"$f":"'HOJA GENERAL DE DATOS'!G241","v":0},{"$f":"'HOJA GENERAL DE DATOS'!H241","v":0},{"$f":"'HOJA GENERAL DE DATOS'!I241","v":0},{"$f":"'HOJA GENERAL DE DATOS'!J241","v":0},{"$f":"'HOJA GENERAL DE DATOS'!K241","v":0},{"$f":"'HOJA GENERAL DE DATOS'!L241","v":0},{"$f":"'HOJA GENERAL DE DATOS'!M241","v":0},{"$f":"'HOJA GENERAL DE DATOS'!N241","v":0},{"$f":"'HOJA GENERAL DE DATOS'!O241","v":0},{"$f":"'HOJA GENERAL DE DATOS'!P241","v":0}]
[57,{"$f":"CONCATENATE('HOJA GENERAL DE DATOS'!B242,'HOJA GENERAL DE DATOS'!C242,'HOJA GENERAL DE DATOS'!D242,'HOJA GENERAL DE DATOS'!E242)","v":"0000"},57,{"$f":"'HOJA GENERAL DE DATOS'!B242","v":0},{"$f":"'HOJA GENERAL DE DATOS'!C242","v":0},{"$f":"'HOJA GENERAL DE DATOS'!D242","v":0},{"$f":"'HOJA GENERAL DE DATOS'!E242","v":0},{"$f":"'HOJA GENERAL DE DATOS'!F242","v":0},{"$f":"'HOJA GENERAL DE DATOS'!G242","v":0},{"$f":"'HOJA GENERAL DE DATOS'!H242","v":0},{"$f":"'HOJA GENERAL DE DATOS'!I242","v":0},{"$f":"'HOJA GENERAL DE DATOS'!J242","v":0},{"$f":"'HOJA GENERAL DE DATOS'!K242","v":0},{"$f":"'HOJA GENERAL DE DATOS'!L242","v":0},{"$f":"'HOJA GENERAL DE DATOS'!M242","v":0},{"$f":"'HOJA GENERAL DE DATOS'!N242","v":0},{"$f":"'HOJA GENERAL DE DATOS'!O242","v":0},{"$f":"'HOJA GENERAL DE DATOS'!P242","v":0}]
[58,{"$f":"CONCATENATE('HOJA GENERAL DE DATOS'!B243,'HOJA GENERAL DE DATOS'!C243,'HOJA GENERAL DE DATOS'!D243,'HOJA GENERAL DE DATOS'!E243)","v":"4HEMBRASENTREFINOINVIERNO"},58,{"$f":"'HOJA GENERAL DE DATOS'!B243","v":4},{"$f":"'HOJA GENERAL DE DATOS'!C243","v":"HEMBRAS"},{"$f":"'HOJA GENERAL DE DATOS'!D243","v":"ENTREFINO"},{"$f":"'HOJA GENERAL DE DATOS'!E243","v":"INVIERNO"},{"$f":"'HOJA GENERAL DE DATOS'!F243","v":16},{"$f":"'HOJA GENERAL DE DATOS'!G243","v":160},{"$f":"'HOJA GENERAL DE DATOS'!H243","v":22073.472222222201},{"$f":"'HOJA GENERAL DE DATOS'!I243","v":25178.75},{"$f":"'HOJA GENERAL DE DATOS'!J243","v":221.805555555555},{"$f":"'HOJA GENERAL DE DATOS'!K243","v":4599.1942203025401},{"$f":"'HOJA GENERAL DE DATOS'!L243","v":99.3},{"$f":"'HOJA GENERAL DE DATOS'!M243","v":14},{"$f":"'HOJA GENERAL DE DATOS'!N243","v":1009.35714285714},{"$f":"'HOJA GENERAL DE DATOS'!O243","v":23.119661988688001},{"$f":"'HOJA GENERAL DE DATOS'!P243","v":565.18182035309201}]
[59,{"$f":"CONCATENATE('HOJA GENERAL DE DATOS'!B244,'HOJA GENERAL DE DATOS'!C244,'HOJA GENERAL DE DATOS'!D244,'HOJA GENERAL DE DATOS'!E244)","v":"4HEMBRASCARNICO&CRUZADOVERANO"},59,{"$f":"'HOJA GENERAL DE DATOS'!B244","v":4},{"$f":"'HOJA GENERAL DE DATOS'!C244","v":"HEMBRAS"},{"$f":"'HOJA GENERAL DE DATOS'!D244","v":"CARNICO&CRUZADO"},{"$f":"'HOJA GENERAL DE DATOS'!E244","v":"VERANO"},{"$f":"'HOJA GENERAL DE DATOS'!F244","v":9},{"$f":"'HOJA GENERAL DE DATOS'!G244","v":268},{"$f":"'HOJA GENERAL DE DATOS'!H244","v":20561.777777777799},{"$f":"'HOJA GENERAL DE DATOS'!I244","v":24531},{"$f":"'HOJA GENERAL DE DATOS'!J244","v":229.444444444444},{"$f":"'HOJA GENERAL DE DATOS'!K244","v":4076.3333333333298},{"$f":"'HOJA GENERAL DE DATOS'!L244","v":99.5},{"$f":"'HOJA GENERAL DE DATOS'!M244","v":17.225685832588901},{"$f":"'HOJA GENERAL DE DATOS'!N244","v":925.89633333333302},{"$f":"'HOJA GENERAL DE DATOS'!O244","v":25.451478891761401},{"$f":"'HOJA GENERAL DE DATOS'!P244","v":446.63211931073698}]
[60,{"$f":"CONCATENATE('HOJA GENERAL DE DATOS'!B245,'HOJA GENERAL DE DATOS'!C245,'HOJA GENERAL DE DATOS'!D245,'HOJA GENERAL DE DATOS'!E245)","v":"4MACHOS&HEMBRASENTREFINOINVIERNO"},60,{"$f":"'HOJA GENERAL DE DATOS'!B245","v":4},{"$f":"'HOJA GENERAL DE DATOS'!C245","v":"MACHOS&HEMBRAS"},{"$f":"'HOJA GENERAL DE DATOS'!D245","v":"ENTREFINO"},{"$f":"'HOJA GENERAL DE DATOS'!E245","v":"INVIERNO"},{"$f":"'HOJA GENERAL DE DATOS'!F245","v":8},{"$f":"'HOJA GENERAL DE DATOS'!G245","v":400},{"$f":"'HOJA GENERAL DE DATOS'!H245","v":19810},{"$f":"'HOJA GENERAL DE DATOS'!I245","v":24673.75},{"$f":"'HOJA GENERAL DE DATOS'!J245","v":254.25},{"$f":"'HOJA GENERAL DE DATOS'!K245","v":3473.125},{"$f":"'HOJA GENERAL DE DATOS'!L245","v":0},{"$f":"'HOJA GENERAL DE DATOS'!M245","v":18.9949841430061},{"$f":"'HOJA GENERAL DE DATOS'!N245","v":879.38499999999999},{"$f":"'HOJA GENERAL DE DATOS'!O245","v":19.926651213172502},{"$f":"'HOJA GENERAL DE DATOS'!P245","v":238.38590412546299}]
[61,{"$f":"CONCATENATE('HOJA GENERAL DE DATOS'!B246,'HOJA GENERAL DE DATOS'!C246,'HOJA GENERAL DE DATOS'!D246,'HOJA GENERAL DE DATOS'!E246)","v":"4MACHOS&HEMBRASENTREFINOVERANO"},61,{"$f":"'HOJA GENERAL DE DATOS'!B246","v":4},{"$f":"'HOJA GENERAL DE DATOS'!C246","v":"MACHOS&HEMBRAS"},{"$f":"'HOJA GENERAL DE DATOS'!D246","v":"ENTREFINO"},{"$f":"'HOJA GENERAL DE DATOS'!E246","v":"VERANO"},{"$f":"'HOJA GENERAL DE DATOS'!F246","v":17},{"$f":"'HOJA GENERAL DE DATOS'!G246","v":382},{"$f":"'HOJA GENERAL DE DATOS'!H246","v":19997.647058823499},{"$f":"'HOJA GENERAL DE DATOS'!I246","v":25797.848297213601},{"$f":"'HOJA GENERAL DE DATOS'!J246","v":274.791105084408},{"$f":"'HOJA GENERAL DE DATOS'!K246","v":3437.0644807081699},{"$f":"'HOJA GENERAL DE DATOS'!L246","v":101.42307692307701},{"$f":"'HOJA GENERAL DE DATOS'!M246","v":20.919268914772601},{"$f":"'HOJA GENERAL DE DATOS'!N246","v":929.92458712477003},{"$f":"'HOJA GENERAL DE DATOS'!O246","v":44.955215672196204},{"$f":"'HOJA GENERAL DE DATOS'!P246","v":380.22638408137198}]
[62,{"$f":"CONCATENATE('HOJA GENERAL DE DATOS'!B247,'HOJA GENERAL DE DATOS'!C247,'HOJA GENERAL DE DATOS'!D247,'HOJA GENERAL DE DATOS'!E247)","v":"4HEMBRASENTREFINOVERANO"},62,{"$f":"'HOJA GENERAL DE DATOS'!B247","v":4},{"$f":"'HOJA GENERAL DE DATOS'!C247","v":"HEMBRAS"},{"$f":"'HOJA GENERAL DE DATOS'!D247","v":"ENTREFINO"},{"$f":"'HOJA GENERAL DE DATOS'!E247","v":"VERANO"},{"$f":"'HOJA GENERAL DE DATOS'!F247","v":7},{"$f":"'HOJA GENERAL DE DATOS'!G247","v":140},{"$f":"'HOJA GENERAL DE DATOS'!H247","v":18757.142857142899},{"$f":"'HOJA GENERAL DE DATOS'!I247","v":25100},{"$f":"'HOJA GENERAL DE DATOS'!J247","v":277.42857142857099},{"$f":"'HOJA GENERAL DE DATOS'!K247","v":3598.5714285714298},{"$f":"'HOJA GENERAL DE DATOS'!L247","v":101.5},{"$f":"'HOJA GENERAL DE DATOS'!M247","v":22.744802751466299},{"$f":"'HOJA GENERAL DE DATOS'!N247","v":996.08285714285705},{"$f":"'HOJA GENERAL DE DATOS'!O247","v":23.803761207402701},{"$f":"'HOJA GENERAL DE DATOS'!P247","v":272.78981966760699}]
[63,{"$f":"CONCATENATE('HOJA GENERAL DE DATOS'!B248,'HOJA GENERAL DE DATOS'!C248,'HOJA GENERAL DE DATOS'!D248,'HOJA GENERAL DE DATOS'!E248)","v":"4HEMBRASCARNICO&CRUZADOINVIERNO"},63,{"$f":"'HOJA GENERAL DE DATOS'!B248","v":4},{"$f":"'HOJA GENERAL DE DATOS'!C248","v":"HEMBRAS"},{"$f":"'HOJA GENERAL DE DATOS'!D248","v":"CARNICO&CRUZADO"},{"$f":"'HOJA GENERAL DE DATOS'!E248","v":"INVIERNO"},{"$f":"'HOJA GENERAL DE DATOS'!F248","v":6},{"$f":"'HOJA GENERAL DE DATOS'!G248","v":188},{"$f":"'HOJA GENERAL DE DATOS'!H248","v":18741.666666666701},{"$f":"'HOJA GENERAL DE DATOS'!I248","v":25851.666666666701},{"$f":"'HOJA GENERAL DE DATOS'!J248","v":280},{"$f":"'HOJA GENERAL DE DATOS'!K248","v":3516.6666666666702},{"$f":"'HOJA GENERAL DE DATOS'!L248","v":99.9},{"$f":"'HOJA GENERAL DE DATOS'!M248","v":25.066778866143299},{"$f":"'HOJA GENERAL DE DATOS'!N248","v":979.77499999999998},{"$f":"'HOJA GENERAL DE DATOS'!O248","v":26.6458251889485},{"$f":"'HOJA GENERAL DE DATOS'!P248","v":563.370807432074}]
[64,{"$f":"CONCATENATE('HOJA GENERAL DE DATOS'!B249,'HOJA GENERAL DE DATOS'!C249,'HOJA GENERAL DE DATOS'!D249,'HOJA GENERAL DE DATOS'!E249)","v":"4MACHOSCARNICO&CRUZADOINVIERNO"},64,{"$f":"'HOJA GENERAL DE DATOS'!B249","v":4},{"$f":"'HOJA GENERAL DE DATOS'!C249","v":"MACHOS"},{"$f":"'HOJA GENERAL DE DATOS'!D249","v":"CARNICO&CRUZADO"},{"$f":"'HOJA GENERAL DE DATOS'!E249","v":"INVIERNO"},{"$f":"'HOJA GENERAL DE DATOS'!F249","v":4},{"$f":"'HOJA GENERAL DE DATOS'!G249","v":28},{"$f":"'HOJA GENERAL DE DATOS'!H249","v":21090},{"$f":"'HOJA GENERAL DE DATOS'!I249","v":23207.5},{"$f":"'HOJA GENERAL DE DATOS'!J249","v":305},{"$f":"'HOJA GENERAL DE DATOS'!K249","v":2825},{"$f":"'HOJA GENERAL DE DATOS'!L249","v":100},{"$f":"'HOJA GENERAL DE DATOS'!M249","v":6.9430854072398196},{"$f":"'HOJA GENERAL DE DATOS'!N249","v":863.7},{"$f":"'HOJA GENERAL DE DATOS'!O249","v":34.156502553198699},{"$f":"'HOJA GENERAL DE DATOS'!P249","v":288.27070610799097}]
[65,{"$f":"CONCATENATE('HOJA GENERAL DE DATOS'!B250,'HOJA GENERAL DE DATOS'!C250,'HOJA GENERAL DE DATOS'!D250,'HOJA GENERAL DE DATOS'!E250)","v":"4MACHOS&HEMBRASCARNICO&CRUZADOVERANO"},65,{"$f":"'HOJA GENERAL DE DATOS'!B250","v":4},{"$f":"'HOJA GENERAL DE DATOS'!C250","v":"MACHOS&HEMBRAS"},{"$f":"'HOJA GENERAL DE DATOS'!D250","v":"CARNICO&CRUZADO"},{"$f":"'HOJA GENERAL DE DATOS'!E250","v":"VERANO"},{"$f":"'HOJA GENERAL DE DATOS'!F250","v":6},{"$f":"'HOJA GENERAL DE DATOS'!G250","v":435},{"$f":"'HOJA GENERAL DE DATOS'!H250","v":19668.166666666701},{"$f":"'HOJA GENERAL DE DATOS'!I250","v":24109.833333333299},{"$f":"'HOJA GENERAL DE DATOS'!J250","v":308.5},{"$f":"'HOJA GENERAL DE DATOS'!K250","v":3070},{"$f":"'HOJA GENERAL DE DATOS'!L250","v":100.166666666667},{"$f":"'HOJA GENERAL DE DATOS'!M250","v":14.4059612095731},{"$f":"'HOJA GENERAL DE DATOS'!N250","v":933.23333333333301},{"$f":"'HOJA GENERAL DE DATOS'!O250","v":57.308812585849303},{"$f":"'HOJA GENERAL DE DATOS'!P250","v":358.55264606470303}]
[66,{"$f":"CONCATENATE('HOJA GENERAL DE DATOS'!B251,'HOJA GENERAL DE DATOS'!C251,'HOJA GENERAL DE DATOS'!D251,'HOJA GENERAL DE DATOS'!E251)","v":"4MACHOSCARNICO&CRUZADOVERANO"},66,{"$f":"'HOJA GENERAL DE DATOS'!B251","v":4},{"$f":"'HOJA GENERAL DE DATOS'!C251","v":"MACHOS"},{"$f":"'HOJA GENERAL DE DATOS'!D251","v":"CARNICO&CRUZADO"},{"$f":"'HOJA GENERAL DE DATOS'!E251","v":"VERANO"},{"$f":"'HOJA GENERAL DE DATOS'!F251","v":35},{"$f":"'HOJA GENERAL DE DATOS'!G251","v":329},{"$f":"'HOJA GENERAL DE DATOS'!H251","v":20689.5142857143},{"$f":"'HOJA GENERAL DE DATOS'!I251","v":25267.5142857143},{"$f":"'HOJA GENERAL DE DATOS'!J251","v":316.62857142857098},{"$f":"'HOJA GENERAL DE DATOS'!K251","v":3179.2285714285699},{"$f":"'HOJA GENERAL DE DATOS'!L251","v":100.014285714286},{"$f":"'HOJA GENERAL DE DATOS'!M251","v":14.3472748955146},{"$f":"'HOJA GENERAL DE DATOS'!N251","v":969.80942857142895},{"$f":"'HOJA GENERAL DE DATOS'!O251","v":66.787673093999302},{"$f":"'HOJA GENERAL DE DATOS'!P251","v":609.97599208851602}]
[67,{"$f":"CONCATENATE('HOJA GENERAL DE DATOS'!B252,'HOJA GENERAL DE DATOS'!C252,'HOJA GENERAL DE DATOS'!D252,'HOJA GENERAL DE DATOS'!E252)","v":"4MACHOS&HEMBRASCARNICO&CRUZADOINVIERNO"},67,{"$f":"'HOJA GENERAL DE DATOS'!B252","v":4},{"$f":"'HOJA GENERAL DE DATOS'!C252","v":"MACHOS&HEMBRAS"},{"$f":"'HOJA GENERAL DE DATOS'!D252","v":"CARNICO&CRUZADO"},{"$f":"'HOJA GENERAL DE DATOS'!E252","v":"INVIERNO"},{"$f":"'HOJA GENERAL DE DATOS'!F252","v":24},{"$f":"'HOJA GENERAL DE DATOS'!G252","v":1471},{"$f":"'HOJA GENERAL DE DATOS'!H252","v":18891.333333333299},{"$f":"'HOJA GENERAL DE DATOS'!I252","v":25168.5},{"$f":"'HOJA GENERAL DE DATOS'!J252","v":320.79166666666703},{"$f":"'HOJA GENERAL DE DATOS'!K252","v":3461.25},{"$f":"'HOJA GENERAL DE DATOS'!L252","v":99.78125},{"$f":"'HOJA GENERAL DE DATOS'!M252","v":19.274360106442501},{"$f":"'HOJA GENERAL DE DATOS'!N252","v":1086.04708333333},{"$f":"'HOJA GENERAL DE DATOS'!O252","v":46.929159533202302},{"$f":"'HOJA GENERAL DE DATOS'!P252","v":683.57317282694396}]
[68,{"$f":"CONCATENATE('HOJA GENERAL DE DATOS'!B253,'HOJA GENERAL DE DATOS'!C253,'HOJA GENERAL DE DATOS'!D253,'HOJA GENERAL DE DATOS'!E253)","v":"4MACHOSENTREFINOVERANO"},68,{"$f":"'HOJA GENERAL DE DATOS'!B253","v":4},{"$f":"'HOJA GENERAL DE DATOS'!C253","v":"MACHOS"},{"$f":"'HOJA GENERAL DE DATOS'!D253","v":"ENTREFINO"},{"$f":"'HOJA GENERAL DE DATOS'!E253","v":"VERANO"},{"$f":"'HOJA GENERAL DE DATOS'!F253","v":8},{"$f":"'HOJA GENERAL DE DATOS'!G253","v":160},{"$f":"'HOJA GENERAL DE DATOS'!H253","v":17262.5},{"$f":"'HOJA GENERAL DE DATOS'!I253","v":27050},{"$f":"'HOJA GENERAL DE DATOS'!J253","v":330.625},{"$f":"'HOJA GENERAL DE DATOS'!K253","v":3045},{"$f":"'HOJA GENERAL DE DATOS'!L253","v":101.5},{"$f":"'HOJA GENERAL DE DATOS'!M253","v":29.638646208451298},{"$f":"'HOJA GENERAL DE DATOS'!N253","v":1004.6675},{"$f":"'HOJA GENERAL DE DATOS'!O253","v":24.5003644287765},{"$f":"'HOJA GENERAL DE DATOS'!P253","v":133.950950511212}]
[69,{"$f":"CONCATENATE('HOJA GENERAL DE DATOS'!B254,'HOJA GENERAL DE DATOS'!C254,'HOJA GENERAL DE DATOS'!D254,'HOJA GENERAL DE DATOS'!E254)","v":"4MACHOS&HEMBRASINDEFINIDAINVIERNO"},69,{"$f":"'HOJA GENERAL DE DATOS'!B254","v":4},{"$f":"'HOJA GENERAL DE DATOS'!C254","v":"MACHOS&HEMBRAS"},{"$f":"'HOJA GENERAL DE DATOS'!D254","v":"INDEFINIDA"},{"$f":"'HOJA GENERAL DE DATOS'!E254","v":"INVIERNO"},{"$f":"'HOJA GENERAL DE DATOS'!F254","v":1},{"$f":"'HOJA GENERAL DE DATOS'!G254","v":66},{"$f":"'HOJA GENERAL DE DATOS'!H254","v":15100},{"$f":"'HOJA GENERAL DE DATOS'!I254","v":28800},{"$f":"'HOJA GENERAL DE DATOS'!J254","v":345},{"$f":"'HOJA GENERAL DE DATOS'!K254","v":3010},{"$f":"'HOJA GENERAL DE DATOS'!L254","v":99},{"$f":"'HOJA GENERAL DE DATOS'!M254","v":39.710144927536199},{"$f":"'HOJA GENERAL DE DATOS'!N254","v":1038.45},{"$f":"'HOJA GENERAL DE DATOS'!O254","v":0},{"$f":"'HOJA GENERAL DE DATOS'!P254","v":0}]
[70,{"$f":"CONCATENATE('HOJA GENERAL DE DATOS'!B255,'HOJA GENERAL DE DATOS'!C255,'HOJA GENERAL DE DATOS'!D255,'HOJA GENERAL DE DATOS'!E255)","v":"0000"},70,{"$f":"'HOJA GENERAL DE DATOS'!B255","v":0},{"$f":"'HOJA GENERAL DE DATOS'!C255","v":0},{"$f":"'HOJA GENERAL DE DATOS'!D255","v":0},{"$f":"'HOJA GENERAL DE DATOS'!E255","v":0},{"$f":"'HOJA GENERAL DE DATOS'!F255","v":0},{"$f":"'HOJA GENERAL DE DATOS'!G255","v":0},{"$f":"'HOJA GENERAL DE DATOS'!H255","v":0},{"$f":"'HOJA GENERAL DE DATOS'!I255","v":0},{"$f":"'HOJA GENERAL DE DATOS'!J255","v":0},{"$f":"'HOJA GENERAL DE DATOS'!K255","v":0},{"$f":"'HOJA GENERAL DE DATOS'!L255","v":0},{"$f":"'HOJA GENERAL DE DATOS'!M255","v":0},{"$f":"'HOJA GENERAL DE DATOS'!N255","v":0},{"$f":"'HOJA GENERAL DE DATOS'!O255","v":0},{"$f":"'HOJA GENERAL DE DATOS'!P255","v":0}]
[71,{"$f":"CONCATENATE('HOJA GENERAL DE DATOS'!B256,'HOJA GENERAL DE DATOS'!C256,'HOJA GENERAL DE DATOS'!D256,'HOJA GENERAL DE DATOS'!E256)","v":"0000"},71,{"$f":"'HOJA GENERAL DE DATOS'!B256","v":0},{"$f":"'HOJA GENERAL DE DATOS'!C256","v":0},{"$f":"'HOJA GENERAL DE DATOS'!D256","v":0},{"$f":"'HOJA GENERAL DE DATOS'!E256","v":0},{"$f":"'HOJA GENERAL DE DATOS'!F256","v":0},{"$f":"'HOJA GENERAL DE DATOS'!G256","v":0},{"$f":"'HOJA GENERAL DE DATOS'!H256","v":0},{"$f":"'HOJA GENERAL DE DATOS'!I256","v":0},{"$f":"'HOJA GENERAL DE DATOS'!J256","v":0},{"$f":"'HOJA GENERAL DE DATOS'!K256","v":0},{"$f":"'HOJA GENERAL DE DATOS'!L256","v":0},{"$f":"'HOJA GENERAL DE DATOS'!M256","v":0},{"$f":"'HOJA GENERAL DE DATOS'!N256","v":0},{"$f":"'HOJA GENERAL DE DATOS'!O256","v":0},{"$f":"'HOJA GENERAL DE DATOS'!P256","v":0}]
[72,{"$f":"CONCATENATE('HOJA GENERAL DE DATOS'!B257,'HOJA GENERAL DE DATOS'!C257,'HOJA GENERAL DE DATOS'!D257,'HOJA GENERAL DE DATOS'!E257)","v":"0000"},72,{"$f":"'HOJA GENERAL DE DATOS'!B257","v":0},{"$f":"'HOJA GENERAL DE DATOS'!C257","v":0},{"$f":"'HOJA GENERAL DE DATOS'!D257","v":0},{"$f":"'HOJA GENERAL DE DATOS'!E257","v":0},{"$f":"'HOJA GENERAL DE DATOS'!F257","v":0},{"$f":"'HOJA GENERAL DE DATOS'!G257","v":0},{"$f":"'HOJA GENERAL DE DATOS'!H257","v":0},{"$f":"'HOJA GENERAL DE DATOS'!I257","v":0},{"$f":"'HOJA GENERAL DE DATOS'!J257","v":0},{"$f":"'HOJA GENERAL DE DATOS'!K257","v":0},{"$f":"'HOJA GENERAL DE DATOS'!L257","v":0},{"$f":"'HOJA GENERAL DE DATOS'!M257","v":0},{"$f":"'HOJA GENERAL DE DATOS'!N257","v":0},{"$f":"'HOJA GENERAL DE DATOS'!O257","v":0},{"$f":"'HOJA GENERAL DE DATOS'!P257","v":0}]
[73,{"$f":"CONCATENATE('HOJA GENERAL DE DATOS'!B258,'HOJA GENERAL DE DATOS'!C258,'HOJA GENERAL DE DATOS'!D258,'HOJA GENERAL DE DATOS'!E258)","v":"0000"},73,{"$f":"'HOJA GENERAL DE DATOS'!B258","v":0},{"$f":"'HOJA GENERAL DE DATOS'!C258","v":0},{"$f":"'HOJA GENERAL DE DATOS'!D258","v":0},{"$f":"'HOJA GENERAL DE DATOS'!E258","v":0},{"$f":"'HOJA GENERAL DE DATOS'!F258","v":0},{"$f":"'HOJA GENERAL DE DATOS'!G258","v":0},{"$f":"'HOJA GENERAL DE DATOS'!H258","v":0},{"$f":"'HOJA GENERAL DE DATOS'!I258","v":0},{"$f":"'HOJA GENERAL DE DATOS'!J258","v":0},{"$f":"'HOJA GENERAL DE DATOS'!K258","v":0},{"$f":"'HOJA GENERAL DE DATOS'!L258","v":0},{"$f":"'HOJA GENERAL DE DATOS'!M258","v":0},{"$f":"'HOJA GENERAL DE DATOS'!N258","v":0},{"$f":"'HOJA GENERAL DE DATOS'!O258","v":0},{"$f":"'HOJA GENERAL DE DATOS'!P258","v":0}]
[74,{"$f":"CONCATENATE('HOJA GENERAL DE DATOS'!B259,'HOJA GENERAL DE DATOS'!C259,'HOJA GENERAL DE DATOS'!D259,'HOJA GENERAL DE DATOS'!E259)","v":"0000"},74,{"$f":"'HOJA GENERAL DE DATOS'!B259","v":0},{"$f":"'HOJA GENERAL DE DATOS'!C259","v":0},{"$f":"'HOJA GENERAL DE DATOS'!D259","v":0},{"$f":"'HOJA GENERAL DE DATOS'!E259","v":0},{"$f":"'HOJA GENERAL DE DATOS'!F259","v":0},{"$f":"'HOJA GENERAL DE DATOS'!G259","v":0},{"$f":"'HOJA GENERAL DE DATOS'!H259","v":0},{"$f":"'HOJA GENERAL DE DATOS'!I259","v":0},{"$f":"'HOJA GENERAL DE DATOS'!J259","v":0},{"$f":"'HOJA GENERAL DE DATOS'!K259","v":0},{"$f":"'HOJA GENERAL DE DATOS'!L259","v":0},{"$f":"'HOJA GENERAL DE DATOS'!M259","v":0},{"$f":"'HOJA GENERAL DE DATOS'!N259","v":0},{"$f":"'HOJA GENERAL DE DATOS'!O259","v":0},{"$f":"'HOJA GENERAL DE DATOS'!P259","v":0}]
[75,{"$f":"CONCATENATE('HOJA GENERAL DE DATOS'!B260,'HOJA GENERAL DE DATOS'!C260,'HOJA GENERAL DE DATOS'!D260,'HOJA GENERAL DE DATOS'!E260)","v":"0000"},75,{"$f":"'HOJA GENERAL DE DATOS'!B260","v":0},{"$f":"'HOJA GENERAL DE DATOS'!C260","v":0},{"$f":"'HOJA GENERAL DE DATOS'!D260","v":0},{"$f":"'HOJA GENERAL DE DATOS'!E260","v":0},{"$f":"'HOJA GENERAL DE DATOS'!F260","v":0},{"$f":"'HOJA GENERAL DE DATOS'!G260","v":0},{"$f":"'HOJA GENERAL DE DATOS'!H260","v":0},{"$f":"'HOJA GENERAL DE DATOS'!I260","v":0},{"$f":"'HOJA GENERAL DE DATOS'!J260","v":0},{"$f":"'HOJA GENERAL DE DATOS'!K260","v":0},{"$f":"'HOJA GENERAL DE DATOS'!L260","v":0},{"$f":"'HOJA GENERAL DE DATOS'!M260","v":0},{"$f":"'HOJA GENERAL DE DATOS'!N260","v":0},{"$f":"'HOJA GENERAL DE DATOS'!O260","v":0},{"$f":"'HOJA GENERAL DE DATOS'!P260","v":0}]
[76,{"$f":"CONCATENATE('HOJA GENERAL DE DATOS'!B261,'HOJA GENERAL DE DATOS'!C261,'HOJA GENERAL DE DATOS'!D261,'HOJA GENERAL DE DATOS'!E261)","v":"0000"},76,{"$f":"'HOJA GENERAL DE DATOS'!B261","v":0},{"$f":"'HOJA GENERAL DE DATOS'!C261","v":0},{"$f":"'HOJA GENERAL DE DATOS'!D261","v":0},{"$f":"'HOJA GENERAL DE DATOS'!E261","v":0},{"$f":"'HOJA GENERAL DE DATOS'!F261","v":0},{"$f":"'HOJA GENERAL DE DATOS'!G261","v":0},{"$f":"'HOJA GENERAL DE DATOS'!H261","v":0},{"$f":"'HOJA GENERAL DE DATOS'!I261","v":0},{"$f":"'HOJA GENERAL DE DATOS'!J261","v":0},{"$f":"'HOJA GENERAL DE DATOS'!K261","v":0},{"$f":"'HOJA GENERAL DE DATOS'!L261","v":0},{"$f":"'HOJA GENERAL DE DATOS'!M261","v":0},{"$f":"'HOJA GENERAL DE DATOS'!N261","v":0},{"$f":"'HOJA GENERAL DE DATOS'!O261","v":0},{"$f":"'HOJA GENERAL DE DATOS'!P261","v":0}]
[77,{"$f":"CONCATENATE('HOJA GENERAL DE DATOS'!B262,'HOJA GENERAL DE DATOS'!C262,'HOJA GENERAL DE DATOS'!D262,'HOJA GENERAL DE DATOS'!E262)","v":"5HEMBRASENTREFINOINVIERNO"},77,{"$f":"'HOJA GENERAL DE DATOS'!B262","v":5},{"$f":"'HOJA GENERAL DE DATOS'!C262","v":"HEMBRAS"},{"$f":"'HOJA GENERAL DE DATOS'!D262","v":"ENTREFINO"},{"$f":"'HOJA GENERAL DE DATOS'!E262","v":"INVIERNO"},{"$f":"'HOJA GENERAL DE DATOS'!F262","v":2},{"$f":"'HOJA GENERAL DE DATOS'!G262","v":20},{"$f":"'HOJA GENERAL DE DATOS'!H262","v":22380},{"$f":"'HOJA GENERAL DE DATOS'!I262","v":25690},{"$f":"'HOJA GENERAL DE DATOS'!J262","v":236.42857142857201},{"$f":"'HOJA GENERAL DE DATOS'!K262","v":4459.4928728070099},{"$f":"'HOJA GENERAL DE DATOS'!L262","v":99.3},{"$f":"'HOJA GENERAL DE DATOS'!M262","v":14},{"$f":"'HOJA GENERAL DE DATOS'!N262","v":1053.6428571428601},{"$f":"'HOJA GENERAL DE DATOS'!O262","v":11.111677990073099},{"$f":"'HOJA GENERAL DE DATOS'!P262","v":127.554465029498}]
[78,{"$f":"CONCATENATE('HOJA GENERAL DE DATOS'!B263,'HOJA GENERAL DE DATOS'!C263,'HOJA GENERAL DE DATOS'!D263,'HOJA GENERAL DE DATOS'!E263)","v":"5HEMBRASCARNICO&CRUZADOVERANO"},78,{"$f":"'HOJA GENERAL DE DATOS'!B263","v":5},{"$f":"'HOJA GENERAL DE DATOS'!C263","v":"HEMBRAS"},{"$f":"'HOJA GENERAL DE DATOS'!D263","v":"CARNICO&CRUZADO"},{"$f":"'HOJA GENERAL DE DATOS'!E263","v":"VERANO"},{"$f":"'HOJA GENERAL DE DATOS'!F263","v":7},{"$f":"'HOJA GENERAL DE DATOS'!G263","v":139},{"$f":"'HOJA GENERAL DE DATOS'!H263","v":23023.571428571398},{"$f":"'HOJA GENERAL DE DATOS'!I263","v":27532},{"$f":"'HOJA GENERAL DE DATOS'!J263","v":238},{"$f":"'HOJA GENERAL DE DATOS'!K263","v":4260.8571428571404},{"$f":"'HOJA GENERAL DE DATOS'!L263","v":99.5},{"$f":"'HOJA GENERAL DE DATOS'!M263","v":18.705244111274599},{"$f":"'HOJA GENERAL DE DATOS'!N263","v":1011.302},{"$f":"'HOJA GENERAL DE DATOS'!O263","v":16.522711641858301},{"$f":"'HOJA GENERAL DE DATOS'!P263","v":228.78405289080499}]
[79,{"$f":"CONCATENATE('HOJA GENERAL DE DATOS'!B264,'HOJA GENERAL DE DATOS'!C264,'HOJA GENERAL DE DATOS'!D264,'HOJA GENERAL DE DATOS'!E264)","v":"5HEMBRASENTREFINOVERANO"},79,{"$f":"'HOJA GENERAL DE DATOS'!B264","v":5},{"$f":"'HOJA GENERAL DE DATOS'!C264","v":"HEMBRAS"},{"$f":"'HOJA GENERAL DE DATOS'!D264","v":"ENTREFINO"},{"$f":"'HOJA GENERAL DE DATOS'!E264","v":"VERANO"},{"$f":"'HOJA GENERAL DE DATOS'!F264","v":6},{"$f":"'HOJA GENERAL DE DATOS'!G264","v":200},{"$f":"'HOJA GENERAL DE DATOS'!H264","v":23900},{"$f":"'HOJA GENERAL DE DATOS'!I264","v":26783.333333333299},{"$f":"'HOJA GENERAL DE DATOS'!J264","v":251.333333333333},{"$f":"'HOJA GENERAL DE DATOS'!K264","v":4263.1666666666697},{"$f":"'HOJA GENERAL DE DATOS'!L264","v":101.5},{"$f":"'HOJA GENERAL DE DATOS'!M264","v":11.935603163667899},{"$f":"'HOJA GENERAL DE DATOS'!N264","v":1054.4283333333301},{"$f":"'HOJA GENERAL DE DATOS'!O264","v":48.906713922187301},{"$f":"'HOJA GENERAL DE DATOS'!P264","v":564.03915348729697}]
[80,{"$f":"CONCATENATE('HOJA GENERAL DE DATOS'!B265,'HOJA GENERAL DE DATOS'!C265,'HOJA GENERAL DE DATOS'!D265,'HOJA GENERAL DE DATOS'!E265)","v":"5MACHOS&HEMBRASCARNICO&CRUZADOVERANO"},80,{"$f":"'HOJA GENERAL DE DATOS'!B265","v":5},{"$f":"'HOJA GENERAL DE DATOS'!C265","v":"MACHOS&HEMBRAS"},{"$f":"'HOJA GENERAL DE DATOS'!D265","v":"CARNICO&CRUZADO"},{"$f":"'HOJA GENERAL DE DATOS'!E265","v":"VERANO"},{"$f":"'HOJA GENERAL DE DATOS'!F265","v":2},{"$f":"'HOJA GENERAL DE DATOS'!G265","v":200},{"$f":"'HOJA GENERAL DE DATOS'!H265","v":22745},{"$f":"'HOJA GENERAL DE DATOS'!I265","v":28190},{"$f":"'HOJA GENERAL DE DATOS'!J265","v":254.5},{"$f":"'HOJA GENERAL DE DATOS'!K265","v":4045},{"$f":"'HOJA GENERAL DE DATOS'!L265","v":99.5},{"$f":"'HOJA GENERAL DE DATOS'!M265","v":21.495175601886299},{"$f":"'HOJA GENERAL DE DATOS'!N265","v":1022.89},{"$f":"'HOJA GENERAL DE DATOS'!O265","v":24.7487373415292},{"$f":"'HOJA GENERAL DE DATOS'!P265","v":530.33008588991095}]
[81,{"$f":"CONCATENATE('HOJA GENERAL DE DATOS'!B266,'HOJA GENERAL DE DATOS'!C266,'HOJA GENERAL DE DATOS'!D266,'HOJA GENERAL DE DATOS'!E266)","v":"5MACHOS&HEMBRASENTREFINOINVIERNO"},81,{"$f":"'HOJA GENERAL DE DATOS'!B266","v":5},{"$f":"'HOJA GENERAL DE DATOS'!C266","v":"MACHOS&HEMBRAS"},{"$f":"'HOJA GENERAL DE DATOS'!D266","v":"ENTREFINO"},{"$f":"'HOJA GENERAL DE DATOS'!E266","v":"INVIERNO"},{"$f":"'HOJA GENERAL DE DATOS'!F266","v":4},{"$f":"'HOJA GENERAL DE DATOS'!G266","v":200},{"$f":"'HOJA GENERAL DE DATOS'!H266","v":23495},{"$f":"'HOJA GENERAL DE DATOS'!I266","v":25852.5},{"$f":"'HOJA GENERAL DE DATOS'!J266","v":262},{"$f":"'HOJA GENERAL DE DATOS'!K266","v":3510},{"$f":"'HOJA GENERAL DE DATOS'!L266","v":0},{"$f":"'HOJA GENERAL DE DATOS'!M266","v":8.9978635788582402},{"$f":"'HOJA GENERAL DE DATOS'!N266","v":912.72500000000002},{"$f":"'HOJA GENERAL DE DATOS'!O266","v":28.130647581122901},{"$f":"'HOJA GENERAL DE DATOS'!P266","v":360.92473823037801}]
[82,{"$f":"CONCATENATE('HOJA GENERAL DE DATOS'!B267,'HOJA GENERAL DE DATOS'!C267,'HOJA GENERAL DE DATOS'!D267,'HOJA GENERAL DE DATOS'!E267)","v":"5MACHOSENTREFINOVERANO"},82,{"$f":"'HOJA GENERAL DE DATOS'!B267","v":5},{"$f":"'HOJA GENERAL DE DATOS'!C267","v":"MACHOS"},{"$f":"'HOJA GENERAL DE DATOS'!D267","v":"ENTREFINO"},{"$f":"'HOJA GENERAL DE DATOS'!E267","v":"VERANO"},{"$f":"'HOJA GENERAL DE DATOS'!F267","v":15},{"$f":"'HOJA GENERAL DE DATOS'!G267","v":156},{"$f":"'HOJA GENERAL DE DATOS'!H267","v":23426.666666666701},{"$f":"'HOJA GENERAL DE DATOS'!I267","v":27093.333333333299},{"$f":"'HOJA GENERAL DE DATOS'!J267","v":296.02857142857101},{"$f":"'HOJA GENERAL DE DATOS'!K267","v":3456.1163317652099},{"$f":"'HOJA GENERAL DE DATOS'!L267","v":99.34},{"$f":"'HOJA GENERAL DE DATOS'!M267","v":12.593327593327601},{"$f":"'HOJA GENERAL DE DATOS'!N267","v":1008.9846864705499},{"$f":"'HOJA GENERAL DE DATOS'!O267","v":46.616533184920399},{"$f":"'HOJA GENERAL DE DATOS'!P267","v":453.662619509411}]
[83,{"$f":"CONCATENATE('HOJA GENERAL DE DATOS'!B268,'HOJA GENERAL DE DATOS'!C268,'HOJA GENERAL DE DATOS'!D268,'HOJA GENERAL DE DATOS'!E268)","v":"5MACHOSENTREFINOINVIERNO"},83,{"$f":"'HOJA GENERAL DE DATOS'!B268","v":5},{"$f":"'HOJA GENERAL DE DATOS'!C268","v":"MACHOS"},{"$f":"'HOJA GENERAL DE DATOS'!D268","v":"ENTREFINO"},{"$f":"'HOJA GENERAL DE DATOS'!E268","v":"INVIERNO"},{"$f":"'HOJA GENERAL DE DATOS'!F268","v":42},{"$f":"'HOJA GENERAL DE DATOS'!G268","v":365},{"$f":"'HOJA GENERAL DE DATOS'!H268","v":23044.119425548},{"$f":"'HOJA GENERAL DE DATOS'!I268","v":27313.380574452},{"$f":"'HOJA GENERAL DE DATOS'!J268","v":304.94722492171502},{"$f":"'HOJA GENERAL DE DATOS'!K268","v":3450.8426325657801},{"$f":"'HOJA GENERAL DE DATOS'!L268","v":99.014285714285805},{"$f":"'HOJA GENERAL DE DATOS'!M268","v":14},{"$f":"'HOJA GENERAL DE DATOS'!N268","v":1043.26089106206},{"$f":"'HOJA GENERAL DE DATOS'!O268","v":34.864620931129998},{"$f":"'HOJA GENERAL DE DATOS'!P268","v":346.58591182840797}]
[84,{"$f":"CONCATENATE('HOJA GENERAL DE DATOS'!B269,'HOJA GENERAL DE DATOS'!C269,'HOJA GENERAL DE DATOS'!D269,'HOJA GENERAL DE DATOS'!E269)","v":"5MACHOS&HEMBRASENTREFINOVERANO"},84,{"$f":"'HOJA GENERAL DE DATOS'!B269","v":5},{"$f":"'HOJA GENERAL DE DATOS'!C269","v":"MACHOS&HEMBRAS"},{"$f":"'HOJA GENERAL DE DATOS'!D269","v":"ENTREFINO"},{"$f":"'HOJA GENERAL DE DATOS'!E269","v":"VERANO"},{"$f":"'HOJA GENERAL DE DATOS'!F269","v":4},{"$f":"'HOJA GENERAL DE DATOS'!G269","v":80},{"$f":"'HOJA GENERAL DE DATOS'!H269","v":22400},{"$f":"'HOJA GENERAL DE DATOS'!I269","v":28842.5},{"$f":"'HOJA GENERAL DE DATOS'!J269","v":306.78571428571399},{"$f":"'HOJA GENERAL DE DATOS'!K269","v":3484.2777815934501},{"$f":"'HOJA GENERAL DE DATOS'!L269","v":101.5},{"$f":"'HOJA GENERAL DE DATOS'!M269","v":21},{"$f":"'HOJA GENERAL DE DATOS'!N269","v":1068.69047619048},{"$f":"'HOJA GENERAL DE DATOS'!O269","v":11.575608363913901},{"$f":"'HOJA GENERAL DE DATOS'!P269","v":79.047454115523294}]
[85,{"$f":"CONCATENATE('HOJA GENERAL DE DATOS'!B270,'HOJA GENERAL DE DATOS'!C270,'HOJA GENERAL DE DATOS'!D270,'HOJA GENERAL DE DATOS'!E270)","v":"5MACHOSCARNICO&CRUZADOINVIERNO"},85,{"$f":"'HOJA GENERAL DE DATOS'!B270","v":5},{"$f":"'HOJA GENERAL DE DATOS'!C270","v":"MACHOS"},{"$f":"'HOJA GENERAL DE DATOS'!D270","v":"CARNICO&CRUZADO"},{"$f":"'HOJA GENERAL DE DATOS'!E270","v":"INVIERNO"},{"$f":"'HOJA GENERAL DE DATOS'!F270","v":8},{"$f":"'HOJA GENERAL DE DATOS'!G270","v":600},{"$f":"'HOJA GENERAL DE DATOS'!H270","v":20825},{"$f":"'HOJA GENERAL DE DATOS'!I270","v":29975},{"$f":"'HOJA GENERAL DE DATOS'!J270","v":314},{"$f":"'HOJA GENERAL DE DATOS'!K270","v":3436.25},{"$f":"'HOJA GENERAL DE DATOS'!L270","v":100.5},{"$f":"'HOJA GENERAL DE DATOS'!M270","v":29.533596314509399},{"$f":"'HOJA GENERAL DE DATOS'!N270","v":1076.7774999999999},{"$f":"'HOJA GENERAL DE DATOS'!O270","v":18.205179796656001},{"$f":"'HOJA GENERAL DE DATOS'!P270","v":151.93396121811799}]
[86,{"$f":"CONCATENATE('HOJA GENERAL DE DATOS'!B271,'HOJA GENERAL DE DATOS'!C271,'HOJA GENERAL DE DATOS'!D271,'HOJA GENERAL DE DATOS'!E271)","v":"5MACHOSCARNICO&CRUZADOVERANO"},86,{"$f":"'HOJA GENERAL DE DATOS'!B271","v":5},{"$f":"'HOJA GENERAL DE DATOS'!C271","v":"MACHOS"},{"$f":"'HOJA GENERAL DE DATOS'!D271","v":"CARNICO&CRUZADO"},{"$f":"'HOJA GENERAL DE DATOS'!E271","v":"VERANO"},{"$f":"'HOJA GENERAL DE DATOS'!F271","v":52},{"$f":"'HOJA GENERAL DE DATOS'!G271","v":808},{"$f":"'HOJA GENERAL DE DATOS'!H271","v":23267.538461538501},{"$f":"'HOJA GENERAL DE DATOS'!I271","v":27714.942307692301},{"$f":"'HOJA GENERAL DE DATOS'!J271","v":327},{"$f":"'HOJA GENERAL DE DATOS'!K271","v":3382.98076923077},{"$f":"'HOJA GENERAL DE DATOS'!L271","v":100.538461538462},{"$f":"'HOJA GENERAL DE DATOS'!M271","v":13.7262159035922},{"$f":"'HOJA GENERAL DE DATOS'!N271","v":1095.17853846154},{"$f":"'HOJA GENERAL DE DATOS'!O271","v":39.798512140875999},{"$f":"'HOJA GENERAL DE DATOS'!P271","v":343.95590747884103}]
[87,{"$f":"CONCATENATE('HOJA GENERAL DE DATOS'!B272,'HOJA GENERAL DE DATOS'!C272,'HOJA GENERAL DE DATOS'!D272,'HOJA GENERAL DE DATOS'!E272)","v":"5MACHOS&HEMBRASCARNICO&CRUZADOINVIERNO"},87,{"$f":"'HOJA GENERAL DE DATOS'!B272","v":5},{"$f":"'HOJA GENERAL DE DATOS'!C272","v":"MACHOS&HEMBRAS"},{"$f":"'HOJA GENERAL DE DATOS'!D272","v":"CARNICO&CRUZADO"},{"$f":"'HOJA GENERAL DE DATOS'!E272","v":"INVIERNO"},{"$f":"'HOJA GENERAL DE DATOS'!F272","v":8},{"$f":"'HOJA GENERAL DE DATOS'!G272","v":720},{"$f":"'HOJA GENERAL DE DATOS'!H272","v":23396.25},{"$f":"'HOJA GENERAL DE DATOS'!I272","v":27171.25},{"$f":"'HOJA GENERAL DE DATOS'!J272","v":343.625},{"$f":"'HOJA GENERAL DE DATOS'!K272","v":3417.125},{"$f":"'HOJA GENERAL DE DATOS'!L272","v":100.2},{"$f":"'HOJA GENERAL DE DATOS'!M272","v":11.1401541631498},{"$f":"'HOJA GENERAL DE DATOS'!N272","v":1165.2681250000001},{"$f":"'HOJA GENERAL DE DATOS'!O272","v":38.507652300734797},{"$f":"'HOJA GENERAL DE DATOS'!P272","v":535.80418531400096}]
[88,{"$f":"CONCATENATE('HOJA GENERAL DE DATOS'!B273,'HOJA GENERAL DE DATOS'!C273,'HOJA GENERAL DE DATOS'!D273,'HOJA GENERAL DE DATOS'!E273)","v":"0000"},88,{"$f":"'HOJA GENERAL DE DATOS'!B273","v":0},{"$f":"'HOJA GENERAL DE DATOS'!C273","v":0},{"$f":"'HOJA GENERAL DE DATOS'!D273","v":0},{"$f":"'HOJA GENERAL DE DATOS'!E273","v":0},{"$f":"'HOJA GENERAL DE DATOS'!F273","v":0},{"$f":"'HOJA GENERAL DE DATOS'!G273","v":0},{"$f":"'HOJA GENERAL DE DATOS'!H273","v":0},{"$f":"'HOJA GENERAL DE DATOS'!I273","v":0},{"$f":"'HOJA GENERAL DE DATOS'!J273","v":0},{"$f":"'HOJA GENERAL DE DATOS'!K273","v":0},{"$f":"'HOJA GENERAL DE DATOS'!L273","v":0},{"$f":"'HOJA GENERAL DE DATOS'!M273","v":0},{"$f":"'HOJA GENERAL DE DATOS'!N273","v":0},{"$f":"'HOJA GENERAL DE DATOS'!O273","v":0},{"$f":"'HOJA GENERAL DE DATOS'!P273","v":0}]
[89,{"$f":"CONCATENATE('HOJA GENERAL DE DATOS'!B274,'HOJA GENERAL DE DATOS'!C274,'HOJA GENERAL DE DATOS'!D274,'HOJA GENERAL DE DATOS'!E274)","v":"0000"},89,{"$f":"'HOJA GENERAL DE DATOS'!B274","v":0},{"$f":"'HOJA GENERAL DE DATOS'!C274","v":0},{"$f":"'HOJA GENERAL DE DATOS'!D274","v":0},{"$f":"'HOJA GENERAL DE DATOS'!E274","v":0},{"$f":"'HOJA GENERAL DE DATOS'!F274","v":0},{"$f":"'HOJA GENERAL DE DATOS'!G274","v":0},{"$f":"'HOJA GENERAL DE DATOS'!H274","v":0},{"$f":"'HOJA GENERAL DE DATOS'!I274","v":0},{"$f":"'HOJA GENERAL DE DATOS'!J274","v":0},{"$f":"'HOJA GENERAL DE DATOS'!K274","v":0},{"$f":"'HOJA GENERAL DE DATOS'!L274","v":0},{"$f":"'HOJA GENERAL DE DATOS'!M274","v":0},{"$f":"'HOJA GENERAL DE DATOS'!N274","v":0},{"$f":"'HOJA GENERAL DE DATOS'!O274","v":0},{"$f":"'HOJA GENERAL DE DATOS'!P274","v":0}]
[90,{"$f":"CONCATENATE('HOJA GENERAL DE DATOS'!B275,'HOJA GENERAL DE DATOS'!C275,'HOJA GENERAL DE DATOS'!D275,'HOJA GENERAL DE DATOS'!E275)","v":"0000"},90,{"$f":"'HOJA GENERAL DE DATOS'!B275","v":0},{"$f":"'HOJA GENERAL DE DATOS'!C275","v":0},{"$f":"'HOJA GENERAL DE DATOS'!D275","v":0},{"$f":"'HOJA GENERAL DE DATOS'!E275","v":0},{"$f":"'HOJA GENERAL DE DATOS'!F275","v":0},{"$f":"'HOJA GENERAL DE DATOS'!G275","v":0},{"$f":"'HOJA GENERAL DE DATOS'!H275","v":0},{"$f":"'HOJA GENERAL DE DATOS'!I275","v":0},{"$f":"'HOJA GENERAL DE DATOS'!J275","v":0},{"$f":"'HOJA GENERAL DE DATOS'!K275","v":0},{"$f":"'HOJA GENERAL DE DATOS'!L275","v":0},{"$f":"'HOJA GENERAL DE DATOS'!M275","v":0},{"$f":"'HOJA GENERAL DE DATOS'!N275","v":0},{"$f":"'HOJA GENERAL DE DATOS'!O275","v":0},{"$f":"'HOJA GENERAL DE DATOS'!P275","v":0}]
[91,{"$f":"CONCATENATE('HOJA GENERAL DE DATOS'!B276,'HOJA GENERAL DE DATOS'!C276,'HOJA GENERAL DE DATOS'!D276,'HOJA GENERAL DE DATOS'!E276)","v":"0000"},91,{"$f":"'HOJA GENERAL DE DATOS'!B276","v":0},{"$f":"'HOJA GENERAL DE DATOS'!C276","v":0},{"$f":"'HOJA GENERAL DE DATOS'!D276","v":0},{"$f":"'HOJA GENERAL DE DATOS'!E276","v":0},{"$f":"'HOJA GENERAL DE DATOS'!F276","v":0},{"$f":"'HOJA GENERAL DE DATOS'!G276","v":0},{"$f":"'HOJA GENERAL DE DATOS'!H276","v":0},{"$f":"'HOJA GENERAL DE DATOS'!I276","v":0},{"$f":"'HOJA GENERAL DE DATOS'!J276","v":0},{"$f":"'HOJA GENERAL DE DATOS'!K276","v":0},{"$f":"'HOJA GENERAL DE DATOS'!L276","v":0},{"$f":"'HOJA GENERAL DE DATOS'!M276","v":0},{"$f":"'HOJA GENERAL DE DATOS'!N276","v":0},{"$f":"'HOJA GENERAL DE DATOS'!O276","v":0},{"$f":"'HOJA GENERAL DE DATOS'!P276","v":0}]
[92,{"$f":"CONCATENATE('HOJA GENERAL DE DATOS'!B277,'HOJA GENERAL DE DATOS'!C277,'HOJA GENERAL DE DATOS'!D277,'HOJA GENERAL DE DATOS'!E277)","v":"0000"},92,{"$f":"'HOJA GENERAL DE DATOS'!B277","v":0},{"$f":"'HOJA GENERAL DE DATOS'!C277","v":0},{"$f":"'HOJA GENERAL DE DATOS'!D277","v":0},{"$f":"'HOJA GENERAL DE DATOS'!E277","v":0},{"$f":"'HOJA GENERAL DE DATOS'!F277","v":0},{"$f":"'HOJA GENERAL DE DATOS'!G277","v":0},{"$f":"'HOJA GENERAL DE DATOS'!H277","v":0},{"$f":"'HOJA GENERAL DE DATOS'!I277","v":0},{"$f":"'HOJA GENERAL DE DATOS'!J277","v":0},{"$f":"'HOJA GENERAL DE DATOS'!K277","v":0},{"$f":"'HOJA GENERAL DE DATOS'!L277","v":0},{"$f":"'HOJA GENERAL DE DATOS'!M277","v":0},{"$f":"'HOJA GENERAL DE DATOS'!N277","v":0},{"$f":"'HOJA GENERAL DE DATOS'!O277","v":0},{"$f":"'HOJA GENERAL DE DATOS'!P277","v":0}]
[93,{"$f":"CONCATENATE('HOJA GENERAL DE DATOS'!B278,'HOJA GENERAL DE DATOS'!C278,'HOJA GENERAL DE DATOS'!D278,'HOJA GENERAL DE DATOS'!E278)","v":"0000"},93,{"$f":"'HOJA GENERAL DE DATOS'!B278","v":0},{"$f":"'HOJA GENERAL DE DATOS'!C278","v":0},{"$f":"'HOJA GENERAL DE DATOS'!D278","v":0},{"$f":"'HOJA GENERAL DE DATOS'!E278","v":0},{"$f":"'HOJA GENERAL DE DATOS'!F278","v":0},{"$f":"'HOJA GENERAL DE DATOS'!G278","v":0},{"$f":"'HOJA GENERAL DE DATOS'!H278","v":0},{"$f":"'HOJA GENERAL DE DATOS'!I278","v":0},{"$f":"'HOJA GENERAL DE DATOS'!J278","v":0},{"$f":"'HOJA GENERAL DE DATOS'!K278","v":0},{"$f":"'HOJA GENERAL DE DATOS'!L278","v":0},{"$f":"'HOJA GENERAL DE DATOS'!M278","v":0},{"$f":"'HOJA GENERAL DE DATOS'!N278","v":0},{"$f":"'HOJA GENERAL DE DATOS'!O278","v":0},{"$f":"'HOJA GENERAL DE DATOS'!P278","v":0}]
[94,{"$f":"CONCATENATE('HOJA GENERAL DE DATOS'!B279,'HOJA GENERAL DE DATOS'!C279,'HOJA GENERAL DE DATOS'!D279,'HOJA GENERAL DE DATOS'!E279)","v":"0000"},94,{"$f":"'HOJA GENERAL DE DATOS'!B279","v":0},{"$f":"'HOJA GENERAL DE DATOS'!C279","v":0},{"$f":"'HOJA GENERAL DE DATOS'!D279","v":0},{"$f":"'HOJA GENERAL DE DATOS'!E279","v":0},{"$f":"'HOJA GENERAL DE DATOS'!F279","v":0},{"$f":"'HOJA GENERAL DE DATOS'!G279","v":0},{"$f":"'HOJA GENERAL DE DATOS'!H279","v":0},{"$f":"'HOJA GENERAL DE DATOS'!I279","v":0},{"$f":"'HOJA GENERAL DE DATOS'!J279","v":0},{"$f":"'HOJA GENERAL DE DATOS'!K279","v":0},{"$f":"'HOJA GENERAL DE DATOS'!L279","v":0},{"$f":"'HOJA GENERAL DE DATOS'!M279","v":0},{"$f":"'HOJA GENERAL DE DATOS'!N279","v":0},{"$f":"'HOJA GENERAL DE DATOS'!O279","v":0},{"$f":"'HOJA GENERAL DE DATOS'!P279","v":0}]
[95,{"$f":"CONCATENATE('HOJA GENERAL DE DATOS'!B280,'HOJA GENERAL DE DATOS'!C280,'HOJA GENERAL DE DATOS'!D280,'HOJA GENERAL DE DATOS'!E280)","v":"0000"},95,{"$f":"'HOJA GENERAL DE DATOS'!B280","v":0},{"$f":"'HOJA GENERAL DE DATOS'!C280","v":0},{"$f":"'HOJA GENERAL DE DATOS'!D280","v":0},{"$f":"'HOJA GENERAL DE DATOS'!E280","v":0},{"$f":"'HOJA GENERAL DE DATOS'!F280","v":0},{"$f":"'HOJA GENERAL DE DATOS'!G280","v":0},{"$f":"'HOJA GENERAL DE DATOS'!H280","v":0},{"$f":"'HOJA GENERAL DE DATOS'!I280","v":0},{"$f":"'HOJA GENERAL DE DATOS'!J280","v":0},{"$f":"'HOJA GENERAL DE DATOS'!K280","v":0},{"$f":"'HOJA GENERAL DE DATOS'!L280","v":0},{"$f":"'HOJA GENERAL DE DATOS'!M280","v":0},{"$f":"'HOJA GENERAL DE DATOS'!N280","v":0},{"$f":"'HOJA GENERAL DE DATOS'!O280","v":0},{"$f":"'HOJA GENERAL DE DATOS'!P280","v":0}]
[96,{"$f":"CONCATENATE('HOJA GENERAL DE DATOS'!B281,'HOJA GENERAL DE DATOS'!C281,'HOJA GENERAL DE DATOS'!D281,'HOJA GENERAL DE DATOS'!E281)","v":"6MACHOSCARNICO&CRUZADOINVIERNO"},96,{"$f":"'HOJA GENERAL DE DATOS'!B281","v":6},{"$f":"'HOJA GENERAL DE DATOS'!C281","v":"MACHOS"},{"$f":"'HOJA GENERAL DE DATOS'!D281","v":"CARNICO&CRUZADO"},{"$f":"'HOJA GENERAL DE DATOS'!E281","v":"INVIERNO"},{"$f":"'HOJA GENERAL DE DATOS'!F281","v":3},{"$f":"'HOJA GENERAL DE DATOS'!G281","v":1883},{"$f":"'HOJA GENERAL DE DATOS'!H281","v":25720},{"$f":"'HOJA GENERAL DE DATOS'!I281","v":32193.666666666701},{"$f":"'HOJA GENERAL DE DATOS'!J281","v":282.33333333333297},{"$f":"'HOJA GENERAL DE DATOS'!K281","v":4035.3333333333298},{"$f":"'HOJA GENERAL DE DATOS'!L281","v":101},{"$f":"'HOJA GENERAL DE DATOS'!M281","v":22.064106556801001},{"$f":"'HOJA GENERAL DE DATOS'!N281","v":1139.59533333333},{"$f":"'HOJA GENERAL DE DATOS'!O281","v":42.335957923889403},{"$f":"'HOJA GENERAL DE DATOS'!P281","v":13.6137185711081}]
[97,{"$f":"CONCATENATE('HOJA GENERAL DE DATOS'!B282,'HOJA GENERAL DE DATOS'!C282,'HOJA GENERAL DE DATOS'!D282,'HOJA GENERAL DE DATOS'!E282)","v":"6MACHOS&HEMBRASCARNICO&CRUZADOINVIERNO"},97,{"$f":"'HOJA GENERAL DE DATOS'!B282","v":6},{"$f":"'HOJA GENERAL DE DATOS'!C282","v":"MACHOS&HEMBRAS"},{"$f":"'HOJA GENERAL DE DATOS'!D282","v":"CARNICO&CRUZADO"},{"$f":"'HOJA GENERAL DE DATOS'!E282","v":"INVIERNO"},{"$f":"'HOJA GENERAL DE DATOS'!F282","v":4},{"$f":"'HOJA GENERAL DE DATOS'!G282","v":820},{"$f":"'HOJA GENERAL DE DATOS'!H282","v":24925},{"$f":"'HOJA GENERAL DE DATOS'!I282","v":31470},{"$f":"'HOJA GENERAL DE DATOS'!J282","v":293.0625},{"$f":"'HOJA GENERAL DE DATOS'!K282","v":4852.5},{"$f":"'HOJA GENERAL DE DATOS'!L282","v":99},{"$f":"'HOJA GENERAL DE DATOS'!M282","v":19.004596828610001},{"$f":"'HOJA GENERAL DE DATOS'!N282","v":1338.09453125},{"$f":"'HOJA GENERAL DE DATOS'!O282","v":87.067786690409605},{"$f":"'HOJA GENERAL DE DATOS'!P282","v":1300.03525593219}]
[98,{"$f":"CONCATENATE('HOJA GENERAL DE DATOS'!B283,'HOJA GENERAL DE DATOS'!C283,'HOJA GENERAL DE DATOS'!D283,'HOJA GENERAL DE DATOS'!E283)","v":"6MACHOSENTREFINOVERANO"},98,{"$f":"'HOJA GENERAL DE DATOS'!B283","v":6},{"$f":"'HOJA GENERAL DE DATOS'!C283","v":"MACHOS"},{"$f":"'HOJA GENERAL DE DATOS'!D283","v":"ENTREFINO"},{"$f":"'HOJA GENERAL DE DATOS'!E283","v":"VERANO"},{"$f":"'HOJA GENERAL DE DATOS'!F283","v":4},{"$f":"'HOJA GENERAL DE DATOS'!G283","v":160},{"$f":"'HOJA GENERAL DE DATOS'!H283","v":25575},{"$f":"'HOJA GENERAL DE DATOS'!I283","v":29750},{"$f":"'HOJA GENERAL DE DATOS'!J283","v":303},{"$f":"'HOJA GENERAL DE DATOS'!K283","v":3642.5},{"$f":"'HOJA GENERAL DE DATOS'!L283","v":101.5},{"$f":"'HOJA GENERAL DE DATOS'!M283","v":14.8830992888133},{"$f":"'HOJA GENERAL DE DATOS'!N283","v":1092.47},{"$f":"'HOJA GENERAL DE DATOS'!O283","v":49.578221024962197},{"$f":"'HOJA GENERAL DE DATOS'!P283","v":339.84064893221199}]
[99,{"$f":"CONCATENATE('HOJA GENERAL DE DATOS'!B284,'HOJA GENERAL DE DATOS'!C284,'HOJA GENERAL DE DATOS'!D284,'HOJA GENERAL DE DATOS'!E284)","v":"6MACHOSCARNICO&CRUZADOVERANO"},99,{"$f":"'HOJA GENERAL DE DATOS'!B284","v":6},{"$f":"'HOJA GENERAL DE DATOS'!C284","v":"MACHOS"},{"$f":"'HOJA GENERAL DE DATOS'!D284","v":"CARNICO&CRUZADO"},{"$f":"'HOJA GENERAL DE DATOS'!E284","v":"VERANO"},{"$f":"'HOJA GENERAL DE DATOS'!F284","v":7},{"$f":"'HOJA GENERAL DE DATOS'!G284","v":554},{"$f":"'HOJA GENERAL DE DATOS'!H284","v":25977.714285714301},{"$f":"'HOJA GENERAL DE DATOS'!I284","v":32098.142857142899},{"$f":"'HOJA GENERAL DE DATOS'!J284","v":309},{"$f":"'HOJA GENERAL DE DATOS'!K284","v":3909.4285714285702},{"$f":"'HOJA GENERAL DE DATOS'!L284","v":97.9166666666667},{"$f":"'HOJA GENERAL DE DATOS'!M284","v":22.1833986016685},{"$f":"'HOJA GENERAL DE DATOS'!N284","v":1162.0337142857099},{"$f":"'HOJA GENERAL DE DATOS'!O284","v":60.989070059041502},{"$f":"'HOJA GENERAL DE DATOS'!P284","v":1069.78360072538}]
[100,{"$f":"CONCATENATE('HOJA GENERAL DE DATOS'!B285,'HOJA GENERAL DE DATOS'!C285,'HOJA GENERAL DE DATOS'!D285,'HOJA GENERAL DE DATOS'!E285)","v":"0000"},100,{"$f":"'HOJA GENERAL DE DATOS'!B285","v":0},{"$f":"'HOJA GENERAL DE DATOS'!C285","v":0},{"$f":"'HOJA GENERAL DE DATOS'!D285","v":0},{"$f":"'HOJA GENERAL DE DATOS'!E285","v":0},{"$f":"'HOJA GENERAL DE DATOS'!F285","v":0},{"$f":"'HOJA GENERAL DE DATOS'!G285","v":0},{"$f":"'HOJA GENERAL DE DATOS'!H285","v":0},{"$f":"'HOJA GENERAL DE DATOS'!I285","v":0},{"$f":"'HOJA GENERAL DE DATOS'!J285","v":0},{"$f":"'HOJA GENERAL DE DATOS'!K285","v":0},{"$f":"'HOJA GENERAL DE DATOS'!L285","v":0},{"$f":"'HOJA GENERAL DE DATOS'!M285","v":0},{"$f":"'HOJA GENERAL DE DATOS'!N285","v":0},{"$f":"'HOJA GENERAL DE DATOS'!O285","v":0},{"$f":"'HOJA GENERAL DE DATOS'!P285","v":0}]
[101,{"$f":"CONCATENATE('HOJA GENERAL DE DATOS'!B286,'HOJA GENERAL DE DATOS'!C286,'HOJA GENERAL DE DATOS'!D286,'HOJA GENERAL DE DATOS'!E286)","v":"0000"},101,{"$f":"'HOJA GENERAL DE DATOS'!B286","v":0},{"$f":"'HOJA GENERAL DE DATOS'!C286","v":0},{"$f":"'HOJA GENERAL DE DATOS'!D286","v":0},{"$f":"'HOJA GENERAL DE DATOS'!E286","v":0},{"$f":"'HOJA GENERAL DE DATOS'!F286","v":0},{"$f":"'HOJA GENERAL DE DATOS'!G286","v":0},{"$f":"'HOJA GENERAL DE DATOS'!H286","v":0},{"$f":"'HOJA GENERAL DE DATOS'!I286","v":0},{"$f":"'HOJA GENERAL DE DATOS'!J286","v":0},{"$f":"'HOJA GENERAL DE DATOS'!K286","v":0},{"$f":"'HOJA GENERAL DE DATOS'!L286","v":0},{"$f":"'HOJA GENERAL DE DATOS'!M286","v":0},{"$f":"'HOJA GENERAL DE DATOS'!N286","v":0},{"$f":"'HOJA GENERAL DE DATOS'!O286","v":0},{"$f":"'HOJA GENERAL DE DATOS'!P286","v":0}]
[102,{"$f":"CONCATENATE('HOJA GENERAL DE DATOS'!B287,'HOJA GENERAL DE DATOS'!C287,'HOJA GENERAL DE DATOS'!D287,'HOJA GENERAL DE DATOS'!E287)","v":"0000"},102,{"$f":"'HOJA GENERAL DE DATOS'!B287","v":0},{"$f":"'HOJA GENERAL DE DATOS'!C287","v":0},{"$f":"'HOJA GENERAL DE DATOS'!D287","v":0},{"$f":"'HOJA GENERAL DE DATOS'!E287","v":0},{"$f":"'HOJA GENERAL DE DATOS'!F287","v":0},{"$f":"'HOJA GENERAL DE DATOS'!G287","v":0},{"$f":"'HOJA GENERAL DE DATOS'!H287","v":0},{"$f":"'HOJA GENERAL DE DATOS'!I287","v":0},{"$f":"'HOJA GENERAL DE DATOS'!J287","v":0},{"$f":"'HOJA GENERAL DE DATOS'!K287","v":0},{"$f":"'HOJA GENERAL DE DATOS'!L287","v":0},{"$f":"'HOJA GENERAL DE DATOS'!M287","v":0},{"$f":"'HOJA GENERAL DE DATOS'!N287","v":0},{"$f":"'HOJA GENERAL DE DATOS'!O287","v":0},{"$f":"'HOJA GENERAL DE DATOS'!P287","v":0}]
[103,{"$f":"CONCATENATE('HOJA GENERAL DE DATOS'!B288,'HOJA GENERAL DE DATOS'!C288,'HOJA GENERAL DE DATOS'!D288,'HOJA GENERAL DE DATOS'!E288)","v":"0000"},103,{"$f":"'HOJA GENERAL DE DATOS'!B288","v":0},{"$f":"'HOJA GENERAL DE DATOS'!C288","v":0},{"$f":"'HOJA GENERAL DE DATOS'!D288","v":0},{"$f":"'HOJA GENERAL DE DATOS'!E288","v":0},{"$f":"'HOJA GENERAL DE DATOS'!F288","v":0},{"$f":"'HOJA GENERAL DE DATOS'!G288","v":0},{"$f":"'HOJA GENERAL DE DATOS'!H288","v":0},{"$f":"'HOJA GENERAL DE DATOS'!I288","v":0},{"$f":"'HOJA GENERAL DE DATOS'!J288","v":0},{"$f":"'HOJA GENERAL DE DATOS'!K288","v":0},{"$f":"'HOJA GENERAL DE DATOS'!L288","v":0},{"$f":"'HOJA GENERAL DE DATOS'!M288","v":0},{"$f":"'HOJA GENERAL DE DATOS'!N288","v":0},{"$f":"'HOJA GENERAL DE DATOS'!O288","v":0},{"$f":"'HOJA GENERAL DE DATOS'!P288","v":0}]
[104,{"$f":"CONCATENATE('HOJA GENERAL DE DATOS'!B289,'HOJA GENERAL DE DATOS'!C289,'HOJA GENERAL DE DATOS'!D289,'HOJA GENERAL DE DATOS'!E289)","v":"0000"},104,{"$f":"'HOJA GENERAL DE DATOS'!B289","v":0},{"$f":"'HOJA GENERAL DE DATOS'!C289","v":0},{"$f":"'HOJA GENERAL DE DATOS'!D289","v":0},{"$f":"'HOJA GENERAL DE DATOS'!E289","v":0},{"$f":"'HOJA GENERAL DE DATOS'!F289","v":0},{"$f":"'HOJA GENERAL DE DATOS'!G289","v":0},{"$f":"'HOJA GENERAL DE DATOS'!H289","v":0},{"$f":"'HOJA GENERAL DE DATOS'!I289","v":0},{"$f":"'HOJA GENERAL DE DATOS'!J289","v":0},{"$f":"'HOJA GENERAL DE DATOS'!K289","v":0},{"$f":"'HOJA GENERAL DE DATOS'!L289","v":0},{"$f":"'HOJA GENERAL DE DATOS'!M289","v":0},{"$f":"'HOJA GENERAL DE DATOS'!N289","v":0},{"$f":"'HOJA GENERAL DE DATOS'!O289","v":0},{"$f":"'HOJA GENERAL DE DATOS'!P289","v":0}]
[105,{"$f":"CONCATENATE('HOJA GENERAL DE DATOS'!B290,'HOJA GENERAL DE DATOS'!C290,'HOJA GENERAL DE DATOS'!D290,'HOJA GENERAL DE DATOS'!E290)","v":"0000"},105,{"$f":"'HOJA GENERAL DE DATOS'!B290","v":0},{"$f":"'HOJA GENERAL DE DATOS'!C290","v":0},{"$f":"'HOJA GENERAL DE DATOS'!D290","v":0},{"$f":"'HOJA GENERAL DE DATOS'!E290","v":0},{"$f":"'HOJA GENERAL DE DATOS'!F290","v":0},{"$f":"'HOJA GENERAL DE DATOS'!G290","v":0},{"$f":"'HOJA GENERAL DE DATOS'!H290","v":0},{"$f":"'HOJA GENERAL DE DATOS'!I290","v":0},{"$f":"'HOJA GENERAL DE DATOS'!J290","v":0},{"$f":"'HOJA GENERAL DE DATOS'!K290","v":0},{"$f":"'HOJA GENERAL DE DATOS'!L290","v":0},{"$f":"'HOJA GENERAL DE DATOS'!M290","v":0},{"$f":"'HOJA GENERAL DE DATOS'!N290","v":0},{"$f":"'HOJA GENERAL DE DATOS'!O290","v":0},{"$f":"'HOJA GENERAL DE DATOS'!P290","v":0}]
[106,{"$f":"CONCATENATE('HOJA GENERAL DE DATOS'!B291,'HOJA GENERAL DE DATOS'!C291,'HOJA GENERAL DE DATOS'!D291,'HOJA GENERAL DE DATOS'!E291)","v":"0000"},106,{"$f":"'HOJA GENERAL DE DATOS'!B291","v":0},{"$f":"'HOJA GENERAL DE DATOS'!C291","v":0},{"$f":"'HOJA GENERAL DE DATOS'!D291","v":0},{"$f":"'HOJA GENERAL DE DATOS'!E291","v":0},{"$f":"'HOJA GENERAL DE DATOS'!F291","v":0},{"$f":"'HOJA GENERAL DE DATOS'!G291","v":0},{"$f":"'HOJA GENERAL DE DATOS'!H291","v":0},{"$f":"'HOJA GENERAL DE DATOS'!I291","v":0},{"$f":"'HOJA GENERAL DE DATOS'!J291","v":0},{"$f":"'HOJA GENERAL DE DATOS'!K291","v":0},{"$f":"'HOJA GENERAL DE DATOS'!L291","v":0},{"$f":"'HOJA GENERAL DE DATOS'!M291","v":0},{"$f":"'HOJA GENERAL DE DATOS'!N291","v":0},{"$f":"'HOJA GENERAL DE DATOS'!O291","v":0},{"$f":"'HOJA GENERAL DE DATOS'!P291","v":0}]
[107,{"$f":"CONCATENATE('HOJA GENERAL DE DATOS'!B292,'HOJA GENERAL DE DATOS'!C292,'HOJA GENERAL DE DATOS'!D292,'HOJA GENERAL DE DATOS'!E292)","v":"0000"},107,{"$f":"'HOJA GENERAL DE DATOS'!B292","v":0},{"$f":"'HOJA GENERAL DE DATOS'!C292","v":0},{"$f":"'HOJA GENERAL DE DATOS'!D292","v":0},{"$f":"'HOJA GENERAL DE DATOS'!E292","v":0},{"$f":"'HOJA GENERAL DE DATOS'!F292","v":0},{"$f":"'HOJA GENERAL DE DATOS'!G292","v":0},{"$f":"'HOJA GENERAL DE DATOS'!H292","v":0},{"$f":"'HOJA GENERAL DE DATOS'!I292","v":0},{"$f":"'HOJA GENERAL DE DATOS'!J292","v":0},{"$f":"'HOJA GENERAL DE DATOS'!K292","v":0},{"$f":"'HOJA GENERAL DE DATOS'!L292","v":0},{"$f":"'HOJA GENERAL DE DATOS'!M292","v":0},{"$f":"'HOJA GENERAL DE DATOS'!N292","v":0},{"$f":"'HOJA GENERAL DE DATOS'!O292","v":0},{"$f":"'HOJA GENERAL DE DATOS'!P292","v":0}]
[108,{"$f":"CONCATENATE('HOJA GENERAL DE DATOS'!B293,'HOJA GENERAL DE DATOS'!C293,'HOJA GENERAL DE DATOS'!D293,'HOJA GENERAL DE DATOS'!E293)","v":"0000"},108,{"$f":"'HOJA GENERAL DE DATOS'!B293","v":0},{"$f":"'HOJA GENERAL DE DATOS'!C293","v":0},{"$f":"'HOJA GENERAL DE DATOS'!D293","v":0},{"$f":"'HOJA GENERAL DE DATOS'!E293","v":0},{"$f":"'HOJA GENERAL DE DATOS'!F293","v":0},{"$f":"'HOJA GENERAL DE DATOS'!G293","v":0},{"$f":"'HOJA GENERAL DE DATOS'!H293","v":0},{"$f":"'HOJA GENERAL DE DATOS'!I293","v":0},{"$f":"'HOJA GENERAL DE DATOS'!J293","v":0},{"$f":"'HOJA GENERAL DE DATOS'!K293","v":0},{"$f":"'HOJA GENERAL DE DATOS'!L293","v":0},{"$f":"'HOJA GENERAL DE DATOS'!M293","v":0},{"$f":"'HOJA GENERAL DE DATOS'!N293","v":0},{"$f":"'HOJA GENERAL DE DATOS'!O293","v":0},{"$f":"'HOJA GENERAL DE DATOS'!P293","v":0}]
[109,{"$f":"CONCATENATE('HOJA GENERAL DE DATOS'!B294,'HOJA GENERAL DE DATOS'!C294,'HOJA GENERAL DE DATOS'!D294,'HOJA GENERAL DE DATOS'!E294)","v":"0000"},109,{"$f":"'HOJA GENERAL DE DATOS'!B294","v":0},{"$f":"'HOJA GENERAL DE DATOS'!C294","v":0},{"$f":"'HOJA GENERAL DE DATOS'!D294","v":0},{"$f":"'HOJA GENERAL DE DATOS'!E294","v":0},{"$f":"'HOJA GENERAL DE DATOS'!F294","v":0},{"$f":"'HOJA GENERAL DE DATOS'!G294","v":0},{"$f":"'HOJA GENERAL DE DATOS'!H294","v":0},{"$f":"'HOJA GENERAL DE DATOS'!I294","v":0},{"$f":"'HOJA GENERAL DE DATOS'!J294","v":0},{"$f":"'HOJA GENERAL DE DATOS'!K294","v":0},{"$f":"'HOJA GENERAL DE DATOS'!L294","v":0},{"$f":"'HOJA GENERAL DE DATOS'!M294","v":0},{"$f":"'HOJA GENERAL DE DATOS'!N294","v":0},{"$f":"'HOJA GENERAL DE DATOS'!O294","v":0},{"$f":"'HOJA GENERAL DE DATOS'!P294","v":0}]
[110,{"$f":"CONCATENATE('HOJA GENERAL DE DATOS'!B295,'HOJA GENERAL DE DATOS'!C295,'HOJA GENERAL DE DATOS'!D295,'HOJA GENERAL DE DATOS'!E295)","v":"0000"},110,{"$f":"'HOJA GENERAL DE DATOS'!B295","v":0},{"$f":"'HOJA GENERAL DE DATOS'!C295","v":0},{"$f":"'HOJA GENERAL DE DATOS'!D295","v":0},{"$f":"'HOJA GENERAL DE DATOS'!E295","v":0},{"$f":"'HOJA GENERAL DE DATOS'!F295","v":0},{"$f":"'HOJA GENERAL DE DATOS'!G295","v":0},{"$f":"'HOJA GENERAL DE DATOS'!H295","v":0},{"$f":"'HOJA GENERAL DE DATOS'!I295","v":0},{"$f":"'HOJA GENERAL DE DATOS'!J295","v":0},{"$f":"'HOJA GENERAL DE DATOS'!K295","v":0},{"$f":"'HOJA GENERAL DE DATOS'!L295","v":0},{"$f":"'HOJA GENERAL DE DATOS'!M295","v":0},{"$f":"'HOJA GENERAL DE DATOS'!N295","v":0},{"$f":"'HOJA GENERAL DE DATOS'!O295","v":0},{"$f":"'HOJA GENERAL DE DATOS'!P295","v":0}]
[111,{"$f":"CONCATENATE('HOJA GENERAL DE DATOS'!B296,'HOJA GENERAL DE DATOS'!C296,'HOJA GENERAL DE DATOS'!D296,'HOJA GENERAL DE DATOS'!E296)","v":"0000"},111,{"$f":"'HOJA GENERAL DE DATOS'!B296","v":0},{"$f":"'HOJA GENERAL DE DATOS'!C296","v":0},{"$f":"'HOJA GENERAL DE DATOS'!D296","v":0},{"$f":"'HOJA GENERAL DE DATOS'!E296","v":0},{"$f":"'HOJA GENERAL DE DATOS'!F296","v":0},{"$f":"'HOJA GENERAL DE DATOS'!G296","v":0},{"$f":"'HOJA GENERAL DE DATOS'!H296","v":0},{"$f":"'HOJA GENERAL DE DATOS'!I296","v":0},{"$f":"'HOJA GENERAL DE DATOS'!J296","v":0},{"$f":"'HOJA GENERAL DE DATOS'!K296","v":0},{"$f":"'HOJA GENERAL DE DATOS'!L296","v":0},{"$f":"'HOJA GENERAL DE DATOS'!M296","v":0},{"$f":"'HOJA GENERAL DE DATOS'!N296","v":0},{"$f":"'HOJA GENERAL DE DATOS'!O296","v":0},{"$f":"'HOJA GENERAL DE DATOS'!P296","v":0}]
[112,{"$f":"CONCATENATE('HOJA GENERAL DE DATOS'!B297,'HOJA GENERAL DE DATOS'!C297,'HOJA GENERAL DE DATOS'!D297,'HOJA GENERAL DE DATOS'!E297)","v":"0000"},112,{"$f":"'HOJA GENERAL DE DATOS'!B297","v":0},{"$f":"'HOJA GENERAL DE DATOS'!C297","v":0},{"$f":"'HOJA GENERAL DE DATOS'!D297","v":0},{"$f":"'HOJA GENERAL DE DATOS'!E297","v":0},{"$f":"'HOJA GENERAL DE DATOS'!F297","v":0},{"$f":"'HOJA GENERAL DE DATOS'!G297","v":0},{"$f":"'HOJA GENERAL DE DATOS'!H297","v":0},{"$f":"'HOJA GENERAL DE DATOS'!I297","v":0},{"$f":"'HOJA GENERAL DE DATOS'!J297","v":0},{"$f":"'HOJA GENERAL DE DATOS'!K297","v":0},{"$f":"'HOJA GENERAL DE DATOS'!L297","v":0},{"$f":"'HOJA GENERAL DE DATOS'!M297","v":0},{"$f":"'HOJA GENERAL DE DATOS'!N297","v":0},{"$f":"'HOJA GENERAL DE DATOS'!O297","v":0},{"$f":"'HOJA GENERAL DE DATOS'!P297","v":0}]
[113,{"$f":"CONCATENATE('HOJA GENERAL DE DATOS'!B298,'HOJA GENERAL DE DATOS'!C298,'HOJA GENERAL DE DATOS'!D298,'HOJA GENERAL DE DATOS'!E298)","v":"0000"},113,{"$f":"'HOJA GENERAL DE DATOS'!B298","v":0},{"$f":"'HOJA GENERAL DE DATOS'!C298","v":0},{"$f":"'HOJA GENERAL DE DATOS'!D298","v":0},{"$f":"'HOJA GENERAL DE DATOS'!E298","v":0},{"$f":"'HOJA GENERAL DE DATOS'!F298","v":0},{"$f":"'HOJA GENERAL DE DATOS'!G298","v":0},{"$f":"'HOJA GENERAL DE DATOS'!H298","v":0},{"$f":"'HOJA GENERAL DE DATOS'!I298","v":0},{"$f":"'HOJA GENERAL DE DATOS'!J298","v":0},{"$f":"'HOJA GENERAL DE DATOS'!K298","v":0},{"$f":"'HOJA GENERAL DE DATOS'!L298","v":0},{"$f":"'HOJA GENERAL DE DATOS'!M298","v":0},{"$f":"'HOJA GENERAL DE DATOS'!N298","v":0},{"$f":"'HOJA GENERAL DE DATOS'!O298","v":0},{"$f":"'HOJA GENERAL DE DATOS'!P298","v":0}]
[114,{"$f":"CONCATENATE('HOJA GENERAL DE DATOS'!B299,'HOJA GENERAL DE DATOS'!C299,'HOJA GENERAL DE DATOS'!D299,'HOJA GENERAL DE DATOS'!E299)","v":"0000"},114,{"$f":"'HOJA GENERAL DE DATOS'!B299","v":0},{"$f":"'HOJA GENERAL DE DATOS'!C299","v":0},{"$f":"'HOJA GENERAL DE DATOS'!D299","v":0},{"$f":"'HOJA GENERAL DE DATOS'!E299","v":0},{"$f":"'HOJA GENERAL DE DATOS'!F299","v":0},{"$f":"'HOJA GENERAL DE DATOS'!G299","v":0},{"$f":"'HOJA GENERAL DE DATOS'!H299","v":0},{"$f":"'HOJA GENERAL DE DATOS'!I299","v":0},{"$f":"'HOJA GENERAL DE DATOS'!J299","v":0},{"$f":"'HOJA GENERAL DE DATOS'!K299","v":0},{"$f":"'HOJA GENERAL DE DATOS'!L299","v":0},{"$f":"'HOJA GENERAL DE DATOS'!M299","v":0},{"$f":"'HOJA GENERAL DE DATOS'!N299","v":0},{"$f":"'HOJA GENERAL DE DATOS'!O299","v":0},{"$f":"'HOJA GENERAL DE DATOS'!P299","v":0}]
[115,{"$f":"CONCATENATE('HOJA GENERAL DE DATOS'!B300,'HOJA GENERAL DE DATOS'!C300,'HOJA GENERAL DE DATOS'!D300,'HOJA GENERAL DE DATOS'!E300)","v":"7MACHOSCARNICO&CRUZADOVERANO"},115,{"$f":"'HOJA GENERAL DE DATOS'!B300","v":7},{"$f":"'HOJA GENERAL DE DATOS'!C300","v":"MACHOS"},{"$f":"'HOJA GENERAL DE DATOS'!D300","v":"CARNICO&CRUZADO"},{"$f":"'HOJA GENERAL DE DATOS'!E300","v":"VERANO"},{"$f":"'HOJA GENERAL DE DATOS'!F300","v":1},{"$f":"'HOJA GENERAL DE DATOS'!G300","v":70},{"$f":"'HOJA GENERAL DE DATOS'!H300","v":24290},{"$f":"'HOJA GENERAL DE DATOS'!I300","v":35710},{"$f":"'HOJA GENERAL DE DATOS'!J300","v":254},{"$f":"'HOJA GENERAL DE DATOS'!K300","v":4450},{"$f":"'HOJA GENERAL DE DATOS'!L300","v":101.5},{"$f":"'HOJA GENERAL DE DATOS'!M300","v":44.960629921259802},{"$f":"'HOJA GENERAL DE DATOS'!N300","v":1130.3},{"$f":"'HOJA GENERAL DE DATOS'!O300","v":0},{"$f":"'HOJA GENERAL DE DATOS'!P300","v":0}]
[116,{"$f":"CONCATENATE('HOJA GENERAL DE DATOS'!B301,'HOJA GENERAL DE DATOS'!C301,'HOJA GENERAL DE DATOS'!D301,'HOJA GENERAL DE DATOS'!E301)","v":"7MACHOSCARNICO&CRUZADOINVIERNO"},116,{"$f":"'HOJA GENERAL DE DATOS'!B301","v":7},{"$f":"'HOJA GENERAL DE DATOS'!C301","v":"MACHOS"},{"$f":"'HOJA GENERAL DE DATOS'!D301","v":"CARNICO&CRUZADO"},{"$f":"'HOJA GENERAL DE DATOS'!E301","v":"INVIERNO"},{"$f":"'HOJA GENERAL DE DATOS'!F301","v":22},{"$f":"'HOJA GENERAL DE DATOS'!G301","v":2154},{"$f":"'HOJA GENERAL DE DATOS'!H301","v":34162.727272727301},{"$f":"'HOJA GENERAL DE DATOS'!I301","v":40958.181818181802},{"$f":"'HOJA GENERAL DE DATOS'!J301","v":323.63636363636402},{"$f":"'HOJA GENERAL DE DATOS'!K301","v":4238.2272727272702},{"$f":"'HOJA GENERAL DE DATOS'!L301","v":96.966666666666697},{"$f":"'HOJA GENERAL DE DATOS'!M301","v":21.3540257131048},{"$f":"'HOJA GENERAL DE DATOS'!N301","v":1360.71018181818},{"$f":"'HOJA GENERAL DE DATOS'!O301","v":63.408385696399598},{"$f":"'HOJA GENERAL DE DATOS'!P301","v":513.35506433454202}]
[117,{"$f":"CONCATENATE('HOJA GENERAL DE DATOS'!B302,'HOJA GENERAL DE DATOS'!C302,'HOJA GENERAL DE DATOS'!D302,'HOJA GENERAL DE DATOS'!E302)","v":"0000"},117,{"$f":"'HOJA GENERAL DE DATOS'!B302","v":0},{"$f":"'HOJA GENERAL DE DATOS'!C302","v":0},{"$f":"'HOJA GENERAL DE DATOS'!D302","v":0},{"$f":"'HOJA GENERAL DE DATOS'!E302","v":0},{"$f":"'HOJA GENERAL DE DATOS'!F302","v":0},{"$f":"'HOJA GENERAL DE DATOS'!G302","v":0},{"$f":"'HOJA GENERAL DE DATOS'!H302","v":0},{"$f":"'HOJA GENERAL DE DATOS'!I302","v":0},{"$f":"'HOJA GENERAL DE DATOS'!J302","v":0},{"$f":"'HOJA GENERAL DE DATOS'!K302","v":0},{"$f":"'HOJA GENERAL DE DATOS'!L302","v":0},{"$f":"'HOJA GENERAL DE DATOS'!M302","v":0},{"$f":"'HOJA GENERAL DE DATOS'!N302","v":0},{"$f":"'HOJA GENERAL DE DATOS'!O302","v":0},{"$f":"'HOJA GENERAL DE DATOS'!P302","v":0}]
[118,{"$f":"CONCATENATE('HOJA GENERAL DE DATOS'!B303,'HOJA GENERAL DE DATOS'!C303,'HOJA GENERAL DE DATOS'!D303,'HOJA GENERAL DE DATOS'!E303)","v":"0000"},118,{"$f":"'HOJA GENERAL DE DATOS'!B303","v":0},{"$f":"'HOJA GENERAL DE DATOS'!C303","v":0},{"$f":"'HOJA GENERAL DE DATOS'!D303","v":0},{"$f":"'HOJA GENERAL DE DATOS'!E303","v":0},{"$f":"'HOJA GENERAL DE DATOS'!F303","v":0},{"$f":"'HOJA GENERAL DE DATOS'!G303","v":0},{"$f":"'HOJA GENERAL DE DATOS'!H303","v":0},{"$f":"'HOJA GENERAL DE DATOS'!I303","v":0},{"$f":"'HOJA GENERAL DE DATOS'!J303","v":0},{"$f":"'HOJA GENERAL DE DATOS'!K303","v":0},{"$f":"'HOJA GENERAL DE DATOS'!L303","v":0},{"$f":"'HOJA GENERAL DE DATOS'!M303","v":0},{"$f":"'HOJA GENERAL DE DATOS'!N303","v":0},{"$f":"'HOJA GENERAL DE DATOS'!O303","v":0},{"$f":"'HOJA GENERAL DE DATOS'!P303","v":0}]
[119,{"$f":"CONCATENATE('HOJA GENERAL DE DATOS'!B304,'HOJA GENERAL DE DATOS'!C304,'HOJA GENERAL DE DATOS'!D304,'HOJA GENERAL DE DATOS'!E304)","v":"0000"},119,{"$f":"'HOJA GENERAL DE DATOS'!B304","v":0},{"$f":"'HOJA GENERAL DE DATOS'!C304","v":0},{"$f":"'HOJA GENERAL DE DATOS'!D304","v":0},{"$f":"'HOJA GENERAL DE DATOS'!E304","v":0},{"$f":"'HOJA GENERAL DE DATOS'!F304","v":0},{"$f":"'HOJA GENERAL DE DATOS'!G304","v":0},{"$f":"'HOJA GENERAL DE DATOS'!H304","v":0},{"$f":"'HOJA GENERAL DE DATOS'!I304","v":0},{"$f":"'HOJA GENERAL DE DATOS'!J304","v":0},{"$f":"'HOJA GENERAL DE DATOS'!K304","v":0},{"$f":"'HOJA GENERAL DE DATOS'!L304","v":0},{"$f":"'HOJA GENERAL DE DATOS'!M304","v":0},{"$f":"'HOJA GENERAL DE DATOS'!N304","v":0},{"$f":"'HOJA GENERAL DE DATOS'!O304","v":0},{"$f":"'HOJA GENERAL DE DATOS'!P304","v":0}]
[120,{"$f":"CONCATENATE('HOJA GENERAL DE DATOS'!B305,'HOJA GENERAL DE DATOS'!C305,'HOJA GENERAL DE DATOS'!D305,'HOJA GENERAL DE DATOS'!E305)","v":"0000"},120,{"$f":"'HOJA GENERAL DE DATOS'!B305","v":0},{"$f":"'HOJA GENERAL DE DATOS'!C305","v":0},{"$f":"'HOJA GENERAL DE DATOS'!D305","v":0},{"$f":"'HOJA GENERAL DE DATOS'!E305","v":0},{"$f":"'HOJA GENERAL DE DATOS'!F305","v":0},{"$f":"'HOJA GENERAL DE DATOS'!G305","v":0},{"$f":"'HOJA GENERAL DE DATOS'!H305","v":0},{"$f":"'HOJA GENERAL DE DATOS'!I305","v":0},{"$f":"'HOJA GENERAL DE DATOS'!J305","v":0},{"$f":"'HOJA GENERAL DE DATOS'!K305","v":0},{"$f":"'HOJA GENERAL DE DATOS'!L305","v":0},{"$f":"'HOJA GENERAL DE DATOS'!M305","v":0},{"$f":"'HOJA GENERAL DE DATOS'!N305","v":0},{"$f":"'HOJA GENERAL DE DATOS'!O305","v":0},{"$f":"'HOJA GENERAL DE DATOS'!P305","v":0}]
[121,{"$f":"CONCATENATE('HOJA GENERAL DE DATOS'!B306,'HOJA GENERAL DE DATOS'!C306,'HOJA GENERAL DE DATOS'!D306,'HOJA GENERAL DE DATOS'!E306)","v":"0000"},121,{"$f":"'HOJA GENERAL DE DATOS'!B306","v":0},{"$f":"'HOJA GENERAL DE DATOS'!C306","v":0},{"$f":"'HOJA GENERAL DE DATOS'!D306","v":0},{"$f":"'HOJA GENERAL DE DATOS'!E306","v":0},{"$f":"'HOJA GENERAL DE DATOS'!F306","v":0},{"$f":"'HOJA GENERAL DE DATOS'!G306","v":0},{"$f":"'HOJA GENERAL DE DATOS'!H306","v":0},{"$f":"'HOJA GENERAL DE DATOS'!I306","v":0},{"$f":"'HOJA GENERAL DE DATOS'!J306","v":0},{"$f":"'HOJA GENERAL DE DATOS'!K306","v":0},{"$f":"'HOJA GENERAL DE DATOS'!L306","v":0},{"$f":"'HOJA GENERAL DE DATOS'!M306","v":0},{"$f":"'HOJA GENERAL DE DATOS'!N306","v":0},{"$f":"'HOJA GENERAL DE DATOS'!O306","v":0},{"$f":"'HOJA GENERAL DE DATOS'!P306","v":0}]
[122,{"$f":"CONCATENATE('HOJA GENERAL DE DATOS'!B307,'HOJA GENERAL DE DATOS'!C307,'HOJA GENERAL DE DATOS'!D307,'HOJA GENERAL DE DATOS'!E307)","v":"0000"},122,{"$f":"'HOJA GENERAL DE DATOS'!B307","v":0},{"$f":"'HOJA GENERAL DE DATOS'!C307","v":0},{"$f":"'HOJA GENERAL DE DATOS'!D307","v":0},{"$f":"'HOJA GENERAL DE DATOS'!E307","v":0},{"$f":"'HOJA GENERAL DE DATOS'!F307","v":0},{"$f":"'HOJA GENERAL DE DATOS'!G307","v":0},{"$f":"'HOJA GENERAL DE DATOS'!H307","v":0},{"$f":"'HOJA GENERAL DE DATOS'!I307","v":0},{"$f":"'HOJA GENERAL DE DATOS'!J307","v":0},{"$f":"'HOJA GENERAL DE DATOS'!K307","v":0},{"$f":"'HOJA GENERAL DE DATOS'!L307","v":0},{"$f":"'HOJA GENERAL DE DATOS'!M307","v":0},{"$f":"'HOJA GENERAL DE DATOS'!N307","v":0},{"$f":"'HOJA GENERAL DE DATOS'!O307","v":0},{"$f":"'HOJA GENERAL DE DATOS'!P307","v":0}]
[123,{"$f":"CONCATENATE('HOJA GENERAL DE DATOS'!B308,'HOJA GENERAL DE DATOS'!C308,'HOJA GENERAL DE DATOS'!D308,'HOJA GENERAL DE DATOS'!E308)","v":"0000"},123,{"$f":"'HOJA GENERAL DE DATOS'!B308","v":0},{"$f":"'HOJA GENERAL DE DATOS'!C308","v":0},{"$f":"'HOJA GENERAL DE DATOS'!D308","v":0},{"$f":"'HOJA GENERAL DE DATOS'!E308","v":0},{"$f":"'HOJA GENERAL DE DATOS'!F308","v":0},{"$f":"'HOJA GENERAL DE DATOS'!G308","v":0},{"$f":"'HOJA GENERAL DE DATOS'!H308","v":0},{"$f":"'HOJA GENERAL DE DATOS'!I308","v":0},{"$f":"'HOJA GENERAL DE DATOS'!J308","v":0},{"$f":"'HOJA GENERAL DE DATOS'!K308","v":0},{"$f":"'HOJA GENERAL DE DATOS'!L308","v":0},{"$f":"'HOJA GENERAL DE DATOS'!M308","v":0},{"$f":"'HOJA GENERAL DE DATOS'!N308","v":0},{"$f":"'HOJA GENERAL DE DATOS'!O308","v":0},{"$f":"'HOJA GENERAL DE DATOS'!P308","v":0}]
[124,{"$f":"CONCATENATE('HOJA GENERAL DE DATOS'!B309,'HOJA GENERAL DE DATOS'!C309,'HOJA GENERAL DE DATOS'!D309,'HOJA GENERAL DE DATOS'!E309)","v":"0000"},124,{"$f":"'HOJA GENERAL DE DATOS'!B309","v":0},{"$f":"'HOJA GENERAL DE DATOS'!C309","v":0},{"$f":"'HOJA GENERAL DE DATOS'!D309","v":0},{"$f":"'HOJA GENERAL DE DATOS'!E309","v":0},{"$f":"'HOJA GENERAL DE DATOS'!F309","v":0},{"$f":"'HOJA GENERAL DE DATOS'!G309","v":0},{"$f":"'HOJA GENERAL DE DATOS'!H309","v":0},{"$f":"'HOJA GENERAL DE DATOS'!I309","v":0},{"$f":"'HOJA GENERAL DE DATOS'!J309","v":0},{"$f":"'HOJA GENERAL DE DATOS'!K309","v":0},{"$f":"'HOJA GENERAL DE DATOS'!L309","v":0},{"$f":"'HOJA GENERAL DE DATOS'!M309","v":0},{"$f":"'HOJA GENERAL DE DATOS'!N309","v":0},{"$f":"'HOJA GENERAL DE DATOS'!O309","v":0},{"$f":"'HOJA GENERAL DE DATOS'!P309","v":0}]
[125,{"$f":"CONCATENATE('HOJA GENERAL DE DATOS'!B310,'HOJA GENERAL DE DATOS'!C310,'HOJA GENERAL DE DATOS'!D310,'HOJA GENERAL DE DATOS'!E310)","v":"0000"},125,{"$f":"'HOJA GENERAL DE DATOS'!B310","v":0},{"$f":"'HOJA GENERAL DE DATOS'!C310","v":0},{"$f":"'HOJA GENERAL DE DATOS'!D310","v":0},{"$f":"'HOJA GENERAL DE DATOS'!E310","v":0},{"$f":"'HOJA GENERAL DE DATOS'!F310","v":0},{"$f":"'HOJA GENERAL DE DATOS'!G310","v":0},{"$f":"'HOJA GENERAL DE DATOS'!H310","v":0},{"$f":"'HOJA GENERAL DE DATOS'!I310","v":0},{"$f":"'HOJA GENERAL DE DATOS'!J310","v":0},{"$f":"'HOJA GENERAL DE DATOS'!K310","v":0},{"$f":"'HOJA GENERAL DE DATOS'!L310","v":0},{"$f":"'HOJA GENERAL DE DATOS'!M310","v":0},{"$f":"'HOJA GENERAL DE DATOS'!N310","v":0},{"$f":"'HOJA GENERAL DE DATOS'!O310","v":0},{"$f":"'HOJA GENERAL DE DATOS'!P310","v":0}]
[126,{"$f":"CONCATENATE('HOJA GENERAL DE DATOS'!B311,'HOJA GENERAL DE DATOS'!C311,'HOJA GENERAL DE DATOS'!D311,'HOJA GENERAL DE DATOS'!E311)","v":"0000"},126,{"$f":"'HOJA GENERAL DE DATOS'!B311","v":0},{"$f":"'HOJA GENERAL DE DATOS'!C311","v":0},{"$f":"'HOJA GENERAL DE DATOS'!D311","v":0},{"$f":"'HOJA GENERAL DE DATOS'!E311","v":0},{"$f":"'HOJA GENERAL DE DATOS'!F311","v":0},{"$f":"'HOJA GENERAL DE DATOS'!G311","v":0},{"$f":"'HOJA GENERAL DE DATOS'!H311","v":0},{"$f":"'HOJA GENERAL DE DATOS'!I311","v":0},{"$f":"'HOJA GENERAL DE DATOS'!J311","v":0},{"$f":"'HOJA GENERAL DE DATOS'!K311","v":0},{"$f":"'HOJA GENERAL DE DATOS'!L311","v":0},{"$f":"'HOJA GENERAL DE DATOS'!M311","v":0},{"$f":"'HOJA GENERAL DE DATOS'!N311","v":0},{"$f":"'HOJA GENERAL DE DATOS'!O311","v":0},{"$f":"'HOJA GENERAL DE DATOS'!P311","v":0}]
[127,{"$f":"CONCATENATE('HOJA GENERAL DE DATOS'!B312,'HOJA GENERAL DE DATOS'!C312,'HOJA GENERAL DE DATOS'!D312,'HOJA GENERAL DE DATOS'!E312)","v":"0000"},127,{"$f":"'HOJA GENERAL DE DATOS'!B312","v":0},{"$f":"'HOJA GENERAL DE DATOS'!C312","v":0},{"$f":"'HOJA GENERAL DE DATOS'!D312","v":0},{"$f":"'HOJA GENERAL DE DATOS'!E312","v":0},{"$f":"'HOJA GENERAL DE DATOS'!F312","v":0},{"$f":"'HOJA GENERAL DE DATOS'!G312","v":0},{"$f":"'HOJA GENERAL DE DATOS'!H312","v":0},{"$f":"'HOJA GENERAL DE DATOS'!I312","v":0},{"$f":"'HOJA GENERAL DE DATOS'!J312","v":0},{"$f":"'HOJA GENERAL DE DATOS'!K312","v":0},{"$f":"'HOJA GENERAL DE DATOS'!L312","v":0},{"$f":"'HOJA GENERAL DE DATOS'!M312","v":0},{"$f":"'HOJA GENERAL DE DATOS'!N312","v":0},{"$f":"'HOJA GENERAL DE DATOS'!O312","v":0},{"$f":"'HOJA GENERAL DE DATOS'!P312","v":0}]
[128,{"$f":"CONCATENATE('HOJA GENERAL DE DATOS'!B313,'HOJA GENERAL DE DATOS'!C313,'HOJA GENERAL DE DATOS'!D313,'HOJA GENERAL DE DATOS'!E313)","v":"0000"},128,{"$f":"'HOJA GENERAL DE DATOS'!B313","v":0},{"$f":"'HOJA GENERAL DE DATOS'!C313","v":0},{"$f":"'HOJA GENERAL DE DATOS'!D313","v":0},{"$f":"'HOJA GENERAL DE DATOS'!E313","v":0},{"$f":"'HOJA GENERAL DE DATOS'!F313","v":0},{"$f":"'HOJA GENERAL DE DATOS'!G313","v":0},{"$f":"'HOJA GENERAL DE DATOS'!H313","v":0},{"$f":"'HOJA GENERAL DE DATOS'!I313","v":0},{"$f":"'HOJA GENERAL DE DATOS'!J313","v":0},{"$f":"'HOJA GENERAL DE DATOS'!K313","v":0},{"$f":"'HOJA GENERAL DE DATOS'!L313","v":0},{"$f":"'HOJA GENERAL DE DATOS'!M313","v":0},{"$f":"'HOJA GENERAL DE DATOS'!N313","v":0},{"$f":"'HOJA GENERAL DE DATOS'!O313","v":0},{"$f":"'HOJA GENERAL DE DATOS'!P313","v":0}]
[129,{"$f":"CONCATENATE('HOJA GENERAL DE DATOS'!B314,'HOJA GENERAL DE DATOS'!C314,'HOJA GENERAL DE DATOS'!D314,'HOJA GENERAL DE DATOS'!E314)","v":"0000"},129,{"$f":"'HOJA GENERAL DE DATOS'!B314","v":0},{"$f":"'HOJA GENERAL DE DATOS'!C314","v":0},{"$f":"'HOJA GENERAL DE DATOS'!D314","v":0},{"$f":"'HOJA GENERAL DE DATOS'!E314","v":0},{"$f":"'HOJA GENERAL DE DATOS'!F314","v":0},{"$f":"'HOJA GENERAL DE DATOS'!G314","v":0},{"$f":"'HOJA GENERAL DE DATOS'!H314","v":0},{"$f":"'HOJA GENERAL DE DATOS'!I314","v":0},{"$f":"'HOJA GENERAL DE DATOS'!J314","v":0},{"$f":"'HOJA GENERAL DE DATOS'!K314","v":0},{"$f":"'HOJA GENERAL DE DATOS'!L314","v":0},{"$f":"'HOJA GENERAL DE DATOS'!M314","v":0},{"$f":"'HOJA GENERAL DE DATOS'!N314","v":0},{"$f":"'HOJA GENERAL DE DATOS'!O314","v":0},{"$f":"'HOJA GENERAL DE DATOS'!P314","v":0}]
[130,{"$f":"CONCATENATE('HOJA GENERAL DE DATOS'!B315,'HOJA GENERAL DE DATOS'!C315,'HOJA GENERAL DE DATOS'!D315,'HOJA GENERAL DE DATOS'!E315)","v":"0000"},130,{"$f":"'HOJA GENERAL DE DATOS'!B315","v":0},{"$f":"'HOJA GENERAL DE DATOS'!C315","v":0},{"$f":"'HOJA GENERAL DE DATOS'!D315","v":0},{"$f":"'HOJA GENERAL DE DATOS'!E315","v":0},{"$f":"'HOJA GENERAL DE DATOS'!F315","v":0},{"$f":"'HOJA GENERAL DE DATOS'!G315","v":0},{"$f":"'HOJA GENERAL DE DATOS'!H315","v":0},{"$f":"'HOJA GENERAL DE DATOS'!I315","v":0},{"$f":"'HOJA GENERAL DE DATOS'!J315","v":0},{"$f":"'HOJA GENERAL DE DATOS'!K315","v":0},{"$f":"'HOJA GENERAL DE DATOS'!L315","v":0},{"$f":"'HOJA GENERAL DE DATOS'!M315","v":0},{"$f":"'HOJA GENERAL DE DATOS'!N315","v":0},{"$f":"'HOJA GENERAL DE DATOS'!O315","v":0},{"$f":"'HOJA GENERAL DE DATOS'!P315","v":0}]
[131,{"$f":"CONCATENATE('HOJA GENERAL DE DATOS'!B316,'HOJA GENERAL DE DATOS'!C316,'HOJA GENERAL DE DATOS'!D316,'HOJA GENERAL DE DATOS'!E316)","v":"0000"},131,{"$f":"'HOJA GENERAL DE DATOS'!B316","v":0},{"$f":"'HOJA GENERAL DE DATOS'!C316","v":0},{"$f":"'HOJA GENERAL DE DATOS'!D316","v":0},{"$f":"'HOJA GENERAL DE DATOS'!E316","v":0},{"$f":"'HOJA GENERAL DE DATOS'!F316","v":0},{"$f":"'HOJA GENERAL DE DATOS'!G316","v":0},{"$f":"'HOJA GENERAL DE DATOS'!H316","v":0},{"$f":"'HOJA GENERAL DE DATOS'!I316","v":0},{"$f":"'HOJA GENERAL DE DATOS'!J316","v":0},{"$f":"'HOJA GENERAL DE DATOS'!K316","v":0},{"$f":"'HOJA GENERAL DE DATOS'!L316","v":0},{"$f":"'HOJA GENERAL DE DATOS'!M316","v":0},{"$f":"'HOJA GENERAL DE DATOS'!N316","v":0},{"$f":"'HOJA GENERAL DE DATOS'!O316","v":0},{"$f":"'HOJA GENERAL DE DATOS'!P316","v":0}]
[132,{"$f":"CONCATENATE('HOJA GENERAL DE DATOS'!B317,'HOJA GENERAL DE DATOS'!C317,'HOJA GENERAL DE DATOS'!D317,'HOJA GENERAL DE DATOS'!E317)","v":"0000"},132,{"$f":"'HOJA GENERAL DE DATOS'!B317","v":0},{"$f":"'HOJA GENERAL DE DATOS'!C317","v":0},{"$f":"'HOJA GENERAL DE DATOS'!D317","v":0},{"$f":"'HOJA GENERAL DE DATOS'!E317","v":0},{"$f":"'HOJA GENERAL DE DATOS'!F317","v":0},{"$f":"'HOJA GENERAL DE DATOS'!G317","v":0},{"$f":"'HOJA GENERAL DE DATOS'!H317","v":0},{"$f":"'HOJA GENERAL DE DATOS'!I317","v":0},{"$f":"'HOJA GENERAL DE DATOS'!J317","v":0},{"$f":"'HOJA GENERAL DE DATOS'!K317","v":0},{"$f":"'HOJA GENERAL DE DATOS'!L317","v":0},{"$f":"'HOJA GENERAL DE DATOS'!M317","v":0},{"$f":"'HOJA GENERAL DE DATOS'!N317","v":0},{"$f":"'HOJA GENERAL DE DATOS'!O317","v":0},{"$f":"'HOJA GENERAL DE DATOS'!P317","v":0}]
[133,{"$f":"CONCATENATE('HOJA GENERAL DE DATOS'!B318,'HOJA GENERAL DE DATOS'!C318,'HOJA GENERAL DE DATOS'!D318,'HOJA GENERAL DE DATOS'!E318)","v":"0000"},133,{"$f":"'HOJA GENERAL DE DATOS'!B318","v":0},{"$f":"'HOJA GENERAL DE DATOS'!C318","v":0},{"$f":"'HOJA GENERAL DE DATOS'!D318","v":0},{"$f":"'HOJA GENERAL DE DATOS'!E318","v":0},{"$f":"'HOJA GENERAL DE DATOS'!F318","v":0},{"$f":"'HOJA GENERAL DE DATOS'!G318","v":0},{"$f":"'HOJA GENERAL DE DATOS'!H318","v":0},{"$f":"'HOJA GENERAL DE DATOS'!I318","v":0},{"$f":"'HOJA GENERAL DE DATOS'!J318","v":0},{"$f":"'HOJA GENERAL DE DATOS'!K318","v":0},{"$f":"'HOJA GENERAL DE DATOS'!L318","v":0},{"$f":"'HOJA GENERAL DE DATOS'!M318","v":0},{"$f":"'HOJA GENERAL DE DATOS'!N318","v":0},{"$f":"'HOJA GENERAL DE DATOS'!O318","v":0},{"$f":"'HOJA GENERAL DE DATOS'!P318","v":0}]
[]
[]
[null,null,null,null,"SEXO","RAZA","EPOCA","GRUPO","PESO entrada","Peso salida",null,null,null,null,null,null,null,"MACHOS","HEMBRAS","%MACHOS","%HEMBRAS","GMD","IC"]
["CALCULO LINEAL (ECUACIONES REGRESION)",null,null,null,{"$f":"'GEST IND TECN'!C12","v":0},{"$f":"'GEST IND TECN'!C15","v":0},{"$f":"'GEST IND TECN'!C16","v":0},null,{"$f":"'GEST IND TECN'!C18","v":0},{"$f":"'GEST IND TECN'!C19","v":0},null,{"$f":"E346","v":0},{"$f":"F346","v":0},{"$f":"G346","v":0},{"$f":"CONCATENATE(L346,M346,N346)","v":"000"},{"$f":"VLOOKUP(O346,A351:B377,2,FALSE)","v":{"$error":"#N/A"}},null,{"$f":"'GEST IND TECN'!C13","v":0},{"$f":"'GEST IND TECN'!C14","v":0},{"$f":"R346/(R346+S346)","v":{"$error":"#DIV/0!"}},{"$f":"1-T346","v":{"$error":"#DIV/0!"}},{"$f":"(T346*G351)+(G360*U346)","v":{"$error":"#DIV/0!"}},{"$f":"(T346*N351)+(U346*N360)","v":{"$error":"#DIV/0!"}}]
[]
[null,null,1,2,3,4,5,6,7,8,9,10,11,12,13,14,15]
[null,"COD","GMD ENTRADA 1","GMD ENTRADA 2","GMD SALIDA 1","GMD SALIDA 2","FC SEXO GMD","FC RAZA GMD","FC EPOCA GMD","IC ENTRADA 1","IC ENTRADA 2","IC SALIDA 1","IC SALIDA 2","FC SEXO IC","FC RAZA IC","FC EPOCA IC","Nº animales","FC MACHOSGMD","FC MACHIC","GMD Entrada","GMD salida","IC entrada","IC salida","GMD prov","GMD def","IC prov","IC def"]
[null,{"$f":"VLOOKUP($P346,$B$351:$P$377,C348,FALSE)","v":{"$error":"#N/A"}},{"$error":"#N/A"},{"$error":"#N/A"},{"$error":"#N/A"},{"$error":"#N/A"},{"$error":"#N/A"},{"$error":"#N/A"},{"$error":"#N/A"},{"$error":"#N/A"},{"$error":"#N/A"},{"$error":"#N/A"},{"$error":"#N/A"},{"$error":"#N/A"},{"$error":"#N/A"},{"$error":"#N/A"},{"$f":"'GEST IND TECN'!C13+'GEST IND TECN'!C14","v":0},{"$f":"IF('GEST IND TECN'!C12=\"MACHOS&HEMBRAS\",V346,1)","v":1},{"$f":"IF('GEST IND TECN'!C12=\"MACHOS&HEMBRAS\",W346,1)","v":1},{"$f":"(C350*I346)+D350","v":{"$error":"#N/A"}},{"$f":"(E350*J346)+F350","v":{"$error":"#N/A"}},{"$f":"(J350*I346)+K350","v":{"$error":"#N/A"}},{"$f":"(L350*J346)+M350","v":{"$error":"#N/A"}},{"$f":"((T350+U350)/2)","v":{"$error":"#N/A"}},{"$f":"X350*H350*I350*G350*R350","v":{"$error":"#N/A"}},{"$f":"(V350+W350)/2","v":{"$error":"#N/A"}},{"$f":"(Z350*O350*P350*N350*S350)","v":{"$error":"#N/A"}}]
["MACHOSCARNICO&CRUZADOINVIERNO",1,{"$f":"ECUACIONES!E46","v":8.0000000000000004E-4},{"$f":"ECUACIONES!F46","v":0.30909999999999999},{"$f":"ECUACIONES!G46","v":1.6000000000000001E-3},{"$f":"ECUACIONES!H46","v":0.28760000000000002},{"$f":"ECUACIONES!I46","v":1.0832918533266973},{"$f":"ECUACIONES!J46","v":1},{"$f":"ECUACIONES!K46","v":1},{"$f":"ECUACIONES!L46","v":0.1171},{"$f":"ECUACIONES!M46","v":0.98150000000000004},{"$f":"ECUACIONES!N46","v":0.10059999999999999},{"$f":"ECUACIONES!O46","v":0.66790000000000005},{"$f":"ECUACIONES!P46","v":0.97224360549912769},{"$f":"ECUACIONES!Q46","v":1},{"$f":"ECUACIONES!R46","v":1}]
["MACHOSCARNICO&CRUZADOVERANO",2,{"$f":"ECUACIONES!E47","v":8.0000000000000004E-4},{"$f":"ECUACIONES!F47","v":0.30909999999999999},{"$f":"ECUACIONES!G47","v":1.6000000000000001E-3},{"$f":"ECUACIONES!H47","v":0.28760000000000002},{"$f":"ECUACIONES!I47","v":1.0832918533266973},{"$f":"ECUACIONES!J47","v":1},{"$f":"ECUACIONES!K47","v":0.95972664339004998},{"$f":"ECUACIONES!L47","v":0.1171},{"$f":"ECUACIONES!M47","v":0.98150000000000004},{"$f":"ECUACIONES!N47","v":0.10059999999999999},{"$f":"ECUACIONES!O47","v":0.66790000000000005},{"$f":"ECUACIONES!P47","v":0.97224360549912769},{"$f":"ECUACIONES!Q47","v":1},{"$f":"ECUACIONES!R47","v":1.0066876899592145}]
["MACHOSCARNICO&CRUZADOINDEFINIDO",3,{"$f":"ECUACIONES!E48","v":8.0000000000000004E-4},{"$f":"ECUACIONES!F48","v":0.30909999999999999},{"$f":"ECUACIONES!G48","v":1.6000000000000001E-3},{"$f":"ECUACIONES!H48","v":0.28760000000000002},{"$f":"ECUACIONES!I48","v":1.0832918533266973},{"$f":"ECUACIONES!J48","v":1},{"$f":"ECUACIONES!K48","v":0.95972664339004998},{"$f":"ECUACIONES!L48","v":0.1171},{"$f":"ECUACIONES!M48","v":0.98150000000000004},{"$f":"ECUACIONES!N48","v":0.10059999999999999},{"$f":"ECUACIONES!O48","v":0.66790000000000005},{"$f":"ECUACIONES!P48","v":0.97224360549912769},{"$f":"ECUACIONES!Q48","v":1},{"$f":"ECUACIONES!R48","v":1.0066876899592145}]
["MACHOSENTREFINOINVIERNO",4,{"$f":"ECUACIONES!E49","v":8.0000000000000004E-4},{"$f":"ECUACIONES!F49","v":0.30909999999999999},{"$f":"ECUACIONES!G49","v":1.6000000000000001E-3},{"$f":"ECUACIONES!H49","v":0.28760000000000002},{"$f":"ECUACIONES!I49","v":1.0832918533266973},{"$f":"ECUACIONES!J49","v":0.93127018473154033},{"$f":"ECUACIONES!K49","v":1},{"$f":"ECUACIONES!L49","v":0.1171},{"$f":"ECUACIONES!M49","v":0.98150000000000004},{"$f":"ECUACIONES!N49","v":0.10059999999999999},{"$f":"ECUACIONES!O49","v":0.66790000000000005},{"$f":"ECUACIONES!P49","v":0.97224360549912769},{"$f":"ECUACIONES!Q49","v":1.0552396757682827},{"$f":"ECUACIONES!R49","v":1}]
["MACHOSENTREFINOVERANO",5,{"$f":"ECUACIONES!E50","v":8.0000000000000004E-4},{"$f":"ECUACIONES!F50","v":0.30909999999999999},{"$f":"ECUACIONES!G50","v":1.6000000000000001E-3},{"$f":"ECUACIONES!H50","v":0.28760000000000002},{"$f":"ECUACIONES!I50","v":1.0832918533266973},{"$f":"ECUACIONES!J50","v":0.93127018473154033},{"$f":"ECUACIONES!K50","v":0.95972664339004998},{"$f":"ECUACIONES!L50","v":0.1171},{"$f":"ECUACIONES!M50","v":0.98150000000000004},{"$f":"ECUACIONES!N50","v":0.10059999999999999},{"$f":"ECUACIONES!O50","v":0.66790000000000005},{"$f":"ECUACIONES!P50","v":0.97224360549912769},{"$f":"ECUACIONES!Q50","v":1.0552396757682827},{"$f":"ECUACIONES!R50","v":1.0066876899592145}]
["MACHOSENTREFINOINDEFINIDO",6,{"$f":"ECUACIONES!E51","v":8.0000000000000004E-4},{"$f":"ECUACIONES!F51","v":0.30909999999999999},{"$f":"ECUACIONES!G51","v":1.6000000000000001E-3},{"$f":"ECUACIONES!H51","v":0.28760000000000002},{"$f":"ECUACIONES!I51","v":1.0832918533266973},{"$f":"ECUACIONES!J51","v":0.93127018473154033},{"$f":"ECUACIONES!K51","v":0.95972664339004998},{"$f":"ECUACIONES!L51","v":0.1171},{"$f":"ECUACIONES!M51","v":0.98150000000000004},{"$f":"ECUACIONES!N51","v":0.10059999999999999},{"$f":"ECUACIONES!O51","v":0.66790000000000005},{"$f":"ECUACIONES!P51","v":0.97224360549912769},{"$f":"ECUACIONES!Q51","v":1.0552396757682827},{"$f":"ECUACIONES!R51","v":1.0066876899592145}]
["MACHOSINDEFINIDAINVIERNO",7,{"$f":"ECUACIONES!E52","v":8.0000000000000004E-4},{"$f":"ECUACIONES!F52","v":0.30909999999999999},{"$f":"ECUACIONES!G52","v":1.6000000000000001E-3},{"$f":"ECUACIONES!H52","v":0.28760000000000002},{"$f":"ECUACIONES!I52","v":1.0832918533266973},{"$f":"ECUACIONES!J52","v":0.93127018473154033},{"$f":"ECUACIONES!K52","v":1},{"$f":"ECUACIONES!L52","v":0.1171},{"$f":"ECUACIONES!M52","v":0.98150000000000004},{"$f":"ECUACIONES!N52","v":0.10059999999999999},{"$f":"ECUACIONES!O52","v":0.66790000000000005},{"$f":"ECUACIONES!P52","v":0.97224360549912769},{"$f":"ECUACIONES!Q52","v":1.0552396757682827},{"$f":"ECUACIONES!R52","v":1}]
["MACHOSINDEFINIDAVERANO",8,{"$f":"ECUACIONES!E53","v":8.0000000000000004E-4},{"$f":"ECUACIONES!F53","v":0.30909999999999999},{"$f":"ECUACIONES!G53","v":1.6000000000000001E-3},{"$f":"ECUACIONES!H53","v":0.28760000000000002},{"$f":"ECUACIONES!I53","v":1.0832918533266973},{"$f":"ECUACIONES!J53","v":0.93127018473154033},{"$f":"ECUACIONES!K53","v":0.95972664339004998},{"$f":"ECUACIONES!L53","v":0.1171},{"$f":"ECUACIONES!M53","v":0.98150000000000004},{"$f":"ECUACIONES!N53","v":0.10059999999999999},{"$f":"ECUACIONES!O53","v":0.66790000000000005},{"$f":"ECUACIONES!P53","v":0.97224360549912769},{"$f":"ECUACIONES!Q53","v":1.0552396757682827},{"$f":"ECUACIONES!R53","v":1.0066876899592145}]
["MACHOSINDEFINIDAINDEFINIDO",9,{"$f":"ECUACIONES!E54","v":8.0000000000000004E-4},{"$f":"ECUACIONES!F54","v":0.30909999999999999},{"$f":"ECUACIONES!G54","v":1.6000000000000001E-3},{"$f":"ECUACIONES!H54","v":0.28760000000000002},{"$f":"ECUACIONES!I54","v":1.0832918533266973},{"$f":"ECUACIONES!J54","v":0.93127018473154033},{"$f":"ECUACIONES!K54","v":0.95972664339004998},{"$f":"ECUACIONES!L54","v":0.1171},{"$f":"ECUACIONES!M54","v":0.98150000000000004},{"$f":"ECUACIONES!N54","v":0.10059999999999999},{"$f":"ECUACIONES!O54","v":0.66790000000000005},{"$f":"ECUACIONES!P54","v":0.97224360549912769},{"$f":"ECUACIONES!Q54","v":1.0552396757682827},{"$f":"ECUACIONES!R54","v":1.0066876899592145}]
["HEMBRASCARNICO&CRUZADOINVIERNO",10,{"$f":"ECUACIONES!E55","v":8.0000000000000004E-4},{"$f":"ECUACIONES!F55","v":0.30909999999999999},{"$f":"ECUACIONES!G55","v":1.6000000000000001E-3},{"$f":"ECUACIONES!H55","v":0.28760000000000002},{"$f":"ECUACIONES!I55","v":0.88442087485620791},{"$f":"ECUACIONES!J55","v":1.0738022288217812},{"$f":"ECUACIONES!K55","v":1},{"$f":"ECUACIONES!L55","v":0.1171},{"$f":"ECUACIONES!M55","v":0.98150000000000004},{"$f":"ECUACIONES!N55","v":0.10059999999999999},{"$f":"ECUACIONES!O55","v":0.66790000000000005},{"$f":"ECUACIONES!P55","v":1.1036991524105211},{"$f":"ECUACIONES!Q55","v":0.94765201021458512},{"$f":"ECUACIONES!R55","v":1}]
["HEMBRASCARNICO&CRUZADOVERANO",11,{"$f":"ECUACIONES!E56","v":8.0000000000000004E-4},{"$f":"ECUACIONES!F56","v":0.30909999999999999},{"$f":"ECUACIONES!G56","v":1.6000000000000001E-3},{"$f":"ECUACIONES!H56","v":0.28760000000000002},{"$f":"ECUACIONES!I56","v":0.88442087485620791},{"$f":"ECUACIONES!J56","v":1.0738022288217812},{"$f":"ECUACIONES!K56","v":0.95972664339004998},{"$f":"ECUACIONES!L56","v":0.1171},{"$f":"ECUACIONES!M56","v":0.98150000000000004},{"$f":"ECUACIONES!N56","v":0.10059999999999999},{"$f":"ECUACIONES!O56","v":0.66790000000000005},{"$f":"ECUACIONES!P56","v":1.1036991524105211},{"$f":"ECUACIONES!Q56","v":0.94765201021458512},{"$f":"ECUACIONES!R56","v":1.0066876899592145}]
["HEMBRASCARNICO&CRUZADOINDEFINIDO",12,{"$f":"ECUACIONES!E57","v":8.0000000000000004E-4},{"$f":"ECUACIONES!F57","v":0.30909999999999999},{"$f":"ECUACIONES!G57","v":1.6000000000000001E-3},{"$f":"ECUACIONES!H57","v":0.28760000000000002},{"$f":"ECUACIONES!I57","v":0.88442087485620791},{"$f":"ECUACIONES!J57","v":1.0738022288217812},{"$f":"ECUACIONES!K57","v":0.95972664339004998},{"$f":"ECUACIONES!L57","v":0.1171},{"$f":"ECUACIONES!M57","v":0.98150000000000004},{"$f":"ECUACIONES!N57","v":0.10059999999999999},{"$f":"ECUACIONES!O57","v":0.66790000000000005},{"$f":"ECUACIONES!P57","v":1.1036991524105211},{"$f":"ECUACIONES!Q57","v":0.94765201021458512},{"$f":"ECUACIONES!R57","v":1.0066876899592145}]
["HEMBRASENTREFINOINVIERNO",13,{"$f":"ECUACIONES!E58","v":8.0000000000000004E-4},{"$f":"ECUACIONES!F58","v":0.30909999999999999},{"$f":"ECUACIONES!G58","v":1.6000000000000001E-3},{"$f":"ECUACIONES!H58","v":0.28760000000000002},{"$f":"ECUACIONES!I58","v":0.88442087485620791},{"$f":"ECUACIONES!J58","v":1},{"$f":"ECUACIONES!K58","v":1},{"$f":"ECUACIONES!L58","v":0.1171},{"$f":"ECUACIONES!M58","v":0.98150000000000004},{"$f":"ECUACIONES!N58","v":0.10059999999999999},{"$f":"ECUACIONES!O58","v":0.66790000000000005},{"$f":"ECUACIONES!P58","v":1.1036991524105211},{"$f":"ECUACIONES!Q58","v":1},{"$f":"ECUACIONES!R58","v":1}]
["HEMBRASENTREFINOVERANO",14,{"$f":"ECUACIONES!E59","v":8.0000000000000004E-4},{"$f":"ECUACIONES!F59","v":0.30909999999999999},{"$f":"ECUACIONES!G59","v":1.6000000000000001E-3},{"$f":"ECUACIONES!H59","v":0.28760000000000002},{"$f":"ECUACIONES!I59","v":0.88442087485620791},{"$f":"ECUACIONES!J59","v":1},{"$f":"ECUACIONES!K59","v":0.95972664339004998},{"$f":"ECUACIONES!L59","v":0.1171},{"$f":"ECUACIONES!M59","v":0.98150000000000004},{"$f":"ECUACIONES!N59","v":0.10059999999999999},{"$f":"ECUACIONES!O59","v":0.66790000000000005},{"$f":"ECUACIONES!P59","v":1.1036991524105211},{"$f":"ECUACIONES!Q59","v":1},{"$f":"ECUACIONES!R59","v":1.0066876899592145}]
["HEMBRASENTREFINOINDEFINIDO",15,{"$f":"ECUACIONES!E60","v":8.0000000000000004E-4},{"$f":"ECUACIONES!F60","v":0.30909999999999999},{"$f":"ECUACIONES!G60","v":1.6000000000000001E-3},{"$f":"ECUACIONES!H60","v":0.28760000000000002},{"$f":"ECUACIONES!I60","v":0.88442087485620791},{"$f":"ECUACIONES!J60","v":1},{"$f":"ECUACIONES!K60","v":0.95972664339004998},{"$f":"ECUACIONES!L60","v":0.1171},{"$f":"ECUACIONES!M60","v":0.98150000000000004},{"$f":"ECUACIONES!N60","v":0.10059999999999999},{"$f":"ECUACIONES!O60","v":0.66790000000000005},{"$f":"ECUACIONES!P60","v":1.1036991524105211},{"$f":"ECUACIONES!Q60","v":1},{"$f":"ECUACIONES!R60","v":1.0066876899592145}]
["HEMBRASINDEFINIDAINVIERNO",16,{"$f":"ECUACIONES!E61","v":8.0000000000000004E-4},{"$f":"ECUACIONES!F61","v":0.30909999999999999},{"$f":"ECUACIONES!G61","v":1.6000000000000001E-3},{"$f":"ECUACIONES!H61","v":0.28760000000000002},{"$f":"ECUACIONES!I61","v":0.88442087485620791},{"$f":"ECUACIONES!J61","v":1},{"$f":"ECUACIONES!K61","v":1},{"$f":"ECUACIONES!L61","v":0.1171},{"$f":"ECUACIONES!M61","v":0.98150000000000004},{"$f":"ECUACIONES!N61","v":0.10059999999999999},{"$f":"ECUACIONES!O61","v":0.66790000000000005},{"$f":"ECUACIONES!P61","v":1.1036991524105211},{"$f":"ECUACIONES!Q61","v":1},{"$f":"ECUACIONES!R61","v":1}]
["HEMBRASINDEFINIDAVERANO",17,{"$f":"ECUACIONES!E62","v":8.0000000000000004E-4},{"$f":"ECUACIONES!F62","v":0.30909999999999999},{"$f":"ECUACIONES!G62","v":1.6000000000000001E-3},{"$f":"ECUACIONES!H62","v":0.28760000000000002},{"$f":"ECUACIONES!I62","v":0.88442087485620791},{"$f":"ECUACIONES!J62","v":1},{"$f":"ECUACIONES!K62","v":0.95972664339004998},{"$f":"ECUACIONES!L62","v":0.1171},{"$f":"ECUACIONES!M62","v":0.98150000000000004},{"$f":"ECUACIONES!N62","v":0.10059999999999999},{"$f":"ECUACIONES!O62","v":0.66790000000000005},{"$f":"ECUACIONES!P62","v":1.1036991524105211},{"$f":"ECUACIONES!Q62","v":1},{"$f":"ECUACIONES!R62","v":1.0066876899592145}]
["HEMBRASINDEFINIDAINDEFINIDO",18,{"$f":"ECUACIONES!E63","v":8.0000000000000004E-4},{"$f":"ECUACIONES!F63","v":0.30909999999999999},{"$f":"ECUACIONES!G63","v":1.6000000000000001E-3},{"$f":"ECUACIONES!H63","v":0.28760000000000002},{"$f":"ECUACIONES!I63","v":0.88442087485620791},{"$f":"ECUACIONES!J63","v":1},{"$f":"ECUACIONES!K63","v":0.95972664339004998},{"$f":"ECUACIONES!L63","v":0.1171},{"$f":"ECUACIONES!M63","v":0.98150000000000004},{"$f":"ECUACIONES!N63","v":0.10059999999999999},{"$f":"ECUACIONES!O63","v":0.66790000000000005},{"$f":"ECUACIONES!P63","v":1.1036991524105211},{"$f":"ECUACIONES!Q63","v":1},{"$f":"ECUACIONES!R63","v":1.0066876899592145}]
["MACHOS&HEMBRASCARNICO&CRUZADOINVIERNO",19,{"$f":"ECUACIONES!E64","v":8.0000000000000004E-4},{"$f":"ECUACIONES!F64","v":0.30909999999999999},{"$f":"ECUACIONES!G64","v":1.6000000000000001E-3},{"$f":"ECUACIONES!H64","v":0.28760000000000002},{"$f":"ECUACIONES!I64","v":1},{"$f":"ECUACIONES!J64","v":1},{"$f":"ECUACIONES!K64","v":1},{"$f":"ECUACIONES!L64","v":0.1171},{"$f":"ECUACIONES!M64","v":0.98150000000000004},{"$f":"ECUACIONES!N64","v":0.10059999999999999},{"$f":"ECUACIONES!O64","v":0.66790000000000005},{"$f":"ECUACIONES!P64","v":1},{"$f":"ECUACIONES!Q64","v":1},{"$f":"ECUACIONES!R64","v":1}]
["MACHOS&HEMBRASCARNICO&CRUZADOVERANO",20,{"$f":"ECUACIONES!E65","v":8.0000000000000004E-4},{"$f":"ECUACIONES!F65","v":0.30909999999999999},{"$f":"ECUACIONES!G65","v":1.6000000000000001E-3},{"$f":"ECUACIONES!H65","v":0.28760000000000002},{"$f":"ECUACIONES!I65","v":1},{"$f":"ECUACIONES!J65","v":1},{"$f":"ECUACIONES!K65","v":0.95972664339004998},{"$f":"ECUACIONES!L65","v":0.1171},{"$f":"ECUACIONES!M65","v":0.98150000000000004},{"$f":"ECUACIONES!N65","v":0.10059999999999999},{"$f":"ECUACIONES!O65","v":0.66790000000000005},{"$f":"ECUACIONES!P65","v":1},{"$f":"ECUACIONES!Q65","v":1},{"$f":"ECUACIONES!R65","v":1.0066876899592145}]
["MACHOS&HEMBRASCARNICO&CRUZADOINDEFINIDO",21,{"$f":"ECUACIONES!E66","v":8.0000000000000004E-4},{"$f":"ECUACIONES!F66","v":0.30909999999999999},{"$f":"ECUACIONES!G66","v":1.6000000000000001E-3},{"$f":"ECUACIONES!H66","v":0.28760000000000002},{"$f":"ECUACIONES!I66","v":1},{"$f":"ECUACIONES!J66","v":1},{"$f":"ECUACIONES!K66","v":0.95972664339004998},{"$f":"ECUACIONES!L66","v":0.1171},{"$f":"ECUACIONES!M66","v":0.98150000000000004},{"$f":"ECUACIONES!N66","v":0.10059999999999999},{"$f":"ECUACIONES!O66","v":0.66790000000000005},{"$f":"ECUACIONES!P66","v":1},{"$f":"ECUACIONES!Q66","v":1},{"$f":"ECUACIONES!R66","v":1.0066876899592145}]
["MACHOS&HEMBRASENTREFINOINVIERNO",22,{"$f":"ECUACIONES!E67","v":8.0000000000000004E-4},{"$f":"ECUACIONES!F67","v":0.30909999999999999},{"$f":"ECUACIONES!G67","v":1.6000000000000001E-3},{"$f":"ECUACIONES!H67","v":0.28760000000000002},{"$f":"ECUACIONES!I67","v":1},{"$f":"ECUACIONES!J67","v":0.93127018473154033},{"$f":"ECUACIONES!K67","v":1},{"$f":"ECUACIONES!L67","v":0.1171},{"$f":"ECUACIONES!M67","v":0.98150000000000004},{"$f":"ECUACIONES!N67","v":0.10059999999999999},{"$f":"ECUACIONES!O67","v":0.66790000000000005},{"$f":"ECUACIONES!P67","v":1},{"$f":"ECUACIONES!Q67","v":1.0552396757682827},{"$f":"ECUACIONES!R67","v":1}]
["MACHOS&HEMBRASENTREFINOVERANO",23,{"$f":"ECUACIONES!E68","v":8.0000000000000004E-4},{"$f":"ECUACIONES!F68","v":0.30909999999999999},{"$f":"ECUACIONES!G68","v":1.6000000000000001E-3},{"$f":"ECUACIONES!H68","v":0.28760000000000002},{"$f":"ECUACIONES!I68","v":1},{"$f":"ECUACIONES!J68","v":0.93127018473154033},{"$f":"ECUACIONES!K68","v":0.95972664339004998},{"$f":"ECUACIONES!L68","v":0.1171},{"$f":"ECUACIONES!M68","v":0.98150000000000004},{"$f":"ECUACIONES!N68","v":0.10059999999999999},{"$f":"ECUACIONES!O68","v":0.66790000000000005},{"$f":"ECUACIONES!P68","v":1},{"$f":"ECUACIONES!Q68","v":1.0552396757682827},{"$f":"ECUACIONES!R68","v":1.0066876899592145}]
["MACHOS&HEMBRASENTREFINOINDEFINIDO",24,{"$f":"ECUACIONES!E69","v":8.0000000000000004E-4},{"$f":"ECUACIONES!F69","v":0.30909999999999999},{"$f":"ECUACIONES!G69","v":1.6000000000000001E-3},{"$f":"ECUACIONES!H69","v":0.28760000000000002},{"$f":"ECUACIONES!I69","v":1},{"$f":"ECUACIONES!J69","v":0.93127018473154033},{"$f":"ECUACIONES!K69","v":0.95972664339004998},{"$f":"ECUACIONES!L69","v":0.1171},{"$f":"ECUACIONES!M69","v":0.98150000000000004},{"$f":"ECUACIONES!N69","v":0.10059999999999999},{"$f":"ECUACIONES!O69","v":0.66790000000000005},{"$f":"ECUACIONES!P69","v":1},{"$f":"ECUACIONES!Q69","v":1.0552396757682827},{"$f":"ECUACIONES!R69","v":1.0066876899592145}]
["MACHOS&HEMBRASINDEFINIDAINVIERNO",25,{"$f":"ECUACIONES!E70","v":8.0000000000000004E-4},{"$f":"ECUACIONES!F70","v":0.30909999999999999},{"$f":"ECUACIONES!G70","v":1.6000000000000001E-3},{"$f":"ECUACIONES!H70","v":0.28760000000000002},{"$f":"ECUACIONES!I70","v":1},{"$f":"ECUACIONES!J70","v":0.93127018473154033},{"$f":"ECUACIONES!K70","v":1},{"$f":"ECUACIONES!L70","v":0.1171},{"$f":"ECUACIONES!M70","v":0.98150000000000004},{"$f":"ECUACIONES!N70","v":0.10059999999999999},{"$f":"ECUACIONES!O70","v":0.66790000000000005},{"$f":"ECUACIONES!P70","v":1},{"$f":"ECUACIONES!Q70","v":1.0552396757682827},{"$f":"ECUACIONES!R70","v":1}]
["MACHOS&HEMBRASINDEFINIDAVERANO",26,{"$f":"ECUACIONES!E71","v":8.0000000000000004E-4},{"$f":"ECUACIONES!F71","v":0.30909999999999999},{"$f":"ECUACIONES!G71","v":1.6000000000000001E-3},{"$f":"ECUACIONES!H71","v":0.28760000000000002},{"$f":"ECUACIONES!I71","v":1},{"$f":"ECUACIONES!J71","v":0.93127018473154033},{"$f":"ECUACIONES!K71","v":0.95972664339004998},{"$f":"ECUACIONES!L71","v":0.1171},{"$f":"ECUACIONES!M71","v":0.98150000000000004},{"$f":"ECUACIONES!N71","v":0.10059999999999999},{"$f":"ECUACIONES!O71","v":0.66790000000000005},{"$f":"ECUACIONES!P71","v":1},{"$f":"ECUACIONES!Q71","v":1.0552396757682827},{"$f":"ECUACIONES!R71","v":1.0066876899592145}]
["MACHOS&HEMBRASINDEFINIDAINDEFINIDO",27,{"$f":"ECUACIONES!E72","v":8.0000000000000004E-4},{"$f":"ECUACIONES!F72","v":0.30909999999999999},{"$f":"ECUACIONES!G72","v":1.6000000000000001E-3},{"$f":"ECUACIONES!H72","v":0.28760000000000002},{"$f":"ECUACIONES!I72","v":1},{"$f":"ECUACIONES!J72","v":0.93127018473154033},{"$f":"ECUACIONES!K72","v":0.95972664339004998},{"$f":"ECUACIONES!L72","v":0.1171},{"$f":"ECUACIONES!M72","v":0.98150000000000004},{"$f":"ECUACIONES!N72","v":0.10059999999999999},{"$f":"ECUACIONES!O72","v":0.66790000000000005},{"$f":"ECUACIONES!P72","v":1},{"$f":"ECUACIONES!Q72","v":1.0552396757682827},{"$f":"ECUACIONES!R72","v":1.0066876899592145}]
[]
[]
[]
["ENERGIAS Y DESV ST DE LA BASE DE DATOS"]
[]
[null,null,null,null,"SEXO","RAZA","EPOCA","GRUPO","PESO entrada","Peso salida","PV MEDIO","PMETT",null,null,null,null,null,null,"MACHOS","HEMBRAS","%MACHOS","%HEMBRAS","GMD","IC"]
[null,null,null,null,{"$f":"'GEST CALC ENER'!C12","v":0},{"$f":"'GEST CALC ENER'!C15","v":0},{"$f":"'GEST CALC ENER'!C16","v":0},{"$f":"VLOOKUP(K384,$AA$210:$AB$232,2)","v":{"$error":"#N/A"}},{"$f":"'GEST CALC ENER'!C18","v":0},{"$f":"'GEST CALC ENER'!C19","v":0},{"$f":"(I384+J384)/2","v":0},{"$f":"POWER(K384,0.75)","v":0},{"$f":"E384","v":0},{"$f":"F384","v":0},{"$f":"G384","v":0},{"$f":"CONCATENATE(M384,N384,O384)","v":"000"},{"$f":"VLOOKUP($P384,A440:J466,2,FALSE)","v":{"$error":"#N/A"}},{"$f":"CONCATENATE(H384,E384,F384,G384)","v":{"$error":"#N/A"}},{"$f":"'GEST CALC ENER'!C13","v":0},{"$f":"'GEST CALC ENER'!C14","v":0},{"$f":"S384/(S384+T384)","v":{"$error":"#DIV/0!"}},{"$f":"1-U384","v":{"$error":"#DIV/0!"}},{"$f":"(U384*G351)+(G360*V384)","v":{"$error":"#DIV/0!"}},{"$f":"(U384*N351)+(V384*N360)","v":{"$error":"#DIV/0!"}}]
[]
[1,2,3,4,5,6,7,8,9]
[{"$f":"R384","v":{"$error":"#N/A"}},{"$f":"VLOOKUP($A387,$A$389:$I$437,B386,FALSE)","v":{"$error":"#N/A"}},{"$f":"VLOOKUP($A387,$A$389:$I$437,C386,FALSE)","v":{"$error":"#N/A"}},{"$error":"#N/A"},{"$error":"#N/A"},{"$error":"#N/A"},{"$error":"#N/A"},{"$error":"#N/A"},{"$error":"#N/A"}]
["CONCAT","GRUPO",{"$f":"'HOJA GENERAL DE DATOS'!B320","v":"SEXO"},{"$f":"'HOJA GENERAL DE DATOS'!C320","v":"RAZA"},{"$f":"'HOJA GENERAL DE DATOS'!D320","v":"EPOCA"},{"$f":"'HOJA GENERAL DE DATOS'!E320","v":"PromedioDeENERGIA (UFC2007)"},{"$f":"'HOJA GENERAL DE DATOS'!F320","v":"DesvEstDeENERGIA (UFC2007)"},{"$f":"'HOJA GENERAL DE DATOS'!G320","v":"CuentaDeNº REGISTRO PRUEBA"},{"$f":"'HOJA GENERAL DE DATOS'!H320","v":"SumaDeNº ANIMALES"}]
[{"$f":"CONCATENATE(B389,C389,D389,E389)","v":"2HEMBRASENTREFINOINVIERNO"},{"$f":"'[1]MODULO SALUD'!A284","v":2},{"$f":"'HOJA GENERAL DE DATOS'!B321","v":"HEMBRAS"},{"$f":"'HOJA GENERAL DE DATOS'!C321","v":"ENTREFINO"},{"$f":"'HOJA GENERAL DE DATOS'!D321","v":"INVIERNO"},{"$f":"'HOJA GENERAL DE DATOS'!E321","v":100.5},{"$f":"'HOJA GENERAL DE DATOS'!F321","v":0},{"$f":"'HOJA GENERAL DE DATOS'!G321","v":4},{"$f":"'HOJA GENERAL DE DATOS'!H321","v":321}]
[{"$f":"CONCATENATE(B390,C390,D390,E390)","v":"2MACHOSENTREFINOINVIERNO"},{"$f":"'[1]MODULO SALUD'!A285","v":2},{"$f":"'HOJA GENERAL DE DATOS'!B322","v":"MACHOS"},{"$f":"'HOJA GENERAL DE DATOS'!C322","v":"ENTREFINO"},{"$f":"'HOJA GENERAL DE DATOS'!D322","v":"INVIERNO"},{"$f":"'HOJA GENERAL DE DATOS'!E322","v":100.5},{"$f":"'HOJA GENERAL DE DATOS'!F322","v":0},{"$f":"'HOJA GENERAL DE DATOS'!G322","v":3},{"$f":"'HOJA GENERAL DE DATOS'!H322","v":227}]
["2MACHOS&HEMBRASCARNICO&CRUZADOINVIERNO",{"$f":"'[1]MODULO SALUD'!A286","v":2},{"$f":"'HOJA GENERAL DE DATOS'!B323","v":"MACHOS&HEMBRAS"},{"$f":"'HOJA GENERAL DE DATOS'!C323","v":"CARNICO&CRUZADO"},{"$f":"'HOJA GENERAL DE DATOS'!D323","v":"INVIERNO"},{"$f":"'HOJA GENERAL DE DATOS'!E323","v":100.318181818182},{"$f":"'HOJA GENERAL DE DATOS'!F323","v":0.40451991747794502},{"$f":"'HOJA GENERAL DE DATOS'!G323","v":26},{"$f":"'HOJA GENERAL DE DATOS'!H323","v":1479}]
["2MACHOS&HEMBRASCARNICO&CRUZADOVERANO",{"$f":"'[1]MODULO SALUD'!A287","v":2},{"$f":"'HOJA GENERAL DE DATOS'!B324","v":"MACHOS&HEMBRAS"},{"$f":"'HOJA GENERAL DE DATOS'!C324","v":"CARNICO&CRUZADO"},{"$f":"'HOJA GENERAL DE DATOS'!D324","v":"VERANO"},{"$f":"'HOJA GENERAL DE DATOS'!E324","v":100.5},{"$f":"'HOJA GENERAL DE DATOS'!F324","v":0},{"$f":"'HOJA GENERAL DE DATOS'!G324","v":5},{"$f":"'HOJA GENERAL DE DATOS'!H324","v":168}]
["2MACHOS&HEMBRASENTREFINOINDEFINIDO",{"$f":"'[1]MODULO SALUD'!A288","v":2},{"$f":"'HOJA GENERAL DE DATOS'!B325","v":"MACHOS&HEMBRAS"},{"$f":"'HOJA GENERAL DE DATOS'!C325","v":"ENTREFINO"},{"$f":"'HOJA GENERAL DE DATOS'!D325","v":"INDEFINIDO"},{"$f":"'HOJA GENERAL DE DATOS'!E325","v":0},{"$f":"'HOJA GENERAL DE DATOS'!F325","v":0},{"$f":"'HOJA GENERAL DE DATOS'!G325","v":1},{"$f":"'HOJA GENERAL DE DATOS'!H325","v":54}]
["2MACHOS&HEMBRASENTREFINOINVIERNO",{"$f":"'[1]MODULO SALUD'!A289","v":2},{"$f":"'HOJA GENERAL DE DATOS'!B326","v":"MACHOS&HEMBRAS"},{"$f":"'HOJA GENERAL DE DATOS'!C326","v":"ENTREFINO"},{"$f":"'HOJA GENERAL DE DATOS'!D326","v":"INVIERNO"},{"$f":"'HOJA GENERAL DE DATOS'!E326","v":100.166666666667},{"$f":"'HOJA GENERAL DE DATOS'!F326","v":0.57735026918962595},{"$f":"'HOJA GENERAL DE DATOS'!G326","v":3},{"$f":"'HOJA GENERAL DE DATOS'!H326","v":218}]
["2MACHOS&HEMBRASENTREFINOVERANO",{"$f":"'[1]MODULO SALUD'!A290","v":2},{"$f":"'HOJA GENERAL DE DATOS'!B327","v":"MACHOS&HEMBRAS"},{"$f":"'HOJA GENERAL DE DATOS'!C327","v":"ENTREFINO"},{"$f":"'HOJA GENERAL DE DATOS'!D327","v":"VERANO"},{"$f":"'HOJA GENERAL DE DATOS'!E327","v":100.5},{"$f":"'HOJA GENERAL DE DATOS'!F327","v":0},{"$f":"'HOJA GENERAL DE DATOS'!G327","v":2},{"$f":"'HOJA GENERAL DE DATOS'!H327","v":40}]
["3HEMBRASCARNICO&CRUZADOINVIERNO",{"$f":"'[1]MODULO SALUD'!A291","v":3},{"$f":"'HOJA GENERAL DE DATOS'!B328","v":"HEMBRAS"},{"$f":"'HOJA GENERAL DE DATOS'!C328","v":"CARNICO&CRUZADO"},{"$f":"'HOJA GENERAL DE DATOS'!D328","v":"INVIERNO"},{"$f":"'HOJA GENERAL DE DATOS'!E328","v":102.5},{"$f":"'HOJA GENERAL DE DATOS'!F328","v":0},{"$f":"'HOJA GENERAL DE DATOS'!G328","v":2},{"$f":"'HOJA GENERAL DE DATOS'!H328","v":40}]
["3HEMBRASENTREFINOINVIERNO",{"$f":"'[1]MODULO SALUD'!A292","v":3},{"$f":"'HOJA GENERAL DE DATOS'!B329","v":"HEMBRAS"},{"$f":"'HOJA GENERAL DE DATOS'!C329","v":"ENTREFINO"},{"$f":"'HOJA GENERAL DE DATOS'!D329","v":"INVIERNO"},{"$f":"'HOJA GENERAL DE DATOS'!E329","v":100.5},{"$f":"'HOJA GENERAL DE DATOS'!F329","v":0},{"$f":"'HOJA GENERAL DE DATOS'!G329","v":2},{"$f":"'HOJA GENERAL DE DATOS'!H329","v":78}]
["3HEMBRASENTREFINOVERANO",{"$f":"'[1]MODULO SALUD'!A293","v":3},{"$f":"'HOJA GENERAL DE DATOS'!B330","v":"HEMBRAS"},{"$f":"'HOJA GENERAL DE DATOS'!C330","v":"ENTREFINO"},{"$f":"'HOJA GENERAL DE DATOS'!D330","v":"VERANO"},{"$f":"'HOJA GENERAL DE DATOS'!E330","v":101.5},{"$f":"'HOJA GENERAL DE DATOS'!F330","v":0},{"$f":"'HOJA GENERAL DE DATOS'!G330","v":1},{"$f":"'HOJA GENERAL DE DATOS'!H330","v":20}]
["3MACHOSCARNICO&CRUZADOVERANO",{"$f":"'[1]MODULO SALUD'!A294","v":3},{"$f":"'HOJA GENERAL DE DATOS'!B331","v":"MACHOS"},{"$f":"'HOJA GENERAL DE DATOS'!C331","v":"CARNICO&CRUZADO"},{"$f":"'HOJA GENERAL DE DATOS'!D331","v":"VERANO"},{"$f":"'HOJA GENERAL DE DATOS'!E331","v":102.5},{"$f":"'HOJA GENERAL DE DATOS'!F331","v":0},{"$f":"'HOJA GENERAL DE DATOS'!G331","v":12},{"$f":"'HOJA GENERAL DE DATOS'!H331","v":290}]
["3MACHOSENTREFINOINVIERNO",{"$f":"'[1]MODULO SALUD'!A295","v":3},{"$f":"'HOJA GENERAL DE DATOS'!B332","v":"MACHOS"},{"$f":"'HOJA GENERAL DE DATOS'!C332","v":"ENTREFINO"},{"$f":"'HOJA GENERAL DE DATOS'!D332","v":"INVIERNO"},{"$f":"'HOJA GENERAL DE DATOS'!E332","v":100.5},{"$f":"'HOJA GENERAL DE DATOS'!F332","v":0},{"$f":"'HOJA GENERAL DE DATOS'!G332","v":3},{"$f":"'HOJA GENERAL DE DATOS'!H332","v":172}]
["3MACHOS&HEMBRASCARNICO&CRUZADOINVIERNO",{"$f":"'[1]MODULO SALUD'!A296","v":3},{"$f":"'HOJA GENERAL DE DATOS'!B333","v":"MACHOS&HEMBRAS"},{"$f":"'HOJA GENERAL DE DATOS'!C333","v":"CARNICO&CRUZADO"},{"$f":"'HOJA GENERAL DE DATOS'!D333","v":"INVIERNO"},{"$f":"'HOJA GENERAL DE DATOS'!E333","v":100.85},{"$f":"'HOJA GENERAL DE DATOS'!F333","v":1.7646214576755199},{"$f":"'HOJA GENERAL DE DATOS'!G333","v":39},{"$f":"'HOJA GENERAL DE DATOS'!H333","v":2155}]
["3MACHOS&HEMBRASCARNICO&CRUZADOVERANO",{"$f":"'[1]MODULO SALUD'!A297","v":3},{"$f":"'HOJA GENERAL DE DATOS'!B334","v":"MACHOS&HEMBRAS"},{"$f":"'HOJA GENERAL DE DATOS'!C334","v":"CARNICO&CRUZADO"},{"$f":"'HOJA GENERAL DE DATOS'!D334","v":"VERANO"},{"$f":"'HOJA GENERAL DE DATOS'!E334","v":100.5},{"$f":"'HOJA GENERAL DE DATOS'!F334","v":0},{"$f":"'HOJA GENERAL DE DATOS'!G334","v":6},{"$f":"'HOJA GENERAL DE DATOS'!H334","v":467}]
["3MACHOS&HEMBRASENTREFINOINDEFINIDO",{"$f":"'[1]MODULO SALUD'!A298","v":3},{"$f":"'HOJA GENERAL DE DATOS'!B335","v":"MACHOS&HEMBRAS"},{"$f":"'HOJA GENERAL DE DATOS'!C335","v":"ENTREFINO"},{"$f":"'HOJA GENERAL DE DATOS'!D335","v":"INDEFINIDO"},{"$f":"'HOJA GENERAL DE DATOS'!E335","v":100.5},{"$f":"'HOJA GENERAL DE DATOS'!F335","v":0},{"$f":"'HOJA GENERAL DE DATOS'!G335","v":2},{"$f":"'HOJA GENERAL DE DATOS'!H335","v":132}]
["3MACHOS&HEMBRASENTREFINOINVIERNO",{"$f":"'[1]MODULO SALUD'!A299","v":3},{"$f":"'HOJA GENERAL DE DATOS'!B336","v":"MACHOS&HEMBRAS"},{"$f":"'HOJA GENERAL DE DATOS'!C336","v":"ENTREFINO"},{"$f":"'HOJA GENERAL DE DATOS'!D336","v":"INVIERNO"},{"$f":"'HOJA GENERAL DE DATOS'!E336","v":100.3},{"$f":"'HOJA GENERAL DE DATOS'!F336","v":0.44721359549995798},{"$f":"'HOJA GENERAL DE DATOS'!G336","v":6},{"$f":"'HOJA GENERAL DE DATOS'!H336","v":244}]
["3MACHOS&HEMBRASENTREFINOVERANO",{"$f":"'[1]MODULO SALUD'!A300","v":3},{"$f":"'HOJA GENERAL DE DATOS'!B337","v":"MACHOS&HEMBRAS"},{"$f":"'HOJA GENERAL DE DATOS'!C337","v":"ENTREFINO"},{"$f":"'HOJA GENERAL DE DATOS'!D337","v":"VERANO"},{"$f":"'HOJA GENERAL DE DATOS'!E337","v":100.5},{"$f":"'HOJA GENERAL DE DATOS'!F337","v":0},{"$f":"'HOJA GENERAL DE DATOS'!G337","v":2},{"$f":"'HOJA GENERAL DE DATOS'!H337","v":74}]
["3MACHOS&HEMBRASINDEFINIDAINVIERNO",{"$f":"'[1]MODULO SALUD'!A301","v":3},{"$f":"'HOJA GENERAL DE DATOS'!B338","v":"MACHOS&HEMBRAS"},{"$f":"'HOJA GENERAL DE DATOS'!C338","v":"INDEFINIDA"},{"$f":"'HOJA GENERAL DE DATOS'!D338","v":"INVIERNO"},{"$f":"'HOJA GENERAL DE DATOS'!E338","v":99},{"$f":"'HOJA GENERAL DE DATOS'!F338","v":0},{"$f":"'HOJA GENERAL DE DATOS'!G338","v":1},{"$f":"'HOJA GENERAL DE DATOS'!H338","v":66}]
["4HEMBRASCARNICO&CRUZADOINVIERNO",{"$f":"'[1]MODULO SALUD'!A302","v":4},{"$f":"'HOJA GENERAL DE DATOS'!B339","v":"HEMBRAS"},{"$f":"'HOJA GENERAL DE DATOS'!C339","v":"CARNICO&CRUZADO"},{"$f":"'HOJA GENERAL DE DATOS'!D339","v":"INVIERNO"},{"$f":"'HOJA GENERAL DE DATOS'!E339","v":99.5},{"$f":"'HOJA GENERAL DE DATOS'!F339","v":0},{"$f":"'HOJA GENERAL DE DATOS'!G339","v":2},{"$f":"'HOJA GENERAL DE DATOS'!H339","v":160}]
["4HEMBRASCARNICO&CRUZADOVERANO",{"$f":"'[1]MODULO SALUD'!A303","v":4},{"$f":"'HOJA GENERAL DE DATOS'!B340","v":"HEMBRAS"},{"$f":"'HOJA GENERAL DE DATOS'!C340","v":"CARNICO&CRUZADO"},{"$f":"'HOJA GENERAL DE DATOS'!D340","v":"VERANO"},{"$f":"'HOJA GENERAL DE DATOS'!E340","v":99.5},{"$f":"'HOJA GENERAL DE DATOS'!F340","v":0},{"$f":"'HOJA GENERAL DE DATOS'!G340","v":1},{"$f":"'HOJA GENERAL DE DATOS'!H340","v":110}]
["4HEMBRASENTREFINOINVIERNO",{"$f":"'[1]MODULO SALUD'!A304","v":4},{"$f":"'HOJA GENERAL DE DATOS'!B341","v":"HEMBRAS"},{"$f":"'HOJA GENERAL DE DATOS'!C341","v":"ENTREFINO"},{"$f":"'HOJA GENERAL DE DATOS'!D341","v":"INVIERNO"},{"$f":"'HOJA GENERAL DE DATOS'!E341","v":99.3},{"$f":"'HOJA GENERAL DE DATOS'!F341","v":2.4126263886782701E-6},{"$f":"'HOJA GENERAL DE DATOS'!G341","v":16},{"$f":"'HOJA GENERAL DE DATOS'!H341","v":160}]
["4HEMBRASENTREFINOVERANO",{"$f":"'[1]MODULO SALUD'!A305","v":4},{"$f":"'HOJA GENERAL DE DATOS'!B342","v":"HEMBRAS"},{"$f":"'HOJA GENERAL DE DATOS'!C342","v":"ENTREFINO"},{"$f":"'HOJA GENERAL DE DATOS'!D342","v":"VERANO"},{"$f":"'HOJA GENERAL DE DATOS'!E342","v":101.5},{"$f":"'HOJA GENERAL DE DATOS'!F342","v":0},{"$f":"'HOJA GENERAL DE DATOS'!G342","v":2},{"$f":"'HOJA GENERAL DE DATOS'!H342","v":40}]
["4MACHOSCARNICO&CRUZADOVERANO",{"$f":"'[1]MODULO SALUD'!A306","v":4},{"$f":"'HOJA GENERAL DE DATOS'!B343","v":"MACHOS"},{"$f":"'HOJA GENERAL DE DATOS'!C343","v":"CARNICO&CRUZADO"},{"$f":"'HOJA GENERAL DE DATOS'!D343","v":"VERANO"},{"$f":"'HOJA GENERAL DE DATOS'!E343","v":100.08064516128999},{"$f":"'HOJA GENERAL DE DATOS'!F343","v":0.44901325506693701},{"$f":"'HOJA GENERAL DE DATOS'!G343","v":31},{"$f":"'HOJA GENERAL DE DATOS'!H343","v":250}]
["4MACHOSENTREFINOVERANO",{"$f":"'[1]MODULO SALUD'!A307","v":4},{"$f":"'HOJA GENERAL DE DATOS'!B344","v":"MACHOS"},{"$f":"'HOJA GENERAL DE DATOS'!C344","v":"ENTREFINO"},{"$f":"'HOJA GENERAL DE DATOS'!D344","v":"VERANO"},{"$f":"'HOJA GENERAL DE DATOS'!E344","v":101.5},{"$f":"'HOJA GENERAL DE DATOS'!F344","v":0},{"$f":"'HOJA GENERAL DE DATOS'!G344","v":3},{"$f":"'HOJA GENERAL DE DATOS'!H344","v":60}]
["4MACHOS&HEMBRASCARNICO&CRUZADOINVIERNO",{"$f":"'[1]MODULO SALUD'!A308","v":4},{"$f":"'HOJA GENERAL DE DATOS'!B345","v":"MACHOS&HEMBRAS"},{"$f":"'HOJA GENERAL DE DATOS'!C345","v":"CARNICO&CRUZADO"},{"$f":"'HOJA GENERAL DE DATOS'!D345","v":"INVIERNO"},{"$f":"'HOJA GENERAL DE DATOS'!E345","v":99.5833333333333},{"$f":"'HOJA GENERAL DE DATOS'!F345","v":0.73598007219398698},{"$f":"'HOJA GENERAL DE DATOS'!G345","v":10},{"$f":"'HOJA GENERAL DE DATOS'!H345","v":690}]
["4MACHOS&HEMBRASCARNICO&CRUZADOVERANO",{"$f":"'[1]MODULO SALUD'!A309","v":4},{"$f":"'HOJA GENERAL DE DATOS'!B346","v":"MACHOS&HEMBRAS"},{"$f":"'HOJA GENERAL DE DATOS'!C346","v":"CARNICO&CRUZADO"},{"$f":"'HOJA GENERAL DE DATOS'!D346","v":"VERANO"},{"$f":"'HOJA GENERAL DE DATOS'!E346","v":99.5},{"$f":"'HOJA GENERAL DE DATOS'!F346","v":0},{"$f":"'HOJA GENERAL DE DATOS'!G346","v":4},{"$f":"'HOJA GENERAL DE DATOS'!H346","v":357}]
["4MACHOS&HEMBRASENTREFINOINVIERNO",{"$f":"'[1]MODULO SALUD'!A310","v":4},{"$f":"'HOJA GENERAL DE DATOS'!B347","v":"MACHOS&HEMBRAS"},{"$f":"'HOJA GENERAL DE DATOS'!C347","v":"ENTREFINO"},{"$f":"'HOJA GENERAL DE DATOS'!D347","v":"INVIERNO"},{"$f":"'HOJA GENERAL DE DATOS'!E347","v":0},{"$f":"'HOJA GENERAL DE DATOS'!F347","v":0},{"$f":"'HOJA GENERAL DE DATOS'!G347","v":4},{"$f":"'HOJA GENERAL DE DATOS'!H347","v":200}]
["4MACHOS&HEMBRASENTREFINOVERANO",{"$f":"'[1]MODULO SALUD'!A311","v":4},{"$f":"'HOJA GENERAL DE DATOS'!B348","v":"MACHOS&HEMBRAS"},{"$f":"'HOJA GENERAL DE DATOS'!C348","v":"ENTREFINO"},{"$f":"'HOJA GENERAL DE DATOS'!D348","v":"VERANO"},{"$f":"'HOJA GENERAL DE DATOS'!E348","v":101.42307692307701},{"$f":"'HOJA GENERAL DE DATOS'!F348","v":0.27735009811261502},{"$f":"'HOJA GENERAL DE DATOS'!G348","v":17},{"$f":"'HOJA GENERAL DE DATOS'!H348","v":382}]
["4MACHOS&HEMBRASINDEFINIDAINVIERNO",{"$f":"'[1]MODULO SALUD'!A312","v":4},{"$f":"'HOJA GENERAL DE DATOS'!B349","v":"MACHOS&HEMBRAS"},{"$f":"'HOJA GENERAL DE DATOS'!C349","v":"INDEFINIDA"},{"$f":"'HOJA GENERAL DE DATOS'!D349","v":"INVIERNO"},{"$f":"'HOJA GENERAL DE DATOS'!E349","v":99},{"$f":"'HOJA GENERAL DE DATOS'!F349","v":0},{"$f":"'HOJA GENERAL DE DATOS'!G349","v":1},{"$f":"'HOJA GENERAL DE DATOS'!H349","v":66}]
["5HEMBRASCARNICO&CRUZADOVERANO",{"$f":"'[1]MODULO SALUD'!A313","v":5},{"$f":"'HOJA GENERAL DE DATOS'!B350","v":"HEMBRAS"},{"$f":"'HOJA GENERAL DE DATOS'!C350","v":"CARNICO&CRUZADO"},{"$f":"'HOJA GENERAL DE DATOS'!D350","v":"VERANO"},{"$f":"'HOJA GENERAL DE DATOS'!E350","v":99.5},{"$f":"'HOJA GENERAL DE DATOS'!F350","v":0},{"$f":"'HOJA GENERAL DE DATOS'!G350","v":3},{"$f":"'HOJA GENERAL DE DATOS'!H350","v":60}]
["5HEMBRASENTREFINOINVIERNO",{"$f":"'[1]MODULO SALUD'!A314","v":5},{"$f":"'HOJA GENERAL DE DATOS'!B351","v":"HEMBRAS"},{"$f":"'HOJA GENERAL DE DATOS'!C351","v":"ENTREFINO"},{"$f":"'HOJA GENERAL DE DATOS'!D351","v":"INVIERNO"},{"$f":"'HOJA GENERAL DE DATOS'!E351","v":99.3},{"$f":"'HOJA GENERAL DE DATOS'!F351","v":0},{"$f":"'HOJA GENERAL DE DATOS'!G351","v":2},{"$f":"'HOJA GENERAL DE DATOS'!H351","v":20}]
["5HEMBRASENTREFINOVERANO",{"$f":"'[1]MODULO SALUD'!A315","v":5},{"$f":"'HOJA GENERAL DE DATOS'!B352","v":"HEMBRAS"},{"$f":"'HOJA GENERAL DE DATOS'!C352","v":"ENTREFINO"},{"$f":"'HOJA GENERAL DE DATOS'!D352","v":"VERANO"},{"$f":"'HOJA GENERAL DE DATOS'!E352","v":101.5},{"$f":"'HOJA GENERAL DE DATOS'!F352","v":0},{"$f":"'HOJA GENERAL DE DATOS'!G352","v":2},{"$f":"'HOJA GENERAL DE DATOS'!H352","v":120}]
["5MACHOSCARNICO&CRUZADOINVIERNO",{"$f":"'[1]MODULO SALUD'!A316","v":5},{"$f":"'HOJA GENERAL DE DATOS'!B353","v":"MACHOS"},{"$f":"'HOJA GENERAL DE DATOS'!C353","v":"CARNICO&CRUZADO"},{"$f":"'HOJA GENERAL DE DATOS'!D353","v":"INVIERNO"},{"$f":"'HOJA GENERAL DE DATOS'!E353","v":100.5},{"$f":"'HOJA GENERAL DE DATOS'!F353","v":1.8027756377319899},{"$f":"'HOJA GENERAL DE DATOS'!G353","v":4},{"$f":"'HOJA GENERAL DE DATOS'!H353","v":300}]
["5MACHOSCARNICO&CRUZADOVERANO",{"$f":"'[1]MODULO SALUD'!A317","v":5},{"$f":"'HOJA GENERAL DE DATOS'!B354","v":"MACHOS"},{"$f":"'HOJA GENERAL DE DATOS'!C354","v":"CARNICO&CRUZADO"},{"$f":"'HOJA GENERAL DE DATOS'!D354","v":"VERANO"},{"$f":"'HOJA GENERAL DE DATOS'!E354","v":99.983870967741893},{"$f":"'HOJA GENERAL DE DATOS'!F354","v":8.9802651013387497E-2},{"$f":"'HOJA GENERAL DE DATOS'!G354","v":31},{"$f":"'HOJA GENERAL DE DATOS'!H354","v":350}]
["5MACHOSENTREFINOINVIERNO",{"$f":"'[1]MODULO SALUD'!A318","v":5},{"$f":"'HOJA GENERAL DE DATOS'!B355","v":"MACHOS"},{"$f":"'HOJA GENERAL DE DATOS'!C355","v":"ENTREFINO"},{"$f":"'HOJA GENERAL DE DATOS'!D355","v":"INVIERNO"},{"$f":"'HOJA GENERAL DE DATOS'!E355","v":99.014285714285805},{"$f":"'HOJA GENERAL DE DATOS'!F355","v":0.25043516130867},{"$f":"'HOJA GENERAL DE DATOS'!G355","v":42},{"$f":"'HOJA GENERAL DE DATOS'!H355","v":365}]
["5MACHOSENTREFINOVERANO",{"$f":"'[1]MODULO SALUD'!A319","v":5},{"$f":"'HOJA GENERAL DE DATOS'!B356","v":"MACHOS"},{"$f":"'HOJA GENERAL DE DATOS'!C356","v":"ENTREFINO"},{"$f":"'HOJA GENERAL DE DATOS'!D356","v":"VERANO"},{"$f":"'HOJA GENERAL DE DATOS'!E356","v":98.8},{"$f":"'HOJA GENERAL DE DATOS'!F356","v":2.6562142327224399E-6},{"$f":"'HOJA GENERAL DE DATOS'!G356","v":12},{"$f":"'HOJA GENERAL DE DATOS'!H356","v":96}]
["5MACHOS&HEMBRASCARNICO&CRUZADOINVIERNO",{"$f":"'[1]MODULO SALUD'!A320","v":5},{"$f":"'HOJA GENERAL DE DATOS'!B357","v":"MACHOS&HEMBRAS"},{"$f":"'HOJA GENERAL DE DATOS'!C357","v":"CARNICO&CRUZADO"},{"$f":"'HOJA GENERAL DE DATOS'!D357","v":"INVIERNO"},{"$f":"'HOJA GENERAL DE DATOS'!E357","v":103.5},{"$f":"'HOJA GENERAL DE DATOS'!F357","v":0},{"$f":"'HOJA GENERAL DE DATOS'!G357","v":1},{"$f":"'HOJA GENERAL DE DATOS'!H357","v":165}]
["5MACHOS&HEMBRASCARNICO&CRUZADOVERANO",{"$f":"'[1]MODULO SALUD'!A321","v":5},{"$f":"'HOJA GENERAL DE DATOS'!B358","v":"MACHOS&HEMBRAS"},{"$f":"'HOJA GENERAL DE DATOS'!C358","v":"CARNICO&CRUZADO"},{"$f":"'HOJA GENERAL DE DATOS'!D358","v":"VERANO"},{"$f":"'HOJA GENERAL DE DATOS'!E358","v":99.5},{"$f":"'HOJA GENERAL DE DATOS'!F358","v":0},{"$f":"'HOJA GENERAL DE DATOS'!G358","v":2},{"$f":"'HOJA GENERAL DE DATOS'!H358","v":200}]
["5MACHOS&HEMBRASENTREFINOVERANO",{"$f":"'[1]MODULO SALUD'!A322","v":5},{"$f":"'HOJA GENERAL DE DATOS'!B359","v":"MACHOS&HEMBRAS"},{"$f":"'HOJA GENERAL DE DATOS'!C359","v":"ENTREFINO"},{"$f":"'HOJA GENERAL DE DATOS'!D359","v":"VERANO"},{"$f":"'HOJA GENERAL DE DATOS'!E359","v":101.5},{"$f":"'HOJA GENERAL DE DATOS'!F359","v":0},{"$f":"'HOJA GENERAL DE DATOS'!G359","v":4},{"$f":"'HOJA GENERAL DE DATOS'!H359","v":80}]
["6MACHOSCARNICO&CRUZADOINVIERNO",{"$f":"'[1]MODULO SALUD'!A323","v":6},{"$f":"'HOJA GENERAL DE DATOS'!B360","v":"MACHOS"},{"$f":"'HOJA GENERAL DE DATOS'!C360","v":"CARNICO&CRUZADO"},{"$f":"'HOJA GENERAL DE DATOS'!D360","v":"INVIERNO"},{"$f":"'HOJA GENERAL DE DATOS'!E360","v":103},{"$f":"'HOJA GENERAL DE DATOS'!F360","v":0},{"$f":"'HOJA GENERAL DE DATOS'!G360","v":1},{"$f":"'HOJA GENERAL DE DATOS'!H360","v":1733}]
["6MACHOSCARNICO&CRUZADOVERANO",{"$f":"'[1]MODULO SALUD'!A324","v":6},{"$f":"'HOJA GENERAL DE DATOS'!B361","v":"MACHOS"},{"$f":"'HOJA GENERAL DE DATOS'!C361","v":"CARNICO&CRUZADO"},{"$f":"'HOJA GENERAL DE DATOS'!D361","v":"VERANO"},{"$f":"'HOJA GENERAL DE DATOS'!E361","v":97.9166666666667},{"$f":"'HOJA GENERAL DE DATOS'!F361","v":2.3540744819709198},{"$f":"'HOJA GENERAL DE DATOS'!G361","v":7},{"$f":"'HOJA GENERAL DE DATOS'!H361","v":554}]
["6MACHOSENTREFINOVERANO",{"$f":"'[1]MODULO SALUD'!A325","v":6},{"$f":"'HOJA GENERAL DE DATOS'!B362","v":"MACHOS"},{"$f":"'HOJA GENERAL DE DATOS'!C362","v":"ENTREFINO"},{"$f":"'HOJA GENERAL DE DATOS'!D362","v":"VERANO"},{"$f":"'HOJA GENERAL DE DATOS'!E362","v":101.5},{"$f":"'HOJA GENERAL DE DATOS'!F362","v":0},{"$f":"'HOJA GENERAL DE DATOS'!G362","v":2},{"$f":"'HOJA GENERAL DE DATOS'!H362","v":120}]
["6MACHOS&HEMBRASCARNICO&CRUZADOINVIERNO",{"$f":"'[1]MODULO SALUD'!A326","v":6},{"$f":"'HOJA GENERAL DE DATOS'!B363","v":"MACHOS&HEMBRAS"},{"$f":"'HOJA GENERAL DE DATOS'!C363","v":"CARNICO&CRUZADO"},{"$f":"'HOJA GENERAL DE DATOS'!D363","v":"INVIERNO"},{"$f":"'HOJA GENERAL DE DATOS'!E363","v":0},{"$f":"'HOJA GENERAL DE DATOS'!F363","v":0},{"$f":"'HOJA GENERAL DE DATOS'!G363","v":2},{"$f":"'HOJA GENERAL DE DATOS'!H363","v":620}]
["7MACHOSCARNICO&CRUZADOINVIERNO",{"$f":"'[1]MODULO SALUD'!A327","v":7},{"$f":"'HOJA GENERAL DE DATOS'!B364","v":"MACHOS"},{"$f":"'HOJA GENERAL DE DATOS'!C364","v":"CARNICO&CRUZADO"},{"$f":"'HOJA GENERAL DE DATOS'!D364","v":"INVIERNO"},{"$f":"'HOJA GENERAL DE DATOS'!E364","v":96.431250000000006},{"$f":"'HOJA GENERAL DE DATOS'!F364","v":3.0444964006111901},{"$f":"'HOJA GENERAL DE DATOS'!G364","v":20},{"$f":"'HOJA GENERAL DE DATOS'!H364","v":2004}]
["7MACHOSCARNICO&CRUZADOVERANO",{"$f":"'[1]MODULO SALUD'!A328","v":7},{"$f":"'HOJA GENERAL DE DATOS'!B365","v":"MACHOS"},{"$f":"'HOJA GENERAL DE DATOS'!C365","v":"CARNICO&CRUZADO"},{"$f":"'HOJA GENERAL DE DATOS'!D365","v":"VERANO"},{"$f":"'HOJA GENERAL DE DATOS'!E365","v":101.5},{"$f":"'HOJA GENERAL DE DATOS'!F365","v":0},{"$f":"'HOJA GENERAL DE DATOS'!G365","v":1},{"$f":"'HOJA GENERAL DE DATOS'!H365","v":70}]
["8MACHOSCARNICO&CRUZADOINVIERNO",{"$f":"'[1]MODULO SALUD'!A329","v":8},{"$f":"'HOJA GENERAL DE DATOS'!B366","v":"MACHOS"},{"$f":"'HOJA GENERAL DE DATOS'!C366","v":"CARNICO&CRUZADO"},{"$f":"'HOJA GENERAL DE DATOS'!D366","v":"INVIERNO"},{"$f":"'HOJA GENERAL DE DATOS'!E366","v":92.5},{"$f":"'HOJA GENERAL DE DATOS'!F366","v":0.70710678118654802},{"$f":"'HOJA GENERAL DE DATOS'!G366","v":3},{"$f":"'HOJA GENERAL DE DATOS'!H366","v":320}]
["9MACHOSCARNICO&CRUZADOINVIERNO",{"$f":"'[1]MODULO SALUD'!A330","v":9},{"$f":"'HOJA GENERAL DE DATOS'!B367","v":"MACHOS"},{"$f":"'HOJA GENERAL DE DATOS'!C367","v":"CARNICO&CRUZADO"},{"$f":"'HOJA GENERAL DE DATOS'!D367","v":"INVIERNO"},{"$f":"'HOJA GENERAL DE DATOS'!E367","v":97},{"$f":"'HOJA GENERAL DE DATOS'!F367","v":0},{"$f":"'HOJA GENERAL DE DATOS'!G367","v":2},{"$f":"'HOJA GENERAL DE DATOS'!H367","v":260}]
["0000",{"$f":"'[1]MODULO SALUD'!A331","v":0},{"$f":"'HOJA GENERAL DE DATOS'!B368","v":0},{"$f":"'HOJA GENERAL DE DATOS'!C368","v":0},{"$f":"'HOJA GENERAL DE DATOS'!D368","v":0},{"$f":"'HOJA GENERAL DE DATOS'!E368","v":0},{"$f":"'HOJA GENERAL DE DATOS'!F368","v":0},{"$f":"'HOJA GENERAL DE DATOS'!G368","v":0},{"$f":"'HOJA GENERAL DE DATOS'!H368","v":0}]
["0000",{"$f":"'[1]MODULO SALUD'!A332","v":0},{"$f":"'HOJA GENERAL DE DATOS'!B369","v":0},{"$f":"'HOJA GENERAL DE DATOS'!C369","v":0},{"$f":"'HOJA GENERAL DE DATOS'!D369","v":0},{"$f":"'HOJA GENERAL DE DATOS'!E369","v":0},{"$f":"'HOJA GENERAL DE DATOS'!F369","v":0},{"$f":"'HOJA GENERAL DE DATOS'!G369","v":0},{"$f":"'HOJA GENERAL DE DATOS'!H369","v":0}]
[]
[null,"COD","%GRASA 1","%GRASA 2","%PROTEINA","F.CORR.SEXO","MANT 1","CREC GRASA","CREC PROT","KCAL A UFV","FACTOR COOR EPOCA","FACTOR RECOM"]
["MACHOSCARNICO&CRUZADOINVIERNO",1,{"$f":"ECUACIONES!E76","v":1.04E-2},{"$f":"ECUACIONES!F76","v":6.2E-2},{"$f":"ECUACIONES!G76","v":0.15},{"$f":"ECUACIONES!H76","v":1},{"$f":"ECUACIONES!I76","v":74},{"$f":"ECUACIONES!J76","v":9.5},{"$f":"ECUACIONES!K76","v":5.7},{"$f":"ECUACIONES!L76","v":1820},{"$f":"ECUACIONES!M76","v":1.03},{"$f":"ECUACIONES!N76","v":1}]
["MACHOSCARNICO&CRUZADOVERANO",2,{"$f":"ECUACIONES!E77","v":1.04E-2},{"$f":"ECUACIONES!F77","v":6.2E-2},{"$f":"ECUACIONES!G77","v":0.15},{"$f":"ECUACIONES!H77","v":1},{"$f":"ECUACIONES!I77","v":74},{"$f":"ECUACIONES!J77","v":9.5},{"$f":"ECUACIONES!K77","v":5.7},{"$f":"ECUACIONES!L77","v":1820},{"$f":"ECUACIONES!M77","v":1.05},{"$f":"ECUACIONES!N77","v":1}]
["MACHOSCARNICO&CRUZADOINDEFINIDO",3,{"$f":"ECUACIONES!E78","v":1.04E-2},{"$f":"ECUACIONES!F78","v":6.2E-2},{"$f":"ECUACIONES!G78","v":0.15},{"$f":"ECUACIONES!H78","v":1},{"$f":"ECUACIONES!I78","v":74},{"$f":"ECUACIONES!J78","v":9.5},{"$f":"ECUACIONES!K78","v":5.7},{"$f":"ECUACIONES!L78","v":1820},{"$f":"ECUACIONES!M78","v":1.01},{"$f":"ECUACIONES!N78","v":1}]
["MACHOSENTREFINOINVIERNO",4,{"$f":"ECUACIONES!E79","v":9.5999999999999992E-3},{"$f":"ECUACIONES!F79","v":3.7999999999999999E-2},{"$f":"ECUACIONES!G79","v":0.15},{"$f":"ECUACIONES!H79","v":1},{"$f":"ECUACIONES!I79","v":74},{"$f":"ECUACIONES!J79","v":9.5},{"$f":"ECUACIONES!K79","v":5.7},{"$f":"ECUACIONES!L79","v":1820},{"$f":"ECUACIONES!M79","v":1.03},{"$f":"ECUACIONES!N79","v":1.08}]
["MACHOSENTREFINOVERANO",5,{"$f":"ECUACIONES!E80","v":9.5999999999999992E-3},{"$f":"ECUACIONES!F80","v":3.7999999999999999E-2},{"$f":"ECUACIONES!G80","v":0.15},{"$f":"ECUACIONES!H80","v":1},{"$f":"ECUACIONES!I80","v":74},{"$f":"ECUACIONES!J80","v":9.5},{"$f":"ECUACIONES!K80","v":5.7},{"$f":"ECUACIONES!L80","v":1820},{"$f":"ECUACIONES!M80","v":1.05},{"$f":"ECUACIONES!N80","v":1.06}]
["MACHOSENTREFINOINDEFINIDO",6,{"$f":"ECUACIONES!E81","v":9.5999999999999992E-3},{"$f":"ECUACIONES!F81","v":3.7999999999999999E-2},{"$f":"ECUACIONES!G81","v":0.15},{"$f":"ECUACIONES!H81","v":1},{"$f":"ECUACIONES!I81","v":74},{"$f":"ECUACIONES!J81","v":9.5},{"$f":"ECUACIONES!K81","v":5.7},{"$f":"ECUACIONES!L81","v":1820},{"$f":"ECUACIONES!M81","v":1.01},{"$f":"ECUACIONES!N81","v":1.06}]
["MACHOSINDEFINIDAINVIERNO",7,{"$f":"ECUACIONES!E82","v":9.5999999999999992E-3},{"$f":"ECUACIONES!F82","v":3.7999999999999999E-2},{"$f":"ECUACIONES!G82","v":0.15},{"$f":"ECUACIONES!H82","v":1},{"$f":"ECUACIONES!I82","v":74},{"$f":"ECUACIONES!J82","v":9.5},{"$f":"ECUACIONES!K82","v":5.7},{"$f":"ECUACIONES!L82","v":1820},{"$f":"ECUACIONES!M82","v":1.03},{"$f":"ECUACIONES!N82","v":1.02}]
["MACHOSINDEFINIDAVERANO",8,{"$f":"ECUACIONES!E83","v":9.5999999999999992E-3},{"$f":"ECUACIONES!F83","v":3.7999999999999999E-2},{"$f":"ECUACIONES!G83","v":0.15},{"$f":"ECUACIONES!H83","v":1},{"$f":"ECUACIONES!I83","v":74},{"$f":"ECUACIONES!J83","v":9.5},{"$f":"ECUACIONES!K83","v":5.7},{"$f":"ECUACIONES!L83","v":1820},{"$f":"ECUACIONES!M83","v":1.05},{"$f":"ECUACIONES!N83","v":1.02}]
["MACHOSINDEFINIDAINDEFINIDO",9,{"$f":"ECUACIONES!E84","v":9.5999999999999992E-3},{"$f":"ECUACIONES!F84","v":3.7999999999999999E-2},{"$f":"ECUACIONES!G84","v":0.15},{"$f":"ECUACIONES!H84","v":1},{"$f":"ECUACIONES!I84","v":74},{"$f":"ECUACIONES!J84","v":9.5},{"$f":"ECUACIONES!K84","v":5.7},{"$f":"ECUACIONES!L84","v":1820},{"$f":"ECUACIONES!M84","v":1.01},{"$f":"ECUACIONES!N84","v":1.02}]
["HEMBRASCARNICO&CRUZADOINVIERNO",10,{"$f":"ECUACIONES!E85","v":1.04E-2},{"$f":"ECUACIONES!F85","v":6.2E-2},{"$f":"ECUACIONES!G85","v":0.15},{"$f":"ECUACIONES!H85","v":1.1000000000000001},{"$f":"ECUACIONES!I85","v":74},{"$f":"ECUACIONES!J85","v":9.5},{"$f":"ECUACIONES!K85","v":5.7},{"$f":"ECUACIONES!L85","v":1820},{"$f":"ECUACIONES!M85","v":1.03},{"$f":"ECUACIONES!N85","v":0.99}]
["HEMBRASCARNICO&CRUZADOVERANO",11,{"$f":"ECUACIONES!E86","v":1.04E-2},{"$f":"ECUACIONES!F86","v":6.2E-2},{"$f":"ECUACIONES!G86","v":0.15},{"$f":"ECUACIONES!H86","v":1.1000000000000001},{"$f":"ECUACIONES!I86","v":74},{"$f":"ECUACIONES!J86","v":9.5},{"$f":"ECUACIONES!K86","v":5.7},{"$f":"ECUACIONES!L86","v":1820},{"$f":"ECUACIONES!M86","v":1.05},{"$f":"ECUACIONES!N86","v":0.97499999999999998}]
["HEMBRASCARNICO&CRUZADOINDEFINIDO",12,{"$f":"ECUACIONES!E87","v":1.04E-2},{"$f":"ECUACIONES!F87","v":6.2E-2},{"$f":"ECUACIONES!G87","v":0.15},{"$f":"ECUACIONES!H87","v":1.1000000000000001},{"$f":"ECUACIONES!I87","v":74},{"$f":"ECUACIONES!J87","v":9.5},{"$f":"ECUACIONES!K87","v":5.7},{"$f":"ECUACIONES!L87","v":1820},{"$f":"ECUACIONES!M87","v":1.01},{"$f":"ECUACIONES!N87","v":0.99}]
["HEMBRASENTREFINOINVIERNO",13,{"$f":"ECUACIONES!E88","v":9.5999999999999992E-3},{"$f":"ECUACIONES!F88","v":3.7999999999999999E-2},{"$f":"ECUACIONES!G88","v":0.15},{"$f":"ECUACIONES!H88","v":1.1000000000000001},{"$f":"ECUACIONES!I88","v":74},{"$f":"ECUACIONES!J88","v":9.5},{"$f":"ECUACIONES!K88","v":5.7},{"$f":"ECUACIONES!L88","v":1820},{"$f":"ECUACIONES!M88","v":1.03},{"$f":"ECUACIONES!N88","v":1.03}]
["HEMBRASENTREFINOVERANO",14,{"$f":"ECUACIONES!E89","v":9.5999999999999992E-3},{"$f":"ECUACIONES!F89","v":3.7999999999999999E-2},{"$f":"ECUACIONES!G89","v":0.15},{"$f":"ECUACIONES!H89","v":1.1000000000000001},{"$f":"ECUACIONES!I89","v":74},{"$f":"ECUACIONES!J89","v":9.5},{"$f":"ECUACIONES!K89","v":5.7},{"$f":"ECUACIONES!L89","v":1820},{"$f":"ECUACIONES!M89","v":1.05},{"$f":"ECUACIONES!N89","v":1.03}]
["HEMBRASENTREFINOINDEFINIDO",15,{"$f":"ECUACIONES!E90","v":9.5999999999999992E-3},{"$f":"ECUACIONES!F90","v":3.7999999999999999E-2},{"$f":"ECUACIONES!G90","v":0.15},{"$f":"ECUACIONES!H90","v":1.1000000000000001},{"$f":"ECUACIONES!I90","v":74},{"$f":"ECUACIONES!J90","v":9.5},{"$f":"ECUACIONES!K90","v":5.7},{"$f":"ECUACIONES!L90","v":1820},{"$f":"ECUACIONES!M90","v":1.01},{"$f":"ECUACIONES!N90","v":1.03}]
["HEMBRASINDEFINIDAINVIERNO",16,{"$f":"ECUACIONES!E91","v":9.5999999999999992E-3},{"$f":"ECUACIONES!F91","v":3.7999999999999999E-2},{"$f":"ECUACIONES!G91","v":0.15},{"$f":"ECUACIONES!H91","v":1.1000000000000001},{"$f":"ECUACIONES!I91","v":74},{"$f":"ECUACIONES!J91","v":9.5},{"$f":"ECUACIONES!K91","v":5.7},{"$f":"ECUACIONES!L91","v":1820},{"$f":"ECUACIONES!M91","v":1.03},{"$f":"ECUACIONES!N91","v":1.03}]
["HEMBRASINDEFINIDAVERANO",17,{"$f":"ECUACIONES!E92","v":9.5999999999999992E-3},{"$f":"ECUACIONES!F92","v":3.7999999999999999E-2},{"$f":"ECUACIONES!G92","v":0.15},{"$f":"ECUACIONES!H92","v":1.1000000000000001},{"$f":"ECUACIONES!I92","v":74},{"$f":"ECUACIONES!J92","v":9.5},{"$f":"ECUACIONES!K92","v":5.7},{"$f":"ECUACIONES!L92","v":1820},{"$f":"ECUACIONES!M92","v":1.05},{"$f":"ECUACIONES!N92","v":1.01}]
["HEMBRASINDEFINIDAINDEFINIDO",18,{"$f":"ECUACIONES!E93","v":9.5999999999999992E-3},{"$f":"ECUACIONES!F93","v":3.7999999999999999E-2},{"$f":"ECUACIONES!G93","v":0.15},{"$f":"ECUACIONES!H93","v":1.1000000000000001},{"$f":"ECUACIONES!I93","v":74},{"$f":"ECUACIONES!J93","v":9.5},{"$f":"ECUACIONES!K93","v":5.7},{"$f":"ECUACIONES!L93","v":1820},{"$f":"ECUACIONES!M93","v":1.01},{"$f":"ECUACIONES!N93","v":1.01}]
["MACHOS&HEMBRASCARNICO&CRUZADOINVIERNO",19,{"$f":"ECUACIONES!E94","v":1.04E-2},{"$f":"ECUACIONES!F94","v":6.2E-2},{"$f":"ECUACIONES!G94","v":0.15},{"$f":"ECUACIONES!H94","v":1},{"$f":"ECUACIONES!I94","v":74},{"$f":"ECUACIONES!J94","v":9.5},{"$f":"ECUACIONES!K94","v":5.7},{"$f":"ECUACIONES!L94","v":1820},{"$f":"ECUACIONES!M94","v":1.03},{"$f":"ECUACIONES!N94","v":1}]
["MACHOS&HEMBRASCARNICO&CRUZADOVERANO",20,{"$f":"ECUACIONES!E95","v":1.04E-2},{"$f":"ECUACIONES!F95","v":6.2E-2},{"$f":"ECUACIONES!G95","v":0.15},{"$f":"ECUACIONES!H95","v":1},{"$f":"ECUACIONES!I95","v":74},{"$f":"ECUACIONES!J95","v":9.5},{"$f":"ECUACIONES!K95","v":5.7},{"$f":"ECUACIONES!L95","v":1820},{"$f":"ECUACIONES!M95","v":1.05},{"$f":"ECUACIONES!N95","v":0.97499999999999998}]
["MACHOS&HEMBRASCARNICO&CRUZADOINDEFINIDO",21,{"$f":"ECUACIONES!E96","v":1.04E-2},{"$f":"ECUACIONES!F96","v":6.2E-2},{"$f":"ECUACIONES!G96","v":0.15},{"$f":"ECUACIONES!H96","v":1},{"$f":"ECUACIONES!I96","v":74},{"$f":"ECUACIONES!J96","v":9.5},{"$f":"ECUACIONES!K96","v":5.7},{"$f":"ECUACIONES!L96","v":1820},{"$f":"ECUACIONES!M96","v":1.01},{"$f":"ECUACIONES!N96","v":0.99}]
["MACHOS&HEMBRASENTREFINOINVIERNO",22,{"$f":"ECUACIONES!E97","v":9.5999999999999992E-3},{"$f":"ECUACIONES!F97","v":3.7999999999999999E-2},{"$f":"ECUACIONES!G97","v":0.15},{"$f":"ECUACIONES!H97","v":1},{"$f":"ECUACIONES!I97","v":74},{"$f":"ECUACIONES!J97","v":9.5},{"$f":"ECUACIONES!K97","v":5.7},{"$f":"ECUACIONES!L97","v":1820},{"$f":"ECUACIONES!M97","v":1.03},{"$f":"ECUACIONES!N97","v":1.08}]
["MACHOS&HEMBRASENTREFINOVERANO",23,{"$f":"ECUACIONES!E98","v":9.5999999999999992E-3},{"$f":"ECUACIONES!F98","v":3.7999999999999999E-2},{"$f":"ECUACIONES!G98","v":0.15},{"$f":"ECUACIONES!H98","v":1},{"$f":"ECUACIONES!I98","v":74},{"$f":"ECUACIONES!J98","v":9.5},{"$f":"ECUACIONES!K98","v":5.7},{"$f":"ECUACIONES!L98","v":1820},{"$f":"ECUACIONES!M98","v":1.05},{"$f":"ECUACIONES!N98","v":1.04}]
["MACHOS&HEMBRASENTREFINOINDEFINIDO",24,{"$f":"ECUACIONES!E99","v":9.5999999999999992E-3},{"$f":"ECUACIONES!F99","v":3.7999999999999999E-2},{"$f":"ECUACIONES!G99","v":0.15},{"$f":"ECUACIONES!H99","v":1},{"$f":"ECUACIONES!I99","v":74},{"$f":"ECUACIONES!J99","v":9.5},{"$f":"ECUACIONES!K99","v":5.7},{"$f":"ECUACIONES!L99","v":1820},{"$f":"ECUACIONES!M99","v":1.01},{"$f":"ECUACIONES!N99","v":1.04}]
["MACHOS&HEMBRASINDEFINIDAINVIERNO",25,{"$f":"ECUACIONES!E100","v":9.5999999999999992E-3},{"$f":"ECUACIONES!F100","v":3.7999999999999999E-2},{"$f":"ECUACIONES!G100","v":0.15},{"$f":"ECUACIONES!H100","v":1},{"$f":"ECUACIONES!I100","v":74},{"$f":"ECUACIONES!J100","v":9.5},{"$f":"ECUACIONES!K100","v":5.7},{"$f":"ECUACIONES!L100","v":1820},{"$f":"ECUACIONES!M100","v":1.03},{"$f":"ECUACIONES!N100","v":1.04}]
["MACHOS&HEMBRASINDEFINIDAVERANO",26,{"$f":"ECUACIONES!E101","v":9.5999999999999992E-3},{"$f":"ECUACIONES!F101","v":3.7999999999999999E-2},{"$f":"ECUACIONES!G101","v":0.15},{"$f":"ECUACIONES!H101","v":1},{"$f":"ECUACIONES!I101","v":74},{"$f":"ECUACIONES!J101","v":9.5},{"$f":"ECUACIONES!K101","v":5.7},{"$f":"ECUACIONES!L101","v":1820},{"$f":"ECUACIONES!M101","v":1.05},{"$f":"ECUACIONES!N101","v":1.02}]
["MACHOS&HEMBRASINDEFINIDAINDEFINIDO",27,{"$f":"ECUACIONES!E102","v":9.5999999999999992E-3},{"$f":"ECUACIONES!F102","v":3.7999999999999999E-2},{"$f":"ECUACIONES!G102","v":0.15},{"$f":"ECUACIONES!H102","v":1},{"$f":"ECUACIONES!I102","v":74},{"$f":"ECUACIONES!J102","v":9.5},{"$f":"ECUACIONES!K102","v":5.7},{"$f":"ECUACIONES!L102","v":1820},{"$f":"ECUACIONES!M102","v":1.01},{"$f":"ECUACIONES!N102","v":1.02}]
[]
[null,null,1,2,3,4,5,6,7,8,9,10,11,12,13,14,15]
[null,"COD","GMD ENTRADA 1","GMD ENTRADA 2","GMD SALIDA 1","GMD SALIDA 2","FC SEXO GMD","FC RAZA GMD","FC EPOCA GMD","IC ENTRADA 1","IC ENTRADA 2","IC SALIDA 1","IC SALIDA 2","FC SEXO IC","FC RAZA IC","FC EPOCA IC","Nº animales","FC MACHOSGMD","FC MACHIC","GMD Entrada","GMD salida","IC entrada","IC salida","GMD prov","GMD def","IC prov","IC def","dias","CMD"]
[null,{"$f":"VLOOKUP($Q384,$B$351:$P$377,C468,FALSE)","v":{"$error":"#N/A"}},{"$error":"#N/A"},{"$error":"#N/A"},{"$error":"#N/A"},{"$error":"#N/A"},{"$error":"#N/A"},{"$error":"#N/A"},{"$error":"#N/A"},{"$error":"#N/A"},{"$error":"#N/A"},{"$error":"#N/A"},{"$error":"#N/A"},{"$error":"#N/A"},{"$error":"#N/A"},{"$error":"#N/A"},{"$f":"S384+T384","v":0},{"$f":"IF('GEST CALC ENER'!C12=\"MACHOS&HEMBRAS\",W384,1)","v":1},{"$f":"IF('GEST CALC ENER'!C12=\"MACHOS&HEMBRAS\",X384,1)","v":1},{"$f":"(C470*I384)+D470","v":{"$error":"#N/A"}},{"$f":"(E470*J384)+F470","v":{"$error":"#N/A"}},{"$f":"(J470*I384)+K470","v":{"$error":"#N/A"}},{"$f":"(L470*J384)+M470","v":{"$error":"#N/A"}},{"$f":"((T470+U470)/2)","v":{"$error":"#N/A"}},{"$f":"X470*H470*I470*G470*R470","v":{"$error":"#N/A"}},{"$f":"(V470+W470)/2","v":{"$error":"#N/A"}},{"$f":"(Z470*O470*P470*N470*S470)","v":{"$error":"#N/A"}},{"$f":"(J384-I384)/Y470","v":{"$error":"#N/A"}},{"$f":"(AA470*(J384-I384))/AB470","v":{"$error":"#N/A"}}]
[]
[]
[null,"COD","%GRASA 1","%GRASA 2","%PROTEINA","F.CORR.SEXO","MANT 1","CREC GRASA","CREC PROT","KCAL A UFV","FACTOR COOR EPOCA","FACTOR RECOM","NEC MANT","%GRASA","NEC.GR","NEC.PRO","NEC TOTALES"]
[null,{"$f":"B470","v":{"$error":"#N/A"}},{"$f":"VLOOKUP($B474,$B$440:$L$466,D468,FALSE)","v":{"$error":"#N/A"}},{"$f":"VLOOKUP($B474,$B$440:$L$466,E468,FALSE)","v":{"$error":"#N/A"}},{"$f":"VLOOKUP($B474,$B$440:$L$466,F468,FALSE)","v":{"$error":"#N/A"}},{"$error":"#N/A"},{"$error":"#N/A"},{"$error":"#N/A"},{"$f":"VLOOKUP($B474,$B$440:$L$466,J468,FALSE)","v":{"$error":"#N/A"}},{"$f":"VLOOKUP($B474,$B$440:$L$466,K468,FALSE)","v":{"$error":"#N/A"}},{"$f":"VLOOKUP($B474,$B$440:$L$466,L468,FALSE)","v":{"$error":"#N/A"}},{"$error":"#N/A"},{"$f":"(G474*L384)/J474","v":{"$error":"#N/A"}},{"$f":"(C474*K384)+D474","v":{"$error":"#N/A"}},{"$f":"((N474*(Y470*1000))*H474)/J474","v":{"$error":"#N/A"}},{"$f":"((E474*(Y470*1000))*I474)/J474","v":{"$error":"#N/A"}},{"$f":"(M474+O474+P474)*K474","v":{"$error":"#N/A"}}]
[]
[]
[]
[]
["ECUACIONES  CALCULO ENERGIA PIENSOS"]
[null,null,"HUMEDAD",{"$f":"E480","v":0},{"$f":"'GEST CALC ENER'!G11","v":0}]
[null,null,"FIBRA BRUTA",{"$f":"(E481/(1-$D$480))*1000","v":0},{"$f":"'GEST CALC ENER'!G12","v":0}]
[null,null,"PROTEINA BRUTA",{"$f":"(E482/(1-$D$480))*1000","v":0},{"$f":"'GEST CALC ENER'!G13","v":0}]
[null,null,"GRASA BRUTA",0,{"$f":"'GEST CALC ENER'!G14","v":0}]
[null,null,"CENIZAS",0,{"$f":"'GEST CALC ENER'!G15","v":0}]
[]
[null,null,null,"dMO","dE","EB(smo)","EB(sss)","ED (sss)","NA","EM/ED","EM","q","kl","km","kf","kmf","ENERGIA NETA LACTACION","ENERGIA NETA MANT Y CEBO","UFL","UFC","UFV  ssf"]
[null,null,"PIENSOS COMPUESTOS",{"$f":"95.8-(0.191*D481)-2.54","v":93.259999999999991},{"$f":"((D487-3.5+(0.0046*D482)+(0.0155*D483))/100)","v":0.89759999999999995},{"$f":"4134+(1.473*D482)+(5.239*D483)+(0.925*D481)-(4.44*D484)","v":4134},{"$f":"(F487*(1000-D484))/1000","v":4134},{"$f":"F487*E487","v":3710.6783999999998},1,{"$f":"(84.17-(0.0099*D481)-(0.0196*D482)+(2.2*I487))/100","v":0.86370000000000002},{"$f":"H487*J487","v":3204.91293408},{"$f":"K487/G487","v":0.77525712000000002},{"$f":"0.6+(0.24*(L487-0.57))","v":0.6492617088},{"$f":"(0.287*L487)+0.554","v":0.77649879344000006},{"$f":"(0.78*L487)+0.006","v":0.61070055360000008},{"$f":"(N487*O487*1.5)/(O487+(0.5*N487))","v":0.71206006297657942},{"$f":"K487*M487","v":2080.8272481360027},{"$f":"K487*P487","v":2282.0905056754586},{"$f":"Q487/1700","v":1.2240160283152957},{"$f":"R487/1820","v":1.253895882239263},{"$f":"IF('GEST CALC ENER'!G17=\"\",T487*(1-D480),'GEST CALC ENER'!G17)","v":1.253895882239263}]
[]
["CALCULO GMD A PARTIR DE NUEVO PIENSO",null,"NEC TOTALES","NEC GRASA","GMD","DIAS","IC"]
[null,null,{"$f":"('GEST CALC ENER'!G19*'GEST CALC ENER'!C25)/'ENLACES DATOS'!L474","v":{"$error":"#VALUE!"}},{"$f":"(C490/K474)-M474-P474","v":{"$error":"#VALUE!"}},{"$f":"((D490*J474)/(N474*H474))/1000","v":{"$error":"#VALUE!"}},{"$f":"('GEST CALC ENER'!C19-'GEST CALC ENER'!C18)/'ENLACES DATOS'!E490","v":{"$error":"#VALUE!"}},{"$f":"AC470/E490","v":{"$error":"#N/A"}}]
[]
[]
[]
[]
[]
["DATOS pH CANALES",null,"Desv st",null,"Diferencial",null,null,"grupo 1","grupo 2","grupo 3","grupo 4","grupo 5","grupo 6","grupo 7","GRUPO"]
[]
[1,{"$f":"IF('GEST CALIDAD CANAL'!B12=\"\",\"\",'GEST CALIDAD CANAL'!B12)","v":""},{"$f":"B498-$B$515","v":{"$error":"#VALUE!"}},{"$f":"IF(C498>$B$516,1,\"\")","v":{"$error":"#VALUE!"}},{"$f":"B498-$B$519","v":{"$error":"#VALUE!"}},{"$f":"IF(E498>$B$520,1,\"\")","v":{"$error":"#VALUE!"}},null,{"$f":"IF(B498=\"\",\"\",IF(B498<5.56,1,\"\"))","v":""},{"$f":"IF(B498=\"\",\"\",IF(B498<5.66,1,\"\"))","v":""},{"$f":"IF(B498=\"\",\"\",IF(B498<5.76,1,\"\"))","v":""},{"$f":"IF(B498=\"\",\"\",IF(B498<5.86,1,\"\"))","v":""},{"$f":"IF(B498=\"\",\"\",IF(B498<5.96,1,\"\"))","v":""},{"$f":"IF(B498=\"\",\"\",IF(B498<6.06,1,\"\"))","v":""},{"$f":"IF(B498=\"\",\"\",IF(B498<7,1,\"\"))","v":""},{"$f":"IF(B498=\"\",\"\",SUM(H498:N498))","v":""}]
[2,{"$f":"IF('GEST CALIDAD CANAL'!B13=\"\",\"\",'GEST CALIDAD CANAL'!B13)","v":""},{"$f":"B499-$B$515","v":{"$error":"#VALUE!"}},{"$f":"IF(C499>$B$516,1,\"\")","v":{"$error":"#VALUE!"}},{"$f":"B499-$B$519","v":{"$error":"#VALUE!"}},{"$f":"IF(E499>$B$520,1,\"\")","v":{"$error":"#VALUE!"}},null,{"$f":"IF(B499=\"\",\"\",IF(B499<5.56,1,\"\"))","v":""},{"$f":"IF(B499=\"\",\"\",IF(B499<5.66,1,\"\"))","v":""},{"$f":"IF(B499=\"\",\"\",IF(B499<5.76,1,\"\"))","v":""},{"$f":"IF(B499=\"\",\"\",IF(B499<5.86,1,\"\"))","v":""},{"$f":"IF(B499=\"\",\"\",IF(B499<5.96,1,\"\"))","v":""},{"$f":"IF(B499=\"\",\"\",IF(B499<6.06,1,\"\"))","v":""},{"$f":"IF(B499=\"\",\"\",IF(B499<7,1,\"\"))","v":""},{"$f":"IF(B499=\"\",\"\",SUM(H499:N499))","v":""}]
[3,{"$f":"IF('GEST CALIDAD CANAL'!B14=\"\",\"\",'GEST CALIDAD CANAL'!B14)","v":""},{"$error":"#VALUE!"},{"$error":"#VALUE!"},{"$error":"#VALUE!"},{"$error":"#VALUE!"},null,"","","","","","","",""]
[4,{"$f":"IF('GEST CALIDAD CANAL'!B15=\"\",\"\",'GEST CALIDAD CANAL'!B15)","v":""},{"$error":"#VALUE!"},{"$error":"#VALUE!"},{"$error":"#VALUE!"},{"$error":"#VALUE!"},null,"","","","","","","",""]
[5,{"$f":"IF('GEST CALIDAD CANAL'!B16=\"\",\"\",'GEST CALIDAD CANAL'!B16)","v":""},{"$error":"#VALUE!"},{"$error":"#VALUE!"},{"$error":"#VALUE!"},{"$error":"#VALUE!"},null,"","","","","","","",""]
[6,{"$f":"IF('GEST CALIDAD CANAL'!B17=\"\",\"\",'GEST CALIDAD CANAL'!B17)","v":""},{"$error":"#VALUE!"},{"$error":"#VALUE!"},{"$error":"#VALUE!"},{"$error":"#VALUE!"},null,"","","","","","","",""]
[7,{"$f":"IF('GEST CALIDAD CANAL'!B18=\"\",\"\",'GEST CALIDAD CANAL'!B18)","v":""},{"$error":"#VALUE!"},{"$error":"#VALUE!"},{"$error":"#VALUE!"},{"$error":"#VALUE!"},null,"","","","","","","",""]
[8,{"$f":"IF('GEST CALIDAD CANAL'!B19=\"\",\"\",'GEST CALIDAD CANAL'!B19)","v":""},{"$error":"#VALUE!"},{"$error":"#VALUE!"},{"$error":"#VALUE!"},{"$error":"#VALUE!"},null,"","","","","","","",""]
[9,{"$f":"IF('GEST CALIDAD CANAL'!B20=\"\",\"\",'GEST CALIDAD CANAL'!B20)","v":""},{"$error":"#VALUE!"},{"$error":"#VALUE!"},{"$error":"#VALUE!"},{"$error":"#VALUE!"},null,"","","","","","","",""]
[10,{"$f":"IF('GEST CALIDAD CANAL'!B21=\"\",\"\",'GEST CALIDAD CANAL'!B21)","v":""},{"$error":"#VALUE!"},{"$error":"#VALUE!"},{"$error":"#VALUE!"},{"$error":"#VALUE!"},null,"","","","","","","",""]
[11,{"$f":"IF('GEST CALIDAD CANAL'!B22=\"\",\"\",'GEST CALIDAD CANAL'!B22)","v":""},{"$error":"#VALUE!"},{"$error":"#VALUE!"},{"$error":"#VALUE!"},{"$error":"#VALUE!"},null,"","","","","","","",""]
[12,{"$f":"IF('GEST CALIDAD CANAL'!B23=\"\",\"\",'GEST CALIDAD CANAL'!B23)","v":""},{"$error":"#VALUE!"},{"$error":"#VALUE!"},{"$error":"#VALUE!"},{"$error":"#VALUE!"},null,"","","","","","","",""]
[13,{"$f":"IF('GEST CALIDAD CANAL'!B24=\"\",\"\",'GEST CALIDAD CANAL'!B24)","v":""},{"$error":"#VALUE!"},{"$error":"#VALUE!"},{"$error":"#VALUE!"},{"$error":"#VALUE!"},null,"","","","","","","",""]
[14,{"$f":"IF('GEST CALIDAD CANAL'!B25=\"\",\"\",'GEST CALIDAD CANAL'!B25)","v":""},{"$error":"#VALUE!"},{"$error":"#VALUE!"},{"$error":"#VALUE!"},{"$error":"#VALUE!"},null,"","","","","","","",""]
[15,{"$f":"IF('GEST CALIDAD CANAL'!B26=\"\",\"\",'GEST CALIDAD CANAL'!B26)","v":""},{"$error":"#VALUE!"},{"$error":"#VALUE!"},{"$error":"#VALUE!"},{"$error":"#VALUE!"},null,"","","","","","","",""]
[16,{"$f":"IF('GEST CALIDAD CANAL'!B27=\"\",\"\",'GEST CALIDAD CANAL'!B27)","v":""},{"$error":"#VALUE!"},{"$error":"#VALUE!"},{"$error":"#VALUE!"},{"$error":"#VALUE!"},null,"","","","","","","",""]
[null,{"$f":"COUNT(B498:B513)","v":0},null,{"$f":"SUM(D498:D513)","v":{"$error":"#VALUE!"}},null,{"$f":"SUM(F498:F513)","v":{"$error":"#VALUE!"}}]
["MEDIA",{"$f":"IF(B$10=\"\",\"\",AVERAGE(B498:B513))","v":{"$error":"#DIV/0!"}}]
["DESV.ST",{"$f":"IF(B498=\"\",\"\",STDEVP(B498:B513))","v":""},null,{"$f":"B516/B515","v":{"$error":"#VALUE!"}}]
[null,null,"diferencias"]
["MES",{"$f":"'BUSCAR FECHA'!H5","v":{"$error":"#N/A"}},null,null,null,null,"  pH REAL",{"$f":"B515","v":{"$error":"#DIV/0!"}}]
["pH",{"$f":"VLOOKUP($B$518,'HOJA GENERAL DE DATOS'!$A$374:$C$385,2,FALSE)","v":{"$error":"#N/A"}},{"$f":"B515-B519","v":{"$error":"#DIV/0!"}},null,null,null,"  pH ESPERADO",{"$f":"B519","v":{"$error":"#N/A"}}]
["DESV.ST",{"$f":"VLOOKUP($B$518,'HOJA GENERAL DE DATOS'!$A$374:$C$385,3,FALSE)","v":{"$error":"#N/A"}},{"$f":"B516-B520","v":{"$error":"#VALUE!"}},{"$f":"B520/B519","v":{"$error":"#N/A"}},null,null,"VAR.REAL",{"$f":"B516","v":""}]
["%pHs fuera de DS",{"$f":"D514/B514","v":{"$error":"#VALUE!"}},null,null,null,null,"VAR.ESPERADA",{"$f":"B520","v":{"$error":"#N/A"}}]
["%pHs altos",{"$f":"F514/B514","v":{"$error":"#VALUE!"}}]
[]
["GRAFICOS",null,null,"CHEQUEO","MEDIA","MEJOR"]
[1,"grupo 1",{"$f":"COUNTIF($O$498:$O$513,A525)","v":0},{"$f":"IF($B$518=\"\",\"\",C525/$B$514)","v":{"$error":"#N/A"}},0.12110202845897669,null,4]
[2,"grupo 2",{"$f":"COUNTIF($O$498:$O$513,A526)","v":0},{"$f":"IF($B$518=\"\",\"\",C526/$B$514)","v":{"$error":"#N/A"}},0.10535876475930972,null,5]
[3,"grupo 3",0,{"$error":"#N/A"},0.14623069936421434,null,6]
[4,"grupo 4",0,{"$error":"#N/A"},0.16076294277929154,null,7]
[5,"grupo 5",0,{"$error":"#N/A"},0.16651528913109295,null,8]
[6,"grupo 6",0,{"$error":"#N/A"},0.16984559491371481,null,9]
[7,"grupo 7",0,{"$error":"#N/A"},0.13018468059339994,null,10]
[null,null,null,{"$f":"SUM(D525:D531)","v":{"$error":"#N/A"}},{"$f":"SUM(E525:E531)","v":1}]
["ESTADO DE ENGRASAMIENTO"]
[null,null,null,null,null,null,"MES","SEXO","COD","EE","DESV ST","maximo","minimo","%DESVST"]
[null,null,null,null,null,null,{"$f":"'BUSCAR FECHA'!H6","v":{"$error":"#N/A"}},"MACHO",{"$f":"CONCATENATE(G535,H535)","v":{"$error":"#N/A"}},{"$f":"VLOOKUP($I535,$C$541:$E$585,2,FALSE)","v":{"$error":"#N/A"}},{"$f":"VLOOKUP($I535,$C$541:$E$585,3,FALSE)","v":{"$error":"#N/A"}},{"$f":"J535+K535","v":{"$error":"#N/A"}},{"$f":"J535-K535","v":{"$error":"#N/A"}},{"$f":"K535/J535","v":{"$error":"#N/A"}}]
[null,null,null,null,null,null,{"$f":"G535","v":{"$error":"#N/A"}},"HEMBRA",{"$f":"CONCATENATE(G536,H536)","v":{"$error":"#N/A"}},{"$f":"VLOOKUP($I536,$C$541:$E$585,2,FALSE)","v":{"$error":"#N/A"}},{"$f":"VLOOKUP($I536,$C$541:$E$585,3,FALSE)","v":{"$error":"#N/A"}},{"$f":"J536+K536","v":{"$error":"#N/A"}},{"$f":"J536-K536","v":{"$error":"#N/A"}},{"$f":"K536/J536","v":{"$error":"#N/A"}}]
[]
[]
[]
["MES","SEXO","COD","EE","DESV ST EE"]
[{"$f":"'HOJA GENERAL DE DATOS'!A390","v":1},{"$f":"'HOJA GENERAL DE DATOS'!B390","v":"HEMBRA"},{"$f":"CONCATENATE(A541,B541)","v":"1HEMBRA"},{"$f":"'HOJA GENERAL DE DATOS'!C390","v":3.40151515151515},{"$f":"'HOJA GENERAL DE DATOS'!D390","v":0.71898835294952901}]
[{"$f":"'HOJA GENERAL DE DATOS'!A391","v":1},{"$f":"'HOJA GENERAL DE DATOS'!B391","v":"MACHO"},{"$f":"CONCATENATE(A542,B542)","v":"1MACHO"},{"$f":"'HOJA GENERAL DE DATOS'!C391","v":2.9237668161435},{"$f":"'HOJA GENERAL DE DATOS'!D391","v":0.621332612737033}]
[{"$f":"'HOJA GENERAL DE DATOS'!A392","v":2},{"$f":"'HOJA GENERAL DE DATOS'!B392","v":"HEMBRA"},"2HEMBRA",{"$f":"'HOJA GENERAL DE DATOS'!C392","v":3.2155688622754499},{"$f":"'HOJA GENERAL DE DATOS'!D392","v":0.761417198617094}]
[{"$f":"'HOJA GENERAL DE DATOS'!A393","v":2},{"$f":"'HOJA GENERAL DE DATOS'!B393","v":"MACHO"},"2MACHO",{"$f":"'HOJA GENERAL DE DATOS'!C393","v":2.8657243816254399},{"$f":"'HOJA GENERAL DE DATOS'!D393","v":0.65476303575033001}]
[{"$f":"'HOJA GENERAL DE DATOS'!A394","v":3},{"$f":"'HOJA GENERAL DE DATOS'!B394","v":""},"3",{"$f":"'HOJA GENERAL DE DATOS'!C394","v":3},{"$f":"'HOJA GENERAL DE DATOS'!D394","v":0}]
[{"$f":"'HOJA GENERAL DE DATOS'!A395","v":3},{"$f":"'HOJA GENERAL DE DATOS'!B395","v":"HEMBRA"},"3HEMBRA",{"$f":"'HOJA GENERAL DE DATOS'!C395","v":3.26605504587156},{"$f":"'HOJA GENERAL DE DATOS'!D395","v":0.72829330979355}]
[{"$f":"'HOJA GENERAL DE DATOS'!A396","v":3},{"$f":"'HOJA GENERAL DE DATOS'!B396","v":"MACHO"},"3MACHO",{"$f":"'HOJA GENERAL DE DATOS'!C396","v":3.0098360655737699},{"$f":"'HOJA GENERAL DE DATOS'!D396","v":0.67612112499808796}]
[{"$f":"'HOJA GENERAL DE DATOS'!A397","v":4},{"$f":"'HOJA GENERAL DE DATOS'!B397","v":"HEMBRA"},"4HEMBRA",{"$f":"'HOJA GENERAL DE DATOS'!C397","v":3.1042944785276099},{"$f":"'HOJA GENERAL DE DATOS'!D397","v":0.75860086394084403}]
[{"$f":"'HOJA GENERAL DE DATOS'!A398","v":4},{"$f":"'HOJA GENERAL DE DATOS'!B398","v":"MACHO"},"4MACHO",{"$f":"'HOJA GENERAL DE DATOS'!C398","v":2.8233695652173898},{"$f":"'HOJA GENERAL DE DATOS'!D398","v":0.57542549530897702}]
[{"$f":"'HOJA GENERAL DE DATOS'!A399","v":5},{"$f":"'HOJA GENERAL DE DATOS'!B399","v":""},"5",{"$f":"'HOJA GENERAL DE DATOS'!C399","v":3.0847457627118602},{"$f":"'HOJA GENERAL DE DATOS'!D399","v":0.79411923870629098}]
[{"$f":"'HOJA GENERAL DE DATOS'!A400","v":5},{"$f":"'HOJA GENERAL DE DATOS'!B400","v":"HEMBRA"},"5HEMBRA",{"$f":"'HOJA GENERAL DE DATOS'!C400","v":3.3879003558718899},{"$f":"'HOJA GENERAL DE DATOS'!D400","v":0.617364389996368}]
[{"$f":"'HOJA GENERAL DE DATOS'!A401","v":5},{"$f":"'HOJA GENERAL DE DATOS'!B401","v":"MACHO"},"5MACHO",{"$f":"'HOJA GENERAL DE DATOS'!C401","v":3.01157407407407},{"$f":"'HOJA GENERAL DE DATOS'!D401","v":0.61486257425505897}]
[{"$f":"'HOJA GENERAL DE DATOS'!A402","v":6},{"$f":"'HOJA GENERAL DE DATOS'!B402","v":""},"6",{"$f":"'HOJA GENERAL DE DATOS'!C402","v":2.9423076923076898},{"$f":"'HOJA GENERAL DE DATOS'!D402","v":0.89472224934282296}]
[{"$f":"'HOJA GENERAL DE DATOS'!A403","v":6},{"$f":"'HOJA GENERAL DE DATOS'!B403","v":"HEMBRA"},"6HEMBRA",{"$f":"'HOJA GENERAL DE DATOS'!C403","v":3.3529411764705901},{"$f":"'HOJA GENERAL DE DATOS'!D403","v":0.60765836583958899}]
[{"$f":"'HOJA GENERAL DE DATOS'!A404","v":6},{"$f":"'HOJA GENERAL DE DATOS'!B404","v":"MACHO"},"6MACHO",{"$f":"'HOJA GENERAL DE DATOS'!C404","v":3.1055900621118},{"$f":"'HOJA GENERAL DE DATOS'!D404","v":0.57665505798581296}]
[{"$f":"'HOJA GENERAL DE DATOS'!A405","v":7},{"$f":"'HOJA GENERAL DE DATOS'!B405","v":""},"7",{"$f":"'HOJA GENERAL DE DATOS'!C405","v":3.3508771929824599},{"$f":"'HOJA GENERAL DE DATOS'!D405","v":0.71940521241447997}]
[{"$f":"'HOJA GENERAL DE DATOS'!A406","v":7},{"$f":"'HOJA GENERAL DE DATOS'!B406","v":"HEMBRA"},"7HEMBRA",{"$f":"'HOJA GENERAL DE DATOS'!C406","v":3.1621621621621601},{"$f":"'HOJA GENERAL DE DATOS'!D406","v":0.64577345733610703}]
[{"$f":"'HOJA GENERAL DE DATOS'!A407","v":7},{"$f":"'HOJA GENERAL DE DATOS'!B407","v":"MACHO"},"7MACHO",{"$f":"'HOJA GENERAL DE DATOS'!C407","v":2.95789473684211},{"$f":"'HOJA GENERAL DE DATOS'!D407","v":0.57119181951525499}]
[{"$f":"'HOJA GENERAL DE DATOS'!A408","v":8},{"$f":"'HOJA GENERAL DE DATOS'!B408","v":""},"8",{"$f":"'HOJA GENERAL DE DATOS'!C408","v":3},{"$f":"'HOJA GENERAL DE DATOS'!D408","v":0}]
[{"$f":"'HOJA GENERAL DE DATOS'!A409","v":8},{"$f":"'HOJA GENERAL DE DATOS'!B409","v":"HEMBRA"},"8HEMBRA",{"$f":"'HOJA GENERAL DE DATOS'!C409","v":3.3076923076923102},{"$f":"'HOJA GENERAL DE DATOS'!D409","v":0.66979989922942196}]
[{"$f":"'HOJA GENERAL DE DATOS'!A410","v":8},{"$f":"'HOJA GENERAL DE DATOS'!B410","v":"MACHO"},"8MACHO",{"$f":"'HOJA GENERAL DE DATOS'!C410","v":2.9693486590038298},{"$f":"'HOJA GENERAL DE DATOS'!D410","v":0.64971825039198805}]
[{"$f":"'HOJA GENERAL DE DATOS'!A411","v":9},{"$f":"'HOJA GENERAL DE DATOS'!B411","v":"HEMBRA"},"9HEMBRA",{"$f":"'HOJA GENERAL DE DATOS'!C411","v":3.3880597014925402},{"$f":"'HOJA GENERAL DE DATOS'!D411","v":0.63494312772767303}]
[{"$f":"'HOJA GENERAL DE DATOS'!A412","v":9},{"$f":"'HOJA GENERAL DE DATOS'!B412","v":"MACHO"},"9MACHO",{"$f":"'HOJA GENERAL DE DATOS'!C412","v":2.9454545454545502},{"$f":"'HOJA GENERAL DE DATOS'!D412","v":0.60192027015467797}]
[{"$f":"'HOJA GENERAL DE DATOS'!A413","v":10},{"$f":"'HOJA GENERAL DE DATOS'!B413","v":"HEMBRA"},"10HEMBRA",{"$f":"'HOJA GENERAL DE DATOS'!C413","v":3.2890995260663498},{"$f":"'HOJA GENERAL DE DATOS'!D413","v":0.64499881472741805}]
[{"$f":"'HOJA GENERAL DE DATOS'!A414","v":10},{"$f":"'HOJA GENERAL DE DATOS'!B414","v":"MACHO"},"10MACHO",{"$f":"'HOJA GENERAL DE DATOS'!C414","v":3.0972762645914398},{"$f":"'HOJA GENERAL DE DATOS'!D414","v":0.61418166269108998}]
[{"$f":"'HOJA GENERAL DE DATOS'!A415","v":11},{"$f":"'HOJA GENERAL DE DATOS'!B415","v":""},"11",{"$f":"'HOJA GENERAL DE DATOS'!C415","v":3.27868852459016},{"$f":"'HOJA GENERAL DE DATOS'!D415","v":0.609129092529753}]
[{"$f":"'HOJA GENERAL DE DATOS'!A416","v":11},{"$f":"'HOJA GENERAL DE DATOS'!B416","v":"HEMBRA"},"11HEMBRA",{"$f":"'HOJA GENERAL DE DATOS'!C416","v":3.51977401129944},{"$f":"'HOJA GENERAL DE DATOS'!D416","v":0.68332738293975603}]
[{"$f":"'HOJA GENERAL DE DATOS'!A417","v":11},{"$f":"'HOJA GENERAL DE DATOS'!B417","v":"MACHO"},"11MACHO",{"$f":"'HOJA GENERAL DE DATOS'!C417","v":3.1612903225806499},{"$f":"'HOJA GENERAL DE DATOS'!D417","v":0.59743902550089101}]
[{"$f":"'HOJA GENERAL DE DATOS'!A418","v":12},{"$f":"'HOJA GENERAL DE DATOS'!B418","v":"HEMBRA"},"12HEMBRA",{"$f":"'HOJA GENERAL DE DATOS'!C418","v":3.5340909090909101},{"$f":"'HOJA GENERAL DE DATOS'!D418","v":0.72633331439124205}]
[{"$f":"'HOJA GENERAL DE DATOS'!A419","v":12},{"$f":"'HOJA GENERAL DE DATOS'!B419","v":"MACHO"},"12MACHO",{"$f":"'HOJA GENERAL DE DATOS'!C419","v":3.1785714285714302},{"$f":"'HOJA GENERAL DE DATOS'!D419","v":0.54295966222657399}]
[{"$f":"'HOJA GENERAL DE DATOS'!A420","v":0},{"$f":"'HOJA GENERAL DE DATOS'!B420","v":0},"00",{"$f":"'HOJA GENERAL DE DATOS'!C420","v":0},{"$f":"'HOJA GENERAL DE DATOS'!D420","v":0}]
[{"$f":"'HOJA GENERAL DE DATOS'!A421","v":0},{"$f":"'HOJA GENERAL DE DATOS'!B421","v":0},"00",{"$f":"'HOJA GENERAL DE DATOS'!C421","v":0},{"$f":"'HOJA GENERAL DE DATOS'!D421","v":0}]
[{"$f":"'HOJA GENERAL DE DATOS'!A422","v":"ESPECIE"},{"$f":"'HOJA GENERAL DE DATOS'!B422","v":"TIPO EXPLOTACION"},"ESPECIETIPO EXPLOTACION",{"$f":"'HOJA GENERAL DE DATOS'!C422","v":"CuentaDeNº VISITA"},{"$f":"'HOJA GENERAL DE DATOS'!D422","v":"PromedioDeTEMPERATURA"}]
[{"$f":"'HOJA GENERAL DE DATOS'!A423","v":"OVINO"},{"$f":"'HOJA GENERAL DE DATOS'!B423","v":"CEBO"},"OVINOCEBO",{"$f":"'HOJA GENERAL DE DATOS'!C423","v":172},{"$f":"'HOJA GENERAL DE DATOS'!D423","v":6.0232558139534902}]
[{"$f":"'HOJA GENERAL DE DATOS'!A424","v":0},{"$f":"'HOJA GENERAL DE DATOS'!B424","v":0},"00",{"$f":"'HOJA GENERAL DE DATOS'!C424","v":0},{"$f":"'HOJA GENERAL DE DATOS'!D424","v":0}]
[{"$f":"'HOJA GENERAL DE DATOS'!A425","v":"ESPECIE"},{"$f":"'HOJA GENERAL DE DATOS'!B425","v":"TIPO EXPLOTACION"},"ESPECIETIPO EXPLOTACION",{"$f":"'HOJA GENERAL DE DATOS'!C425","v":"CuentaDeNº VISITA"},{"$f":"'HOJA GENERAL DE DATOS'!D425","v":"DesvEstDeTEMPERATURA"}]
[{"$f":"'HOJA GENERAL DE DATOS'!A426","v":"OVINO"},{"$f":"'HOJA GENERAL DE DATOS'!B426","v":"CEBO"},"OVINOCEBO",{"$f":"'HOJA GENERAL DE DATOS'!C426","v":172},{"$f":"'HOJA GENERAL DE DATOS'!D426","v":1.0257132071389801}]
[{"$f":"'HOJA GENERAL DE DATOS'!A427","v":0},{"$f":"'HOJA GENERAL DE DATOS'!B427","v":0},"00",{"$f":"'HOJA GENERAL DE DATOS'!C427","v":0},{"$f":"'HOJA GENERAL DE DATOS'!D427","v":0}]
[{"$f":"'HOJA GENERAL DE DATOS'!A428","v":0},{"$f":"'HOJA GENERAL DE DATOS'!B428","v":0},"00",{"$f":"'HOJA GENERAL DE DATOS'!C428","v":0},{"$f":"'HOJA GENERAL DE DATOS'!D428","v":0}]
[{"$f":"'HOJA GENERAL DE DATOS'!A429","v":"CuentaDeNº REGISTRO"},{"$f":"'HOJA GENERAL DE DATOS'!B429","v":"PromedioDeCC ALI CALIDAD AGUA"},"CuentaDeNº REGISTROPromedioDeCC ALI CALIDAD AGUA",{"$f":"'HOJA GENERAL DE DATOS'!C429","v":"PromedioDeCC ALI TIPO DE PIENSOS"},{"$f":"'HOJA GENERAL DE DATOS'!D429","v":"PromedioDeCC ALI METRO LINEAL COMEDERO/M2"}]
[{"$f":"'HOJA GENERAL DE DATOS'!A430","v":8},{"$f":"'HOJA GENERAL DE DATOS'!B430","v":2.75},"82.75",{"$f":"'HOJA GENERAL DE DATOS'!C430","v":3.125},{"$f":"'HOJA GENERAL DE DATOS'!D430","v":3.625}]
[{"$f":"'HOJA GENERAL DE DATOS'!A431","v":0},{"$f":"'HOJA GENERAL DE DATOS'!B431","v":0},"00",{"$f":"'HOJA GENERAL DE DATOS'!C431","v":0},{"$f":"'HOJA GENERAL DE DATOS'!D431","v":0}]
[{"$f":"'HOJA GENERAL DE DATOS'!A432","v":"CuentaDeNº REGISTRO"},{"$f":"'HOJA GENERAL DE DATOS'!B432","v":"DesvEstDeCC ALI CALIDAD AGUA"},"CuentaDeNº REGISTRODesvEstDeCC ALI CALIDAD AGUA",{"$f":"'HOJA GENERAL DE DATOS'!C432","v":"DesvEstDeCC ALI TIPO DE PIENSOS"},{"$f":"'HOJA GENERAL DE DATOS'!D432","v":"DesvEstDeCC ALI METRO LINEAL COMEDERO/M2"}]
[{"$f":"'HOJA GENERAL DE DATOS'!A433","v":8},{"$f":"'HOJA GENERAL DE DATOS'!B433","v":0.70710678118654802},"80.707106781186548",{"$f":"'HOJA GENERAL DE DATOS'!C433","v":0.99103120896511498},{"$f":"'HOJA GENERAL DE DATOS'!D433","v":0.74402380914284505}]
[{"$f":"'HOJA GENERAL DE DATOS'!A434","v":0},{"$f":"'HOJA GENERAL DE DATOS'!B434","v":0},"00",{"$f":"'HOJA GENERAL DE DATOS'!C434","v":0},{"$f":"'HOJA GENERAL DE DATOS'!D434","v":0}]
[]
[null,null,"Desv st MACHOS","Desv st HEMBRAS"]
[null,null,null,null,null,null,"MACHOS","HEMBRAS"]
[{"$f":"'GEST EE'!A12","v":0},{"$f":"IF('GEST EE'!B12=\"\",\"\",'GEST EE'!B12)","v":""},{"$f":"IF(A589=\"MACHO\",B589,\"\")","v":""},{"$f":"IF(A589=\"HEMBRA\",B589,\"\")","v":""},null,"MAXIMO",{"$f":"L535","v":{"$error":"#N/A"}},{"$f":"L536","v":{"$error":"#N/A"}}]
[{"$f":"'GEST EE'!A13","v":0},{"$f":"IF('GEST EE'!B13=\"\",\"\",'GEST EE'!B13)","v":""},{"$f":"IF(A590=\"MACHO\",B590,\"\")","v":""},{"$f":"IF(A590=\"HEMBRA\",B590,\"\")","v":""},null,"OBTENIDO",{"$f":"B608","v":{"$error":"#DIV/0!"}},{"$f":"B609","v":{"$error":"#DIV/0!"}}]
[{"$f":"'GEST EE'!A14","v":0},{"$f":"IF('GEST EE'!B14=\"\",\"\",'GEST EE'!B14)","v":""},"","",null,"ESPERADO",{"$f":"J535","v":{"$error":"#N/A"}},{"$f":"J536","v":{"$error":"#N/A"}}]
[{"$f":"'GEST EE'!A15","v":0},{"$f":"IF('GEST EE'!B15=\"\",\"\",'GEST EE'!B15)","v":""},"","",null,"MINIMO",{"$f":"M535","v":{"$error":"#N/A"}},{"$f":"M536","v":{"$error":"#N/A"}}]
[{"$f":"'GEST EE'!A16","v":0},{"$f":"IF('GEST EE'!B16=\"\",\"\",'GEST EE'!B16)","v":""},"",""]
[{"$f":"'GEST EE'!A17","v":0},{"$f":"IF('GEST EE'!B17=\"\",\"\",'GEST EE'!B17)","v":""},"",""]
[{"$f":"'GEST EE'!A18","v":0},{"$f":"IF('GEST EE'!B18=\"\",\"\",'GEST EE'!B18)","v":""},"",""]
[{"$f":"'GEST EE'!A19","v":0},{"$f":"IF('GEST EE'!B19=\"\",\"\",'GEST EE'!B19)","v":""},"",""]
[{"$f":"'GEST EE'!A20","v":0},{"$f":"IF('GEST EE'!B20=\"\",\"\",'GEST EE'!B20)","v":""},"",""]
[{"$f":"'GEST EE'!A21","v":0},{"$f":"IF('GEST EE'!B21=\"\",\"\",'GEST EE'!B21)","v":""},"",""]
[{"$f":"'GEST EE'!A22","v":0},{"$f":"IF('GEST EE'!B22=\"\",\"\",'GEST EE'!B22)","v":""},"",""]
[{"$f":"'GEST EE'!A23","v":0},{"$f":"IF('GEST EE'!B23=\"\",\"\",'GEST EE'!B23)","v":""},"",""]
[{"$f":"'GEST EE'!A24","v":0},{"$f":"IF('GEST EE'!B24=\"\",\"\",'GEST EE'!B24)","v":""},"",""]
[{"$f":"'GEST EE'!A25","v":0},{"$f":"IF('GEST EE'!B25=\"\",\"\",'GEST EE'!B25)","v":""},"",""]
[{"$f":"'GEST EE'!A26","v":0},{"$f":"IF('GEST EE'!B26=\"\",\"\",'GEST EE'!B26)","v":""},"",""]
[{"$f":"'GEST EE'!A27","v":0},{"$f":"IF('GEST EE'!B27=\"\",\"\",'GEST EE'!B27)","v":""},"",""]
[null,{"$f":"COUNT(B589:B604)","v":0}]
[]
[null,"EE",null,"Nº","%DESVST"]
["MACHO",{"$f":"AVERAGEIF($A$589:$B$604,A608,$B$589:$B$604)","v":{"$error":"#DIV/0!"}},{"$f":"STDEV(C589:C604)","v":{"$error":"#DIV/0!"}},{"$f":"COUNTIF($A$589:$B$604,A608)","v":0},{"$f":"C608/B608","v":{"$error":"#DIV/0!"}}]
["HEMBRA",{"$f":"AVERAGEIF($A$589:$B$604,A609,$B$589:$B$604)","v":{"$error":"#DIV/0!"}},{"$f":"STDEV(D589:D604)","v":{"$error":"#DIV/0!"}},{"$f":"COUNTIF($A$589:$B$604,A609)","v":0},{"$f":"C609/B609","v":{"$error":"#DIV/0!"}}]
[]
[]
[]
[]
["BIENESTAR ANIMAL"]
[]
[]
[null,"PROMEDIO","DESV ST","MINIMO","MAXIMO","DATOS MUESTRA"]
["ESPECIE",{"$f":"'HOJA GENERAL DE DATOS'!A437","v":"OVINO"}]
["TIPO EXPLOTACION",{"$f":"'HOJA GENERAL DE DATOS'!B437","v":"CEBO"}]
["Nº CHEQUEOS",{"$f":"'HOJA GENERAL DE DATOS'!C437","v":172}]
["TEMPERATURA",{"$f":"'HOJA GENERAL DE DATOS'!D437","v":6.0232558139534902},{"$f":"'HOJA GENERAL DE DATOS'!D440","v":1.0257132071389801},{"$f":"B621-C621","v":4.9975426068145099},{"$f":"B621+C621","v":7.0489690210924705},{"$f":"'GEST BA'!C12","v":0},{"$f":"IF(F621>E621,\"EXCELENTE\",IF(F621<D621,\"PUNTO CRÍTICO\",\"OK\"))","v":"PUNTO CRÍTICO"}]
["CORRIENTES AIRE",{"$f":"'HOJA GENERAL DE DATOS'!E437","v":6.03488372093023},{"$f":"'HOJA GENERAL DE DATOS'!E440","v":0.82288430711208504},{"$f":"B622-C622","v":5.2119994138181447},{"$f":"B622+C622","v":6.8577680280423152},{"$f":"'GEST BA'!C13","v":0},{"$f":"IF(F622>E622,\"EXCELENTE\",IF(F622<D622,\"PUNTO CRÍTICO\",\"OK\"))","v":"PUNTO CRÍTICO"}]
["VENTILACION",{"$f":"'HOJA GENERAL DE DATOS'!F437","v":5.6686046511627897},{"$f":"'HOJA GENERAL DE DATOS'!F440","v":1.1137378850983699},4.5548667660644195,6.7823425362611598,{"$f":"'GEST BA'!C14","v":0},"PUNTO CRÍTICO"]
["AMBIENTE CARGADO",{"$f":"'HOJA GENERAL DE DATOS'!G437","v":5.3488372093023298},{"$f":"'HOJA GENERAL DE DATOS'!G440","v":1.0843646034555201},4.2644726058468096,6.4332018127578499,{"$f":"'GEST BA'!C15","v":0},"PUNTO CRÍTICO"]
["DENSIDAD ANIMALES",{"$f":"'HOJA GENERAL DE DATOS'!H437","v":5.8604651162790704},{"$f":"'HOJA GENERAL DE DATOS'!H440","v":1.26733860937904},4.5931265069000302,7.1278037256581106,{"$f":"'GEST BA'!C16","v":0},"PUNTO CRÍTICO"]
["CALIDAD CAMA",{"$f":"'HOJA GENERAL DE DATOS'!I437","v":5.8837209302325597},{"$f":"'HOJA GENERAL DE DATOS'!I440","v":0.99022833507366104},4.8934925951588983,6.8739492653062211,{"$f":"'GEST BA'!C17","v":0},"PUNTO CRÍTICO"]
["CONFORT ANIMALES",{"$f":"'HOJA GENERAL DE DATOS'!J437","v":5.7441860465116301},{"$f":"'HOJA GENERAL DE DATOS'!J440","v":0.90076051703209503},4.8434255294795348,6.6449465635437255,{"$f":"'GEST BA'!C18","v":0},"PUNTO CRÍTICO"]
["ANIMALES ESTRESADOS",{"$f":"'HOJA GENERAL DE DATOS'!K437","v":5.6569767441860499},{"$f":"'HOJA GENERAL DE DATOS'!K440","v":0.86775110260038901},4.7892256415856611,6.5247278467864387,{"$f":"'GEST BA'!C19","v":0},"PUNTO CRÍTICO"]
["LIMPIEZA ANIMALES",{"$f":"'HOJA GENERAL DE DATOS'!L437","v":5.6918604651162799},{"$f":"'HOJA GENERAL DE DATOS'!L440","v":1.05039286621655},4.6414675988997303,6.7422533313328294,{"$f":"'GEST BA'!C20","v":0},"PUNTO CRÍTICO"]
["COMEDEROS PIENSO",{"$f":"'HOJA GENERAL DE DATOS'!M437","v":6.0232558139534902},{"$f":"'HOJA GENERAL DE DATOS'!M440","v":0.77197618643462096},5.2512796275188691,6.7952320003881113,{"$f":"'GEST BA'!C21","v":0},"PUNTO CRÍTICO"]
["COMEDEROS PAJA",{"$f":"'HOJA GENERAL DE DATOS'!N437","v":5.96511627906977},{"$f":"'HOJA GENERAL DE DATOS'!N440","v":1.0139111281930899},4.9512051508766799,6.9790274072628602,{"$f":"'GEST BA'!C22","v":0},"PUNTO CRÍTICO"]
["BEBEDEROS",{"$f":"'HOJA GENERAL DE DATOS'!O437","v":5.4534883720930196},{"$f":"'HOJA GENERAL DE DATOS'!O440","v":0.97521299810701201},4.4782753739860075,6.4287013702000317,{"$f":"'GEST BA'!C23","v":0},"PUNTO CRÍTICO"]
["CONSISTENCIA HECES",{"$f":"'HOJA GENERAL DE DATOS'!P437","v":3.5116279069767402},{"$f":"'HOJA GENERAL DE DATOS'!P440","v":0.59715085806420998},2.9144770489125302,4.1087787650409506,{"$f":"'GEST BA'!C24","v":0},"PUNTO CRÍTICO"]
["ESTADO CORPORAL",{"$f":"'HOJA GENERAL DE DATOS'!R437","v":4.0221511627907001},{"$f":"'HOJA GENERAL DE DATOS'!R440","v":2.79873269573255},1.22341846705815,6.8208838585232501,{"$f":"'GEST BA'!C25","v":0},"PUNTO CRÍTICO"]
[]
[]
["BA AMBIENTE",{"$f":"AVERAGE(B621:B624)","v":5.7688953488372103},{"$f":"AVERAGE(C621:C624)","v":1.0116750007012387},{"$f":"AVERAGE(D621:D624)","v":4.7572203481359709},6.7805703495384488,{"$f":"AVERAGE(F621:F624)","v":0},"PUNTO CRÍTICO"]
["BA MANEJO",{"$f":"AVERAGE(B625:B629)","v":5.7674418604651176},{"$f":"AVERAGE(C625:C629)","v":1.0152942860603471},{"$f":"AVERAGE(D625:D629)","v":4.7521475744047708},6.7827361465254645,{"$f":"AVERAGE(F625:F629)","v":0},"PUNTO CRÍTICO"]
["BA INSTALACIONES",{"$f":"AVERAGE(B630:B632)","v":5.8139534883720927},{"$f":"AVERAGE(C630:C632)","v":0.92036677091157426},{"$f":"AVERAGE(D630:D632)","v":4.8935867174605185},6.7343202592836668,{"$f":"AVERAGE(F630:F632)","v":0},"PUNTO CRÍTICO"]
["BA GLOBAL",{"$f":"AVERAGE(B621:B632)","v":5.7795542635658919},{"$f":"AVERAGE(C621:C632)","v":0.99035597882011783},{"$f":"AVERAGE(D621:D632)","v":4.7891982847457744},6.7699102423860094,{"$f":"AVERAGE(F621:F632)","v":0},"PUNTO CRÍTICO"]
[]
[]
[]
["PUNTOS CRITICOS"]
[]
[null,"COMPETENCIAS","Valoración","V.Real","REALES","Ideal","MEDIOS","desv st","MEDIA PRR","MAXIMOS","Minimo","CALIFICACION"]
[null,"Calidad del agua",4,{"$f":"'GEST PPCC'!C12","v":0},{"$f":"C647*D647","v":0},16,{"$f":"'HOJA GENERAL DE DATOS'!B444","v":2.75},{"$f":"'HOJA GENERAL DE DATOS'!B447","v":0.70710678118654802},{"$f":"G647*C647","v":11},{"$f":"(G647+H647)*C647","v":13.828427124746192},{"$f":"(G647-(H647*0.5))*C647","v":9.5857864376269042},{"$f":"IF(E647>J647,\"EXCELENTE\",IF(E647<K647,\"PUNTO CRITICO\",\"\"))","v":"PUNTO CRITICO"}]
[null,"Tipo de piensos utilizados",3,{"$f":"'GEST PPCC'!C13","v":0},{"$f":"C648*D648","v":0},12,{"$f":"'HOJA GENERAL DE DATOS'!C444","v":3.125},{"$f":"'HOJA GENERAL DE DATOS'!C447","v":0.99103120896511498},{"$f":"G648*C648","v":9.375},{"$f":"(G648+H648)*C648","v":12.348093626895345},{"$f":"(G648-(H648*0.5))*C648","v":7.8884531865523275},{"$f":"IF(E648>J648,\"EXCELENTE\",IF(E648<K648,\"PUNTO CRITICO\",\"\"))","v":"PUNTO CRITICO"}]
["ALIMENTACION","Metro lineal comedero/m2",5,{"$f":"'GEST PPCC'!C14","v":0},0,20,{"$f":"'HOJA GENERAL DE DATOS'!D444","v":3.625},{"$f":"'HOJA GENERAL DE DATOS'!D447","v":0.74402380914284505},18.125,21.845119045714227,16.264940477142886,"PUNTO CRITICO"]
[" ","Puntos de agua/m2",5,{"$f":"'GEST PPCC'!C15","v":0},0,20,{"$f":"'HOJA GENERAL DE DATOS'!E444","v":2.25},{"$f":"'HOJA GENERAL DE DATOS'!E447","v":1.38873014965883},11.25,18.19365074829415,7.778174625852925,"PUNTO CRITICO"]
[null,"Metro lineal forrajera/m2",5,{"$f":"'GEST PPCC'!C16","v":0},0,20,{"$f":"'HOJA GENERAL DE DATOS'!F444","v":3.5},{"$f":"'HOJA GENERAL DE DATOS'!F447","v":0.75592894601845395},17.5,21.279644730092269,15.610177634953866,"PUNTO CRITICO"]
[null,"Control de Orígenes",6,{"$f":"'GEST PPCC'!C17","v":0},0,24,{"$f":"'HOJA GENERAL DE DATOS'!G444","v":3.125},{"$f":"'HOJA GENERAL DE DATOS'!G447","v":0.99103120896511498},18.75,24.69618725379069,15.776906373104655,"PUNTO CRITICO"]
[null,"Profilaxis a la entrada",4,{"$f":"'GEST PPCC'!C18","v":0},0,16,{"$f":"'HOJA GENERAL DE DATOS'!H444","v":2.375},{"$f":"'HOJA GENERAL DE DATOS'!H447","v":0.74402380914284505},9.5,12.47609523657138,8.011952381714309,"PUNTO CRITICO"]
["SANIDAD","Manejo de enfermos",4,{"$f":"'GEST PPCC'!C19","v":0},0,16,{"$f":"'HOJA GENERAL DE DATOS'!I444","v":2.5},{"$f":"'HOJA GENERAL DE DATOS'!I447","v":1.30930734141595},10,15.237229365663801,7.3813853171680996,"PUNTO CRITICO"]
[" ","Plan DDD",3,{"$f":"'GEST PPCC'!C20","v":0},0,12,{"$f":"'HOJA GENERAL DE DATOS'!J444","v":2.5},{"$f":"'HOJA GENERAL DE DATOS'!J447","v":1.30930734141595},7.5,11.427922024247851,5.5360389878760747,"PUNTO CRITICO"]
[null,"Gestión de Bajas",3,{"$f":"'GEST PPCC'!C21","v":0},0,12,{"$f":"'HOJA GENERAL DE DATOS'!K444","v":1.5},{"$f":"'HOJA GENERAL DE DATOS'!K447","v":0.75592894601845395},4.5,6.7677868380553612,3.3661065809723194,"PUNTO CRITICO"]
[null,"Densidad de animales",5,{"$f":"'GEST PPCC'!C22","v":0},0,20,{"$f":"'HOJA GENERAL DE DATOS'!L444","v":2},{"$f":"'HOJA GENERAL DE DATOS'!L447","v":1.30930734141595},10,16.546536707079753,6.7267316464601246,"PUNTO CRITICO"]
[null,"Aislamiento y ventilación",5,{"$f":"'GEST PPCC'!C23","v":0},0,20,{"$f":"'HOJA GENERAL DE DATOS'!M444","v":1.625},{"$f":"'HOJA GENERAL DE DATOS'!M447","v":0.916125381312904},8.125,12.70562690656452,5.83468654671774,"PUNTO CRITICO"]
["INSTALACIONES Y BA","Frecuencia limpieza de comederos",2,{"$f":"'GEST PPCC'!C24","v":0},0,8,{"$f":"'HOJA GENERAL DE DATOS'!N444","v":2.25},{"$f":"'HOJA GENERAL DE DATOS'!N447","v":1.28173988892331},4.5,7.0634797778466201,3.21826011107669,"PUNTO CRITICO"]
[" ","Sistemas de medicación",3,{"$f":"'GEST PPCC'!C25","v":0},0,12,{"$f":"'HOJA GENERAL DE DATOS'!O444","v":2},{"$f":"'HOJA GENERAL DE DATOS'!O447","v":1.0690449676497},6,9.2071349029491003,4.3964325485254498,"PUNTO CRITICO"]
[" ","Gestión de estiércol",2,{"$f":"'GEST PPCC'!C26","v":0},0,8,{"$f":"'HOJA GENERAL DE DATOS'!P444","v":1.875},{"$f":"'HOJA GENERAL DE DATOS'!P447","v":0.99103120896511498},3.75,5.73206241793023,2.758968791034885,"PUNTO CRITICO"]
[null,"Control de peso de entrada y salida",4,{"$f":"'GEST PPCC'!C27","v":0},0,16,{"$f":"'HOJA GENERAL DE DATOS'!Q444","v":2.125},{"$f":"'HOJA GENERAL DE DATOS'!Q447","v":1.4577379737113301},8.5,14.33095189484532,5.5845240525773399,"PUNTO CRITICO"]
[null,"Dias de estancia.",3,{"$f":"'GEST PPCC'!C28","v":0},0,12,{"$f":"'HOJA GENERAL DE DATOS'!R444","v":2},{"$f":"'HOJA GENERAL DE DATOS'!R447","v":1.30930734141595},6,9.9279220242478505,4.0360389878760747,"PUNTO CRITICO"]
["PRODUCCIONES-INDICES","Porcentaje de bajas",5,{"$f":"'GEST PPCC'!C29","v":0},0,20,{"$f":"'HOJA GENERAL DE DATOS'!S444","v":2.375},{"$f":"'HOJA GENERAL DE DATOS'!S447","v":1.84681192483541},11.875,21.10905962417705,7.2579701879114751,"PUNTO CRITICO"]
[" ","Gestión de lotes",3,{"$f":"'GEST PPCC'!C30","v":0},0,12,{"$f":"'HOJA GENERAL DE DATOS'!T444","v":2.625},{"$f":"'HOJA GENERAL DE DATOS'!T447","v":0.916125381312904},7.875,10.623376143938712,6.500811928030644,"PUNTO CRITICO"]
[null,"Corderos vendidos /m2",5,{"$f":"'GEST PPCC'!C31","v":0},0,20,{"$f":"'HOJA GENERAL DE DATOS'!U444","v":2},{"$f":"'HOJA GENERAL DE DATOS'!U447","v":1.6035674514745499},10,18.017837257372751,5.9910813713136246,"PUNTO CRITICO"]
[null,"UTH",4,{"$f":"'GEST PPCC'!C32","v":0},0,16,{"$f":"'HOJA GENERAL DE DATOS'!V444","v":3.5},{"$f":"'HOJA GENERAL DE DATOS'!V447","v":0.75592894601845395},14,17.023715784073815,12.488142107963093,"PUNTO CRITICO"]
[null,"Forma de comercialización",5,{"$f":"'GEST PPCC'!C33","v":0},0,20,{"$f":"'HOJA GENERAL DE DATOS'!W444","v":3.125},{"$f":"'HOJA GENERAL DE DATOS'!W447","v":0.83452296039628004},15.625,19.7976148019814,13.538692599009302,"PUNTO CRITICO"]
["CONDICIONES ECONOMICAS","Amortización instalaciones",2,{"$f":"'GEST PPCC'!C34","v":0},0,8,{"$f":"'HOJA GENERAL DE DATOS'!X444","v":1.875},{"$f":"'HOJA GENERAL DE DATOS'!X447","v":1.6420805617960901},3.75,7.0341611235921802,2.1079194382039099,"PUNTO CRITICO"]
[" ","Cualificación del personal",4,{"$f":"'GEST PPCC'!C35","v":0},0,16,{"$f":"'HOJA GENERAL DE DATOS'!Y444","v":3.25},{"$f":"'HOJA GENERAL DE DATOS'!Y447","v":0.88640526042791801},13,16.545621041711673,11.227189479144164,"PUNTO CRITICO"]
[null,"GMD e I.C.",6,{"$f":"'GEST PPCC'!C36","v":0},0,24,{"$f":"'HOJA GENERAL DE DATOS'!Z444","v":2.875},{"$f":"'HOJA GENERAL DE DATOS'!Z447","v":0.83452296039628004},17.25,22.257137762377681,14.746431118811161,"PUNTO CRITICO"]
["TOTAL",null,100,{"$f":"SUM(D647:D671)","v":0},0,400,62.75,27.350679091982251,257.75,{"$f":"SUM(J647:J671)","v":366.02239416475999},203.61380291762001]
[]
[null,"REFERENCIAS","REALES","MEDIOS","MAXIMOS","MINIMOS"]
["ALIMENTACION",22,{"$f":"AVERAGE(E647:E651)","v":0},{"$f":"AVERAGE(I647:I651)","v":13.45},{"$f":"AVERAGE(J647:J651)","v":17.498987055148437},{"$f":"AVERAGE(K647:K651)","v":11.425506472425782},{"$f":"IF(C675>E675,\"EXCELENTE\",IF(C675<F675,\"PUNTO CRITICO\",\"\"))","v":"PUNTO CRITICO"}]
["SANIDAD",20,{"$f":"AVERAGE(E652:E656)","v":0},{"$f":"AVERAGE(I652:I656)","v":10.050000000000001},{"$f":"AVERAGE(J652:J656)","v":14.121044143665817},{"$f":"AVERAGE(K652:K656)","v":8.0144779281670928},{"$f":"IF(C676>E676,\"EXCELENTE\",IF(C676<F676,\"PUNTO CRITICO\",\"\"))","v":"PUNTO CRITICO"}]
["INTALAC. Y BA",17,{"$f":"AVERAGE(E657:E661)","v":0},{"$f":"AVERAGE(I657:I661)","v":6.4749999999999996},{"$f":"AVERAGE(J657:J661)","v":10.250968142474045},{"$f":"AVERAGE(K657:K661)","v":4.5870159287629786},"PUNTO CRITICO"]
["ZOOTECNICOS",20,{"$f":"AVERAGE(E662:E666)","v":0},{"$f":"AVERAGE(I662:I666)","v":8.85},{"$f":"AVERAGE(J662:J666)","v":14.801829388916337},{"$f":"AVERAGE(K662:K666)","v":5.8740853055418309},"PUNTO CRITICO"]
["ECONOMIA",21,{"$f":"AVERAGE(E667:E671)","v":0},{"$f":"AVERAGE(I667:I671)","v":12.725},{"$f":"AVERAGE(J667:J671)","v":16.531650102747349},{"$f":"AVERAGE(K667:K671)","v":10.821674948626326},"PUNTO CRITICO"]
[]
["NUMERO",{"$f":"'HOJA GENERAL DE DATOS'!A444","v":8},null,null,null,null,null,null,null,null,"BAJO ENGRASAMIENTO",null,{"$f":"'PRODUCTOS GESTICOR'!C13","v":"EFICIENCIA"},{"$f":"'PRODUCTOS GESTICOR'!C12*100","v":102}]
[null,null,null,null,null,null,null,null,null,null,"SEGURIDAD"]
[null,null,null,null,null,null,null,null,null,null,"EFICIENCIA"]
[null,null,null,null,null,null,null,null,null,null,"RENDIMIENTO"]
["PRODUCTOS GESTICOR",null,null,1,2,3,4,5,6,7,8,9,10,11,12,13,14,15]
[{"$f":"'HOJA GENERAL DE DATOS'!A452","v":"CODIGO IRIS"},{"$f":"'HOJA GENERAL DE DATOS'!B452","v":"NOMBRE PRODUCTO"},{"$f":"'HOJA GENERAL DE DATOS'!C452","v":"UFL/UFV"},"CONCEPTO",null,{"$f":"B686","v":"NOMBRE PRODUCTO"},{"$f":"A686","v":"CODIGO IRIS"},{"$f":"B686","v":"NOMBRE PRODUCTO"},{"$f":"C686","v":"UFL/UFV"},{"$f":"'HOJA GENERAL DE DATOS'!D452","v":"HUMEDAD"},{"$f":"'HOJA GENERAL DE DATOS'!E452","v":"PROTEINA BRUTA"},{"$f":"'HOJA GENERAL DE DATOS'!F452","v":"FIBRA BRUTA"},{"$f":"'HOJA GENERAL DE DATOS'!G452","v":"GRASA BRUTA"},{"$f":"'HOJA GENERAL DE DATOS'!H452","v":"CENIZAS"},{"$f":"'HOJA GENERAL DE DATOS'!I452","v":"A+A"},{"$f":"'HOJA GENERAL DE DATOS'!J452","v":"MODO DE EMPLEO"},{"$f":"'HOJA GENERAL DE DATOS'!K452","v":"OBSERVACIONES"},{"$f":"'HOJA GENERAL DE DATOS'!L452","v":"PRESENTACION"}]
[{"$f":"'HOJA GENERAL DE DATOS'!A453","v":"1796 GGR."},{"$f":"'HOJA GENERAL DE DATOS'!B453","v":"GESTICOR BASIC"},{"$f":"'HOJA GENERAL DE DATOS'!C453","v":94},"BAJO ENGRASAMIENTO",1,"GESTICOR BASIC","1796 GGR.","GESTICOR BASIC",94,{"$f":"'HOJA GENERAL DE DATOS'!D453","v":110},{"$f":"'HOJA GENERAL DE DATOS'!E453","v":160},{"$f":"'HOJA GENERAL DE DATOS'!F453","v":60},{"$f":"'HOJA GENERAL DE DATOS'!G453","v":22},{"$f":"'HOJA GENERAL DE DATOS'!H453","v":69},{"$f":"'HOJA GENERAL DE DATOS'!I453","v":370},{"$f":"'HOJA GENERAL DE DATOS'!J453","v":"Pienso compuesto complememtario de paja destinado a corderos de engorde a partir de la entrada a cebadero (mínimo 16 Kg de peso vivo) hasta el sacrificio, guardando el correspondiente periodo de espera en caso de que vaya medicado."},{"$f":"'HOJA GENERAL DE DATOS'!K453","v":"Los animales dispondrán de paja a libre disposición y agua limpia y fresca  Los animales dispondrán siempre a voluntad este producto evitando que se queden sin él."},{"$f":"'HOJA GENERAL DE DATOS'!L453","v":"GRANULADO 3,5"}]
[{"$f":"'HOJA GENERAL DE DATOS'!A454","v":"1503 GGR."},{"$f":"'HOJA GENERAL DE DATOS'!B454","v":"GESTICOR CEBIAL"},{"$f":"'HOJA GENERAL DE DATOS'!C454","v":96},"BAJO ENGRASAMIENTO",2,"GESTICOR CEBIAL","1503 GGR.","GESTICOR CEBIAL",96,{"$f":"'HOJA GENERAL DE DATOS'!D454","v":110},{"$f":"'HOJA GENERAL DE DATOS'!E454","v":165},{"$f":"'HOJA GENERAL DE DATOS'!F454","v":56},{"$f":"'HOJA GENERAL DE DATOS'!G454","v":25},{"$f":"'HOJA GENERAL DE DATOS'!H454","v":66},{"$f":"'HOJA GENERAL DE DATOS'!I454","v":370},{"$f":"'HOJA GENERAL DE DATOS'!J454","v":"Pienso compuesto complememtario de paja destinado a corderos de engorde a partir de la entrada a cebadero (mínimo 16 Kg de peso vivo) hasta el sacrificio, guardando el correspondiente periodo de espera en caso de que vaya medicado."},{"$f":"'HOJA GENERAL DE DATOS'!K454","v":"Los animales dispondrán de paja a libre disposición y agua limpia y fresca  Los animales dispondrán siempre a voluntad este producto evitando que se queden sin él."},{"$f":"'HOJA GENERAL DE DATOS'!L454","v":"GRANULADO 3,5"}]
[{"$f":"'HOJA GENERAL DE DATOS'!A455","v":"1506 GGR"},{"$f":"'HOJA GENERAL DE DATOS'!B455","v":"GESTICOR PESADO"},{"$f":"'HOJA GENERAL DE DATOS'!C455","v":98},"SEGURIDAD",3,"GESTICOR PESADO","1506 GGR","GESTICOR PESADO",98,{"$f":"'HOJA GENERAL DE DATOS'!D455","v":110},{"$f":"'HOJA GENERAL DE DATOS'!E455","v":170},{"$f":"'HOJA GENERAL DE DATOS'!F455","v":44},{"$f":"'HOJA GENERAL DE DATOS'!G455","v":25},{"$f":"'HOJA GENERAL DE DATOS'!H455","v":70},{"$f":"'HOJA GENERAL DE DATOS'!I455","v":380},{"$f":"'HOJA GENERAL DE DATOS'!J455","v":"Pienso compuesto complememtario de paja destinado a corderos de engorde a partir del destete hasta el sacrificio guardando el correspondiente periodo de espera si ha lugar."},{"$f":"'HOJA GENERAL DE DATOS'!K455","v":"Los animales dispondrán de paja a libre disposición y agua limpia y fresca  Los animales dispondrán siempre a voluntad este producto evitando que se queden sin él."},{"$f":"'HOJA GENERAL DE DATOS'!L455","v":"GRANULADO 3,5"}]
[{"$f":"'HOJA GENERAL DE DATOS'!A456","v":"1507 GGR"},{"$f":"'HOJA GENERAL DE DATOS'!B456","v":"GESTICOR INTENSIVO"},{"$f":"'HOJA GENERAL DE DATOS'!C456","v":100},"SEGURIDAD",4,"GESTICOR INTENSIVO","1507 GGR","GESTICOR INTENSIVO",100,{"$f":"'HOJA GENERAL DE DATOS'!D456","v":110},{"$f":"'HOJA GENERAL DE DATOS'!E456","v":175},{"$f":"'HOJA GENERAL DE DATOS'!F456","v":41},{"$f":"'HOJA GENERAL DE DATOS'!G456","v":28},{"$f":"'HOJA GENERAL DE DATOS'!H456","v":68},{"$f":"'HOJA GENERAL DE DATOS'!I456","v":400},{"$f":"'HOJA GENERAL DE DATOS'!J456","v":"Pienso compuesto complemetario de paja destinado a corderos de engorde a partir del destete hasta el sacrificio guardando el correspondiente periodo de espera si ha lugar."},{"$f":"'HOJA GENERAL DE DATOS'!K456","v":"Los animales dispondrán de paja a libre disposición y agua limpia y fresca  Los animales dispondrán siempre a voluntad este producto evitando que se queden sin él."},{"$f":"'HOJA GENERAL DE DATOS'!L456","v":"GRANULADO 3,5"}]
[{"$f":"'HOJA GENERAL DE DATOS'!A457","v":"1504 GGR"},{"$f":"'HOJA GENERAL DE DATOS'!B457","v":"GESTICOR LIGERO"},{"$f":"'HOJA GENERAL DE DATOS'!C457","v":102},"EFICIENCIA",5,"GESTICOR LIGERO","1504 GGR","GESTICOR LIGERO",102,{"$f":"'HOJA GENERAL DE DATOS'!D457","v":110},{"$f":"'HOJA GENERAL DE DATOS'!E457","v":177},{"$f":"'HOJA GENERAL DE DATOS'!F457","v":34},{"$f":"'HOJA GENERAL DE DATOS'!G457","v":27},{"$f":"'HOJA GENERAL DE DATOS'!H457","v":64},{"$f":"'HOJA GENERAL DE DATOS'!I457","v":420},{"$f":"'HOJA GENERAL DE DATOS'!J457","v":"Pienso compuesto complememtario de paja destinado a corderos de engorde a partir del destete hasta el sacrificio guardando el correspondiente periodo de espera si ha lugar."},{"$f":"'HOJA GENERAL DE DATOS'!K457","v":"Los animales dispondrán de paja a libre disposición y agua limpia y fresca  Los animales dispondrán siempre a voluntad este producto evitando que se queden sin él."},{"$f":"'HOJA GENERAL DE DATOS'!L457","v":"GRANULADO 3,5"}]
[{"$f":"'HOJA GENERAL DE DATOS'!A458","v":"1505 GGR"},{"$f":"'HOJA GENERAL DE DATOS'!B458","v":"GESTICOR ESPECIAL"},{"$f":"'HOJA GENERAL DE DATOS'!C458","v":104},"EFICIENCIA",6,"GESTICOR ESPECIAL","1505 GGR","GESTICOR ESPECIAL",104,{"$f":"'HOJA GENERAL DE DATOS'!D458","v":110},{"$f":"'HOJA GENERAL DE DATOS'!E458","v":180},{"$f":"'HOJA GENERAL DE DATOS'!F458","v":30},{"$f":"'HOJA GENERAL DE DATOS'!G458","v":34},{"$f":"'HOJA GENERAL DE DATOS'!H458","v":64},{"$f":"'HOJA GENERAL DE DATOS'!I458","v":440},{"$f":"'HOJA GENERAL DE DATOS'!J458","v":"Pienso compuesto complememtario de paja destinado a corderos de engorde a partir del destete hasta el sacrificio guardando el correspondiente periodo de espera si ha lugar."},{"$f":"'HOJA GENERAL DE DATOS'!K458","v":"Los animales dispondrán de paja a libre disposición y agua limpia y fresca  Los animales dispondrán siempre a voluntad este producto evitando que se queden sin él."},{"$f":"'HOJA GENERAL DE DATOS'!L458","v":"GRANULADO 3,5"}]
[{"$f":"'HOJA GENERAL DE DATOS'!A459","v":"1508 GGR"},{"$f":"'HOJA GENERAL DE DATOS'!B459","v":"GESTICOR PLUS"},{"$f":"'HOJA GENERAL DE DATOS'!C459","v":104},"RENDIMIENTO",7,"GESTICOR PLUS","1508 GGR","GESTICOR PLUS",104,{"$f":"'HOJA GENERAL DE DATOS'!D459","v":110},{"$f":"'HOJA GENERAL DE DATOS'!E459","v":160},{"$f":"'HOJA GENERAL DE DATOS'!F459","v":40},{"$f":"'HOJA GENERAL DE DATOS'!G459","v":48},{"$f":"'HOJA GENERAL DE DATOS'!H459","v":65},{"$f":"'HOJA GENERAL DE DATOS'!I459","v":390},{"$f":"'HOJA GENERAL DE DATOS'!J459","v":"Pienso compuesto complememtario de paja destinado a corderos de engorde a partir del destete hasta el sacrificio guardando el correspondiente periodo de espera si ha lugar."},{"$f":"'HOJA GENERAL DE DATOS'!K459","v":"Los animales dispondrán de paja a libre disposición y agua limpia y fresca  Los animales dispondrán siempre a voluntad este producto evitando que se queden sin él."},{"$f":"'HOJA GENERAL DE DATOS'!L459","v":"GRANULADO 3,5"}]
[{"$f":"'HOJA GENERAL DE DATOS'!A460","v":0},{"$f":"'HOJA GENERAL DE DATOS'!B460","v":0},{"$f":"'HOJA GENERAL DE DATOS'!C460","v":0},null,8,0,0,0,0,{"$f":"'HOJA GENERAL DE DATOS'!D460","v":0},{"$f":"'HOJA GENERAL DE DATOS'!E460","v":0},{"$f":"'HOJA GENERAL DE DATOS'!F460","v":0},{"$f":"'HOJA GENERAL DE DATOS'!G460","v":0},{"$f":"'HOJA GENERAL DE DATOS'!H460","v":0},{"$f":"'HOJA GENERAL DE DATOS'!I460","v":0},{"$f":"'HOJA GENERAL DE DATOS'!J460","v":0},{"$f":"'HOJA GENERAL DE DATOS'!K460","v":0},{"$f":"'HOJA GENERAL DE DATOS'!L460","v":0}]
[{"$f":"'HOJA GENERAL DE DATOS'!A461","v":0},{"$f":"'HOJA GENERAL DE DATOS'!B461","v":0},{"$f":"'HOJA GENERAL DE DATOS'!C461","v":0},null,null,0,0,0,0,{"$f":"'HOJA GENERAL DE DATOS'!D461","v":0},{"$f":"'HOJA GENERAL DE DATOS'!E461","v":0},{"$f":"'HOJA GENERAL DE DATOS'!F461","v":0},{"$f":"'HOJA GENERAL DE DATOS'!G461","v":0},{"$f":"'HOJA GENERAL DE DATOS'!H461","v":0},{"$f":"'HOJA GENERAL DE DATOS'!I461","v":0},{"$f":"'HOJA GENERAL DE DATOS'!J461","v":0},{"$f":"'HOJA GENERAL DE DATOS'!K461","v":0},{"$f":"'HOJA GENERAL DE DATOS'!L461","v":0}]
[{"$f":"'HOJA GENERAL DE DATOS'!A462","v":0},{"$f":"'HOJA GENERAL DE DATOS'!B462","v":0},{"$f":"'HOJA GENERAL DE DATOS'!C462","v":0},null,null,0,0,0,0,{"$f":"'HOJA GENERAL DE DATOS'!D462","v":0},{"$f":"'HOJA GENERAL DE DATOS'!E462","v":0},{"$f":"'HOJA GENERAL DE DATOS'!F462","v":0},{"$f":"'HOJA GENERAL DE DATOS'!G462","v":0},{"$f":"'HOJA GENERAL DE DATOS'!H462","v":0},{"$f":"'HOJA GENERAL DE DATOS'!I462","v":0},{"$f":"'HOJA GENERAL DE DATOS'!J462","v":0},{"$f":"'HOJA GENERAL DE DATOS'!K462","v":0},{"$f":"'HOJA GENERAL DE DATOS'!L462","v":0}]
[{"$f":"'HOJA GENERAL DE DATOS'!A463","v":0},{"$f":"'HOJA GENERAL DE DATOS'!B463","v":0},{"$f":"'HOJA GENERAL DE DATOS'!C463","v":0},null,null,0,0,0,0,{"$f":"'HOJA GENERAL DE DATOS'!D463","v":0},{"$f":"'HOJA GENERAL DE DATOS'!E463","v":0},{"$f":"'HOJA GENERAL DE DATOS'!F463","v":0},{"$f":"'HOJA GENERAL DE DATOS'!G463","v":0},{"$f":"'HOJA GENERAL DE DATOS'!H463","v":0},{"$f":"'HOJA GENERAL DE DATOS'!I463","v":0},{"$f":"'HOJA GENERAL DE DATOS'!J463","v":0},{"$f":"'HOJA GENERAL DE DATOS'!K463","v":0},{"$f":"'HOJA GENERAL DE DATOS'!L463","v":0}]
[{"$f":"'HOJA GENERAL DE DATOS'!A464","v":0},{"$f":"'HOJA GENERAL DE DATOS'!B464","v":0},{"$f":"'HOJA GENERAL DE DATOS'!C464","v":0},null,null,0,0,0,0,{"$f":"'HOJA GENERAL DE DATOS'!D464","v":0},{"$f":"'HOJA GENERAL DE DATOS'!E464","v":0},{"$f":"'HOJA GENERAL DE DATOS'!F464","v":0},{"$f":"'HOJA GENERAL DE DATOS'!G464","v":0},{"$f":"'HOJA GENERAL DE DATOS'!H464","v":0},{"$f":"'HOJA GENERAL DE DATOS'!I464","v":0},{"$f":"'HOJA GENERAL DE DATOS'!J464","v":0},{"$f":"'HOJA GENERAL DE DATOS'!K464","v":0},{"$f":"'HOJA GENERAL DE DATOS'!L464","v":0}]
[{"$f":"'HOJA GENERAL DE DATOS'!A465","v":0},{"$f":"'HOJA GENERAL DE DATOS'!B465","v":0},{"$f":"'HOJA GENERAL DE DATOS'!C465","v":0},null,null,0,0,0,0,{"$f":"'HOJA GENERAL DE DATOS'!D465","v":0},{"$f":"'HOJA GENERAL DE DATOS'!E465","v":0},{"$f":"'HOJA GENERAL DE DATOS'!F465","v":0},{"$f":"'HOJA GENERAL DE DATOS'!G465","v":0},{"$f":"'HOJA GENERAL DE DATOS'!H465","v":0},{"$f":"'HOJA GENERAL DE DATOS'!I465","v":0},{"$f":"'HOJA GENERAL DE DATOS'!J465","v":0},{"$f":"'HOJA GENERAL DE DATOS'!K465","v":0},{"$f":"'HOJA GENERAL DE DATOS'!L465","v":0}]
[{"$f":"'HOJA GENERAL DE DATOS'!A466","v":0},{"$f":"'HOJA GENERAL DE DATOS'!B466","v":0},{"$f":"'HOJA GENERAL DE DATOS'!C466","v":0},null,null,0,0,0,0,{"$f":"'HOJA GENERAL DE DATOS'!D466","v":0},{"$f":"'HOJA GENERAL DE DATOS'!E466","v":0},{"$f":"'HOJA GENERAL DE DATOS'!F466","v":0},{"$f":"'HOJA GENERAL DE DATOS'!G466","v":0},{"$f":"'HOJA GENERAL DE DATOS'!H466","v":0},{"$f":"'HOJA GENERAL DE DATOS'!I466","v":0},{"$f":"'HOJA GENERAL DE DATOS'!J466","v":0},{"$f":"'HOJA GENERAL DE DATOS'!K466","v":0},{"$f":"'HOJA GENERAL DE DATOS'!L466","v":0}]
[{"$f":"'HOJA GENERAL DE DATOS'!A467","v":0},{"$f":"'HOJA GENERAL DE DATOS'!B467","v":0},{"$f":"'HOJA GENERAL DE DATOS'!C467","v":0},null,null,0,0,0,0,{"$f":"'HOJA GENERAL DE DATOS'!D467","v":0},{"$f":"'HOJA GENERAL DE DATOS'!E467","v":0},{"$f":"'HOJA GENERAL DE DATOS'!F467","v":0},{"$f":"'HOJA GENERAL DE DATOS'!G467","v":0},{"$f":"'HOJA GENERAL DE DATOS'!H467","v":0},{"$f":"'HOJA GENERAL DE DATOS'!I467","v":0},{"$f":"'HOJA GENERAL DE DATOS'!J467","v":0},{"$f":"'HOJA GENERAL DE DATOS'!K467","v":0},{"$f":"'HOJA GENERAL DE DATOS'!L467","v":0}]
[{"$f":"'HOJA GENERAL DE DATOS'!A468","v":0},{"$f":"'HOJA GENERAL DE DATOS'!B468","v":0},{"$f":"'HOJA GENERAL DE DATOS'!C468","v":0},null,null,0,0,0,0,{"$f":"'HOJA GENERAL DE DATOS'!D468","v":0},{"$f":"'HOJA GENERAL DE DATOS'!E468","v":0},{"$f":"'HOJA GENERAL DE DATOS'!F468","v":0},{"$f":"'HOJA GENERAL DE DATOS'!G468","v":0},{"$f":"'HOJA GENERAL DE DATOS'!H468","v":0},{"$f":"'HOJA GENERAL DE DATOS'!I468","v":0},{"$f":"'HOJA GENERAL DE DATOS'!J468","v":0},{"$f":"'HOJA GENERAL DE DATOS'!K468","v":0},{"$f":"'HOJA GENERAL DE DATOS'!L468","v":0}]
[{"$f":"'HOJA GENERAL DE DATOS'!A469","v":0},{"$f":"'HOJA GENERAL DE DATOS'!B469","v":0},{"$f":"'HOJA GENERAL DE DATOS'!C469","v":0},null,null,0,0,0,0,{"$f":"'HOJA GENERAL DE DATOS'!D469","v":0},{"$f":"'HOJA GENERAL DE DATOS'!E469","v":0},{"$f":"'HOJA GENERAL DE DATOS'!F469","v":0},{"$f":"'HOJA GENERAL DE DATOS'!G469","v":0},{"$f":"'HOJA GENERAL DE DATOS'!H469","v":0},{"$f":"'HOJA GENERAL DE DATOS'!I469","v":0},{"$f":"'HOJA GENERAL DE DATOS'!J469","v":0},{"$f":"'HOJA GENERAL DE DATOS'!K469","v":0},{"$f":"'HOJA GENERAL DE DATOS'!L469","v":0}]
[{"$f":"'HOJA GENERAL DE DATOS'!A470","v":0},{"$f":"'HOJA GENERAL DE DATOS'!B470","v":0},{"$f":"'HOJA GENERAL DE DATOS'!C470","v":0},null,null,0,0,0,0,{"$f":"'HOJA GENERAL DE DATOS'!D470","v":0},{"$f":"'HOJA GENERAL DE DATOS'!E470","v":0},{"$f":"'HOJA GENERAL DE DATOS'!F470","v":0},{"$f":"'HOJA GENERAL DE DATOS'!G470","v":0},{"$f":"'HOJA GENERAL DE DATOS'!H470","v":0},{"$f":"'HOJA GENERAL DE DATOS'!I470","v":0},{"$f":"'HOJA GENERAL DE DATOS'!J470","v":0},{"$f":"'HOJA GENERAL DE DATOS'!K470","v":0},{"$f":"'HOJA GENERAL DE DATOS'!L470","v":0}]
[{"$f":"'HOJA GENERAL DE DATOS'!A471","v":0},{"$f":"'HOJA GENERAL DE DATOS'!B471","v":0},{"$f":"'HOJA GENERAL DE DATOS'!C471","v":0},null,null,0,0,0,0,{"$f":"'HOJA GENERAL DE DATOS'!D471","v":0},{"$f":"'HOJA GENERAL DE DATOS'!E471","v":0},{"$f":"'HOJA GENERAL DE DATOS'!F471","v":0},{"$f":"'HOJA GENERAL DE DATOS'!G471","v":0},{"$f":"'HOJA GENERAL DE DATOS'!H471","v":0},{"$f":"'HOJA GENERAL DE DATOS'!I471","v":0},{"$f":"'HOJA GENERAL DE DATOS'!J471","v":0},{"$f":"'HOJA GENERAL DE DATOS'!K471","v":0},{"$f":"'HOJA GENERAL DE DATOS'!L471","v":0}]
[{"$f":"'HOJA GENERAL DE DATOS'!A472","v":0},{"$f":"'HOJA GENERAL DE DATOS'!B472","v":0},{"$f":"'HOJA GENERAL DE DATOS'!C472","v":0},null,null,0,0,0,0,{"$f":"'HOJA GENERAL DE DATOS'!D472","v":0},{"$f":"'HOJA GENERAL DE DATOS'!E472","v":0},{"$f":"'HOJA GENERAL DE DATOS'!F472","v":0},{"$f":"'HOJA GENERAL DE DATOS'!G472","v":0},{"$f":"'HOJA GENERAL DE DATOS'!H472","v":0},{"$f":"'HOJA GENERAL DE DATOS'!I472","v":0},{"$f":"'HOJA GENERAL DE DATOS'!J472","v":0},{"$f":"'HOJA GENERAL DE DATOS'!K472","v":0},{"$f":"'HOJA GENERAL DE DATOS'!L472","v":0}]
[]
[]
[null,"SELECCIÓN CONCEPTO"]
[null,{"$f":"VLOOKUP($M$681,$D$686:$I$706,D685,FALSE)","v":"EFICIENCIA"},5,"GESTICOR LIGERO","1504 GGR","GESTICOR LIGERO",102,{"$f":"E710","v":"1504 GGR"},{"$f":"F710","v":"GESTICOR LIGERO"},102,{"$f":"VLOOKUP($M$681,$D$686:$R$706,J685,FALSE)","v":110},{"$f":"VLOOKUP($M$681,$D$686:$R$706,K685,FALSE)","v":177},{"$f":"VLOOKUP($M$681,$D$686:$R$706,L685,FALSE)","v":34},27,64,420,"Pienso compuesto complememtario de paja destinado a corderos de engorde a partir del destete hasta el sacrificio guardando el correspondiente periodo de espera si ha lugar.","Los animales dispondrán de paja a libre disposición y agua limpia y fresca  Los animales dispondrán siempre a voluntad este producto evitando que se queden sin él.","GRANULADO 3,5"]
[null,{"$f":"C710+1","v":6},{"$f":"VLOOKUP($B$711,$E$686:$I$706,D685,FALSE)","v":6},{"$f":"VLOOKUP($B$711,$E$686:$I$706,E685,FALSE)","v":"GESTICOR ESPECIAL"},"1505 GGR","GESTICOR ESPECIAL",104,{"$f":"E711","v":"1505 GGR"},{"$f":"F711","v":"GESTICOR ESPECIAL"},{"$f":"G711","v":104},{"$f":"VLOOKUP($B$711,$E$686:$R$706,I685,FALSE)","v":110},{"$f":"VLOOKUP($B$711,$E$686:$R$706,J685,FALSE)","v":180},30,34,64,440,"Pienso compuesto complememtario de paja destinado a corderos de engorde a partir del destete hasta el sacrificio guardando el correspondiente periodo de espera si ha lugar.","Los animales dispondrán de paja a libre disposición y agua limpia y fresca  Los animales dispondrán siempre a voluntad este producto evitando que se queden sin él.","GRANULADO 3,5"]
[]
[null,"SOLUCION"]
[null,{"$f":"VLOOKUP($N$681,$G$710:$S$711,E685,TRUE)","v":"1504 GGR"},{"$f":"VLOOKUP($N$681,$G$710:$S$711,F685,TRUE)","v":"GESTICOR LIGERO"},{"$f":"VLOOKUP($N$681,$G$710:$S$711,G685,TRUE)","v":102},{"$f":"VLOOKUP($N$681,$G$710:$S$711,H685,TRUE)","v":110},177,34,27,{"$f":"VLOOKUP($N$681,$G$710:$S$711,L685,TRUE)","v":64},{"$f":"VLOOKUP($N$681,$G$710:$S$711,M685,TRUE)","v":420},{"$f":"VLOOKUP($N$681,$G$710:$S$711,N685,TRUE)","v":"Pienso compuesto complememtario de paja destinado a corderos de engorde a partir del destete hasta el sacrificio guardando el correspondiente periodo de espera si ha lugar."},{"$f":"VLOOKUP($N$681,$G$710:$S$711,O685,TRUE)","v":"Los animales dispondrán de paja a libre disposición y agua limpia y fresca  Los animales dispondrán siempre a voluntad este producto evitando que se queden sin él."},{"$f":"VLOOKUP($N$681,$G$710:$S$711,P685,TRUE)","v":"GRANULADO 3,5"}]
[]
[]
[]
[]
[]
[]
[]
["AMBIENTALE ADMISIBLES"]
[]
["ESTACION",{"$f":"IF('AMBIENTALES ADMISIBLES'!B11=\"·\",\"\",'AMBIENTALES ADMISIBLES'!B11)","v":0},null,null,"VERANO"]
[null,null,null,null,"INVIERNO"]
[null,"TEMPERATURA","HUMEDAD","VELOC AIRE"]
["EXTERIOR",{"$f":"IF('AMBIENTALES ADMISIBLES'!C13=\"\",\"\",'AMBIENTALES ADMISIBLES'!C13)","v":""},{"$f":"IF('AMBIENTALES ADMISIBLES'!C18=\"\",\"\",'AMBIENTALES ADMISIBLES'!C18)","v":""},{"$f":"IF('AMBIENTALES ADMISIBLES'!C23=\"\",\"\",'AMBIENTALES ADMISIBLES'!C23)","v":""}]
["CUADRA",{"$f":"IF('AMBIENTALES ADMISIBLES'!C14=\"\",\"\",'AMBIENTALES ADMISIBLES'!C14)","v":""},{"$f":"IF('AMBIENTALES ADMISIBLES'!C19=\"\",\"\",'AMBIENTALES ADMISIBLES'!C19)","v":""},{"$f":"IF('AMBIENTALES ADMISIBLES'!C24=\"\",\"\",'AMBIENTALES ADMISIBLES'!C24)","v":""}]
["ANIMALES",{"$f":"IF('AMBIENTALES ADMISIBLES'!C15=\"\",\"\",'AMBIENTALES ADMISIBLES'!C15)","v":""},{"$f":"IF('AMBIENTALES ADMISIBLES'!C20=\"\",\"\",'AMBIENTALES ADMISIBLES'!C20)","v":""},{"$f":"IF('AMBIENTALES ADMISIBLES'!C25=\"\",\"\",'AMBIENTALES ADMISIBLES'!C25)","v":""}]
["CAMA",{"$f":"IF('AMBIENTALES ADMISIBLES'!C16=\"\",\"\",'AMBIENTALES ADMISIBLES'!C16)","v":""},{"$f":"IF('AMBIENTALES ADMISIBLES'!C21=\"\",\"\",'AMBIENTALES ADMISIBLES'!C21)","v":""},{"$f":"IF('AMBIENTALES ADMISIBLES'!C26=\"\",\"\",'AMBIENTALES ADMISIBLES'!C26)","v":""}]
[]
[null,null,null,"RANGO ADMISIBLE","VALOR ADMISIBLE"]
["VERANO","AISLAMIENTO",{"$f":"CONCATENATE(A733,B733)","v":"VERANOAISLAMIENTO"},{"$f":"IF(B728=\"\",\"\",'HOJA GENERAL DE DATOS'!V517/10)","v":""},{"$f":"IF(D733=\"\",\"\",B727+D733)","v":""},{"$f":"IF($B$724=\"\",\"\",$B$724)","v":0},"AISLAMIENTO",{"$f":"CONCATENATE(F733,G733)","v":"0AISLAMIENTO"},{"$f":"VLOOKUP(H733,$C$733:$E$746,3,FALSE)","v":{"$error":"#N/A"}}]
["VERANO","TDENSIDAD",{"$f":"CONCATENATE(A734,B734)","v":"VERANOTDENSIDAD"},{"$f":"IF(B729=\"\",\"\",'HOJA GENERAL DE DATOS'!W517/10)","v":""},{"$f":"IF(D734=\"\",\"\",B728+D734)","v":""},{"$f":"IF($B$724=\"\",\"\",$B$724)","v":0},"TDENSIDAD",{"$f":"CONCATENATE(F734,G734)","v":"0TDENSIDAD"},{"$f":"VLOOKUP(H734,$C$733:$E$746,3,FALSE)","v":{"$error":"#N/A"}}]
["VERANO","TCAMA","VERANOTCAMA",{"$f":"IF(B730=\"\",\"\",'HOJA GENERAL DE DATOS'!X517/10)","v":""},{"$f":"IF(D735=\"\",\"\",B729+D735)","v":""},0,"TCAMA","0TCAMA",{"$error":"#N/A"}]
["VERANO","HVENTILACION","VERANOHVENTILACION",{"$f":"IF(C728=\"\",\"\",'HOJA GENERAL DE DATOS'!Y517/10)","v":""},{"$f":"IF(D736=\"\",\"\",C727+D736)","v":""},0,"HVENTILACION","0HVENTILACION",{"$error":"#N/A"}]
["VERANO","HDENSIDAD","VERANOHDENSIDAD",{"$f":"IF(C729=\"\",\"\",'HOJA GENERAL DE DATOS'!Z517/10)","v":""},{"$f":"IF(D737=\"\",\"\",C728+D737)","v":""},0,"HDENSIDAD","0HDENSIDAD",{"$error":"#N/A"}]
["VERANO","HCAMA","VERANOHCAMA",{"$f":"IF(C730=\"\",\"\",'HOJA GENERAL DE DATOS'!AA517/10)","v":""},{"$f":"IF(D738=\"\",\"\",C729+D738)","v":""},0,"HCAMA","0HCAMA",{"$error":"#N/A"}]
["VERANO","CORRIENTES","VERANOCORRIENTES",{"$f":"IF(D729=\"\",\"\",'HOJA GENERAL DE DATOS'!AB517/10)","v":""},{"$f":"IF(D739=\"\",\"\",D728+D739)","v":""},0,"CORRIENTES","0CORRIENTES",{"$error":"#N/A"}]
["INVIERNO","AISLAMIENTO","INVIERNOAISLAMIENTO",{"$f":"IF(B728=\"\",\"\",'HOJA GENERAL DE DATOS'!V516/10)","v":""},{"$f":"IF(D740=\"\",\"\",B727+D740)","v":""}]
["INVIERNO","TDENSIDAD","INVIERNOTDENSIDAD",{"$f":"IF(B729=\"\",\"\",'HOJA GENERAL DE DATOS'!W516/10)","v":""},{"$f":"IF(D741=\"\",\"\",B728+D741)","v":""}]
["INVIERNO","TCAMA","INVIERNOTCAMA",{"$f":"IF(B730=\"\",\"\",'HOJA GENERAL DE DATOS'!X516/10)","v":""},{"$f":"IF(D742=\"\",\"\",B729+D742)","v":""}]
["INVIERNO","HVENTILACION","INVIERNOHVENTILACION",{"$f":"IF(C728=\"\",\"\",'HOJA GENERAL DE DATOS'!Y516/10)","v":""},{"$f":"IF(D743=\"\",\"\",C727+D743)","v":""},null,null,"AISLAMIENTO",{"$f":"IF(B728=\"\",\"\",IF(B724=\"INVIERNO\",K743,J743))","v":""},{"$f":"IF(B728=\"\",\"\",IF(B728<I733,\"ESTADISTICAMENTE ADMISIBLE\", \"MEJORAR AISLAMIENTO\"))","v":""},{"$f":"IF(B728<I733,\"MEJORAR AISLAMIENTO\",\"ESTADISTICAMENTE ADMISIBLE\")","v":{"$error":"#N/A"}}]
["INVIERNO","HDENSIDAD","INVIERNOHDENSIDAD",{"$f":"IF(C729=\"\",\"\",'HOJA GENERAL DE DATOS'!Z516/10)","v":""},{"$f":"IF(D744=\"\",\"\",C728+D744)","v":""},null,null,"VENTILACION",{"$f":"IF(C728=\"\",\"\",IF(C728<I736,\"ESTADISTICAMENTE ADMISIBLE\",\"MEJORAR AISLAMIENTO\"))","v":""}]
["INVIERNO","HCAMA","INVIERNOHCAMA",{"$f":"IF(C730=\"\",\"\",'HOJA GENERAL DE DATOS'!AA516/10)","v":""},{"$f":"IF(D745=\"\",\"\",C729+D745)","v":""}]
["INVIERNO","CORRIENTES","INVIERNOCORRIENTES",{"$f":"IF(D729=\"\",\"\",'HOJA GENERAL DE DATOS'!AB516/10)","v":""},{"$f":"IF(D746=\"\",\"\",D728+D746)","v":""},null,null,"DENSIDAD",{"$f":"IF(C729=\"\",\"\",IF(I754=2,\"ESTADISTICAMENTE ADMISIBLE\",\"MEJORAR DENSIDAD\"))","v":""}]
[]
[null,null,null,null,null,null,null,"CAMA",{"$f":"IF(C730=\"\",\"\",IF(I757=2,\"ESTADISTICAMENTE ADMISIBLE\",\"MEJORAR CAMA\"))","v":""}]
[]
[null,null,null,null,null,null,null,"CORRIENTES",{"$f":"IF(D729=\"\",\"\",IF(D729<I739,\"ESTADISTICAMENTE ADMISIBLE\",\"REVISAR CORRIENTES DE AIRE\"))","v":""}]
[]
[null,null,null,null,null,null,null,"TDENSIDAD",{"$f":"IF(B729<I734,1,0)","v":{"$error":"#N/A"}}]
[null,null,null,null,null,null,null,"HDENSIDAD",{"$f":"IF(C729<I737,1,0)","v":{"$error":"#N/A"}}]
[null,null,null,null,null,null,null,null,{"$f":"SUM(I752:I753)","v":{"$error":"#N/A"}}]
[null,null,null,null,null,null,null,"TCAMA",{"$f":"IF(B730<I735,1,0)","v":{"$error":"#N/A"}}]
[null,null,null,null,null,null,null,"HCAMA",{"$f":"IF(C730<I738,1,0)","v":{"$error":"#N/A"}}]
[null,null,null,null,null,null,null,null,{"$f":"SUM(I755:I756)","v":{"$error":"#N/A"}}]
[]
[]
[]
[]
[]
[]
[]
["CALCULO DEL INDICE THI (TEMPERATURE HUMIDITY INDEX)"]
[]
[null,null,0,5,10,15,20,25,30,35,40,45,50,55,60,65,70,75,80,85,90,95,100,"%HUMEDAD"]
[null,22.2,0,0,0,0,0,0,0,0,0,0,0,0,0,0,0,0,0,0,0,72,72]
[null,22.8,0,0,0,0,0,0,0,0,0,0,0,0,0,0,0,0,0,72,72,73,73]
[null,23.3,0,0,0,0,0,0,0,0,0,0,0,0,0,0,0,72,72,73,73,74,74]
[null,23.9,0,0,0,0,0,0,0,0,0,0,0,0,0,72,72,73,73,74,74,75,75]
[null,24.4,0,0,0,0,0,0,0,0,0,0,0,72,72,73,73,74,74,75,75,76,76]
[null,25,0,0,0,0,0,0,0,0,0,0,72,72,73,73,74,74,75,75,76,76,77]
[null,25.6,0,0,0,0,0,0,0,0,0,72,73,73,74,74,75,75,76,76,77,77,77]
[null,26.1,0,0,0,0,0,0,0,0,72,73,73,74,74,75,76,76,77,77,78,78,79]
[null,27.7,0,0,0,0,0,0,72,72,73,73,74,74,75,76,76,77,78,78,78,79,80]
[null,27.2,0,0,0,0,0,72,72,73,73,74,74,75,76,77,77,78,78,79,80,80,81]
[null,27.8,0,0,0,0,0,72,73,73,74,75,75,76,77,77,78,79,79,80,81,81,82]
[null,28.3,0,0,0,0,72,73,73,74,74,75,76,77,78,78,79,80,80,81,82,82,83]
[null,28.9,0,0,0,72,73,73,74,75,75,76,77,78,78,79,80,80,81,82,83,83,84]
[null,29.4,0,0,72,72,73,74,75,75,76,77,78,79,79,80,81,81,82,83,84,84,85]
[null,30,0,0,72,73,74,74,75,76,77,78,78,79,80,81,81,82,83,84,84,85,86]
[null,30.6,0,72,73,73,74,75,76,77,77,78,79,80,81,81,82,83,84,85,85,86,87]
[null,31.1,72,72,73,74,75,75,76,77,78,79,80,81,81,82,83,84,85,86,86,87,88]
[null,31.7,72,73,74,75,76,76,77,78,79,80,80,81,82,83,84,85,86,86,87,88,89]
[null,32.200000000000003,72,73,74,75,76,77,78,79,79,80,81,82,83,84,85,86,86,87,88,89,90]
[null,32.799999999999997,73,74,75,76,76,77,78,79,80,81,82,83,84,85,86,86,87,88,89,90,91]
[null,33.299999999999997,73,74,75,76,77,78,79,80,81,82,83,84,85,85,86,87,88,89,90,91,92]
[null,33.9,74,75,76,77,78,80,80,81,82,83,84,84,85,86,87,88,89,90,91,92,93]
[null,34.4,74,75,76,77,78,79,80,81,82,83,84,85,86,87,88,89,90,91,92,93,94]
[null,35,75,76,77,78,79,80,81,82,83,84,85,86,87,88,89,90,91,92,93,94,95]
[null,35.6,75,76,77,78,79,80,81,82,83,85,86,87,88,89,90,91,92,93,94,95,96]
[null,36.1,76,77,78,79,80,81,82,83,84,85,86,87,88,89,91,92,93,94,95,96,97]
[null,36.700000000000003,76,77,78,79,80,82,83,84,85,86,87,88,89,90,91,93,94,95,96,97,98]
[null,37.200000000000003,76,78,79,80,81,82,83,84,85,87,88,89,90,91,92,93,94,96,97,98,99]
[null,37.700000000000003,77,78,79,80,82,83,84,85,86,88,89,90,91,92,93,94,95,97,98,99,100]
[null,38.299999999999997,77,79,80,81,82,83,86,86,87,88,89,90,92,93,94,95,96,98,99,100,100]
[null,38.9,78,79,80,81,83,84,85,86,87,89,90,91,92,94,95,96,97,99,100,100,100]
[null,39.6,78,79,81,82,83,86,86,87,88,89,91,92,93,94,96,97,100,100,100,100,100]
[null,40,79,80,81,82,84,85,86,88,90,91,92,93,94,95,97,100,100,100,100,100,100]
[null,40.6,79,80,82,83,84,86,87,88,90,91,92,94,94,96,98,100,100,100,100,100,100]
[null,41.1,80,81,82,84,85,86,88,89,90,91,93,94,95,97,100,100,100,100,100,100,100]
[null,41.7,80,81,83,84,85,87,88,89,91,92,94,95,96,98,100,100,100,100,100,100,100]
[null,42.2,81,82,83,85,86,87,89,90,92,93,94,96,97,100,100,100,100,100,100,100,100]
[null,42.7,81,82,84,85,87,88,89,91,92,94,95,96,98,100,100,100,100,100,100,100,100]
[null,43.3,81,83,84,86,87,89,90,91,93,94,96,97,100,100,100,100,100,100,100,100,100]
[null,43.9,82,83,85,86,88,88,91,93,94,95,96,98,100,100,100,100,100,100,100,100,100]
[null,44.4,82,84,85,87,88,90,91,94,94,96,97,100,100,100,100,100,100,100,100,100,100]
[null,45,83,84,86,87,89,90,92,95,95,96,98,100,100,100,100,100,100,100,100,100,100]
[null,45.4,83,85,86,88,89,91,92,94,96,97,100,100,100,100,100,100,100,100,100,100,100]
[null,46.1,84,85,87,88,90,92,94,95,97,100,100,100,100,100,100,100,100,100,100,100,100]
[null,46.7,84,86,87,89,90,92,94,95,97,100,100,100,100,100,100,100,100,100,100,100,100]
[null,47.2,85,86,88,89,91,93,94,96,98,100,100,100,100,100,100,100,100,100,100,100,100]
[null,47.7,85,87,88,90,92,93,95,97,100,100,100,100,100,100,100,100,100,100,100,100,100]
[null,48.3,85,87,89,90,92,94,96,97,100,100,100,100,100,100,100,100,100,100,100,100,100]
[null,48.9,86,88,89,91,93,94,96,98,100,100,100,100,100,100,100,100,100,100,100,100,100]
[null,49.4,86,88,90,92,93,95,97,100,100,100,100,100,100,100,100,100,100,100,100,100,100]
[null,"TEMPERATURA ºc"]
[]
[]
[]
[]
["TEMPERATURA",{"$f":"IF('CALCULO THI'!C13=\"\",\"\",'CALCULO THI'!C13)","v":""}]
["HUMEDAD",{"$f":"IF('CALCULO THI'!C14=\"\",\"\",'CALCULO THI'!C14)","v":""}]
[]
[null,null,2,3,4,5,6,7,8,9,10,11,12,13,14,15,16,17,18,19,20,21,22]
[null,null,0,5,10,15,20,25,30,35,40,45,50,55,60,65,70,75,80,85,90,95,100,"%HUMEDAD"]
[null,"THIs A ESA TEMPERATURA",{"$f":"VLOOKUP($B$823,$B$767:$W$817,C826,TRUE)","v":{"$error":"#N/A"}},{"$f":"VLOOKUP($B$823,$B$767:$W$817,D826,TRUE)","v":{"$error":"#N/A"}},{"$error":"#N/A"},{"$error":"#N/A"},{"$error":"#N/A"},{"$error":"#N/A"},{"$error":"#N/A"},{"$error":"#N/A"},{"$error":"#N/A"},{"$error":"#N/A"},{"$error":"#N/A"},{"$error":"#N/A"},{"$error":"#N/A"},{"$error":"#N/A"},{"$error":"#N/A"},{"$error":"#N/A"},{"$error":"#N/A"},{"$error":"#N/A"},{"$error":"#N/A"},{"$error":"#N/A"},{"$error":"#N/A"}]
[null,"THI A ESA HUMEDAD",{"$f":"IF(B823=\"\",\"\",HLOOKUP($B$824,C827:W828,2,TRUE))","v":""}]
[]
[]
[]
[]
[null,null,{"$f":"IF(B824=\"\",\"\",(IF(B823<22.2,\"AUSENCIA DE ESTRÉS\",IF(C829<72,\"AUSENCIA DE ESTRÉS\",IF(C829<78,\"ESTRÉS MODERADO\",IF(C829<89,\"ESTRÉS ALTO\",IF(C829<98,\"ESTRÉS SEVERO\",\"MUERTE DEL ANIMAL\")))))))","v":""}]
[]
[]
[]
[]
["EXPORTACIÓN","SIMULACION",null,"GMD","IC","CMD"]
[null,"PE",{"$f":"IF('GEST EXPORTACION'!C10=\"\",\"\",'GEST EXPORTACION'!C10)","v":""},{"$f":"(C840*ECUACIONES!E118)+ECUACIONES!F118","v":{"$error":"#VALUE!"}},{"$f":"(C840*ECUACIONES!E121)+ECUACIONES!F121","v":{"$error":"#VALUE!"}},{"$f":"(D840*E840)","v":{"$error":"#VALUE!"}}]
[null,"PS",{"$f":"IF('GEST EXPORTACION'!C11=\"\",\"\",'GEST EXPORTACION'!C11)","v":""},{"$f":"(C841*ECUACIONES!E119)+ECUACIONES!F119","v":{"$error":"#VALUE!"}},{"$f":"(C841*ECUACIONES!E122)+ECUACIONES!F122","v":{"$error":"#VALUE!"}},{"$f":"(D841*E841)","v":{"$error":"#VALUE!"}}]
[null,"Pmedio",{"$f":"AVERAGE(C840:C841)","v":{"$error":"#DIV/0!"}},{"$f":"(C842*ECUACIONES!E120)+ECUACIONES!F120","v":{"$error":"#DIV/0!"}},{"$f":"(C842*ECUACIONES!E123)+ECUACIONES!F123","v":{"$error":"#DIV/0!"}},{"$error":"#DIV/0!"}]
[null,"CRUZADOS",null,{"$f":"AVERAGE(D840:D842)","v":{"$error":"#VALUE!"}},{"$f":"AVERAGE(E840:E842)","v":{"$error":"#VALUE!"}},{"$error":"#VALUE!"}]
[null,"MERINOS",null,{"$f":"IF(C842<55,(D843*0.9),(D843*0.875))","v":{"$error":"#DIV/0!"}},{"$f":"IF(C842<55,(E843*1.1),(E843*1.125))","v":{"$error":"#DIV/0!"}},{"$error":"#DIV/0!"}]
[]
[]
[null,null,"Ax","B","R2"]
[null,"GMD (PE)",1.8E-3,0.29249999999999998,0.33]
[null,"GMD (PS)",2.7000000000000001E-3,0.2412,0.45]
[null,"GMD (Pmedio)",2.2000000000000001E-3,0.26829999999999998,0.39]
[null,"IC (PE)",2.4899999999999999E-2,3.2403,0.44]
[null,"IC (PS)",2.6700000000000002E-2,3.0057999999999998,0.2]
[null,"IC (Pmedio)",2.6599999999999999E-2,3.0872999999999999,0.3]
[]
[]
[]
["DURABILIDAD CARNE"]
[null,null,"dias (DT)",{"$f":"IF(E858=\"\",\"\",E858)","v":""},{"$f":"IF('GEST DURAB CARNE'!C13=\"\",\"\",'GEST DURAB CARNE'!C13)","v":""}]
[null,null,"vitEsin (DS)",{"$f":"IF(E859=\"\",\"\",E859/1000)","v":""},{"$f":"IF('GEST DURAB CARNE'!C14=\"\",\"\",'GEST DURAB CARNE'!C14)","v":""}]
[null,null,"vitEnat (DN)",{"$f":"IF(E860=\"\",\"\",E860/1000)","v":""},{"$f":"IF('GEST DURAB CARNE'!C15=\"\",\"\",'GEST DURAB CARNE'!C15)","v":""},"coef",{"$f":"IF(D858=\"\",\"\",ECUACIONES!E126)","v":""}]
[null,null,null,null,null,"b1xDT",{"$f":"IF(D858=\"\",\"\",D858*ECUACIONES!E127)","v":""}]
[null,null,"NOTA VISUAL",null,{"$f":"IF('GEST DURAB CARNE'!C23=\"\",\"\",'GEST DURAB CARNE'!C23)","v":""},"b2xDS",{"$f":"IF(D859=\"\",\"\",(D859*ECUACIONES!E128))","v":""}]
[null,null,null,null,null,"b3xDN",{"$f":"IF(D860=\"\",\"\",(D860*ECUACIONES!E129))","v":""}]
[null,null,null,null,null,"suma",{"$f":"IF(G860=\"\",\"\",SUM(G862:G863))","v":""}]
[null,null,null,null,null,"e elevado",{"$f":"IF(G864=\"\",\"\",EXP(G864))","v":""}]
[null,null,null,null,null,"cociente",{"$f":"IF(G865=\"\",\"\",G861/G865)","v":""}]
[null,null,null,null,null,"todo",{"$f":"IF(G866=\"\",\"\",G860+G866)","v":""},"TBARS"]
[null,null,null,null,null,"Grado1",{"$f":"IF(G867=\"\",\"\",((G867*ECUACIONES!E132)+ECUACIONES!E133))","v":""},"VISUAL 1"]
[null,null,null,null,null,"Grado2",{"$f":"IF(G867=\"\",\"\",(G867*ECUACIONES!E134)+ECUACIONES!E135)","v":""},"VISUAL 2"]
[]
[]
[null,null,null,null,null,"a partir de visual",{"$f":"IF(E862=\"\",\"\",(E862*ECUACIONES!E136)+ECUACIONES!E137)","v":""},"TBARS",{"$f":"IF(E862=\"\",\"\",(E862*ECUACIONES!F136)+ECUACIONES!F137)","v":""},{"$f":"IF(E862=\"\",\"\",(E862*ECUACIONES!G136)+ECUACIONES!G137)","v":""}]
[null,null,null,null,null,null,"MEDIA",null,"MAX","MIN"]

{"sheet":"ECUACIONES","index":3,"n_rows":137,"n_cols":24,"rows_kept":137,"cut":false,"hidden":false,"merged":[]}
["ECUACIONES PRECIOS CORDEROS"]
[]
[]
[]
[]
[]
[]
[]
[]
["SEMANA",null,null,null,null,"MES"]
["PRECIO A 15kG","PRECIO A 25KG","PRECIO FINAL",null,null,"PRECIO A 15kG","PRECIO A 25KG","PRECIO FINAL"]
[{"$f":"('GEST CHEQ SEM'!G11/'GEST CHEQ SEM'!G12)*15","v":{"$error":"#DIV/0!"}},{"$f":"(0.8445*A12)+23.98","v":{"$error":"#DIV/0!"}},{"$f":"(B12/25)*'GEST CHEQ SEM'!G13","v":{"$error":"#DIV/0!"}},null,null,{"$f":"'GEST CHEQ MES'!G11/'GEST CHEQ MES'!G12","v":{"$error":"#DIV/0!"}},{"$f":"(0.8445*F12)+23.98","v":{"$error":"#DIV/0!"}},{"$f":"(G12/25)*'GEST CHEQ MES'!G13","v":{"$error":"#DIV/0!"}}]
[]
["ECUACIONES CALCULO MORTALIDAD POR COEF GRANJA"]
[]
[null,"CEBO LARGO"]
[]
[]
[]
[]
[]
[]
[]
[]
["ECUACIONES CALCULO MORTALIDAD POR AFORO"]
[]
[]
[]
[]
[]
[]
[]
[]
[null,null,null,"AFORO(%)","%MORT",null,null,null,"COEF GRANJA","%MORT"]
[null,null,"CEBO LARGO",{"$f":"'GEST CHEQ MES'!D35","v":""},{"$f":"(0.0095*D35)+0.003","v":{"$error":"#VALUE!"}},null,null,"CEBO LARGO",{"$f":"'GEST CHEQ MES'!C24","v":""},{"$f":"(-0.0198*I35)+0.0194","v":{"$error":"#VALUE!"}}]
[null,null,"CEBO CORTO",{"$f":"'GEST CHEQ MES'!D35","v":""},{"$f":"(0.005*D36)","v":{"$error":"#VALUE!"}},null,null,"CEBO CORTO",{"$f":"'GEST CHEQ MES'!C24","v":""},{"$f":"(-0.0195*I36)+0.0181","v":{"$error":"#VALUE!"}}]
[null,"SOLUCION",{"$f":"VLOOKUP('ENLACES DATOS'!C97,C35:E36,3,FALSE)","v":{"$error":"#N/A"}},null,null,null,"SOLUCION",{"$f":"VLOOKUP('ENLACES DATOS'!C97,H35:J36,3,FALSE)","v":{"$error":"#N/A"}}]
[]
[]
[]
["ECUACIONES CALCULO GMD E IC LINEAL"]
[]
[null,"CALCULO LINEAL (ECUACIONES REGRESION)",null,"COD"]
[]
[null,null,null,"COD","GMD ENTRADA 1","GMD ENTRADA 2","GMD SALIDA 1","GMD SALIDA 2","FC SEXO GMD","FC RAZA GMD","FC EPOCA GMD","IC ENTRADA 1","IC ENTRADA 2","IC SALIDA 1","IC SALIDA 2","FC SEXO IC","FC RAZA IC","FC EPOCA IC"]
[null,1,"MACHOSCARNICO&CRUZADOINVIERNO",1,8.0000000000000004E-4,0.30909999999999999,1.6000000000000001E-3,0.28760000000000002,1.0832918533266973,1,1,0.1171,0.98150000000000004,0.10059999999999999,0.66790000000000005,0.97224360549912769,1,1]
[null,1,"MACHOSCARNICO&CRUZADOVERANO",2,8.0000000000000004E-4,0.30909999999999999,1.6000000000000001E-3,0.28760000000000002,1.0832918533266973,1,0.95972664339004998,0.1171,0.98150000000000004,0.10059999999999999,0.66790000000000005,0.97224360549912769,1,1.0066876899592145]
[null,1,"MACHOSCARNICO&CRUZADOINDEFINIDO",3,8.0000000000000004E-4,0.30909999999999999,1.6000000000000001E-3,0.28760000000000002,1.0832918533266973,1,0.95972664339004998,0.1171,0.98150000000000004,0.10059999999999999,0.66790000000000005,0.97224360549912769,1,1.0066876899592145]
[null,1,"MACHOSENTREFINOINVIERNO",4,8.0000000000000004E-4,0.30909999999999999,1.6000000000000001E-3,0.28760000000000002,1.0832918533266973,0.93127018473154033,1,0.1171,0.98150000000000004,0.10059999999999999,0.66790000000000005,0.97224360549912769,1.0552396757682827,1]
[null,1,"MACHOSENTREFINOVERANO",5,8.0000000000000004E-4,0.30909999999999999,1.6000000000000001E-3,0.28760000000000002,1.0832918533266973,0.93127018473154033,0.95972664339004998,0.1171,0.98150000000000004,0.10059999999999999,0.66790000000000005,0.97224360549912769,1.0552396757682827,1.0066876899592145]
[null,1,"MACHOSENTREFINOINDEFINIDO",6,8.0000000000000004E-4,0.30909999999999999,1.6000000000000001E-3,0.28760000000000002,1.0832918533266973,0.93127018473154033,0.95972664339004998,0.1171,0.98150000000000004,0.10059999999999999,0.66790000000000005,0.97224360549912769,1.0552396757682827,1.0066876899592145]
[null,1,"MACHOSINDEFINIDAINVIERNO",7,8.0000000000000004E-4,0.30909999999999999,1.6000000000000001E-3,0.28760000000000002,1.0832918533266973,0.93127018473154033,1,0.1171,0.98150000000000004,0.10059999999999999,0.66790000000000005,0.97224360549912769,1.0552396757682827,1]
[null,1,"MACHOSINDEFINIDAVERANO",8,8.0000000000000004E-4,0.30909999999999999,1.6000000000000001E-3,0.28760000000000002,1.0832918533266973,0.93127018473154033,0.95972664339004998,0.1171,0.98150000000000004,0.10059999999999999,0.66790000000000005,0.97224360549912769,1.0552396757682827,1.0066876899592145]
[null,1,"MACHOSINDEFINIDAINDEFINIDO",9,8.0000000000000004E-4,0.30909999999999999,1.6000000000000001E-3,0.28760000000000002,1.0832918533266973,0.93127018473154033,0.95972664339004998,0.1171,0.98150000000000004,0.10059999999999999,0.66790000000000005,0.97224360549912769,1.0552396757682827,1.0066876899592145]
[null,1,"HEMBRASCARNICO&CRUZADOINVIERNO",10,8.0000000000000004E-4,0.30909999999999999,1.6000000000000001E-3,0.28760000000000002,0.88442087485620791,1.0738022288217812,1,0.1171,0.98150000000000004,0.10059999999999999,0.66790000000000005,1.1036991524105211,0.94765201021458512,1]
[null,1,"HEMBRASCARNICO&CRUZADOVERANO",11,8.0000000000000004E-4,0.30909999999999999,1.6000000000000001E-3,0.28760000000000002,0.88442087485620791,1.0738022288217812,0.95972664339004998,0.1171,0.98150000000000004,0.10059999999999999,0.66790000000000005,1.1036991524105211,0.94765201021458512,1.0066876899592145]
[null,1,"HEMBRASCARNICO&CRUZADOINDEFINIDO",12,8.0000000000000004E-4,0.30909999999999999,1.6000000000000001E-3,0.28760000000000002,0.88442087485620791,1.0738022288217812,0.95972664339004998,0.1171,0.98150000000000004,0.10059999999999999,0.66790000000000005,1.1036991524105211,0.94765201021458512,1.0066876899592145]
[null,1,"HEMBRASENTREFINOINVIERNO",13,8.0000000000000004E-4,0.30909999999999999,1.6000000000000001E-3,0.28760000000000002,0.88442087485620791,1,1,0.1171,0.98150000000000004,0.10059999999999999,0.66790000000000005,1.1036991524105211,1,1]
[null,1,"HEMBRASENTREFINOVERANO",14,8.0000000000000004E-4,0.30909999999999999,1.6000000000000001E-3,0.28760000000000002,0.88442087485620791,1,0.95972664339004998,0.1171,0.98150000000000004,0.10059999999999999,0.66790000000000005,1.1036991524105211,1,1.0066876899592145]
[null,1,"HEMBRASENTREFINOINDEFINIDO",15,8.0000000000000004E-4,0.30909999999999999,1.6000000000000001E-3,0.28760000000000002,0.88442087485620791,1,0.95972664339004998,0.1171,0.98150000000000004,0.10059999999999999,0.66790000000000005,1.1036991524105211,1,1.0066876899592145]
[null,1,"HEMBRASINDEFINIDAINVIERNO",16,8.0000000000000004E-4,0.30909999999999999,1.6000000000000001E-3,0.28760000000000002,0.88442087485620791,1,1,0.1171,0.98150000000000004,0.10059999999999999,0.66790000000000005,1.1036991524105211,1,1]
[null,1,"HEMBRASINDEFINIDAVERANO",17,8.0000000000000004E-4,0.30909999999999999,1.6000000000000001E-3,0.28760000000000002,0.88442087485620791,1,0.95972664339004998,0.1171,0.98150000000000004,0.10059999999999999,0.66790000000000005,1.1036991524105211,1,1.0066876899592145]
[null,1,"HEMBRASINDEFINIDAINDEFINIDO",18,8.0000000000000004E-4,0.30909999999999999,1.6000000000000001E-3,0.28760000000000002,0.88442087485620791,1,0.95972664339004998,0.1171,0.98150000000000004,0.10059999999999999,0.66790000000000005,1.1036991524105211,1,1.0066876899592145]
[null,1,"MACHOS&HEMBRASCARNICO&CRUZADOINVIERNO",19,8.0000000000000004E-4,0.30909999999999999,1.6000000000000001E-3,0.28760000000000002,1,1,1,0.1171,0.98150000000000004,0.10059999999999999,0.66790000000000005,1,1,1]
[null,1,"MACHOS&HEMBRASCARNICO&CRUZADOVERANO",20,8.0000000000000004E-4,0.30909999999999999,1.6000000000000001E-3,0.28760000000000002,1,1,0.95972664339004998,0.1171,0.98150000000000004,0.10059999999999999,0.66790000000000005,1,1,1.0066876899592145]
[null,1,"MACHOS&HEMBRASCARNICO&CRUZADOINDEFINIDO",21,8.0000000000000004E-4,0.30909999999999999,1.6000000000000001E-3,0.28760000000000002,1,1,0.95972664339004998,0.1171,0.98150000000000004,0.10059999999999999,0.66790000000000005,1,1,1.0066876899592145]
[null,1,"MACHOS&HEMBRASENTREFINOINVIERNO",22,8.0000000000000004E-4,0.30909999999999999,1.6000000000000001E-3,0.28760000000000002,1,0.93127018473154033,1,0.1171,0.98150000000000004,0.10059999999999999,0.66790000000000005,1,1.0552396757682827,1]
[null,1,"MACHOS&HEMBRASENTREFINOVERANO",23,8.0000000000000004E-4,0.30909999999999999,1.6000000000000001E-3,0.28760000000000002,1,0.93127018473154033,0.95972664339004998,0.1171,0.98150000000000004,0.10059999999999999,0.66790000000000005,1,1.0552396757682827,1.0066876899592145]
[null,1,"MACHOS&HEMBRASENTREFINOINDEFINIDO",24,8.0000000000000004E-4,0.30909999999999999,1.6000000000000001E-3,0.28760000000000002,1,0.93127018473154033,0.95972664339004998,0.1171,0.98150000000000004,0.10059999999999999,0.66790000000000005,1,1.0552396757682827,1.0066876899592145]
[null,1,"MACHOS&HEMBRASINDEFINIDAINVIERNO",25,8.0000000000000004E-4,0.30909999999999999,1.6000000000000001E-3,0.28760000000000002,1,0.93127018473154033,1,0.1171,0.98150000000000004,0.10059999999999999,0.66790000000000005,1,1.0552396757682827,1]
[null,1,"MACHOS&HEMBRASINDEFINIDAVERANO",26,8.0000000000000004E-4,0.30909999999999999,1.6000000000000001E-3,0.28760000000000002,1,0.93127018473154033,0.95972664339004998,0.1171,0.98150000000000004,0.10059999999999999,0.66790000000000005,1,1.0552396757682827,1.0066876899592145]
[null,1,"MACHOS&HEMBRASINDEFINIDAINDEFINIDO",27,8.0000000000000004E-4,0.30909999999999999,1.6000000000000001E-3,0.28760000000000002,1,0.93127018473154033,0.95972664339004998,0.1171,0.98150000000000004,0.10059999999999999,0.66790000000000005,1,1.0552396757682827,1.0066876899592145]
[]
["ECUACNINES NECESIDADES ENERGIA",null,null,null,null,null,null,null,null,null,null,null,null,null,null,null,null,null,null,null,null,"ENTREFINOS"]
[null,null,null,"COD","%GRASA 1","%GRASA 2","%PROTEINA","F.CORR.SEXO","MANT 1","CREC GRASA","CREC PROT","KCAL A UFV","FACTOR COOR EPOCA","FACTOR RECOM"]
[null,null,"MACHOSCARNICO&CRUZADOINVIERNO",1,1.04E-2,6.2E-2,0.15,1,74,9.5,5.7,1820,1.03,1,null,null,null,null,null,null,null,"PESO",20,25]
[null,null,"MACHOSCARNICO&CRUZADOVERANO",2,1.04E-2,6.2E-2,0.15,1,74,9.5,5.7,1820,1.05,1,null,null,null,null,null,null,null,"%GRASA",0.23,0.27800000000000002]
[null,null,"MACHOSCARNICO&CRUZADOINDEFINIDO",3,1.04E-2,6.2E-2,0.15,1,74,9.5,5.7,1820,1.01,1]
[null,null,"MACHOSENTREFINOINVIERNO",4,9.5999999999999992E-3,3.7999999999999999E-2,0.15,1,74,9.5,5.7,1820,1.03,1.08,null,null,null,null,null,null,null,"CRUZADOS"]
[null,null,"MACHOSENTREFINOVERANO",5,9.5999999999999992E-3,3.7999999999999999E-2,0.15,1,74,9.5,5.7,1820,1.05,1.06]
[null,null,"MACHOSENTREFINOINDEFINIDO",6,9.5999999999999992E-3,3.7999999999999999E-2,0.15,1,74,9.5,5.7,1820,1.01,1.06,null,null,null,null,null,null,null,"PESO",20,25]
[null,null,"MACHOSINDEFINIDAINVIERNO",7,9.5999999999999992E-3,3.7999999999999999E-2,0.15,1,74,9.5,5.7,1820,1.03,1.02,null,null,null,null,null,null,null,"%GRASA",0.18,0.22]
[null,null,"MACHOSINDEFINIDAVERANO",8,9.5999999999999992E-3,3.7999999999999999E-2,0.15,1,74,9.5,5.7,1820,1.05,1.02]
[null,null,"MACHOSINDEFINIDAINDEFINIDO",9,9.5999999999999992E-3,3.7999999999999999E-2,0.15,1,74,9.5,5.7,1820,1.01,1.02]
[null,null,"HEMBRASCARNICO&CRUZADOINVIERNO",10,1.04E-2,6.2E-2,0.15,1.1000000000000001,74,9.5,5.7,1820,1.03,0.99]
[null,null,"HEMBRASCARNICO&CRUZADOVERANO",11,1.04E-2,6.2E-2,0.15,1.1000000000000001,74,9.5,5.7,1820,1.05,0.97499999999999998]
[null,null,"HEMBRASCARNICO&CRUZADOINDEFINIDO",12,1.04E-2,6.2E-2,0.15,1.1000000000000001,74,9.5,5.7,1820,1.01,0.99]
[null,null,"HEMBRASENTREFINOINVIERNO",13,9.5999999999999992E-3,3.7999999999999999E-2,0.15,1.1000000000000001,74,9.5,5.7,1820,1.03,1.03]
[null,null,"HEMBRASENTREFINOVERANO",14,9.5999999999999992E-3,3.7999999999999999E-2,0.15,1.1000000000000001,74,9.5,5.7,1820,1.05,1.03]
[null,null,"HEMBRASENTREFINOINDEFINIDO",15,9.5999999999999992E-3,3.7999999999999999E-2,0.15,1.1000000000000001,74,9.5,5.7,1820,1.01,1.03]
[null,null,"HEMBRASINDEFINIDAINVIERNO",16,9.5999999999999992E-3,3.7999999999999999E-2,0.15,1.1000000000000001,74,9.5,5.7,1820,1.03,1.03]
[null,null,"HEMBRASINDEFINIDAVERANO",17,9.5999999999999992E-3,3.7999999999999999E-2,0.15,1.1000000000000001,74,9.5,5.7,1820,1.05,1.01]
[null,null,"HEMBRASINDEFINIDAINDEFINIDO",18,9.5999999999999992E-3,3.7999999999999999E-2,0.15,1.1000000000000001,74,9.5,5.7,1820,1.01,1.01]
[null,null,"MACHOS&HEMBRASCARNICO&CRUZADOINVIERNO",19,1.04E-2,6.2E-2,0.15,1,74,9.5,5.7,1820,1.03,1]
[null,null,"MACHOS&HEMBRASCARNICO&CRUZADOVERANO",20,1.04E-2,6.2E-2,0.15,1,74,9.5,5.7,1820,1.05,0.97499999999999998]
[null,null,"MACHOS&HEMBRASCARNICO&CRUZADOINDEFINIDO",21,1.04E-2,6.2E-2,0.15,1,74,9.5,5.7,1820,1.01,0.99]
[null,null,"MACHOS&HEMBRASENTREFINOINVIERNO",22,9.5999999999999992E-3,3.7999999999999999E-2,0.15,1,74,9.5,5.7,1820,1.03,1.08]
[null,null,"MACHOS&HEMBRASENTREFINOVERANO",23,9.5999999999999992E-3,3.7999999999999999E-2,0.15,1,74,9.5,5.7,1820,1.05,1.04]
[null,null,"MACHOS&HEMBRASENTREFINOINDEFINIDO",24,9.5999999999999992E-3,3.7999999999999999E-2,0.15,1,74,9.5,5.7,1820,1.01,1.04]
[null,null,"MACHOS&HEMBRASINDEFINIDAINVIERNO",25,9.5999999999999992E-3,3.7999999999999999E-2,0.15,1,74,9.5,5.7,1820,1.03,1.04]
[null,null,"MACHOS&HEMBRASINDEFINIDAVERANO",26,9.5999999999999992E-3,3.7999999999999999E-2,0.15,1,74,9.5,5.7,1820,1.05,1.02]
[null,null,"MACHOS&HEMBRASINDEFINIDAINDEFINIDO",27,9.5999999999999992E-3,3.7999999999999999E-2,0.15,1,74,9.5,5.7,1820,1.01,1.02]
[]
["ECUACIONES  CALCULO ENERGIA PIENSOS"]
[null,null,"HUMEDAD",10]
[null,null,"FIBRA BRUTA",3.4]
[null,null,"PROTEINA BRUTA",17]
[null,null,"GRASA BRUTA",3.3]
[null,null,"CENIZAS",6]
[]
[null,null,null,"dMO","dE","EB(smo)","EB(sss)","ED (sss)","NA","EM/ED","EM","q","kl","km","kf","kmf","ENERGIA NETA LACTACION","ENERGIA NETA MANT Y CEBO","UFL","UFC"]
[null,null,"PIENSOS COMPUESTOS",{"$f":"95.8-(0.191*D106)-2.54","v":92.610599999999991},{"$f":"((D112-3.5+(0.0046*D107)+(0.0155*D108))/100)","v":0.8923994999999999},{"$f":"4134+(1.473*E107)+(5.239*E108)+(0.925*E106)-(4.44*E109)","v":4134},{"$f":"(F112*(1000-D109))/1000","v":4109.1959999999999},{"$f":"F112*E112","v":3689.1795329999995},1,{"$f":"(84.17-(0.0099*D106)-(0.0196*D107)+(2.2*I112))/100","v":0.8600314},{"$f":"H112*J112","v":3172.8102386173359},{"$f":"K112/G112","v":0.77212433736851105},{"$f":"0.6+(0.24*(L112-0.57))","v":0.64850984096844266},{"$f":"(0.287*L112)+0.554","v":0.77559968482476271},{"$f":"(0.78*L112)+0.006","v":0.60825698314743859},{"$f":"(N112*O112*1.5)/(O112+(0.5*N112))","v":0.71044730428376812},{"$f":"K112*M112","v":2057.598663268775},{"$f":"K112*P112","v":2254.1144810296255},{"$f":"Q112/1700","v":1.2103521548639853},{"$f":"R112/1820","v":1.2385244401261679}]
[]
[]
[]
[]
["ECUACIONES EXPORTACIÓN",null,null,null,"Ax","B","R2"]
[null,null,null,"GMD (PE)",3.8999999999999998E-3,0.18859999999999999,0.36]
[null,null,null,"GMD (PS)",5.5999999999999999E-3,9.01E-2,0.59799999999999998]
[null,null,null,"GMD (Pmedio)",4.8999999999999998E-3,0.13880000000000001,0.48899999999999999]
[null,null,null,"IC (PE)",2.4899999999999999E-2,3.2403,0.44]
[null,null,null,"IC (PS)",2.6700000000000002E-2,3.0057999999999998,0.2]
[null,null,null,"IC (Pmedio)",2.6599999999999999E-2,3.0872999999999999,0.3]
[]
[]
["DURABILIDAD CARNE",null,"ecuacion leonel","coef",0.1]
[null,null,"de dosis de vitE a TBARS","b1",0.09]
[null,null,null,"b2",2.29]
[null,null,null,"b3",4.1100000000000003]
[null,null,null,"b3/b2",{"$f":"E129/E128","v":1.794759825327511}]
[]
[null,null,"ecuacion 1 CSIC","ax",-1.19]
[null,null,"de TBARS a nota visual","b",3.1]
[null,null,"ecuación 2 NANTA","ax",-1.26]
[null,null,"de TBARS a nota visual","b",3.14]
[null,null,"ecuación 3 NANTA","ax",-0.25619999999999998,-0.23298806318333337,-0.27954561130959527]
[null,null,"de nota visual a TBARS","b",1.0369999999999999,1.1071092141873724,0.96722060684818068]

{"sheet":"CREDITOS GESTICOR","index":4,"n_rows":24,"n_cols":4,"rows_kept":24,"cut":false,"hidden":false,"merged":[[16,1,20,1],[22,1,23,1],[9,1,14,1]]}
[]
[]
[]
[]
[]
[]
[null,"CREDITOS BASES DE DATOS GESTICOR MODEL"]
[]
[]
[null,"MODULO SALUD","Nº BAJAS",{"$f":"'HOJA GENERAL DE DATOS'!A478","v":35347}]
[null,null,"Nº SEMANAS (BAJAS)",{"$f":"'HOJA GENERAL DE DATOS'!C481","v":2678.8571428571399}]
[null,null,"Nº MESES (BAJAS)",{"$f":"'HOJA GENERAL DE DATOS'!B481","v":625.06666666666695}]
[null,null,"Nº MESES (MORBILIDAD)",{"$f":"'HOJA GENERAL DE DATOS'!A484","v":235}]
[null,null,"Nº MESES(  DECOMISOS)",{"$f":"'HOJA GENERAL DE DATOS'!B484","v":204}]
[null,null,"Nº PHS PANZA",{"$f":"'HOJA GENERAL DE DATOS'!D484","v":1077}]
[]
[null,"MODULO MEJORA","Nº ENSAYOS CEBO",{"$f":"'HOJA GENERAL DE DATOS'!A489","v":352}]
[null,null,"Nº CORDEROS  ",{"$f":"'HOJA GENERAL DE DATOS'!A492","v":16157}]
[null,null,"Nº CONTROLES PESO",{"$f":"'HOJA GENERAL DE DATOS'!A495","v":567}]
[null,null,"Nº Phs CONTROLADOS",{"$f":"'HOJA GENERAL DE DATOS'!A500","v":5293}]
[null,null,"Nº EE CONTROLADOS",{"$f":"'HOJA GENERAL DE DATOS'!B500","v":5378}]
[]
[null,"MODULO SOSTENIBILIDAD Y B.A.","Nº CONTROLES B.A.",{"$f":"'HOJA GENERAL DE DATOS'!A505","v":452}]
[null,null,"Nº CONTROLES PPCC",{"$f":"'HOJA GENERAL DE DATOS'!A511","v":8}]

{"sheet":"CALCULO THI","index":5,"n_rows":18,"n_cols":3,"rows_kept":18,"cut":false,"hidden":false,"merged":[[8,1,8,2],[11,0,13,0],[16,0,17,0],[17,1,17,2]]}
[]
[]
[]
[]
[]
[]
["CALCULO THI (Temperature Humidity Index)"]
[]
["GANADERO"]
[]
["\"MEDICIÓN A LA ALTURA DE LOS ANIMALES\""]
["DATOS GENERALES","FECHA"]
[null,"TEMPERATURA (ºC)"]
[null,"HUMEDAD (%)"]
[]
[]
["DIAGNÓSTICO","THI (INDICE Tª/HUMEDAD)",{"$f":"IF('ENLACES DATOS'!C829=\"\",\"\",'ENLACES DATOS'!C829)","v":""}]
[null,{"$f":"IF('ENLACES DATOS'!C834=\"\",\"\",'ENLACES DATOS'!C834)","v":""}]

{"sheet":"AMBIENTALES ADMISIBLES","index":6,"n_rows":33,"n_cols":4,"rows_kept":33,"cut":false,"hidden":false,"merged":[[30,2,30,3],[32,2,32,3],[27,0,28,0],[17,0,20,0],[8,1,8,2],[22,0,24,0],[12,0,15,0],[27,2,27,3],[28,2,28,3]]}
[]
[]
[]
[]
["CHEQUEO VALORES AMBIENTALES "]
[]
[]
[]
["GANADERO"]
[]
["ESTACION"]
[null,null,"OBTENIDO","ADMISIBLE"]
["TEMPERATURA (ºC)","EXTERIOR"]
[null,"INTERIOR NAVE",null,{"$f":"IF(C14=\"\",\"\",'ENLACES DATOS'!I733)","v":""}]
[null,"ALTURA ANIMALES",null,{"$f":"IF(C15=\"\",\"\",'ENLACES DATOS'!I734)","v":""}]
[null,"CAMA",null,{"$f":"IF(C16=\"\",\"\",'ENLACES DATOS'!I735)","v":""}]
[]
["HUMEDAD RELATIVA (%)","EXTERIOR"]
[null,"INTERIOR NAVE",null,{"$f":"IF(C19=\"\",\"\",'ENLACES DATOS'!I736)","v":""}]
[null,"ALTURA ANIMALES",null,{"$f":"IF(C20=\"\",\"\",'ENLACES DATOS'!I737)","v":""}]
[null,"CAMA",null,{"$f":"IF(C21=\"\",\"\",'ENLACES DATOS'!I738)","v":""}]
[]
["VELOCIDAD AIRE (m/s)","EXTERIOR"]
[null,"INTERIOR NAVE",null,{"$f":"IF(C24=\"\",\"\",'ENLACES DATOS'!I739)","v":""}]
[null,"ALTURA ANIMALES"]
[]
["RESULTADO CHEQUEO"]
["NAVE","AISLAMIENTO",{"$f":"IF('ENLACES DATOS'!I743=\"\",\"\",'ENLACES DATOS'!I743)","v":""}]
[null,"VENTILACION",{"$f":"IF('ENLACES DATOS'!I744=\"\",\"\",'ENLACES DATOS'!I744)","v":""}]
[]
["ANIMALES","DENSIDAD",{"$f":"IF('ENLACES DATOS'!I746=\"\",\"\",'ENLACES DATOS'!I746)","v":""}]
[]
["CAMA","CAMA",{"$f":"IF('ENLACES DATOS'!I748=\"\",\"\",'ENLACES DATOS'!I748)","v":""}]

{"sheet":"PRODUCTOS GESTICOR","index":7,"n_rows":32,"n_cols":4,"rows_kept":32,"cut":false,"hidden":false,"merged":[[29,1,29,3],[31,1,31,3],[27,1,27,2],[10,0,12,0],[16,2,16,3],[19,0,25,0],[14,1,14,3]]}
[]
[]
[]
[]
[]
[]
["ELECCION PRODUCTO GESTICOR"]
["GANADERO:"]
["DATOS DE CEBO"]
[]
["DATOS GENERALES","FECHA ","2021-08-01"]
[null,"UFV",1.02,{"$f":"IF('GEST CALC ENER'!C32=\"\",\"\",'GEST CALC ENER'!C32)","v":""}]
[null,"ENFOQUE GESTICOR","EFICIENCIA",{"$f":"IF('GEST CALC ENER'!C33=\"\",\"\",'GEST CALC ENER'!C33)","v":""}]
[]
["BAREMOS ENERGÍA",{"$f":"IF(C13=\"\",\"\",IF(C13=\"BAJO ENGRASAMIENTO\",\"Valores de Energía desde 0.94UFV  hasta 0.98UFV\",IF(C13=\"SEGURIDAD\",\"Energía desde 0.98UFV hasta 1.03UFV\",IF(C13=\"EFICIENCIA\",\"Energía desde 1.02UFV en adelante\",\"Energía igual a  1.04UFV \"))))","v":"Energía desde 1.02UFV en adelante"}]
[]
["PIENSO RECOMENDADO",{"$f":"IF(C13=\"\",\"\",'ENLACES DATOS'!B714)","v":"1504 GGR"},{"$f":"IF(C13=\"\",\"\",'ENLACES DATOS'!C714)","v":"GESTICOR LIGERO"}]
[]
[]
["PERFIL NUTRICIONAL","Humedad (%)",{"$f":"IF($C$17=\"\",\"\",'ENLACES DATOS'!E714/10)","v":11}]
[null,"Proteína Bruta (%)",{"$f":"IF($C$17=\"\",\"\",'ENLACES DATOS'!F714/10)","v":17.7}]
[null,"Fibra Bruta (%)",{"$f":"IF($C$17=\"\",\"\",'ENLACES DATOS'!G714/10)","v":3.4}]
[null,"Grasa Bruta (%)",{"$f":"IF($C$17=\"\",\"\",'ENLACES DATOS'!H714/10)","v":2.7}]
[null,"Cenizas (%)",{"$f":"IF($C$17=\"\",\"\",'ENLACES DATOS'!I714/10)","v":6.4}]
[null,"Almidon+Azucares (%)",{"$f":"IF($C$17=\"\",\"\",'ENLACES DATOS'!J714/10)","v":42}]
[null,"UFV(2007)",{"$f":"IF($C$17=\"\",\"\",'ENLACES DATOS'!D714/100)","v":1.02}]
[]
["PRESENTACION",{"$f":"IF(C13=\"\",\"\",'ENLACES DATOS'!M714)","v":"GRANULADO 3,5"}]
[]
["MODO DE EMPLEO",{"$f":"IF(C17=\"\",\"\",'ENLACES DATOS'!K714)","v":"Pienso compuesto complememtario de paja destinado a corderos de engorde a partir del destete hasta el sacrificio guardando el correspondiente periodo de espera si ha lugar."}]
[]
["PRECAUCIONES DE USO",{"$f":"IF(C17=\"\",\"\",'ENLACES DATOS'!L714)","v":"Los animales dispondrán de paja a libre disposición y agua limpia y fresca  Los animales dispondrán siempre a voluntad este producto evitando que se queden sin él."}]

{"sheet":"GEST TENDENCIAS","index":8,"n_rows":176,"n_cols":27,"rows_kept":176,"cut":false,"hidden":false,"merged":[[44,0,46,0],[10,0,13,0],[10,10,13,10],[24,0,26,0],[28,0,34,0],[15,0,22,0],[36,0,42,0]]}
[]
[]
[]
[]
["TENDENCIAS ECONOMÍA",null,null,null,null,"TENDENCIAS ECONOMÍA",null,null,null,null,"TENDENCIAS ECONOMÍA"]
[]
["GANADERO:",null,null,null,null,"GANADERO:",{"$f":"IF(B7=\"\",\"\",B7)","v":""},null,null,null,"GANADERO:",{"$f":"IF(G7=\"\",\"\",G7)","v":""}]
["FECHA",null,null,null,null,"FECHA",{"$f":"IF(B8=\"\",\"\",B8)","v":""},null,null,null,"FECHA",{"$f":"IF(G8=\"\",\"\",G8)","v":""}]
["INGRESOS Y GASTOS",null,null,null,null,"DESGLOSE CONCEPTOS",null,null,null,null,"GRAFICA"]
[]
["DESCRIPCION","Kilos Compra",null,"Kilos/cordero",null,null,null,null,null,null,"VARIABLES"]
[null,"Consumo Medio Diario",null,"Kilos/cordero.día"]
[null,"Estancia media",null,"dias/cordero"]
[null,"Kilos Venta",null,"Kilos/cordero"]
[]
["GASTOS","Precio Compra",null,"Euros/cordero"]
[null,"Amortización",null,"Euros/cordero"]
[null,"Mano de Obra",null,"Euros/cordero"]
[null,"Recogida y transporte",null,"Euros/cordero"]
[null,"Bajas",null,"Euros/cordero"]
[null,"Financieros",null,"Euros/cordero"]
[null,"Coste Pienso (Euros/Tm)",null,"Euros/Tm"]
[null,"Coste paja (Euros/Tm)",null,"Euros/Tm"]
[]
["INGRESOS","Precio Venta",null,"Euros/cordero"]
[null,"Precio Piel",null,"Euros/cordero"]
[null,"Otros Ingresos",null,"Euros/cordero"]
[]
["POR CORDERO","Coste Alimentación",{"$f":"IF(C22=\"\",\"\",((((C22/1000)*C12)+((C23/1000)*0.15))*C13))","v":""},"Euros/cordero"]
[null,"Costes Totales (sin lechal)",{"$f":"IF(C29=\"\",\"\",(C17+C18+C19+C21+C20+C29))","v":""},"Euros/cordero"]
[null,"Costes Totales",{"$f":"IF(C30=\"\",\"\",C30+C16)","v":""},"Euros/cordero"]
[null,"Ingresos Totales",{"$f":"IF(C26=\"\",\"\",C26+C27+C25)","v":""},"Euros/cordero"]
[null,"Beneficios",{"$f":"IF(C31=\"\",\"\",C32-C31)","v":""},"Euros/cordero"]
[null,"Precio Umbral (compra)",{"$f":"IF(C33=\"\",\"\",(C32-C30))","v":""},"Euros/cordero"]
[null,"Productividad Umbral (venta)",{"$f":"IF(C16=\"\",\"\",C31-C27-C26)","v":""},"Euros/cordero"]
[]
["POR KILO REPUESTO","Coste Alimentación",{"$f":"IF(C29=\"\",\"\",C29/($C$14-$C$11))","v":""},"Euros/Kg repuesto"]
[null,"Costes Totales (sin lechal)",{"$f":"IF(C30=\"\",\"\",C30/($C$14-$C$11))","v":""},"Euros/Kg repuesto"]
[null,"Costes Totales","","Euros/Kg repuesto"]
[null,"Ingresos Totales","","Euros/Kg repuesto"]
[null,"Beneficios","","Euros/Kg repuesto"]
[null,"Precio Umbral (compra)","","Euros/Kg repuesto"]
[null,"Productividad Umbral (venta)","","Euros/Kg repuesto"]
[]
["OTROS DATOS","Precio Compra Kilo Vivo",{"$f":"IF(C16=\"\",\"\",C16/C11)","v":""},"Euros/cordero"]
[null,"Precio Venta Kilo Vivo",{"$f":"IF(C25=\"\",\"\",C25/C14)","v":""},"Euros/cordero"]
[null,"Rentabilidad",{"$f":"IF(C33=\"\",\"\",C33/C31)","v":""},"Euros/cordero"]
[]
[]
[]
[]
[]
[]
[]
[]
[]
[]
[]
[]
[]
[]
[]
[]
[]
[]
[]
[]
[]
[]
[]
[]
[]
[]
[]
[]
[]
[]
[]
[]
[]
[]
[]
[]
[]
[]
[]
[]
[]
[]
[]
[]
[]
[]
[]
[]
[]
[]
[]
[]
[]
[]
[]
[]
[]
[]
[]
[]
[]
[]
[]
[]
[]
[]
[]
[]
[]
[]
[]
[]
[]
[]
[]
[]
[]
[]
[]
[]
[]
[]
[]
[]
[]
[]
[]
[1,2,3,4,5,6,7,8,9,10,11,12,13,14,15,16,17,18,19,20,21,22,23,24,25,26,27]
[null,null,"2020-01-01","2020-02-01","2020-03-01","2020-04-01","2020-05-01","2020-06-01","2020-07-01","2020-08-01","2020-09-01","2020-10-01","2020-11-01","2020-12-01","2021-01-01","2021-02-01","2021-03-01","2021-04-01","2021-05-01","2021-06-01","2021-07-01","2021-08-01","2021-09-01","2021-10-01","2021-11-01","2021-12-01","2022-01-01"]
["Kilos Compra",null,15,15,15,15,15,15,15,15,15,15,15,15,15,15,15,15,15,15,15,15,15,15,15,15,15]
["Consumo Medio Diario",null,0.95,0.95,0.95,0.95,0.95,0.95,0.95,0.95,0.95,0.95,0.95,0.95,0.95,0.95,0.95,0.95,0.95,0.95,0.95,0.95,0.95,0.95,0.95,0.95,0.95]
["Estancia media",null,35,35,35,35,35,35,35,35,35,35,35,35,35,35,35,35,35,35,35,35,35,35,35,35,35]
["Kilos Venta",null,25,25,25,25,25,25,25,25,25,25,25,25,25,25,25,25,25,25,25,25,25,25,25,25,25]
["Precio Compra",null,52.95,54.787500000000001,56.58,48.45,41.519999999999996,48.9375,54.9,54.9,55.162499999999994,55.95,55.95,55.95,55.95,52.95,54.378,55.505000000000003,53.929999999999993,55.95,55.95,57.167999999999992,60.472499999999997,68.457499999999996,76.935000000000002,72.932000000000002,58.987499999999997]
["Amortización",null,0.3,0.3,0.3,0.3,0.3,0.3,0.3,0.3,0.3,0.3,0.3,0.3,0.3,0.3,0.3,0.3,0.3,0.3,0.3,0.3,0.3,0.3,0.3,0.3,0.3]
["Mano de Obra",null,1.56,1.56,1.56,1.56,1.56,1.56,1.56,1.56,1.56,1.56,1.56,1.56,1.56,1.56,1.56,1.56,1.56,1.56,1.56,1.56,1.56,1.56,1.56,1.56,1.56]
["Recogida y transporte",null,0.5,0.5,0.5,0.5,0.5,0.5,0.5,0.5,0.5,0.5,0.5,0.5,0.5,0.5,0.5,0.5,0.5,0.5,0.5,0.5,0.5,0.5,0.5,0.5,0.5]
["Bajas",null,1.02,1.02,1.02,1.02,1.35,1.38,1.43,1.4,1.03,1.03,1.03,1.03,1.02,1.02,1.02,1.02,1.35,1.38,1.43,1.4,1.03,1.03,1.03,1.03,0.5]
["Financieros",null,0.2,0.2,0.2,0.2,0.2,0.2,0.2,0.2,0.2,0.2,0.2,0.2,0.2,0.2,0.2,0.2,0.2,0.2,0.2,0.2,0.2,0.2,0.2,0.2,0.2]
["Coste Pienso (Euros/Tm)",null,263,265,265,268,252,252,247,250,248,257,272,277,185,296,310,308,305,310,303,298,307,317,332,353,361]
["Coste paja (Euros/Tm)",null,55,55,55,55,55,55,55,55,55,55,65,65,65,65,65,65,65,65,65,65,65,65,65,70,70]
["Precio Venta",null,84,79.75,82.2,73.125,65,73.25,79,79,79,79,79,81.400000000000006,82,77,79.599999999999994,83,81.2,82,82,82,82.75,88.75,101.75,104.2,92]
["Precio Piel",null,7.5,7.5,7.5,6,4.5,3.5,2.5,2.5,2.5,2.5,2.5,2.5,2.5,3.5,3.5,3.5,3.7,4,4,4,4,4,4.5,4.5,4.5]
["Otros Ingresos",null,0,0,0,0,0,0,0,0,0,0,0,0,0,0,0,0,0,0,0,0,0,0,0,0,0]
["Coste Alimentación (animal)",{"$f":"IF(B147=\"\",\"\",((((B147/1000)*B138)+((B148/1000)*0.15))*B139))","v":""},{"$f":"IF(C147=\"\",\"\",((((C147/1000)*C138)+((C148/1000)*0.15))*C139))","v":9.0335000000000001},{"$f":"IF(D147=\"\",\"\",((((D147/1000)*D138)+((D148/1000)*0.15))*D139))","v":9.0999999999999979},9.0999999999999979,9.1997499999999999,8.6677499999999998,8.6677499999999998,8.5015000000000001,8.6012500000000003,{"$f":"IF(K147=\"\",\"\",((((K147/1000)*K138)+((K148/1000)*0.15))*K139))","v":8.5347499999999989},8.8339999999999996,9.3852499999999992,9.551499999999999,6.4924999999999997,{"$f":"IF(P147=\"\",\"\",((((P147/1000)*P138)+((P148/1000)*0.15))*P139))","v":10.183249999999997},10.648749999999998,10.582249999999998,10.4825,10.648749999999998,10.415999999999999,10.249749999999999,10.548999999999998,{"$f":"IF(X147=\"\",\"\",((((X147/1000)*X138)+((X148/1000)*0.15))*X139))","v":10.881499999999999},11.38025,12.104749999999999,12.370749999999999]
["Costes Totales (sin lechal)(animal)",{"$f":"IF(B152=\"\",\"\",(B152+B146+B145+B144+B143+B142))","v":""},{"$f":"IF(C152=\"\",\"\",(C152+C146+C145+C144+C143+C142))","v":12.6135},{"$f":"IF(D152=\"\",\"\",(D152+D146+D145+D144+D143+D142))","v":12.679999999999998},12.679999999999998,12.77975,12.57775,12.607750000000001,12.4915,12.561250000000001,{"$f":"IF(K152=\"\",\"\",(K152+K146+K145+K144+K143+K142))","v":12.124749999999999},{"$f":"IF(L152=\"\",\"\",(L152+L146+L145+L144+L143+L142))","v":12.423999999999999},{"$f":"IF(M152=\"\",\"\",(M152+M146+M145+M144+M143+M142))","v":12.975249999999999},{"$f":"IF(N152=\"\",\"\",(N152+N146+N145+N144+N143+N142))","v":13.141499999999999},{"$f":"IF(O152=\"\",\"\",(O152+O146+O145+O144+O143+O142))","v":10.072500000000002},{"$f":"IF(P152=\"\",\"\",(P152+P146+P145+P144+P143+P142))","v":13.763249999999998},{"$f":"IF(Q152=\"\",\"\",(Q152+Q146+Q145+Q144+Q143+Q142))","v":14.228749999999998},{"$f":"IF(R152=\"\",\"\",(R152+R146+R145+R144+R143+R142))","v":14.162249999999998},{"$f":"IF(S152=\"\",\"\",(S152+S146+S145+S144+S143+S142))","v":14.3925},{"$f":"IF(T152=\"\",\"\",(T152+T146+T145+T144+T143+T142))","v":14.588749999999999},{"$f":"IF(U152=\"\",\"\",(U152+U146+U145+U144+U143+U142))","v":14.405999999999999},{"$f":"IF(V152=\"\",\"\",(V152+V146+V145+V144+V143+V142))","v":14.20975},{"$f":"IF(W152=\"\",\"\",(W152+W146+W145+W144+W143+W142))","v":14.138999999999998},{"$f":"IF(X152=\"\",\"\",(X152+X146+X145+X144+X143+X142))","v":14.471499999999999},{"$f":"IF(Y152=\"\",\"\",(Y152+Y146+Y145+Y144+Y143+Y142))","v":14.97025},{"$f":"IF(Z152=\"\",\"\",(Z152+Z146+Z145+Z144+Z143+Z142))","v":15.694749999999999},{"$f":"IF(AA152=\"\",\"\",(AA152+AA146+AA145+AA144+AA143+AA142))","v":15.43075}]
["Costes Totales (animal)",{"$f":"IF(B153=\"\",\"\",B153+B141)","v":""},{"$f":"IF(C153=\"\",\"\",C153+C141+C152)","v":74.597000000000008},{"$f":"IF(D153=\"\",\"\",D153+D141+D152)","v":76.567499999999995},78.359999999999985,70.429500000000004,62.765499999999996,70.213000000000008,75.893000000000001,76.0625,75.822000000000003,77.207999999999998,78.310500000000005,78.643000000000001,72.515000000000015,76.896500000000003,79.255499999999998,80.249499999999998,78.804999999999993,81.1875,80.771999999999991,81.627499999999998,85.160499999999985,93.810500000000005,103.2855,100.7315,86.789000000000001]
["Ingresos Totales (animal)",{"$f":"IF(B149=\"\",\"\",B149+B150+B151)","v":""},{"$f":"IF(C149=\"\",\"\",C149+C150+C151)","v":91.5},{"$f":"IF(D149=\"\",\"\",D149+D150+D151)","v":87.25},89.7,79.125,69.5,76.75,81.5,81.5,81.5,81.5,81.5,83.9,84.5,80.5,83.1,86.5,84.9,86,86,86,86.75,92.75,106.25,108.7,96.5]
["Beneficios (animal)",{"$f":"IF(B154=\"\",\"\",B155-B154)","v":""},{"$f":"IF(C154=\"\",\"\",C155-C154)","v":16.902999999999992},{"$f":"IF(D154=\"\",\"\",D155-D154)","v":10.682500000000005},11.340000000000018,8.6954999999999956,6.7345000000000041,6.5369999999999919,5.6069999999999993,5.4375,{"$f":"IF(K154=\"\",\"\",K155-K154)","v":5.6779999999999973},{"$f":"IF(L154=\"\",\"\",L155-L154)","v":4.2920000000000016},{"$f":"IF(M154=\"\",\"\",M155-M154)","v":3.1894999999999953},{"$f":"IF(N154=\"\",\"\",N155-N154)","v":5.257000000000005},{"$f":"IF(O154=\"\",\"\",O155-O154)","v":11.984999999999985},{"$f":"IF(P154=\"\",\"\",P155-P154)","v":3.6034999999999968},{"$f":"IF(Q154=\"\",\"\",Q155-Q154)","v":3.8444999999999965},{"$f":"IF(R154=\"\",\"\",R155-R154)","v":6.2505000000000024},{"$f":"IF(S154=\"\",\"\",S155-S154)","v":6.0950000000000131},{"$f":"IF(T154=\"\",\"\",T155-T154)","v":4.8125},{"$f":"IF(U154=\"\",\"\",U155-U154)","v":5.2280000000000086},{"$f":"IF(V154=\"\",\"\",V155-V154)","v":4.3725000000000023},{"$f":"IF(W154=\"\",\"\",W155-W154)","v":1.5895000000000152},{"$f":"IF(X154=\"\",\"\",X155-X154)","v":-1.0605000000000047},{"$f":"IF(Y154=\"\",\"\",Y155-Y154)","v":2.964500000000001},{"$f":"IF(Z154=\"\",\"\",Z155-Z154)","v":7.9685000000000059},{"$f":"IF(AA154=\"\",\"\",AA155-AA154)","v":9.7109999999999985}]
["Precio Umbral (compra)(animal)",{"$f":"IF(B156=\"\",\"\",(B155-B153))","v":""},{"$f":"IF(C156=\"\",\"\",(C155-C153))","v":78.886499999999998},{"$f":"IF(D156=\"\",\"\",(D155-D153))","v":74.570000000000007},77.02000000000001,66.345249999999993,56.922249999999998,64.142250000000004,69.008499999999998,68.938749999999999,{"$f":"IF(K156=\"\",\"\",(K155-K153))","v":69.375249999999994},{"$f":"IF(L156=\"\",\"\",(L155-L153))","v":69.075999999999993},{"$f":"IF(M156=\"\",\"\",(M155-M153))","v":68.524749999999997},{"$f":"IF(N156=\"\",\"\",(N155-N153))","v":70.758500000000012},{"$f":"IF(O156=\"\",\"\",(O155-O153))","v":74.427499999999995},{"$f":"IF(P156=\"\",\"\",(P155-P153))","v":66.736750000000001},{"$f":"IF(Q156=\"\",\"\",(Q155-Q153))","v":68.871250000000003},{"$f":"IF(R156=\"\",\"\",(R155-R153))","v":72.33775},{"$f":"IF(S156=\"\",\"\",(S155-S153))","v":70.507500000000007},{"$f":"IF(T156=\"\",\"\",(T155-T153))","v":71.411249999999995},{"$f":"IF(U156=\"\",\"\",(U155-U153))","v":71.593999999999994},{"$f":"IF(V156=\"\",\"\",(V155-V153))","v":71.79025},{"$f":"IF(W156=\"\",\"\",(W155-W153))","v":72.611000000000004},{"$f":"IF(X156=\"\",\"\",(X155-X153))","v":78.278500000000008},{"$f":"IF(Y156=\"\",\"\",(Y155-Y153))","v":91.279750000000007},{"$f":"IF(Z156=\"\",\"\",(Z155-Z153))","v":93.005250000000004},{"$f":"IF(AA156=\"\",\"\",(AA155-AA153))","v":81.069249999999997}]
["Productividad Umbral (venta)(animal)",{"$f":"B154-B150-B151","v":{"$error":"#VALUE!"}},{"$f":"C154-C150-C151","v":67.097000000000008},{"$f":"D154-D150-D151","v":69.067499999999995},70.859999999999985,64.429500000000004,58.265499999999996,66.713000000000008,73.393000000000001,73.5625,{"$f":"K154-K150-K151","v":73.322000000000003},74.707999999999998,75.810500000000005,76.143000000000001,70.015000000000015,{"$f":"IF(P154=\"\",\"\",P154-P150-P151)","v":73.396500000000003},75.755499999999998,76.749499999999998,75.10499999999999,77.1875,76.771999999999991,77.627499999999998,81.160499999999985,89.810500000000005,98.785499999999999,96.231499999999997,82.289000000000001]
["Coste Alimentación (Kg)",{"$f":"IF(B152=\"\",\"\",B152/($C$14-$C$11))","v":""},{"$f":"IF(C152=\"\",\"\",C152/(C140-C137))","v":0.90334999999999999},{"$f":"IF(D152=\"\",\"\",D152/(D140-D137))","v":0.90999999999999981},0.90999999999999981,0.91997499999999999,0.86677499999999996,0.86677499999999996,0.85014999999999996,0.86012500000000003,0.85347499999999987,0.88339999999999996,0.93852499999999994,0.95514999999999994,0.64924999999999999,1.0183249999999997,1.0648749999999998,1.0582249999999997,1.0482499999999999,1.0648749999999998,1.0415999999999999,1.024975,1.0548999999999997,1.08815,1.1380250000000001,1.210475,1.2370749999999999]
["Costes Totales (sin lechal)(Kg)",{"$f":"IF(B153=\"\",\"\",B153/($C$14-$C$11))","v":""},{"$f":"IF(C153=\"\",\"\",C153/(C140-C137))","v":1.26135},{"$f":"IF(D153=\"\",\"\",D153/(D140-D137))","v":1.2679999999999998},1.2679999999999998,1.2779750000000001,1.2577750000000001,1.2607750000000002,1.24915,1.2561250000000002,1.212475,1.2423999999999999,1.2975249999999998,1.3141499999999999,1.0072500000000002,1.3763249999999998,1.4228749999999999,1.4162249999999998,1.4392499999999999,1.4588749999999999,1.4405999999999999,1.4209749999999999,1.4138999999999997,1.4471499999999999,1.4970250000000001,1.569475,1.543075]
["Costes Totales (Kg)",{"$f":"IF(B154=\"\",\"\",B154/($C$14-$C$11))","v":""},{"$f":"IF(C154=\"\",\"\",C154/(C140-C137))","v":7.4597000000000007},{"$f":"IF(D154=\"\",\"\",D154/(D140-D137))","v":7.6567499999999997},7.8359999999999985,7.0429500000000003,6.2765499999999994,7.021300000000001,7.5892999999999997,7.6062500000000002,7.5822000000000003,7.7207999999999997,7.8310500000000003,7.8643000000000001,7.2515000000000018,7.6896500000000003,7.9255499999999994,8.0249500000000005,7.8804999999999996,8.1187500000000004,8.0771999999999995,8.1627499999999991,8.5160499999999981,9.3810500000000001,10.32855,10.07315,8.6789000000000005]
["Ingresos Totales (Kg)",{"$f":"IF(B155=\"\",\"\",B155/($C$14-$C$11))","v":""},{"$f":"IF(C155=\"\",\"\",C155/(C140-C137))","v":9.15},{"$f":"IF(D155=\"\",\"\",D155/(D140-D137))","v":8.7249999999999996},8.9700000000000006,7.9124999999999996,6.95,7.6749999999999998,8.15,8.15,8.15,8.15,8.15,8.39,8.4499999999999993,8.0500000000000007,8.3099999999999987,8.65,8.49,8.6,8.6,8.6,8.6750000000000007,9.2750000000000004,10.625,10.870000000000001,9.65]
["Beneficios (Kg)",{"$f":"IF(B156=\"\",\"\",B156/($C$14-$C$11))","v":""},{"$f":"IF(C156=\"\",\"\",C156/(C140-C137))","v":1.6902999999999992},{"$f":"IF(D156=\"\",\"\",D156/(D140-D137))","v":1.0682500000000004},1.1340000000000017,0.8695499999999996,0.67345000000000044,0.65369999999999917,0.56069999999999998,0.54374999999999996,0.56779999999999975,0.42920000000000014,0.31894999999999951,0.5257000000000005,1.1984999999999986,0.36034999999999967,0.38444999999999963,0.62505000000000022,0.60950000000000126,0.48125000000000001,0.52280000000000082,0.43725000000000025,0.15895000000000153,-0.10605000000000046,0.2964500000000001,0.79685000000000061,0.97109999999999985]
["Precio Umbral (compra)(Kg)",{"$f":"IF(B157=\"\",\"\",B157/($C$14-$C$11))","v":""},{"$f":"IF(C157=\"\",\"\",C157/(C140-C137))","v":7.8886500000000002},{"$f":"IF(D157=\"\",\"\",D157/(D140-D137))","v":7.4570000000000007},7.7020000000000008,6.6345249999999991,5.6922249999999996,6.4142250000000001,6.9008500000000002,6.8938749999999995,6.9375249999999991,6.9075999999999995,6.8524750000000001,7.0758500000000009,7.4427499999999993,6.6736750000000002,6.8871250000000002,7.2337749999999996,7.0507500000000007,7.1411249999999997,7.1593999999999998,7.1790250000000002,7.2611000000000008,7.8278500000000006,9.1279750000000011,9.3005250000000004,8.1069250000000004]
["Productividad Umbral (venta)(Kg)",{"$f":"IF(B158=\"\",\"\",B158/($C$14-$C$11))","v":{"$error":"#VALUE!"}},{"$f":"IF(C158=\"\",\"\",C158/(C140-C137))","v":6.7097000000000007},{"$f":"IF(D158=\"\",\"\",D158/(D140-D137))","v":6.9067499999999997},7.0859999999999985,6.4429500000000006,5.8265499999999992,6.6713000000000005,7.3392999999999997,7.3562500000000002,7.3322000000000003,7.4707999999999997,7.5810500000000003,7.6143000000000001,7.0015000000000018,7.3396500000000007,7.5755499999999998,7.6749499999999999,7.5104999999999986,7.71875,7.6771999999999991,7.7627499999999996,8.1160499999999978,8.9810499999999998,9.8785500000000006,9.623149999999999,8.2288999999999994]
["Precio Compra Kilo Vivo",{"$f":"IF(B141=\"\",\"\",B141/B137)","v":""},{"$f":"IF(C141=\"\",\"\",C141/C137)","v":3.5300000000000002},{"$f":"IF(D141=\"\",\"\",D141/D137)","v":3.6525000000000003},3.7719999999999998,3.23,2.7679999999999998,3.2625000000000002,3.6599999999999997,3.6599999999999997,{"$f":"IF(K141=\"\",\"\",K141/K137)","v":3.6774999999999998},3.73,3.73,3.73,3.73,{"$f":"IF(P141=\"\",\"\",P141/P137)","v":3.5300000000000002},3.6252,3.7003333333333335,3.595333333333333,3.73,3.73,3.8111999999999995,4.0314999999999994,{"$f":"IF(X141=\"\",\"\",X141/X137)","v":4.5638333333333332},5.1290000000000004,4.8621333333333334,3.9324999999999997]
["Precio Venta Kilo Vivo",{"$f":"IF(B149=\"\",\"\",B149/B140)","v":""},{"$f":"IF(C149=\"\",\"\",C149/C140)","v":3.36},{"$f":"IF(D149=\"\",\"\",D149/D140)","v":3.19},3.2880000000000003,2.9249999999999998,2.6,2.93,3.16,3.16,{"$f":"IF(K149=\"\",\"\",K149/K140)","v":3.16},3.16,3.16,3.2560000000000002,3.28,{"$f":"IF(P149=\"\",\"\",P149/P140)","v":3.08},3.1839999999999997,3.32,3.2480000000000002,3.28,3.28,3.28,3.31,{"$f":"IF(X149=\"\",\"\",X149/X140)","v":3.55},4.07,4.1680000000000001,3.68]
["Rentabilidad",{"$f":"IF(B156=\"\",\"\",B156/B154)","v":""},{"$f":"IF(C156=\"\",\"\",C156/C154)","v":0.22659088167084454},{"$f":"IF(D156=\"\",\"\",D156/D154)","v":0.13951741927057831},0.14471669218989305,0.12346388942133615,0.10729620571810955,9.3102416931337376E-2,7.3880331519375952E-2,7.1487263763352502E-2,{"$f":"IF(K156=\"\",\"\",K156/K154)","v":7.4885917016169409E-2},5.5590094290747093E-2,4.0728893315711112E-2,6.6846381750441927E-2,0.16527614976211794,{"$f":"IF(P156=\"\",\"\",P156/P154)","v":4.6861690714141695E-2},4.8507674546245959E-2,7.7888335752870769E-2,7.734280819744957E-2,5.9276366435719784E-2,6.4725399891051472E-2,5.3566506385715626E-2,1.8664756547930268E-2,{"$f":"IF(X156=\"\",\"\",X156/X154)","v":-1.1304704697235433E-2},2.8701995923919633E-2,7.9106337143793212E-2,0.11189206005369343]
[]
[]
[]
[]
[{"$f":"IF(L11=\"\",\"\",L11)","v":""},null,{"$f":"IF(C141=\"\",\"\",VLOOKUP($A173,$A$137:$AL$168,C135,FALSE))","v":{"$error":"#N/A"}},{"$f":"IF(D141=\"\",\"\",VLOOKUP($A173,$A$137:$AL$168,D135,FALSE))","v":{"$error":"#N/A"}},{"$f":"IF(E141=\"\",\"\",VLOOKUP($A173,$A$137:$AL$168,E135,FALSE))","v":{"$error":"#N/A"}},{"$error":"#N/A"},{"$error":"#N/A"},{"$error":"#N/A"},{"$error":"#N/A"},{"$error":"#N/A"},{"$error":"#N/A"},{"$error":"#N/A"},{"$error":"#N/A"},{"$error":"#N/A"},{"$error":"#N/A"},{"$error":"#N/A"},{"$error":"#N/A"},{"$error":"#N/A"},{"$error":"#N/A"},{"$error":"#N/A"},{"$error":"#N/A"},{"$error":"#N/A"},{"$error":"#N/A"},{"$error":"#N/A"},{"$error":"#N/A"},{"$error":"#N/A"},{"$error":"#N/A"}]
[{"$f":"IF(L12=\"\",\"\",L12)","v":""},null,{"$f":"IF(C141=\"\",\"\",VLOOKUP($A174,$A$137:$AL$168,C135,FALSE))","v":{"$error":"#N/A"}},{"$f":"IF(D141=\"\",\"\",VLOOKUP($A174,$A$137:$AL$168,D135,FALSE))","v":{"$error":"#N/A"}},{"$error":"#N/A"},{"$error":"#N/A"},{"$error":"#N/A"},{"$error":"#N/A"},{"$error":"#N/A"},{"$error":"#N/A"},{"$error":"#N/A"},{"$error":"#N/A"},{"$error":"#N/A"},{"$error":"#N/A"},{"$error":"#N/A"},{"$error":"#N/A"},{"$error":"#N/A"},{"$error":"#N/A"},{"$error":"#N/A"},{"$error":"#N/A"},{"$error":"#N/A"},{"$error":"#N/A"},{"$error":"#N/A"},{"$error":"#N/A"},{"$error":"#N/A"},{"$error":"#N/A"},{"$error":"#N/A"}]
["",null,{"$f":"IF(C141=\"\",\"\",VLOOKUP($A175,$A$137:$AL$168,C135,FALSE))","v":{"$error":"#N/A"}},{"$f":"IF(D141=\"\",\"\",VLOOKUP($A175,$A$137:$AL$168,D135,FALSE))","v":{"$error":"#N/A"}},{"$error":"#N/A"},{"$error":"#N/A"},{"$error":"#N/A"},{"$error":"#N/A"},{"$error":"#N/A"},{"$error":"#N/A"},{"$error":"#N/A"},{"$error":"#N/A"},{"$error":"#N/A"},{"$error":"#N/A"},{"$error":"#N/A"},{"$error":"#N/A"},{"$error":"#N/A"},{"$error":"#N/A"},{"$error":"#N/A"},{"$error":"#N/A"},{"$error":"#N/A"},{"$error":"#N/A"},{"$error":"#N/A"},{"$error":"#N/A"},{"$error":"#N/A"},{"$error":"#N/A"},{"$error":"#N/A"}]
["",null,{"$f":"IF(C141=\"\",\"\",VLOOKUP($A176,$A$137:$AL$168,C135,FALSE))","v":{"$error":"#N/A"}},{"$f":"IF(D141=\"\",\"\",VLOOKUP($A176,$A$137:$AL$168,D135,FALSE))","v":{"$error":"#N/A"}},{"$error":"#N/A"},{"$error":"#N/A"},{"$error":"#N/A"},{"$error":"#N/A"},{"$error":"#N/A"},{"$error":"#N/A"},{"$error":"#N/A"},{"$error":"#N/A"},{"$error":"#N/A"},{"$error":"#N/A"},{"$error":"#N/A"},{"$error":"#N/A"},{"$error":"#N/A"},{"$error":"#N/A"},{"$error":"#N/A"},{"$error":"#N/A"},{"$error":"#N/A"},{"$error":"#N/A"},{"$error":"#N/A"},{"$error":"#N/A"},{"$error":"#N/A"},{"$error":"#N/A"},{"$error":"#N/A"}]

{"sheet":"GEST CUENTA EXPL","index":9,"n_rows":39,"n_cols":15,"rows_kept":39,"cut":false,"hidden":false,"merged":[[10,10,17,10],[18,10,21,10],[24,0,26,0],[11,5,15,5],[23,5,25,5],[11,0,15,0],[19,0,20,0]]}
[]
[]
[]
[]
["CUENTA EXPLOTACION CEBO CORDEROS",null,null,null,null,"CUENTA EXPLOTACION CEBO CORDEROS",null,null,null,null,"CUENTA EXPLOTACION CEBO CORDEROS"]
[]
["GANADERO:","EJEMPLO",null,null,null,"GANADERO:",{"$f":"IF(B7=\"\",\"\",B7)","v":"EJEMPLO"},null,null,null,"GANADERO:",{"$f":"IF(G7=\"\",\"\",G7)","v":"EJEMPLO"}]
["FECHA","2022-02-14",null,null,null,"FECHA",{"$f":"IF(B8=\"\",\"\",B8)","v":"2022-02-14"},null,null,null,"FECHA",{"$f":"IF(G8=\"\",\"\",G8)","v":"2022-02-14"}]
["INGRESOS Y GASTOS",null,null,null,null,"RESULTADOS",null,null,null,null,"RESUMEN Y GRAFICOS"]
[null,null,null,null,null,null,null,null,null,null,null,null,"E/AÑO","E/CORDERO"]
[null,null,null,null,null,null,null,null,null,null,"GASTOS","COSTO CORDERO",{"$f":"IF(C16=\"\",\"\",C16*C13)","v":2610000},{"$f":"IF(C16=\"\",\"\",C16)","v":58},"Euros"]
["DESCRIPCION","Superficie",3150,"m2",null,"DESCRIPCION","Superficie",{"$f":"IF(C12=\"\",\"\",C12)","v":3150},"m2",null,null,"AMORTIZACION",{"$f":"IF(H20=\"\",\"\",H20)","v":25000},{"$f":"IF(I20=\"\",\"\",I20)","v":0.55555555555555558},"Euros"]
[null,"Nº animales/año",45000,"corderos",null,null,"Nº animales/año",{"$f":"IF(C13=\"\",\"\",C13)","v":45000},"corderos",null,null,"MANO OBRA",{"$f":"IF(H22=\"\",\"\",H22)","v":70000},{"$f":"IF(I22=\"\",\"\",I22)","v":1.5555555555555556},"Euros"]
[null,"Estancia media",35,"dias",null,null,"Estancia media",35,"dias",null,null,"ALIMENTACION",{"$f":"IF(H26=\"\",\"\",H26)","v":544398.75},{"$f":"IF(I26=\"\",\"\",I26)","v":12.097750000000001},"Euros"]
[null,"Mano de Obra",5,"operario",null,null,"Mano de Obra",5,"operario",null,null,"COMPRA&PORTE",{"$f":"IF(H28=\"\",\"\",H28)","v":25000},{"$f":"IF(I28=\"\",\"\",I28)","v":0.55555555555555558},"Euros"]
[null,"Precio Cordero",58,"Euros",null,null,"Precio Cordero",58,"Euros",null,null,"BAJAS",{"$f":"IF(H30=\"\",\"\",H30)","v":57419.999999999993},{"$f":"IF(I30=\"\",\"\",I30)","v":1.2759999999999998},"Euros"]
[null,null,null,null,null,null,null,null,null,null,null,"FINANCIEROS Y OTROS",{"$f":"IF(H32=\"\",\"\",H32)","v":12000},{"$f":"IF(I32=\"\",\"\",I32)","v":0.26666666666666666},"Euros"]
["COSTOS","CONCEPTO","EUROS",null,null,"COSTOS","CONCEPTO","E/AÑO","E/CORDERO",null,null,"TOTAL COSTOS",{"$f":"IF(C16=\"\",\"\",SUM(M11:M17))","v":3343818.75},{"$f":"IF(C16=\"\",\"\",SUM(N11:N17))","v":74.307083333333338},"Euros"]
[null,null,null,null,null,null,null,null,null,null,"INGRESOS","VENTA CORDEROS",{"$f":"IF(H36=\"\",\"\",H36)","v":3300750},73.349999999999994,"Euros"]
["AMORTIZACION","Costo Instalación",500000,"Euros",null,"AMORTIZACION","Costo Instalación",{"$f":"IF(C20=\"\",\"\",C20/C21)","v":25000},{"$f":"IF(C20=\"\",\"\",H20/C13)","v":0.55555555555555558},"Euros",null,"VENTA PIEL",198045,4.4009999999999998,"Euros"]
[null,"Años Amortización",20,"Euros",null,null,null,null,null,null,null,"OTROS",0,0,"Euros"]
[null,null,null,null,null,"MANO OBRA","Costo anual",{"$f":"IF(C23=\"\",\"\",(C23*C15))","v":70000},{"$f":"IF(C23=\"\",\"\",H22/C13)","v":1.5555555555555556},null,null,"TOTAL INGRESOS",{"$f":"IF(M19=\"\",\"\",SUM(M19:M21))","v":3498795},{"$f":"IF(N19=\"\",\"\",SUM(N19:N21))","v":77.750999999999991},"Euros"]
["MANO OBRA","Costo por operario",14000,"Euros",null,null,null,null,null,null,"BALANCE","BENEFICIOS",{"$f":"IF(M18=\"\",\"\",M22-M18)","v":154976.25},{"$f":"IF(N18=\"\",\"\",N22-N18)","v":3.4439166666666523},"Euros"]
[null,null,null,null,null,"ALIMENTACION","Costo Pienso",{"$f":"IF(C25=\"\",\"\",(((C25/1000)*C27)*C14)*C13)","v":531168.75},{"$f":"IF(C25=\"\",\"\",H24/C13)","v":11.803750000000001},"Euros"]
["ALIMENTACION","Costo Tm Pienso",355,"Euros/Tm",null,null,"Costo Paja",{"$f":"IF(C26=\"\",\"\",(((C26/1000)*0.12)*C14)*C13)","v":13230.000000000002},{"$f":"IF(C26=\"\",\"\",H25/C13)","v":0.29400000000000004},"Euros"]
[null,"Costo Tm de Paja",70,"Euros/Tm",null,null,"TOTAL Alimentación",{"$f":"IF(H24=\"\",\"\",SUM(H24:H25))","v":544398.75},{"$f":"IF(I24=\"\",\"\",SUM(I24:I25))","v":12.097750000000001},"Euros"]
[null,"Consumo Medio Diario",0.95,"Kg/cordero/día"]
[null,null,null,null,null,"COMPRA&PORTE","Costo Total",{"$f":"IF(C29=\"\",\"\",C29)","v":25000},{"$f":"IF(C29=\"\",\"\",H28/C13)","v":0.55555555555555558},"Euros"]
["COMPRA Y TRANSPORTE","Costo Total",25000,"Euros"]
[null,null,null,null,null,"BAJAS Y OTROS","Total Bajas",{"$f":"IF(C31=\"\",\"\",(C31*C13)*C16)","v":57419.999999999993},{"$f":"IF(C31=\"\",\"\",H30/C13)","v":1.2759999999999998},"Euros"]
["BAJAS Y OTROS","% BAJAS (sobre total)",2.1999999999999999E-2,"%"]
[null,null,null,null,null,"FINANCIEROS Y OTROS","Costo Total",{"$f":"IF(C33=\"\",\"\",C33)","v":12000},{"$f":"IF(C33=\"\",\"\",H32/C13)","v":0.26666666666666666},"Euros"]
["FINANCIEROS Y OTROS","Costo Total",12000,"Euros"]
[null,null,null,null,null,"INGRESOS","CONCEPTO","E/AÑO","E/CORDERO"]
["INGRESOS","CONCEPTO","EUROS"]
[null,null,null,null,null,"VENTA CORDEROS","Ingresos Corderos",{"$f":"IF(C37=\"\",\"\",(C13-(C13*C31))*C37)","v":3300750},{"$f":"IF(C37=\"\",\"\",H36/$C$13)","v":73.349999999999994},"Euros"]
["VENTA CORDEROS","Precio Venta Unidad",75,"Euros",null,"PIEL","Ingresos Piel",{"$f":"IF(C38=\"\",\"\",($C$13-($C$13*$C$31))*C38)","v":198045},{"$f":"IF(C38=\"\",\"\",H37/$C$13)","v":4.4009999999999998},"Euros"]
["PIEL","Precio Venta Unidad",4.5,"Euros",null,"OTROS INGRESOS","Ingresos Otros",{"$f":"IF(C39=\"\",\"\",($C$13-($C$13*$C$31))*C39)","v":0},{"$f":"IF(C39=\"\",\"\",H38/$C$13)","v":0},"Euros"]
["OTROS INGRESOS","Precio Venta Unidad",0,"Euros"]

{"sheet":"GEST FINANCIACION","index":10,"n_rows":52,"n_cols":56,"rows_kept":52,"cut":false,"hidden":false,"merged":[[7,1,14,1],[16,1,19,1],[43,1,46,1],[47,1,49,1]]}
[]
[]
[]
[null,null,"FINANCIACION CEBADERO CORDEROS"]
[null,"GANADERO:"]
[null,"FECHA"]
[]
[null,"CORDEROS","Nº CORDEROS ENTRADOS",null,"corderos"]
[null,null,"PRECIO/CORDERO (Euros)",null,"Euros/cordero"]
[null,null,"PESO VIVO ENTRADA",null,"Kg/cordero"]
[null,null,"PESO VIVO SALIDA",null,"Kg/cordero"]
[null,null,"CAPACIDAD MATANZA SEMANAL",null,"corderos"]
[null,null,"PLAZO PAGO CORDEROS",null,"dias"]
[null,null,"PLAZO COBRO MATADERO",null,"dias"]
[null,null,"FECHA ENTRADA CORDEROS"]
[]
[null,"PIENSO","CONSUMO MEDIO DIARIO",null,"Kg./cordero y dia"]
[null,null,"PRECIO PIENSO",null,"Euros/Tm pienso"]
[null,null,"MORTALIDAD ESTIMADA (%)"]
[null,null,"PLAZO COBRO PIENSO",null,"dias"]
[]
[null,null,"DIAS ESTANCIA ESTIMADOS",{"$f":"IF(D10=\"\",\"\",(D11-D10)/0.29)","v":""},"dias estancia media"]
[null,null,"FECHA MATANZA ESTIMADA",{"$f":"IF(D15=\"\",\"\",D15+D22)","v":""}]
[null,null,"FECHA PAGO CORDEROS",{"$f":"IF(D15=\"\",\"\",D15+D13)","v":""}]
[null,null,"FECHA COBRO MATADERO",{"$f":"IF(D14=\"\",\"\",D23+D14)","v":""}]
[null,null,"DIAS FINANCIACION",{"$f":"IF(D25=\"\",\"\",D25-D24)","v":""},"dias"]
[]
[null,null,"CONSUMO TOTAL DE PIENSO",{"$f":"IF(D17=\"\",\"\",((D8*D17*D22)-((D8*D19)*D17*(D22/2)))/1000)","v":""},"Tm pienso"]
[null,null,"FECHA VENCIMIENTO PIENSO",{"$f":"IF(D20=\"\",\"\",D15+D20)","v":""}]
[]
[null,null,"EUROS FINANC. CORDEROS",{"$f":"IF(D9=\"\",\"\",D8*D9)","v":""},"Euros"]
[null,null,"EUROS FINANCIACION PIENSO",{"$f":"IF(D18=\"\",\"\",D28*D18)","v":""},"Euros"]
[null,null,"EUROS FINANCIACION TOTAL",{"$f":"IF(D18=\"\",\"\",D31+D32)","v":""},"Euros"]
[]
[]
[]
[]
[]
[]
[]
[null,null,null,"SEMANA","SEMANA","SEMANA","SEMANA","SEMANA","SEMANA","SEMANA","SEMANA","SEMANA","SEMANA","SEMANA","SEMANA","SEMANA","SEMANA","SEMANA","SEMANA","SEMANA","SEMANA","SEMANA","SEMANA","SEMANA","SEMANA","SEMANA","SEMANA","SEMANA","SEMANA","SEMANA","SEMANA","SEMANA","SEMANA","SEMANA","SEMANA","SEMANA","SEMANA","SEMANA","SEMANA","SEMANA","SEMANA","SEMANA","SEMANA","SEMANA","SEMANA","SEMANA","SEMANA","SEMANA","SEMANA","SEMANA","SEMANA","SEMANA","SEMANA","SEMANA","SEMANA","SEMANA"]
[null,null,null,0,1,2,3,4,5,6,7,8,9,10,11,12,13,14,15,16,17,18,19,20,21,22,23,24,25,26,27,28,29,30,31,32,33,34,35,36,37,38,39,40,41,42,43,44,45,46,47,48,49,50,51,52]
[null,null,"FECHA",{"$f":"IF(D15=\"\",\"\",D15)","v":""},{"$f":"IF(D43>$D$25,\"\",D43+7)","v":{"$error":"#VALUE!"}},{"$error":"#VALUE!"},{"$error":"#VALUE!"},{"$error":"#VALUE!"},{"$error":"#VALUE!"},{"$error":"#VALUE!"},{"$error":"#VALUE!"},{"$error":"#VALUE!"},{"$error":"#VALUE!"},{"$error":"#VALUE!"},{"$error":"#VALUE!"},{"$error":"#VALUE!"},{"$error":"#VALUE!"},{"$error":"#VALUE!"},{"$error":"#VALUE!"},{"$error":"#VALUE!"},{"$error":"#VALUE!"},{"$error":"#VALUE!"},{"$error":"#VALUE!"},{"$error":"#VALUE!"},{"$error":"#VALUE!"},{"$error":"#VALUE!"},{"$error":"#VALUE!"},{"$error":"#VALUE!"},{"$error":"#VALUE!"},{"$error":"#VALUE!"},{"$error":"#VALUE!"},{"$error":"#VALUE!"},{"$error":"#VALUE!"},{"$error":"#VALUE!"},{"$error":"#VALUE!"},{"$error":"#VALUE!"},{"$error":"#VALUE!"},{"$error":"#VALUE!"},{"$error":"#VALUE!"},{"$error":"#VALUE!"},{"$error":"#VALUE!"},{"$error":"#VALUE!"},{"$error":"#VALUE!"},{"$error":"#VALUE!"},{"$error":"#VALUE!"},{"$error":"#VALUE!"},{"$error":"#VALUE!"},{"$error":"#VALUE!"},{"$error":"#VALUE!"},{"$error":"#VALUE!"},{"$error":"#VALUE!"},{"$error":"#VALUE!"},{"$error":"#VALUE!"},{"$error":"#VALUE!"},{"$error":"#VALUE!"},{"$error":"#VALUE!"}]
[null,"CORDEROS","CORDEROS PRESENTES",{"$f":"IF(D12=\"\",D8,D12)","v":0},{"$f":"IF(E43>$D$23,\"\",IF(E42<($D$8/$D$12),(((D44+$D$12)-((D44+$D$12)*(($D$19/$D$22)*7)))),D44))","v":{"$error":"#VALUE!"}},{"$f":"IF(F43>$D$23,\"\",IF(F42<($D$8/$D$12),(((E44+$D$12)-((E44+$D$12)*(($D$19/$D$22)*7)))),E44))","v":{"$error":"#VALUE!"}},{"$error":"#VALUE!"},{"$error":"#VALUE!"},{"$error":"#VALUE!"},{"$error":"#VALUE!"},{"$error":"#VALUE!"},{"$error":"#VALUE!"},{"$error":"#VALUE!"},{"$error":"#VALUE!"},{"$error":"#VALUE!"},{"$error":"#VALUE!"},{"$error":"#VALUE!"},{"$error":"#VALUE!"},{"$error":"#VALUE!"},{"$error":"#VALUE!"},{"$error":"#VALUE!"},{"$error":"#VALUE!"},{"$error":"#VALUE!"},{"$error":"#VALUE!"},{"$error":"#VALUE!"},{"$error":"#VALUE!"},{"$error":"#VALUE!"},{"$error":"#VALUE!"},{"$error":"#VALUE!"},{"$error":"#VALUE!"},{"$error":"#VALUE!"},{"$error":"#VALUE!"},{"$error":"#VALUE!"},{"$error":"#VALUE!"},{"$error":"#VALUE!"},{"$error":"#VALUE!"},{"$error":"#VALUE!"},{"$error":"#VALUE!"},{"$error":"#VALUE!"},{"$error":"#VALUE!"},{"$error":"#VALUE!"},{"$error":"#VALUE!"},{"$error":"#VALUE!"},{"$error":"#VALUE!"},{"$error":"#VALUE!"},{"$error":"#VALUE!"},{"$error":"#VALUE!"},{"$error":"#VALUE!"},{"$error":"#VALUE!"},{"$error":"#VALUE!"},{"$error":"#VALUE!"},{"$error":"#VALUE!"},{"$error":"#VALUE!"},{"$error":"#VALUE!"},{"$error":"#VALUE!"},{"$error":"#VALUE!"}]
[null,null,"CORDEROS PENDIENTES PAGO",{"$f":"$D$8/($D$8/$D$12)","v":{"$error":"#DIV/0!"}},{"$f":"IF(E43>$D$25,\"\",IF(D45<D8,(D45+($D$8/($D$8/$D$12))),$D$8))","v":{"$error":"#VALUE!"}},{"$error":"#VALUE!"},{"$error":"#VALUE!"},{"$error":"#VALUE!"},{"$error":"#VALUE!"},{"$error":"#VALUE!"},{"$error":"#VALUE!"},{"$error":"#VALUE!"},{"$error":"#VALUE!"},{"$error":"#VALUE!"},{"$error":"#VALUE!"},{"$error":"#VALUE!"},{"$error":"#VALUE!"},{"$error":"#VALUE!"},{"$error":"#VALUE!"},{"$error":"#VALUE!"},{"$error":"#VALUE!"},{"$error":"#VALUE!"},{"$error":"#VALUE!"},{"$error":"#VALUE!"},{"$error":"#VALUE!"},{"$error":"#VALUE!"},{"$error":"#VALUE!"},{"$error":"#VALUE!"},{"$error":"#VALUE!"},{"$error":"#VALUE!"},{"$error":"#VALUE!"},{"$error":"#VALUE!"},{"$error":"#VALUE!"},{"$error":"#VALUE!"},{"$error":"#VALUE!"},{"$error":"#VALUE!"},{"$error":"#VALUE!"},{"$error":"#VALUE!"},{"$error":"#VALUE!"},{"$error":"#VALUE!"},{"$error":"#VALUE!"},{"$error":"#VALUE!"},{"$error":"#VALUE!"},{"$error":"#VALUE!"},{"$error":"#VALUE!"},{"$error":"#VALUE!"},{"$error":"#VALUE!"},{"$error":"#VALUE!"},{"$error":"#VALUE!"},{"$error":"#VALUE!"},{"$error":"#VALUE!"},{"$error":"#VALUE!"},{"$error":"#VALUE!"},{"$error":"#VALUE!"},{"$error":"#VALUE!"},{"$error":"#VALUE!"}]
[null,null,"SALDO CORDEROS (EUROS)",{"$f":"IF(D43<$D$24,0,IF(D43>$D$25,\"\",D45*$D$9))","v":{"$error":"#DIV/0!"}},{"$f":"IF(E43>$D$25,\"\",IF(E43<$D$24,0,IF(E45=$D$8,$D$31,(D46+(E45-D45)*$D$9))))","v":{"$error":"#VALUE!"}},{"$f":"IF(F43>$D$25,\"\",IF(F43<$D$24,0,IF(F45=$D$8,$D$31,(E46+(F45-E45)*$D$9))))","v":{"$error":"#VALUE!"}},{"$f":"IF(G43>$D$25,\"\",IF(G43<$D$24,0,IF(G45=$D$8,$D$31,(F46+(G45-F45)*$D$9))))","v":{"$error":"#VALUE!"}},{"$f":"IF(H43>$D$25,\"\",IF(H43<$D$24,0,IF(H45=$D$8,$D$31,(G46+(H45-G45)*$D$9))))","v":{"$error":"#VALUE!"}},{"$f":"IF(I43>$D$25,\"\",IF(I43<$D$24,0,IF(I45=$D$8,$D$31,(H46+(I45-H45)*$D$9))))","v":{"$error":"#VALUE!"}},{"$error":"#VALUE!"},{"$error":"#VALUE!"},{"$error":"#VALUE!"},{"$error":"#VALUE!"},{"$error":"#VALUE!"},{"$error":"#VALUE!"},{"$error":"#VALUE!"},{"$error":"#VALUE!"},{"$error":"#VALUE!"},{"$error":"#VALUE!"},{"$error":"#VALUE!"},{"$error":"#VALUE!"},{"$error":"#VALUE!"},{"$error":"#VALUE!"},{"$error":"#VALUE!"},{"$error":"#VALUE!"},{"$error":"#VALUE!"},{"$error":"#VALUE!"},{"$error":"#VALUE!"},{"$error":"#VALUE!"},{"$error":"#VALUE!"},{"$error":"#VALUE!"},{"$error":"#VALUE!"},{"$error":"#VALUE!"},{"$error":"#VALUE!"},{"$error":"#VALUE!"},{"$error":"#VALUE!"},{"$error":"#VALUE!"},{"$error":"#VALUE!"},{"$error":"#VALUE!"},{"$error":"#VALUE!"},{"$error":"#VALUE!"},{"$error":"#VALUE!"},{"$error":"#VALUE!"},{"$error":"#VALUE!"},{"$error":"#VALUE!"},{"$error":"#VALUE!"},{"$error":"#VALUE!"},{"$error":"#VALUE!"},{"$error":"#VALUE!"},{"$error":"#VALUE!"},{"$error":"#VALUE!"},{"$error":"#VALUE!"},{"$error":"#VALUE!"},{"$error":"#VALUE!"},{"$error":"#VALUE!"},{"$error":"#VALUE!"}]
[null,null,"DIAS FINANCIACION CORDEROS",{"$f":"IF(D43=\"\",\"\",IF(D46=0,0,IF(D43>$D$25,0,$D$25-D43)))","v":""},{"$error":"#VALUE!"},{"$error":"#VALUE!"},{"$error":"#VALUE!"},{"$error":"#VALUE!"},{"$error":"#VALUE!"},{"$error":"#VALUE!"},{"$error":"#VALUE!"},{"$error":"#VALUE!"},{"$error":"#VALUE!"},{"$error":"#VALUE!"},{"$error":"#VALUE!"},{"$error":"#VALUE!"},{"$error":"#VALUE!"},{"$error":"#VALUE!"},{"$error":"#VALUE!"},{"$error":"#VALUE!"},{"$error":"#VALUE!"},{"$error":"#VALUE!"},{"$error":"#VALUE!"},{"$error":"#VALUE!"},{"$error":"#VALUE!"},{"$error":"#VALUE!"},{"$error":"#VALUE!"},{"$error":"#VALUE!"},{"$error":"#VALUE!"},{"$error":"#VALUE!"},{"$error":"#VALUE!"},{"$error":"#VALUE!"},{"$error":"#VALUE!"},{"$error":"#VALUE!"},{"$error":"#VALUE!"},{"$error":"#VALUE!"},{"$error":"#VALUE!"},{"$error":"#VALUE!"},{"$error":"#VALUE!"},{"$error":"#VALUE!"},{"$error":"#VALUE!"},{"$error":"#VALUE!"},{"$error":"#VALUE!"},{"$error":"#VALUE!"},{"$error":"#VALUE!"},{"$error":"#VALUE!"},{"$error":"#VALUE!"},{"$error":"#VALUE!"},{"$error":"#VALUE!"},{"$error":"#VALUE!"},{"$error":"#VALUE!"},{"$error":"#VALUE!"},{"$error":"#VALUE!"},{"$error":"#VALUE!"},{"$error":"#VALUE!"},{"$error":"#VALUE!"}]
[null,"PIENSO","PIENSO SERVIDO",{"$f":"IF(D43>$D$29,\"\",(D28/(D23-D15))*7)","v":{"$error":"#VALUE!"}},{"$f":"IF(E43>$D$29,\"\",IF(D48<($D$28-$D$48),(D48+($D$28/($D$23-$D$15))*7),$D$28))","v":{"$error":"#VALUE!"}},{"$error":"#VALUE!"},{"$error":"#VALUE!"},{"$error":"#VALUE!"},{"$error":"#VALUE!"},{"$error":"#VALUE!"},{"$error":"#VALUE!"},{"$error":"#VALUE!"},{"$error":"#VALUE!"},{"$error":"#VALUE!"},{"$error":"#VALUE!"},{"$error":"#VALUE!"},{"$error":"#VALUE!"},{"$error":"#VALUE!"},{"$error":"#VALUE!"},{"$error":"#VALUE!"},{"$error":"#VALUE!"},{"$error":"#VALUE!"},{"$error":"#VALUE!"},{"$error":"#VALUE!"},{"$error":"#VALUE!"},{"$error":"#VALUE!"},{"$error":"#VALUE!"},{"$error":"#VALUE!"},{"$error":"#VALUE!"},{"$error":"#VALUE!"},{"$error":"#VALUE!"},{"$error":"#VALUE!"},{"$error":"#VALUE!"},{"$error":"#VALUE!"},{"$error":"#VALUE!"},{"$error":"#VALUE!"},{"$error":"#VALUE!"},{"$error":"#VALUE!"},{"$error":"#VALUE!"},{"$error":"#VALUE!"},{"$error":"#VALUE!"},{"$error":"#VALUE!"},{"$error":"#VALUE!"},{"$error":"#VALUE!"},{"$error":"#VALUE!"},{"$error":"#VALUE!"},{"$error":"#VALUE!"},{"$error":"#VALUE!"},{"$error":"#VALUE!"},{"$error":"#VALUE!"},{"$error":"#VALUE!"},{"$error":"#VALUE!"},{"$error":"#VALUE!"},{"$error":"#VALUE!"},{"$error":"#VALUE!"},{"$error":"#VALUE!"}]
[null,null,"SALDO PIENSO (EUROS)",{"$f":"IF(D43>$D$29,\"\",D48*$D$18)","v":{"$error":"#VALUE!"}},{"$f":"IF(E43>$D$29,\"\",E48*$D$18)","v":{"$error":"#VALUE!"}},{"$error":"#VALUE!"},{"$error":"#VALUE!"},{"$error":"#VALUE!"},{"$error":"#VALUE!"},{"$error":"#VALUE!"},{"$error":"#VALUE!"},{"$error":"#VALUE!"},{"$error":"#VALUE!"},{"$error":"#VALUE!"},{"$error":"#VALUE!"},{"$error":"#VALUE!"},{"$error":"#VALUE!"},{"$error":"#VALUE!"},{"$error":"#VALUE!"},{"$error":"#VALUE!"},{"$error":"#VALUE!"},{"$error":"#VALUE!"},{"$error":"#VALUE!"},{"$error":"#VALUE!"},{"$error":"#VALUE!"},{"$error":"#VALUE!"},{"$error":"#VALUE!"},{"$error":"#VALUE!"},{"$error":"#VALUE!"},{"$error":"#VALUE!"},{"$error":"#VALUE!"},{"$error":"#VALUE!"},{"$error":"#VALUE!"},{"$error":"#VALUE!"},{"$error":"#VALUE!"},{"$error":"#VALUE!"},{"$error":"#VALUE!"},{"$error":"#VALUE!"},{"$error":"#VALUE!"},{"$error":"#VALUE!"},{"$error":"#VALUE!"},{"$error":"#VALUE!"},{"$error":"#VALUE!"},{"$error":"#VALUE!"},{"$error":"#VALUE!"},{"$error":"#VALUE!"},{"$error":"#VALUE!"},{"$error":"#VALUE!"},{"$error":"#VALUE!"},{"$error":"#VALUE!"},{"$error":"#VALUE!"},{"$error":"#VALUE!"},{"$error":"#VALUE!"},{"$error":"#VALUE!"},{"$error":"#VALUE!"},{"$error":"#VALUE!"}]
[null,null,"DIAS FINANCIACION PIENSO",{"$f":"IF(D43>$D$29,\"\",$D$29-D43)","v":{"$error":"#VALUE!"}},{"$f":"IF(E43>$D$29,\"\",$D$29-E43)","v":{"$error":"#VALUE!"}},{"$error":"#VALUE!"},{"$error":"#VALUE!"},{"$error":"#VALUE!"},{"$error":"#VALUE!"},{"$error":"#VALUE!"},{"$error":"#VALUE!"},{"$error":"#VALUE!"},{"$error":"#VALUE!"},{"$error":"#VALUE!"},{"$error":"#VALUE!"},{"$error":"#VALUE!"},{"$error":"#VALUE!"},{"$error":"#VALUE!"},{"$error":"#VALUE!"},{"$error":"#VALUE!"},{"$error":"#VALUE!"},{"$error":"#VALUE!"},{"$error":"#VALUE!"},{"$error":"#VALUE!"},{"$error":"#VALUE!"},{"$error":"#VALUE!"},{"$error":"#VALUE!"},{"$error":"#VALUE!"},{"$error":"#VALUE!"},{"$error":"#VALUE!"},{"$error":"#VALUE!"},{"$error":"#VALUE!"},{"$error":"#VALUE!"},{"$error":"#VALUE!"},{"$error":"#VALUE!"},{"$error":"#VALUE!"},{"$error":"#VALUE!"},{"$error":"#VALUE!"},{"$error":"#VALUE!"},{"$error":"#VALUE!"},{"$error":"#VALUE!"},{"$error":"#VALUE!"},{"$error":"#VALUE!"},{"$error":"#VALUE!"},{"$error":"#VALUE!"},{"$error":"#VALUE!"},{"$error":"#VALUE!"},{"$error":"#VALUE!"},{"$error":"#VALUE!"},{"$error":"#VALUE!"},{"$error":"#VALUE!"},{"$error":"#VALUE!"},{"$error":"#VALUE!"},{"$error":"#VALUE!"},{"$error":"#VALUE!"},{"$error":"#VALUE!"}]
[null,null,"SALDO TOTAL (EUROS)",{"$f":"IF(D49=\"\",\"\",IF(D46=\"\",\"\",D46+D49))","v":{"$error":"#VALUE!"}},{"$f":"IF(E49=\"\",\"\",IF(E46=\"\",\"\",E46+E49))","v":{"$error":"#VALUE!"}},{"$error":"#VALUE!"},{"$error":"#VALUE!"},{"$error":"#VALUE!"},{"$error":"#VALUE!"},{"$error":"#VALUE!"},{"$error":"#VALUE!"},{"$error":"#VALUE!"},{"$error":"#VALUE!"},{"$error":"#VALUE!"},{"$error":"#VALUE!"},{"$error":"#VALUE!"},{"$error":"#VALUE!"},{"$error":"#VALUE!"},{"$error":"#VALUE!"},{"$error":"#VALUE!"},{"$error":"#VALUE!"},{"$error":"#VALUE!"},{"$error":"#VALUE!"},{"$error":"#VALUE!"},{"$error":"#VALUE!"},{"$error":"#VALUE!"},{"$error":"#VALUE!"},{"$error":"#VALUE!"},{"$error":"#VALUE!"},{"$error":"#VALUE!"},{"$error":"#VALUE!"},{"$error":"#VALUE!"},{"$error":"#VALUE!"},{"$error":"#VALUE!"},{"$error":"#VALUE!"},{"$error":"#VALUE!"},{"$error":"#VALUE!"},{"$error":"#VALUE!"},{"$error":"#VALUE!"},{"$error":"#VALUE!"},{"$error":"#VALUE!"},{"$error":"#VALUE!"},{"$error":"#VALUE!"},{"$error":"#VALUE!"},{"$error":"#VALUE!"},{"$error":"#VALUE!"},{"$error":"#VALUE!"},{"$error":"#VALUE!"},{"$error":"#VALUE!"},{"$error":"#VALUE!"},{"$error":"#VALUE!"},{"$error":"#VALUE!"},{"$error":"#VALUE!"},{"$error":"#VALUE!"},{"$error":"#VALUE!"},{"$error":"#VALUE!"}]
[null,null,"DIAS MEDIOS FINANCIACION",{"$f":"IF(D50=\"\",\"\",IF(D47=\"\",\"\",((D46*D47)+(D49*D50))/D51))","v":{"$error":"#VALUE!"}},{"$f":"IF(E50=\"\",\"\",IF(E47=\"\",\"\",((E46*E47)+(E49*E50))/E51))","v":{"$error":"#VALUE!"}},{"$error":"#VALUE!"},{"$error":"#VALUE!"},{"$error":"#VALUE!"},{"$error":"#VALUE!"},{"$error":"#VALUE!"},{"$error":"#VALUE!"},{"$error":"#VALUE!"},{"$error":"#VALUE!"},{"$error":"#VALUE!"},{"$error":"#VALUE!"},{"$error":"#VALUE!"},{"$error":"#VALUE!"},{"$error":"#VALUE!"}]

{"sheet":"GEST PPCC","index":11,"n_rows":43,"n_cols":6,"rows_kept":43,"cut":false,"hidden":false,"merged":[[11,0,15,0],[16,0,20,0],[21,0,25,0],[26,0,30,0],[31,0,35,0]]}
[]
[]
[]
[]
["EVALUACIÓN PUNTOS CRITICOS",null,null,null,"EVALUACIÓN PUNTOS CRITICOS"]
[]
["GANADERO:",null,null,null,"GANADERO:",{"$f":"IF(B7=\"\",\"\",B7)","v":""}]
["FECHA",null,null,null,"FECHA",{"$f":"IF(B8=\"\",\"\",B8)","v":""}]
["PUNTUACIONES PARAMETROS (0 a 4)"]
[]
["BASES PPCC","INDICADORES","PUNTUACION"]
["ALIMENTACION","Calidad del agua",null,{"$f":"IF(C12=\"\",\"\",'ENLACES DATOS'!L647)","v":""}]
[null,"Tipo de piensos utilizados",null,{"$f":"IF(C13=\"\",\"\",'ENLACES DATOS'!L648)","v":""}]
[null,"Metro lineal comedero/m2",null,{"$f":"IF(C14=\"\",\"\",'ENLACES DATOS'!L649)","v":""}]
[null,"Puntos de agua/m2",null,{"$f":"IF(C15=\"\",\"\",'ENLACES DATOS'!L650)","v":""}]
[null,"Metro lineal forrajera/m2",null,{"$f":"IF(C16=\"\",\"\",'ENLACES DATOS'!L651)","v":""}]
["SANIDAD","Control de Orígenes",null,{"$f":"IF(C17=\"\",\"\",'ENLACES DATOS'!L652)","v":""}]
[null,"Profilaxis a la entrada",null,{"$f":"IF(C18=\"\",\"\",'ENLACES DATOS'!L653)","v":""}]
[null,"Manejo de enfermos",null,{"$f":"IF(C19=\"\",\"\",'ENLACES DATOS'!L654)","v":""}]
[null,"Plan DDD",null,{"$f":"IF(C20=\"\",\"\",'ENLACES DATOS'!L655)","v":""}]
[null,"Gestión de Bajas",null,{"$f":"IF(C21=\"\",\"\",'ENLACES DATOS'!L656)","v":""}]
["INSTALACIONES Y BA","Densidad de animales",null,{"$f":"IF(C22=\"\",\"\",'ENLACES DATOS'!L657)","v":""}]
[null,"Aislamiento y ventilación",null,{"$f":"IF(C23=\"\",\"\",'ENLACES DATOS'!L658)","v":""}]
[null,"Frecuencia limpieza de comederos",null,{"$f":"IF(C24=\"\",\"\",'ENLACES DATOS'!L659)","v":""}]
[null,"Sistemas de medicación",null,{"$f":"IF(C25=\"\",\"\",'ENLACES DATOS'!L660)","v":""}]
[null,"Gestión de estiércol",null,{"$f":"IF(C26=\"\",\"\",'ENLACES DATOS'!L661)","v":""}]
["ZOOTECNICOS","Control de peso de entrada y salida",null,{"$f":"IF(C27=\"\",\"\",'ENLACES DATOS'!L662)","v":""}]
[null,"Dias de estancia.",null,{"$f":"IF(C28=\"\",\"\",'ENLACES DATOS'!L663)","v":""}]
[null,"Porcentaje de bajas",null,{"$f":"IF(C29=\"\",\"\",'ENLACES DATOS'!L664)","v":""}]
[null,"Gestión de lotes",null,{"$f":"IF(C30=\"\",\"\",'ENLACES DATOS'!L665)","v":""}]
[null,"Corderos vendidos /m2",null,{"$f":"IF(C31=\"\",\"\",'ENLACES DATOS'!L666)","v":""}]
["ECONOMIA","UTH",null,{"$f":"IF(C32=\"\",\"\",'ENLACES DATOS'!L667)","v":""}]
[null,"Forma de comercialización",null,{"$f":"IF(C33=\"\",\"\",'ENLACES DATOS'!L668)","v":""}]
[null,"Amortización instalaciones",null,{"$f":"IF(C34=\"\",\"\",'ENLACES DATOS'!L669)","v":""}]
[null,"Cualificación del personal",null,{"$f":"IF(C35=\"\",\"\",'ENLACES DATOS'!L670)","v":""}]
[null,"GMD e I.C.",null,{"$f":"IF(C36=\"\",\"\",'ENLACES DATOS'!L671)","v":""}]
[]
["BASES","REALES","MEDIOS"]
["ALIMENTACION",{"$f":"IF(C12=\"\",\"\",'ENLACES DATOS'!C675)","v":""},{"$f":"IF(C12=\"\",\"\",'ENLACES DATOS'!D675)","v":""},{"$f":"IF(B39=\"\",\"\",'ENLACES DATOS'!G675)","v":""}]
["SANIDAD",{"$f":"IF(C13=\"\",\"\",'ENLACES DATOS'!C676)","v":""},{"$f":"IF(C13=\"\",\"\",'ENLACES DATOS'!D676)","v":""},{"$f":"IF(B40=\"\",\"\",'ENLACES DATOS'!G676)","v":""}]
["INTALAC. Y BA",{"$f":"IF(C14=\"\",\"\",'ENLACES DATOS'!C677)","v":""},{"$f":"IF(C14=\"\",\"\",'ENLACES DATOS'!D677)","v":""},{"$f":"IF(B41=\"\",\"\",'ENLACES DATOS'!G677)","v":""}]
["ZOOTECNICOS",{"$f":"IF(C15=\"\",\"\",'ENLACES DATOS'!C678)","v":""},{"$f":"IF(C15=\"\",\"\",'ENLACES DATOS'!D678)","v":""},{"$f":"IF(B42=\"\",\"\",'ENLACES DATOS'!G678)","v":""}]
["ECONOMIA",{"$f":"IF(C16=\"\",\"\",'ENLACES DATOS'!C679)","v":""},{"$f":"IF(C16=\"\",\"\",'ENLACES DATOS'!D679)","v":""},{"$f":"IF(B43=\"\",\"\",'ENLACES DATOS'!G679)","v":""}]

{"sheet":"CRITERIOS PPCC","index":12,"n_rows":37,"n_cols":27,"rows_kept":37,"cut":false,"hidden":false,"merged":[[12,0,16,0],[17,0,21,0],[22,0,26,0],[27,0,31,0],[32,0,36,0],[12,18,16,18],[17,18,21,18],[22,18,26,18],[27,18,31,18],[32,18,36,18],[32,12,36,12],[12,6,16,6],[17,6,21,6],[22,6,26,6],[27,6,31,6],[32,6,36,6],[12,12,16,12],[17,12,21,12],[22,12,26,12],[27,12,31,12],[12,24,16,24],[17,24,21,24],[22,24,26,24],[27,24,31,24],[32,24,36,24]]}
[]
[]
[]
[]
[]
["CRITERIOS PUNTUACION PPCC",null,null,null,null,null,"CRITERIOS PUNTUACION PPCC",null,null,null,null,null,"CRITERIOS PUNTUACION PPCC",null,null,null,null,null,"CRITERIOS PUNTUACION PPCC",null,null,null,null,null,"CRITERIOS PUNTUACION PPCC"]
["GANADERO:",null,null,null,null,null,"GANADERO:",{"$f":"IF(B7=\"\",\"\",B7)","v":""},null,null,null,null,"GANADERO:",{"$f":"IF(H7=\"\",\"\",H7)","v":""},null,null,null,null,"GANADERO:",{"$f":"IF(N7=\"\",\"\",N7)","v":""},null,null,null,null,"GANADERO:",{"$f":"IF(T7=\"\",\"\",T7)","v":""}]
["FECHA",null,null,null,null,null,"FECHA",{"$f":"IF(B8=\"\",\"\",B8)","v":""},null,null,null,null,"FECHA",{"$f":"IF(H8=\"\",\"\",H8)","v":""},null,null,null,null,"FECHA",{"$f":"IF(N8=\"\",\"\",N8)","v":""},null,null,null,null,"FECHA",{"$f":"IF(T8=\"\",\"\",T8)","v":""}]
["HOJA DE PUNTUACION (0 a 4)",null,null,null,null,null,"HOJA DE PUNTUACION (0 a 4)",null,null,null,null,null,"HOJA DE PUNTUACION (0 a 4)",null,null,null,null,null,"HOJA DE PUNTUACION (0 a 4)",null,null,null,null,null,"HOJA DE PUNTUACION (0 a 4)"]
[]
["ALIMENTACION",null,null,null,null,null,"SANIDAD",null,null,null,null,null,"INSTALACIONES Y B.A.",null,null,null,null,null,"INDICES ZOOTÉCNICOS",null,null,null,null,null,"INDICES ECONÓMICOS"]
[]
["CALIDAD DEL AGUA","Calidad OK , controles periodicos y deposito con posibilidad de cloracion",4,null,null,null,"CONTROL DE ORIGENES","Compra siempre a mismos proveedores con control de los mismos",4,null,null,null,"DENSIDAD DE ANIMALES","< 1,5 corderos/m2",4,null,null,null,"CONTROL DE PESO DE ENTRADA Y SALIDA","Control de pesos de entrada y salida y controles periodicos",4,null,null,null,"CORDEROS/UTH",">1000",4]
[null,"Calidad OK  y  deposito y controles ocasionales y cloracion",3,null,null,null,null,"Compra siempre a mismos proveedores sin control de los mismos",3,null,null,null,null,"De 1,5 a 2 corderos m2",3,null,null,null,null,"Control de pesos de entrada y salida y controles ocasionales",3,null,null,null,null,"800-1000",3]
[null,"Calidad OK y deposito y cloración",2,null,null,null,null,"Compra a algunos proveedores y bastantes ocasionales",2,null,null,null,null,"De 2 a 2,3 corderos/m2",2,null,null,null,null,"Control de pesos de entrada y salida o control de pesos de entrada o salida y controles periodicos u ocasionales",2,null,null,null,null,"600-800",2]
[null,"Calidad OK",1,null,null,null,null,"Compra mayoritariamente a  proveedores ocasionales",1,null,null,null,null,"De 2,3 a 2,5 corderos/m2",1,null,null,null,null,"Control de pesos de entrada o salida",1,null,null,null,null,"400-600",1]
[null,"Calidad no conforme",0,null,null,null,null,"Compra aleatoria",0,null,null,null,null,"Más de 2,5 corderos/m2",0,null,null,null,null,"No controla ni entrada ni salida",0,null,null,null,null,"<400",0]
["TIPO DE PIENSOS UTILIZADOS","Adaptacion medicado y retirada y correctos",4,null,null,null,"PROFILAXIS A LA ENTRADA","Tratamientos sistemático (agua o iny)+ vacunas que procedan (según patología) a la entrada + lotes por peso + apartar los enfermos en un hospital",4,null,null,null,"AISLAMIENTO Y VENTILACION","Aparatos de medida y control. Adecuado dimensionado de naves. Condiciones excelentes en temperatura, ventilación (sin corrientes) y carga amoniaco.Buen aislamiento",4,null,null,null,"DIAS DE ESTANCIA","< 15 dias",4,null,null,null,"FORMA DE COMERCIALIZACION","Comercialización asegurada y solvente a mercados con alto valor añadido",4]
[null,"Medicado y retirada y correctos",3,null,null,null,null,"Tratamientos (agua o iny) a la entrada, No vacuna, CON lotes y CON hospital",3,null,null,null,null,"Correcto dimensionado y adecuadas condiciones ambientales.Buen aislamiento",3,null,null,null,null,"15-20 dias",3,null,null,null,null,"Comercialización asegurada y solvente mediante contratos",3]
[null,"Solo medicado o solo retirada y correctos",2,null,null,null,null,"Tratamientos ocasionales a la entrada CON lotes SIN apartar los enfermos en un hospital",2,null,null,null,null,"Correcto dimensionado pero condiciones poco adecuadas en un parámetro",2,null,null,null,null,"20-25 dias",2,null,null,null,null,"Comercialización ocasional a particular solvente",2]
[null,"Incorrectos pero más de 1 pienso",1,null,null,null,null,"Tratamientos ocasionales a la entrada, sin lotes ni controles de enfermos",1,null,null,null,null,"Incorrecto dimensionado y condiciones inadecuadas en tª o ventilación o carga amoniaco.",1,null,null,null,null,"25-30 dias",1,null,null,null,null,"Comercialización ocasional",1]
[null,"1 pienso solo e incorrecto",0,null,null,null,null,"No trata hasta que mueren, o ni eso",0,null,null,null,null,"Incorrecto dimensionado e inadecuadas condiciones en los tres parámetros y mal aislamiento",0,null,null,null,null,"> 30 dias",0,null,null,null,null,"Problemas de comercialización",0]
["CORDEROS/M LINEAL COMEDERO","< 40 corderos",4,null,null,null,"MANEJO DE ENFERMOS","Necropsias y diagnóstico, ttos inyectables y al agua, apartando en hospital",4,null,null,null,"FRECUENCIA LIMPIEZA DE COMEDEROS","Diariamente todos los comederos",4,null,null,null,"PORCENTAJE DE BAJAS","< 1%",4,null,null,null,"AMORTIZACION INSTALACIONES","Menos del 5% de gastos totales",4]
[null,"40-60 corderos",3,null,null,null,null,"ttos inyectables o al agua, apartando en hospital",3,null,null,null,null,"Cada dos días todos los comederos",3,null,null,null,null,"1-1,2%",3,null,null,null,null,"Entre 5 y 10 % de gastos totales",3]
[null,"60-80 corderos",2,null,null,null,null,"Ttos inyectables o al agua, sin apartar al hospital",2,null,null,null,null,"Dos veces a la semana todos los comederos.",2,null,null,null,null,"1,2-1,5%",2,null,null,null,null,"Entre 10 y 15% de gastos totales",2]
[null,"80-100 corderos",1,null,null,null,null,"Ttos al agua",1,null,null,null,null,"Una vez a la semana todos los comederos",1,null,null,null,null,"1,5-2%",1,null,null,null,null,"Entre 15 y 20% de gastos totales",1]
[null,">100 corderos",0,null,null,null,null,"No trata",0,null,null,null,null,"Ocasionalmente cuando hace falta o nunca",0,null,null,null,null,">2%",0,null,null,null,null,"Más del 20% de gastos totales o no sabe/no contesta",0]
["CORDEROS POR PUNTO DE AGUA","< 30 corderos",4,null,null,null,"PLAN DDD","Sistema automatizado de desinfección/desinsectación (nebulización) a empresa externa especializada",4,null,null,null,"SISTEMAS DE MEDICACION","Sistema dosificación automática con doble vía de agua en todos los parques.",4,null,null,null,"GESTION DE LOTES","Clasificación sistemática por peso sexo y origen",4,null,null,null,"CUALIFICACION DEL PERSONAL","Corderos justos por trabajador cualificado e implicado",4]
[null,"30-50 corderos",3,null,null,null,null,"Sistema automatizado de desinfección/desinsectación (nebulización)",3,null,null,null,null,"Sistema automático con posibilidad de medicar algunos parques.",3,null,null,null,null,"Clasificación sistemática por peso y sexo.",3,null,null,null,null,"Suficientes corderos por trabajador con conocimientos",3]
[null,"50-70 corderos",2,null,null,null,null,"Sistema manual de desinfección/desinsectación",2,null,null,null,null,"Depósitos móviles para llevar a determinados corrales",2,null,null,null,null,"Clasificación sistemática por peso.",2,null,null,null,null,"Bastantes corderos por trabajador. Trabajador con ciertos conocimientos.",2]
[null,"70-90 corderos",1,null,null,null,null,"Desinfección/desinsectación ocasional",1,null,null,null,null,"Depósito para medicar enfermería y corrales desados",1,null,null,null,null,"Clasificación ocasional por alguna de ellas ",1,null,null,null,null,"Muchos corderos por trabajador con poca cualificacion",1]
[null,">90 corderos",0,null,null,null,null,"No se hacen tratamientos",0,null,null,null,null,"No hay posibilidad de medicar el agua",0,null,null,null,null,"No clasifica",0,null,null,null,null,"Falta evidente de mano de obra Y poco cualificada",0]
["CORDEROS/M LINEAL FORRAJERA","> 25 corderos",4,null,null,null,"GESTION DE BAJAS","Necropsia de los cadáveres sistemática, con confirmación laboratorial",4,null,null,null,"GESTION DE ESTIERCOL","Saca estiercol cada entrada de animales",4,null,null,null,"CORDEROS VENDIDOS/M2","> 30 corderos/m2 año",4,null,null,null,"GMD e IC","Controla los consumos de pienso y calcula los Indices Tecnicos. Valores apropiados",4]
[null,"25-35 corderos",3,null,null,null,null,"Necropsia de los cadáveres sistemática, sin confirmación laboratorial",3,null,null,null,null,"Saca estiercol cada 1-3 meses",3,null,null,null,null,"25-30 corderos/m2 año",3,null,null,null,null,"Controla los consumos u los Indices Tecnicos.- Valores bastante variabes",3]
[null,"35-45 corderos",2,null,null,null,null,"Necropsia ocasional con confirmación ocasional, por el mismo veterinario",2,null,null,null,null,"Saca estiercol cada 3-6 meses",2,null,null,null,null,"20-25 corderos/m2 año",2,null,null,null,null,"Controla ocasionalmente los Indices tecnicos o los controla siempre  pero no son adecuados",2]
[null,"45-55 corderos",1,null,null,null,null,"Necropsia ocasional con confirmación ocasional con veterinario ocasional o variable (casas comerciales varias, etc)",1,null,null,null,null,"Saca estiercol cada 6-8 meses",1,null,null,null,null,"15-20corderos/m2 año",1,null,null,null,null,"No controla indices tecnicos pero intuye que tiene unos valores aceptables",1]
[null,">55 corderos",0,null,null,null,null,"No se realizan diagnósticos",0,null,null,null,null,"Saca estiercol cada más de 8 meses",0,null,null,null,null,"<15 corderos/m2 año",0,null,null,null,null,"No controla indices tecnicos y tiene valores no adecuados",0]

{"sheet":"GEST BA","index":13,"n_rows":38,"n_cols":6,"rows_kept":38,"cut":false,"hidden":false,"merged":[[11,0,14,0],[15,0,19,0],[20,0,22,0],[23,0,24,0],[26,0,30,0]]}
[]
[]
[]
[]
[]
[]
["EVALUACIÓN BIENESTAR ANIMAL",null,null,null,"EVALUACIÓN BIENESTAR ANIMAL"]
["GANADERO:",null,null,null,"GANADERO:",{"$f":"IF(B8=\"\",\"\",B8)","v":""}]
["FECHA",null,null,null,"FECHA",{"$f":"IF(B9=\"\",\"\",B9)","v":""}]
["PUNTUACIONES PARAMETROS B.A. (3 a 8)",null,null,null,"GRAFICOS. DIAGNOSTICO"]
["B.A.","PARAMETRO","PUNTUACION","CALIFICACION"]
["B.A. AMBIENTE","TEMPERATURA",null,{"$f":"IF(C12=\"\",\"\",'ENLACES DATOS'!G621)","v":""}]
[null,"CORRIENTES AIRE",null,{"$f":"IF(C13=\"\",\"\",'ENLACES DATOS'!G622)","v":""}]
[null,"VENTILACION",null,{"$f":"IF(C14=\"\",\"\",'ENLACES DATOS'!G623)","v":""}]
[null,"AMBIENTE CARGADO",null,{"$f":"IF(C15=\"\",\"\",'ENLACES DATOS'!G624)","v":""}]
["B.A.MANEJO","DENSIDAD ANIMALES",null,{"$f":"IF(C16=\"\",\"\",'ENLACES DATOS'!G625)","v":""}]
[null,"CALIDAD CAMA",null,{"$f":"IF(C17=\"\",\"\",'ENLACES DATOS'!G626)","v":""}]
[null,"CONFORT ANIMALES",null,{"$f":"IF(C18=\"\",\"\",'ENLACES DATOS'!G627)","v":""}]
[null,"ANIMALES ESTRESADOS",null,{"$f":"IF(C19=\"\",\"\",'ENLACES DATOS'!G628)","v":""}]
[null,"LIMPIEZA ANIMALES",null,{"$f":"IF(C20=\"\",\"\",'ENLACES DATOS'!G629)","v":""}]
["B.A.INSTALACIONES","COMEDEROS PIENSO",null,{"$f":"IF(C21=\"\",\"\",'ENLACES DATOS'!G630)","v":""}]
[null,"COMEDEROS PAJA",null,{"$f":"IF(C22=\"\",\"\",'ENLACES DATOS'!G631)","v":""}]
[null,"BEBEDEROS",null,{"$f":"IF(C23=\"\",\"\",'ENLACES DATOS'!G632)","v":""}]
["OTROS PARAMETROS","CONSISTENCIA HECES(1a5)",null,{"$f":"IF(C24=\"\",\"\",'ENLACES DATOS'!G633)","v":""}]
[null,"ESTADO CORPORAL(1a5)",null,{"$f":"IF(C25=\"\",\"\",'ENLACES DATOS'!G634)","v":""}]
[]
["GLOBALES","Nº  CHEQUEOS",{"$f":"IF(C12=\"\",\"\",'ENLACES DATOS'!B620)","v":""}]
[null,"BA AMBIENTE",{"$f":"IF(C12=\"\",\"\",'ENLACES DATOS'!G637)","v":""}]
[null,"BA MANEJO",{"$f":"IF(C17=\"\",\"\",'ENLACES DATOS'!G638)","v":""}]
[null,"BA INSTALACIONES",{"$f":"IF(C21=\"\",\"\",'ENLACES DATOS'!G639)","v":""}]
[null,"BA GLOBAL",{"$f":"IF(C12=\"\",\"\",'ENLACES DATOS'!G640)","v":""}]
[]
[]
["COMENTARIOS:"]
[{"$f":"IF(C12=\"\",\"\",IF('ENLACES DATOS'!F637<'ENLACES DATOS'!D637,\"NECESARIO REVISAR BA AMBIENTE\",IF('ENLACES DATOS'!F637>'ENLACES DATOS'!E637,\"EXCELENTE CALIFICACION BA AMBIENTE\",\"BA AMBIENTE DENTRO DE LOS VALORES MEDIOS\")))","v":""}]
[{"$f":"IF(C12=\"\",\"\",IF('ENLACES DATOS'!F638<'ENLACES DATOS'!D638,\"NECESARIO REVISAR BA MANEJO\",IF('ENLACES DATOS'!F638>'ENLACES DATOS'!E638,\"EXCELENTE CALIFICACION BA MANEJO\",\"BA MANEJO DENTRO DE LOS VALORES MEDIOS\")))","v":""}]
[{"$f":"IF(C12=\"\",\"\",IF('ENLACES DATOS'!F639<'ENLACES DATOS'!D639,\"NECESARIO REVISAR BA INSTALACIONES\",IF('ENLACES DATOS'!F639>'ENLACES DATOS'!E639,\"EXCELENTE CALIFICACION BA INSTALACIONES\",\"BA INSTALACIONES DENTRO DE LOS VALORES MEDIOS\")))","v":""}]
[{"$f":"IF(C12=\"\",\"\",IF('ENLACES DATOS'!F640<'ENLACES DATOS'!D640,\"NECESARIO REVISAR BA GLOBAL\",IF('ENLACES DATOS'!F640>'ENLACES DATOS'!E640,\"EXCELENTE CALIFICACION BA GLOBAL\",\"BA GLOBAL DENTRO DE LOS VALORES MEDIOS\")))","v":""}]

{"sheet":"HOJA PUNTUACION BA","index":14,"n_rows":36,"n_cols":10,"rows_kept":36,"cut":false,"hidden":false,"merged":[[21,0,35,0],[9,0,20,0],[33,1,35,1],[9,1,11,1],[12,1,14,1],[15,1,17,1],[18,1,20,1],[21,1,23,1],[24,1,26,1],[27,1,29,1],[30,1,32,1],[9,6,17,6],[18,6,25,6],[9,7,11,7],[12,7,14,7],[15,7,17,7],[18,7,20,7],[21,7,25,7]]}
[]
[]
[]
[]
[]
["CRITERIOS PUNTUACION BIENESTAR ANIMAL",null,null,null,null,null,"CRITERIOS PUNTUACION BIENESTAR ANIMAL"]
["GANADERO:",null,null,null,null,null,"GANADERO:",{"$f":"IF(B7=\"\",\"\",B7)","v":""}]
["FECHA",null,null,null,null,null,"FECHA",{"$f":"IF(B8=\"\",\"\",B8)","v":""}]
["HOJA DE PUNTUACION (3 a 8)",null,null,null,null,null,"HOJA DE PUNTUACION"]
["BA AMBIENTE","TEMPERATURA","Menos de 1ºC y más de 32ºC"," 3-4",null,null,"BA INSTALACIONES","COMEDEROS PIENSO","O sucios o vacios o poco espacio"," 3-4"]
[null,null,"Entre 1 y 15 y entre 25 y 32"," 5-6",null,null,null,null,"Limpios y llenos y espacio suficiente"," 5-6"]
[null,null,"Entre 15 y 25 ºC"," 7-8",null,null,null,null,"Muy limpios y sobrado espacio. Llenos"," 7-8"]
[null,"CORRIENTES AIRE","Corrientes de lleno en los animales"," 3-4",null,null,null,"COMEDEROS PAJA","O sucios o vacios o poco espacio"," 3-4"]
[null,null,"Hay algunas corrientes . Animales porotegidos"," 5-6",null,null,null,null,"Limpios y llenos y espacio suficiente"," 5-6"]
[null,null,"No hay corrientes en toda la nave"," 7-8",null,null,null,null,"Muy limpios y sobrado espacio. Llenos"," 7-8"]
[null,"VENTILACION","Ni entradas y salidas ni volumen estático"," 3-4",null,null,null,"BEBEDEROS","O sucios o vacios o poco espacio"," 3-4"]
[null,null,"Cummple bien alguno d elos requisitos"," 5-6",null,null,null,null,"Limpios y llenos y espacio suficiente"," 5-6"]
[null,null,"Entradas y salidas/animal correctas. Adecuado volumen estático"," 7-8",null,null,null,null,"Muy limpios y sobrado espacio. Distancias cortas para beber"," 7-8"]
[null,"AMBIENTE CARGADO","Tufo evidente con irritacion en ojos"," 3-4",null,null,"ESTADO ANIMALES","CONSISTENCIA HECES (1a5)","Diarrea",2]
[null,null,"Se percibe un leve tufo"," 5-6",null,null,null,null,"Varias bolas unidas",3]
[null,null,"No hay nada de tufo. No olor en ropa"," 7-8",null,null,null,null,"Cagarruta definida y dura",4]
["BA MANEJO","DENSIDAD ANIMALES","Menos de 0.3m2 por cordero presente"," 3-4",null,null,null,"ESTADO CORPORAL 1a5)","Caquécticos",1]
[null,null,"Entre 0.3m2 y 0.5m2 por cordero presente"," 5-6",null,null,null,null,"Curvatura cóncava grupa y columna vertebral",2]
[null,null,"Más de 0.5m2 por cordero presente"," 7-8",null,null,null,null,"No hay curvatura en columna vertebral",3]
[null,"CALIDAD CAMA","O sucia o humeda o ambas"," 3-4",null,null,null,null,"Curvatura convexa en grupa y columna",4]
[null,null,"Limpia y seca"," 5-6",null,null,null,null,"Animal muy engrasado",5]
[null,null,"Abundante limpia y seca"," 7-8"]
[null,"CONFORT ANIMALES","Hay ruidos, humedad, mal islamiento o goteoç"," 3-4"]
[null,null,"Ausencia de las anteriores. Buenas condiciones para que los animales se tumben."," 5-6"]
[null,null,"Además, distancias adecuadas entre forrajeras, agua y comederas"," 7-8"]
[null,"ANIMALES ESTRESADOS","Lamen paredes, suelo, de pie más del 60%"," 3-4"]
[null,null,"60-80% tumbados y comiendo. No signos de estrés"," 5-6"]
[null,null,"Tumbados tranquilamente más del 80%"," 7-8"]
[null,"LIMPIEZA ANIMALES","Sucios"," 3-4"]
[null,null,"Limpios. Algo de suciedad en patas"," 5-6"]
[null,null,"Muy limpios y relucientes"," 7-8"]

{"sheet":"CRITERIOS BA","index":15,"n_rows":8,"n_cols":29,"rows_kept":8,"cut":false,"hidden":false,"merged":[]}
[]
[]
[]
[]
[]
["CRITERIOS BIENESTAR ANIMAL",null,null,null,null,null,"CRITERIOS BIENESTAR ANIMAL",null,null,null,null,null,null,"CRITERIOS BIENESTAR ANIMAL",null,null,null,null,null,null,"CRITERIOS BIENESTAR ANIMAL",null,null,null,null,null,null,null,"CRITERIOS BIENESTAR ANIMAL"]
["GANADERO:"]
["FECHA"]

{"sheet":"GEST EE","index":16,"n_rows":40,"n_cols":5,"rows_kept":40,"cut":false,"hidden":false,"merged":[[31,0,32,0],[29,0,30,0],[35,0,36,0]]}
[]
[]
[]
[]
[]
[]
["EVALUACIÓN ESTADO ENGRASAMIENTO"]
["GANADERO:"]
["FECHA"]
["DATOS PUNTUACIÓN EE (1a5)"]
["SEXO","EE (1 a 5)"]
[]
[]
[]
[]
[]
[]
[]
[]
[]
[]
[]
[]
[]
[]
[]
[]
[]
[null,null,"EE MEDIO","VARIABILIDAD EE","% MUESTRA"]
["OBTENIDOS","MACHOS",{"$f":"IF(B12=\"\",\"\",'ENLACES DATOS'!B608)","v":""},{"$f":"IF(B12=\"\",\"\",'ENLACES DATOS'!E608)","v":""},{"$f":"IF(B12=\"\",\"\",'ENLACES DATOS'!D608/'ENLACES DATOS'!B605)","v":""}]
[null,"HEMBRAS",{"$f":"IF(B12=\"\",\"\",'ENLACES DATOS'!B609)","v":""},{"$f":"IF(B12=\"\",\"\",'ENLACES DATOS'!E609)","v":""},{"$f":"IF(B13=\"\",\"\",'ENLACES DATOS'!D609/'ENLACES DATOS'!B605)","v":""}]
["ESPERADOS","MACHOS",{"$f":"IF(B12=\"\",\"\",'ENLACES DATOS'!J535)","v":""},{"$f":"IF(B12=\"\",\"\",'ENLACES DATOS'!N535)","v":""}]
[null,"HEMBRAS",{"$f":"IF(B12=\"\",\"\",'ENLACES DATOS'!J536)","v":""},{"$f":"IF(B12=\"\",\"\",'ENLACES DATOS'!N536)","v":""}]
[]
[null,null,"MAXIMO","MINIMO"]
["ADMISIBLES","MACHOS",{"$f":"IF(B12=\"\",\"\",'ENLACES DATOS'!L535)","v":""},{"$f":"IF(B12=\"\",\"\",'ENLACES DATOS'!M535)","v":""}]
[null,"HEMBRAS",{"$f":"IF(B12=\"\",\"\",'ENLACES DATOS'!L536)","v":""},{"$f":"IF(B14=\"\",\"\",'ENLACES DATOS'!M536)","v":""}]
[]
["MACHOS",{"$f":"IF(B12=\"\",\"\",IF(C30>C36,\"ALTO NIVEL ENGRASAMIENTO\",IF(C30>C32,\"ENGRASAMIENTO MAYOR AL ESPERADO\",\"ENGRASAMIENTO MENOR AL ESPERADO\")))","v":""},null,{"$f":"IF(B12=\"\",\"\",IF(D30>D32,\"ALTA VARIABILIDAD\",\"VARIABILIDAD ADECUADA\"))","v":""}]
["HEMBRAS",{"$f":"IF(B12=\"\",\"\",IF(C31>C37,\"ALTO NIVEL ENGRASAMIENTO\",IF(C31>C33,\"ENGRASAMIENTO MAYOR AL ESPERADO\",\"ENGRASAMIENTO MENOR AL ESPERADO\")))","v":""},null,{"$f":"IF(B12=\"\",\"\",IF(D31>D33,\"ALTA VARIABILIDAD\",\"VARIABILIDAD ADECUADA\"))","v":""}]

{"sheet":"GEST CALIDAD CANAL","index":17,"n_rows":39,"n_cols":6,"rows_kept":39,"cut":false,"hidden":false,"merged":[[28,0,29,0],[31,0,32,0]]}
[]
[]
[]
[]
[]
[]
["EVALUACIÓN CALIDAD CANAL",null,null,null,"EVALUACIÓN CALIDAD CANAL"]
["GANADERO:",null,null,null,"GANADERO:",{"$f":"IF(B8=\"\",\"\",B8)","v":""}]
["FECHA",null,null,null,"FECHA",{"$f":"IF(B9=\"\",\"\",B9)","v":""}]
["DATOS pHs CANALES (Semimembranoso)",null,null,null,"GRAFICOS. DIAGNOSTICO"]
["ANIMAL","pH",null,"Desv. St."]
["CORDERO 1",null,{"$f":"IF(B12=\"\",\"\",IF('ENLACES DATOS'!D498=\"\",\"OK\",\"Valor excesivamente alto\"))","v":""},{"$f":"IF(B12=\"\",\"\",IF('ENLACES DATOS'!F498=\"\",\"OK\",\"Fuera de desviación\"))","v":""}]
["CORDERO 2",null,{"$f":"IF(B13=\"\",\"\",IF('ENLACES DATOS'!D499=\"\",\"OK\",\"Valor excesivamente alto\"))","v":""},{"$f":"IF(B13=\"\",\"\",IF('ENLACES DATOS'!F499=\"\",\"OK\",\"Fuera de desviación\"))","v":""}]
["CORDERO 3",null,{"$f":"IF(B14=\"\",\"\",IF('ENLACES DATOS'!D500=\"\",\"OK\",\"Valor excesivamente alto\"))","v":""},{"$f":"IF(B14=\"\",\"\",IF('ENLACES DATOS'!F500=\"\",\"OK\",\"Fuera de desviación\"))","v":""}]
["CORDERO 4",null,{"$f":"IF(B15=\"\",\"\",IF('ENLACES DATOS'!D501=\"\",\"OK\",\"Valor excesivamente alto\"))","v":""},{"$f":"IF(B15=\"\",\"\",IF('ENLACES DATOS'!F501=\"\",\"OK\",\"Fuera de desviación\"))","v":""}]
["CORDERO 5",null,{"$f":"IF(B16=\"\",\"\",IF('ENLACES DATOS'!D502=\"\",\"OK\",\"Valor excesivamente alto\"))","v":""},{"$f":"IF(B16=\"\",\"\",IF('ENLACES DATOS'!F502=\"\",\"OK\",\"Fuera de desviación\"))","v":""}]
["CORDERO 6",null,{"$f":"IF(B17=\"\",\"\",IF('ENLACES DATOS'!D503=\"\",\"OK\",\"Valor excesivamente alto\"))","v":""},{"$f":"IF(B17=\"\",\"\",IF('ENLACES DATOS'!F503=\"\",\"OK\",\"Fuera de desviación\"))","v":""}]
["CORDERO 7",null,{"$f":"IF(B18=\"\",\"\",IF('ENLACES DATOS'!D504=\"\",\"OK\",\"Valor excesivamente alto\"))","v":""},{"$f":"IF(B18=\"\",\"\",IF('ENLACES DATOS'!F504=\"\",\"OK\",\"Fuera de desviación\"))","v":""}]
["CORDERO 8",null,{"$f":"IF(B19=\"\",\"\",IF('ENLACES DATOS'!D505=\"\",\"OK\",\"Valor excesivamente alto\"))","v":""},{"$f":"IF(B19=\"\",\"\",IF('ENLACES DATOS'!F505=\"\",\"OK\",\"Fuera de desviación\"))","v":""}]
["CORDERO 9",null,{"$f":"IF(B20=\"\",\"\",IF('ENLACES DATOS'!D506=\"\",\"OK\",\"Valor excesivamente alto\"))","v":""},{"$f":"IF(B20=\"\",\"\",IF('ENLACES DATOS'!F506=\"\",\"OK\",\"Fuera de desviación\"))","v":""}]
["CORDERO 10",null,{"$f":"IF(B21=\"\",\"\",IF('ENLACES DATOS'!D507=\"\",\"OK\",\"Valor excesivamente alto\"))","v":""},{"$f":"IF(B21=\"\",\"\",IF('ENLACES DATOS'!F507=\"\",\"OK\",\"Fuera de desviación\"))","v":""}]
["CORDERO 11",null,{"$f":"IF(B22=\"\",\"\",IF('ENLACES DATOS'!D508=\"\",\"OK\",\"Valor excesivamente alto\"))","v":""},{"$f":"IF(B22=\"\",\"\",IF('ENLACES DATOS'!F508=\"\",\"OK\",\"Fuera de desviación\"))","v":""}]
["CORDERO 12",null,{"$f":"IF(B23=\"\",\"\",IF('ENLACES DATOS'!D509=\"\",\"OK\",\"Valor excesivamente alto\"))","v":""},{"$f":"IF(B23=\"\",\"\",IF('ENLACES DATOS'!F509=\"\",\"OK\",\"Fuera de desviación\"))","v":""}]
["CORDERO 13",null,{"$f":"IF(B24=\"\",\"\",IF('ENLACES DATOS'!D510=\"\",\"OK\",\"Valor excesivamente alto\"))","v":""},{"$f":"IF(B24=\"\",\"\",IF('ENLACES DATOS'!F510=\"\",\"OK\",\"Fuera de desviación\"))","v":""}]
["CORDERO 14",null,{"$f":"IF(B25=\"\",\"\",IF('ENLACES DATOS'!D511=\"\",\"OK\",\"Valor excesivamente alto\"))","v":""},{"$f":"IF(B25=\"\",\"\",IF('ENLACES DATOS'!F511=\"\",\"OK\",\"Fuera de desviación\"))","v":""}]
["CORDERO 15",null,{"$f":"IF(B26=\"\",\"\",IF('ENLACES DATOS'!D512=\"\",\"OK\",\"Valor excesivamente alto\"))","v":""},{"$f":"IF(B26=\"\",\"\",IF('ENLACES DATOS'!F512=\"\",\"OK\",\"Fuera de desviación\"))","v":""}]
["CORDERO 16",null,{"$f":"IF(B27=\"\",\"\",IF('ENLACES DATOS'!D513=\"\",\"OK\",\"Valor excesivamente alto\"))","v":""},{"$f":"IF(B27=\"\",\"\",IF('ENLACES DATOS'!F513=\"\",\"OK\",\"Fuera de desviación\"))","v":""}]
[]
["OBTENIDOS"," pH",{"$f":"IF(B12=\"\",\"\",'ENLACES DATOS'!B515)","v":""}]
[null,"VARIABILIDAD",{"$f":"IF(B12=\"\",\"\",'ENLACES DATOS'!D516)","v":""}]
[]
["ESPERADOS"," pH",{"$f":"IF(B12=\"\",\"\",'ENLACES DATOS'!B519)","v":""}]
[null,"VARIABILIDAD",{"$f":"IF(B12=\"\",\"\",'ENLACES DATOS'!D520)","v":""}]
[]
["COMENTARIOS:"]
[{"$f":"IF(B12=\"\",\"\",IF('ENLACES DATOS'!C519<'ENLACES DATOS'!B520,\"VALORES ADECUADOS DE pH\",\"VALORES DE pH EXCESIVAMENTE ALTOS\"))","v":""}]
[{"$f":"IF(B12=\"\",\"\",IF('ENLACES DATOS'!C520<0,\"DATOS DESVIADOS DENTRO DE LA NORMALIDAD\",\"ALTAS DESVIACIONES EN GLOBAL\"))","v":""}]
[{"$f":"IF(B12=\"\",\"\",IF('ENLACES DATOS'!B521<0.121,\"BAJO % DE REGISTROS FUERA DE DESVIACION\",\"ALTO % DE REGISTROS FUERA DE DESVIACIÓN\"))","v":""}]
[{"$f":"IF(B12=\"\",\"\",IF('ENLACES DATOS'!B522<0.12,\"BAJO PORCENTAJE CON VALORES BAJOS\",\"ALTO PORCENTAJE CON VALORES ALTOS\"))","v":""}]

{"sheet":"GEST EVALUAC CEBO","index":18,"n_rows":29,"n_cols":4,"rows_kept":29,"cut":false,"hidden":false,"merged":[[19,0,20,0],[22,0,24,0],[10,0,14,0],[16,0,17,0],[26,0,28,0]]}
[]
[]
[]
[]
[]
[]
["EVALUACIÓN/COMPARACIÓN PRUEBA CEBO"]
["GANADERO:"]
["DATOS DE CEBO"]
[null,null,"PIENSO 1","PIENSO 2"]
["DATOS GENERALES","FECHA ENTRADA"]
[null,"PESO ENTRADA (KG)"]
[null,"G.M.D. (Kg/día)"]
[null,"I.C."]
[null,"PRECIO PIENSO"]
[]
["PREVER FECHA SALIDA","PESO SALIDA (KG)"]
[null,"FECHA PREV. SALIDA",{"$f":"IF(C17=\"\",\"\",((C17-C12)/C13)+C11)","v":""},{"$f":"IF(D17=\"\",\"\",((D17-D12)/D13)+D11)","v":""}]
[]
["PREVER PESO SALIDA","FECHA SALIDA"]
[null,"PESO PREV.SALIDA",{"$f":"IF(C20=\"\",\"\",((C20-C11)*C13)+C12)","v":""},{"$f":"IF(D20=\"\",\"\",((D20-D11)*D13)+D12)","v":""}]
[]
["COSTES","COSTE CORDERO",{"$f":"IF(C14=\"\",\"\",((C17-C12)*C14)*(C15/1000))","v":""},{"$f":"IF(D14=\"\",\"\",((D17-D12)*D14)*(D15/1000))","v":""}]
[null,"COSTE CORDERO/DIA",{"$f":"IF(C13=\"\",\"\",C23/((C17-C12)/C13))","v":""},{"$f":"IF(D13=\"\",\"\",D23/((D17-D12)/D13))","v":""}]
[null,"COSTE KILO REPUESTO",{"$f":"IF(C14=\"\",\"\",C23/(C17-C12))","v":""},{"$f":"IF(D14=\"\",\"\",D23/(D17-D12))","v":""}]
[]
["PRECIOS REALES","I.C. ESTIMADO",{"$f":"IF(C14=\"\",\"\",D25/(C15/1000))","v":""},{"$f":"IF(D14=\"\",\"\",(C25/(D15/1000)))","v":""}]
[null,"PRECIO PIENSO EST.",{"$f":"IF(C15=\"\",\"\",(D25/C14)*1000)","v":""},{"$f":"IF(D15=\"\",\"\",(C25/D14)*1000)","v":""}]
[null,"DIFERENCIA REAL",{"$f":"IF(C15=\"\",\"\",C15-C28)","v":""},{"$f":"IF(D15=\"\",\"\",D15-D28)","v":""}]

{"sheet":"GEST EXPORTACION","index":19,"n_rows":14,"n_cols":6,"rows_kept":14,"cut":false,"hidden":false,"merged":[[8,1,8,2],[11,2,13,2]]}
[]
[]
[]
[]
[]
[]
[]
[]
[null,"SIMULACION",null,"GMD","IC","CMD"]
[null,"PE",null,{"$f":"IF($C$10=\"\",\"\",'ENLACES DATOS'!D840)","v":""},{"$f":"IF($C$10=\"\",\"\",'ENLACES DATOS'!E840)","v":""},{"$f":"IF(C10=\"\",\"\",(D10*E10))","v":""}]
[null,"PS",null,{"$f":"IF($C$11=\"\",\"\",'ENLACES DATOS'!D841)","v":""},{"$f":"IF($C$11=\"\",\"\",'ENLACES DATOS'!E841)","v":""},{"$f":"IF(C11=\"\",\"\",(D11*E11))","v":""}]
[null,"Pmedio",{"$f":"IF(C10=\"\",\"\",AVERAGE(C10:C11))","v":""},{"$f":"IF($C$11=\"\",\"\",'ENLACES DATOS'!D842)","v":""},{"$f":"IF($C$11=\"\",\"\",'ENLACES DATOS'!E842)","v":""},{"$f":"IF(C10=\"\",\"\",(D12*E12))","v":""}]
[null,"CRUZADOS",null,{"$f":"IF(C10=\"\",\"\",AVERAGE(D10:D12))","v":""},{"$f":"IF(C10=\"\",\"\",AVERAGE(E10:E12))","v":""},{"$f":"IF(C10=\"\",\"\",(D13*E13))","v":""}]
[null,"MERINOS",null,{"$f":"IF(C10=\"\",\"\",((IF(C12<55,(D13*0.9),(D13*0.875)))))","v":""},{"$f":"IF(C10=\"\",\"\",((IF(C12<55,(E13*1.1),(E13*1.125)))))","v":""},{"$f":"IF(C10=\"\",\"\",(D14*E14))","v":""}]

{"sheet":"GEST CALC ENER","index":20,"n_rows":33,"n_cols":7,"rows_kept":33,"cut":false,"hidden":false,"merged":[[24,4,29,4],[21,4,22,4],[18,4,19,4],[10,4,16,4],[31,0,32,0],[20,0,24,0],[26,0,29,0],[10,0,15,0],[17,0,18,0]]}
[]
[]
[]
[]
[]
[]
["CALCULOS ENERGÍA PIENSOS",null,null,null,"CALCULOS ENERGÍA PIENSOS"]
["GANADERO:",null,null,null,"GANADERO:",{"$f":"IF(B8=\"\",\"\",B8)","v":""}]
["DATOS DE CEBO",null,null,null,"SIMULADOR ENERGIAS"]
[]
["DATOS GENERALES","FECHA SIMULACION",null,null,"DATOS DEL PIENSO","HUMEDAD"]
[null,"SEXO",null,null,null,"FIBRA BRUTA"]
[null,"Nº MACHOS",null,null,null,"PROTEINA BRUTA"]
[null,"Nº HEMBRAS",null,null,null,"GRASA BRUTA"]
[null,"RAZA",null,null,null,"CENIZAS"]
[null,"EPOCA DEL AÑO",null,null,null,"PRECIO (Euros/Tm)"]
[null,null,null,null,null,"UFV PIENSO"]
["DATOS PESOS","PESO ENTRADA (KG)"]
[null,"PESO SALIDA (KG)",null,null,"UFV/KG PIENSO","CALCULADA",{"$f":"IF(G11=\"\",\"\",'ENLACES DATOS'!U487)","v":""}]
[null,null,null,null,null,"EUROS/1000 UFV",{"$f":"IF(G19=\"\",\"\",G16/G19)","v":""}]
["RESULTADOS TECNICOS","Nº PRUEBAS",{"$f":"IF(C18=\"\",\"\",'ENLACES DATOS'!H387)","v":""}]
[null,"Nº CORDEROS",{"$f":"IF(C12=\"\",\"\",'ENLACES DATOS'!I387)","v":""},null,"INDICES TECNICOS","GMD",{"$f":"IF(G11=\"\",\"\",'ENLACES DATOS'!E490)","v":""}]
[null,"GMD CALCULADA",{"$f":"IF($C$18=\"\",\"\",'ENLACES DATOS'!Y470)","v":""},null,null,"IC",{"$f":"IF(G11=\"\",\"\",'ENLACES DATOS'!G490)","v":""}]
[null,"IC CALCULADO",{"$f":"IF($C$18=\"\",\"\",'ENLACES DATOS'!AA470)","v":""}]
[null,"CONSUMO DIARIO",{"$f":"IF($C$18=\"\",\"\",('ENLACES DATOS'!AC470))","v":""},null,"DATOS ECONOMICOS","DIAS EN CEBO",{"$f":"IF(G11=\"\",\"\",'ENLACES DATOS'!F490)","v":""}]
[null,null,null,null,null,"COSTE TOTAL",{"$f":"IF(G16=\"\",\"\",G28*(C13+C14))","v":""}]
["ENERGIAS","UFV MEDIA OBTENIDA",{"$f":"IF($C$18=\"\",\"\",IF('ENLACES DATOS'!$F$387=0,\"NO DISPONIBLE\",'ENLACES DATOS'!F387/100))","v":""},null,null,"COSTE DIARIO",{"$f":"IF(G16=\"\",\"\",G26/G25)","v":""}]
[null,"UFV MAX",{"$f":"IF($C$18=\"\",\"\",IF('ENLACES DATOS'!$F$387=0,\"NO DISPONIBLE\",('ENLACES DATOS'!F387+'ENLACES DATOS'!G387)/100))","v":""},null,null,"COSTE CORDERO",{"$f":"IF(G16=\"\",\"\",(C19-C18)*G30)","v":""}]
[null,"UFV MIN",{"$f":"IF($C$18=\"\",\"\",IF('ENLACES DATOS'!$F$387=0,\"NO DISPONIBLE\",('ENLACES DATOS'!F387-'ENLACES DATOS'!G387)/100))","v":""},null,null,"COSTE CORDERO/DIA",{"$f":"IF(G16=\"\",\"\",G28/G25)","v":""}]
[null,"UFV DIARIA",{"$f":"IF(C18=\"\",\"\",'ENLACES DATOS'!Q474)","v":""},null,null,"COSTE KILO REPUESTO",{"$f":"IF(G16=\"\",\"\",(G16/1000)*G23)","v":""}]
[]
["UFV/KG PIENSO","CALCULADA",{"$f":"IF(C25=\"\",\"\",C30/C25)","v":""}]
[null,"RECOMENDADA",{"$f":"IF(C18=\"\",\"\",C32*'ENLACES DATOS'!L474)","v":""}]

{"sheet":"GEST IND TECN","index":21,"n_rows":39,"n_cols":7,"rows_kept":39,"cut":false,"hidden":false,"merged":[[12,4,21,4],[23,4,28,4],[33,0,34,0],[20,0,28,0],[10,0,15,0],[17,0,18,0],[30,0,31,0]]}
[]
[]
[]
[]
[]
[]
["SIMULADOR INDICES TÉCNICOS",null,null,null,"SIMULADOR INDICES TÉCNICOS"]
["GANADERO:",null,null,null,"GANADERO:",{"$f":"IF(B8=\"\",\"\",B8)","v":""}]
["DATOS DE CEBO",null,null,null,"DATOS ECONÓMICOS"]
[]
["DATOS GENERALES","FECHA SIMULACION",null,null,"PRECIO PIENSO","PRECIO PIENSO (Euros/Tm)"]
[null,"SEXO"]
[null,"Nº MACHOS",null,null,"CONSUMOS","Nº CORDEROS",{"$f":"IF(C12=\"\",\"\",C13+C14)","v":""}]
[null,"Nº HEMBRAS",null,null,null,"Nº DIAS EN CEBO",{"$f":"IF(C32=\"\",\"\",G20/C32)","v":""}]
[null,"RAZA",null,null,null,"CONSUMO PIENSO TOTAL",{"$f":"IF(C35=\"\",\"\",(G17*G13))","v":""}]
[null,"EPOCA DEL AÑO",null,null,null,"CONSUMO DIARIO",{"$f":"IF(C35=\"\",\"\",G15/G14)","v":""}]
[null,null,null,null,null,"CONSUMO CORDERO",{"$f":"IF(C35=\"\",\"\",C35*G20)","v":""}]
["DATOS PESOS","PESO ENTRADA (KG)",null,null,null,"CONSUMO MEDIO DIARIO",{"$f":"IF(C35=\"\",\"\",G17/G14)","v":""}]
[null,"PESO SALIDA (KG)",null,null,null,"KILOS REPUESTOS",{"$f":"IF(G20=\"\",\"\",G20*G13)","v":""}]
[null,null,null,null,null,"KILOS RESPUESTOS/CORDERO",{"$f":"IF($C$18=\"\",\"\",(C19-C18))","v":""}]
["HISTORICOS OBTENIDOS","Nº PRUEBAS",{"$f":"IF($C$12=\"\",\"\",'ENLACES DATOS'!H209)","v":""},null,null,"ENERGIA CONSUMIDA",{"$f":"IF(C29=\"\",\"\",G17*C29)","v":""}]
[null,"Nº CORDEROS",{"$f":"IF(C12=\"\",\"\",'ENLACES DATOS'!I209)","v":""},null,null,"UFV/KG REPUESTO",{"$f":"IF(C18=\"\",\"\",G21/G20)","v":""}]
[null,"GMD (Kg/´dia)",{"$f":"IF($C$18=\"\",\"\",'ENLACES DATOS'!L209/1000)","v":""}]
[null,"GMD max",{"$f":"IF($C$18=\"\",\"\",('ENLACES DATOS'!L209+'ENLACES DATOS'!Q209)/1000)","v":""},null,"EUROS","EUROS TOTALES",{"$f":"IF(G11=\"\",\"\",(G15*(G11/1000)))","v":""}]
[null,"GMD min",{"$f":"IF($C$18=\"\",\"\",('ENLACES DATOS'!L209-'ENLACES DATOS'!Q209)/1000)","v":""},null,null,"EUROS DIA",{"$f":"IF(G11=\"\",\"\",G16*(G11/1000))","v":""}]
[null,"IC (Kg pienso/Kg repuesto)",{"$f":"IF($C$18=\"\",\"\",('ENLACES DATOS'!M209/1000))","v":""},null,null,"EUROS /CORDERO",{"$f":"IF(G11=\"\",\"\",G17*(G11/1000))","v":""}]
[null,"IC max",{"$f":"IF($C$18=\"\",\"\",('ENLACES DATOS'!M209+'ENLACES DATOS'!R209)/1000)","v":""},null,null,"EUROS CORDERO/DIA",{"$f":"IF(G11=\"\",\"\",G18*(G11/1000))","v":""}]
[null,"IC min",{"$f":"IF($C$18=\"\",\"\",('ENLACES DATOS'!M209-'ENLACES DATOS'!R209)/1000)","v":""},null,null,"EUROS/KILO REPUESTO",{"$f":"IF(G11=\"\",\"\",(G24/G19))","v":""}]
[null,"ENERGÍA (UFV2007)",{"$f":"IF($C$18=\"\",\"\",('ENLACES DATOS'!N209/100))","v":""},null,null,"EUROS/UFV",{"$f":"IF(G11=\"\",\"\",(G28/G22))","v":""}]
[]
["GMD","OBTENIDA",{"$f":"IF($C$18=\"\",\"\",C23)","v":""}]
[null,"CALCULADA",{"$f":"IF($C$18=\"\",\"\",'ENLACES DATOS'!Y350)","v":""}]
[]
["I.C.","OBTENIDO",{"$f":"IF($C$18=\"\",\"\",C26)","v":""}]
[null,"CALCULADO",{"$f":"IF($C$18=\"\",\"\",'ENLACES DATOS'!AA350)","v":""}]
[]
["COMENTARIOS"]
[{"$f":"IF(C12=\"\",\"\",IF(C31>C32,\"LOS RESULTADOS HISTÓRICOS OBTENIDOS SUPERAN A LOS PREVISIBLES EN GMD\",\"PEORES RESULTADOS EN GMD OBTENIDOS QUE LOS ESPERADOS\"))","v":""}]
[{"$f":"IF(C12=\"\",\"\",IF(C26<C35,\"LOS RESULTADOS DE IC HISTÓRICOS MEJORAN LOS PREVISTOS\",\"LOS RESULTADOS DE IC PREVISTOS MEJORAN LOS HISTÓRICOS\"))","v":""}]

{"sheet":"GEST CHEQ SEM","index":22,"n_rows":40,"n_cols":7,"rows_kept":40,"cut":false,"hidden":false,"merged":[[10,4,12,4],[10,0,15,0],[17,0,19,0],[21,0,23,0],[29,0,31,0],[25,0,27,0],[14,4,16,4],[18,4,20,4]]}
[]
[]
[]
[]
[]
[]
["EVALUACIÓN DATOS SANIDAD SEMANALES",null,null,null,"EVALUACIÓN DATOS SANIDAD SEMANALES"]
["GANADERO:",null,null,null,"GANADERO:",{"$f":"IF(B8=\"\",\"\",B8)","v":""}]
["ENFOQUE TÉCNICO",null,null,null,"ENFOQUE ECONÓMICO"]
[]
["DATOS CEBADERO","CEBADERO",null,null,"DATOS VALORACION","PRECIO COMPRAS"]
[null,"FECHA",null,null,null,"PESOS COMPRAS"]
[null,"CENSO",null,null,null,"PESOS BAJAS"]
[null,"CAPACIDAD"]
[null,"Nº BAJAS",null,null,"Nº BAJAS","SEMANA",{"$f":"IF(C15=\"\",\"\",C15)","v":""}]
[null,"Nº GRANJAS",null,null,null,"MES",{"$f":"IF(C15=\"\",\"\",G17/12)","v":""}]
[null,null,null,null,null,"AÑO",{"$f":"IF(C15=\"\",\"\",G15/'ENLACES DATOS'!D25)","v":""}]
["OBTENIDOS","AFORO (%)",{"$f":"IF(C13=\"\",\"\",C13/C14)","v":""}]
[null,"MORT.SEMAN.",{"$f":"IF(C15=\"\",\"\",C15/C13)","v":""},{"$f":"IF(C15=\"\",\"\",IF(C19>C26,\"ATENCION!\",\"\"))","v":""},"PERDIDAS ECONÓMICAS","SEMANA",{"$f":"IF(G11=\"\",\"\",G15*ECUACIONES!$C$12)","v":""}]
[null,"COEF.GRANJA",{"$f":"IF(C16=\"\",\"\",(C16/C15))","v":""},{"$f":"IF(C16=\"\",\"\",IF(C20<(C24-(C24*0.1)),\"ATENCION!\",\"\"))","v":""},null,"MES",{"$f":"IF(G11=\"\",\"\",G16*ECUACIONES!$C$12)","v":""}]
[null,null,null,null,null,"AÑO",{"$f":"IF(G11=\"\",\"\",G17*ECUACIONES!$C$12)","v":""}]
["ESPERADOS","MORT.SEMANAL",{"$f":"IF(C15=\"\",\"\",'ENLACES DATOS'!D14)","v":""}]
[null,"MORBILIDAD",{"$f":"IF(C15=\"\",\"\",'ENLACES DATOS'!D18/4)","v":""}]
[null,"COEF.GRANJA",{"$f":"IF(C16=\"\",\"\",'ENLACES DATOS'!F14)","v":""}]
[]
["MAXIMOS","MORT.SEMANAL",{"$f":"IF(C15=\"\",\"\",'ENLACES DATOS'!E14)","v":""}]
[null,"MORBILIDAD",{"$f":"IF(C15=\"\",\"\",('ENLACES DATOS'!E18/4))","v":""}]
[null,"Nº BAJAS SEMANA",{"$f":"IF(C15=\"\",\"\",(C26*C13))","v":""}]
[]
["MENSUALES","% MORT.OBTENIDO",{"$f":"IF(C15=\"\",\"\",C19*4)","v":""}]
[null,"% MORT.ESPERADO",{"$f":"IF(C15=\"\",\"\",'ENLACES DATOS'!D15)","v":""}]
[null,"% MORT.MAXIMO",{"$f":"IF(C15=\"\",\"\",'ENLACES DATOS'!E15)","v":""}]
[]
[]
["COMENTARIOS:"]
["AFORO:",{"$f":"IF(C13=\"\",\"\",IF(C18>1,\"ATENCIÓN A LA DENSIDAD DE ANIMALES\",\"DENSIDAD ADECUADA\"))","v":""}]
["MORTALIDAD:",{"$f":"IF(C15=\"\",\"\",IF(C19>C26,\"MORTALIDAD POR ENCIMA DEL MÁXIMO ASUMIBLE\",IF(C19>C22,\"MORTALIDAD MAYOR DE LA ESPERADA\",\"TASA DE MORTALIDAD NORMAL\")))","v":""}]
[null,{"$f":"IF(C16=\"\",\"\",IF(C20<C24,\"ATENCIÓN A LA CALIDAD DE LAS COMPRAS\",\"GESTIÓN DE COMPRAS CORRECTA\"))","v":""}]
["EFICACIA MANEJO",{"$f":"IF(C15=\"\",\"\",(C19-C23)/(C22-C23))","v":""},{"$f":"IF(C15=\"\",\"\",\"OPTIMO= POR ENCIMA DE 1\")","v":""}]
[null,{"$f":"IF(C15=\"\",\"\",IF(B39<0.1,\"ATENCION A PROBLEMAS DE ADAPTACIÓN\",IF(B39<0.9,\"REALIZAR Y/O O REPLANTEARSE LOS TRATAMIENTOS\",\"MANEJO BUENO O ACEPTABLE\")))","v":""}]

{"sheet":"GEST CHEQ MES","index":23,"n_rows":39,"n_cols":12,"rows_kept":39,"cut":false,"hidden":false,"merged":[[26,0,27,0],[10,0,15,0],[10,4,12,4],[14,4,16,4],[18,4,20,4],[10,8,12,8],[14,8,16,8],[18,8,20,8],[17,0,21,0],[23,0,24,0]]}
[]
[]
[]
[]
[]
[]
["EVALUACIÓN DATOS SANIDAD MENSUALES",null,null,null,"EVALUACIÓN DATOS SANIDAD MENSUALES",null,null,null,"EVALUACIÓN DATOS SANIDAD MENSUALES"]
["GANADERO:",null,null,null,"GANADERO:",{"$f":"IF(B8=\"\",\"\",B8)","v":""},null,null,"GANADERO:",{"$f":"IF(B8=\"\",\"\",B8)","v":""}]
["ENFOQUE TÉCNICO",null,null,null,"ENFOQUE ECONÓMICO",null,null,null,"DECOMISOS"]
[]
["DATOS CEBADERO","CEBADERO",null,null,"DATOS VALORACION","PRECIO COMPRAS",null,null,"DECOMISOS MENSUALES","PULMON",null,{"$f":"IF(K11=\"\",\"\",IF(K11>K19,\"ALARMA\",(IF(K11>K15,\"ATENCION\",\"OK\"))))","v":""}]
[null,"FECHA",null,null,null,"PESOS COMPRAS",null,null,null,"HIGADO",null,{"$f":"IF(K12=\"\",\"\",IF(K12>K20,\"ALARMA\",(IF(K12>K16,\"ATENCION\",\"OK\"))))","v":""}]
[null,"CENSO",null,null,null,"PESOS BAJAS",null,null,null,"CANALES",null,""]
[null,"CAPACIDAD"]
[null,"Nº BAJAS",null,null,"Nº BAJAS","SEMANA",{"$f":"IF(C15=\"\",\"\",C15/4)","v":""},null,"ESPERADOS","PULMON",{"$f":"IF(K11=\"\",\"\",VLOOKUP('ENLACES DATOS'!$E$97,'HOJA GENERAL DE DATOS'!$A$155:$H$166,2,FALSE))","v":""}]
[null,"Nº GRANJAS",null,null,null,"MES",{"$f":"IF(C15=\"\",\"\",C15)","v":""},null,null,"HIGADO",{"$f":"IF(K12=\"\",\"\",VLOOKUP('ENLACES DATOS'!$E$97,'HOJA GENERAL DE DATOS'!$A$155:$H$166,4,FALSE))","v":""}]
[null,null,null,null,null,"AÑO",{"$f":"IF(C15=\"\",\"\",G16/'ENLACES DATOS'!D117)","v":""},null,null,"CANALES",{"$f":"IF(K13=\"\",\"\",VLOOKUP('ENLACES DATOS'!$E$97,'HOJA GENERAL DE DATOS'!$A$155:$H$166,5,FALSE))","v":""}]
["MORTALIDAD","MORT.REAL",{"$f":"IF(C15=\"\",\"\",C15/C13)","v":""},{"$f":"IF(C18>C22,\"¡ATENCION!\",\"\")","v":""}]
[null,"HISTORICO ESPERADO",{"$f":"IF(C15=\"\",\"\",'ENLACES DATOS'!D106)","v":""},null,"PERDIDAS ECONÓMICAS","SEMANA",{"$f":"IF(G11=\"\",\"\",G15*ECUACIONES!$H$12)","v":""},null,"MAXIMOS","PULMON",{"$f":"IF(K11=\"\",\"\",VLOOKUP('ENLACES DATOS'!$E$97,'HOJA GENERAL DE DATOS'!$A$155:$H$166,6,FALSE))","v":""}]
[null,"POR AFORO (ESTIMADA)",{"$f":"IF(C15=\"\",\"\",ECUACIONES!C37)","v":""},null,null,"MES",{"$f":"IF(G11=\"\",\"\",G16*ECUACIONES!$H$12)","v":""},null,null,"HIGADO",{"$f":"IF(K12=\"\",\"\",VLOOKUP('ENLACES DATOS'!$E$97,'HOJA GENERAL DE DATOS'!$A$155:$H$166,7,FALSE))","v":""}]
[null,"POR COEF.GR. (ESTIMADA)",{"$f":"IF(C16=\"\",\"\",ECUACIONES!H37)","v":""},null,null,"AÑO",{"$f":"IF(G11=\"\",\"\",G17*ECUACIONES!$H$12)","v":""},null,null,"CANALES",{"$f":"IF(K13=\"\",\"\",VLOOKUP('ENLACES DATOS'!$E$97,'HOJA GENERAL DE DATOS'!$A$155:$H$166,8,FALSE))","v":""}]
[null,"MAXIMA",{"$f":"IF(C15=\"\",\"\",'ENLACES DATOS'!E106)","v":""}]
[]
["COEF.GRANJA","REAL",{"$f":"IF(C16=\"\",\"\",C16/C15)","v":""}]
[null,"HISTORICO ESPERADO",{"$f":"IF(C16=\"\",\"\",'ENLACES DATOS'!F106)","v":""}]
[]
["MORBILIDAD","HISTORICA ESPERADA",{"$f":"IF(C15=\"\",\"\",'ENLACES DATOS'!C111)","v":""}]
[null,"MAXIMA",{"$f":"IF(C15=\"\",\"\",'ENLACES DATOS'!D111)","v":""}]
[]
[]
[]
[]
[]
["COMENTARIOS:"]
["AFORO:",{"$f":"IF(C13=\"\",\"\",IF(D35>1,\"ATENCIÓN A LA DENSIDAD DE ANIMALES\",\"DENSIDAD ADECUADA\"))","v":""},null,{"$f":"IF(C13=\"\",\"\",(C13/C14))","v":""}]
["MORTALIDAD:",{"$f":"IF(C15=\"\",\"\",IF(C18>C22,\"MORTALIDAD POR ENCIMA DEL MÁXIMO ASUMIBLE\",IF(C18>C19,\"MORTALIDAD MAYOR DE LA ESPERADA\",\"TASA DE MORTALIDAD NORMAL\")))","v":""}]
[null,{"$f":"IF(C16=\"\",\"\",IF(C24<C25,\"ATENCIÓN A LA CALIDAD DE LAS COMPRAS\",\"GESTIÓN DE COMPRAS CORRECTA\"))","v":""}]
["EFICACIA MANEJO",{"$f":"IF(C15=\"\",\"\",(C18-C27)/(C19-C27))","v":""},{"$f":"IF(C15=\"\",\"\",\"OPTIMO= POR ENCIMA DE 1\")","v":""}]
[null,{"$f":"IF(C15=\"\",\"\",IF(B38<0.4,\"ATENCION A PROBLEMAS DE ADAPTACIÓN\",IF(B38<0.9,\"REALIZAR Y/O O REPLANTEARSE LOS TRATAMIENTOS\",\"MANEJO BUENO O ACEPTABLE\")))","v":""}]

{"sheet":"GEST RUMEN","index":24,"n_rows":39,"n_cols":6,"rows_kept":39,"cut":false,"hidden":false,"merged":[[28,0,29,0],[31,0,32,0]]}
[]
[]
[]
[]
[]
[]
["EVALUACIÓN SALUD RUMINAL",null,null,null,"EVALUACIÓN SALUD RUMINAL"]
["GANADERO:",null,null,null,"GANADERO:",{"$f":"IF(B8=\"\",\"\",B8)","v":""}]
["FECHA",null,null,null,"FECHA",{"$f":"IF(B9=\"\",\"\",B9)","v":""}]
["DATOS pHs PANZAS",null,null,null,"GRAFICOS. DIAGNOSTICO"]
["ANIMAL","pH",null,"Desv. St."]
["CORDERO 1",null,{"$f":"IF(B12=\"\",\"\",IF('ENLACES DATOS'!D150=\"\",\"OK\",\"Valor excesivamente bajo\"))","v":""},{"$f":"IF(B12=\"\",\"\",IF('ENLACES DATOS'!F150=\"\",\"OK\",\"Fuera de desviación\"))","v":""}]
["CORDERO 2",null,{"$f":"IF(B13=\"\",\"\",IF('ENLACES DATOS'!D151=\"\",\"OK\",\"Valor excesivamente bajo\"))","v":""},{"$f":"IF(B13=\"\",\"\",IF('ENLACES DATOS'!F151=\"\",\"OK\",\"Fuera de desviación\"))","v":""}]
["CORDERO 3",null,{"$f":"IF(B14=\"\",\"\",IF('ENLACES DATOS'!D152=\"\",\"OK\",\"Valor excesivamente bajo\"))","v":""},{"$f":"IF(B14=\"\",\"\",IF('ENLACES DATOS'!F152=\"\",\"OK\",\"Fuera de desviación\"))","v":""}]
["CORDERO 4",null,{"$f":"IF(B15=\"\",\"\",IF('ENLACES DATOS'!D153=\"\",\"OK\",\"Valor excesivamente bajo\"))","v":""},{"$f":"IF(B15=\"\",\"\",IF('ENLACES DATOS'!F153=\"\",\"OK\",\"Fuera de desviación\"))","v":""}]
["CORDERO 5",null,{"$f":"IF(B16=\"\",\"\",IF('ENLACES DATOS'!D154=\"\",\"OK\",\"Valor excesivamente bajo\"))","v":""},{"$f":"IF(B16=\"\",\"\",IF('ENLACES DATOS'!F154=\"\",\"OK\",\"Fuera de desviación\"))","v":""}]
["CORDERO 6",null,{"$f":"IF(B17=\"\",\"\",IF('ENLACES DATOS'!D155=\"\",\"OK\",\"Valor excesivamente bajo\"))","v":""},{"$f":"IF(B17=\"\",\"\",IF('ENLACES DATOS'!F155=\"\",\"OK\",\"Fuera de desviación\"))","v":""}]
["CORDERO 7",null,{"$f":"IF(B18=\"\",\"\",IF('ENLACES DATOS'!D156=\"\",\"OK\",\"Valor excesivamente bajo\"))","v":""},{"$f":"IF(B18=\"\",\"\",IF('ENLACES DATOS'!F156=\"\",\"OK\",\"Fuera de desviación\"))","v":""}]
["CORDERO 8",null,{"$f":"IF(B19=\"\",\"\",IF('ENLACES DATOS'!D157=\"\",\"OK\",\"Valor excesivamente bajo\"))","v":""},{"$f":"IF(B19=\"\",\"\",IF('ENLACES DATOS'!F157=\"\",\"OK\",\"Fuera de desviación\"))","v":""}]
["CORDERO 9",null,{"$f":"IF(B20=\"\",\"\",IF('ENLACES DATOS'!D158=\"\",\"OK\",\"Valor excesivamente bajo\"))","v":""},{"$f":"IF(B20=\"\",\"\",IF('ENLACES DATOS'!F158=\"\",\"OK\",\"Fuera de desviación\"))","v":""}]
["CORDERO 10",null,{"$f":"IF(B21=\"\",\"\",IF('ENLACES DATOS'!D159=\"\",\"OK\",\"Valor excesivamente bajo\"))","v":""},{"$f":"IF(B21=\"\",\"\",IF('ENLACES DATOS'!F159=\"\",\"OK\",\"Fuera de desviación\"))","v":""}]
["CORDERO 11",null,{"$f":"IF(B22=\"\",\"\",IF('ENLACES DATOS'!D160=\"\",\"OK\",\"Valor excesivamente bajo\"))","v":""},{"$f":"IF(B22=\"\",\"\",IF('ENLACES DATOS'!F160=\"\",\"OK\",\"Fuera de desviación\"))","v":""}]
["CORDERO 12",null,{"$f":"IF(B23=\"\",\"\",IF('ENLACES DATOS'!D161=\"\",\"OK\",\"Valor excesivamente bajo\"))","v":""},{"$f":"IF(B23=\"\",\"\",IF('ENLACES DATOS'!F161=\"\",\"OK\",\"Fuera de desviación\"))","v":""}]
["CORDERO 13",null,{"$f":"IF(B24=\"\",\"\",IF('ENLACES DATOS'!D162=\"\",\"OK\",\"Valor excesivamente bajo\"))","v":""},{"$f":"IF(B24=\"\",\"\",IF('ENLACES DATOS'!F162=\"\",\"OK\",\"Fuera de desviación\"))","v":""}]
["CORDERO 14",null,{"$f":"IF(B25=\"\",\"\",IF('ENLACES DATOS'!D163=\"\",\"OK\",\"Valor excesivamente bajo\"))","v":""},{"$f":"IF(B25=\"\",\"\",IF('ENLACES DATOS'!F163=\"\",\"OK\",\"Fuera de desviación\"))","v":""}]
["CORDERO 15",null,{"$f":"IF(B26=\"\",\"\",IF('ENLACES DATOS'!D164=\"\",\"OK\",\"Valor excesivamente bajo\"))","v":""},{"$f":"IF(B26=\"\",\"\",IF('ENLACES DATOS'!F164=\"\",\"OK\",\"Fuera de desviación\"))","v":""}]
["CORDERO 16",null,{"$f":"IF(B27=\"\",\"\",IF('ENLACES DATOS'!D165=\"\",\"OK\",\"Valor excesivamente bajo\"))","v":""},{"$f":"IF(B27=\"\",\"\",IF('ENLACES DATOS'!F165=\"\",\"OK\",\"Fuera de desviación\"))","v":""}]
[]
["OBTENIDOS"," pH",{"$f":"IF(B12=\"\",\"\",'ENLACES DATOS'!B167)","v":""}]
[null,"VARIABILIDAD",{"$f":"IF(B12=\"\",\"\",'ENLACES DATOS'!D168)","v":""}]
[]
["ESPERADOS"," pH",{"$f":"IF(B12=\"\",\"\",'ENLACES DATOS'!B171)","v":""}]
[null,"VARIABILIDAD",{"$f":"IF(B12=\"\",\"\",'ENLACES DATOS'!D172)","v":""}]
[]
["COMENTARIOS:"]
[{"$f":"IF(B12=\"\",\"\",IF('ENLACES DATOS'!C171>-'ENLACES DATOS'!B172,\"VALORES ADECUADOS DE pH\",\"VALORES DE pH EXCESIVAMENTE BAJOS\"))","v":""}]
[{"$f":"IF(B12=\"\",\"\",IF('ENLACES DATOS'!C172<0,\"DATOS DESVIADOS DENTRO DE LA NORMALIDAD\",\"ALTAS DESVIACIONES EN GLOBAL\"))","v":""}]
[{"$f":"IF(B12=\"\",\"\",IF('ENLACES DATOS'!B173<0.12,\"BAJO % DE REGISTROS FUERA DE DESVIACION\",\"ALTO % DE REGISTROS FUERA DE DESVIACIÓN\"))","v":""}]
[{"$f":"IF(B12=\"\",\"\",IF('ENLACES DATOS'!B174<0.12,\"BAJO PORCENTAJE CON VALORES BAJOS\",\"ALTO PORCENTAJE CON VALORES BAJOS\"))","v":""}]

{"sheet":"GEST DURAB CARNE","index":25,"n_rows":26,"n_cols":4,"rows_kept":26,"cut":false,"hidden":false,"merged":[[12,0,14,0],[16,0,18,0],[17,3,18,3],[24,1,25,1],[24,0,25,0],[25,2,25,3]]}
[]
[]
[]
[]
[]
[]
["PREDICCION DURABILIDAD BANDEJAS"]
["GANADERO:"]
["FECHA"]
[]
["INCORPORACION vitE"]
[]
["CEBO 14 DIAS","DIAS EMBANDEJADO",null,"dias"]
[null,"VITAMINA E SINTETICA (mg)",null,"ppm"]
[null,"VITAMINA E NATURAL (mg)",null,"ppm"]
[]
["EVALUACION CARNE","TBARS (mgMA/Kg)",{"$f":"IF('ENLACES DATOS'!G867=\"\",\"\",'ENLACES DATOS'!G867)","v":""},"REF <0.350"]
[null,"NOTA VISUAL 1 (0 a 4)",{"$f":"IF('ENLACES DATOS'!G868=\"\",\"\",'ENLACES DATOS'!G868)","v":""},{"$f":"IF(C17=\"\",\"\",AVERAGE(C18:C19))","v":""}]
[null,"NOTA VISUAL 2 (0 a 4)",{"$f":"IF('ENLACES DATOS'!G869=\"\",\"\",'ENLACES DATOS'!G869)","v":""}]
[]
[]
["NOTA VISUAL"]
["INTRODUCIR NOTA","NOTA VISUAL (0 a 4)"]
[]
["PREDICCION","TBARS (mgMA/Kg).RANGO Y MEDIA",{"$f":"IF('ENLACES DATOS'!I872=\"\",\"\",'ENLACES DATOS'!I872)","v":""},{"$f":"IF('ENLACES DATOS'!J872=\"\",\"\",'ENLACES DATOS'!J872)","v":""}]
[null,null,{"$f":"IF(C23=\"\",\"\",'ENLACES DATOS'!G872)","v":""}]

{"sheet":"MODULO SALUD","index":26,"n_rows":2,"n_cols":2,"rows_kept":2,"cut":false,"hidden":false,"merged":[[1,1,1,11]]}
[]
[null,"GESTICOR MODULO SALUD"]

{"sheet":"MODULO MEJORA","index":27,"n_rows":2,"n_cols":2,"rows_kept":2,"cut":false,"hidden":false,"merged":[[1,1,1,11]]}
[]
[null,"GESTICOR MODULO MEJORA"]

{"sheet":"MODULO BA&SOSTENIBILIDAD","index":28,"n_rows":2,"n_cols":2,"rows_kept":2,"cut":false,"hidden":false,"merged":[[1,1,1,11]]}
[]
[null,"GESTICOR MODULO B.A. & SOSTENIBILIDAD"]

{"sheet":"MODULO ECONOMIA","index":29,"n_rows":2,"n_cols":2,"rows_kept":2,"cut":false,"hidden":false,"merged":[[1,1,1,11]]}
[]
[null,"GESTICOR MODULO ECONOMIA"]

{"sheet":"GESTICOR MODEL","index":30,"n_rows":2,"n_cols":2,"rows_kept":2,"cut":false,"hidden":false,"merged":[[1,1,1,15]]}
[]
[null,"GESTICOR MODEL"]