{"text_format":"1","workbook":"xlsx","n_sheets":18,"sheets":["BUSCAR FECHA","HOJA DE DATOS","ENLACES DATOS","ECUACIONES","COMPARATIVA RACIONES","CALCULO DISTANCIA ENTRE NAVES","CHEQUEO DIMENSIONADO NAVE","GRAZZING SHEEP&GOAT","MILKUREA","CHEQUEO SALA ORDEÑO","VALORACION ALIMENTOS INRA","EVOLUCION PRODUCCION","CALENDARIO REPRODUCTIVO","CALCULO THI","AMBIENTALES ADMISIBLES","MODULO GENERAL","MODULO NUTRICION","MODULO INSTALACIONES"],"not_rendered":{"charts":4,"images":54,"macros":1,"external_links":3,"defined_names":10,"comments":10,"pivot_tables":1},"unopened":[],"bounds":{"document_bytes":16777216,"sheet_cells":100000,"rows_first":2000,"rows_last":500,"rows_between":2000,"halvings":0,"cell_chars":16384,"cell_head_chars":4096},"cells_cut":0,"cells_raw":0,"read":"whole","date_system":"1900"}

{"sheet":"BUSCAR FECHA","index":0,"n_rows":2891,"n_cols":11,"rows_kept":2891,"cut":false,"hidden":false,"merged":[]}
["DIA","SEMANA","SEMANA REAL","MES REAL","FECHA","MES REAL"]
["2009-02-02",906,{"$f":"RIGHT(B2,2)","v":"06"},{"$f":"MONTH(A2)","v":2},{"$f":"#REF!","v":{"$error":"#REF!"}},{"$f":"VLOOKUP($E2,$A$2:$D$3000,4, FALSE)","v":{"$error":"#REF!"}},{"$f":"VLOOKUP(F2,H3:I14,2,FALSE)","v":{"$error":"#REF!"}},"ESTACION"]
["2009-02-03",906,{"$f":"RIGHT(B3,2)","v":"06"},{"$f":"MONTH(A3)","v":2},{"$f":"#REF!","v":{"$error":"#REF!"}},{"$f":"VLOOKUP(E3,J3:K14,2,FALSE)","v":{"$error":"#REF!"}},null,1,"INVIERNO","ENERO",1]
["2009-02-04",906,"06",2,null,{"$f":"VLOOKUP($E4,$A$2:$D$3000,4, FALSE)","v":{"$error":"#N/A"}},null,2,"INVIERNO","FEBRERO",2]
["2009-02-05",906,"06",2,null,{"$f":"VLOOKUP($E5,$A$2:$D$3000,4, FALSE)","v":{"$error":"#N/A"}},null,3,"TEMPLADO","MARZO",3]
["2009-02-06",906,"06",2,null,{"$f":"VLOOKUP($E6,$A$2:$D$3000,4, FALSE)","v":{"$error":"#N/A"}},null,4,"TEMPLADO","ABRIL",4]
["2009-02-07",906,"06",2,null,null,null,5,"TEMPLADO","MAYO",5]
["2009-02-08",906,"06",2,null,null,null,6,"VERANO","JUNIO",6]
["2009-02-09",907,"07",2,null,null,null,7,"VERANO","JULIO",7]
["2009-02-10",907,"07",2,null,null,null,8,"VERANO","AGOSTO",8]
["2009-02-11",907,"07",2,null,null,null,9,"TEMPLADO","SEPTIEMBRE",9]
["2009-02-12",907,"07",2,null,null,null,10,"TEMPLADO","OCTUBRE",10]
["2009-02-13",907,"07",2,null,null,null,11,"INVIERNO","NOVIEMBRE",11]
["2009-02-14",907,"07",2,null,null,null,12,"INVIERNO","DICIEMBRE",12]
["2009-02-15",907,"07",2]
["2009-02-16",908,"08",2]
["2009-02-17",908,"08",2]
["2009-02-18",908,"08",2]
["2009-02-19",908,"08",2]
["2009-02-20",908,"08",2]
["2009-02-21",908,"08",2]
["2009-02-22",908,"08",2]
["2009-02-23",909,"09",2]
["2009-02-24",909,"09",2]
["2009-02-25",909,"09",2]
["2009-02-26",909,"09",2]
["2009-02-27",909,"09",2]
["2009-02-28",909,"09",2]
["2009-03-01",909,"09",3]
["2009-03-02",910,"10",3]
["2009-03-03",910,"10",3]
["2009-03-04",910,"10",3]
["2009-03-05",910,"10",3]
["2009-03-06",910,"10",3]
["2009-03-07",910,"10",3]
["2009-03-08",910,"10",3]
["2009-03-09",911,"11",3]
["2009-03-10",911,"11",3]
["2009-03-11",911,"11",3]
["2009-03-12",911,"11",3]
["2009-03-13",911,"11",3]
["2009-03-14",911,"11",3]
["2009-03-15",911,"11",3]
["2009-03-16",912,"12",3]
["2009-03-17",912,"12",3]
["2009-03-18",912,"12",3]
["2009-03-19",912,"12",3]
["2009-03-20",912,"12",3]
["2009-03-21",912,"12",3]
["2009-03-22",912,"12",3]
["2009-03-23",913,"13",3]
["2009-03-24",913,"13",3]
["2009-03-25",913,"13",3]
["2009-03-26",913,"13",3]
["2009-03-27",913,"13",3]
["2009-03-28",913,"13",3]
["2009-03-29",913,"13",3]
["2009-03-30",914,"14",3]
["2009-03-31",914,"14",3]
["2009-04-01",914,"14",4]
["2009-04-02",914,"14",4]
["2009-04-03",914,"14",4]
["2009-04-04",914,"14",4]
["2009-04-05",914,"14",4]
["2009-04-06",915,"15",4]
["2009-04-07",915,"15",4]
["2009-04-08",915,{"$f":"RIGHT(B67,2)","v":"15"},{"$f":"MONTH(A67)","v":4}]
["2009-04-09",915,"15",4]
["2009-04-10",915,"15",4]
["2009-04-11",915,"15",4]
["2009-04-12",915,"15",4]
["2009-04-13",916,"16",4]
["2009-04-14",916,"16",4]
["2009-04-15",916,"16",4]
["2009-04-16",916,"16",4]
["2009-04-17",916,"16",4]
["2009-04-18",916,"16",4]
["2009-04-19",916,"16",4]
["2009-04-20",917,"17",4]
["2009-04-21",917,"17",4]
["2009-04-22",917,"17",4]
["2009-04-23",917,"17",4]
["2009-04-24",917,"17",4]
["2009-04-25",917,"17",4]
["2009-04-26",917,"17",4]
["2009-04-27",918,"18",4]
["2009-04-28",918,"18",4]
["2009-04-29",918,"18",4]
["2009-04-30",918,"18",4]
["2009-05-01",918,"18",5]
["2009-05-02",918,"18",5]
["2009-05-03",918,"18",5]
["2009-05-04",919,"19",5]
["2009-05-05",919,"19",5]
["2009-05-06",919,"19",5]
["2009-05-07",919,"19",5]
["2009-05-08",919,"19",5]
["2009-05-09",919,"19",5]
["2009-05-10",919,"19",5]
["2009-05-11",920,"20",5]
["2009-05-12",920,"20",5]
["2009-05-13",920,"20",5]
["2009-05-14",920,"20",5]
["2009-05-15",920,"20",5]
["2009-05-16",920,"20",5]
["2009-05-17",920,"20",5]
["2009-05-18",921,"21",5]
["2009-05-19",921,"21",5]
["2009-05-20",921,"21",5]
["2009-05-21",921,"21",5]
["2009-05-22",921,"21",5]
["2009-05-23",921,"21",5]
["2009-05-24",921,"21",5]
["2009-05-25",922,"22",5]
["2009-05-26",922,"22",5]
["2009-05-27",922,"22",5]
["2009-05-28",922,"22",5]
["2009-05-29",922,"22",5]
["2009-05-30",922,"22",5]
["2009-05-31",922,"22",5]
["2009-06-01",923,"23",6]
["2009-06-02",923,"23",6]
["2009-06-03",923,"23",6]
["2009-06-04",923,"23",6]
["2009-06-05",923,"23",6]
["2009-06-06",923,"23",6]
["2009-06-07",923,"23",6]
["2009-06-08",924,"24",6]
["2009-06-09",924,"24",6]
["2009-06-10",924,"24",6]
["2009-06-11",924,{"$f":"RIGHT(B131,2)","v":"24"},{"$f":"MONTH(A131)","v":6}]
["2009-06-12",924,"24",6]
["2009-06-13",924,"24",6]
["2009-06-14",924,"24",6]
["2009-06-15",925,"25",6]
["2009-06-16",925,"25",6]
["2009-06-17",925,"25",6]
["2009-06-18",925,"25",6]
["2009-06-19",925,"25",6]
["2009-06-20",925,"25",6]
["2009-06-21",925,"25",6]
["2009-06-22",926,"26",6]
["2009-06-23",926,"26",6]
["2009-06-24",926,"26",6]
["2009-06-25",926,"26",6]
["2009-06-26",926,"26",6]
["2009-06-27",926,"26",6]
["2009-06-28",926,"26",6]
["2009-06-29",927,"27",6]
["2009-06-30",927,"27",6]
["2009-07-01",927,"27",7]
["2009-07-02",927,"27",7]
["2009-07-03",927,"27",7]
["2009-07-04",927,"27",7]
["2009-07-05",927,"27",7]
["2009-07-06",928,"28",7]
["2009-07-07",928,"28",7]
["2009-07-08",928,"28",7]
["2009-07-09",928,"28",7]
["2009-07-10",928,"28",7]
["2009-07-11",928,"28",7]
["2009-07-12",928,"28",7]
["2009-07-13",929,"29",7]
["2009-07-14",929,"29",7]
["2009-07-15",929,"29",7]
["2009-07-16",929,"29",7]
["2009-07-17",929,"29",7]
["2009-07-18",929,"29",7]
["2009-07-19",929,"29",7]
["2009-07-20",930,"30",7]
["2009-07-21",930,"30",7]
["2009-07-22",930,"30",7]
["2009-07-23",930,"30",7]
["2009-07-24",930,"30",7]
["2009-07-25",930,"30",7]
["2009-07-26",930,"30",7]
["2009-07-27",931,"31",7]
["2009-07-28",931,"31",7]
["2009-07-29",931,"31",7]
["2009-07-30",931,"31",7]
["2009-07-31",931,"31",7]
["2009-08-01",931,"31",8]
["2009-08-02",931,"31",8]
["2009-08-03",932,"32",8]
["2009-08-04",932,"32",8]
["2009-08-05",932,"32",8]
["2009-08-06",932,"32",8]
["2009-08-07",932,"32",8]
["2009-08-08",932,"32",8]
["2009-08-09",932,"32",8]
["2009-08-10",933,"33",8]
["2009-08-11",933,"33",8]
["2009-08-12",933,"33",8]
["2009-08-13",933,"33",8]
["2009-08-14",933,{"$f":"RIGHT(B195,2)","v":"33"},{"$f":"MONTH(A195)","v":8}]
["2009-08-15",933,"33",8]
["2009-08-16",933,"33",8]
["2009-08-17",934,"34",8]
["2009-08-18",934,"34",8]
["2009-08-19",934,"34",8]
["2009-08-20",934,"34",8]
["2009-08-21",934,"34",8]
["2009-08-22",934,"34",8]
["2009-08-23",934,"34",8]
["2009-08-24",935,"35",8]
["2009-08-25",935,"35",8]
["2009-08-26",935,"35",8]
["2009-08-27",935,"35",8]
["2009-08-28",935,"35",8]
["2009-08-29",935,"35",8]
["2009-08-30",935,"35",8]
["2009-08-31",936,"36",8]
["2009-09-01",936,"36",9]
["2009-09-02",936,"36",9]
["2009-09-03",936,"36",9]
["2009-09-04",936,"36",9]
["2009-09-05",936,"36",9]
["2009-09-06",936,"36",9]
["2009-09-07",937,"37",9]
["2009-09-08",937,"37",9]
["2009-09-09",937,"37",9]
["2009-09-10",937,"37",9]
["2009-09-11",937,"37",9]
["2009-09-12",937,"37",9]
["2009-09-13",937,"37",9]
["2009-09-14",938,"38",9]
["2009-09-15",938,"38",9]
["2009-09-16",938,"38",9]
["2009-09-17",938,"38",9]
["2009-09-18",938,"38",9]
["2009-09-19",938,"38",9]
["2009-09-20",938,"38",9]
["2009-09-21",939,"39",9]
["2009-09-22",939,"39",9]
["2009-09-23",939,"39",9]
["2009-09-24",939,"39",9]
["2009-09-25",939,"39",9]
["2009-09-26",939,"39",9]
["2009-09-27",939,"39",9]
["2009-09-28",940,"40",9]
["2009-09-29",940,"40",9]
["2009-09-30",940,"40",9]
["2009-10-01",940,"40",10]
["2009-10-02",940,"40",10]
["2009-10-03",940,"40",10]
["2009-10-04",940,"40",10]
["2009-10-05",941,"41",10]
["2009-10-06",941,"41",10]
["2009-10-07",941,"41",10]
["2009-10-08",941,"41",10]
["2009-10-09",941,"41",10]
["2009-10-10",941,"41",10]
["2009-10-11",941,"41",10]
["2009-10-12",942,"42",10]
["2009-10-13",942,"42",10]
["2009-10-14",942,"42",10]
["2009-10-15",942,"42",10]
["2009-10-16",942,"42",10]
["2009-10-17",942,{"$f":"RIGHT(B259,2)","v":"42"},{"$f":"MONTH(A259)","v":10}]
["2009-10-18",942,"42",10]
["2009-10-19",943,"43",10]
["2009-10-20",943,"43",10]
["2009-10-21",943,"43",10]
["2009-10-22",943,"43",10]
["2009-10-23",943,"43",10]
["2009-10-24",943,"43",10]
["2009-10-25",943,"43",10]
["2009-10-26",944,"44",10]
["2009-10-27",944,"44",10]
["2009-10-28",944,"44",10]
["2009-10-29",944,"44",10]
["2009-10-30",944,"44",10]
["2009-10-31",944,"44",10]
["2009-11-01",944,"44",11]
["2009-11-02",945,"45",11]
["2009-11-03",945,"45",11]
["2009-11-04",945,"45",11]
["2009-11-05",945,"45",11]
["2009-11-06",945,"45",11]
["2009-11-07",945,"45",11]
["2009-11-08",945,"45",11]
["2009-11-09",946,"46",11]
["2009-11-10",946,"46",11]
["2009-11-11",946,"46",11]
["2009-11-12",946,"46",11]
["2009-11-13",946,"46",11]
["2009-11-14",946,"46",11]
["2009-11-15",946,"46",11]
["2009-11-16",947,"47",11]
["2009-11-17",947,"47",11]
["2009-11-18",947,"47",11]
["2009-11-19",947,"47",11]
["2009-11-20",947,"47",11]
["2009-11-21",947,"47",11]
["2009-11-22",947,"47",11]
["2009-11-23",948,"48",11]
["2009-11-24",948,"48",11]
["2009-11-25",948,"48",11]
["2009-11-26",948,"48",11]
["2009-11-27",948,"48",11]
["2009-11-28",948,"48",11]
["2009-11-29",948,"48",11]
["2009-11-30",949,"49",11]
["2009-12-01",949,"49",12]
["2009-12-02",949,"49",12]
["2009-12-03",949,"49",12]
["2009-12-04",949,"49",12]
["2009-12-05",949,"49",12]
["2009-12-06",949,"49",12]
["2009-12-07",950,"50",12]
["2009-12-08",950,"50",12]
["2009-12-09",950,"50",12]
["2009-12-10",950,"50",12]
["2009-12-11",950,"50",12]
["2009-12-12",950,"50",12]
["2009-12-13",950,"50",12]
["2009-12-14",951,"51",12]
["2009-12-15",951,"51",12]
["2009-12-16",951,"51",12]
["2009-12-17",951,"51",12]
["2009-12-18",951,"51",12]
["2009-12-19",951,"51",12]
["2009-12-20",951,{"$f":"RIGHT(B323,2)","v":"51"},{"$f":"MONTH(A323)","v":12}]
["2009-12-21",952,"52",12]
["2009-12-22",952,"52",12]
["2009-12-23",952,"52",12]
["2009-12-24",952,"52",12]
["2009-12-25",952,"52",12]
["2009-12-26",952,"52",12]
["2009-12-27",952,"52",12]
["2009-12-28",953,"53",12]
["2009-12-29",953,"53",12]
["2009-12-30",953,"53",12]
["2009-12-31",953,"53",12]
["2010-01-01",953,"53",1]
["2010-01-02",953,"53",1]
["2010-01-03",953,"53",1]
["2010-01-04",1001,"01",1]
["2010-01-05",1001,"01",1]
["2010-01-06",1001,"01",1]
["2010-01-07",1001,"01",1]
["2010-01-08",1001,"01",1]
["2010-01-09",1001,"01",1]
["2010-01-10",1001,"01",1]
["2010-01-11",1002,"02",1]
["2010-01-12",1002,"02",1]
["2010-01-13",1002,"02",1]
["2010-01-14",1002,"02",1]
["2010-01-15",1002,"02",1]
["2010-01-16",1002,"02",1]
["2010-01-17",1002,"02",1]
["2010-01-18",1003,"03",1]
["2010-01-19",1003,"03",1]
["2010-01-20",1003,"03",1]
["2010-01-21",1003,"03",1]
["2010-01-22",1003,"03",1]
["2010-01-23",1003,"03",1]
["2010-01-24",1003,"03",1]
["2010-01-25",1004,"04",1]
["2010-01-26",1004,"04",1]
["2010-01-27",1004,"04",1]
["2010-01-28",1004,"04",1]
["2010-01-29",1004,"04",1]
["2010-01-30",1004,"04",1]
["2010-01-31",1004,"04",1]
["2010-02-01",1005,"05",2]
["2010-02-02",1005,"05",2]
["2010-02-03",1005,"05",2]
["2010-02-04",1005,"05",2]
["2010-02-05",1005,"05",2]
["2010-02-06",1005,"05",2]
["2010-02-07",1005,"05",2]
["2010-02-08",1006,"06",2]
["2010-02-09",1006,"06",2]
["2010-02-10",1006,"06",2]
["2010-02-11",1006,"06",2]
["2010-02-12",1006,"06",2]
["2010-02-13",1006,"06",2]
["2010-02-14",1006,"06",2]
["2010-02-15",1007,"07",2]
["2010-02-16",1007,"07",2]
["2010-02-17",1007,"07",2]
["2010-02-18",1007,"07",2]
["2010-02-19",1007,"07",2]
["2010-02-20",1007,"07",2]
["2010-02-21",1007,"07",2]
["2010-02-22",1008,{"$f":"RIGHT(B387,2)","v":"08"},{"$f":"MONTH(A387)","v":2}]
["2010-02-23",1008,"08",2]
["2010-02-24",1008,"08",2]
["2010-02-25",1008,"08",2]
["2010-02-26",1008,"08",2]
["2010-02-27",1008,"08",2]
["2010-02-28",1008,"08",2]
["2010-03-01",1009,"09",3]
["2010-03-02",1009,"09",3]
["2010-03-03",1009,"09",3]
["2010-03-04",1009,"09",3]
["2010-03-05",1009,"09",3]
["2010-03-06",1009,"09",3]
["2010-03-07",1009,"09",3]
["2010-03-08",1010,"10",3]
["2010-03-09",1010,"10",3]
["2010-03-10",1010,"10",3]
["2010-03-11",1010,"10",3]
["2010-03-12",1010,"10",3]
["2010-03-13",1010,"10",3]
["2010-03-14",1010,"10",3]
["2010-03-15",1011,"11",3]
["2010-03-16",1011,"11",3]
["2010-03-17",1011,"11",3]
["2010-03-18",1011,"11",3]
["2010-03-19",1011,"11",3]
["2010-03-20",1011,"11",3]
["2010-03-21",1011,"11",3]
["2010-03-22",1012,"12",3]
["2010-03-23",1012,"12",3]
["2010-03-24",1012,"12",3]
["2010-03-25",1012,"12",3]
["2010-03-26",1012,"12",3]
["2010-03-27",1012,"12",3]
["2010-03-28",1012,"12",3]
["2010-03-29",1013,"13",3]
["2010-03-30",1013,"13",3]
["2010-03-31",1013,"13",3]
["2010-04-01",1013,"13",4]
["2010-04-02",1013,"13",4]
["2010-04-03",1013,"13",4]
["2010-04-04",1013,"13",4]
["2010-04-05",{"$f":"B422+1","v":1014},"14",4]
["2010-04-06",{"$f":"B423+1","v":1014},"14",4]
["2010-04-07",1014,"14",4]
["2010-04-08",1014,"14",4]
["2010-04-09",1014,"14",4]
["2010-04-10",1014,"14",4]
["2010-04-11",1014,"14",4]
["2010-04-12",{"$f":"B429+1","v":1015},"15",4]
["2010-04-13",{"$f":"B430+1","v":1015},"15",4]
["2010-04-14",1015,"15",4]
["2010-04-15",1015,"15",4]
["2010-04-16",1015,"15",4]
["2010-04-17",1015,"15",4]
["2010-04-18",1015,"15",4]
["2010-04-19",1016,"16",4]
["2010-04-20",1016,"16",4]
["2010-04-21",1016,"16",4]
["2010-04-22",1016,"16",4]
["2010-04-23",1016,"16",4]
["2010-04-24",1016,"16",4]
["2010-04-25",1016,"16",4]
["2010-04-26",1017,"17",4]
["2010-04-27",1017,{"$f":"RIGHT(B451,2)","v":"17"},{"$f":"MONTH(A451)","v":4}]
["2010-04-28",1017,"17",4]
["2010-04-29",1017,"17",4]
["2010-04-30",1017,"17",4]
["2010-05-01",1017,"17",5]
["2010-05-02",1017,"17",5]
["2010-05-03",1018,"18",5]
["2010-05-04",1018,"18",5]
["2010-05-05",1018,"18",5]
["2010-05-06",1018,"18",5]
["2010-05-07",1018,"18",5]
["2010-05-08",1018,"18",5]
["2010-05-09",1018,"18",5]
["2010-05-10",1019,"19",5]
["2010-05-11",1019,"19",5]
["2010-05-12",1019,"19",5]
["2010-05-13",1019,"19",5]
["2010-05-14",1019,"19",5]
["2010-05-15",1019,"19",5]
["2010-05-16",1019,"19",5]
["2010-05-17",1020,"20",5]
["2010-05-18",1020,"20",5]
["2010-05-19",1020,"20",5]
["2010-05-20",1020,"20",5]
["2010-05-21",1020,"20",5]
["2010-05-22",1020,"20",5]
["2010-05-23",1020,"20",5]
["2010-05-24",1021,"21",5]
["2010-05-25",1021,"21",5]
["2010-05-26",1021,"21",5]
["2010-05-27",1021,"21",5]
["2010-05-28",1021,"21",5]
["2010-05-29",1021,"21",5]
["2010-05-30",1021,"21",5]
["2010-05-31",1022,"22",5]
["2010-06-01",1022,"22",6]
["2010-06-02",1022,"22",6]
["2010-06-03",1022,"22",6]
["2010-06-04",1022,"22",6]
["2010-06-05",1022,"22",6]
["2010-06-06",1022,"22",6]
["2010-06-07",1023,"23",6]
["2010-06-08",1023,"23",6]
["2010-06-09",1023,"23",6]
["2010-06-10",1023,"23",6]
["2010-06-11",1023,"23",6]
["2010-06-12",1023,"23",6]
["2010-06-13",1023,"23",6]
["2010-06-14",1024,"24",6]
["2010-06-15",1024,"24",6]
["2010-06-16",{"$f":"B494+1","v":1024},"24",6]
["2010-06-17",1024,"24",6]
["2010-06-18",1024,"24",6]
["2010-06-19",1024,"24",6]
["2010-06-20",1024,"24",6]
["2010-06-21",1025,"25",6]
["2010-06-22",1025,"25",6]
["2010-06-23",1025,"25",6]
["2010-06-24",1025,"25",6]
["2010-06-25",1025,"25",6]
["2010-06-26",1025,"25",6]
["2010-06-27",1025,"25",6]
["2010-06-28",1026,"26",6]
["2010-06-29",1026,"26",6]
["2010-06-30",1026,{"$f":"RIGHT(B515,2)","v":"26"},{"$f":"MONTH(A515)","v":6}]
["2010-07-01",1026,"26",7]
["2010-07-02",1026,"26",7]
["2010-07-03",1026,"26",7]
["2010-07-04",1026,"26",7]
["2010-07-05",1027,"27",7]
["2010-07-06",1027,"27",7]
["2010-07-07",1027,"27",7]
["2010-07-08",1027,"27",7]
["2010-07-09",1027,"27",7]
["2010-07-10",1027,"27",7]
["2010-07-11",1027,"27",7]
["2010-07-12",1028,"28",7]
["2010-07-13",1028,"28",7]
["2010-07-14",1028,"28",7]
["2010-07-15",1028,"28",7]
["2010-07-16",1028,"28",7]
["2010-07-17",1028,"28",7]
["2010-07-18",1028,"28",7]
["2010-07-19",1029,"29",7]
["2010-07-20",1029,"29",7]
["2010-07-21",1029,"29",7]
["2010-07-22",1029,"29",7]
["2010-07-23",1029,"29",7]
["2010-07-24",1029,"29",7]
["2010-07-25",1029,"29",7]
["2010-07-26",1030,"30",7]
["2010-07-27",1030,"30",7]
["2010-07-28",1030,"30",7]
["2010-07-29",1030,"30",7]
["2010-07-30",1030,"30",7]
["2010-07-31",1030,"30",7]
["2010-08-01",1030,"30",8]
["2010-08-02",1031,"31",8]
["2010-08-03",1031,"31",8]
["2010-08-04",1031,"31",8]
["2010-08-05",1031,"31",8]
["2010-08-06",1031,"31",8]
["2010-08-07",1031,"31",8]
["2010-08-08",1031,"31",8]
["2010-08-09",1032,"32",8]
["2010-08-10",1032,"32",8]
["2010-08-11",1032,"32",8]
["2010-08-12",1032,"32",8]
["2010-08-13",1032,"32",8]
["2010-08-14",1032,"32",8]
["2010-08-15",1032,"32",8]
["2010-08-16",1033,"33",8]
["2010-08-17",1033,"33",8]
["2010-08-18",1033,"33",8]
["2010-08-19",{"$f":"B558+1","v":1033},"33",8]
["2010-08-20",1033,"33",8]
["2010-08-21",1033,"33",8]
["2010-08-22",1033,"33",8]
["2010-08-23",1034,"34",8]
["2010-08-24",1034,"34",8]
["2010-08-25",1034,"34",8]
["2010-08-26",1034,"34",8]
["2010-08-27",1034,"34",8]
["2010-08-28",1034,"34",8]
["2010-08-29",1034,"34",8]
["2010-08-30",1035,"35",8]
["2010-08-31",1035,"35",8]
["2010-09-01",1035,"35",9]
["2010-09-02",1035,{"$f":"RIGHT(B579,2)","v":"35"},{"$f":"MONTH(A579)","v":9}]
["2010-09-03",1035,"35",9]
["2010-09-04",1035,"35",9]
["2010-09-05",1035,"35",9]
["2010-09-06",1036,"36",9]
["2010-09-07",1036,"36",9]
["2010-09-08",1036,"36",9]
["2010-09-09",1036,"36",9]
["2010-09-10",1036,"36",9]
["2010-09-11",1036,"36",9]
["2010-09-12",1036,"36",9]
["2010-09-13",1037,"37",9]
["2010-09-14",1037,"37",9]
["2010-09-15",1037,"37",9]
["2010-09-16",1037,"37",9]
["2010-09-17",1037,"37",9]
["2010-09-18",1037,"37",9]
["2010-09-19",1037,"37",9]
["2010-09-20",1038,"38",9]
["2010-09-21",1038,"38",9]
["2010-09-22",1038,"38",9]
["2010-09-23",1038,"38",9]
["2010-09-24",1038,"38",9]
["2010-09-25",1038,"38",9]
["2010-09-26",1038,"38",9]
["2010-09-27",1039,"39",9]
["2010-09-28",1039,"39",9]
["2010-09-29",1039,"39",9]
["2010-09-30",1039,"39",9]
["2010-10-01",1039,"39",10]
["2010-10-02",1039,"39",10]
["2010-10-03",1039,"39",10]
["2010-10-04",1040,"40",10]
["2010-10-05",1040,"40",10]
["2010-10-06",1040,"40",10]
["2010-10-07",1040,"40",10]
["2010-10-08",1040,"40",10]
["2010-10-09",1040,"40",10]
["2010-10-10",1040,"40",10]
["2010-10-11",1041,"41",10]
["2010-10-12",1041,"41",10]
["2010-10-13",1041,"41",10]
["2010-10-14",1041,"41",10]
["2010-10-15",1041,"41",10]
["2010-10-16",1041,"41",10]
["2010-10-17",1041,"41",10]
["2010-10-18",1042,"42",10]
["2010-10-19",1042,"42",10]
["2010-10-20",1042,"42",10]
["2010-10-21",1042,"42",10]
["2010-10-22",{"$f":"B622+1","v":1042},"42",10]
["2010-10-23",1042,"42",10]
["2010-10-24",1042,"42",10]
["2010-10-25",1043,"43",10]
["2010-10-26",1043,"43",10]
["2010-10-27",1043,"43",10]
["2010-10-28",1043,"43",10]
["2010-10-29",1043,"43",10]
["2010-10-30",1043,"43",10]
["2010-10-31",1043,"43",10]
["2010-11-01",1044,"44",11]
["2010-11-02",1044,"44",11]
["2010-11-03",1044,"44",11]
["2010-11-04",1044,"44",11]
["2010-11-05",1044,{"$f":"RIGHT(B643,2)","v":"44"},{"$f":"MONTH(A643)","v":11}]
["2010-11-06",1044,"44",11]
["2010-11-07",1044,"44",11]
["2010-11-08",1045,"45",11]
["2010-11-09",1045,"45",11]
["2010-11-10",1045,"45",11]
["2010-11-11",1045,"45",11]
["2010-11-12",1045,"45",11]
["2010-11-13",1045,"45",11]
["2010-11-14",1045,"45",11]
["2010-11-15",1046,"46",11]
["2010-11-16",1046,"46",11]
["2010-11-17",1046,"46",11]
["2010-11-18",1046,"46",11]
["2010-11-19",1046,"46",11]
["2010-11-20",1046,"46",11]
["2010-11-21",1046,"46",11]
["2010-11-22",1047,"47",11]
["2010-11-23",1047,"47",11]
["2010-11-24",1047,"47",11]
["2010-11-25",1047,"47",11]
["2010-11-26",1047,"47",11]
["2010-11-27",1047,"47",11]
["2010-11-28",1047,"47",11]
["2010-11-29",1048,"48",11]
["2010-11-30",1048,"48",11]
["2010-12-01",1048,"48",12]
["2010-12-02",1048,"48",12]
["2010-12-03",1048,"48",12]
["2010-12-04",1048,"48",12]
["2010-12-05",1048,"48",12]
["2010-12-06",1049,"49",12]
["2010-12-07",1049,"49",12]
["2010-12-08",1049,"49",12]
["2010-12-09",1049,"49",12]
["2010-12-10",1049,"49",12]
["2010-12-11",1049,"49",12]
["2010-12-12",1049,"49",12]
["2010-12-13",1050,"50",12]
["2010-12-14",1050,"50",12]
["2010-12-15",1050,"50",12]
["2010-12-16",1050,"50",12]
["2010-12-17",1050,"50",12]
["2010-12-18",1050,"50",12]
["2010-12-19",1050,"50",12]
["2010-12-20",1051,"51",12]
["2010-12-21",1051,"51",12]
["2010-12-22",1051,"51",12]
["2010-12-23",1051,"51",12]
["2010-12-24",1051,"51",12]
["2010-12-25",{"$f":"B686+1","v":1051},"51",12]
["2010-12-26",1051,"51",12]
["2010-12-27",1052,"52",12]
["2010-12-28",1052,"52",12]
["2010-12-29",1052,"52",12]
["2010-12-30",1052,"52",12]
["2010-12-31",1052,"52",12]
["2011-01-01",1052,"52",1]
["2011-01-02",1052,"52",1]
["2011-01-03",1101,"01",1]
["2011-01-04",1101,"01",1]
["2011-01-05",1101,"01",1]
["2011-01-06",1101,"01",1]
["2011-01-07",1101,"01",1]
["2011-01-08",1101,{"$f":"RIGHT(B707,2)","v":"01"},{"$f":"MONTH(A707)","v":1}]
["2011-01-09",1101,"01",1]
["2011-01-10",{"$f":"B702+1","v":1102},"02",1]
["2011-01-11",{"$f":"B703+1","v":1102},"02",1]
["2011-01-12",1102,"02",1]
["2011-01-13",1102,"02",1]
["2011-01-14",1102,"02",1]
["2011-01-15",1102,"02",1]
["2011-01-16",1102,"02",1]
["2011-01-17",1103,"03",1]
["2011-01-18",1103,"03",1]
["2011-01-19",1103,"03",1]
["2011-01-20",1103,"03",1]
["2011-01-21",1103,"03",1]
["2011-01-22",1103,"03",1]
["2011-01-23",1103,"03",1]
["2011-01-24",1104,"04",1]
["2011-01-25",1104,"04",1]
["2011-01-26",1104,"04",1]
["2011-01-27",1104,"04",1]
["2011-01-28",1104,"04",1]
["2011-01-29",1104,"04",1]
["2011-01-30",1104,"04",1]
["2011-01-31",1105,"05",1]
["2011-02-01",1105,"05",2]
["2011-02-02",1105,"05",2]
["2011-02-03",1105,"05",2]
["2011-02-04",1105,"05",2]
["2011-02-05",1105,"05",2]
["2011-02-06",1105,"05",2]
["2011-02-07",1106,"06",2]
["2011-02-08",1106,"06",2]
["2011-02-09",1106,"06",2]
["2011-02-10",1106,"06",2]
["2011-02-11",1106,"06",2]
["2011-02-12",1106,"06",2]
["2011-02-13",1106,"06",2]
["2011-02-14",1107,"07",2]
["2011-02-15",1107,"07",2]
["2011-02-16",1107,"07",2]
["2011-02-17",1107,"07",2]
["2011-02-18",1107,"07",2]
["2011-02-19",1107,"07",2]
["2011-02-20",1107,"07",2]
["2011-02-21",1108,"08",2]
["2011-02-22",1108,"08",2]
["2011-02-23",1108,"08",2]
["2011-02-24",1108,"08",2]
["2011-02-25",1108,"08",2]
["2011-02-26",1108,"08",2]
["2011-02-27",1108,"08",2]
["2011-02-28",1109,"09",2]
["2011-03-01",1109,"09",3]
["2011-03-02",1109,"09",3]
["2011-03-03",1109,"09",3]
["2011-03-04",1109,"09",3]
["2011-03-05",1109,"09",3]
["2011-03-06",1109,"09",3]
["2011-03-07",1110,"10",3]
["2011-03-08",1110,"10",3]
["2011-03-09",1110,"10",3]
["2011-03-10",1110,"10",3]
["2011-03-11",1110,"10",3]
["2011-03-12",1110,"10",3]
["2011-03-13",1110,{"$f":"RIGHT(B771,2)","v":"10"},{"$f":"MONTH(A771)","v":3}]
["2011-03-14",1111,"11",3]
["2011-03-15",1111,"11",3]
["2011-03-16",{"$f":"B767+1","v":1111},"11",3]
["2011-03-17",1111,"11",3]
["2011-03-18",1111,"11",3]
["2011-03-19",1111,"11",3]
["2011-03-20",1111,"11",3]
["2011-03-21",1112,"12",3]
["2011-03-22",1112,"12",3]
["2011-03-23",1112,"12",3]
["2011-03-24",1112,"12",3]
["2011-03-25",1112,"12",3]
["2011-03-26",1112,"12",3]
["2011-03-27",1112,"12",3]
["2011-03-28",1113,"13",3]
["2011-03-29",1113,"13",3]
["2011-03-30",1113,"13",3]
["2011-03-31",1113,"13",3]
["2011-04-01",1113,"13",4]
["2011-04-02",1113,"13",4]
["2011-04-03",1113,"13",4]
["2011-04-04",1114,"14",4]
["2011-04-05",1114,"14",4]
["2011-04-06",1114,"14",4]
["2011-04-07",1114,"14",4]
["2011-04-08",1114,"14",4]
["2011-04-09",1114,"14",4]
["2011-04-10",1114,"14",4]
["2011-04-11",1115,"15",4]
["2011-04-12",1115,"15",4]
["2011-04-13",1115,"15",4]
["2011-04-14",1115,"15",4]
["2011-04-15",1115,"15",4]
["2011-04-16",1115,"15",4]
["2011-04-17",1115,"15",4]
["2011-04-18",1116,"16",4]
["2011-04-19",1116,"16",4]
["2011-04-20",1116,"16",4]
["2011-04-21",1116,"16",4]
["2011-04-22",1116,"16",4]
["2011-04-23",1116,"16",4]
["2011-04-24",1116,"16",4]
["2011-04-25",1117,"17",4]
["2011-04-26",1117,"17",4]
["2011-04-27",1117,"17",4]
["2011-04-28",1117,"17",4]
["2011-04-29",1117,"17",4]
["2011-04-30",1117,"17",4]
["2011-05-01",1117,"17",5]
["2011-05-02",1118,"18",5]
["2011-05-03",1118,"18",5]
["2011-05-04",1118,"18",5]
["2011-05-05",1118,"18",5]
["2011-05-06",1118,"18",5]
["2011-05-07",1118,"18",5]
["2011-05-08",1118,"18",5]
["2011-05-09",1119,"19",5]
["2011-05-10",1119,"19",5]
["2011-05-11",1119,"19",5]
["2011-05-12",1119,"19",5]
["2011-05-13",1119,"19",5]
["2011-05-14",1119,"19",5]
["2011-05-15",1119,"19",5]
["2011-05-16",1120,{"$f":"RIGHT(B835,2)","v":"20"},{"$f":"MONTH(A835)","v":5}]
["2011-05-17",1120,"20",5]
["2011-05-18",1120,"20",5]
["2011-05-19",{"$f":"B831+1","v":1120},"20",5]
["2011-05-20",1120,"20",5]
["2011-05-21",1120,"20",5]
["2011-05-22",1120,"20",5]
["2011-05-23",1121,"21",5]
["2011-05-24",1121,"21",5]
["2011-05-25",1121,"21",5]
["2011-05-26",1121,"21",5]
["2011-05-27",1121,"21",5]
["2011-05-28",1121,"21",5]
["2011-05-29",1121,"21",5]
["2011-05-30",1122,"22",5]
["2011-05-31",1122,"22",5]
["2011-06-01",1122,"22",6]
["2011-06-02",1122,"22",6]
["2011-06-03",1122,"22",6]
["2011-06-04",1122,"22",6]
["2011-06-05",1122,"22",6]
["2011-06-06",1123,"23",6]
["2011-06-07",1123,"23",6]
["2011-06-08",1123,"23",6]
["2011-06-09",1123,"23",6]
["2011-06-10",1123,"23",6]
["2011-06-11",1123,"23",6]
["2011-06-12",1123,"23",6]
["2011-06-13",1124,"24",6]
["2011-06-14",1124,"24",6]
["2011-06-15",1124,"24",6]
["2011-06-16",1124,"24",6]
["2011-06-17",1124,"24",6]
["2011-06-18",1124,"24",6]
["2011-06-19",1124,"24",6]
["2011-06-20",1125,"25",6]
["2011-06-21",1125,"25",6]
["2011-06-22",1125,"25",6]
["2011-06-23",1125,"25",6]
["2011-06-24",1125,"25",6]
["2011-06-25",1125,"25",6]
["2011-06-26",1125,"25",6]
["2011-06-27",1126,"26",6]
["2011-06-28",1126,"26",6]
["2011-06-29",1126,"26",6]
["2011-06-30",1126,"26",6]
["2011-07-01",1126,"26",7]
["2011-07-02",1126,"26",7]
["2011-07-03",1126,"26",7]
["2011-07-04",1127,"27",7]
["2011-07-05",1127,"27",7]
["2011-07-06",1127,"27",7]
["2011-07-07",1127,"27",7]
["2011-07-08",1127,"27",7]
["2011-07-09",1127,"27",7]
["2011-07-10",1127,"27",7]
["2011-07-11",1128,"28",7]
["2011-07-12",1128,"28",7]
["2011-07-13",1128,"28",7]
["2011-07-14",1128,"28",7]
["2011-07-15",1128,"28",7]
["2011-07-16",1128,"28",7]
["2011-07-17",1128,"28",7]
["2011-07-18",1129,"29",7]
["2011-07-19",1129,{"$f":"RIGHT(B899,2)","v":"29"},{"$f":"MONTH(A899)","v":7}]
["2011-07-20",1129,"29",7]
["2011-07-21",1129,"29",7]
["2011-07-22",{"$f":"B895+1","v":1129},"29",7]
["2011-07-23",1129,"29",7]
["2011-07-24",1129,"29",7]
["2011-07-25",1130,"30",7]
["2011-07-26",1130,"30",7]
["2011-07-27",1130,"30",7]
["2011-07-28",1130,"30",7]
["2011-07-29",1130,"30",7]
["2011-07-30",1130,"30",7]
["2011-07-31",1130,"30",7]
["2011-08-01",1131,"31",8]
["2011-08-02",1131,"31",8]
["2011-08-03",1131,"31",8]
["2011-08-04",1131,"31",8]
["2011-08-05",1131,"31",8]
["2011-08-06",1131,"31",8]
["2011-08-07",1131,"31",8]
["2011-08-08",1132,"32",8]
["2011-08-09",1132,"32",8]
["2011-08-10",1132,"32",8]
["2011-08-11",1132,"32",8]
["2011-08-12",1132,"32",8]
["2011-08-13",1132,"32",8]
["2011-08-14",1132,"32",8]
["2011-08-15",1133,"33",8]
["2011-08-16",1133,"33",8]
["2011-08-17",1133,"33",8]
["2011-08-18",1133,"33",8]
["2011-08-19",1133,"33",8]
["2011-08-20",1133,"33",8]
["2011-08-21",1133,"33",8]
["2011-08-22",1134,"34",8]
["2011-08-23",1134,"34",8]
["2011-08-24",1134,"34",8]
["2011-08-25",1134,"34",8]
["2011-08-26",1134,"34",8]
["2011-08-27",1134,"34",8]
["2011-08-28",1134,"34",8]
["2011-08-29",1135,"35",8]
["2011-08-30",1135,"35",8]
["2011-08-31",1135,"35",8]
["2011-09-01",1135,"35",9]
["2011-09-02",1135,"35",9]
["2011-09-03",1135,"35",9]
["2011-09-04",1135,"35",9]
["2011-09-05",1136,"36",9]
["2011-09-06",1136,"36",9]
["2011-09-07",1136,"36",9]
["2011-09-08",1136,"36",9]
["2011-09-09",1136,"36",9]
["2011-09-10",1136,"36",9]
["2011-09-11",1136,"36",9]
["2011-09-12",1137,"37",9]
["2011-09-13",1137,"37",9]
["2011-09-14",1137,"37",9]
["2011-09-15",1137,"37",9]
["2011-09-16",1137,"37",9]
["2011-09-17",1137,"37",9]
["2011-09-18",1137,"37",9]
["2011-09-19",1138,"38",9]
["2011-09-20",1138,"38",9]
["2011-09-21",1138,{"$f":"RIGHT(B963,2)","v":"38"},{"$f":"MONTH(A963)","v":9}]
["2011-09-22",1138,"38",9]
["2011-09-23",1138,"38",9]
["2011-09-24",{"$f":"B959+1","v":1138},"38",9]
["2011-09-25",1138,"38",9]
["2011-09-26",1139,"39",9]
["2011-09-27",1139,"39",9]
["2011-09-28",1139,"39",9]
["2011-09-29",1139,"39",9]
["2011-09-30",1139,"39",9]
["2011-10-01",1139,"39",10]
["2011-10-02",1139,"39",10]
["2011-10-03",1140,"40",10]
["2011-10-04",1140,"40",10]
["2011-10-05",1140,"40",10]
["2011-10-06",1140,"40",10]
["2011-10-07",1140,"40",10]
["2011-10-08",1140,"40",10]
["2011-10-09",1140,"40",10]
["2011-10-10",1141,"41",10]
["2011-10-11",1141,"41",10]
["2011-10-12",1141,"41",10]
["2011-10-13",1141,"41",10]
["2011-10-14",1141,"41",10]
["2011-10-15",1141,"41",10]
["2011-10-16",1141,"41",10]
["2011-10-17",1142,"42",10]
["2011-10-18",1142,"42",10]
["2011-10-19",1142,"42",10]
["2011-10-20",1142,"42",10]
["2011-10-21",1142,"42",10]
["2011-10-22",1142,"42",10]
["2011-10-23",1142,"42",10]
["2011-10-24",1143,"43",10]
["2011-10-25",1143,"43",10]
["2011-10-26",1143,"43",10]
["2011-10-27",1143,"43",10]
["2011-10-28",1143,"43",10]
["2011-10-29",1143,"43",10]
["2011-10-30",1143,"43",10]
["2011-10-31",1144,"44",10]
["2011-11-01",1144,"44",11]
["2011-11-02",1144,"44",11]
["2011-11-03",1144,"44",11]
["2011-11-04",1144,"44",11]
["2011-11-05",1144,"44",11]
["2011-11-06",1144,"44",11]
["2011-11-07",1145,"45",11]
["2011-11-08",1145,"45",11]
["2011-11-09",1145,"45",11]
["2011-11-10",1145,"45",11]
["2011-11-11",1145,"45",11]
["2011-11-12",1145,"45",11]
["2011-11-13",1145,"45",11]
["2011-11-14",1146,"46",11]
["2011-11-15",1146,"46",11]
["2011-11-16",1146,"46",11]
["2011-11-17",1146,"46",11]
["2011-11-18",1146,"46",11]
["2011-11-19",1146,"46",11]
["2011-11-20",1146,"46",11]
["2011-11-21",1147,"47",11]
["2011-11-22",1147,"47",11]
["2011-11-23",1147,"47",11]
["2011-11-24",1147,{"$f":"RIGHT(B1027,2)","v":"47"},{"$f":"MONTH(A1027)","v":11}]
["2011-11-25",1147,"47",11]
["2011-11-26",1147,"47",11]
["2011-11-27",{"$f":"B1023+1","v":1147},"47",11]
["2011-11-28",1148,"48",11]
["2011-11-29",1148,"48",11]
["2011-11-30",1148,"48",11]
["2011-12-01",1148,"48",12]
["2011-12-02",1148,"48",12]
["2011-12-03",1148,"48",12]
["2011-12-04",1148,"48",12]
["2011-12-05",1149,"49",12]
["2011-12-06",1149,"49",12]
["2011-12-07",1149,"49",12]
["2011-12-08",1149,"49",12]
["2011-12-09",1149,"49",12]
["2011-12-10",1149,"49",12]
["2011-12-11",1149,"49",12]
["2011-12-12",1150,"50",12]
["2011-12-13",1150,"50",12]
["2011-12-14",1150,"50",12]
["2011-12-15",1150,"50",12]
["2011-12-16",1150,"50",12]
["2011-12-17",1150,"50",12]
["2011-12-18",1150,"50",12]
["2011-12-19",1151,"51",12]
["2011-12-20",1151,"51",12]
["2011-12-21",1151,"51",12]
["2011-12-22",1151,"51",12]
["2011-12-23",1151,"51",12]
["2011-12-24",1151,"51",12]
["2011-12-25",1151,"51",12]
["2011-12-26",1152,"52",12]
["2011-12-27",1152,"52",12]
["2011-12-28",1152,"52",12]
["2011-12-29",1152,"52",12]
["2011-12-30",1152,"52",12]
["2011-12-31",1152,"52",12]
["2012-01-01",1152,"52",1]
["2012-01-02",1201,"01",1]
["2012-01-03",1201,"01",1]
["2012-01-04",1201,"01",1]
["2012-01-05",1201,"01",1]
["2012-01-06",1201,"01",1]
["2012-01-07",1201,"01",1]
["2012-01-08",1201,"01",1]
["2012-01-09",{"$f":"B1066+1","v":1202},"02",1]
["2012-01-10",{"$f":"B1067+1","v":1202},"02",1]
["2012-01-11",1202,"02",1]
["2012-01-12",1202,"02",1]
["2012-01-13",1202,"02",1]
["2012-01-14",1202,"02",1]
["2012-01-15",1202,"02",1]
["2012-01-16",1203,"03",1]
["2012-01-17",1203,"03",1]
["2012-01-18",1203,"03",1]
["2012-01-19",1203,"03",1]
["2012-01-20",1203,"03",1]
["2012-01-21",1203,"03",1]
["2012-01-22",1203,"03",1]
["2012-01-23",1204,"04",1]
["2012-01-24",1204,"04",1]
["2012-01-25",1204,"04",1]
["2012-01-26",1204,"04",1]
["2012-01-27",1204,{"$f":"RIGHT(B1091,2)","v":"04"},{"$f":"MONTH(A1091)","v":1}]
["2012-01-28",1204,"04",1]
["2012-01-29",1204,"04",1]
["2012-01-30",1205,"05",1]
["2012-01-31",1205,"05",1]
["2012-02-01",1205,"05",2]
["2012-02-02",1205,"05",2]
["2012-02-03",1205,"05",2]
["2012-02-04",1205,"05",2]
["2012-02-05",1205,"05",2]
["2012-02-06",1206,"06",2]
["2012-02-07",1206,"06",2]
["2012-02-08",1206,"06",2]
["2012-02-09",1206,"06",2]
["2012-02-10",1206,"06",2]
["2012-02-11",1206,"06",2]
["2012-02-12",1206,"06",2]
["2012-02-13",1207,"07",2]
["2012-02-14",1207,"07",2]
["2012-02-15",1207,"07",2]
["2012-02-16",1207,"07",2]
["2012-02-17",1207,"07",2]
["2012-02-18",1207,"07",2]
["2012-02-19",1207,"07",2]
["2012-02-20",1208,"08",2]
["2012-02-21",1208,"08",2]
["2012-02-22",1208,"08",2]
["2012-02-23",1208,"08",2]
["2012-02-24",1208,"08",2]
["2012-02-25",1208,"08",2]
["2012-02-26",1208,"08",2]
["2012-02-27",1209,"09",2]
["2012-02-28",1209,"09",2]
["2012-02-29",1209,"09",2]
["2012-03-01",1209,"09",3]
["2012-03-02",1209,"09",3]
["2012-03-03",1209,"09",3]
["2012-03-04",1209,"09",3]
["2012-03-05",1210,"10",3]
["2012-03-06",1210,"10",3]
["2012-03-07",1210,"10",3]
["2012-03-08",1210,"10",3]
["2012-03-09",1210,"10",3]
["2012-03-10",1210,"10",3]
["2012-03-11",1210,"10",3]
["2012-03-12",1211,"11",3]
["2012-03-13",1211,"11",3]
["2012-03-14",{"$f":"B1131+1","v":1211},"11",3]
["2012-03-15",1211,"11",3]
["2012-03-16",1211,"11",3]
["2012-03-17",1211,"11",3]
["2012-03-18",1211,"11",3]
["2012-03-19",1212,"12",3]
["2012-03-20",1212,"12",3]
["2012-03-21",1212,"12",3]
["2012-03-22",1212,"12",3]
["2012-03-23",1212,"12",3]
["2012-03-24",1212,"12",3]
["2012-03-25",1212,"12",3]
["2012-03-26",1213,"13",3]
["2012-03-27",1213,"13",3]
["2012-03-28",1213,"13",3]
["2012-03-29",1213,"13",3]
["2012-03-30",1213,"13",3]
["2012-03-31",1213,{"$f":"RIGHT(B1155,2)","v":"13"},{"$f":"MONTH(A1155)","v":3}]
["2012-04-01",1213,"13",4]
["2012-04-02",1214,"14",4]
["2012-04-03",1214,"14",4]
["2012-04-04",1214,"14",4]
["2012-04-05",1214,"14",4]
["2012-04-06",1214,"14",4]
["2012-04-07",1214,"14",4]
["2012-04-08",1214,"14",4]
["2012-04-09",1215,"15",4]
["2012-04-10",1215,"15",4]
["2012-04-11",1215,"15",4]
["2012-04-12",1215,"15",4]
["2012-04-13",1215,"15",4]
["2012-04-14",1215,"15",4]
["2012-04-15",1215,"15",4]
["2012-04-16",1216,"16",4]
["2012-04-17",1216,"16",4]
["2012-04-18",1216,"16",4]
["2012-04-19",1216,"16",4]
["2012-04-20",1216,"16",4]
["2012-04-21",1216,"16",4]
["2012-04-22",1216,"16",4]
["2012-04-23",1217,"17",4]
["2012-04-24",1217,"17",4]
["2012-04-25",1217,"17",4]
["2012-04-26",1217,"17",4]
["2012-04-27",1217,"17",4]
["2012-04-28",1217,"17",4]
["2012-04-29",1217,"17",4]
["2012-04-30",1218,"18",4]
["2012-05-01",1218,"18",5]
["2012-05-02",1218,"18",5]
["2012-05-03",1218,"18",5]
["2012-05-04",1218,"18",5]
["2012-05-05",1218,"18",5]
["2012-05-06",1218,"18",5]
["2012-05-07",1219,"19",5]
["2012-05-08",1219,"19",5]
["2012-05-09",1219,"19",5]
["2012-05-10",1219,"19",5]
["2012-05-11",1219,"19",5]
["2012-05-12",1219,"19",5]
["2012-05-13",1219,"19",5]
["2012-05-14",1220,"20",5]
["2012-05-15",1220,"20",5]
["2012-05-16",1220,"20",5]
["2012-05-17",{"$f":"B1195+1","v":1220},"20",5]
["2012-05-18",1220,"20",5]
["2012-05-19",1220,"20",5]
["2012-05-20",1220,"20",5]
["2012-05-21",1221,"21",5]
["2012-05-22",1221,"21",5]
["2012-05-23",1221,"21",5]
["2012-05-24",1221,"21",5]
["2012-05-25",1221,"21",5]
["2012-05-26",1221,"21",5]
["2012-05-27",1221,"21",5]
["2012-05-28",1222,"22",5]
["2012-05-29",1222,"22",5]
["2012-05-30",1222,"22",5]
["2012-05-31",1222,"22",5]
["2012-06-01",1222,"22",6]
["2012-06-02",1222,"22",6]
["2012-06-03",1222,{"$f":"RIGHT(B1219,2)","v":"22"},{"$f":"MONTH(A1219)","v":6}]
["2012-06-04",1223,"23",6]
["2012-06-05",1223,"23",6]
["2012-06-06",1223,"23",6]
["2012-06-07",1223,"23",6]
["2012-06-08",1223,"23",6]
["2012-06-09",1223,"23",6]
["2012-06-10",1223,"23",6]
["2012-06-11",1224,"24",6]
["2012-06-12",1224,"24",6]
["2012-06-13",1224,"24",6]
["2012-06-14",1224,"24",6]
["2012-06-15",1224,"24",6]
["2012-06-16",1224,"24",6]
["2012-06-17",1224,"24",6]
["2012-06-18",1225,"25",6]
["2012-06-19",1225,"25",6]
["2012-06-20",1225,"25",6]
["2012-06-21",1225,"25",6]
["2012-06-22",1225,"25",6]
["2012-06-23",1225,"25",6]
["2012-06-24",1225,"25",6]
["2012-06-25",1226,"26",6]
["2012-06-26",1226,"26",6]
["2012-06-27",1226,"26",6]
["2012-06-28",1226,"26",6]
["2012-06-29",1226,"26",6]
["2012-06-30",1226,"26",6]
["2012-07-01",1226,"26",7]
["2012-07-02",1227,"27",7]
["2012-07-03",1227,"27",7]
["2012-07-04",1227,"27",7]
["2012-07-05",1227,"27",7]
["2012-07-06",1227,"27",7]
["2012-07-07",1227,"27",7]
["2012-07-08",1227,"27",7]
["2012-07-09",1228,"28",7]
["2012-07-10",1228,"28",7]
["2012-07-11",1228,"28",7]
["2012-07-12",1228,"28",7]
["2012-07-13",1228,"28",7]
["2012-07-14",1228,"28",7]
["2012-07-15",1228,"28",7]
["2012-07-16",1229,"29",7]
["2012-07-17",1229,"29",7]
["2012-07-18",1229,"29",7]
["2012-07-19",1229,"29",7]
["2012-07-20",{"$f":"B1259+1","v":1229},"29",7]
["2012-07-21",1229,"29",7]
["2012-07-22",1229,"29",7]
["2012-07-23",1230,"30",7]
["2012-07-24",1230,"30",7]
["2012-07-25",1230,"30",7]
["2012-07-26",1230,"30",7]
["2012-07-27",1230,"30",7]
["2012-07-28",1230,"30",7]
["2012-07-29",1230,"30",7]
["2012-07-30",1231,"31",7]
["2012-07-31",1231,"31",7]
["2012-08-01",1231,"31",8]
["2012-08-02",1231,"31",8]
["2012-08-03",1231,"31",8]
["2012-08-04",1231,"31",8]
["2012-08-05",1231,"31",8]
["2012-08-06",1232,{"$f":"RIGHT(B1283,2)","v":"32"},{"$f":"MONTH(A1283)","v":8}]
["2012-08-07",1232,"32",8]
["2012-08-08",1232,"32",8]
["2012-08-09",1232,"32",8]
["2012-08-10",1232,"32",8]
["2012-08-11",1232,"32",8]
["2012-08-12",1232,"32",8]
["2012-08-13",1233,"33",8]
["2012-08-14",1233,"33",8]
["2012-08-15",1233,"33",8]
["2012-08-16",1233,"33",8]
["2012-08-17",1233,"33",8]
["2012-08-18",1233,"33",8]
["2012-08-19",1233,"33",8]
["2012-08-20",1234,"34",8]
["2012-08-21",1234,"34",8]
["2012-08-22",1234,"34",8]
["2012-08-23",1234,"34",8]
["2012-08-24",1234,"34",8]
["2012-08-25",1234,"34",8]
["2012-08-26",1234,"34",8]
["2012-08-27",1235,"35",8]
["2012-08-28",1235,"35",8]
["2012-08-29",1235,"35",8]
["2012-08-30",1235,"35",8]
["2012-08-31",1235,"35",8]
["2012-09-01",1235,"35",9]
["2012-09-02",1235,"35",9]
["2012-09-03",1236,"36",9]
["2012-09-04",1236,"36",9]
["2012-09-05",1236,"36",9]
["2012-09-06",1236,"36",9]
["2012-09-07",1236,"36",9]
["2012-09-08",1236,"36",9]
["2012-09-09",1236,"36",9]
["2012-09-10",1237,"37",9]
["2012-09-11",1237,"37",9]
["2012-09-12",1237,"37",9]
["2012-09-13",1237,"37",9]
["2012-09-14",1237,"37",9]
["2012-09-15",1237,"37",9]
["2012-09-16",1237,"37",9]
["2012-09-17",1238,"38",9]
["2012-09-18",1238,"38",9]
["2012-09-19",1238,"38",9]
["2012-09-20",1238,"38",9]
["2012-09-21",1238,"38",9]
["2012-09-22",{"$f":"B1323+1","v":1238},"38",9]
["2012-09-23",1238,"38",9]
["2012-09-24",1239,"39",9]
["2012-09-25",1239,"39",9]
["2012-09-26",1239,"39",9]
["2012-09-27",1239,"39",9]
["2012-09-28",1239,"39",9]
["2012-09-29",1239,"39",9]
["2012-09-30",1239,"39",9]
["2012-10-01",1240,"40",10]
["2012-10-02",1240,"40",10]
["2012-10-03",1240,"40",10]
["2012-10-04",1240,"40",10]
["2012-10-05",1240,"40",10]
["2012-10-06",1240,"40",10]
["2012-10-07",1240,"40",10]
["2012-10-08",1241,"41",10]
["2012-10-09",1241,{"$f":"RIGHT(B1347,2)","v":"41"},{"$f":"MONTH(A1347)","v":10}]
["2012-10-10",1241,"41",10]
["2012-10-11",1241,"41",10]
["2012-10-12",1241,"41",10]
["2012-10-13",1241,"41",10]
["2012-10-14",1241,"41",10]
["2012-10-15",1242,"42",10]
["2012-10-16",1242,"42",10]
["2012-10-17",1242,"42",10]
["2012-10-18",1242,"42",10]
["2012-10-19",1242,"42",10]
["2012-10-20",1242,"42",10]
["2012-10-21",1242,"42",10]
["2012-10-22",1243,"43",10]
["2012-10-23",1243,"43",10]
["2012-10-24",1243,"43",10]
["2012-10-25",1243,"43",10]
["2012-10-26",1243,"43",10]
["2012-10-27",1243,"43",10]
["2012-10-28",1243,"43",10]
["2012-10-29",1244,"44",10]
["2012-10-30",1244,"44",10]
["2012-10-31",1244,"44",10]
["2012-11-01",1244,"44",11]
["2012-11-02",1244,"44",11]
["2012-11-03",1244,"44",11]
["2012-11-04",1244,"44",11]
["2012-11-05",1245,"45",11]
["2012-11-06",1245,"45",11]
["2012-11-07",1245,"45",11]
["2012-11-08",1245,"45",11]
["2012-11-09",1245,"45",11]
["2012-11-10",1245,"45",11]
["2012-11-11",1245,"45",11]
["2012-11-12",1246,"46",11]
["2012-11-13",1246,"46",11]
["2012-11-14",1246,"46",11]
["2012-11-15",1246,"46",11]
["2012-11-16",1246,"46",11]
["2012-11-17",1246,"46",11]
["2012-11-18",1246,"46",11]
["2012-11-19",1247,"47",11]
["2012-11-20",1247,"47",11]
["2012-11-21",1247,"47",11]
["2012-11-22",1247,"47",11]
["2012-11-23",1247,"47",11]
["2012-11-24",1247,"47",11]
["2012-11-25",{"$f":"B1387+1","v":1247},"47",11]
["2012-11-26",1248,"48",11]
["2012-11-27",1248,"48",11]
["2012-11-28",1248,"48",11]
["2012-11-29",1248,"48",11]
["2012-11-30",1248,"48",11]
["2012-12-01",1248,"48",12]
["2012-12-02",1248,"48",12]
["2012-12-03",1249,"49",12]
["2012-12-04",1249,"49",12]
["2012-12-05",1249,"49",12]
["2012-12-06",1249,"49",12]
["2012-12-07",1249,"49",12]
["2012-12-08",1249,"49",12]
["2012-12-09",1249,"49",12]
["2012-12-10",1250,"50",12]
["2012-12-11",1250,"50",12]
["2012-12-12",1250,{"$f":"RIGHT(B1411,2)","v":"50"},{"$f":"MONTH(A1411)","v":12}]
["2012-12-13",1250,"50",12]
["2012-12-14",1250,"50",12]
["2012-12-15",1250,"50",12]
["2012-12-16",1250,"50",12]
["2012-12-17",1251,"51",12]
["2012-12-18",1251,"51",12]
["2012-12-19",1251,"51",12]
["2012-12-20",1251,"51",12]
["2012-12-21",1251,"51",12]
["2012-12-22",1251,"51",12]
["2012-12-23",1251,"51",12]
["2012-12-24",1252,"52",12]
["2012-12-25",1252,"52",12]
["2012-12-26",1252,"52",12]
["2012-12-27",1252,"52",12]
["2012-12-28",1252,"52",12]
["2012-12-29",1252,"52",12]
["2012-12-30",1252,"52",12]
["2012-12-31",1301,"01",12]
["2013-01-01",1301,"01",1]
["2013-01-02",1301,"01",1]
["2013-01-03",1301,"01",1]
["2013-01-04",1301,"01",1]
["2013-01-05",1301,"01",1]
["2013-01-06",1301,"01",1]
["2013-01-07",{"$f":"B1430+1","v":1302},"02",1]
["2013-01-08",{"$f":"B1431+1","v":1302},"02",1]
["2013-01-09",1302,"02",1]
["2013-01-10",1302,"02",1]
["2013-01-11",1302,"02",1]
["2013-01-12",1302,"02",1]
["2013-01-13",1302,"02",1]
["2013-01-14",1303,"03",1]
["2013-01-15",1303,"03",1]
["2013-01-16",1303,"03",1]
["2013-01-17",1303,"03",1]
["2013-01-18",1303,"03",1]
["2013-01-19",1303,"03",1]
["2013-01-20",1303,"03",1]
["2013-01-21",1304,"04",1]
["2013-01-22",1304,"04",1]
["2013-01-23",1304,"04",1]
["2013-01-24",1304,"04",1]
["2013-01-25",1304,"04",1]
["2013-01-26",1304,"04",1]
["2013-01-27",1304,"04",1]
["2013-01-28",1305,"05",1]
["2013-01-29",1305,"05",1]
["2013-01-30",1305,"05",1]
["2013-01-31",1305,"05",1]
["2013-02-01",1305,"05",2]
["2013-02-02",1305,"05",2]
["2013-02-03",1305,"05",2]
["2013-02-04",1306,"06",2]
["2013-02-05",1306,"06",2]
["2013-02-06",1306,"06",2]
["2013-02-07",1306,"06",2]
["2013-02-08",1306,"06",2]
["2013-02-09",1306,"06",2]
["2013-02-10",1306,"06",2]
["2013-02-11",1307,"07",2]
["2013-02-12",1307,"07",2]
["2013-02-13",1307,"07",2]
["2013-02-14",1307,{"$f":"RIGHT(B1475,2)","v":"07"},{"$f":"MONTH(A1475)","v":2}]
["2013-02-15",1307,"07",2]
["2013-02-16",1307,"07",2]
["2013-02-17",1307,"07",2]
["2013-02-18",1308,"08",2]
["2013-02-19",1308,"08",2]
["2013-02-20",1308,"08",2]
["2013-02-21",1308,"08",2]
["2013-02-22",1308,"08",2]
["2013-02-23",1308,"08",2]
["2013-02-24",1308,"08",2]
["2013-02-25",1309,"09",2]
["2013-02-26",1309,"09",2]
["2013-02-27",1309,"09",2]
["2013-02-28",1309,"09",2]
["2013-03-01",1309,"09",3]
["2013-03-02",1309,"09",3]
["2013-03-03",1309,"09",3]
["2013-03-04",1310,"10",3]
["2013-03-05",1310,"10",3]
["2013-03-06",1310,"10",3]
["2013-03-07",1310,"10",3]
["2013-03-08",1310,"10",3]
["2013-03-09",1310,"10",3]
["2013-03-10",1310,"10",3]
["2013-03-11",1311,"11",3]
["2013-03-12",1311,"11",3]
["2013-03-13",{"$f":"B1495+1","v":1311},"11",3]
["2013-03-14",1311,"11",3]
["2013-03-15",1311,"11",3]
["2013-03-16",1311,"11",3]
["2013-03-17",1311,"11",3]
["2013-03-18",1312,"12",3]
["2013-03-19",1312,"12",3]
["2013-03-20",1312,"12",3]
["2013-03-21",1312,"12",3]
["2013-03-22",1312,"12",3]
["2013-03-23",1312,"12",3]
["2013-03-24",1312,"12",3]
["2013-03-25",1313,"13",3]
["2013-03-26",1313,"13",3]
["2013-03-27",1313,"13",3]
["2013-03-28",1313,"13",3]
["2013-03-29",1313,"13",3]
["2013-03-30",1313,"13",3]
["2013-03-31",1313,"13",3]
["2013-04-01",1314,"14",4]
["2013-04-02",1314,"14",4]
["2013-04-03",1314,"14",4]
["2013-04-04",1314,"14",4]
["2013-04-05",1314,"14",4]
["2013-04-06",1314,"14",4]
["2013-04-07",1314,"14",4]
["2013-04-08",1315,"15",4]
["2013-04-09",1315,"15",4]
["2013-04-10",1315,"15",4]
["2013-04-11",1315,"15",4]
["2013-04-12",1315,"15",4]
["2013-04-13",1315,"15",4]
["2013-04-14",1315,"15",4]
["2013-04-15",1316,"16",4]
["2013-04-16",1316,"16",4]
["2013-04-17",1316,"16",4]
["2013-04-18",1316,"16",4]
["2013-04-19",1316,{"$f":"RIGHT(B1539,2)","v":"16"},{"$f":"MONTH(A1539)","v":4}]
["2013-04-20",1316,"16",4]
["2013-04-21",1316,"16",4]
["2013-04-22",1317,"17",4]
["2013-04-23",1317,"17",4]
["2013-04-24",1317,"17",4]
["2013-04-25",1317,"17",4]
["2013-04-26",1317,"17",4]
["2013-04-27",1317,"17",4]
["2013-04-28",1317,"17",4]
["2013-04-29",1318,"18",4]
["2013-04-30",1318,"18",4]
["2013-05-01",1318,"18",5]
["2013-05-02",1318,"18",5]
["2013-05-03",1318,"18",5]
["2013-05-04",1318,"18",5]
["2013-05-05",1318,"18",5]
["2013-05-06",1319,"19",5]
["2013-05-07",1319,"19",5]
["2013-05-08",1319,"19",5]
["2013-05-09",1319,"19",5]
["2013-05-10",1319,"19",5]
["2013-05-11",1319,"19",5]
["2013-05-12",1319,"19",5]
["2013-05-13",1320,"20",5]
["2013-05-14",1320,"20",5]
["2013-05-15",1320,"20",5]
["2013-05-16",{"$f":"B1559+1","v":1320},"20",5]
["2013-05-17",1320,"20",5]
["2013-05-18",1320,"20",5]
["2013-05-19",1320,"20",5]
["2013-05-20",1321,"21",5]
["2013-05-21",1321,"21",5]
["2013-05-22",1321,"21",5]
["2013-05-23",1321,"21",5]
["2013-05-24",1321,"21",5]
["2013-05-25",1321,"21",5]
["2013-05-26",1321,"21",5]
["2013-05-27",1322,"22",5]
["2013-05-28",1322,"22",5]
["2013-05-29",1322,"22",5]
["2013-05-30",1322,"22",5]
["2013-05-31",1322,"22",5]
["2013-06-01",1322,"22",6]
["2013-06-02",1322,"22",6]
["2013-06-03",1323,"23",6]
["2013-06-04",1323,"23",6]
["2013-06-05",1323,"23",6]
["2013-06-06",1323,"23",6]
["2013-06-07",1323,"23",6]
["2013-06-08",1323,"23",6]
["2013-06-09",1323,"23",6]
["2013-06-10",1324,"24",6]
["2013-06-11",1324,"24",6]
["2013-06-12",1324,"24",6]
["2013-06-13",1324,"24",6]
["2013-06-14",1324,"24",6]
["2013-06-15",1324,"24",6]
["2013-06-16",1324,"24",6]
["2013-06-17",1325,"25",6]
["2013-06-18",1325,"25",6]
["2013-06-19",1325,"25",6]
["2013-06-20",1325,"25",6]
["2013-06-21",1325,"25",6]
["2013-06-22",1325,{"$f":"RIGHT(B1603,2)","v":"25"},{"$f":"MONTH(A1603)","v":6}]
["2013-06-23",1325,"25",6]
["2013-06-24",1326,"26",6]
["2013-06-25",1326,"26",6]
["2013-06-26",1326,"26",6]
["2013-06-27",1326,"26",6]
["2013-06-28",1326,"26",6]
["2013-06-29",1326,"26",6]
["2013-06-30",1326,"26",6]
["2013-07-01",1327,"27",7]
["2013-07-02",1327,"27",7]
["2013-07-03",1327,"27",7]
["2013-07-04",1327,"27",7]
["2013-07-05",1327,"27",7]
["2013-07-06",1327,"27",7]
["2013-07-07",1327,"27",7]
["2013-07-08",1328,"28",7]
["2013-07-09",1328,"28",7]
["2013-07-10",1328,"28",7]
["2013-07-11",1328,"28",7]
["2013-07-12",1328,"28",7]
["2013-07-13",1328,"28",7]
["2013-07-14",1328,"28",7]
["2013-07-15",1329,"29",7]
["2013-07-16",1329,"29",7]
["2013-07-17",1329,"29",7]
["2013-07-18",1329,"29",7]
["2013-07-19",{"$f":"B1623+1","v":1329},"29",7]
["2013-07-20",1329,"29",7]
["2013-07-21",1329,"29",7]
["2013-07-22",1330,"30",7]
["2013-07-23",1330,"30",7]
["2013-07-24",1330,"30",7]
["2013-07-25",1330,"30",7]
["2013-07-26",1330,"30",7]
["2013-07-27",1330,"30",7]
["2013-07-28",1330,"30",7]
["2013-07-29",1331,"31",7]
["2013-07-30",1331,"31",7]
["2013-07-31",1331,"31",7]
["2013-08-01",1331,"31",8]
["2013-08-02",1331,"31",8]
["2013-08-03",1331,"31",8]
["2013-08-04",1331,"31",8]
["2013-08-05",1332,"32",8]
["2013-08-06",1332,"32",8]
["2013-08-07",1332,"32",8]
["2013-08-08",1332,"32",8]
["2013-08-09",1332,"32",8]
["2013-08-10",1332,"32",8]
["2013-08-11",1332,"32",8]
["2013-08-12",1333,"33",8]
["2013-08-13",1333,"33",8]
["2013-08-14",1333,"33",8]
["2013-08-15",1333,"33",8]
["2013-08-16",1333,"33",8]
["2013-08-17",1333,"33",8]
["2013-08-18",1333,"33",8]
["2013-08-19",1334,"34",8]
["2013-08-20",1334,"34",8]
["2013-08-21",1334,"34",8]
["2013-08-22",1334,"34",8]
["2013-08-23",1334,"34",8]
["2013-08-24",1334,"34",8]
["2013-08-25",1334,{"$f":"RIGHT(B1667,2)","v":"34"},{"$f":"MONTH(A1667)","v":8}]
["2013-08-26",1335,"35",8]
["2013-08-27",1335,"35",8]
["2013-08-28",1335,"35",8]
["2013-08-29",1335,"35",8]
["2013-08-30",1335,"35",8]
["2013-08-31",1335,"35",8]
["2013-09-01",1335,"35",9]
["2013-09-02",1336,"36",9]
["2013-09-03",1336,"36",9]
["2013-09-04",1336,"36",9]
["2013-09-05",1336,"36",9]
["2013-09-06",1336,"36",9]
["2013-09-07",1336,"36",9]
["2013-09-08",1336,"36",9]
["2013-09-09",1337,"37",9]
["2013-09-10",1337,"37",9]
["2013-09-11",1337,"37",9]
["2013-09-12",1337,"37",9]
["2013-09-13",1337,"37",9]
["2013-09-14",1337,"37",9]
["2013-09-15",1337,"37",9]
["2013-09-16",1338,"38",9]
["2013-09-17",1338,"38",9]
["2013-09-18",1338,"38",9]
["2013-09-19",1338,"38",9]
["2013-09-20",1338,"38",9]
["2013-09-21",{"$f":"B1687+1","v":1338},"38",9]
["2013-09-22",1338,"38",9]
["2013-09-23",1339,"39",9]
["2013-09-24",1339,"39",9]
["2013-09-25",1339,"39",9]
["2013-09-26",1339,"39",9]
["2013-09-27",1339,"39",9]
["2013-09-28",1339,"39",9]
["2013-09-29",1339,"39",9]
["2013-09-30",1340,"40",9]
["2013-10-01",1340,"40",10]
["2013-10-02",1340,"40",10]
["2013-10-03",1340,"40",10]
["2013-10-04",1340,"40",10]
["2013-10-05",1340,"40",10]
["2013-10-06",1340,"40",10]
["2013-10-07",1341,"41",10]
["2013-10-08",1341,"41",10]
["2013-10-09",1341,"41",10]
["2013-10-10",1341,"41",10]
["2013-10-11",1341,"41",10]
["2013-10-12",1341,"41",10]
["2013-10-13",1341,"41",10]
["2013-10-14",1342,"42",10]
["2013-10-15",1342,"42",10]
["2013-10-16",1342,"42",10]
["2013-10-17",1342,"42",10]
["2013-10-18",1342,"42",10]
["2013-10-19",1342,"42",10]
["2013-10-20",1342,"42",10]
["2013-10-21",1343,"43",10]
["2013-10-22",1343,"43",10]
["2013-10-23",1343,"43",10]
["2013-10-24",1343,"43",10]
["2013-10-25",1343,"43",10]
["2013-10-26",1343,"43",10]
["2013-10-27",1343,"43",10]
["2013-10-28",1344,{"$f":"RIGHT(B1731,2)","v":"44"},{"$f":"MONTH(A1731)","v":10}]
["2013-10-29",1344,"44",10]
["2013-10-30",1344,"44",10]
["2013-10-31",1344,"44",10]
["2013-11-01",1344,"44",11]
["2013-11-02",1344,"44",11]
["2013-11-03",1344,"44",11]
["2013-11-04",1345,"45",11]
["2013-11-05",1345,"45",11]
["2013-11-06",1345,"45",11]
["2013-11-07",1345,"45",11]
["2013-11-08",1345,"45",11]
["2013-11-09",1345,"45",11]
["2013-11-10",1345,"45",11]
["2013-11-11",1346,"46",11]
["2013-11-12",1346,"46",11]
["2013-11-13",1346,"46",11]
["2013-11-14",1346,"46",11]
["2013-11-15",1346,"46",11]
["2013-11-16",1346,"46",11]
["2013-11-17",1346,"46",11]
["2013-11-18",1347,"47",11]
["2013-11-19",1347,"47",11]
["2013-11-20",1347,"47",11]
["2013-11-21",1347,"47",11]
["2013-11-22",1347,"47",11]
["2013-11-23",1347,"47",11]
["2013-11-24",{"$f":"B1751+1","v":1347},"47",11]
["2013-11-25",1348,"48",11]
["2013-11-26",1348,"48",11]
["2013-11-27",1348,"48",11]
["2013-11-28",1348,"48",11]
["2013-11-29",1348,"48",11]
["2013-11-30",1348,"48",11]
["2013-12-01",1348,"48",12]
["2013-12-02",1349,"49",12]
["2013-12-03",1349,"49",12]
["2013-12-04",1349,"49",12]
["2013-12-05",1349,"49",12]
["2013-12-06",1349,"49",12]
["2013-12-07",1349,"49",12]
["2013-12-08",1349,"49",12]
["2013-12-09",1350,"50",12]
["2013-12-10",1350,"50",12]
["2013-12-11",1350,"50",12]
["2013-12-12",1350,"50",12]
["2013-12-13",1350,"50",12]
["2013-12-14",1350,"50",12]
["2013-12-15",1350,"50",12]
["2013-12-16",1351,"51",12]
["2013-12-17",1351,"51",12]
["2013-12-18",1351,"51",12]
["2013-12-19",1351,"51",12]
["2013-12-20",1351,"51",12]
["2013-12-21",1351,"51",12]
["2013-12-22",1351,"51",12]
["2013-12-23",1352,"52",12]
["2013-12-24",1352,"52",12]
["2013-12-25",1352,"52",12]
["2013-12-26",1352,"52",12]
["2013-12-27",1352,"52",12]
["2013-12-28",1352,"52",12]
["2013-12-29",1352,"52",12]
["2013-12-30",1401,"01",12]
["2013-12-31",1401,{"$f":"RIGHT(B1795,2)","v":"01"},{"$f":"MONTH(A1795)","v":12}]
["2014-01-01",1401,"01",1]
["2014-01-02",1401,"01",1]
["2014-01-03",1401,"01",1]
["2014-01-04",1401,"01",1]
["2014-01-05",1401,"01",1]
["2014-01-06",{"$f":"B1794+1","v":1402},"02",1]
["2014-01-07",{"$f":"B1795+1","v":1402},"02",1]
["2014-01-08",1402,"02",1]
["2014-01-09",1402,"02",1]
["2014-01-10",1402,"02",1]
["2014-01-11",1402,"02",1]
["2014-01-12",1402,"02",1]
["2014-01-13",1403,"03",1]
["2014-01-14",1403,"03",1]
["2014-01-15",1403,"03",1]
["2014-01-16",1403,"03",1]
["2014-01-17",1403,"03",1]
["2014-01-18",1403,"03",1]
["2014-01-19",1403,"03",1]
["2014-01-20",1404,"04",1]
["2014-01-21",1404,"04",1]
["2014-01-22",1404,"04",1]
["2014-01-23",1404,"04",1]
["2014-01-24",1404,"04",1]
["2014-01-25",1404,"04",1]
["2014-01-26",1404,"04",1]
["2014-01-27",1405,"05",1]
["2014-01-28",1405,"05",1]
["2014-01-29",1405,"05",1]
["2014-01-30",1405,"05",1]
["2014-01-31",1405,"05",1]
["2014-02-01",1405,"05",2]
["2014-02-02",1405,"05",2]
["2014-02-03",1406,"06",2]
["2014-02-04",1406,"06",2]
["2014-02-05",1406,"06",2]
["2014-02-06",1406,"06",2]
["2014-02-07",1406,"06",2]
["2014-02-08",1406,"06",2]
["2014-02-09",1406,"06",2]
["2014-02-10",1407,"07",2]
["2014-02-11",1407,"07",2]
["2014-02-12",1407,"07",2]
["2014-02-13",1407,"07",2]
["2014-02-14",1407,"07",2]
["2014-02-15",1407,"07",2]
["2014-02-16",1407,"07",2]
["2014-02-17",1408,"08",2]
["2014-02-18",1408,"08",2]
["2014-02-19",1408,"08",2]
["2014-02-20",1408,"08",2]
["2014-02-21",1408,"08",2]
["2014-02-22",1408,"08",2]
["2014-02-23",1408,"08",2]
["2014-02-24",1409,"09",2]
["2014-02-25",1409,"09",2]
["2014-02-26",1409,"09",2]
["2014-02-27",1409,"09",2]
["2014-02-28",1409,"09",2]
["2014-03-01",1409,"09",3]
["2014-03-02",1409,"09",3]
["2014-03-03",1410,"10",3]
["2014-03-04",1410,"10",3]
["2014-03-05",1410,{"$f":"RIGHT(B1859,2)","v":"10"},{"$f":"MONTH(A1859)","v":3}]
["2014-03-06",1410,"10",3]
["2014-03-07",1410,"10",3]
["2014-03-08",1410,"10",3]
["2014-03-09",1410,"10",3]
["2014-03-10",1411,"11",3]
["2014-03-11",1411,"11",3]
["2014-03-12",{"$f":"B1859+1","v":1411},"11",3]
["2014-03-13",1411,"11",3]
["2014-03-14",1411,"11",3]
["2014-03-15",1411,"11",3]
["2014-03-16",1411,"11",3]
["2014-03-17",1412,"12",3]
["2014-03-18",1412,"12",3]
["2014-03-19",1412,"12",3]
["2014-03-20",1412,"12",3]
["2014-03-21",1412,"12",3]
["2014-03-22",1412,"12",3]
["2014-03-23",1412,"12",3]
["2014-03-24",1413,"13",3]
["2014-03-25",1413,"13",3]
["2014-03-26",1413,"13",3]
["2014-03-27",1413,"13",3]
["2014-03-28",1413,"13",3]
["2014-03-29",1413,"13",3]
["2014-03-30",1413,"13",3]
["2014-03-31",1414,"14",3]
["2014-04-01",1414,"14",4]
["2014-04-02",1414,"14",4]
["2014-04-03",1414,"14",4]
["2014-04-04",1414,"14",4]
["2014-04-05",1414,"14",4]
["2014-04-06",1414,"14",4]
["2014-04-07",1415,"15",4]
["2014-04-08",1415,"15",4]
["2014-04-09",1415,"15",4]
["2014-04-10",1415,"15",4]
["2014-04-11",1415,"15",4]
["2014-04-12",1415,"15",4]
["2014-04-13",1415,"15",4]
["2014-04-14",1416,"16",4]
["2014-04-15",1416,"16",4]
["2014-04-16",1416,"16",4]
["2014-04-17",1416,"16",4]
["2014-04-18",1416,"16",4]
["2014-04-19",1416,"16",4]
["2014-04-20",1416,"16",4]
["2014-04-21",1417,"17",4]
["2014-04-22",1417,"17",4]
["2014-04-23",1417,"17",4]
["2014-04-24",1417,"17",4]
["2014-04-25",1417,"17",4]
["2014-04-26",1417,"17",4]
["2014-04-27",1417,"17",4]
["2014-04-28",1418,"18",4]
["2014-04-29",1418,"18",4]
["2014-04-30",1418,"18",4]
["2014-05-01",1418,"18",5]
["2014-05-02",1418,"18",5]
["2014-05-03",1418,"18",5]
["2014-05-04",1418,"18",5]
["2014-05-05",1419,"19",5]
["2014-05-06",1419,"19",5]
["2014-05-07",1419,"19",5]
["2014-05-08",1419,{"$f":"RIGHT(B1923,2)","v":"19"},{"$f":"MONTH(A1923)","v":5}]
["2014-05-09",1419,"19",5]
["2014-05-10",1419,"19",5]
["2014-05-11",1419,"19",5]
["2014-05-12",1420,"20",5]
["2014-05-13",1420,"20",5]
["2014-05-14",1420,"20",5]
["2014-05-15",{"$f":"B1923+1","v":1420},"20",5]
["2014-05-16",1420,"20",5]
["2014-05-17",1420,"20",5]
["2014-05-18",1420,"20",5]
["2014-05-19",1421,"21",5]
["2014-05-20",1421,"21",5]
["2014-05-21",1421,"21",5]
["2014-05-22",1421,"21",5]
["2014-05-23",1421,"21",5]
["2014-05-24",1421,"21",5]
["2014-05-25",1421,"21",5]
["2014-05-26",1422,"22",5]
["2014-05-27",1422,"22",5]
["2014-05-28",1422,"22",5]
["2014-05-29",1422,"22",5]
["2014-05-30",1422,"22",5]
["2014-05-31",1422,"22",5]
["2014-06-01",1422,"22",6]
["2014-06-02",1423,"23",6]
["2014-06-03",1423,"23",6]
["2014-06-04",1423,"23",6]
["2014-06-05",1423,"23",6]
["2014-06-06",1423,"23",6]
["2014-06-07",1423,"23",6]
["2014-06-08",1423,"23",6]
["2014-06-09",1424,"24",6]
["2014-06-10",1424,"24",6]
["2014-06-11",1424,"24",6]
["2014-06-12",1424,"24",6]
["2014-06-13",1424,"24",6]
["2014-06-14",1424,"24",6]
["2014-06-15",1424,"24",6]
["2014-06-16",1425,"25",6]
["2014-06-17",1425,"25",6]
["2014-06-18",1425,"25",6]
["2014-06-19",1425,"25",6]
["2014-06-20",1425,"25",6]
["2014-06-21",1425,"25",6]
["2014-06-22",1425,"25",6]
["2014-06-23",1426,"26",6]
["2014-06-24",1426,"26",6]
["2014-06-25",1426,"26",6]
["2014-06-26",1426,"26",6]
["2014-06-27",1426,"26",6]
["2014-06-28",1426,"26",6]
["2014-06-29",1426,"26",6]
["2014-06-30",1427,"27",6]
["2014-07-01",1427,"27",7]
["2014-07-02",1427,"27",7]
["2014-07-03",1427,"27",7]
["2014-07-04",1427,"27",7]
["2014-07-05",1427,"27",7]
["2014-07-06",1427,"27",7]
["2014-07-07",1428,"28",7]
["2014-07-08",1428,"28",7]
["2014-07-09",1428,"28",7]
["2014-07-10",1428,"28",7]
["2014-07-11",1428,{"$f":"RIGHT(B1987,2)","v":"28"},{"$f":"MONTH(A1987)","v":7}]
["2014-07-12",1428,"28",7]
["2014-07-13",1428,"28",7]
["2014-07-14",1429,"29",7]
["2014-07-15",1429,"29",7]
["2014-07-16",1429,"29",7]
["2014-07-17",1429,"29",7]
["2014-07-18",{"$f":"B1987+1","v":1429},"29",7]
["2014-07-19",1429,"29",7]
["2014-07-20",1429,"29",7]
["2014-07-21",1430,"30",7]
["2014-07-22",1430,"30",7]
["2014-07-23",1430,"30",7]
["2014-07-24",1430,"30",7]
["2014-07-25",1430,"30",7]
["2014-07-26",1430,"30",7]
["2014-07-27",1430,"30",7]
["2014-07-28",1431,"31",7]
["2014-07-29",1431,"31",7]
["2014-07-30",1431,"31",7]
["2014-07-31",1431,"31",7]
["2014-08-01",1431,"31",8]
["2014-08-02",1431,"31",8]
["2014-08-03",1431,"31",8]
["2014-08-04",1432,"32",8]
["2014-08-05",1432,"32",8]
["2014-08-06",1432,"32",8]
["2014-08-07",1432,"32",8]
["2014-08-08",1432,"32",8]
["2014-08-09",1432,"32",8]
["2014-08-10",1432,"32",8]
["2014-08-11",1433,"33",8]
["2014-08-12",1433,"33",8]
["2014-08-13",1433,"33",8]
["2014-08-14",1433,"33",8]
["2014-08-15",1433,"33",8]
["2014-08-16",1433,"33",8]
["2014-08-17",1433,"33",8]
["2014-08-18",1434,"34",8]
["2014-08-19",1434,"34",8]
["2014-08-20",1434,"34",8]
["2014-08-21",1434,"34",8]
["2014-08-22",1434,"34",8]
["2014-08-23",1434,"34",8]
["2014-08-24",1434,"34",8]
["2014-08-25",1435,"35",8]
["2014-08-26",1435,"35",8]
["2014-08-27",1435,"35",8]
["2014-08-28",1435,"35",8]
["2014-08-29",1435,"35",8]
["2014-08-30",1435,"35",8]
["2014-08-31",1435,"35",8]
["2014-09-01",1436,"36",9]
["2014-09-02",1436,"36",9]
["2014-09-03",1436,"36",9]
["2014-09-04",1436,"36",9]
["2014-09-05",1436,"36",9]
["2014-09-06",1436,"36",9]
["2014-09-07",1436,"36",9]
["2014-09-08",1437,"37",9]
["2014-09-09",1437,"37",9]
["2014-09-10",1437,"37",9]
["2014-09-11",1437,"37",9]
["2014-09-12",1437,"37",9]
["2014-09-13",1437,{"$f":"RIGHT(B2051,2)","v":"37"},{"$f":"MONTH(A2051)","v":9}]
["2014-09-14",1437,"37",9]
["2014-09-15",1438,"38",9]
["2014-09-16",1438,"38",9]
["2014-09-17",1438,"38",9]
["2014-09-18",1438,"38",9]
["2014-09-19",1438,"38",9]
["2014-09-20",{"$f":"B2051+1","v":1438},"38",9]
["2014-09-21",1438,"38",9]
["2014-09-22",1439,"39",9]
["2014-09-23",1439,"39",9]
["2014-09-24",1439,"39",9]
["2014-09-25",1439,"39",9]
["2014-09-26",1439,"39",9]
["2014-09-27",1439,"39",9]
["2014-09-28",1439,"39",9]
["2014-09-29",1440,"40",9]
["2014-09-30",1440,"40",9]
["2014-10-01",1440,"40",10]
["2014-10-02",1440,"40",10]
["2014-10-03",1440,"40",10]
["2014-10-04",1440,"40",10]
["2014-10-05",1440,"40",10]
["2014-10-06",1441,"41",10]
["2014-10-07",1441,"41",10]
["2014-10-08",1441,"41",10]
["2014-10-09",1441,"41",10]
["2014-10-10",1441,"41",10]
["2014-10-11",1441,"41",10]
["2014-10-12",1441,"41",10]
["2014-10-13",1442,"42",10]
["2014-10-14",1442,"42",10]
["2014-10-15",1442,"42",10]
["2014-10-16",1442,"42",10]
["2014-10-17",1442,"42",10]
["2014-10-18",1442,"42",10]
["2014-10-19",1442,"42",10]
["2014-10-20",1443,"43",10]
["2014-10-21",1443,"43",10]
["2014-10-22",1443,"43",10]
["2014-10-23",1443,"43",10]
["2014-10-24",1443,"43",10]
["2014-10-25",1443,"43",10]
["2014-10-26",1443,"43",10]
["2014-10-27",1444,"44",10]
["2014-10-28",1444,"44",10]
["2014-10-29",1444,"44",10]
["2014-10-30",1444,"44",10]
["2014-10-31",1444,"44",10]
["2014-11-01",1444,"44",11]
["2014-11-02",1444,"44",11]
["2014-11-03",1445,"45",11]
["2014-11-04",1445,"45",11]
["2014-11-05",1445,"45",11]
["2014-11-06",1445,"45",11]
["2014-11-07",1445,"45",11]
["2014-11-08",1445,"45",11]
["2014-11-09",1445,"45",11]
["2014-11-10",1446,"46",11]
["2014-11-11",1446,"46",11]
["2014-11-12",1446,"46",11]
["2014-11-13",1446,"46",11]
["2014-11-14",1446,"46",11]
["2014-11-15",1446,"46",11]
["2014-11-16",1446,{"$f":"RIGHT(B2115,2)","v":"46"},{"$f":"MONTH(A2115)","v":11}]
["2014-11-17",1447,"47",11]
["2014-11-18",1447,"47",11]
["2014-11-19",1447,"47",11]
["2014-11-20",1447,"47",11]
["2014-11-21",1447,"47",11]
["2014-11-22",1447,"47",11]
["2014-11-23",{"$f":"B2115+1","v":1447},"47",11]
["2014-11-24",1448,"48",11]
["2014-11-25",1448,"48",11]
["2014-11-26",1448,"48",11]
["2014-11-27",1448,"48",11]
["2014-11-28",1448,"48",11]
["2014-11-29",1448,"48",11]
["2014-11-30",1448,"48",11]
["2014-12-01",1449,"49",12]
["2014-12-02",1449,"49",12]
["2014-12-03",1449,"49",12]
["2014-12-04",1449,"49",12]
["2014-12-05",1449,"49",12]
["2014-12-06",1449,"49",12]
["2014-12-07",1449,"49",12]
["2014-12-08",1450,"50",12]
["2014-12-09",1450,"50",12]
["2014-12-10",1450,"50",12]
["2014-12-11",1450,"50",12]
["2014-12-12",1450,"50",12]
["2014-12-13",1450,"50",12]
["2014-12-14",1450,"50",12]
["2014-12-15",1451,"51",12]
["2014-12-16",1451,"51",12]
["2014-12-17",1451,"51",12]
["2014-12-18",1451,"51",12]
["2014-12-19",1451,"51",12]
["2014-12-20",1451,"51",12]
["2014-12-21",1451,"51",12]
["2014-12-22",1452,"52",12]
["2014-12-23",1452,"52",12]
["2014-12-24",1452,"52",12]
["2014-12-25",1452,"52",12]
["2014-12-26",1452,"52",12]
["2014-12-27",1452,"52",12]
["2014-12-28",1452,"52",12]
["2014-12-29",1453,"53",12]
["2014-12-30",1453,"53",12]
["2014-12-31",1453,"53",12]
["2015-01-01",1453,{"$f":"RIGHT(B2161,2)","v":"53"},{"$f":"MONTH(A2161)","v":1}]
["2015-01-02",1453,"53",1]
["2015-01-03",1453,"53",1]
["2015-01-04",1453,"53",1]
["2015-01-05",1501,"01",1]
["2015-01-06",1501,"01",1]
["2015-01-07",1501,{"$f":"RIGHT(B2167,2)","v":"01"},{"$f":"MONTH(A2167)","v":1}]
["2015-01-08",1501,"01",1]
["2015-01-09",1501,"01",1]
["2015-01-10",1501,"01",1]
["2015-01-11",1501,"01",1]
["2015-01-12",1502,"02",1]
["2015-01-13",1502,"02",1]
["2015-01-14",1502,"02",1]
["2015-01-15",1502,"02",1]
["2015-01-16",1502,"02",1]
["2015-01-17",1502,"02",1]
["2015-01-18",1502,"02",1]
["2015-01-19",1503,{"$f":"RIGHT(B2179,2)","v":"03"},{"$f":"MONTH(A2179)","v":1}]
["2015-01-20",1503,{"$f":"RIGHT(B2180,2)","v":"03"},{"$f":"MONTH(A2180)","v":1}]
["2015-01-21",1503,{"$f":"RIGHT(B2181,2)","v":"03"},{"$f":"MONTH(A2181)","v":1}]
["2015-01-22",1503,{"$f":"RIGHT(B2182,2)","v":"03"},{"$f":"MONTH(A2182)","v":1}]
["2015-01-23",1503,{"$f":"RIGHT(B2183,2)","v":"03"},{"$f":"MONTH(A2183)","v":1}]
["2015-01-24",1503,{"$f":"RIGHT(B2184,2)","v":"03"},{"$f":"MONTH(A2184)","v":1}]
["2015-01-25",1503,"03",1]
["2015-01-26",{"$f":"B2179+1","v":1504},"04",1]
["2015-01-27",1504,"04",1]
["2015-01-28",1504,"04",1]
["2015-01-29",1504,"04",1]
["2015-01-30",1504,"04",1]
["2015-01-31",1504,"04",1]
["2015-02-01",1504,"04",2]
["2015-02-02",1505,"05",2]
["2015-02-03",1505,"05",2]
["2015-02-04",1505,"05",2]
["2015-02-05",1505,"05",2]
["2015-02-06",1505,"05",2]
["2015-02-07",1505,"05",2]
["2015-02-08",1505,"05",2]
["2015-02-09",1506,"06",2]
["2015-02-10",1506,"06",2]
["2015-02-11",1506,"06",2]
["2015-02-12",1506,"06",2]
["2015-02-13",1506,"06",2]
["2015-02-14",1506,"06",2]
["2015-02-15",1506,"06",2]
["2015-02-16",1507,"07",2]
["2015-02-17",1507,"07",2]
["2015-02-18",1507,"07",2]
["2015-02-19",1507,"07",2]
["2015-02-20",1507,"07",2]
["2015-02-21",1507,"07",2]
["2015-02-22",1507,"07",2]
["2015-02-23",1508,"08",2]
["2015-02-24",1508,"08",2]
["2015-02-25",1508,"08",2]
["2015-02-26",1508,"08",2]
["2015-02-27",1508,"08",2]
["2015-02-28",1508,"08",2]
["2015-03-01",1508,"08",3]
["2015-03-02",1509,"09",3]
["2015-03-03",1509,"09",3]
["2015-03-04",1509,"09",3]
["2015-03-05",1509,"09",3]
["2015-03-06",1509,"09",3]
["2015-03-07",1509,"09",3]
["2015-03-08",1509,"09",3]
["2015-03-09",1510,"10",3]
["2015-03-10",1510,"10",3]
["2015-03-11",1510,"10",3]
["2015-03-12",1510,"10",3]
["2015-03-13",1510,"10",3]
["2015-03-14",1510,"10",3]
["2015-03-15",1510,"10",3]
["2015-03-16",1511,"11",3]
["2015-03-17",1511,"11",3]
["2015-03-18",1511,"11",3]
["2015-03-19",1511,"11",3]
["2015-03-20",1511,"11",3]
["2015-03-21",1511,"11",3]
["2015-03-22",1511,"11",3]
["2015-03-23",1512,"12",3]
["2015-03-24",1512,"12",3]
["2015-03-25",1512,"12",3]
["2015-03-26",1512,"12",3]
["2015-03-27",1512,"12",3]
["2015-03-28",1512,"12",3]
["2015-03-29",1512,{"$f":"RIGHT(B2248,2)","v":"12"},{"$f":"MONTH(A2248)","v":3}]
["2015-03-30",1513,"13",3]
["2015-03-31",{"$f":"B2243+1","v":1513},"13",3]
["2015-04-01",1513,"13",4]
["2015-04-02",1513,"13",4]
["2015-04-03",1513,"13",4]
["2015-04-04",1513,"13",4]
["2015-04-05",1513,"13",4]
["2015-04-06",1514,"14",4]
["2015-04-07",1514,"14",4]
["2015-04-08",1514,"14",4]
["2015-04-09",1514,"14",4]
["2015-04-10",1514,"14",4]
["2015-04-11",1514,"14",4]
["2015-04-12",1514,"14",4]
["2015-04-13",1515,"15",4]
["2015-04-14",1515,"15",4]
["2015-04-15",1515,"15",4]
["2015-04-16",1515,"15",4]
["2015-04-17",1515,"15",4]
["2015-04-18",1515,"15",4]
["2015-04-19",1515,"15",4]
["2015-04-20",1516,"16",4]
["2015-04-21",1516,"16",4]
["2015-04-22",1516,"16",4]
["2015-04-23",1516,"16",4]
["2015-04-24",1516,"16",4]
["2015-04-25",1516,"16",4]
["2015-04-26",1516,"16",4]
["2015-04-27",1517,"17",4]
["2015-04-28",1517,"17",4]
["2015-04-29",1517,"17",4]
["2015-04-30",1517,"17",4]
["2015-05-01",1517,"17",5]
["2015-05-02",1517,"17",5]
["2015-05-03",1517,"17",5]
["2015-05-04",1518,"18",5]
["2015-05-05",1518,"18",5]
["2015-05-06",1518,"18",5]
["2015-05-07",1518,"18",5]
["2015-05-08",1518,"18",5]
["2015-05-09",1518,"18",5]
["2015-05-10",1518,"18",5]
["2015-05-11",1519,"19",5]
["2015-05-12",1519,"19",5]
["2015-05-13",1519,"19",5]
["2015-05-14",1519,"19",5]
["2015-05-15",1519,"19",5]
["2015-05-16",1519,"19",5]
["2015-05-17",1519,"19",5]
["2015-05-18",1520,"20",5]
["2015-05-19",1520,"20",5]
["2015-05-20",1520,"20",5]
["2015-05-21",1520,"20",5]
["2015-05-22",1520,"20",5]
["2015-05-23",1520,"20",5]
["2015-05-24",1520,"20",5]
["2015-05-25",1521,"21",5]
["2015-05-26",1521,"21",5]
["2015-05-27",1521,"21",5]
["2015-05-28",1521,"21",5]
["2015-05-29",1521,"21",5]
["2015-05-30",1521,"21",5]
["2015-05-31",1521,"21",5]
["2015-06-01",1522,{"$f":"RIGHT(B2312,2)","v":"22"},{"$f":"MONTH(A2312)","v":6}]
["2015-06-02",1522,"22",6]
["2015-06-03",{"$f":"B2307+1","v":1522},"22",6]
["2015-06-04",1522,"22",6]
["2015-06-05",1522,"22",6]
["2015-06-06",1522,"22",6]
["2015-06-07",1522,"22",6]
["2015-06-08",1523,"23",6]
["2015-06-09",1523,"23",6]
["2015-06-10",1523,"23",6]
["2015-06-11",1523,"23",6]
["2015-06-12",1523,"23",6]
["2015-06-13",1523,"23",6]
["2015-06-14",1523,"23",6]
["2015-06-15",1524,"24",6]
["2015-06-16",1524,"24",6]
["2015-06-17",1524,"24",6]
["2015-06-18",1524,"24",6]
["2015-06-19",1524,"24",6]
["2015-06-20",1524,"24",6]
["2015-06-21",1524,"24",6]
["2015-06-22",1525,"25",6]
["2015-06-23",1525,"25",6]
["2015-06-24",1525,"25",6]
["2015-06-25",1525,"25",6]
["2015-06-26",1525,"25",6]
["2015-06-27",1525,"25",6]
["2015-06-28",1525,"25",6]
["2015-06-29",1526,"26",6]
["2015-06-30",1526,"26",6]
["2015-07-01",1526,"26",7]
["2015-07-02",1526,"26",7]
["2015-07-03",1526,"26",7]
["2015-07-04",1526,"26",7]
["2015-07-05",1526,"26",7]
["2015-07-06",1527,"27",7]
["2015-07-07",1527,"27",7]
["2015-07-08",1527,"27",7]
["2015-07-09",1527,"27",7]
["2015-07-10",1527,"27",7]
["2015-07-11",1527,"27",7]
["2015-07-12",1527,"27",7]
["2015-07-13",1528,"28",7]
["2015-07-14",1528,"28",7]
["2015-07-15",1528,"28",7]
["2015-07-16",1528,"28",7]
["2015-07-17",1528,"28",7]
["2015-07-18",1528,"28",7]
["2015-07-19",1528,"28",7]
["2015-07-20",1529,"29",7]
["2015-07-21",1529,"29",7]
["2015-07-22",1529,"29",7]
["2015-07-23",1529,"29",7]
["2015-07-24",1529,"29",7]
["2015-07-25",1529,"29",7]
["2015-07-26",1529,"29",7]
["2015-07-27",1530,"30",7]
["2015-07-28",1530,"30",7]
["2015-07-29",1530,"30",7]
["2015-07-30",1530,"30",7]
["2015-07-31",1530,"30",7]
["2015-08-01",1530,"30",8]
["2015-08-02",1530,"30",8]
["2015-08-03",1531,"31",8]
["2015-08-04",1531,{"$f":"RIGHT(B2376,2)","v":"31"},{"$f":"MONTH(A2376)","v":8}]
["2015-08-05",1531,"31",8]
["2015-08-06",{"$f":"B2371+1","v":1531},"31",8]
["2015-08-07",1531,"31",8]
["2015-08-08",1531,"31",8]
["2015-08-09",1531,"31",8]
["2015-08-10",1532,"32",8]
["2015-08-11",1532,"32",8]
["2015-08-12",1532,"32",8]
["2015-08-13",1532,"32",8]
["2015-08-14",1532,"32",8]
["2015-08-15",1532,"32",8]
["2015-08-16",1532,"32",8]
["2015-08-17",1533,"33",8]
["2015-08-18",1533,"33",8]
["2015-08-19",1533,"33",8]
["2015-08-20",1533,"33",8]
["2015-08-21",1533,"33",8]
["2015-08-22",1533,"33",8]
["2015-08-23",1533,"33",8]
["2015-08-24",1534,"34",8]
["2015-08-25",1534,"34",8]
["2015-08-26",1534,"34",8]
["2015-08-27",1534,"34",8]
["2015-08-28",1534,"34",8]
["2015-08-29",1534,"34",8]
["2015-08-30",1534,"34",8]
["2015-08-31",1535,"35",8]
["2015-09-01",1535,"35",9]
["2015-09-02",1535,"35",9]
["2015-09-03",1535,"35",9]
["2015-09-04",1535,"35",9]
["2015-09-05",1535,"35",9]
["2015-09-06",1535,"35",9]
["2015-09-07",1536,"36",9]
["2015-09-08",1536,"36",9]
["2015-09-09",1536,"36",9]
["2015-09-10",1536,"36",9]
["2015-09-11",1536,"36",9]
["2015-09-12",1536,"36",9]
["2015-09-13",1536,"36",9]
["2015-09-14",1537,"37",9]
["2015-09-15",1537,"37",9]
["2015-09-16",1537,"37",9]
["2015-09-17",1537,"37",9]
["2015-09-18",1537,"37",9]
["2015-09-19",1537,"37",9]
["2015-09-20",1537,"37",9]
["2015-09-21",1538,"38",9]
["2015-09-22",1538,"38",9]
["2015-09-23",1538,"38",9]
["2015-09-24",1538,"38",9]
["2015-09-25",1538,"38",9]
["2015-09-26",1538,"38",9]
["2015-09-27",1538,"38",9]
["2015-09-28",1539,"39",9]
["2015-09-29",1539,"39",9]
["2015-09-30",1539,"39",9]
["2015-10-01",1539,"39",10]
["2015-10-02",1539,"39",10]
["2015-10-03",1539,"39",10]
["2015-10-04",1539,"39",10]
["2015-10-05",1540,"40",10]
["2015-10-06",1540,"40",10]
["2015-10-07",1540,{"$f":"RIGHT(B2440,2)","v":"40"},{"$f":"MONTH(A2440)","v":10}]
["2015-10-08",1540,"40",10]
["2015-10-09",{"$f":"B2435+1","v":1540},"40",10]
["2015-10-10",1540,"40",10]
["2015-10-11",1540,"40",10]
["2015-10-12",1541,"41",10]
["2015-10-13",1541,"41",10]
["2015-10-14",1541,"41",10]
["2015-10-15",1541,"41",10]
["2015-10-16",1541,"41",10]
["2015-10-17",1541,"41",10]
["2015-10-18",1541,"41",10]
["2015-10-19",1542,"42",10]
["2015-10-20",1542,"42",10]
["2015-10-21",1542,"42",10]
["2015-10-22",1542,"42",10]
["2015-10-23",1542,"42",10]
["2015-10-24",1542,"42",10]
["2015-10-25",1542,"42",10]
["2015-10-26",1543,"43",10]
["2015-10-27",1543,"43",10]
["2015-10-28",1543,"43",10]
["2015-10-29",1543,"43",10]
["2015-10-30",1543,"43",10]
["2015-10-31",1543,"43",10]
["2015-11-01",1543,"43",11]
["2015-11-02",1544,"44",11]
["2015-11-03",1544,"44",11]
["2015-11-04",1544,"44",11]
["2015-11-05",1544,"44",11]
["2015-11-06",1544,"44",11]
["2015-11-07",1544,"44",11]
["2015-11-08",1544,"44",11]
["2015-11-09",1545,"45",11]
["2015-11-10",1545,"45",11]
["2015-11-11",1545,"45",11]
["2015-11-12",1545,"45",11]
["2015-11-13",1545,"45",11]
["2015-11-14",1545,"45",11]
["2015-11-15",1545,"45",11]
["2015-11-16",1546,"46",11]
["2015-11-17",1546,"46",11]
["2015-11-18",1546,"46",11]
["2015-11-19",1546,"46",11]
["2015-11-20",1546,"46",11]
["2015-11-21",1546,"46",11]
["2015-11-22",1546,"46",11]
["2015-11-23",1547,"47",11]
["2015-11-24",1547,"47",11]
["2015-11-25",1547,"47",11]
["2015-11-26",1547,"47",11]
["2015-11-27",1547,"47",11]
["2015-11-28",1547,"47",11]
["2015-11-29",1547,"47",11]
["2015-11-30",1548,"48",11]
["2015-12-01",1548,"48",12]
["2015-12-02",1548,"48",12]
["2015-12-03",1548,"48",12]
["2015-12-04",1548,"48",12]
["2015-12-05",1548,"48",12]
["2015-12-06",1548,"48",12]
["2015-12-07",1549,"49",12]
["2015-12-08",1549,"49",12]
["2015-12-09",1549,"49",12]
["2015-12-10",1549,{"$f":"RIGHT(B2504,2)","v":"49"},{"$f":"MONTH(A2504)","v":12}]
["2015-12-11",1549,"49",12]
["2015-12-12",{"$f":"B2499+1","v":1549},"49",12]
["2015-12-13",1549,"49",12]
["2015-12-14",1550,"50",12]
["2015-12-15",1550,"50",12]
["2015-12-16",1550,"50",12]
["2015-12-17",1550,"50",12]
["2015-12-18",1550,"50",12]
["2015-12-19",1550,"50",12]
["2015-12-20",1550,"50",12]
["2015-12-21",1551,"51",12]
["2015-12-22",1551,"51",12]
["2015-12-23",1551,"51",12]
["2015-12-24",1551,"51",12]
["2015-12-25",1551,"51",12]
["2015-12-26",1551,"51",12]
["2015-12-27",1551,"51",12]
["2015-12-28",1552,"52",12]
["2015-12-29",1552,"52",12]
["2015-12-30",1552,"52",12]
["2015-12-31",1552,"52",12]
["2016-01-01",1552,"52",1]
["2016-01-02",1552,"52",1]
["2016-01-03",1552,"52",1]
["2016-01-04",1601,"01",1]
["2016-01-05",1601,{"$f":"RIGHT(B2530,2)","v":"01"},{"$f":"MONTH(A2530)","v":1}]
["2016-01-06",1601,"01",1]
["2016-01-07",1601,"01",1]
["2016-01-08",1601,"01",1]
["2016-01-09",1601,"01",1]
["2016-01-10",1601,"01",1]
["2016-01-11",{"$f":"B2529+1","v":1602},"02",1]
["2016-01-12",1602,{"$f":"RIGHT(B2537,2)","v":"02"},{"$f":"MONTH(A2537)","v":1}]
["2016-01-13",1602,"02",1]
["2016-01-14",1602,"02",1]
["2016-01-15",1602,"02",1]
["2016-01-16",1602,"02",1]
["2016-01-17",1602,"02",1]
["2016-01-18",1603,"03",1]
["2016-01-19",1603,"03",1]
["2016-01-20",1603,"03",1]
["2016-01-21",1603,"03",1]
["2016-01-22",1603,"03",1]
["2016-01-23",1603,"03",1]
["2016-01-24",1603,"03",1]
["2016-01-25",1604,"04",1]
["2016-01-26",1604,"04",1]
["2016-01-27",1604,"04",1]
["2016-01-28",1604,"04",1]
["2016-01-29",1604,"04",1]
["2016-01-30",1604,"04",1]
["2016-01-31",1604,"04",1]
["2016-02-01",1605,"05",2]
["2016-02-02",1605,"05",2]
["2016-02-03",1605,"05",2]
["2016-02-04",1605,"05",2]
["2016-02-05",1605,"05",2]
["2016-02-06",1605,"05",2]
["2016-02-07",1605,"05",2]
["2016-02-08",1606,"06",2]
["2016-02-09",1606,"06",2]
["2016-02-10",1606,"06",2]
["2016-02-11",1606,"06",2]
["2016-02-12",1606,"06",2]
["2016-02-13",1606,"06",2]
["2016-02-14",1606,"06",2]
["2016-02-15",1607,"07",2]
["2016-02-16",1607,"07",2]
["2016-02-17",1607,"07",2]
["2016-02-18",1607,"07",2]
["2016-02-19",1607,"07",2]
["2016-02-20",1607,"07",2]
["2016-02-21",1607,"07",2]
["2016-02-22",1608,"08",2]
["2016-02-23",1608,"08",2]
["2016-02-24",1608,"08",2]
["2016-02-25",1608,"08",2]
["2016-02-26",1608,"08",2]
["2016-02-27",1608,"08",2]
["2016-02-28",1608,"08",2]
["2016-02-29",1609,"09",2]
["2016-03-01",1609,"09",3]
["2016-03-02",1609,"09",3]
["2016-03-03",1609,"09",3]
["2016-03-04",1609,"09",3]
["2016-03-05",1609,"09",3]
["2016-03-06",1609,"09",3]
["2016-03-07",1610,"10",3]
["2016-03-08",1610,"10",3]
["2016-03-09",1610,"10",3]
["2016-03-10",1610,"10",3]
["2016-03-11",1610,"10",3]
["2016-03-12",1610,"10",3]
["2016-03-13",1610,"10",3]
["2016-03-14",1611,"11",3]
["2016-03-15",{"$f":"B2593+1","v":1611},"11",3]
["2016-03-16",1611,{"$f":"RIGHT(B2601,2)","v":"11"},{"$f":"MONTH(A2601)","v":3}]
["2016-03-17",1611,"11",3]
["2016-03-18",1611,"11",3]
["2016-03-19",1611,"11",3]
["2016-03-20",1611,"11",3]
["2016-03-21",1612,"12",3]
["2016-03-22",1612,"12",3]
["2016-03-23",1612,"12",3]
["2016-03-24",1612,"12",3]
["2016-03-25",1612,"12",3]
["2016-03-26",1612,"12",3]
["2016-03-27",1612,"12",3]
["2016-03-28",1613,"13",3]
["2016-03-29",1613,"13",3]
["2016-03-30",1613,"13",3]
["2016-03-31",1613,"13",3]
["2016-04-01",1613,"13",4]
["2016-04-02",1613,"13",4]
["2016-04-03",1613,"13",4]
["2016-04-04",1614,"14",4]
["2016-04-05",1614,"14",4]
["2016-04-06",1614,"14",4]
["2016-04-07",1614,"14",4]
["2016-04-08",1614,"14",4]
["2016-04-09",1614,"14",4]
["2016-04-10",1614,"14",4]
["2016-04-11",1615,"15",4]
["2016-04-12",1615,"15",4]
["2016-04-13",1615,"15",4]
["2016-04-14",1615,"15",4]
["2016-04-15",1615,"15",4]
["2016-04-16",1615,"15",4]
["2016-04-17",1615,"15",4]
["2016-04-18",1616,"16",4]
["2016-04-19",1616,"16",4]
["2016-04-20",1616,"16",4]
["2016-04-21",1616,"16",4]
["2016-04-22",1616,"16",4]
["2016-04-23",1616,"16",4]
["2016-04-24",1616,"16",4]
["2016-04-25",1617,"17",4]
["2016-04-26",1617,"17",4]
["2016-04-27",1617,"17",4]
["2016-04-28",1617,"17",4]
["2016-04-29",1617,"17",4]
["2016-04-30",1617,"17",4]
["2016-05-01",1617,"17",5]
["2016-05-02",1618,"18",5]
["2016-05-03",1618,"18",5]
["2016-05-04",1618,"18",5]
["2016-05-05",1618,"18",5]
["2016-05-06",1618,"18",5]
["2016-05-07",1618,"18",5]
["2016-05-08",1618,"18",5]
["2016-05-09",1619,"19",5]
["2016-05-10",1619,"19",5]
["2016-05-11",1619,"19",5]
["2016-05-12",1619,"19",5]
["2016-05-13",1619,"19",5]
["2016-05-14",1619,"19",5]
["2016-05-15",1619,"19",5]
["2016-05-16",1620,"20",5]
["2016-05-17",1620,"20",5]
["2016-05-18",{"$f":"B2657+1","v":1620},"20",5]
["2016-05-19",1620,{"$f":"RIGHT(B2665,2)","v":"20"},{"$f":"MONTH(A2665)","v":5}]
["2016-05-20",1620,"20",5]
["2016-05-21",1620,"20",5]
["2016-05-22",1620,"20",5]
["2016-05-23",1621,"21",5]
["2016-05-24",1621,"21",5]
["2016-05-25",1621,"21",5]
["2016-05-26",1621,"21",5]
["2016-05-27",1621,"21",5]
["2016-05-28",1621,"21",5]
["2016-05-29",1621,"21",5]
["2016-05-30",1622,"22",5]
["2016-05-31",1622,"22",5]
["2016-06-01",1622,"22",6]
["2016-06-02",1622,"22",6]
["2016-06-03",1622,"22",6]
["2016-06-04",1622,"22",6]
["2016-06-05",1622,"22",6]
["2016-06-06",1623,"23",6]
["2016-06-07",1623,"23",6]
["2016-06-08",1623,"23",6]
["2016-06-09",1623,"23",6]
["2016-06-10",1623,"23",6]
["2016-06-11",1623,"23",6]
["2016-06-12",1623,"23",6]
["2016-06-13",1624,"24",6]
["2016-06-14",1624,"24",6]
["2016-06-15",1624,"24",6]
["2016-06-16",1624,"24",6]
["2016-06-17",1624,"24",6]
["2016-06-18",1624,"24",6]
["2016-06-19",1624,"24",6]
["2016-06-20",1625,"25",6]
["2016-06-21",1625,"25",6]
["2016-06-22",1625,"25",6]
["2016-06-23",1625,"25",6]
["2016-06-24",1625,"25",6]
["2016-06-25",1625,"25",6]
["2016-06-26",1625,"25",6]
["2016-06-27",1626,"26",6]
["2016-06-28",1626,"26",6]
["2016-06-29",1626,"26",6]
["2016-06-30",1626,"26",6]
["2016-07-01",1626,"26",7]
["2016-07-02",1626,"26",7]
["2016-07-03",1626,"26",7]
["2016-07-04",1627,"27",7]
["2016-07-05",1627,"27",7]
["2016-07-06",1627,"27",7]
["2016-07-07",1627,"27",7]
["2016-07-08",1627,"27",7]
["2016-07-09",1627,"27",7]
["2016-07-10",1627,"27",7]
["2016-07-11",1628,"28",7]
["2016-07-12",1628,"28",7]
["2016-07-13",1628,"28",7]
["2016-07-14",1628,"28",7]
["2016-07-15",1628,"28",7]
["2016-07-16",1628,"28",7]
["2016-07-17",1628,"28",7]
["2016-07-18",1629,"29",7]
["2016-07-19",1629,"29",7]
["2016-07-20",1629,"29",7]
["2016-07-21",{"$f":"B2721+1","v":1629},"29",7]
["2016-07-22",1629,{"$f":"RIGHT(B2729,2)","v":"29"},{"$f":"MONTH(A2729)","v":7}]
["2016-07-23",1629,"29",7]
["2016-07-24",1629,"29",7]
["2016-07-25",1630,"30",7]
["2016-07-26",1630,"30",7]
["2016-07-27",1630,"30",7]
["2016-07-28",1630,"30",7]
["2016-07-29",1630,"30",7]
["2016-07-30",1630,"30",7]
["2016-07-31",1630,"30",7]
["2016-08-01",1631,"31",8]
["2016-08-02",1631,"31",8]
["2016-08-03",1631,"31",8]
["2016-08-04",1631,"31",8]
["2016-08-05",1631,"31",8]
["2016-08-06",1631,"31",8]
["2016-08-07",1631,"31",8]
["2016-08-08",1632,"32",8]
["2016-08-09",1632,"32",8]
["2016-08-10",1632,"32",8]
["2016-08-11",1632,"32",8]
["2016-08-12",1632,"32",8]
["2016-08-13",1632,"32",8]
["2016-08-14",1632,"32",8]
["2016-08-15",1633,"33",8]
["2016-08-16",1633,"33",8]
["2016-08-17",1633,"33",8]
["2016-08-18",1633,"33",8]
["2016-08-19",1633,"33",8]
["2016-08-20",1633,"33",8]
["2016-08-21",1633,"33",8]
["2016-08-22",1634,"34",8]
["2016-08-23",1634,"34",8]
["2016-08-24",1634,"34",8]
["2016-08-25",1634,"34",8]
["2016-08-26",1634,"34",8]
["2016-08-27",1634,"34",8]
["2016-08-28",1634,"34",8]
["2016-08-29",1635,"35",8]
["2016-08-30",1635,"35",8]
["2016-08-31",1635,"35",8]
["2016-09-01",1635,"35",9]
["2016-09-02",1635,"35",9]
["2016-09-03",1635,"35",9]
["2016-09-04",1635,"35",9]
["2016-09-05",1636,"36",9]
["2016-09-06",1636,"36",9]
["2016-09-07",1636,"36",9]
["2016-09-08",1636,"36",9]
["2016-09-09",1636,"36",9]
["2016-09-10",1636,"36",9]
["2016-09-11",1636,"36",9]
["2016-09-12",1637,"37",9]
["2016-09-13",1637,"37",9]
["2016-09-14",1637,"37",9]
["2016-09-15",1637,"37",9]
["2016-09-16",1637,"37",9]
["2016-09-17",1637,"37",9]
["2016-09-18",1637,"37",9]
["2016-09-19",1638,"38",9]
["2016-09-20",1638,"38",9]
["2016-09-21",1638,"38",9]
["2016-09-22",1638,"38",9]
["2016-09-23",{"$f":"B2785+1","v":1638},"38",9]
["2016-09-24",1638,{"$f":"RIGHT(B2793,2)","v":"38"},{"$f":"MONTH(A2793)","v":9}]
["2016-09-25",1638,"38",9]
["2016-09-26",1639,"39",9]
["2016-09-27",1639,"39",9]
["2016-09-28",1639,"39",9]
["2016-09-29",1639,"39",9]
["2016-09-30",1639,"39",9]
["2016-10-01",1639,"39",10]
["2016-10-02",1639,"39",10]
["2016-10-03",1640,"40",10]
["2016-10-04",1640,"40",10]
["2016-10-05",1640,"40",10]
["2016-10-06",1640,"40",10]
["2016-10-07",1640,"40",10]
["2016-10-08",1640,"40",10]
["2016-10-09",1640,"40",10]
["2016-10-10",1641,"41",10]
["2016-10-11",1641,"41",10]
["2016-10-12",1641,"41",10]
["2016-10-13",1641,"41",10]
["2016-10-14",1641,"41",10]
["2016-10-15",1641,"41",10]
["2016-10-16",1641,"41",10]
["2016-10-17",1642,"42",10]
["2016-10-18",1642,"42",10]
["2016-10-19",1642,"42",10]
["2016-10-20",1642,"42",10]
["2016-10-21",1642,"42",10]
["2016-10-22",1642,"42",10]
["2016-10-23",1642,"42",10]
["2016-10-24",1643,"43",10]
["2016-10-25",1643,"43",10]
["2016-10-26",1643,"43",10]
["2016-10-27",1643,"43",10]
["2016-10-28",1643,"43",10]
["2016-10-29",1643,"43",10]
["2016-10-30",1643,"43",10]
["2016-10-31",1644,"44",10]
["2016-11-01",1644,"44",11]
["2016-11-02",1644,"44",11]
["2016-11-03",1644,"44",11]
["2016-11-04",1644,"44",11]
["2016-11-05",1644,"44",11]
["2016-11-06",1644,"44",11]
["2016-11-07",1645,"45",11]
["2016-11-08",1645,"45",11]
["2016-11-09",1645,"45",11]
["2016-11-10",1645,"45",11]
["2016-11-11",1645,"45",11]
["2016-11-12",1645,"45",11]
["2016-11-13",1645,"45",11]
["2016-11-14",1646,"46",11]
["2016-11-15",1646,"46",11]
["2016-11-16",1646,"46",11]
["2016-11-17",1646,"46",11]
["2016-11-18",1646,"46",11]
["2016-11-19",1646,"46",11]
["2016-11-20",1646,"46",11]
["2016-11-21",1647,"47",11]
["2016-11-22",1647,"47",11]
["2016-11-23",1647,"47",11]
["2016-11-24",1647,"47",11]
["2016-11-25",1647,"47",11]
["2016-11-26",{"$f":"B2849+1","v":1647},"47",11]
["2016-11-27",1647,{"$f":"RIGHT(B2857,2)","v":"47"},{"$f":"MONTH(A2857)","v":11}]
["2016-11-28",1648,"48",11]
["2016-11-29",1648,"48",11]
["2016-11-30",1648,"48",11]
["2016-12-01",1648,"48",12]
["2016-12-02",1648,"48",12]
["2016-12-03",1648,"48",12]
["2016-12-04",1648,"48",12]
["2016-12-05",1649,"49",12]
["2016-12-06",1649,"49",12]
["2016-12-07",1649,"49",12]
["2016-12-08",1649,"49",12]
["2016-12-09",1649,"49",12]
["2016-12-10",1649,"49",12]
["2016-12-11",1649,"49",12]
["2016-12-12",1650,"50",12]
["2016-12-13",1650,"50",12]
["2016-12-14",1650,"50",12]
["2016-12-15",1650,"50",12]
["2016-12-16",1650,"50",12]
["2016-12-17",1650,"50",12]
["2016-12-18",1650,"50",12]
["2016-12-19",1651,"51",12]
["2016-12-20",1651,"51",12]
["2016-12-21",1651,"51",12]
["2016-12-22",1651,"51",12]
["2016-12-23",1651,"51",12]
["2016-12-24",1651,"51",12]
["2016-12-25",1651,"51",12]
["2016-12-26",1652,"52",12]
["2016-12-27",1652,"52",12]
["2016-12-28",1652,"52",12]
["2016-12-29",1652,"52",12]
["2016-12-30",1652,"52",12]
["2016-12-31",1652,"52",12]

{"sheet":"HOJA DE DATOS","index":1,"n_rows":500,"n_cols":35,"rows_kept":500,"cut":false,"hidden":false,"merged":[]}
[{"$f":"'[1]HOJA GENERAL DATOS IMPORTADOS'!A1","v":"ESPECIE"},{"$f":"'[1]HOJA GENERAL DATOS IMPORTADOS'!B1","v":"RAZA"},{"$f":"'[1]HOJA GENERAL DATOS IMPORTADOS'!C1","v":"EPOCA"},{"$f":"'[1]HOJA GENERAL DATOS IMPORTADOS'!D1","v":"CuentaDeNºREGISTRO"},{"$f":"'[1]HOJA GENERAL DATOS IMPORTADOS'!E1","v":"PromedioDeLECHE/ANIMALDIA"},{"$f":"'[1]HOJA GENERAL DATOS IMPORTADOS'!F1","v":"PromedioDe%EQ"},{"$f":"'[1]HOJA GENERAL DATOS IMPORTADOS'!G1","v":"PromedioDegrEQ/ANIMALDIA"},{"$f":"'[1]HOJA GENERAL DATOS IMPORTADOS'!H1","v":"DesvEstDegrEQ/ANIMALDIA"},{"$f":"'[1]HOJA GENERAL DATOS IMPORTADOS'!I1","v":0},{"$f":"'[1]HOJA GENERAL DATOS IMPORTADOS'!J1","v":0},{"$f":"'[1]HOJA GENERAL DATOS IMPORTADOS'!K1","v":0},{"$f":"'[1]HOJA GENERAL DATOS IMPORTADOS'!L1","v":0},{"$f":"'[1]HOJA GENERAL DATOS IMPORTADOS'!M1","v":0},{"$f":"'[1]HOJA GENERAL DATOS IMPORTADOS'!N1","v":0},{"$f":"'[1]HOJA GENERAL DATOS IMPORTADOS'!O1","v":0},{"$f":"'[1]HOJA GENERAL DATOS IMPORTADOS'!P1","v":0},{"$f":"'[1]HOJA GENERAL DATOS IMPORTADOS'!Q1","v":0},{"$f":"'[1]HOJA GENERAL DATOS IMPORTADOS'!R1","v":0},{"$f":"'[1]HOJA GENERAL DATOS IMPORTADOS'!S1","v":0},{"$f":"'[1]HOJA GENERAL DATOS IMPORTADOS'!T1","v":0},{"$f":"'[1]HOJA GENERAL DATOS IMPORTADOS'!U1","v":0},{"$f":"'[1]HOJA GENERAL DATOS IMPORTADOS'!V1","v":0},{"$f":"'[1]HOJA GENERAL DATOS IMPORTADOS'!W1","v":0},{"$f":"'[1]HOJA GENERAL DATOS IMPORTADOS'!X1","v":0},{"$f":"'[1]HOJA GENERAL DATOS IMPORTADOS'!Y1","v":0},{"$f":"'[1]HOJA GENERAL DATOS IMPORTADOS'!Z1","v":0},{"$f":"'[1]HOJA GENERAL DATOS IMPORTADOS'!AA1","v":0},{"$f":"'[1]HOJA GENERAL DATOS IMPORTADOS'!AB1","v":0},{"$f":"'[1]HOJA GENERAL DATOS IMPORTADOS'!AC1","v":0},{"$f":"'[1]HOJA GENERAL DATOS IMPORTADOS'!AD1","v":0},{"$f":"'[1]HOJA GENERAL DATOS IMPORTADOS'!AE1","v":0},{"$f":"'[1]HOJA GENERAL DATOS IMPORTADOS'!AF1","v":0},{"$f":"'[1]HOJA GENERAL DATOS IMPORTADOS'!AG1","v":0},{"$f":"'[1]HOJA GENERAL DATOS IMPORTADOS'!AH1","v":0},{"$f":"'[1]HOJA GENERAL DATOS IMPORTADOS'!AI1","v":0}]
[null,null,null,null,null,null,null,null,{"$f":"'[1]HOJA GENERAL DATOS IMPORTADOS'!I2","v":0},{"$f":"'[1]HOJA GENERAL DATOS IMPORTADOS'!J2","v":0},{"$f":"'[1]HOJA GENERAL DATOS IMPORTADOS'!K2","v":0},{"$f":"'[1]HOJA GENERAL DATOS IMPORTADOS'!L2","v":0},{"$f":"'[1]HOJA GENERAL DATOS IMPORTADOS'!M2","v":0},{"$f":"'[1]HOJA GENERAL DATOS IMPORTADOS'!N2","v":0},{"$f":"'[1]HOJA GENERAL DATOS IMPORTADOS'!O2","v":0},{"$f":"'[1]HOJA GENERAL DATOS IMPORTADOS'!P2","v":0},{"$f":"'[1]HOJA GENERAL DATOS IMPORTADOS'!Q2","v":0},{"$f":"'[1]HOJA GENERAL DATOS IMPORTADOS'!R2","v":0},{"$f":"'[1]HOJA GENERAL DATOS IMPORTADOS'!S2","v":0},{"$f":"'[1]HOJA GENERAL DATOS IMPORTADOS'!T2","v":0},{"$f":"'[1]HOJA GENERAL DATOS IMPORTADOS'!U2","v":0},{"$f":"'[1]HOJA GENERAL DATOS IMPORTADOS'!V2","v":0},{"$f":"'[1]HOJA GENERAL DATOS IMPORTADOS'!W2","v":0},{"$f":"'[1]HOJA GENERAL DATOS IMPORTADOS'!X2","v":0},{"$f":"'[1]HOJA GENERAL DATOS IMPORTADOS'!Y2","v":0},{"$f":"'[1]HOJA GENERAL DATOS IMPORTADOS'!Z2","v":0},{"$f":"'[1]HOJA GENERAL DATOS IMPORTADOS'!AA2","v":0},{"$f":"'[1]HOJA GENERAL DATOS IMPORTADOS'!AB2","v":0},{"$f":"'[1]HOJA GENERAL DATOS IMPORTADOS'!AC2","v":0},{"$f":"'[1]HOJA GENERAL DATOS IMPORTADOS'!AD2","v":0},{"$f":"'[1]HOJA GENERAL DATOS IMPORTADOS'!AE2","v":0},{"$f":"'[1]HOJA GENERAL DATOS IMPORTADOS'!AF2","v":0},{"$f":"'[1]HOJA GENERAL DATOS IMPORTADOS'!AG2","v":0},{"$f":"'[1]HOJA GENERAL DATOS IMPORTADOS'!AH2","v":0},{"$f":"'[1]HOJA GENERAL DATOS IMPORTADOS'!AI2","v":0}]
[null,null,null,null,null,null,null,null,{"$f":"'[1]HOJA GENERAL DATOS IMPORTADOS'!I3","v":0},{"$f":"'[1]HOJA GENERAL DATOS IMPORTADOS'!J3","v":0},{"$f":"'[1]HOJA GENERAL DATOS IMPORTADOS'!K3","v":0},{"$f":"'[1]HOJA GENERAL DATOS IMPORTADOS'!L3","v":0},{"$f":"'[1]HOJA GENERAL DATOS IMPORTADOS'!M3","v":0},{"$f":"'[1]HOJA GENERAL DATOS IMPORTADOS'!N3","v":0},{"$f":"'[1]HOJA GENERAL DATOS IMPORTADOS'!O3","v":0},{"$f":"'[1]HOJA GENERAL DATOS IMPORTADOS'!P3","v":0},{"$f":"'[1]HOJA GENERAL DATOS IMPORTADOS'!Q3","v":0},{"$f":"'[1]HOJA GENERAL DATOS IMPORTADOS'!R3","v":0},{"$f":"'[1]HOJA GENERAL DATOS IMPORTADOS'!S3","v":0},{"$f":"'[1]HOJA GENERAL DATOS IMPORTADOS'!T3","v":0},{"$f":"'[1]HOJA GENERAL DATOS IMPORTADOS'!U3","v":0},{"$f":"'[1]HOJA GENERAL DATOS IMPORTADOS'!V3","v":0},{"$f":"'[1]HOJA GENERAL DATOS IMPORTADOS'!W3","v":0},{"$f":"'[1]HOJA GENERAL DATOS IMPORTADOS'!X3","v":0},{"$f":"'[1]HOJA GENERAL DATOS IMPORTADOS'!Y3","v":0},{"$f":"'[1]HOJA GENERAL DATOS IMPORTADOS'!Z3","v":0},{"$f":"'[1]HOJA GENERAL DATOS IMPORTADOS'!AA3","v":0},{"$f":"'[1]HOJA GENERAL DATOS IMPORTADOS'!AB3","v":0},{"$f":"'[1]HOJA GENERAL DATOS IMPORTADOS'!AC3","v":0},{"$f":"'[1]HOJA GENERAL DATOS IMPORTADOS'!AD3","v":0},{"$f":"'[1]HOJA GENERAL DATOS IMPORTADOS'!AE3","v":0},{"$f":"'[1]HOJA GENERAL DATOS IMPORTADOS'!AF3","v":0},{"$f":"'[1]HOJA GENERAL DATOS IMPORTADOS'!AG3","v":0},{"$f":"'[1]HOJA GENERAL DATOS IMPORTADOS'!AH3","v":0},{"$f":"'[1]HOJA GENERAL DATOS IMPORTADOS'!AI3","v":0}]
[null,null,null,null,null,null,null,null,{"$f":"'[1]HOJA GENERAL DATOS IMPORTADOS'!I4","v":0},{"$f":"'[1]HOJA GENERAL DATOS IMPORTADOS'!J4","v":0},{"$f":"'[1]HOJA GENERAL DATOS IMPORTADOS'!K4","v":0},{"$f":"'[1]HOJA GENERAL DATOS IMPORTADOS'!L4","v":0},{"$f":"'[1]HOJA GENERAL DATOS IMPORTADOS'!M4","v":0},{"$f":"'[1]HOJA GENERAL DATOS IMPORTADOS'!N4","v":0},{"$f":"'[1]HOJA GENERAL DATOS IMPORTADOS'!O4","v":0},{"$f":"'[1]HOJA GENERAL DATOS IMPORTADOS'!P4","v":0},{"$f":"'[1]HOJA GENERAL DATOS IMPORTADOS'!Q4","v":0},{"$f":"'[1]HOJA GENERAL DATOS IMPORTADOS'!R4","v":0},{"$f":"'[1]HOJA GENERAL DATOS IMPORTADOS'!S4","v":0},{"$f":"'[1]HOJA GENERAL DATOS IMPORTADOS'!T4","v":0},{"$f":"'[1]HOJA GENERAL DATOS IMPORTADOS'!U4","v":0},{"$f":"'[1]HOJA GENERAL DATOS IMPORTADOS'!V4","v":0},{"$f":"'[1]HOJA GENERAL DATOS IMPORTADOS'!W4","v":0},{"$f":"'[1]HOJA GENERAL DATOS IMPORTADOS'!X4","v":0},{"$f":"'[1]HOJA GENERAL DATOS IMPORTADOS'!Y4","v":0},{"$f":"'[1]HOJA GENERAL DATOS IMPORTADOS'!Z4","v":0},{"$f":"'[1]HOJA GENERAL DATOS IMPORTADOS'!AA4","v":0},{"$f":"'[1]HOJA GENERAL DATOS IMPORTADOS'!AB4","v":0},{"$f":"'[1]HOJA GENERAL DATOS IMPORTADOS'!AC4","v":0},{"$f":"'[1]HOJA GENERAL DATOS IMPORTADOS'!AD4","v":0},{"$f":"'[1]HOJA GENERAL DATOS IMPORTADOS'!AE4","v":0},{"$f":"'[1]HOJA GENERAL DATOS IMPORTADOS'!AF4","v":0},{"$f":"'[1]HOJA GENERAL DATOS IMPORTADOS'!AG4","v":0},{"$f":"'[1]HOJA GENERAL DATOS IMPORTADOS'!AH4","v":0},{"$f":"'[1]HOJA GENERAL DATOS IMPORTADOS'!AI4","v":0}]
[null,null,null,null,null,null,null,null,{"$f":"'[1]HOJA GENERAL DATOS IMPORTADOS'!I5","v":0},{"$f":"'[1]HOJA GENERAL DATOS IMPORTADOS'!J5","v":0},{"$f":"'[1]HOJA GENERAL DATOS IMPORTADOS'!K5","v":0},{"$f":"'[1]HOJA GENERAL DATOS IMPORTADOS'!L5","v":0},{"$f":"'[1]HOJA GENERAL DATOS IMPORTADOS'!M5","v":0},{"$f":"'[1]HOJA GENERAL DATOS IMPORTADOS'!N5","v":0},{"$f":"'[1]HOJA GENERAL DATOS IMPORTADOS'!O5","v":0},{"$f":"'[1]HOJA GENERAL DATOS IMPORTADOS'!P5","v":0},{"$f":"'[1]HOJA GENERAL DATOS IMPORTADOS'!Q5","v":0},{"$f":"'[1]HOJA GENERAL DATOS IMPORTADOS'!R5","v":0},{"$f":"'[1]HOJA GENERAL DATOS IMPORTADOS'!S5","v":0},{"$f":"'[1]HOJA GENERAL DATOS IMPORTADOS'!T5","v":0},{"$f":"'[1]HOJA GENERAL DATOS IMPORTADOS'!U5","v":0},{"$f":"'[1]HOJA GENERAL DATOS IMPORTADOS'!V5","v":0},{"$f":"'[1]HOJA GENERAL DATOS IMPORTADOS'!W5","v":0},{"$f":"'[1]HOJA GENERAL DATOS IMPORTADOS'!X5","v":0},{"$f":"'[1]HOJA GENERAL DATOS IMPORTADOS'!Y5","v":0},{"$f":"'[1]HOJA GENERAL DATOS IMPORTADOS'!Z5","v":0},{"$f":"'[1]HOJA GENERAL DATOS IMPORTADOS'!AA5","v":0},{"$f":"'[1]HOJA GENERAL DATOS IMPORTADOS'!AB5","v":0},{"$f":"'[1]HOJA GENERAL DATOS IMPORTADOS'!AC5","v":0},{"$f":"'[1]HOJA GENERAL DATOS IMPORTADOS'!AD5","v":0},{"$f":"'[1]HOJA GENERAL DATOS IMPORTADOS'!AE5","v":0},{"$f":"'[1]HOJA GENERAL DATOS IMPORTADOS'!AF5","v":0},{"$f":"'[1]HOJA GENERAL DATOS IMPORTADOS'!AG5","v":0},{"$f":"'[1]HOJA GENERAL DATOS IMPORTADOS'!AH5","v":0},{"$f":"'[1]HOJA GENERAL DATOS IMPORTADOS'!AI5","v":0}]
[null,null,null,null,null,null,null,null,{"$f":"'[1]HOJA GENERAL DATOS IMPORTADOS'!I6","v":0},{"$f":"'[1]HOJA GENERAL DATOS IMPORTADOS'!J6","v":0},{"$f":"'[1]HOJA GENERAL DATOS IMPORTADOS'!K6","v":0},{"$f":"'[1]HOJA GENERAL DATOS IMPORTADOS'!L6","v":0},{"$f":"'[1]HOJA GENERAL DATOS IMPORTADOS'!M6","v":0},{"$f":"'[1]HOJA GENERAL DATOS IMPORTADOS'!N6","v":0},{"$f":"'[1]HOJA GENERAL DATOS IMPORTADOS'!O6","v":0},{"$f":"'[1]HOJA GENERAL DATOS IMPORTADOS'!P6","v":0},{"$f":"'[1]HOJA GENERAL DATOS IMPORTADOS'!Q6","v":0},{"$f":"'[1]HOJA GENERAL DATOS IMPORTADOS'!R6","v":0},{"$f":"'[1]HOJA GENERAL DATOS IMPORTADOS'!S6","v":0},{"$f":"'[1]HOJA GENERAL DATOS IMPORTADOS'!T6","v":0},{"$f":"'[1]HOJA GENERAL DATOS IMPORTADOS'!U6","v":0},{"$f":"'[1]HOJA GENERAL DATOS IMPORTADOS'!V6","v":0},{"$f":"'[1]HOJA GENERAL DATOS IMPORTADOS'!W6","v":0},{"$f":"'[1]HOJA GENERAL DATOS IMPORTADOS'!X6","v":0},{"$f":"'[1]HOJA GENERAL DATOS IMPORTADOS'!Y6","v":0},{"$f":"'[1]HOJA GENERAL DATOS IMPORTADOS'!Z6","v":0},{"$f":"'[1]HOJA GENERAL DATOS IMPORTADOS'!AA6","v":0},{"$f":"'[1]HOJA GENERAL DATOS IMPORTADOS'!AB6","v":0},{"$f":"'[1]HOJA GENERAL DATOS IMPORTADOS'!AC6","v":0},{"$f":"'[1]HOJA GENERAL DATOS IMPORTADOS'!AD6","v":0},{"$f":"'[1]HOJA GENERAL DATOS IMPORTADOS'!AE6","v":0},{"$f":"'[1]HOJA GENERAL DATOS IMPORTADOS'!AF6","v":0},{"$f":"'[1]HOJA GENERAL DATOS IMPORTADOS'!AG6","v":0},{"$f":"'[1]HOJA GENERAL DATOS IMPORTADOS'!AH6","v":0},{"$f":"'[1]HOJA GENERAL DATOS IMPORTADOS'!AI6","v":0}]
[null,null,null,null,null,null,null,null,{"$f":"'[1]HOJA GENERAL DATOS IMPORTADOS'!I7","v":0},{"$f":"'[1]HOJA GENERAL DATOS IMPORTADOS'!J7","v":0},{"$f":"'[1]HOJA GENERAL DATOS IMPORTADOS'!K7","v":0},{"$f":"'[1]HOJA GENERAL DATOS IMPORTADOS'!L7","v":0},{"$f":"'[1]HOJA GENERAL DATOS IMPORTADOS'!M7","v":0},{"$f":"'[1]HOJA GENERAL DATOS IMPORTADOS'!N7","v":0},{"$f":"'[1]HOJA GENERAL DATOS IMPORTADOS'!O7","v":0},{"$f":"'[1]HOJA GENERAL DATOS IMPORTADOS'!P7","v":0},{"$f":"'[1]HOJA GENERAL DATOS IMPORTADOS'!Q7","v":0},{"$f":"'[1]HOJA GENERAL DATOS IMPORTADOS'!R7","v":0},{"$f":"'[1]HOJA GENERAL DATOS IMPORTADOS'!S7","v":0},{"$f":"'[1]HOJA GENERAL DATOS IMPORTADOS'!T7","v":0},{"$f":"'[1]HOJA GENERAL DATOS IMPORTADOS'!U7","v":0},{"$f":"'[1]HOJA GENERAL DATOS IMPORTADOS'!V7","v":0},{"$f":"'[1]HOJA GENERAL DATOS IMPORTADOS'!W7","v":0},{"$f":"'[1]HOJA GENERAL DATOS IMPORTADOS'!X7","v":0},{"$f":"'[1]HOJA GENERAL DATOS IMPORTADOS'!Y7","v":0},{"$f":"'[1]HOJA GENERAL DATOS IMPORTADOS'!Z7","v":0},{"$f":"'[1]HOJA GENERAL DATOS IMPORTADOS'!AA7","v":0},{"$f":"'[1]HOJA GENERAL DATOS IMPORTADOS'!AB7","v":0},{"$f":"'[1]HOJA GENERAL DATOS IMPORTADOS'!AC7","v":0},{"$f":"'[1]HOJA GENERAL DATOS IMPORTADOS'!AD7","v":0},{"$f":"'[1]HOJA GENERAL DATOS IMPORTADOS'!AE7","v":0},{"$f":"'[1]HOJA GENERAL DATOS IMPORTADOS'!AF7","v":0},{"$f":"'[1]HOJA GENERAL DATOS IMPORTADOS'!AG7","v":0},{"$f":"'[1]HOJA GENERAL DATOS IMPORTADOS'!AH7","v":0},{"$f":"'[1]HOJA GENERAL DATOS IMPORTADOS'!AI7","v":0}]
[null,null,null,null,null,null,null,null,{"$f":"'[1]HOJA GENERAL DATOS IMPORTADOS'!I8","v":0},{"$f":"'[1]HOJA GENERAL DATOS IMPORTADOS'!J8","v":0},{"$f":"'[1]HOJA GENERAL DATOS IMPORTADOS'!K8","v":0},{"$f":"'[1]HOJA GENERAL DATOS IMPORTADOS'!L8","v":0},{"$f":"'[1]HOJA GENERAL DATOS IMPORTADOS'!M8","v":0},{"$f":"'[1]HOJA GENERAL DATOS IMPORTADOS'!N8","v":0},{"$f":"'[1]HOJA GENERAL DATOS IMPORTADOS'!O8","v":0},{"$f":"'[1]HOJA GENERAL DATOS IMPORTADOS'!P8","v":0},{"$f":"'[1]HOJA GENERAL DATOS IMPORTADOS'!Q8","v":0},{"$f":"'[1]HOJA GENERAL DATOS IMPORTADOS'!R8","v":0},{"$f":"'[1]HOJA GENERAL DATOS IMPORTADOS'!S8","v":0},{"$f":"'[1]HOJA GENERAL DATOS IMPORTADOS'!T8","v":0},{"$f":"'[1]HOJA GENERAL DATOS IMPORTADOS'!U8","v":0},{"$f":"'[1]HOJA GENERAL DATOS IMPORTADOS'!V8","v":0},{"$f":"'[1]HOJA GENERAL DATOS IMPORTADOS'!W8","v":0},{"$f":"'[1]HOJA GENERAL DATOS IMPORTADOS'!X8","v":0},{"$f":"'[1]HOJA GENERAL DATOS IMPORTADOS'!Y8","v":0},{"$f":"'[1]HOJA GENERAL DATOS IMPORTADOS'!Z8","v":0},{"$f":"'[1]HOJA GENERAL DATOS IMPORTADOS'!AA8","v":0},{"$f":"'[1]HOJA GENERAL DATOS IMPORTADOS'!AB8","v":0},{"$f":"'[1]HOJA GENERAL DATOS IMPORTADOS'!AC8","v":0},{"$f":"'[1]HOJA GENERAL DATOS IMPORTADOS'!AD8","v":0},{"$f":"'[1]HOJA GENERAL DATOS IMPORTADOS'!AE8","v":0},{"$f":"'[1]HOJA GENERAL DATOS IMPORTADOS'!AF8","v":0},{"$f":"'[1]HOJA GENERAL DATOS IMPORTADOS'!AG8","v":0},{"$f":"'[1]HOJA GENERAL DATOS IMPORTADOS'!AH8","v":0},{"$f":"'[1]HOJA GENERAL DATOS IMPORTADOS'!AI8","v":0}]
[null,null,null,null,null,null,null,null,{"$f":"'[1]HOJA GENERAL DATOS IMPORTADOS'!I9","v":0},{"$f":"'[1]HOJA GENERAL DATOS IMPORTADOS'!J9","v":0},{"$f":"'[1]HOJA GENERAL DATOS IMPORTADOS'!K9","v":0},{"$f":"'[1]HOJA GENERAL DATOS IMPORTADOS'!L9","v":0},{"$f":"'[1]HOJA GENERAL DATOS IMPORTADOS'!M9","v":0},{"$f":"'[1]HOJA GENERAL DATOS IMPORTADOS'!N9","v":0},{"$f":"'[1]HOJA GENERAL DATOS IMPORTADOS'!O9","v":0},{"$f":"'[1]HOJA GENERAL DATOS IMPORTADOS'!P9","v":0},{"$f":"'[1]HOJA GENERAL DATOS IMPORTADOS'!Q9","v":0},{"$f":"'[1]HOJA GENERAL DATOS IMPORTADOS'!R9","v":0},{"$f":"'[1]HOJA GENERAL DATOS IMPORTADOS'!S9","v":0},{"$f":"'[1]HOJA GENERAL DATOS IMPORTADOS'!T9","v":0},{"$f":"'[1]HOJA GENERAL DATOS IMPORTADOS'!U9","v":0},{"$f":"'[1]HOJA GENERAL DATOS IMPORTADOS'!V9","v":0},{"$f":"'[1]HOJA GENERAL DATOS IMPORTADOS'!W9","v":0},{"$f":"'[1]HOJA GENERAL DATOS IMPORTADOS'!X9","v":0},{"$f":"'[1]HOJA GENERAL DATOS IMPORTADOS'!Y9","v":0},{"$f":"'[1]HOJA GENERAL DATOS IMPORTADOS'!Z9","v":0},{"$f":"'[1]HOJA GENERAL DATOS IMPORTADOS'!AA9","v":0},{"$f":"'[1]HOJA GENERAL DATOS IMPORTADOS'!AB9","v":0},{"$f":"'[1]HOJA GENERAL DATOS IMPORTADOS'!AC9","v":0},{"$f":"'[1]HOJA GENERAL DATOS IMPORTADOS'!AD9","v":0},{"$f":"'[1]HOJA GENERAL DATOS IMPORTADOS'!AE9","v":0},{"$f":"'[1]HOJA GENERAL DATOS IMPORTADOS'!AF9","v":0},{"$f":"'[1]HOJA GENERAL DATOS IMPORTADOS'!AG9","v":0},{"$f":"'[1]HOJA GENERAL DATOS IMPORTADOS'!AH9","v":0},{"$f":"'[1]HOJA GENERAL DATOS IMPORTADOS'!AI9","v":0}]
[null,null,null,null,null,null,null,null,{"$f":"'[1]HOJA GENERAL DATOS IMPORTADOS'!I10","v":0},{"$f":"'[1]HOJA GENERAL DATOS IMPORTADOS'!J10","v":0},{"$f":"'[1]HOJA GENERAL DATOS IMPORTADOS'!K10","v":0},{"$f":"'[1]HOJA GENERAL DATOS IMPORTADOS'!L10","v":0},{"$f":"'[1]HOJA GENERAL DATOS IMPORTADOS'!M10","v":0},{"$f":"'[1]HOJA GENERAL DATOS IMPORTADOS'!N10","v":0},{"$f":"'[1]HOJA GENERAL DATOS IMPORTADOS'!O10","v":0},{"$f":"'[1]HOJA GENERAL DATOS IMPORTADOS'!P10","v":0},{"$f":"'[1]HOJA GENERAL DATOS IMPORTADOS'!Q10","v":0},{"$f":"'[1]HOJA GENERAL DATOS IMPORTADOS'!R10","v":0},{"$f":"'[1]HOJA GENERAL DATOS IMPORTADOS'!S10","v":0},{"$f":"'[1]HOJA GENERAL DATOS IMPORTADOS'!T10","v":0},{"$f":"'[1]HOJA GENERAL DATOS IMPORTADOS'!U10","v":0},{"$f":"'[1]HOJA GENERAL DATOS IMPORTADOS'!V10","v":0},{"$f":"'[1]HOJA GENERAL DATOS IMPORTADOS'!W10","v":0},{"$f":"'[1]HOJA GENERAL DATOS IMPORTADOS'!X10","v":0},{"$f":"'[1]HOJA GENERAL DATOS IMPORTADOS'!Y10","v":0},{"$f":"'[1]HOJA GENERAL DATOS IMPORTADOS'!Z10","v":0},{"$f":"'[1]HOJA GENERAL DATOS IMPORTADOS'!AA10","v":0},{"$f":"'[1]HOJA GENERAL DATOS IMPORTADOS'!AB10","v":0},{"$f":"'[1]HOJA GENERAL DATOS IMPORTADOS'!AC10","v":0},{"$f":"'[1]HOJA GENERAL DATOS IMPORTADOS'!AD10","v":0},{"$f":"'[1]HOJA GENERAL DATOS IMPORTADOS'!AE10","v":0},{"$f":"'[1]HOJA GENERAL DATOS IMPORTADOS'!AF10","v":0},{"$f":"'[1]HOJA GENERAL DATOS IMPORTADOS'!AG10","v":0},{"$f":"'[1]HOJA GENERAL DATOS IMPORTADOS'!AH10","v":0},{"$f":"'[1]HOJA GENERAL DATOS IMPORTADOS'!AI10","v":0}]
[null,null,null,null,null,null,null,null,{"$f":"'[1]HOJA GENERAL DATOS IMPORTADOS'!I11","v":0},{"$f":"'[1]HOJA GENERAL DATOS IMPORTADOS'!J11","v":0},{"$f":"'[1]HOJA GENERAL DATOS IMPORTADOS'!K11","v":0},{"$f":"'[1]HOJA GENERAL DATOS IMPORTADOS'!L11","v":0},{"$f":"'[1]HOJA GENERAL DATOS IMPORTADOS'!M11","v":0},{"$f":"'[1]HOJA GENERAL DATOS IMPORTADOS'!N11","v":0},{"$f":"'[1]HOJA GENERAL DATOS IMPORTADOS'!O11","v":0},{"$f":"'[1]HOJA GENERAL DATOS IMPORTADOS'!P11","v":0},{"$f":"'[1]HOJA GENERAL DATOS IMPORTADOS'!Q11","v":0},{"$f":"'[1]HOJA GENERAL DATOS IMPORTADOS'!R11","v":0},{"$f":"'[1]HOJA GENERAL DATOS IMPORTADOS'!S11","v":0},{"$f":"'[1]HOJA GENERAL DATOS IMPORTADOS'!T11","v":0},{"$f":"'[1]HOJA GENERAL DATOS IMPORTADOS'!U11","v":0},{"$f":"'[1]HOJA GENERAL DATOS IMPORTADOS'!V11","v":0},{"$f":"'[1]HOJA GENERAL DATOS IMPORTADOS'!W11","v":0},{"$f":"'[1]HOJA GENERAL DATOS IMPORTADOS'!X11","v":0},{"$f":"'[1]HOJA GENERAL DATOS IMPORTADOS'!Y11","v":0},{"$f":"'[1]HOJA GENERAL DATOS IMPORTADOS'!Z11","v":0},{"$f":"'[1]HOJA GENERAL DATOS IMPORTADOS'!AA11","v":0},{"$f":"'[1]HOJA GENERAL DATOS IMPORTADOS'!AB11","v":0},{"$f":"'[1]HOJA GENERAL DATOS IMPORTADOS'!AC11","v":0},{"$f":"'[1]HOJA GENERAL DATOS IMPORTADOS'!AD11","v":0},{"$f":"'[1]HOJA GENERAL DATOS IMPORTADOS'!AE11","v":0},{"$f":"'[1]HOJA GENERAL DATOS IMPORTADOS'!AF11","v":0},{"$f":"'[1]HOJA GENERAL DATOS IMPORTADOS'!AG11","v":0},{"$f":"'[1]HOJA GENERAL DATOS IMPORTADOS'!AH11","v":0},{"$f":"'[1]HOJA GENERAL DATOS IMPORTADOS'!AI11","v":0}]
[null,null,null,null,null,null,null,null,{"$f":"'[1]HOJA GENERAL DATOS IMPORTADOS'!I12","v":0},{"$f":"'[1]HOJA GENERAL DATOS IMPORTADOS'!J12","v":0},{"$f":"'[1]HOJA GENERAL DATOS IMPORTADOS'!K12","v":0},{"$f":"'[1]HOJA GENERAL DATOS IMPORTADOS'!L12","v":0},{"$f":"'[1]HOJA GENERAL DATOS IMPORTADOS'!M12","v":0},{"$f":"'[1]HOJA GENERAL DATOS IMPORTADOS'!N12","v":0},{"$f":"'[1]HOJA GENERAL DATOS IMPORTADOS'!O12","v":0},{"$f":"'[1]HOJA GENERAL DATOS IMPORTADOS'!P12","v":0},{"$f":"'[1]HOJA GENERAL DATOS IMPORTADOS'!Q12","v":0},{"$f":"'[1]HOJA GENERAL DATOS IMPORTADOS'!R12","v":0},{"$f":"'[1]HOJA GENERAL DATOS IMPORTADOS'!S12","v":0},{"$f":"'[1]HOJA GENERAL DATOS IMPORTADOS'!T12","v":0},{"$f":"'[1]HOJA GENERAL DATOS IMPORTADOS'!U12","v":0},{"$f":"'[1]HOJA GENERAL DATOS IMPORTADOS'!V12","v":0},{"$f":"'[1]HOJA GENERAL DATOS IMPORTADOS'!W12","v":0},{"$f":"'[1]HOJA GENERAL DATOS IMPORTADOS'!X12","v":0},{"$f":"'[1]HOJA GENERAL DATOS IMPORTADOS'!Y12","v":0},{"$f":"'[1]HOJA GENERAL DATOS IMPORTADOS'!Z12","v":0},{"$f":"'[1]HOJA GENERAL DATOS IMPORTADOS'!AA12","v":0},{"$f":"'[1]HOJA GENERAL DATOS IMPORTADOS'!AB12","v":0},{"$f":"'[1]HOJA GENERAL DATOS IMPORTADOS'!AC12","v":0},{"$f":"'[1]HOJA GENERAL DATOS IMPORTADOS'!AD12","v":0},{"$f":"'[1]HOJA GENERAL DATOS IMPORTADOS'!AE12","v":0},{"$f":"'[1]HOJA GENERAL DATOS IMPORTADOS'!AF12","v":0},{"$f":"'[1]HOJA GENERAL DATOS IMPORTADOS'!AG12","v":0},{"$f":"'[1]HOJA GENERAL DATOS IMPORTADOS'!AH12","v":0},{"$f":"'[1]HOJA GENERAL DATOS IMPORTADOS'!AI12","v":0}]
[null,null,null,null,null,null,null,null,{"$f":"'[1]HOJA GENERAL DATOS IMPORTADOS'!I13","v":0},{"$f":"'[1]HOJA GENERAL DATOS IMPORTADOS'!J13","v":0},{"$f":"'[1]HOJA GENERAL DATOS IMPORTADOS'!K13","v":0},{"$f":"'[1]HOJA GENERAL DATOS IMPORTADOS'!L13","v":0},{"$f":"'[1]HOJA GENERAL DATOS IMPORTADOS'!M13","v":0},{"$f":"'[1]HOJA GENERAL DATOS IMPORTADOS'!N13","v":0},{"$f":"'[1]HOJA GENERAL DATOS IMPORTADOS'!O13","v":0},{"$f":"'[1]HOJA GENERAL DATOS IMPORTADOS'!P13","v":0},{"$f":"'[1]HOJA GENERAL DATOS IMPORTADOS'!Q13","v":0},{"$f":"'[1]HOJA GENERAL DATOS IMPORTADOS'!R13","v":0},{"$f":"'[1]HOJA GENERAL DATOS IMPORTADOS'!S13","v":0},{"$f":"'[1]HOJA GENERAL DATOS IMPORTADOS'!T13","v":0},{"$f":"'[1]HOJA GENERAL DATOS IMPORTADOS'!U13","v":0},{"$f":"'[1]HOJA GENERAL DATOS IMPORTADOS'!V13","v":0},{"$f":"'[1]HOJA GENERAL DATOS IMPORTADOS'!W13","v":0},{"$f":"'[1]HOJA GENERAL DATOS IMPORTADOS'!X13","v":0},{"$f":"'[1]HOJA GENERAL DATOS IMPORTADOS'!Y13","v":0},{"$f":"'[1]HOJA GENERAL DATOS IMPORTADOS'!Z13","v":0},{"$f":"'[1]HOJA GENERAL DATOS IMPORTADOS'!AA13","v":0},{"$f":"'[1]HOJA GENERAL DATOS IMPORTADOS'!AB13","v":0},{"$f":"'[1]HOJA GENERAL DATOS IMPORTADOS'!AC13","v":0},{"$f":"'[1]HOJA GENERAL DATOS IMPORTADOS'!AD13","v":0},{"$f":"'[1]HOJA GENERAL DATOS IMPORTADOS'!AE13","v":0},{"$f":"'[1]HOJA GENERAL DATOS IMPORTADOS'!AF13","v":0},{"$f":"'[1]HOJA GENERAL DATOS IMPORTADOS'!AG13","v":0},{"$f":"'[1]HOJA GENERAL DATOS IMPORTADOS'!AH13","v":0},{"$f":"'[1]HOJA GENERAL DATOS IMPORTADOS'!AI13","v":0}]
[null,null,null,null,null,null,null,null,{"$f":"'[1]HOJA GENERAL DATOS IMPORTADOS'!I14","v":0},{"$f":"'[1]HOJA GENERAL DATOS IMPORTADOS'!J14","v":0},{"$f":"'[1]HOJA GENERAL DATOS IMPORTADOS'!K14","v":0},{"$f":"'[1]HOJA GENERAL DATOS IMPORTADOS'!L14","v":0},{"$f":"'[1]HOJA GENERAL DATOS IMPORTADOS'!M14","v":0},{"$f":"'[1]HOJA GENERAL DATOS IMPORTADOS'!N14","v":0},{"$f":"'[1]HOJA GENERAL DATOS IMPORTADOS'!O14","v":0},{"$f":"'[1]HOJA GENERAL DATOS IMPORTADOS'!P14","v":0},{"$f":"'[1]HOJA GENERAL DATOS IMPORTADOS'!Q14","v":0},{"$f":"'[1]HOJA GENERAL DATOS IMPORTADOS'!R14","v":0},{"$f":"'[1]HOJA GENERAL DATOS IMPORTADOS'!S14","v":0},{"$f":"'[1]HOJA GENERAL DATOS IMPORTADOS'!T14","v":0},{"$f":"'[1]HOJA GENERAL DATOS IMPORTADOS'!U14","v":0},{"$f":"'[1]HOJA GENERAL DATOS IMPORTADOS'!V14","v":0},{"$f":"'[1]HOJA GENERAL DATOS IMPORTADOS'!W14","v":0},{"$f":"'[1]HOJA GENERAL DATOS IMPORTADOS'!X14","v":0},{"$f":"'[1]HOJA GENERAL DATOS IMPORTADOS'!Y14","v":0},{"$f":"'[1]HOJA GENERAL DATOS IMPORTADOS'!Z14","v":0},{"$f":"'[1]HOJA GENERAL DATOS IMPORTADOS'!AA14","v":0},{"$f":"'[1]HOJA GENERAL DATOS IMPORTADOS'!AB14","v":0},{"$f":"'[1]HOJA GENERAL DATOS IMPORTADOS'!AC14","v":0},{"$f":"'[1]HOJA GENERAL DATOS IMPORTADOS'!AD14","v":0},{"$f":"'[1]HOJA GENERAL DATOS IMPORTADOS'!AE14","v":0},{"$f":"'[1]HOJA GENERAL DATOS IMPORTADOS'!AF14","v":0},{"$f":"'[1]HOJA GENERAL DATOS IMPORTADOS'!AG14","v":0},{"$f":"'[1]HOJA GENERAL DATOS IMPORTADOS'!AH14","v":0},{"$f":"'[1]HOJA GENERAL DATOS IMPORTADOS'!AI14","v":0}]
[null,null,null,null,null,null,null,null,{"$f":"'[1]HOJA GENERAL DATOS IMPORTADOS'!I15","v":0},{"$f":"'[1]HOJA GENERAL DATOS IMPORTADOS'!J15","v":0},{"$f":"'[1]HOJA GENERAL DATOS IMPORTADOS'!K15","v":0},{"$f":"'[1]HOJA GENERAL DATOS IMPORTADOS'!L15","v":0},{"$f":"'[1]HOJA GENERAL DATOS IMPORTADOS'!M15","v":0},{"$f":"'[1]HOJA GENERAL DATOS IMPORTADOS'!N15","v":0},{"$f":"'[1]HOJA GENERAL DATOS IMPORTADOS'!O15","v":0},{"$f":"'[1]HOJA GENERAL DATOS IMPORTADOS'!P15","v":0},{"$f":"'[1]HOJA GENERAL DATOS IMPORTADOS'!Q15","v":0},{"$f":"'[1]HOJA GENERAL DATOS IMPORTADOS'!R15","v":0},{"$f":"'[1]HOJA GENERAL DATOS IMPORTADOS'!S15","v":0},{"$f":"'[1]HOJA GENERAL DATOS IMPORTADOS'!T15","v":0},{"$f":"'[1]HOJA GENERAL DATOS IMPORTADOS'!U15","v":0},{"$f":"'[1]HOJA GENERAL DATOS IMPORTADOS'!V15","v":0},{"$f":"'[1]HOJA GENERAL DATOS IMPORTADOS'!W15","v":0},{"$f":"'[1]HOJA GENERAL DATOS IMPORTADOS'!X15","v":0},{"$f":"'[1]HOJA GENERAL DATOS IMPORTADOS'!Y15","v":0},{"$f":"'[1]HOJA GENERAL DATOS IMPORTADOS'!Z15","v":0},{"$f":"'[1]HOJA GENERAL DATOS IMPORTADOS'!AA15","v":0},{"$f":"'[1]HOJA GENERAL DATOS IMPORTADOS'!AB15","v":0},{"$f":"'[1]HOJA GENERAL DATOS IMPORTADOS'!AC15","v":0},{"$f":"'[1]HOJA GENERAL DATOS IMPORTADOS'!AD15","v":0},{"$f":"'[1]HOJA GENERAL DATOS IMPORTADOS'!AE15","v":0},{"$f":"'[1]HOJA GENERAL DATOS IMPORTADOS'!AF15","v":0},{"$f":"'[1]HOJA GENERAL DATOS IMPORTADOS'!AG15","v":0},{"$f":"'[1]HOJA GENERAL DATOS IMPORTADOS'!AH15","v":0},{"$f":"'[1]HOJA GENERAL DATOS IMPORTADOS'!AI15","v":0}]
[null,null,null,null,null,null,null,null,{"$f":"'[1]HOJA GENERAL DATOS IMPORTADOS'!I16","v":0},{"$f":"'[1]HOJA GENERAL DATOS IMPORTADOS'!J16","v":0},{"$f":"'[1]HOJA GENERAL DATOS IMPORTADOS'!K16","v":0},{"$f":"'[1]HOJA GENERAL DATOS IMPORTADOS'!L16","v":0},{"$f":"'[1]HOJA GENERAL DATOS IMPORTADOS'!M16","v":0},{"$f":"'[1]HOJA GENERAL DATOS IMPORTADOS'!N16","v":0},{"$f":"'[1]HOJA GENERAL DATOS IMPORTADOS'!O16","v":0},{"$f":"'[1]HOJA GENERAL DATOS IMPORTADOS'!P16","v":0},{"$f":"'[1]HOJA GENERAL DATOS IMPORTADOS'!Q16","v":0},{"$f":"'[1]HOJA GENERAL DATOS IMPORTADOS'!R16","v":0},{"$f":"'[1]HOJA GENERAL DATOS IMPORTADOS'!S16","v":0},{"$f":"'[1]HOJA GENERAL DATOS IMPORTADOS'!T16","v":0},{"$f":"'[1]HOJA GENERAL DATOS IMPORTADOS'!U16","v":0},{"$f":"'[1]HOJA GENERAL DATOS IMPORTADOS'!V16","v":0},{"$f":"'[1]HOJA GENERAL DATOS IMPORTADOS'!W16","v":0},{"$f":"'[1]HOJA GENERAL DATOS IMPORTADOS'!X16","v":0},{"$f":"'[1]HOJA GENERAL DATOS IMPORTADOS'!Y16","v":0},{"$f":"'[1]HOJA GENERAL DATOS IMPORTADOS'!Z16","v":0},{"$f":"'[1]HOJA GENERAL DATOS IMPORTADOS'!AA16","v":0},{"$f":"'[1]HOJA GENERAL DATOS IMPORTADOS'!AB16","v":0},{"$f":"'[1]HOJA GENERAL DATOS IMPORTADOS'!AC16","v":0},{"$f":"'[1]HOJA GENERAL DATOS IMPORTADOS'!AD16","v":0},{"$f":"'[1]HOJA GENERAL DATOS IMPORTADOS'!AE16","v":0},{"$f":"'[1]HOJA GENERAL DATOS IMPORTADOS'!AF16","v":0},{"$f":"'[1]HOJA GENERAL DATOS IMPORTADOS'!AG16","v":0},{"$f":"'[1]HOJA GENERAL DATOS IMPORTADOS'!AH16","v":0},{"$f":"'[1]HOJA GENERAL DATOS IMPORTADOS'!AI16","v":0}]
[null,null,null,null,null,null,null,null,{"$f":"'[1]HOJA GENERAL DATOS IMPORTADOS'!I17","v":0},{"$f":"'[1]HOJA GENERAL DATOS IMPORTADOS'!J17","v":0},{"$f":"'[1]HOJA GENERAL DATOS IMPORTADOS'!K17","v":0},{"$f":"'[1]HOJA GENERAL DATOS IMPORTADOS'!L17","v":0},{"$f":"'[1]HOJA GENERAL DATOS IMPORTADOS'!M17","v":0},{"$f":"'[1]HOJA GENERAL DATOS IMPORTADOS'!N17","v":0},{"$f":"'[1]HOJA GENERAL DATOS IMPORTADOS'!O17","v":0},{"$f":"'[1]HOJA GENERAL DATOS IMPORTADOS'!P17","v":0},{"$f":"'[1]HOJA GENERAL DATOS IMPORTADOS'!Q17","v":0},{"$f":"'[1]HOJA GENERAL DATOS IMPORTADOS'!R17","v":0},{"$f":"'[1]HOJA GENERAL DATOS IMPORTADOS'!S17","v":0},{"$f":"'[1]HOJA GENERAL DATOS IMPORTADOS'!T17","v":0},{"$f":"'[1]HOJA GENERAL DATOS IMPORTADOS'!U17","v":0},{"$f":"'[1]HOJA GENERAL DATOS IMPORTADOS'!V17","v":0},{"$f":"'[1]HOJA GENERAL DATOS IMPORTADOS'!W17","v":0},{"$f":"'[1]HOJA GENERAL DATOS IMPORTADOS'!X17","v":0},{"$f":"'[1]HOJA GENERAL DATOS IMPORTADOS'!Y17","v":0},{"$f":"'[1]HOJA GENERAL DATOS IMPORTADOS'!Z17","v":0},{"$f":"'[1]HOJA GENERAL DATOS IMPORTADOS'!AA17","v":0},{"$f":"'[1]HOJA GENERAL DATOS IMPORTADOS'!AB17","v":0},{"$f":"'[1]HOJA GENERAL DATOS IMPORTADOS'!AC17","v":0},{"$f":"'[1]HOJA GENERAL DATOS IMPORTADOS'!AD17","v":0},{"$f":"'[1]HOJA GENERAL DATOS IMPORTADOS'!AE17","v":0},{"$f":"'[1]HOJA GENERAL DATOS IMPORTADOS'!AF17","v":0},{"$f":"'[1]HOJA GENERAL DATOS IMPORTADOS'!AG17","v":0},{"$f":"'[1]HOJA GENERAL DATOS IMPORTADOS'!AH17","v":0},{"$f":"'[1]HOJA GENERAL DATOS IMPORTADOS'!AI17","v":0}]
[null,null,null,null,null,null,null,null,{"$f":"'[1]HOJA GENERAL DATOS IMPORTADOS'!I18","v":0},{"$f":"'[1]HOJA GENERAL DATOS IMPORTADOS'!J18","v":0},{"$f":"'[1]HOJA GENERAL DATOS IMPORTADOS'!K18","v":0},{"$f":"'[1]HOJA GENERAL DATOS IMPORTADOS'!L18","v":0},{"$f":"'[1]HOJA GENERAL DATOS IMPORTADOS'!M18","v":0},{"$f":"'[1]HOJA GENERAL DATOS IMPORTADOS'!N18","v":0},{"$f":"'[1]HOJA GENERAL DATOS IMPORTADOS'!O18","v":0},{"$f":"'[1]HOJA GENERAL DATOS IMPORTADOS'!P18","v":0},{"$f":"'[1]HOJA GENERAL DATOS IMPORTADOS'!Q18","v":0},{"$f":"'[1]HOJA GENERAL DATOS IMPORTADOS'!R18","v":0},{"$f":"'[1]HOJA GENERAL DATOS IMPORTADOS'!S18","v":0},{"$f":"'[1]HOJA GENERAL DATOS IMPORTADOS'!T18","v":0},{"$f":"'[1]HOJA GENERAL DATOS IMPORTADOS'!U18","v":0},{"$f":"'[1]HOJA GENERAL DATOS IMPORTADOS'!V18","v":0},{"$f":"'[1]HOJA GENERAL DATOS IMPORTADOS'!W18","v":0},{"$f":"'[1]HOJA GENERAL DATOS IMPORTADOS'!X18","v":0},{"$f":"'[1]HOJA GENERAL DATOS IMPORTADOS'!Y18","v":0},{"$f":"'[1]HOJA GENERAL DATOS IMPORTADOS'!Z18","v":0},{"$f":"'[1]HOJA GENERAL DATOS IMPORTADOS'!AA18","v":0},{"$f":"'[1]HOJA GENERAL DATOS IMPORTADOS'!AB18","v":0},{"$f":"'[1]HOJA GENERAL DATOS IMPORTADOS'!AC18","v":0},{"$f":"'[1]HOJA GENERAL DATOS IMPORTADOS'!AD18","v":0},{"$f":"'[1]HOJA GENERAL DATOS IMPORTADOS'!AE18","v":0},{"$f":"'[1]HOJA GENERAL DATOS IMPORTADOS'!AF18","v":0},{"$f":"'[1]HOJA GENERAL DATOS IMPORTADOS'!AG18","v":0},{"$f":"'[1]HOJA GENERAL DATOS IMPORTADOS'!AH18","v":0},{"$f":"'[1]HOJA GENERAL DATOS IMPORTADOS'!AI18","v":0}]
[null,null,null,null,null,null,null,null,{"$f":"'[1]HOJA GENERAL DATOS IMPORTADOS'!I19","v":0},{"$f":"'[1]HOJA GENERAL DATOS IMPORTADOS'!J19","v":0},{"$f":"'[1]HOJA GENERAL DATOS IMPORTADOS'!K19","v":0},{"$f":"'[1]HOJA GENERAL DATOS IMPORTADOS'!L19","v":0},{"$f":"'[1]HOJA GENERAL DATOS IMPORTADOS'!M19","v":0},{"$f":"'[1]HOJA GENERAL DATOS IMPORTADOS'!N19","v":0},{"$f":"'[1]HOJA GENERAL DATOS IMPORTADOS'!O19","v":0},{"$f":"'[1]HOJA GENERAL DATOS IMPORTADOS'!P19","v":0},{"$f":"'[1]HOJA GENERAL DATOS IMPORTADOS'!Q19","v":0},{"$f":"'[1]HOJA GENERAL DATOS IMPORTADOS'!R19","v":0},{"$f":"'[1]HOJA GENERAL DATOS IMPORTADOS'!S19","v":0},{"$f":"'[1]HOJA GENERAL DATOS IMPORTADOS'!T19","v":0},{"$f":"'[1]HOJA GENERAL DATOS IMPORTADOS'!U19","v":0},{"$f":"'[1]HOJA GENERAL DATOS IMPORTADOS'!V19","v":0},{"$f":"'[1]HOJA GENERAL DATOS IMPORTADOS'!W19","v":0},{"$f":"'[1]HOJA GENERAL DATOS IMPORTADOS'!X19","v":0},{"$f":"'[1]HOJA GENERAL DATOS IMPORTADOS'!Y19","v":0},{"$f":"'[1]HOJA GENERAL DATOS IMPORTADOS'!Z19","v":0},{"$f":"'[1]HOJA GENERAL DATOS IMPORTADOS'!AA19","v":0},{"$f":"'[1]HOJA GENERAL DATOS IMPORTADOS'!AB19","v":0},{"$f":"'[1]HOJA GENERAL DATOS IMPORTADOS'!AC19","v":0},{"$f":"'[1]HOJA GENERAL DATOS IMPORTADOS'!AD19","v":0},{"$f":"'[1]HOJA GENERAL DATOS IMPORTADOS'!AE19","v":0},{"$f":"'[1]HOJA GENERAL DATOS IMPORTADOS'!AF19","v":0},{"$f":"'[1]HOJA GENERAL DATOS IMPORTADOS'!AG19","v":0},{"$f":"'[1]HOJA GENERAL DATOS IMPORTADOS'!AH19","v":0},{"$f":"'[1]HOJA GENERAL DATOS IMPORTADOS'!AI19","v":0}]
[{"$f":"'[1]HOJA GENERAL DATOS IMPORTADOS'!A20","v":0},{"$f":"'[1]HOJA GENERAL DATOS IMPORTADOS'!B20","v":0},{"$f":"'[1]HOJA GENERAL DATOS IMPORTADOS'!C20","v":0},{"$f":"'[1]HOJA GENERAL DATOS IMPORTADOS'!D20","v":0},{"$f":"'[1]HOJA GENERAL DATOS IMPORTADOS'!E20","v":0},{"$f":"'[1]HOJA GENERAL DATOS IMPORTADOS'!F20","v":0},{"$f":"'[1]HOJA GENERAL DATOS IMPORTADOS'!G20","v":0},{"$f":"'[1]HOJA GENERAL DATOS IMPORTADOS'!H20","v":0},{"$f":"'[1]HOJA GENERAL DATOS IMPORTADOS'!I20","v":0},{"$f":"'[1]HOJA GENERAL DATOS IMPORTADOS'!J20","v":0},{"$f":"'[1]HOJA GENERAL DATOS IMPORTADOS'!K20","v":0},{"$f":"'[1]HOJA GENERAL DATOS IMPORTADOS'!L20","v":0},{"$f":"'[1]HOJA GENERAL DATOS IMPORTADOS'!M20","v":0},{"$f":"'[1]HOJA GENERAL DATOS IMPORTADOS'!N20","v":0},{"$f":"'[1]HOJA GENERAL DATOS IMPORTADOS'!O20","v":0},{"$f":"'[1]HOJA GENERAL DATOS IMPORTADOS'!P20","v":0},{"$f":"'[1]HOJA GENERAL DATOS IMPORTADOS'!Q20","v":0},{"$f":"'[1]HOJA GENERAL DATOS IMPORTADOS'!R20","v":0},{"$f":"'[1]HOJA GENERAL DATOS IMPORTADOS'!S20","v":0},{"$f":"'[1]HOJA GENERAL DATOS IMPORTADOS'!T20","v":0},{"$f":"'[1]HOJA GENERAL DATOS IMPORTADOS'!U20","v":0},{"$f":"'[1]HOJA GENERAL DATOS IMPORTADOS'!V20","v":0},{"$f":"'[1]HOJA GENERAL DATOS IMPORTADOS'!W20","v":0},{"$f":"'[1]HOJA GENERAL DATOS IMPORTADOS'!X20","v":0},{"$f":"'[1]HOJA GENERAL DATOS IMPORTADOS'!Y20","v":0},{"$f":"'[1]HOJA GENERAL DATOS IMPORTADOS'!Z20","v":0},{"$f":"'[1]HOJA GENERAL DATOS IMPORTADOS'!AA20","v":0},{"$f":"'[1]HOJA GENERAL DATOS IMPORTADOS'!AB20","v":0},{"$f":"'[1]HOJA GENERAL DATOS IMPORTADOS'!AC20","v":0},{"$f":"'[1]HOJA GENERAL DATOS IMPORTADOS'!AD20","v":0},{"$f":"'[1]HOJA GENERAL DATOS IMPORTADOS'!AE20","v":0},{"$f":"'[1]HOJA GENERAL DATOS IMPORTADOS'!AF20","v":0},{"$f":"'[1]HOJA GENERAL DATOS IMPORTADOS'!AG20","v":0},{"$f":"'[1]HOJA GENERAL DATOS IMPORTADOS'!AH20","v":0},{"$f":"'[1]HOJA GENERAL DATOS IMPORTADOS'!AI20","v":0}]
[{"$f":"'[1]HOJA GENERAL DATOS IMPORTADOS'!A21","v":0},{"$f":"'[1]HOJA GENERAL DATOS IMPORTADOS'!B21","v":0},{"$f":"'[1]HOJA GENERAL DATOS IMPORTADOS'!C21","v":0},{"$f":"'[1]HOJA GENERAL DATOS IMPORTADOS'!D21","v":0},{"$f":"'[1]HOJA GENERAL DATOS IMPORTADOS'!E21","v":0},{"$f":"'[1]HOJA GENERAL DATOS IMPORTADOS'!F21","v":0},{"$f":"'[1]HOJA GENERAL DATOS IMPORTADOS'!G21","v":0},{"$f":"'[1]HOJA GENERAL DATOS IMPORTADOS'!H21","v":0},{"$f":"'[1]HOJA GENERAL DATOS IMPORTADOS'!I21","v":0},{"$f":"'[1]HOJA GENERAL DATOS IMPORTADOS'!J21","v":0},{"$f":"'[1]HOJA GENERAL DATOS IMPORTADOS'!K21","v":0},{"$f":"'[1]HOJA GENERAL DATOS IMPORTADOS'!L21","v":0},{"$f":"'[1]HOJA GENERAL DATOS IMPORTADOS'!M21","v":0},{"$f":"'[1]HOJA GENERAL DATOS IMPORTADOS'!N21","v":0},{"$f":"'[1]HOJA GENERAL DATOS IMPORTADOS'!O21","v":0},{"$f":"'[1]HOJA GENERAL DATOS IMPORTADOS'!P21","v":0},{"$f":"'[1]HOJA GENERAL DATOS IMPORTADOS'!Q21","v":0},{"$f":"'[1]HOJA GENERAL DATOS IMPORTADOS'!R21","v":0},{"$f":"'[1]HOJA GENERAL DATOS IMPORTADOS'!S21","v":0},{"$f":"'[1]HOJA GENERAL DATOS IMPORTADOS'!T21","v":0},{"$f":"'[1]HOJA GENERAL DATOS IMPORTADOS'!U21","v":0},{"$f":"'[1]HOJA GENERAL DATOS IMPORTADOS'!V21","v":0},{"$f":"'[1]HOJA GENERAL DATOS IMPORTADOS'!W21","v":0},{"$f":"'[1]HOJA GENERAL DATOS IMPORTADOS'!X21","v":0},{"$f":"'[1]HOJA GENERAL DATOS IMPORTADOS'!Y21","v":0},{"$f":"'[1]HOJA GENERAL DATOS IMPORTADOS'!Z21","v":0},{"$f":"'[1]HOJA GENERAL DATOS IMPORTADOS'!AA21","v":0},{"$f":"'[1]HOJA GENERAL DATOS IMPORTADOS'!AB21","v":0},{"$f":"'[1]HOJA GENERAL DATOS IMPORTADOS'!AC21","v":0},{"$f":"'[1]HOJA GENERAL DATOS IMPORTADOS'!AD21","v":0},{"$f":"'[1]HOJA GENERAL DATOS IMPORTADOS'!AE21","v":0},{"$f":"'[1]HOJA GENERAL DATOS IMPORTADOS'!AF21","v":0},{"$f":"'[1]HOJA GENERAL DATOS IMPORTADOS'!AG21","v":0},{"$f":"'[1]HOJA GENERAL DATOS IMPORTADOS'!AH21","v":0},{"$f":"'[1]HOJA GENERAL DATOS IMPORTADOS'!AI21","v":0}]
[{"$f":"'[1]HOJA GENERAL DATOS IMPORTADOS'!A22","v":0},{"$f":"'[1]HOJA GENERAL DATOS IMPORTADOS'!B22","v":0},{"$f":"'[1]HOJA GENERAL DATOS IMPORTADOS'!C22","v":0},{"$f":"'[1]HOJA GENERAL DATOS IMPORTADOS'!D22","v":0},{"$f":"'[1]HOJA GENERAL DATOS IMPORTADOS'!E22","v":0},{"$f":"'[1]HOJA GENERAL DATOS IMPORTADOS'!F22","v":0},{"$f":"'[1]HOJA GENERAL DATOS IMPORTADOS'!G22","v":0},{"$f":"'[1]HOJA GENERAL DATOS IMPORTADOS'!H22","v":0},{"$f":"'[1]HOJA GENERAL DATOS IMPORTADOS'!I22","v":0},{"$f":"'[1]HOJA GENERAL DATOS IMPORTADOS'!J22","v":0},{"$f":"'[1]HOJA GENERAL DATOS IMPORTADOS'!K22","v":0},{"$f":"'[1]HOJA GENERAL DATOS IMPORTADOS'!L22","v":0},{"$f":"'[1]HOJA GENERAL DATOS IMPORTADOS'!M22","v":0},{"$f":"'[1]HOJA GENERAL DATOS IMPORTADOS'!N22","v":0},{"$f":"'[1]HOJA GENERAL DATOS IMPORTADOS'!O22","v":0},{"$f":"'[1]HOJA GENERAL DATOS IMPORTADOS'!P22","v":0},{"$f":"'[1]HOJA GENERAL DATOS IMPORTADOS'!Q22","v":0},{"$f":"'[1]HOJA GENERAL DATOS IMPORTADOS'!R22","v":0},{"$f":"'[1]HOJA GENERAL DATOS IMPORTADOS'!S22","v":0},{"$f":"'[1]HOJA GENERAL DATOS IMPORTADOS'!T22","v":0},{"$f":"'[1]HOJA GENERAL DATOS IMPORTADOS'!U22","v":0},{"$f":"'[1]HOJA GENERAL DATOS IMPORTADOS'!V22","v":0},{"$f":"'[1]HOJA GENERAL DATOS IMPORTADOS'!W22","v":0},{"$f":"'[1]HOJA GENERAL DATOS IMPORTADOS'!X22","v":0},{"$f":"'[1]HOJA GENERAL DATOS IMPORTADOS'!Y22","v":0},{"$f":"'[1]HOJA GENERAL DATOS IMPORTADOS'!Z22","v":0},{"$f":"'[1]HOJA GENERAL DATOS IMPORTADOS'!AA22","v":0},{"$f":"'[1]HOJA GENERAL DATOS IMPORTADOS'!AB22","v":0},{"$f":"'[1]HOJA GENERAL DATOS IMPORTADOS'!AC22","v":0},{"$f":"'[1]HOJA GENERAL DATOS IMPORTADOS'!AD22","v":0},{"$f":"'[1]HOJA GENERAL DATOS IMPORTADOS'!AE22","v":0},{"$f":"'[1]HOJA GENERAL DATOS IMPORTADOS'!AF22","v":0},{"$f":"'[1]HOJA GENERAL DATOS IMPORTADOS'!AG22","v":0},{"$f":"'[1]HOJA GENERAL DATOS IMPORTADOS'!AH22","v":0},{"$f":"'[1]HOJA GENERAL DATOS IMPORTADOS'!AI22","v":0}]
[{"$f":"'[1]HOJA GENERAL DATOS IMPORTADOS'!A23","v":"ESPECIE"},{"$f":"'[1]HOJA GENERAL DATOS IMPORTADOS'!B23","v":"MES CONTROL"},{"$f":"'[1]HOJA GENERAL DATOS IMPORTADOS'!C23","v":"PromedioDeANIMALES  EN ORDEÑO"},{"$f":"'[1]HOJA GENERAL DATOS IMPORTADOS'!D23","v":"PromedioDeLITROS TOTAL MES"},{"$f":"'[1]HOJA GENERAL DATOS IMPORTADOS'!E23","v":"PromedioDeGRAMOS GRASA"},{"$f":"'[1]HOJA GENERAL DATOS IMPORTADOS'!F23","v":"PromedioDeGRAMOS PROTEINA"},{"$f":"'[1]HOJA GENERAL DATOS IMPORTADOS'!G23","v":"LITROS/ANIMAL DIA"},{"$f":"'[1]HOJA GENERAL DATOS IMPORTADOS'!H23","v":"EQ"},{"$f":"'[1]HOJA GENERAL DATOS IMPORTADOS'!I23","v":0},{"$f":"'[1]HOJA GENERAL DATOS IMPORTADOS'!J23","v":0},{"$f":"'[1]HOJA GENERAL DATOS IMPORTADOS'!K23","v":0},{"$f":"'[1]HOJA GENERAL DATOS IMPORTADOS'!L23","v":0},{"$f":"'[1]HOJA GENERAL DATOS IMPORTADOS'!M23","v":0},{"$f":"'[1]HOJA GENERAL DATOS IMPORTADOS'!N23","v":0},{"$f":"'[1]HOJA GENERAL DATOS IMPORTADOS'!O23","v":0},{"$f":"'[1]HOJA GENERAL DATOS IMPORTADOS'!P23","v":0},{"$f":"'[1]HOJA GENERAL DATOS IMPORTADOS'!Q23","v":0},{"$f":"'[1]HOJA GENERAL DATOS IMPORTADOS'!R23","v":0},{"$f":"'[1]HOJA GENERAL DATOS IMPORTADOS'!S23","v":0},{"$f":"'[1]HOJA GENERAL DATOS IMPORTADOS'!T23","v":0},{"$f":"'[1]HOJA GENERAL DATOS IMPORTADOS'!U23","v":0},{"$f":"'[1]HOJA GENERAL DATOS IMPORTADOS'!V23","v":0},{"$f":"'[1]HOJA GENERAL DATOS IMPORTADOS'!W23","v":0},{"$f":"'[1]HOJA GENERAL DATOS IMPORTADOS'!X23","v":0},{"$f":"'[1]HOJA GENERAL DATOS IMPORTADOS'!Y23","v":0},{"$f":"'[1]HOJA GENERAL DATOS IMPORTADOS'!Z23","v":0},{"$f":"'[1]HOJA GENERAL DATOS IMPORTADOS'!AA23","v":0},{"$f":"'[1]HOJA GENERAL DATOS IMPORTADOS'!AB23","v":0},{"$f":"'[1]HOJA GENERAL DATOS IMPORTADOS'!AC23","v":0},{"$f":"'[1]HOJA GENERAL DATOS IMPORTADOS'!AD23","v":0},{"$f":"'[1]HOJA GENERAL DATOS IMPORTADOS'!AE23","v":0},{"$f":"'[1]HOJA GENERAL DATOS IMPORTADOS'!AF23","v":0},{"$f":"'[1]HOJA GENERAL DATOS IMPORTADOS'!AG23","v":0},{"$f":"'[1]HOJA GENERAL DATOS IMPORTADOS'!AH23","v":0},{"$f":"'[1]HOJA GENERAL DATOS IMPORTADOS'!AI23","v":0}]
[{"$f":"'[1]HOJA GENERAL DATOS IMPORTADOS'!A24","v":"CAPRINO"},{"$f":"'[1]HOJA GENERAL DATOS IMPORTADOS'!B24","v":1},{"$f":"'[1]HOJA GENERAL DATOS IMPORTADOS'!C24","v":296.30303030303003},{"$f":"'[1]HOJA GENERAL DATOS IMPORTADOS'!D24","v":16367.529411764701},{"$f":"'[1]HOJA GENERAL DATOS IMPORTADOS'!E24","v":54.735294117647101},{"$f":"'[1]HOJA GENERAL DATOS IMPORTADOS'!F24","v":37.147058823529399},{"$f":"'[1]HOJA GENERAL DATOS IMPORTADOS'!G24","v":1.8413052109778301},{"$f":"'[1]HOJA GENERAL DATOS IMPORTADOS'!H24","v":9.1882352941176499},{"$f":"'[1]HOJA GENERAL DATOS IMPORTADOS'!I24","v":0},{"$f":"'[1]HOJA GENERAL DATOS IMPORTADOS'!J24","v":0},{"$f":"'[1]HOJA GENERAL DATOS IMPORTADOS'!K24","v":0},{"$f":"'[1]HOJA GENERAL DATOS IMPORTADOS'!L24","v":0},{"$f":"'[1]HOJA GENERAL DATOS IMPORTADOS'!M24","v":0},{"$f":"'[1]HOJA GENERAL DATOS IMPORTADOS'!N24","v":0},{"$f":"'[1]HOJA GENERAL DATOS IMPORTADOS'!O24","v":0},{"$f":"'[1]HOJA GENERAL DATOS IMPORTADOS'!P24","v":0},{"$f":"'[1]HOJA GENERAL DATOS IMPORTADOS'!Q24","v":0},{"$f":"'[1]HOJA GENERAL DATOS IMPORTADOS'!R24","v":0},{"$f":"'[1]HOJA GENERAL DATOS IMPORTADOS'!S24","v":0},{"$f":"'[1]HOJA GENERAL DATOS IMPORTADOS'!T24","v":0},{"$f":"'[1]HOJA GENERAL DATOS IMPORTADOS'!U24","v":0},{"$f":"'[1]HOJA GENERAL DATOS IMPORTADOS'!V24","v":0},{"$f":"'[1]HOJA GENERAL DATOS IMPORTADOS'!W24","v":0},{"$f":"'[1]HOJA GENERAL DATOS IMPORTADOS'!X24","v":0},{"$f":"'[1]HOJA GENERAL DATOS IMPORTADOS'!Y24","v":0},{"$f":"'[1]HOJA GENERAL DATOS IMPORTADOS'!Z24","v":0},{"$f":"'[1]HOJA GENERAL DATOS IMPORTADOS'!AA24","v":0},{"$f":"'[1]HOJA GENERAL DATOS IMPORTADOS'!AB24","v":0},{"$f":"'[1]HOJA GENERAL DATOS IMPORTADOS'!AC24","v":0},{"$f":"'[1]HOJA GENERAL DATOS IMPORTADOS'!AD24","v":0},{"$f":"'[1]HOJA GENERAL DATOS IMPORTADOS'!AE24","v":0},{"$f":"'[1]HOJA GENERAL DATOS IMPORTADOS'!AF24","v":0},{"$f":"'[1]HOJA GENERAL DATOS IMPORTADOS'!AG24","v":0},{"$f":"'[1]HOJA GENERAL DATOS IMPORTADOS'!AH24","v":0},{"$f":"'[1]HOJA GENERAL DATOS IMPORTADOS'!AI24","v":0}]
[{"$f":"'[1]HOJA GENERAL DATOS IMPORTADOS'!A25","v":"CAPRINO"},{"$f":"'[1]HOJA GENERAL DATOS IMPORTADOS'!B25","v":2},{"$f":"'[1]HOJA GENERAL DATOS IMPORTADOS'!C25","v":316.59259259259301},{"$f":"'[1]HOJA GENERAL DATOS IMPORTADOS'!D25","v":15683.25},{"$f":"'[1]HOJA GENERAL DATOS IMPORTADOS'!E25","v":53.642857142857103},{"$f":"'[1]HOJA GENERAL DATOS IMPORTADOS'!F25","v":37.321428571428598},{"$f":"'[1]HOJA GENERAL DATOS IMPORTADOS'!G25","v":1.6512546794571801},{"$f":"'[1]HOJA GENERAL DATOS IMPORTADOS'!H25","v":9.0964285714285698},{"$f":"'[1]HOJA GENERAL DATOS IMPORTADOS'!I25","v":0},{"$f":"'[1]HOJA GENERAL DATOS IMPORTADOS'!J25","v":0},{"$f":"'[1]HOJA GENERAL DATOS IMPORTADOS'!K25","v":0},{"$f":"'[1]HOJA GENERAL DATOS IMPORTADOS'!L25","v":0},{"$f":"'[1]HOJA GENERAL DATOS IMPORTADOS'!M25","v":0},{"$f":"'[1]HOJA GENERAL DATOS IMPORTADOS'!N25","v":0},{"$f":"'[1]HOJA GENERAL DATOS IMPORTADOS'!O25","v":0},{"$f":"'[1]HOJA GENERAL DATOS IMPORTADOS'!P25","v":0},{"$f":"'[1]HOJA GENERAL DATOS IMPORTADOS'!Q25","v":0},{"$f":"'[1]HOJA GENERAL DATOS IMPORTADOS'!R25","v":0},{"$f":"'[1]HOJA GENERAL DATOS IMPORTADOS'!S25","v":0},{"$f":"'[1]HOJA GENERAL DATOS IMPORTADOS'!T25","v":0},{"$f":"'[1]HOJA GENERAL DATOS IMPORTADOS'!U25","v":0},{"$f":"'[1]HOJA GENERAL DATOS IMPORTADOS'!V25","v":0},{"$f":"'[1]HOJA GENERAL DATOS IMPORTADOS'!W25","v":0},{"$f":"'[1]HOJA GENERAL DATOS IMPORTADOS'!X25","v":0},{"$f":"'[1]HOJA GENERAL DATOS IMPORTADOS'!Y25","v":0},{"$f":"'[1]HOJA GENERAL DATOS IMPORTADOS'!Z25","v":0},{"$f":"'[1]HOJA GENERAL DATOS IMPORTADOS'!AA25","v":0},{"$f":"'[1]HOJA GENERAL DATOS IMPORTADOS'!AB25","v":0},{"$f":"'[1]HOJA GENERAL DATOS IMPORTADOS'!AC25","v":0},{"$f":"'[1]HOJA GENERAL DATOS IMPORTADOS'!AD25","v":0},{"$f":"'[1]HOJA GENERAL DATOS IMPORTADOS'!AE25","v":0},{"$f":"'[1]HOJA GENERAL DATOS IMPORTADOS'!AF25","v":0},{"$f":"'[1]HOJA GENERAL DATOS IMPORTADOS'!AG25","v":0},{"$f":"'[1]HOJA GENERAL DATOS IMPORTADOS'!AH25","v":0},{"$f":"'[1]HOJA GENERAL DATOS IMPORTADOS'!AI25","v":0}]
[{"$f":"'[1]HOJA GENERAL DATOS IMPORTADOS'!A26","v":"CAPRINO"},{"$f":"'[1]HOJA GENERAL DATOS IMPORTADOS'!B26","v":3},{"$f":"'[1]HOJA GENERAL DATOS IMPORTADOS'!C26","v":332.96},{"$f":"'[1]HOJA GENERAL DATOS IMPORTADOS'!D26","v":18221.2},{"$f":"'[1]HOJA GENERAL DATOS IMPORTADOS'!E26","v":53.2083333333333},{"$f":"'[1]HOJA GENERAL DATOS IMPORTADOS'!F26","v":37.1666666666667},{"$f":"'[1]HOJA GENERAL DATOS IMPORTADOS'!G26","v":1.8241630626301499},{"$f":"'[1]HOJA GENERAL DATOS IMPORTADOS'!H26","v":9.0374999999999996},{"$f":"'[1]HOJA GENERAL DATOS IMPORTADOS'!I26","v":0},{"$f":"'[1]HOJA GENERAL DATOS IMPORTADOS'!J26","v":0},{"$f":"'[1]HOJA GENERAL DATOS IMPORTADOS'!K26","v":0},{"$f":"'[1]HOJA GENERAL DATOS IMPORTADOS'!L26","v":0},{"$f":"'[1]HOJA GENERAL DATOS IMPORTADOS'!M26","v":0},{"$f":"'[1]HOJA GENERAL DATOS IMPORTADOS'!N26","v":0},{"$f":"'[1]HOJA GENERAL DATOS IMPORTADOS'!O26","v":0},{"$f":"'[1]HOJA GENERAL DATOS IMPORTADOS'!P26","v":0},{"$f":"'[1]HOJA GENERAL DATOS IMPORTADOS'!Q26","v":0},{"$f":"'[1]HOJA GENERAL DATOS IMPORTADOS'!R26","v":0},{"$f":"'[1]HOJA GENERAL DATOS IMPORTADOS'!S26","v":0},{"$f":"'[1]HOJA GENERAL DATOS IMPORTADOS'!T26","v":0},{"$f":"'[1]HOJA GENERAL DATOS IMPORTADOS'!U26","v":0},{"$f":"'[1]HOJA GENERAL DATOS IMPORTADOS'!V26","v":0},{"$f":"'[1]HOJA GENERAL DATOS IMPORTADOS'!W26","v":0},{"$f":"'[1]HOJA GENERAL DATOS IMPORTADOS'!X26","v":0},{"$f":"'[1]HOJA GENERAL DATOS IMPORTADOS'!Y26","v":0},{"$f":"'[1]HOJA GENERAL DATOS IMPORTADOS'!Z26","v":0},{"$f":"'[1]HOJA GENERAL DATOS IMPORTADOS'!AA26","v":0},{"$f":"'[1]HOJA GENERAL DATOS IMPORTADOS'!AB26","v":0},{"$f":"'[1]HOJA GENERAL DATOS IMPORTADOS'!AC26","v":0},{"$f":"'[1]HOJA GENERAL DATOS IMPORTADOS'!AD26","v":0},{"$f":"'[1]HOJA GENERAL DATOS IMPORTADOS'!AE26","v":0},{"$f":"'[1]HOJA GENERAL DATOS IMPORTADOS'!AF26","v":0},{"$f":"'[1]HOJA GENERAL DATOS IMPORTADOS'!AG26","v":0},{"$f":"'[1]HOJA GENERAL DATOS IMPORTADOS'!AH26","v":0},{"$f":"'[1]HOJA GENERAL DATOS IMPORTADOS'!AI26","v":0}]
[{"$f":"'[1]HOJA GENERAL DATOS IMPORTADOS'!A27","v":"CAPRINO"},{"$f":"'[1]HOJA GENERAL DATOS IMPORTADOS'!B27","v":4},{"$f":"'[1]HOJA GENERAL DATOS IMPORTADOS'!C27","v":320.16666666666703},{"$f":"'[1]HOJA GENERAL DATOS IMPORTADOS'!D27","v":18892.916666666701},{"$f":"'[1]HOJA GENERAL DATOS IMPORTADOS'!E27","v":50.7083333333333},{"$f":"'[1]HOJA GENERAL DATOS IMPORTADOS'!F27","v":35.5833333333333},{"$f":"'[1]HOJA GENERAL DATOS IMPORTADOS'!G27","v":1.9669876800277599},{"$f":"'[1]HOJA GENERAL DATOS IMPORTADOS'!H27","v":8.62916666666667},{"$f":"'[1]HOJA GENERAL DATOS IMPORTADOS'!I27","v":0},{"$f":"'[1]HOJA GENERAL DATOS IMPORTADOS'!J27","v":0},{"$f":"'[1]HOJA GENERAL DATOS IMPORTADOS'!K27","v":0},{"$f":"'[1]HOJA GENERAL DATOS IMPORTADOS'!L27","v":0},{"$f":"'[1]HOJA GENERAL DATOS IMPORTADOS'!M27","v":0},{"$f":"'[1]HOJA GENERAL DATOS IMPORTADOS'!N27","v":0},{"$f":"'[1]HOJA GENERAL DATOS IMPORTADOS'!O27","v":0},{"$f":"'[1]HOJA GENERAL DATOS IMPORTADOS'!P27","v":0},{"$f":"'[1]HOJA GENERAL DATOS IMPORTADOS'!Q27","v":0},{"$f":"'[1]HOJA GENERAL DATOS IMPORTADOS'!R27","v":0},{"$f":"'[1]HOJA GENERAL DATOS IMPORTADOS'!S27","v":0},{"$f":"'[1]HOJA GENERAL DATOS IMPORTADOS'!T27","v":0},{"$f":"'[1]HOJA GENERAL DATOS IMPORTADOS'!U27","v":0},{"$f":"'[1]HOJA GENERAL DATOS IMPORTADOS'!V27","v":0},{"$f":"'[1]HOJA GENERAL DATOS IMPORTADOS'!W27","v":0},{"$f":"'[1]HOJA GENERAL DATOS IMPORTADOS'!X27","v":0},{"$f":"'[1]HOJA GENERAL DATOS IMPORTADOS'!Y27","v":0},{"$f":"'[1]HOJA GENERAL DATOS IMPORTADOS'!Z27","v":0},{"$f":"'[1]HOJA GENERAL DATOS IMPORTADOS'!AA27","v":0},{"$f":"'[1]HOJA GENERAL DATOS IMPORTADOS'!AB27","v":0},{"$f":"'[1]HOJA GENERAL DATOS IMPORTADOS'!AC27","v":0},{"$f":"'[1]HOJA GENERAL DATOS IMPORTADOS'!AD27","v":0},{"$f":"'[1]HOJA GENERAL DATOS IMPORTADOS'!AE27","v":0},{"$f":"'[1]HOJA GENERAL DATOS IMPORTADOS'!AF27","v":0},{"$f":"'[1]HOJA GENERAL DATOS IMPORTADOS'!AG27","v":0},{"$f":"'[1]HOJA GENERAL DATOS IMPORTADOS'!AH27","v":0},{"$f":"'[1]HOJA GENERAL DATOS IMPORTADOS'!AI27","v":0}]
[{"$f":"'[1]HOJA GENERAL DATOS IMPORTADOS'!A28","v":"CAPRINO"},{"$f":"'[1]HOJA GENERAL DATOS IMPORTADOS'!B28","v":5},{"$f":"'[1]HOJA GENERAL DATOS IMPORTADOS'!C28","v":335.5},{"$f":"'[1]HOJA GENERAL DATOS IMPORTADOS'!D28","v":19728.4545454545},{"$f":"'[1]HOJA GENERAL DATOS IMPORTADOS'!E28","v":49.818181818181799},{"$f":"'[1]HOJA GENERAL DATOS IMPORTADOS'!F28","v":34.863636363636402},{"$f":"'[1]HOJA GENERAL DATOS IMPORTADOS'!G28","v":1.96010477351759},{"$f":"'[1]HOJA GENERAL DATOS IMPORTADOS'!H28","v":8.4681818181818205},{"$f":"'[1]HOJA GENERAL DATOS IMPORTADOS'!I28","v":0},{"$f":"'[1]HOJA GENERAL DATOS IMPORTADOS'!J28","v":0},{"$f":"'[1]HOJA GENERAL DATOS IMPORTADOS'!K28","v":0},{"$f":"'[1]HOJA GENERAL DATOS IMPORTADOS'!L28","v":0},{"$f":"'[1]HOJA GENERAL DATOS IMPORTADOS'!M28","v":0},{"$f":"'[1]HOJA GENERAL DATOS IMPORTADOS'!N28","v":0},{"$f":"'[1]HOJA GENERAL DATOS IMPORTADOS'!O28","v":0},{"$f":"'[1]HOJA GENERAL DATOS IMPORTADOS'!P28","v":0},{"$f":"'[1]HOJA GENERAL DATOS IMPORTADOS'!Q28","v":0},{"$f":"'[1]HOJA GENERAL DATOS IMPORTADOS'!R28","v":0},{"$f":"'[1]HOJA GENERAL DATOS IMPORTADOS'!S28","v":0},{"$f":"'[1]HOJA GENERAL DATOS IMPORTADOS'!T28","v":0},{"$f":"'[1]HOJA GENERAL DATOS IMPORTADOS'!U28","v":0},{"$f":"'[1]HOJA GENERAL DATOS IMPORTADOS'!V28","v":0},{"$f":"'[1]HOJA GENERAL DATOS IMPORTADOS'!W28","v":0},{"$f":"'[1]HOJA GENERAL DATOS IMPORTADOS'!X28","v":0},{"$f":"'[1]HOJA GENERAL DATOS IMPORTADOS'!Y28","v":0},{"$f":"'[1]HOJA GENERAL DATOS IMPORTADOS'!Z28","v":0},{"$f":"'[1]HOJA GENERAL DATOS IMPORTADOS'!AA28","v":0},{"$f":"'[1]HOJA GENERAL DATOS IMPORTADOS'!AB28","v":0},{"$f":"'[1]HOJA GENERAL DATOS IMPORTADOS'!AC28","v":0},{"$f":"'[1]HOJA GENERAL DATOS IMPORTADOS'!AD28","v":0},{"$f":"'[1]HOJA GENERAL DATOS IMPORTADOS'!AE28","v":0},{"$f":"'[1]HOJA GENERAL DATOS IMPORTADOS'!AF28","v":0},{"$f":"'[1]HOJA GENERAL DATOS IMPORTADOS'!AG28","v":0},{"$f":"'[1]HOJA GENERAL DATOS IMPORTADOS'!AH28","v":0},{"$f":"'[1]HOJA GENERAL DATOS IMPORTADOS'!AI28","v":0}]
[{"$f":"'[1]HOJA GENERAL DATOS IMPORTADOS'!A29","v":"CAPRINO"},{"$f":"'[1]HOJA GENERAL DATOS IMPORTADOS'!B29","v":6},{"$f":"'[1]HOJA GENERAL DATOS IMPORTADOS'!C29","v":367.71428571428601},{"$f":"'[1]HOJA GENERAL DATOS IMPORTADOS'!D29","v":20452.714285714301},{"$f":"'[1]HOJA GENERAL DATOS IMPORTADOS'!E29","v":47.809523809523803},{"$f":"'[1]HOJA GENERAL DATOS IMPORTADOS'!F29","v":34.761904761904802},{"$f":"'[1]HOJA GENERAL DATOS IMPORTADOS'!G29","v":1.8540404040403999},{"$f":"'[1]HOJA GENERAL DATOS IMPORTADOS'!H29","v":8.2571428571428598},{"$f":"'[1]HOJA GENERAL DATOS IMPORTADOS'!I29","v":0},{"$f":"'[1]HOJA GENERAL DATOS IMPORTADOS'!J29","v":0},{"$f":"'[1]HOJA GENERAL DATOS IMPORTADOS'!K29","v":0},{"$f":"'[1]HOJA GENERAL DATOS IMPORTADOS'!L29","v":0},{"$f":"'[1]HOJA GENERAL DATOS IMPORTADOS'!M29","v":0},{"$f":"'[1]HOJA GENERAL DATOS IMPORTADOS'!N29","v":0},{"$f":"'[1]HOJA GENERAL DATOS IMPORTADOS'!O29","v":0},{"$f":"'[1]HOJA GENERAL DATOS IMPORTADOS'!P29","v":0},{"$f":"'[1]HOJA GENERAL DATOS IMPORTADOS'!Q29","v":0},{"$f":"'[1]HOJA GENERAL DATOS IMPORTADOS'!R29","v":0},{"$f":"'[1]HOJA GENERAL DATOS IMPORTADOS'!S29","v":0},{"$f":"'[1]HOJA GENERAL DATOS IMPORTADOS'!T29","v":0},{"$f":"'[1]HOJA GENERAL DATOS IMPORTADOS'!U29","v":0},{"$f":"'[1]HOJA GENERAL DATOS IMPORTADOS'!V29","v":0},{"$f":"'[1]HOJA GENERAL DATOS IMPORTADOS'!W29","v":0},{"$f":"'[1]HOJA GENERAL DATOS IMPORTADOS'!X29","v":0},{"$f":"'[1]HOJA GENERAL DATOS IMPORTADOS'!Y29","v":0},{"$f":"'[1]HOJA GENERAL DATOS IMPORTADOS'!Z29","v":0},{"$f":"'[1]HOJA GENERAL DATOS IMPORTADOS'!AA29","v":0},{"$f":"'[1]HOJA GENERAL DATOS IMPORTADOS'!AB29","v":0},{"$f":"'[1]HOJA GENERAL DATOS IMPORTADOS'!AC29","v":0},{"$f":"'[1]HOJA GENERAL DATOS IMPORTADOS'!AD29","v":0},{"$f":"'[1]HOJA GENERAL DATOS IMPORTADOS'!AE29","v":0},{"$f":"'[1]HOJA GENERAL DATOS IMPORTADOS'!AF29","v":0},{"$f":"'[1]HOJA GENERAL DATOS IMPORTADOS'!AG29","v":0},{"$f":"'[1]HOJA GENERAL DATOS IMPORTADOS'!AH29","v":0},{"$f":"'[1]HOJA GENERAL DATOS IMPORTADOS'!AI29","v":0}]
[{"$f":"'[1]HOJA GENERAL DATOS IMPORTADOS'!A30","v":"CAPRINO"},{"$f":"'[1]HOJA GENERAL DATOS IMPORTADOS'!B30","v":7},{"$f":"'[1]HOJA GENERAL DATOS IMPORTADOS'!C30","v":380.40909090909099},{"$f":"'[1]HOJA GENERAL DATOS IMPORTADOS'!D30","v":21508.909090909099},{"$f":"'[1]HOJA GENERAL DATOS IMPORTADOS'!E30","v":47.818181818181799},{"$f":"'[1]HOJA GENERAL DATOS IMPORTADOS'!F30","v":34.545454545454497},{"$f":"'[1]HOJA GENERAL DATOS IMPORTADOS'!G30","v":1.88471740948739},{"$f":"'[1]HOJA GENERAL DATOS IMPORTADOS'!H30","v":8.2363636363636399},{"$f":"'[1]HOJA GENERAL DATOS IMPORTADOS'!I30","v":0},{"$f":"'[1]HOJA GENERAL DATOS IMPORTADOS'!J30","v":0},{"$f":"'[1]HOJA GENERAL DATOS IMPORTADOS'!K30","v":0},{"$f":"'[1]HOJA GENERAL DATOS IMPORTADOS'!L30","v":0},{"$f":"'[1]HOJA GENERAL DATOS IMPORTADOS'!M30","v":0},{"$f":"'[1]HOJA GENERAL DATOS IMPORTADOS'!N30","v":0},{"$f":"'[1]HOJA GENERAL DATOS IMPORTADOS'!O30","v":0},{"$f":"'[1]HOJA GENERAL DATOS IMPORTADOS'!P30","v":0},{"$f":"'[1]HOJA GENERAL DATOS IMPORTADOS'!Q30","v":0},{"$f":"'[1]HOJA GENERAL DATOS IMPORTADOS'!R30","v":0},{"$f":"'[1]HOJA GENERAL DATOS IMPORTADOS'!S30","v":0},{"$f":"'[1]HOJA GENERAL DATOS IMPORTADOS'!T30","v":0},{"$f":"'[1]HOJA GENERAL DATOS IMPORTADOS'!U30","v":0},{"$f":"'[1]HOJA GENERAL DATOS IMPORTADOS'!V30","v":0},{"$f":"'[1]HOJA GENERAL DATOS IMPORTADOS'!W30","v":0},{"$f":"'[1]HOJA GENERAL DATOS IMPORTADOS'!X30","v":0},{"$f":"'[1]HOJA GENERAL DATOS IMPORTADOS'!Y30","v":0},{"$f":"'[1]HOJA GENERAL DATOS IMPORTADOS'!Z30","v":0},{"$f":"'[1]HOJA GENERAL DATOS IMPORTADOS'!AA30","v":0},{"$f":"'[1]HOJA GENERAL DATOS IMPORTADOS'!AB30","v":0},{"$f":"'[1]HOJA GENERAL DATOS IMPORTADOS'!AC30","v":0},{"$f":"'[1]HOJA GENERAL DATOS IMPORTADOS'!AD30","v":0},{"$f":"'[1]HOJA GENERAL DATOS IMPORTADOS'!AE30","v":0},{"$f":"'[1]HOJA GENERAL DATOS IMPORTADOS'!AF30","v":0},{"$f":"'[1]HOJA GENERAL DATOS IMPORTADOS'!AG30","v":0},{"$f":"'[1]HOJA GENERAL DATOS IMPORTADOS'!AH30","v":0},{"$f":"'[1]HOJA GENERAL DATOS IMPORTADOS'!AI30","v":0}]
[{"$f":"'[1]HOJA GENERAL DATOS IMPORTADOS'!A31","v":"CAPRINO"},{"$f":"'[1]HOJA GENERAL DATOS IMPORTADOS'!B31","v":8},{"$f":"'[1]HOJA GENERAL DATOS IMPORTADOS'!C31","v":301.57142857142901},{"$f":"'[1]HOJA GENERAL DATOS IMPORTADOS'!D31","v":15942.9047619048},{"$f":"'[1]HOJA GENERAL DATOS IMPORTADOS'!E31","v":47.571428571428598},{"$f":"'[1]HOJA GENERAL DATOS IMPORTADOS'!F31","v":34.476190476190503},{"$f":"'[1]HOJA GENERAL DATOS IMPORTADOS'!G31","v":1.7622032738565201},{"$f":"'[1]HOJA GENERAL DATOS IMPORTADOS'!H31","v":8.2047619047619005},{"$f":"'[1]HOJA GENERAL DATOS IMPORTADOS'!I31","v":0},{"$f":"'[1]HOJA GENERAL DATOS IMPORTADOS'!J31","v":0},{"$f":"'[1]HOJA GENERAL DATOS IMPORTADOS'!K31","v":0},{"$f":"'[1]HOJA GENERAL DATOS IMPORTADOS'!L31","v":0},{"$f":"'[1]HOJA GENERAL DATOS IMPORTADOS'!M31","v":0},{"$f":"'[1]HOJA GENERAL DATOS IMPORTADOS'!N31","v":0},{"$f":"'[1]HOJA GENERAL DATOS IMPORTADOS'!O31","v":0},{"$f":"'[1]HOJA GENERAL DATOS IMPORTADOS'!P31","v":0},{"$f":"'[1]HOJA GENERAL DATOS IMPORTADOS'!Q31","v":0},{"$f":"'[1]HOJA GENERAL DATOS IMPORTADOS'!R31","v":0},{"$f":"'[1]HOJA GENERAL DATOS IMPORTADOS'!S31","v":0},{"$f":"'[1]HOJA GENERAL DATOS IMPORTADOS'!T31","v":0},{"$f":"'[1]HOJA GENERAL DATOS IMPORTADOS'!U31","v":0},{"$f":"'[1]HOJA GENERAL DATOS IMPORTADOS'!V31","v":0},{"$f":"'[1]HOJA GENERAL DATOS IMPORTADOS'!W31","v":0},{"$f":"'[1]HOJA GENERAL DATOS IMPORTADOS'!X31","v":0},{"$f":"'[1]HOJA GENERAL DATOS IMPORTADOS'!Y31","v":0},{"$f":"'[1]HOJA GENERAL DATOS IMPORTADOS'!Z31","v":0},{"$f":"'[1]HOJA GENERAL DATOS IMPORTADOS'!AA31","v":0},{"$f":"'[1]HOJA GENERAL DATOS IMPORTADOS'!AB31","v":0},{"$f":"'[1]HOJA GENERAL DATOS IMPORTADOS'!AC31","v":0},{"$f":"'[1]HOJA GENERAL DATOS IMPORTADOS'!AD31","v":0},{"$f":"'[1]HOJA GENERAL DATOS IMPORTADOS'!AE31","v":0},{"$f":"'[1]HOJA GENERAL DATOS IMPORTADOS'!AF31","v":0},{"$f":"'[1]HOJA GENERAL DATOS IMPORTADOS'!AG31","v":0},{"$f":"'[1]HOJA GENERAL DATOS IMPORTADOS'!AH31","v":0},{"$f":"'[1]HOJA GENERAL DATOS IMPORTADOS'!AI31","v":0}]
[{"$f":"'[1]HOJA GENERAL DATOS IMPORTADOS'!A32","v":"CAPRINO"},{"$f":"'[1]HOJA GENERAL DATOS IMPORTADOS'!B32","v":9},{"$f":"'[1]HOJA GENERAL DATOS IMPORTADOS'!C32","v":279.78947368421098},{"$f":"'[1]HOJA GENERAL DATOS IMPORTADOS'!D32","v":11242.1578947368},{"$f":"'[1]HOJA GENERAL DATOS IMPORTADOS'!E32","v":51},{"$f":"'[1]HOJA GENERAL DATOS IMPORTADOS'!F32","v":36.157894736842103},{"$f":"'[1]HOJA GENERAL DATOS IMPORTADOS'!G32","v":1.3393591672937},{"$f":"'[1]HOJA GENERAL DATOS IMPORTADOS'!H32","v":8.7157894736842092},{"$f":"'[1]HOJA GENERAL DATOS IMPORTADOS'!I32","v":0},{"$f":"'[1]HOJA GENERAL DATOS IMPORTADOS'!J32","v":0},{"$f":"'[1]HOJA GENERAL DATOS IMPORTADOS'!K32","v":0},{"$f":"'[1]HOJA GENERAL DATOS IMPORTADOS'!L32","v":0},{"$f":"'[1]HOJA GENERAL DATOS IMPORTADOS'!M32","v":0},{"$f":"'[1]HOJA GENERAL DATOS IMPORTADOS'!N32","v":0},{"$f":"'[1]HOJA GENERAL DATOS IMPORTADOS'!O32","v":0},{"$f":"'[1]HOJA GENERAL DATOS IMPORTADOS'!P32","v":0},{"$f":"'[1]HOJA GENERAL DATOS IMPORTADOS'!Q32","v":0},{"$f":"'[1]HOJA GENERAL DATOS IMPORTADOS'!R32","v":0},{"$f":"'[1]HOJA GENERAL DATOS IMPORTADOS'!S32","v":0},{"$f":"'[1]HOJA GENERAL DATOS IMPORTADOS'!T32","v":0},{"$f":"'[1]HOJA GENERAL DATOS IMPORTADOS'!U32","v":0},{"$f":"'[1]HOJA GENERAL DATOS IMPORTADOS'!V32","v":0},{"$f":"'[1]HOJA GENERAL DATOS IMPORTADOS'!W32","v":0},{"$f":"'[1]HOJA GENERAL DATOS IMPORTADOS'!X32","v":0},{"$f":"'[1]HOJA GENERAL DATOS IMPORTADOS'!Y32","v":0},{"$f":"'[1]HOJA GENERAL DATOS IMPORTADOS'!Z32","v":0},{"$f":"'[1]HOJA GENERAL DATOS IMPORTADOS'!AA32","v":0},{"$f":"'[1]HOJA GENERAL DATOS IMPORTADOS'!AB32","v":0},{"$f":"'[1]HOJA GENERAL DATOS IMPORTADOS'!AC32","v":0},{"$f":"'[1]HOJA GENERAL DATOS IMPORTADOS'!AD32","v":0},{"$f":"'[1]HOJA GENERAL DATOS IMPORTADOS'!AE32","v":0},{"$f":"'[1]HOJA GENERAL DATOS IMPORTADOS'!AF32","v":0},{"$f":"'[1]HOJA GENERAL DATOS IMPORTADOS'!AG32","v":0},{"$f":"'[1]HOJA GENERAL DATOS IMPORTADOS'!AH32","v":0},{"$f":"'[1]HOJA GENERAL DATOS IMPORTADOS'!AI32","v":0}]
[{"$f":"'[1]HOJA GENERAL DATOS IMPORTADOS'!A33","v":"CAPRINO"},{"$f":"'[1]HOJA GENERAL DATOS IMPORTADOS'!B33","v":10},{"$f":"'[1]HOJA GENERAL DATOS IMPORTADOS'!C33","v":276.5},{"$f":"'[1]HOJA GENERAL DATOS IMPORTADOS'!D33","v":12110},{"$f":"'[1]HOJA GENERAL DATOS IMPORTADOS'!E33","v":56.7083333333333},{"$f":"'[1]HOJA GENERAL DATOS IMPORTADOS'!F33","v":39.2916666666667},{"$f":"'[1]HOJA GENERAL DATOS IMPORTADOS'!G33","v":1.4599156118143499},{"$f":"'[1]HOJA GENERAL DATOS IMPORTADOS'!H33","v":9.6},{"$f":"'[1]HOJA GENERAL DATOS IMPORTADOS'!I33","v":0},{"$f":"'[1]HOJA GENERAL DATOS IMPORTADOS'!J33","v":0},{"$f":"'[1]HOJA GENERAL DATOS IMPORTADOS'!K33","v":0},{"$f":"'[1]HOJA GENERAL DATOS IMPORTADOS'!L33","v":0},{"$f":"'[1]HOJA GENERAL DATOS IMPORTADOS'!M33","v":0},{"$f":"'[1]HOJA GENERAL DATOS IMPORTADOS'!N33","v":0},{"$f":"'[1]HOJA GENERAL DATOS IMPORTADOS'!O33","v":0},{"$f":"'[1]HOJA GENERAL DATOS IMPORTADOS'!P33","v":0},{"$f":"'[1]HOJA GENERAL DATOS IMPORTADOS'!Q33","v":0},{"$f":"'[1]HOJA GENERAL DATOS IMPORTADOS'!R33","v":0},{"$f":"'[1]HOJA GENERAL DATOS IMPORTADOS'!S33","v":0},{"$f":"'[1]HOJA GENERAL DATOS IMPORTADOS'!T33","v":0},{"$f":"'[1]HOJA GENERAL DATOS IMPORTADOS'!U33","v":0},{"$f":"'[1]HOJA GENERAL DATOS IMPORTADOS'!V33","v":0},{"$f":"'[1]HOJA GENERAL DATOS IMPORTADOS'!W33","v":0},{"$f":"'[1]HOJA GENERAL DATOS IMPORTADOS'!X33","v":0},{"$f":"'[1]HOJA GENERAL DATOS IMPORTADOS'!Y33","v":0},{"$f":"'[1]HOJA GENERAL DATOS IMPORTADOS'!Z33","v":0},{"$f":"'[1]HOJA GENERAL DATOS IMPORTADOS'!AA33","v":0},{"$f":"'[1]HOJA GENERAL DATOS IMPORTADOS'!AB33","v":0},{"$f":"'[1]HOJA GENERAL DATOS IMPORTADOS'!AC33","v":0},{"$f":"'[1]HOJA GENERAL DATOS IMPORTADOS'!AD33","v":0},{"$f":"'[1]HOJA GENERAL DATOS IMPORTADOS'!AE33","v":0},{"$f":"'[1]HOJA GENERAL DATOS IMPORTADOS'!AF33","v":0},{"$f":"'[1]HOJA GENERAL DATOS IMPORTADOS'!AG33","v":0},{"$f":"'[1]HOJA GENERAL DATOS IMPORTADOS'!AH33","v":0},{"$f":"'[1]HOJA GENERAL DATOS IMPORTADOS'!AI33","v":0}]
[{"$f":"'[1]HOJA GENERAL DATOS IMPORTADOS'!A34","v":"CAPRINO"},{"$f":"'[1]HOJA GENERAL DATOS IMPORTADOS'!B34","v":11},{"$f":"'[1]HOJA GENERAL DATOS IMPORTADOS'!C34","v":300.73913043478302},{"$f":"'[1]HOJA GENERAL DATOS IMPORTADOS'!D34","v":14331.304347826101},{"$f":"'[1]HOJA GENERAL DATOS IMPORTADOS'!E34","v":58.272727272727302},{"$f":"'[1]HOJA GENERAL DATOS IMPORTADOS'!F34","v":38.545454545454497},{"$f":"'[1]HOJA GENERAL DATOS IMPORTADOS'!G34","v":1.5884535685027199},{"$f":"'[1]HOJA GENERAL DATOS IMPORTADOS'!H34","v":9.6818181818181799},{"$f":"'[1]HOJA GENERAL DATOS IMPORTADOS'!I34","v":0},{"$f":"'[1]HOJA GENERAL DATOS IMPORTADOS'!J34","v":0},{"$f":"'[1]HOJA GENERAL DATOS IMPORTADOS'!K34","v":0},{"$f":"'[1]HOJA GENERAL DATOS IMPORTADOS'!L34","v":0},{"$f":"'[1]HOJA GENERAL DATOS IMPORTADOS'!M34","v":0},{"$f":"'[1]HOJA GENERAL DATOS IMPORTADOS'!N34","v":0},{"$f":"'[1]HOJA GENERAL DATOS IMPORTADOS'!O34","v":0},{"$f":"'[1]HOJA GENERAL DATOS IMPORTADOS'!P34","v":0},{"$f":"'[1]HOJA GENERAL DATOS IMPORTADOS'!Q34","v":0},{"$f":"'[1]HOJA GENERAL DATOS IMPORTADOS'!R34","v":0},{"$f":"'[1]HOJA GENERAL DATOS IMPORTADOS'!S34","v":0},{"$f":"'[1]HOJA GENERAL DATOS IMPORTADOS'!T34","v":0},{"$f":"'[1]HOJA GENERAL DATOS IMPORTADOS'!U34","v":0},{"$f":"'[1]HOJA GENERAL DATOS IMPORTADOS'!V34","v":0},{"$f":"'[1]HOJA GENERAL DATOS IMPORTADOS'!W34","v":0},{"$f":"'[1]HOJA GENERAL DATOS IMPORTADOS'!X34","v":0},{"$f":"'[1]HOJA GENERAL DATOS IMPORTADOS'!Y34","v":0},{"$f":"'[1]HOJA GENERAL DATOS IMPORTADOS'!Z34","v":0},{"$f":"'[1]HOJA GENERAL DATOS IMPORTADOS'!AA34","v":0},{"$f":"'[1]HOJA GENERAL DATOS IMPORTADOS'!AB34","v":0},{"$f":"'[1]HOJA GENERAL DATOS IMPORTADOS'!AC34","v":0},{"$f":"'[1]HOJA GENERAL DATOS IMPORTADOS'!AD34","v":0},{"$f":"'[1]HOJA GENERAL DATOS IMPORTADOS'!AE34","v":0},{"$f":"'[1]HOJA GENERAL DATOS IMPORTADOS'!AF34","v":0},{"$f":"'[1]HOJA GENERAL DATOS IMPORTADOS'!AG34","v":0},{"$f":"'[1]HOJA GENERAL DATOS IMPORTADOS'!AH34","v":0},{"$f":"'[1]HOJA GENERAL DATOS IMPORTADOS'!AI34","v":0}]
[{"$f":"'[1]HOJA GENERAL DATOS IMPORTADOS'!A35","v":"CAPRINO"},{"$f":"'[1]HOJA GENERAL DATOS IMPORTADOS'!B35","v":12},{"$f":"'[1]HOJA GENERAL DATOS IMPORTADOS'!C35","v":262.89473684210498},{"$f":"'[1]HOJA GENERAL DATOS IMPORTADOS'!D35","v":15455.1578947368},{"$f":"'[1]HOJA GENERAL DATOS IMPORTADOS'!E35","v":57.052631578947398},{"$f":"'[1]HOJA GENERAL DATOS IMPORTADOS'!F35","v":38.157894736842103},{"$f":"'[1]HOJA GENERAL DATOS IMPORTADOS'!G35","v":1.9596129462796099},{"$f":"'[1]HOJA GENERAL DATOS IMPORTADOS'!H35","v":9.5210526315789501},{"$f":"'[1]HOJA GENERAL DATOS IMPORTADOS'!I35","v":0},{"$f":"'[1]HOJA GENERAL DATOS IMPORTADOS'!J35","v":0},{"$f":"'[1]HOJA GENERAL DATOS IMPORTADOS'!K35","v":0},{"$f":"'[1]HOJA GENERAL DATOS IMPORTADOS'!L35","v":0},{"$f":"'[1]HOJA GENERAL DATOS IMPORTADOS'!M35","v":0},{"$f":"'[1]HOJA GENERAL DATOS IMPORTADOS'!N35","v":0},{"$f":"'[1]HOJA GENERAL DATOS IMPORTADOS'!O35","v":0},{"$f":"'[1]HOJA GENERAL DATOS IMPORTADOS'!P35","v":0},{"$f":"'[1]HOJA GENERAL DATOS IMPORTADOS'!Q35","v":0},{"$f":"'[1]HOJA GENERAL DATOS IMPORTADOS'!R35","v":0},{"$f":"'[1]HOJA GENERAL DATOS IMPORTADOS'!S35","v":0},{"$f":"'[1]HOJA GENERAL DATOS IMPORTADOS'!T35","v":0},{"$f":"'[1]HOJA GENERAL DATOS IMPORTADOS'!U35","v":0},{"$f":"'[1]HOJA GENERAL DATOS IMPORTADOS'!V35","v":0},{"$f":"'[1]HOJA GENERAL DATOS IMPORTADOS'!W35","v":0},{"$f":"'[1]HOJA GENERAL DATOS IMPORTADOS'!X35","v":0},{"$f":"'[1]HOJA GENERAL DATOS IMPORTADOS'!Y35","v":0},{"$f":"'[1]HOJA GENERAL DATOS IMPORTADOS'!Z35","v":0},{"$f":"'[1]HOJA GENERAL DATOS IMPORTADOS'!AA35","v":0},{"$f":"'[1]HOJA GENERAL DATOS IMPORTADOS'!AB35","v":0},{"$f":"'[1]HOJA GENERAL DATOS IMPORTADOS'!AC35","v":0},{"$f":"'[1]HOJA GENERAL DATOS IMPORTADOS'!AD35","v":0},{"$f":"'[1]HOJA GENERAL DATOS IMPORTADOS'!AE35","v":0},{"$f":"'[1]HOJA GENERAL DATOS IMPORTADOS'!AF35","v":0},{"$f":"'[1]HOJA GENERAL DATOS IMPORTADOS'!AG35","v":0},{"$f":"'[1]HOJA GENERAL DATOS IMPORTADOS'!AH35","v":0},{"$f":"'[1]HOJA GENERAL DATOS IMPORTADOS'!AI35","v":0}]
[{"$f":"'[1]HOJA GENERAL DATOS IMPORTADOS'!A36","v":"OVINO"},{"$f":"'[1]HOJA GENERAL DATOS IMPORTADOS'!B36","v":1},{"$f":"'[1]HOJA GENERAL DATOS IMPORTADOS'!C36","v":435.04545454545502},{"$f":"'[1]HOJA GENERAL DATOS IMPORTADOS'!D36","v":19522.088888888899},{"$f":"'[1]HOJA GENERAL DATOS IMPORTADOS'!E36","v":69.906976744186096},{"$f":"'[1]HOJA GENERAL DATOS IMPORTADOS'!F36","v":54.488372093023301},{"$f":"'[1]HOJA GENERAL DATOS IMPORTADOS'!G36","v":1.4957892089142699},{"$f":"'[1]HOJA GENERAL DATOS IMPORTADOS'!H36","v":12.439534883720899},{"$f":"'[1]HOJA GENERAL DATOS IMPORTADOS'!I36","v":0},{"$f":"'[1]HOJA GENERAL DATOS IMPORTADOS'!J36","v":0},{"$f":"'[1]HOJA GENERAL DATOS IMPORTADOS'!K36","v":0},{"$f":"'[1]HOJA GENERAL DATOS IMPORTADOS'!L36","v":0},{"$f":"'[1]HOJA GENERAL DATOS IMPORTADOS'!M36","v":0},{"$f":"'[1]HOJA GENERAL DATOS IMPORTADOS'!N36","v":0},{"$f":"'[1]HOJA GENERAL DATOS IMPORTADOS'!O36","v":0},{"$f":"'[1]HOJA GENERAL DATOS IMPORTADOS'!P36","v":0},{"$f":"'[1]HOJA GENERAL DATOS IMPORTADOS'!Q36","v":0},{"$f":"'[1]HOJA GENERAL DATOS IMPORTADOS'!R36","v":0},{"$f":"'[1]HOJA GENERAL DATOS IMPORTADOS'!S36","v":0},{"$f":"'[1]HOJA GENERAL DATOS IMPORTADOS'!T36","v":0},{"$f":"'[1]HOJA GENERAL DATOS IMPORTADOS'!U36","v":0},{"$f":"'[1]HOJA GENERAL DATOS IMPORTADOS'!V36","v":0},{"$f":"'[1]HOJA GENERAL DATOS IMPORTADOS'!W36","v":0},{"$f":"'[1]HOJA GENERAL DATOS IMPORTADOS'!X36","v":0},{"$f":"'[1]HOJA GENERAL DATOS IMPORTADOS'!Y36","v":0},{"$f":"'[1]HOJA GENERAL DATOS IMPORTADOS'!Z36","v":0},{"$f":"'[1]HOJA GENERAL DATOS IMPORTADOS'!AA36","v":0},{"$f":"'[1]HOJA GENERAL DATOS IMPORTADOS'!AB36","v":0},{"$f":"'[1]HOJA GENERAL DATOS IMPORTADOS'!AC36","v":0},{"$f":"'[1]HOJA GENERAL DATOS IMPORTADOS'!AD36","v":0},{"$f":"'[1]HOJA GENERAL DATOS IMPORTADOS'!AE36","v":0},{"$f":"'[1]HOJA GENERAL DATOS IMPORTADOS'!AF36","v":0},{"$f":"'[1]HOJA GENERAL DATOS IMPORTADOS'!AG36","v":0},{"$f":"'[1]HOJA GENERAL DATOS IMPORTADOS'!AH36","v":0},{"$f":"'[1]HOJA GENERAL DATOS IMPORTADOS'!AI36","v":0}]
[{"$f":"'[1]HOJA GENERAL DATOS IMPORTADOS'!A37","v":"OVINO"},{"$f":"'[1]HOJA GENERAL DATOS IMPORTADOS'!B37","v":2},{"$f":"'[1]HOJA GENERAL DATOS IMPORTADOS'!C37","v":454.85},{"$f":"'[1]HOJA GENERAL DATOS IMPORTADOS'!D37","v":22508.2682926829},{"$f":"'[1]HOJA GENERAL DATOS IMPORTADOS'!E37","v":69.205128205128204},{"$f":"'[1]HOJA GENERAL DATOS IMPORTADOS'!F37","v":54.410256410256402},{"$f":"'[1]HOJA GENERAL DATOS IMPORTADOS'!G37","v":1.6495011756757101},{"$f":"'[1]HOJA GENERAL DATOS IMPORTADOS'!H37","v":12.361538461538499},{"$f":"'[1]HOJA GENERAL DATOS IMPORTADOS'!I37","v":0},{"$f":"'[1]HOJA GENERAL DATOS IMPORTADOS'!J37","v":0},{"$f":"'[1]HOJA GENERAL DATOS IMPORTADOS'!K37","v":0},{"$f":"'[1]HOJA GENERAL DATOS IMPORTADOS'!L37","v":0},{"$f":"'[1]HOJA GENERAL DATOS IMPORTADOS'!M37","v":0},{"$f":"'[1]HOJA GENERAL DATOS IMPORTADOS'!N37","v":0},{"$f":"'[1]HOJA GENERAL DATOS IMPORTADOS'!O37","v":0},{"$f":"'[1]HOJA GENERAL DATOS IMPORTADOS'!P37","v":0},{"$f":"'[1]HOJA GENERAL DATOS IMPORTADOS'!Q37","v":0},{"$f":"'[1]HOJA GENERAL DATOS IMPORTADOS'!R37","v":0},{"$f":"'[1]HOJA GENERAL DATOS IMPORTADOS'!S37","v":0},{"$f":"'[1]HOJA GENERAL DATOS IMPORTADOS'!T37","v":0},{"$f":"'[1]HOJA GENERAL DATOS IMPORTADOS'!U37","v":0},{"$f":"'[1]HOJA GENERAL DATOS IMPORTADOS'!V37","v":0},{"$f":"'[1]HOJA GENERAL DATOS IMPORTADOS'!W37","v":0},{"$f":"'[1]HOJA GENERAL DATOS IMPORTADOS'!X37","v":0},{"$f":"'[1]HOJA GENERAL DATOS IMPORTADOS'!Y37","v":0},{"$f":"'[1]HOJA GENERAL DATOS IMPORTADOS'!Z37","v":0},{"$f":"'[1]HOJA GENERAL DATOS IMPORTADOS'!AA37","v":0},{"$f":"'[1]HOJA GENERAL DATOS IMPORTADOS'!AB37","v":0},{"$f":"'[1]HOJA GENERAL DATOS IMPORTADOS'!AC37","v":0},{"$f":"'[1]HOJA GENERAL DATOS IMPORTADOS'!AD37","v":0},{"$f":"'[1]HOJA GENERAL DATOS IMPORTADOS'!AE37","v":0},{"$f":"'[1]HOJA GENERAL DATOS IMPORTADOS'!AF37","v":0},{"$f":"'[1]HOJA GENERAL DATOS IMPORTADOS'!AG37","v":0},{"$f":"'[1]HOJA GENERAL DATOS IMPORTADOS'!AH37","v":0},{"$f":"'[1]HOJA GENERAL DATOS IMPORTADOS'!AI37","v":0}]
[{"$f":"'[1]HOJA GENERAL DATOS IMPORTADOS'!A38","v":"OVINO"},{"$f":"'[1]HOJA GENERAL DATOS IMPORTADOS'!B38","v":3},{"$f":"'[1]HOJA GENERAL DATOS IMPORTADOS'!C38","v":617.435897435897},{"$f":"'[1]HOJA GENERAL DATOS IMPORTADOS'!D38","v":32108.474999999999},{"$f":"'[1]HOJA GENERAL DATOS IMPORTADOS'!E38","v":64.128205128205096},{"$f":"'[1]HOJA GENERAL DATOS IMPORTADOS'!F38","v":51.769230769230802},{"$f":"'[1]HOJA GENERAL DATOS IMPORTADOS'!G38","v":1.73343095930233},{"$f":"'[1]HOJA GENERAL DATOS IMPORTADOS'!H38","v":11.5897435897436},{"$f":"'[1]HOJA GENERAL DATOS IMPORTADOS'!I38","v":0},{"$f":"'[1]HOJA GENERAL DATOS IMPORTADOS'!J38","v":0},{"$f":"'[1]HOJA GENERAL DATOS IMPORTADOS'!K38","v":0},{"$f":"'[1]HOJA GENERAL DATOS IMPORTADOS'!L38","v":0},{"$f":"'[1]HOJA GENERAL DATOS IMPORTADOS'!M38","v":0},{"$f":"'[1]HOJA GENERAL DATOS IMPORTADOS'!N38","v":0},{"$f":"'[1]HOJA GENERAL DATOS IMPORTADOS'!O38","v":0},{"$f":"'[1]HOJA GENERAL DATOS IMPORTADOS'!P38","v":0},{"$f":"'[1]HOJA GENERAL DATOS IMPORTADOS'!Q38","v":0},{"$f":"'[1]HOJA GENERAL DATOS IMPORTADOS'!R38","v":0},{"$f":"'[1]HOJA GENERAL DATOS IMPORTADOS'!S38","v":0},{"$f":"'[1]HOJA GENERAL DATOS IMPORTADOS'!T38","v":0},{"$f":"'[1]HOJA GENERAL DATOS IMPORTADOS'!U38","v":0},{"$f":"'[1]HOJA GENERAL DATOS IMPORTADOS'!V38","v":0},{"$f":"'[1]HOJA GENERAL DATOS IMPORTADOS'!W38","v":0},{"$f":"'[1]HOJA GENERAL DATOS IMPORTADOS'!X38","v":0},{"$f":"'[1]HOJA GENERAL DATOS IMPORTADOS'!Y38","v":0},{"$f":"'[1]HOJA GENERAL DATOS IMPORTADOS'!Z38","v":0},{"$f":"'[1]HOJA GENERAL DATOS IMPORTADOS'!AA38","v":0},{"$f":"'[1]HOJA GENERAL DATOS IMPORTADOS'!AB38","v":0},{"$f":"'[1]HOJA GENERAL DATOS IMPORTADOS'!AC38","v":0},{"$f":"'[1]HOJA GENERAL DATOS IMPORTADOS'!AD38","v":0},{"$f":"'[1]HOJA GENERAL DATOS IMPORTADOS'!AE38","v":0},{"$f":"'[1]HOJA GENERAL DATOS IMPORTADOS'!AF38","v":0},{"$f":"'[1]HOJA GENERAL DATOS IMPORTADOS'!AG38","v":0},{"$f":"'[1]HOJA GENERAL DATOS IMPORTADOS'!AH38","v":0},{"$f":"'[1]HOJA GENERAL DATOS IMPORTADOS'!AI38","v":0}]
[{"$f":"'[1]HOJA GENERAL DATOS IMPORTADOS'!A39","v":"OVINO"},{"$f":"'[1]HOJA GENERAL DATOS IMPORTADOS'!B39","v":4},{"$f":"'[1]HOJA GENERAL DATOS IMPORTADOS'!C39","v":649.41025641025601},{"$f":"'[1]HOJA GENERAL DATOS IMPORTADOS'!D39","v":36776.224999999999},{"$f":"'[1]HOJA GENERAL DATOS IMPORTADOS'!E39","v":63.461538461538503},{"$f":"'[1]HOJA GENERAL DATOS IMPORTADOS'!F39","v":50.717948717948701},{"$f":"'[1]HOJA GENERAL DATOS IMPORTADOS'!G39","v":1.88767293797133},{"$f":"'[1]HOJA GENERAL DATOS IMPORTADOS'!H39","v":11.4179487179487},{"$f":"'[1]HOJA GENERAL DATOS IMPORTADOS'!I39","v":0},{"$f":"'[1]HOJA GENERAL DATOS IMPORTADOS'!J39","v":0},{"$f":"'[1]HOJA GENERAL DATOS IMPORTADOS'!K39","v":0},{"$f":"'[1]HOJA GENERAL DATOS IMPORTADOS'!L39","v":0},{"$f":"'[1]HOJA GENERAL DATOS IMPORTADOS'!M39","v":0},{"$f":"'[1]HOJA GENERAL DATOS IMPORTADOS'!N39","v":0},{"$f":"'[1]HOJA GENERAL DATOS IMPORTADOS'!O39","v":0},{"$f":"'[1]HOJA GENERAL DATOS IMPORTADOS'!P39","v":0},{"$f":"'[1]HOJA GENERAL DATOS IMPORTADOS'!Q39","v":0},{"$f":"'[1]HOJA GENERAL DATOS IMPORTADOS'!R39","v":0},{"$f":"'[1]HOJA GENERAL DATOS IMPORTADOS'!S39","v":0},{"$f":"'[1]HOJA GENERAL DATOS IMPORTADOS'!T39","v":0},{"$f":"'[1]HOJA GENERAL DATOS IMPORTADOS'!U39","v":0},{"$f":"'[1]HOJA GENERAL DATOS IMPORTADOS'!V39","v":0},{"$f":"'[1]HOJA GENERAL DATOS IMPORTADOS'!W39","v":0},{"$f":"'[1]HOJA GENERAL DATOS IMPORTADOS'!X39","v":0},{"$f":"'[1]HOJA GENERAL DATOS IMPORTADOS'!Y39","v":0},{"$f":"'[1]HOJA GENERAL DATOS IMPORTADOS'!Z39","v":0},{"$f":"'[1]HOJA GENERAL DATOS IMPORTADOS'!AA39","v":0},{"$f":"'[1]HOJA GENERAL DATOS IMPORTADOS'!AB39","v":0},{"$f":"'[1]HOJA GENERAL DATOS IMPORTADOS'!AC39","v":0},{"$f":"'[1]HOJA GENERAL DATOS IMPORTADOS'!AD39","v":0},{"$f":"'[1]HOJA GENERAL DATOS IMPORTADOS'!AE39","v":0},{"$f":"'[1]HOJA GENERAL DATOS IMPORTADOS'!AF39","v":0},{"$f":"'[1]HOJA GENERAL DATOS IMPORTADOS'!AG39","v":0},{"$f":"'[1]HOJA GENERAL DATOS IMPORTADOS'!AH39","v":0},{"$f":"'[1]HOJA GENERAL DATOS IMPORTADOS'!AI39","v":0}]
[{"$f":"'[1]HOJA GENERAL DATOS IMPORTADOS'!A40","v":"OVINO"},{"$f":"'[1]HOJA GENERAL DATOS IMPORTADOS'!B40","v":5},{"$f":"'[1]HOJA GENERAL DATOS IMPORTADOS'!C40","v":730.79487179487205},{"$f":"'[1]HOJA GENERAL DATOS IMPORTADOS'!D40","v":44270.692307692298},{"$f":"'[1]HOJA GENERAL DATOS IMPORTADOS'!E40","v":62.710526315789501},{"$f":"'[1]HOJA GENERAL DATOS IMPORTADOS'!F40","v":49.842105263157897},{"$f":"'[1]HOJA GENERAL DATOS IMPORTADOS'!G40","v":2.01929405985755},{"$f":"'[1]HOJA GENERAL DATOS IMPORTADOS'!H40","v":11.255263157894699},{"$f":"'[1]HOJA GENERAL DATOS IMPORTADOS'!I40","v":0},{"$f":"'[1]HOJA GENERAL DATOS IMPORTADOS'!J40","v":0},{"$f":"'[1]HOJA GENERAL DATOS IMPORTADOS'!K40","v":0},{"$f":"'[1]HOJA GENERAL DATOS IMPORTADOS'!L40","v":0},{"$f":"'[1]HOJA GENERAL DATOS IMPORTADOS'!M40","v":0},{"$f":"'[1]HOJA GENERAL DATOS IMPORTADOS'!N40","v":0},{"$f":"'[1]HOJA GENERAL DATOS IMPORTADOS'!O40","v":0},{"$f":"'[1]HOJA GENERAL DATOS IMPORTADOS'!P40","v":0},{"$f":"'[1]HOJA GENERAL DATOS IMPORTADOS'!Q40","v":0},{"$f":"'[1]HOJA GENERAL DATOS IMPORTADOS'!R40","v":0},{"$f":"'[1]HOJA GENERAL DATOS IMPORTADOS'!S40","v":0},{"$f":"'[1]HOJA GENERAL DATOS IMPORTADOS'!T40","v":0},{"$f":"'[1]HOJA GENERAL DATOS IMPORTADOS'!U40","v":0},{"$f":"'[1]HOJA GENERAL DATOS IMPORTADOS'!V40","v":0},{"$f":"'[1]HOJA GENERAL DATOS IMPORTADOS'!W40","v":0},{"$f":"'[1]HOJA GENERAL DATOS IMPORTADOS'!X40","v":0},{"$f":"'[1]HOJA GENERAL DATOS IMPORTADOS'!Y40","v":0},{"$f":"'[1]HOJA GENERAL DATOS IMPORTADOS'!Z40","v":0},{"$f":"'[1]HOJA GENERAL DATOS IMPORTADOS'!AA40","v":0},{"$f":"'[1]HOJA GENERAL DATOS IMPORTADOS'!AB40","v":0},{"$f":"'[1]HOJA GENERAL DATOS IMPORTADOS'!AC40","v":0},{"$f":"'[1]HOJA GENERAL DATOS IMPORTADOS'!AD40","v":0},{"$f":"'[1]HOJA GENERAL DATOS IMPORTADOS'!AE40","v":0},{"$f":"'[1]HOJA GENERAL DATOS IMPORTADOS'!AF40","v":0},{"$f":"'[1]HOJA GENERAL DATOS IMPORTADOS'!AG40","v":0},{"$f":"'[1]HOJA GENERAL DATOS IMPORTADOS'!AH40","v":0},{"$f":"'[1]HOJA GENERAL DATOS IMPORTADOS'!AI40","v":0}]
[{"$f":"'[1]HOJA GENERAL DATOS IMPORTADOS'!A41","v":"OVINO"},{"$f":"'[1]HOJA GENERAL DATOS IMPORTADOS'!B41","v":6},{"$f":"'[1]HOJA GENERAL DATOS IMPORTADOS'!C41","v":716.10526315789502},{"$f":"'[1]HOJA GENERAL DATOS IMPORTADOS'!D41","v":40143.743589743601},{"$f":"'[1]HOJA GENERAL DATOS IMPORTADOS'!E41","v":62.947368421052602},{"$f":"'[1]HOJA GENERAL DATOS IMPORTADOS'!F41","v":50},{"$f":"'[1]HOJA GENERAL DATOS IMPORTADOS'!G41","v":1.8686146509018799},{"$f":"'[1]HOJA GENERAL DATOS IMPORTADOS'!H41","v":11.2947368421053},{"$f":"'[1]HOJA GENERAL DATOS IMPORTADOS'!I41","v":0},{"$f":"'[1]HOJA GENERAL DATOS IMPORTADOS'!J41","v":0},{"$f":"'[1]HOJA GENERAL DATOS IMPORTADOS'!K41","v":0},{"$f":"'[1]HOJA GENERAL DATOS IMPORTADOS'!L41","v":0},{"$f":"'[1]HOJA GENERAL DATOS IMPORTADOS'!M41","v":0},{"$f":"'[1]HOJA GENERAL DATOS IMPORTADOS'!N41","v":0},{"$f":"'[1]HOJA GENERAL DATOS IMPORTADOS'!O41","v":0},{"$f":"'[1]HOJA GENERAL DATOS IMPORTADOS'!P41","v":0},{"$f":"'[1]HOJA GENERAL DATOS IMPORTADOS'!Q41","v":0},{"$f":"'[1]HOJA GENERAL DATOS IMPORTADOS'!R41","v":0},{"$f":"'[1]HOJA GENERAL DATOS IMPORTADOS'!S41","v":0},{"$f":"'[1]HOJA GENERAL DATOS IMPORTADOS'!T41","v":0},{"$f":"'[1]HOJA GENERAL DATOS IMPORTADOS'!U41","v":0},{"$f":"'[1]HOJA GENERAL DATOS IMPORTADOS'!V41","v":0},{"$f":"'[1]HOJA GENERAL DATOS IMPORTADOS'!W41","v":0},{"$f":"'[1]HOJA GENERAL DATOS IMPORTADOS'!X41","v":0},{"$f":"'[1]HOJA GENERAL DATOS IMPORTADOS'!Y41","v":0},{"$f":"'[1]HOJA GENERAL DATOS IMPORTADOS'!Z41","v":0},{"$f":"'[1]HOJA GENERAL DATOS IMPORTADOS'!AA41","v":0},{"$f":"'[1]HOJA GENERAL DATOS IMPORTADOS'!AB41","v":0},{"$f":"'[1]HOJA GENERAL DATOS IMPORTADOS'!AC41","v":0},{"$f":"'[1]HOJA GENERAL DATOS IMPORTADOS'!AD41","v":0},{"$f":"'[1]HOJA GENERAL DATOS IMPORTADOS'!AE41","v":0},{"$f":"'[1]HOJA GENERAL DATOS IMPORTADOS'!AF41","v":0},{"$f":"'[1]HOJA GENERAL DATOS IMPORTADOS'!AG41","v":0},{"$f":"'[1]HOJA GENERAL DATOS IMPORTADOS'!AH41","v":0},{"$f":"'[1]HOJA GENERAL DATOS IMPORTADOS'!AI41","v":0}]
[{"$f":"'[1]HOJA GENERAL DATOS IMPORTADOS'!A42","v":"OVINO"},{"$f":"'[1]HOJA GENERAL DATOS IMPORTADOS'!B42","v":7},{"$f":"'[1]HOJA GENERAL DATOS IMPORTADOS'!C42","v":670.81081081081095},{"$f":"'[1]HOJA GENERAL DATOS IMPORTADOS'!D42","v":36673.135135135097},{"$f":"'[1]HOJA GENERAL DATOS IMPORTADOS'!E42","v":62.8611111111111},{"$f":"'[1]HOJA GENERAL DATOS IMPORTADOS'!F42","v":50.6388888888889},{"$f":"'[1]HOJA GENERAL DATOS IMPORTADOS'!G42","v":1.8223287671232899},{"$f":"'[1]HOJA GENERAL DATOS IMPORTADOS'!H42","v":11.35},{"$f":"'[1]HOJA GENERAL DATOS IMPORTADOS'!I42","v":0},{"$f":"'[1]HOJA GENERAL DATOS IMPORTADOS'!J42","v":0},{"$f":"'[1]HOJA GENERAL DATOS IMPORTADOS'!K42","v":0},{"$f":"'[1]HOJA GENERAL DATOS IMPORTADOS'!L42","v":0},{"$f":"'[1]HOJA GENERAL DATOS IMPORTADOS'!M42","v":0},{"$f":"'[1]HOJA GENERAL DATOS IMPORTADOS'!N42","v":0},{"$f":"'[1]HOJA GENERAL DATOS IMPORTADOS'!O42","v":0},{"$f":"'[1]HOJA GENERAL DATOS IMPORTADOS'!P42","v":0},{"$f":"'[1]HOJA GENERAL DATOS IMPORTADOS'!Q42","v":0},{"$f":"'[1]HOJA GENERAL DATOS IMPORTADOS'!R42","v":0},{"$f":"'[1]HOJA GENERAL DATOS IMPORTADOS'!S42","v":0},{"$f":"'[1]HOJA GENERAL DATOS IMPORTADOS'!T42","v":0},{"$f":"'[1]HOJA GENERAL DATOS IMPORTADOS'!U42","v":0},{"$f":"'[1]HOJA GENERAL DATOS IMPORTADOS'!V42","v":0},{"$f":"'[1]HOJA GENERAL DATOS IMPORTADOS'!W42","v":0},{"$f":"'[1]HOJA GENERAL DATOS IMPORTADOS'!X42","v":0},{"$f":"'[1]HOJA GENERAL DATOS IMPORTADOS'!Y42","v":0},{"$f":"'[1]HOJA GENERAL DATOS IMPORTADOS'!Z42","v":0},{"$f":"'[1]HOJA GENERAL DATOS IMPORTADOS'!AA42","v":0},{"$f":"'[1]HOJA GENERAL DATOS IMPORTADOS'!AB42","v":0},{"$f":"'[1]HOJA GENERAL DATOS IMPORTADOS'!AC42","v":0},{"$f":"'[1]HOJA GENERAL DATOS IMPORTADOS'!AD42","v":0},{"$f":"'[1]HOJA GENERAL DATOS IMPORTADOS'!AE42","v":0},{"$f":"'[1]HOJA GENERAL DATOS IMPORTADOS'!AF42","v":0},{"$f":"'[1]HOJA GENERAL DATOS IMPORTADOS'!AG42","v":0},{"$f":"'[1]HOJA GENERAL DATOS IMPORTADOS'!AH42","v":0},{"$f":"'[1]HOJA GENERAL DATOS IMPORTADOS'!AI42","v":0}]
[{"$f":"'[1]HOJA GENERAL DATOS IMPORTADOS'!A43","v":"OVINO"},{"$f":"'[1]HOJA GENERAL DATOS IMPORTADOS'!B43","v":8},{"$f":"'[1]HOJA GENERAL DATOS IMPORTADOS'!C43","v":697.88888888888903},{"$f":"'[1]HOJA GENERAL DATOS IMPORTADOS'!D43","v":33860.916666666701},{"$f":"'[1]HOJA GENERAL DATOS IMPORTADOS'!E43","v":64},{"$f":"'[1]HOJA GENERAL DATOS IMPORTADOS'!F43","v":51.142857142857103},{"$f":"'[1]HOJA GENERAL DATOS IMPORTADOS'!G43","v":1.6173021811813399},{"$f":"'[1]HOJA GENERAL DATOS IMPORTADOS'!H43","v":11.5142857142857},{"$f":"'[1]HOJA GENERAL DATOS IMPORTADOS'!I43","v":0},{"$f":"'[1]HOJA GENERAL DATOS IMPORTADOS'!J43","v":0},{"$f":"'[1]HOJA GENERAL DATOS IMPORTADOS'!K43","v":0},{"$f":"'[1]HOJA GENERAL DATOS IMPORTADOS'!L43","v":0},{"$f":"'[1]HOJA GENERAL DATOS IMPORTADOS'!M43","v":0},{"$f":"'[1]HOJA GENERAL DATOS IMPORTADOS'!N43","v":0},{"$f":"'[1]HOJA GENERAL DATOS IMPORTADOS'!O43","v":0},{"$f":"'[1]HOJA GENERAL DATOS IMPORTADOS'!P43","v":0},{"$f":"'[1]HOJA GENERAL DATOS IMPORTADOS'!Q43","v":0},{"$f":"'[1]HOJA GENERAL DATOS IMPORTADOS'!R43","v":0},{"$f":"'[1]HOJA GENERAL DATOS IMPORTADOS'!S43","v":0},{"$f":"'[1]HOJA GENERAL DATOS IMPORTADOS'!T43","v":0},{"$f":"'[1]HOJA GENERAL DATOS IMPORTADOS'!U43","v":0},{"$f":"'[1]HOJA GENERAL DATOS IMPORTADOS'!V43","v":0},{"$f":"'[1]HOJA GENERAL DATOS IMPORTADOS'!W43","v":0},{"$f":"'[1]HOJA GENERAL DATOS IMPORTADOS'!X43","v":0},{"$f":"'[1]HOJA GENERAL DATOS IMPORTADOS'!Y43","v":0},{"$f":"'[1]HOJA GENERAL DATOS IMPORTADOS'!Z43","v":0},{"$f":"'[1]HOJA GENERAL DATOS IMPORTADOS'!AA43","v":0},{"$f":"'[1]HOJA GENERAL DATOS IMPORTADOS'!AB43","v":0},{"$f":"'[1]HOJA GENERAL DATOS IMPORTADOS'!AC43","v":0},{"$f":"'[1]HOJA GENERAL DATOS IMPORTADOS'!AD43","v":0},{"$f":"'[1]HOJA GENERAL DATOS IMPORTADOS'!AE43","v":0},{"$f":"'[1]HOJA GENERAL DATOS IMPORTADOS'!AF43","v":0},{"$f":"'[1]HOJA GENERAL DATOS IMPORTADOS'!AG43","v":0},{"$f":"'[1]HOJA GENERAL DATOS IMPORTADOS'!AH43","v":0},{"$f":"'[1]HOJA GENERAL DATOS IMPORTADOS'!AI43","v":0}]
[{"$f":"'[1]HOJA GENERAL DATOS IMPORTADOS'!A44","v":"OVINO"},{"$f":"'[1]HOJA GENERAL DATOS IMPORTADOS'!B44","v":9},{"$f":"'[1]HOJA GENERAL DATOS IMPORTADOS'!C44","v":609.05263157894694},{"$f":"'[1]HOJA GENERAL DATOS IMPORTADOS'!D44","v":26917.710526315801},{"$f":"'[1]HOJA GENERAL DATOS IMPORTADOS'!E44","v":68.216216216216196},{"$f":"'[1]HOJA GENERAL DATOS IMPORTADOS'!F44","v":53.162162162162197},{"$f":"'[1]HOJA GENERAL DATOS IMPORTADOS'!G44","v":1.4732011176402799},{"$f":"'[1]HOJA GENERAL DATOS IMPORTADOS'!H44","v":12.1378378378378},{"$f":"'[1]HOJA GENERAL DATOS IMPORTADOS'!I44","v":0},{"$f":"'[1]HOJA GENERAL DATOS IMPORTADOS'!J44","v":0},{"$f":"'[1]HOJA GENERAL DATOS IMPORTADOS'!K44","v":0},{"$f":"'[1]HOJA GENERAL DATOS IMPORTADOS'!L44","v":0},{"$f":"'[1]HOJA GENERAL DATOS IMPORTADOS'!M44","v":0},{"$f":"'[1]HOJA GENERAL DATOS IMPORTADOS'!N44","v":0},{"$f":"'[1]HOJA GENERAL DATOS IMPORTADOS'!O44","v":0},{"$f":"'[1]HOJA GENERAL DATOS IMPORTADOS'!P44","v":0},{"$f":"'[1]HOJA GENERAL DATOS IMPORTADOS'!Q44","v":0},{"$f":"'[1]HOJA GENERAL DATOS IMPORTADOS'!R44","v":0},{"$f":"'[1]HOJA GENERAL DATOS IMPORTADOS'!S44","v":0},{"$f":"'[1]HOJA GENERAL DATOS IMPORTADOS'!T44","v":0},{"$f":"'[1]HOJA GENERAL DATOS IMPORTADOS'!U44","v":0},{"$f":"'[1]HOJA GENERAL DATOS IMPORTADOS'!V44","v":0},{"$f":"'[1]HOJA GENERAL DATOS IMPORTADOS'!W44","v":0},{"$f":"'[1]HOJA GENERAL DATOS IMPORTADOS'!X44","v":0},{"$f":"'[1]HOJA GENERAL DATOS IMPORTADOS'!Y44","v":0},{"$f":"'[1]HOJA GENERAL DATOS IMPORTADOS'!Z44","v":0},{"$f":"'[1]HOJA GENERAL DATOS IMPORTADOS'!AA44","v":0},{"$f":"'[1]HOJA GENERAL DATOS IMPORTADOS'!AB44","v":0},{"$f":"'[1]HOJA GENERAL DATOS IMPORTADOS'!AC44","v":0},{"$f":"'[1]HOJA GENERAL DATOS IMPORTADOS'!AD44","v":0},{"$f":"'[1]HOJA GENERAL DATOS IMPORTADOS'!AE44","v":0},{"$f":"'[1]HOJA GENERAL DATOS IMPORTADOS'!AF44","v":0},{"$f":"'[1]HOJA GENERAL DATOS IMPORTADOS'!AG44","v":0},{"$f":"'[1]HOJA GENERAL DATOS IMPORTADOS'!AH44","v":0},{"$f":"'[1]HOJA GENERAL DATOS IMPORTADOS'!AI44","v":0}]
[{"$f":"'[1]HOJA GENERAL DATOS IMPORTADOS'!A45","v":"OVINO"},{"$f":"'[1]HOJA GENERAL DATOS IMPORTADOS'!B45","v":10},{"$f":"'[1]HOJA GENERAL DATOS IMPORTADOS'!C45","v":535.18918918918905},{"$f":"'[1]HOJA GENERAL DATOS IMPORTADOS'!D45","v":23362.184210526299},{"$f":"'[1]HOJA GENERAL DATOS IMPORTADOS'!E45","v":71.918918918918905},{"$f":"'[1]HOJA GENERAL DATOS IMPORTADOS'!F45","v":56.459459459459502},{"$f":"'[1]HOJA GENERAL DATOS IMPORTADOS'!G45","v":1.4550732515057001},{"$f":"'[1]HOJA GENERAL DATOS IMPORTADOS'!H45","v":12.8378378378378},{"$f":"'[1]HOJA GENERAL DATOS IMPORTADOS'!I45","v":0},{"$f":"'[1]HOJA GENERAL DATOS IMPORTADOS'!J45","v":0},{"$f":"'[1]HOJA GENERAL DATOS IMPORTADOS'!K45","v":0},{"$f":"'[1]HOJA GENERAL DATOS IMPORTADOS'!L45","v":0},{"$f":"'[1]HOJA GENERAL DATOS IMPORTADOS'!M45","v":0},{"$f":"'[1]HOJA GENERAL DATOS IMPORTADOS'!N45","v":0},{"$f":"'[1]HOJA GENERAL DATOS IMPORTADOS'!O45","v":0},{"$f":"'[1]HOJA GENERAL DATOS IMPORTADOS'!P45","v":0},{"$f":"'[1]HOJA GENERAL DATOS IMPORTADOS'!Q45","v":0},{"$f":"'[1]HOJA GENERAL DATOS IMPORTADOS'!R45","v":0},{"$f":"'[1]HOJA GENERAL DATOS IMPORTADOS'!S45","v":0},{"$f":"'[1]HOJA GENERAL DATOS IMPORTADOS'!T45","v":0},{"$f":"'[1]HOJA GENERAL DATOS IMPORTADOS'!U45","v":0},{"$f":"'[1]HOJA GENERAL DATOS IMPORTADOS'!V45","v":0},{"$f":"'[1]HOJA GENERAL DATOS IMPORTADOS'!W45","v":0},{"$f":"'[1]HOJA GENERAL DATOS IMPORTADOS'!X45","v":0},{"$f":"'[1]HOJA GENERAL DATOS IMPORTADOS'!Y45","v":0},{"$f":"'[1]HOJA GENERAL DATOS IMPORTADOS'!Z45","v":0},{"$f":"'[1]HOJA GENERAL DATOS IMPORTADOS'!AA45","v":0},{"$f":"'[1]HOJA GENERAL DATOS IMPORTADOS'!AB45","v":0},{"$f":"'[1]HOJA GENERAL DATOS IMPORTADOS'!AC45","v":0},{"$f":"'[1]HOJA GENERAL DATOS IMPORTADOS'!AD45","v":0},{"$f":"'[1]HOJA GENERAL DATOS IMPORTADOS'!AE45","v":0},{"$f":"'[1]HOJA GENERAL DATOS IMPORTADOS'!AF45","v":0},{"$f":"'[1]HOJA GENERAL DATOS IMPORTADOS'!AG45","v":0},{"$f":"'[1]HOJA GENERAL DATOS IMPORTADOS'!AH45","v":0},{"$f":"'[1]HOJA GENERAL DATOS IMPORTADOS'!AI45","v":0}]
[{"$f":"'[1]HOJA GENERAL DATOS IMPORTADOS'!A46","v":"OVINO"},{"$f":"'[1]HOJA GENERAL DATOS IMPORTADOS'!B46","v":11},{"$f":"'[1]HOJA GENERAL DATOS IMPORTADOS'!C46","v":472.75},{"$f":"'[1]HOJA GENERAL DATOS IMPORTADOS'!D46","v":18268.351351351401},{"$f":"'[1]HOJA GENERAL DATOS IMPORTADOS'!E46","v":76.6111111111111},{"$f":"'[1]HOJA GENERAL DATOS IMPORTADOS'!F46","v":58.8333333333333},{"$f":"'[1]HOJA GENERAL DATOS IMPORTADOS'!G46","v":1.2880910524485401},{"$f":"'[1]HOJA GENERAL DATOS IMPORTADOS'!H46","v":13.5444444444444},{"$f":"'[1]HOJA GENERAL DATOS IMPORTADOS'!I46","v":0},{"$f":"'[1]HOJA GENERAL DATOS IMPORTADOS'!J46","v":0},{"$f":"'[1]HOJA GENERAL DATOS IMPORTADOS'!K46","v":0},{"$f":"'[1]HOJA GENERAL DATOS IMPORTADOS'!L46","v":0},{"$f":"'[1]HOJA GENERAL DATOS IMPORTADOS'!M46","v":0},{"$f":"'[1]HOJA GENERAL DATOS IMPORTADOS'!N46","v":0},{"$f":"'[1]HOJA GENERAL DATOS IMPORTADOS'!O46","v":0},{"$f":"'[1]HOJA GENERAL DATOS IMPORTADOS'!P46","v":0},{"$f":"'[1]HOJA GENERAL DATOS IMPORTADOS'!Q46","v":0},{"$f":"'[1]HOJA GENERAL DATOS IMPORTADOS'!R46","v":0},{"$f":"'[1]HOJA GENERAL DATOS IMPORTADOS'!S46","v":0},{"$f":"'[1]HOJA GENERAL DATOS IMPORTADOS'!T46","v":0},{"$f":"'[1]HOJA GENERAL DATOS IMPORTADOS'!U46","v":0},{"$f":"'[1]HOJA GENERAL DATOS IMPORTADOS'!V46","v":0},{"$f":"'[1]HOJA GENERAL DATOS IMPORTADOS'!W46","v":0},{"$f":"'[1]HOJA GENERAL DATOS IMPORTADOS'!X46","v":0},{"$f":"'[1]HOJA GENERAL DATOS IMPORTADOS'!Y46","v":0},{"$f":"'[1]HOJA GENERAL DATOS IMPORTADOS'!Z46","v":0},{"$f":"'[1]HOJA GENERAL DATOS IMPORTADOS'!AA46","v":0},{"$f":"'[1]HOJA GENERAL DATOS IMPORTADOS'!AB46","v":0},{"$f":"'[1]HOJA GENERAL DATOS IMPORTADOS'!AC46","v":0},{"$f":"'[1]HOJA GENERAL DATOS IMPORTADOS'!AD46","v":0},{"$f":"'[1]HOJA GENERAL DATOS IMPORTADOS'!AE46","v":0},{"$f":"'[1]HOJA GENERAL DATOS IMPORTADOS'!AF46","v":0},{"$f":"'[1]HOJA GENERAL DATOS IMPORTADOS'!AG46","v":0},{"$f":"'[1]HOJA GENERAL DATOS IMPORTADOS'!AH46","v":0},{"$f":"'[1]HOJA GENERAL DATOS IMPORTADOS'!AI46","v":0}]
[{"$f":"'[1]HOJA GENERAL DATOS IMPORTADOS'!A47","v":"OVINO"},{"$f":"'[1]HOJA GENERAL DATOS IMPORTADOS'!B47","v":12},{"$f":"'[1]HOJA GENERAL DATOS IMPORTADOS'!C47","v":487.02857142857101},{"$f":"'[1]HOJA GENERAL DATOS IMPORTADOS'!D47","v":21258.5142857143},{"$f":"'[1]HOJA GENERAL DATOS IMPORTADOS'!E47","v":72.058823529411796},{"$f":"'[1]HOJA GENERAL DATOS IMPORTADOS'!F47","v":56.470588235294102},{"$f":"'[1]HOJA GENERAL DATOS IMPORTADOS'!G47","v":1.4549806406195001},{"$f":"'[1]HOJA GENERAL DATOS IMPORTADOS'!H47","v":12.852941176470599},{"$f":"'[1]HOJA GENERAL DATOS IMPORTADOS'!I47","v":0},{"$f":"'[1]HOJA GENERAL DATOS IMPORTADOS'!J47","v":0},{"$f":"'[1]HOJA GENERAL DATOS IMPORTADOS'!K47","v":0},{"$f":"'[1]HOJA GENERAL DATOS IMPORTADOS'!L47","v":0},{"$f":"'[1]HOJA GENERAL DATOS IMPORTADOS'!M47","v":0},{"$f":"'[1]HOJA GENERAL DATOS IMPORTADOS'!N47","v":0},{"$f":"'[1]HOJA GENERAL DATOS IMPORTADOS'!O47","v":0},{"$f":"'[1]HOJA GENERAL DATOS IMPORTADOS'!P47","v":0},{"$f":"'[1]HOJA GENERAL DATOS IMPORTADOS'!Q47","v":0},{"$f":"'[1]HOJA GENERAL DATOS IMPORTADOS'!R47","v":0},{"$f":"'[1]HOJA GENERAL DATOS IMPORTADOS'!S47","v":0},{"$f":"'[1]HOJA GENERAL DATOS IMPORTADOS'!T47","v":0},{"$f":"'[1]HOJA GENERAL DATOS IMPORTADOS'!U47","v":0},{"$f":"'[1]HOJA GENERAL DATOS IMPORTADOS'!V47","v":0},{"$f":"'[1]HOJA GENERAL DATOS IMPORTADOS'!W47","v":0},{"$f":"'[1]HOJA GENERAL DATOS IMPORTADOS'!X47","v":0},{"$f":"'[1]HOJA GENERAL DATOS IMPORTADOS'!Y47","v":0},{"$f":"'[1]HOJA GENERAL DATOS IMPORTADOS'!Z47","v":0},{"$f":"'[1]HOJA GENERAL DATOS IMPORTADOS'!AA47","v":0},{"$f":"'[1]HOJA GENERAL DATOS IMPORTADOS'!AB47","v":0},{"$f":"'[1]HOJA GENERAL DATOS IMPORTADOS'!AC47","v":0},{"$f":"'[1]HOJA GENERAL DATOS IMPORTADOS'!AD47","v":0},{"$f":"'[1]HOJA GENERAL DATOS IMPORTADOS'!AE47","v":0},{"$f":"'[1]HOJA GENERAL DATOS IMPORTADOS'!AF47","v":0},{"$f":"'[1]HOJA GENERAL DATOS IMPORTADOS'!AG47","v":0},{"$f":"'[1]HOJA GENERAL DATOS IMPORTADOS'!AH47","v":0},{"$f":"'[1]HOJA GENERAL DATOS IMPORTADOS'!AI47","v":0}]
[{"$f":"'[1]HOJA GENERAL DATOS IMPORTADOS'!A48","v":0},{"$f":"'[1]HOJA GENERAL DATOS IMPORTADOS'!B48","v":0},{"$f":"'[1]HOJA GENERAL DATOS IMPORTADOS'!C48","v":0},{"$f":"'[1]HOJA GENERAL DATOS IMPORTADOS'!D48","v":0},{"$f":"'[1]HOJA GENERAL DATOS IMPORTADOS'!E48","v":0},{"$f":"'[1]HOJA GENERAL DATOS IMPORTADOS'!F48","v":0},{"$f":"'[1]HOJA GENERAL DATOS IMPORTADOS'!G48","v":0},{"$f":"'[1]HOJA GENERAL DATOS IMPORTADOS'!H48","v":0},{"$f":"'[1]HOJA GENERAL DATOS IMPORTADOS'!I48","v":0},{"$f":"'[1]HOJA GENERAL DATOS IMPORTADOS'!J48","v":0},{"$f":"'[1]HOJA GENERAL DATOS IMPORTADOS'!K48","v":0},{"$f":"'[1]HOJA GENERAL DATOS IMPORTADOS'!L48","v":0},{"$f":"'[1]HOJA GENERAL DATOS IMPORTADOS'!M48","v":0},{"$f":"'[1]HOJA GENERAL DATOS IMPORTADOS'!N48","v":0},{"$f":"'[1]HOJA GENERAL DATOS IMPORTADOS'!O48","v":0},{"$f":"'[1]HOJA GENERAL DATOS IMPORTADOS'!P48","v":0},{"$f":"'[1]HOJA GENERAL DATOS IMPORTADOS'!Q48","v":0},{"$f":"'[1]HOJA GENERAL DATOS IMPORTADOS'!R48","v":0},{"$f":"'[1]HOJA GENERAL DATOS IMPORTADOS'!S48","v":0},{"$f":"'[1]HOJA GENERAL DATOS IMPORTADOS'!T48","v":0},{"$f":"'[1]HOJA GENERAL DATOS IMPORTADOS'!U48","v":0},{"$f":"'[1]HOJA GENERAL DATOS IMPORTADOS'!V48","v":0},{"$f":"'[1]HOJA GENERAL DATOS IMPORTADOS'!W48","v":0},{"$f":"'[1]HOJA GENERAL DATOS IMPORTADOS'!X48","v":0},{"$f":"'[1]HOJA GENERAL DATOS IMPORTADOS'!Y48","v":0},{"$f":"'[1]HOJA GENERAL DATOS IMPORTADOS'!Z48","v":0},{"$f":"'[1]HOJA GENERAL DATOS IMPORTADOS'!AA48","v":0},{"$f":"'[1]HOJA GENERAL DATOS IMPORTADOS'!AB48","v":0},{"$f":"'[1]HOJA GENERAL DATOS IMPORTADOS'!AC48","v":0},{"$f":"'[1]HOJA GENERAL DATOS IMPORTADOS'!AD48","v":0},{"$f":"'[1]HOJA GENERAL DATOS IMPORTADOS'!AE48","v":0},{"$f":"'[1]HOJA GENERAL DATOS IMPORTADOS'!AF48","v":0},{"$f":"'[1]HOJA GENERAL DATOS IMPORTADOS'!AG48","v":0},{"$f":"'[1]HOJA GENERAL DATOS IMPORTADOS'!AH48","v":0},{"$f":"'[1]HOJA GENERAL DATOS IMPORTADOS'!AI48","v":0}]
[{"$f":"'[1]HOJA GENERAL DATOS IMPORTADOS'!A49","v":0},{"$f":"'[1]HOJA GENERAL DATOS IMPORTADOS'!B49","v":0},{"$f":"'[1]HOJA GENERAL DATOS IMPORTADOS'!C49","v":0},{"$f":"'[1]HOJA GENERAL DATOS IMPORTADOS'!D49","v":0},{"$f":"'[1]HOJA GENERAL DATOS IMPORTADOS'!E49","v":0},{"$f":"'[1]HOJA GENERAL DATOS IMPORTADOS'!F49","v":0},{"$f":"'[1]HOJA GENERAL DATOS IMPORTADOS'!G49","v":0},{"$f":"'[1]HOJA GENERAL DATOS IMPORTADOS'!H49","v":0},{"$f":"'[1]HOJA GENERAL DATOS IMPORTADOS'!I49","v":0},{"$f":"'[1]HOJA GENERAL DATOS IMPORTADOS'!J49","v":0},{"$f":"'[1]HOJA GENERAL DATOS IMPORTADOS'!K49","v":0},{"$f":"'[1]HOJA GENERAL DATOS IMPORTADOS'!L49","v":0},{"$f":"'[1]HOJA GENERAL DATOS IMPORTADOS'!M49","v":0},{"$f":"'[1]HOJA GENERAL DATOS IMPORTADOS'!N49","v":0},{"$f":"'[1]HOJA GENERAL DATOS IMPORTADOS'!O49","v":0},{"$f":"'[1]HOJA GENERAL DATOS IMPORTADOS'!P49","v":0},{"$f":"'[1]HOJA GENERAL DATOS IMPORTADOS'!Q49","v":0},{"$f":"'[1]HOJA GENERAL DATOS IMPORTADOS'!R49","v":0},{"$f":"'[1]HOJA GENERAL DATOS IMPORTADOS'!S49","v":0},{"$f":"'[1]HOJA GENERAL DATOS IMPORTADOS'!T49","v":0},{"$f":"'[1]HOJA GENERAL DATOS IMPORTADOS'!U49","v":0},{"$f":"'[1]HOJA GENERAL DATOS IMPORTADOS'!V49","v":0},{"$f":"'[1]HOJA GENERAL DATOS IMPORTADOS'!W49","v":0},{"$f":"'[1]HOJA GENERAL DATOS IMPORTADOS'!X49","v":0},{"$f":"'[1]HOJA GENERAL DATOS IMPORTADOS'!Y49","v":0},{"$f":"'[1]HOJA GENERAL DATOS IMPORTADOS'!Z49","v":0},{"$f":"'[1]HOJA GENERAL DATOS IMPORTADOS'!AA49","v":0},{"$f":"'[1]HOJA GENERAL DATOS IMPORTADOS'!AB49","v":0},{"$f":"'[1]HOJA GENERAL DATOS IMPORTADOS'!AC49","v":0},{"$f":"'[1]HOJA GENERAL DATOS IMPORTADOS'!AD49","v":0},{"$f":"'[1]HOJA GENERAL DATOS IMPORTADOS'!AE49","v":0},{"$f":"'[1]HOJA GENERAL DATOS IMPORTADOS'!AF49","v":0},{"$f":"'[1]HOJA GENERAL DATOS IMPORTADOS'!AG49","v":0},{"$f":"'[1]HOJA GENERAL DATOS IMPORTADOS'!AH49","v":0},{"$f":"'[1]HOJA GENERAL DATOS IMPORTADOS'!AI49","v":0}]
[{"$f":"'[1]HOJA GENERAL DATOS IMPORTADOS'!A50","v":0},{"$f":"'[1]HOJA GENERAL DATOS IMPORTADOS'!B50","v":0},{"$f":"'[1]HOJA GENERAL DATOS IMPORTADOS'!C50","v":0},{"$f":"'[1]HOJA GENERAL DATOS IMPORTADOS'!D50","v":0},{"$f":"'[1]HOJA GENERAL DATOS IMPORTADOS'!E50","v":0},{"$f":"'[1]HOJA GENERAL DATOS IMPORTADOS'!F50","v":0},{"$f":"'[1]HOJA GENERAL DATOS IMPORTADOS'!G50","v":0},{"$f":"'[1]HOJA GENERAL DATOS IMPORTADOS'!H50","v":0},{"$f":"'[1]HOJA GENERAL DATOS IMPORTADOS'!I50","v":0},{"$f":"'[1]HOJA GENERAL DATOS IMPORTADOS'!J50","v":0},{"$f":"'[1]HOJA GENERAL DATOS IMPORTADOS'!K50","v":0},{"$f":"'[1]HOJA GENERAL DATOS IMPORTADOS'!L50","v":0},{"$f":"'[1]HOJA GENERAL DATOS IMPORTADOS'!M50","v":0},{"$f":"'[1]HOJA GENERAL DATOS IMPORTADOS'!N50","v":0},{"$f":"'[1]HOJA GENERAL DATOS IMPORTADOS'!O50","v":0},{"$f":"'[1]HOJA GENERAL DATOS IMPORTADOS'!P50","v":0},{"$f":"'[1]HOJA GENERAL DATOS IMPORTADOS'!Q50","v":0},{"$f":"'[1]HOJA GENERAL DATOS IMPORTADOS'!R50","v":0},{"$f":"'[1]HOJA GENERAL DATOS IMPORTADOS'!S50","v":0},{"$f":"'[1]HOJA GENERAL DATOS IMPORTADOS'!T50","v":0},{"$f":"'[1]HOJA GENERAL DATOS IMPORTADOS'!U50","v":0},{"$f":"'[1]HOJA GENERAL DATOS IMPORTADOS'!V50","v":0},{"$f":"'[1]HOJA GENERAL DATOS IMPORTADOS'!W50","v":0},{"$f":"'[1]HOJA GENERAL DATOS IMPORTADOS'!X50","v":0},{"$f":"'[1]HOJA GENERAL DATOS IMPORTADOS'!Y50","v":0},{"$f":"'[1]HOJA GENERAL DATOS IMPORTADOS'!Z50","v":0},{"$f":"'[1]HOJA GENERAL DATOS IMPORTADOS'!AA50","v":0},{"$f":"'[1]HOJA GENERAL DATOS IMPORTADOS'!AB50","v":0},{"$f":"'[1]HOJA GENERAL DATOS IMPORTADOS'!AC50","v":0},{"$f":"'[1]HOJA GENERAL DATOS IMPORTADOS'!AD50","v":0},{"$f":"'[1]HOJA GENERAL DATOS IMPORTADOS'!AE50","v":0},{"$f":"'[1]HOJA GENERAL DATOS IMPORTADOS'!AF50","v":0},{"$f":"'[1]HOJA GENERAL DATOS IMPORTADOS'!AG50","v":0},{"$f":"'[1]HOJA GENERAL DATOS IMPORTADOS'!AH50","v":0},{"$f":"'[1]HOJA GENERAL DATOS IMPORTADOS'!AI50","v":0}]
[{"$f":"'[1]HOJA GENERAL DATOS IMPORTADOS'!A51","v":"ESPECIE"},{"$f":"'[1]HOJA GENERAL DATOS IMPORTADOS'!B51","v":"CuentaDeMES CONTROL"},{"$f":"'[1]HOJA GENERAL DATOS IMPORTADOS'!C51","v":"PromedioDeANIMALES SECOS"},{"$f":"'[1]HOJA GENERAL DATOS IMPORTADOS'!D51","v":"PromedioDeANIMALES EN PREPARTO"},{"$f":"'[1]HOJA GENERAL DATOS IMPORTADOS'!E51","v":"PromedioDeANIMALES  EN ORDEÑO"},{"$f":"'[1]HOJA GENERAL DATOS IMPORTADOS'!F51","v":"ANIMALES TOTALES"},{"$f":"'[1]HOJA GENERAL DATOS IMPORTADOS'!G51","v":"%ANIMALES SECOS"},{"$f":"'[1]HOJA GENERAL DATOS IMPORTADOS'!H51","v":"%ANIMALES EN PREPARTO"},{"$f":"'[1]HOJA GENERAL DATOS IMPORTADOS'!I51","v":"%ANIMALES EN ORDEÑO"},{"$f":"'[1]HOJA GENERAL DATOS IMPORTADOS'!J51","v":0},{"$f":"'[1]HOJA GENERAL DATOS IMPORTADOS'!K51","v":0},{"$f":"'[1]HOJA GENERAL DATOS IMPORTADOS'!L51","v":0},{"$f":"'[1]HOJA GENERAL DATOS IMPORTADOS'!M51","v":0},{"$f":"'[1]HOJA GENERAL DATOS IMPORTADOS'!N51","v":0},{"$f":"'[1]HOJA GENERAL DATOS IMPORTADOS'!O51","v":0},{"$f":"'[1]HOJA GENERAL DATOS IMPORTADOS'!P51","v":0},{"$f":"'[1]HOJA GENERAL DATOS IMPORTADOS'!Q51","v":0},{"$f":"'[1]HOJA GENERAL DATOS IMPORTADOS'!R51","v":0},{"$f":"'[1]HOJA GENERAL DATOS IMPORTADOS'!S51","v":0},{"$f":"'[1]HOJA GENERAL DATOS IMPORTADOS'!T51","v":0},{"$f":"'[1]HOJA GENERAL DATOS IMPORTADOS'!U51","v":0},{"$f":"'[1]HOJA GENERAL DATOS IMPORTADOS'!V51","v":0},{"$f":"'[1]HOJA GENERAL DATOS IMPORTADOS'!W51","v":0},{"$f":"'[1]HOJA GENERAL DATOS IMPORTADOS'!X51","v":0},{"$f":"'[1]HOJA GENERAL DATOS IMPORTADOS'!Y51","v":0},{"$f":"'[1]HOJA GENERAL DATOS IMPORTADOS'!Z51","v":0},{"$f":"'[1]HOJA GENERAL DATOS IMPORTADOS'!AA51","v":0},{"$f":"'[1]HOJA GENERAL DATOS IMPORTADOS'!AB51","v":0},{"$f":"'[1]HOJA GENERAL DATOS IMPORTADOS'!AC51","v":0},{"$f":"'[1]HOJA GENERAL DATOS IMPORTADOS'!AD51","v":0},{"$f":"'[1]HOJA GENERAL DATOS IMPORTADOS'!AE51","v":0},{"$f":"'[1]HOJA GENERAL DATOS IMPORTADOS'!AF51","v":0},{"$f":"'[1]HOJA GENERAL DATOS IMPORTADOS'!AG51","v":0},{"$f":"'[1]HOJA GENERAL DATOS IMPORTADOS'!AH51","v":0},{"$f":"'[1]HOJA GENERAL DATOS IMPORTADOS'!AI51","v":0}]
[{"$f":"'[1]HOJA GENERAL DATOS IMPORTADOS'!A52","v":"CAPRINO"},null,null,null,null,null,null,null,null,{"$f":"'[1]HOJA GENERAL DATOS IMPORTADOS'!J52","v":0},{"$f":"'[1]HOJA GENERAL DATOS IMPORTADOS'!K52","v":0},{"$f":"'[1]HOJA GENERAL DATOS IMPORTADOS'!L52","v":0},{"$f":"'[1]HOJA GENERAL DATOS IMPORTADOS'!M52","v":0},{"$f":"'[1]HOJA GENERAL DATOS IMPORTADOS'!N52","v":0},{"$f":"'[1]HOJA GENERAL DATOS IMPORTADOS'!O52","v":0},{"$f":"'[1]HOJA GENERAL DATOS IMPORTADOS'!P52","v":0},{"$f":"'[1]HOJA GENERAL DATOS IMPORTADOS'!Q52","v":0},{"$f":"'[1]HOJA GENERAL DATOS IMPORTADOS'!R52","v":0},{"$f":"'[1]HOJA GENERAL DATOS IMPORTADOS'!S52","v":0},{"$f":"'[1]HOJA GENERAL DATOS IMPORTADOS'!T52","v":0},{"$f":"'[1]HOJA GENERAL DATOS IMPORTADOS'!U52","v":0},{"$f":"'[1]HOJA GENERAL DATOS IMPORTADOS'!V52","v":0},{"$f":"'[1]HOJA GENERAL DATOS IMPORTADOS'!W52","v":0},{"$f":"'[1]HOJA GENERAL DATOS IMPORTADOS'!X52","v":0},{"$f":"'[1]HOJA GENERAL DATOS IMPORTADOS'!Y52","v":0},{"$f":"'[1]HOJA GENERAL DATOS IMPORTADOS'!Z52","v":0},{"$f":"'[1]HOJA GENERAL DATOS IMPORTADOS'!AA52","v":0},{"$f":"'[1]HOJA GENERAL DATOS IMPORTADOS'!AB52","v":0},{"$f":"'[1]HOJA GENERAL DATOS IMPORTADOS'!AC52","v":0},{"$f":"'[1]HOJA GENERAL DATOS IMPORTADOS'!AD52","v":0},{"$f":"'[1]HOJA GENERAL DATOS IMPORTADOS'!AE52","v":0},{"$f":"'[1]HOJA GENERAL DATOS IMPORTADOS'!AF52","v":0},{"$f":"'[1]HOJA GENERAL DATOS IMPORTADOS'!AG52","v":0},{"$f":"'[1]HOJA GENERAL DATOS IMPORTADOS'!AH52","v":0},{"$f":"'[1]HOJA GENERAL DATOS IMPORTADOS'!AI52","v":0}]
[{"$f":"'[1]HOJA GENERAL DATOS IMPORTADOS'!A53","v":"OVINO"},null,null,null,null,null,null,null,null,{"$f":"'[1]HOJA GENERAL DATOS IMPORTADOS'!J53","v":0},{"$f":"'[1]HOJA GENERAL DATOS IMPORTADOS'!K53","v":0},{"$f":"'[1]HOJA GENERAL DATOS IMPORTADOS'!L53","v":0},{"$f":"'[1]HOJA GENERAL DATOS IMPORTADOS'!M53","v":0},{"$f":"'[1]HOJA GENERAL DATOS IMPORTADOS'!N53","v":0},{"$f":"'[1]HOJA GENERAL DATOS IMPORTADOS'!O53","v":0},{"$f":"'[1]HOJA GENERAL DATOS IMPORTADOS'!P53","v":0},{"$f":"'[1]HOJA GENERAL DATOS IMPORTADOS'!Q53","v":0},{"$f":"'[1]HOJA GENERAL DATOS IMPORTADOS'!R53","v":0},{"$f":"'[1]HOJA GENERAL DATOS IMPORTADOS'!S53","v":0},{"$f":"'[1]HOJA GENERAL DATOS IMPORTADOS'!T53","v":0},{"$f":"'[1]HOJA GENERAL DATOS IMPORTADOS'!U53","v":0},{"$f":"'[1]HOJA GENERAL DATOS IMPORTADOS'!V53","v":0},{"$f":"'[1]HOJA GENERAL DATOS IMPORTADOS'!W53","v":0},{"$f":"'[1]HOJA GENERAL DATOS IMPORTADOS'!X53","v":0},{"$f":"'[1]HOJA GENERAL DATOS IMPORTADOS'!Y53","v":0},{"$f":"'[1]HOJA GENERAL DATOS IMPORTADOS'!Z53","v":0},{"$f":"'[1]HOJA GENERAL DATOS IMPORTADOS'!AA53","v":0},{"$f":"'[1]HOJA GENERAL DATOS IMPORTADOS'!AB53","v":0},{"$f":"'[1]HOJA GENERAL DATOS IMPORTADOS'!AC53","v":0},{"$f":"'[1]HOJA GENERAL DATOS IMPORTADOS'!AD53","v":0},{"$f":"'[1]HOJA GENERAL DATOS IMPORTADOS'!AE53","v":0},{"$f":"'[1]HOJA GENERAL DATOS IMPORTADOS'!AF53","v":0},{"$f":"'[1]HOJA GENERAL DATOS IMPORTADOS'!AG53","v":0},{"$f":"'[1]HOJA GENERAL DATOS IMPORTADOS'!AH53","v":0},{"$f":"'[1]HOJA GENERAL DATOS IMPORTADOS'!AI53","v":0}]
[{"$f":"'[1]HOJA GENERAL DATOS IMPORTADOS'!A54","v":0},{"$f":"'[1]HOJA GENERAL DATOS IMPORTADOS'!B54","v":0},{"$f":"'[1]HOJA GENERAL DATOS IMPORTADOS'!C54","v":0},{"$f":"'[1]HOJA GENERAL DATOS IMPORTADOS'!D54","v":0},{"$f":"'[1]HOJA GENERAL DATOS IMPORTADOS'!E54","v":0},{"$f":"'[1]HOJA GENERAL DATOS IMPORTADOS'!F54","v":0},{"$f":"'[1]HOJA GENERAL DATOS IMPORTADOS'!G54","v":0},{"$f":"'[1]HOJA GENERAL DATOS IMPORTADOS'!H54","v":0},{"$f":"'[1]HOJA GENERAL DATOS IMPORTADOS'!I54","v":0},{"$f":"'[1]HOJA GENERAL DATOS IMPORTADOS'!J54","v":0},{"$f":"'[1]HOJA GENERAL DATOS IMPORTADOS'!K54","v":0},{"$f":"'[1]HOJA GENERAL DATOS IMPORTADOS'!L54","v":0},{"$f":"'[1]HOJA GENERAL DATOS IMPORTADOS'!M54","v":0},{"$f":"'[1]HOJA GENERAL DATOS IMPORTADOS'!N54","v":0},{"$f":"'[1]HOJA GENERAL DATOS IMPORTADOS'!O54","v":0},{"$f":"'[1]HOJA GENERAL DATOS IMPORTADOS'!P54","v":0},{"$f":"'[1]HOJA GENERAL DATOS IMPORTADOS'!Q54","v":0},{"$f":"'[1]HOJA GENERAL DATOS IMPORTADOS'!R54","v":0},{"$f":"'[1]HOJA GENERAL DATOS IMPORTADOS'!S54","v":0},{"$f":"'[1]HOJA GENERAL DATOS IMPORTADOS'!T54","v":0},{"$f":"'[1]HOJA GENERAL DATOS IMPORTADOS'!U54","v":0},{"$f":"'[1]HOJA GENERAL DATOS IMPORTADOS'!V54","v":0},{"$f":"'[1]HOJA GENERAL DATOS IMPORTADOS'!W54","v":0},{"$f":"'[1]HOJA GENERAL DATOS IMPORTADOS'!X54","v":0},{"$f":"'[1]HOJA GENERAL DATOS IMPORTADOS'!Y54","v":0},{"$f":"'[1]HOJA GENERAL DATOS IMPORTADOS'!Z54","v":0},{"$f":"'[1]HOJA GENERAL DATOS IMPORTADOS'!AA54","v":0},{"$f":"'[1]HOJA GENERAL DATOS IMPORTADOS'!AB54","v":0},{"$f":"'[1]HOJA GENERAL DATOS IMPORTADOS'!AC54","v":0},{"$f":"'[1]HOJA GENERAL DATOS IMPORTADOS'!AD54","v":0},{"$f":"'[1]HOJA GENERAL DATOS IMPORTADOS'!AE54","v":0},{"$f":"'[1]HOJA GENERAL DATOS IMPORTADOS'!AF54","v":0},{"$f":"'[1]HOJA GENERAL DATOS IMPORTADOS'!AG54","v":0},{"$f":"'[1]HOJA GENERAL DATOS IMPORTADOS'!AH54","v":0},{"$f":"'[1]HOJA GENERAL DATOS IMPORTADOS'!AI54","v":0}]
[{"$f":"'[1]HOJA GENERAL DATOS IMPORTADOS'!A55","v":0},{"$f":"'[1]HOJA GENERAL DATOS IMPORTADOS'!B55","v":0},{"$f":"'[1]HOJA GENERAL DATOS IMPORTADOS'!C55","v":0},{"$f":"'[1]HOJA GENERAL DATOS IMPORTADOS'!D55","v":0},{"$f":"'[1]HOJA GENERAL DATOS IMPORTADOS'!E55","v":0},{"$f":"'[1]HOJA GENERAL DATOS IMPORTADOS'!F55","v":0},{"$f":"'[1]HOJA GENERAL DATOS IMPORTADOS'!G55","v":0},{"$f":"'[1]HOJA GENERAL DATOS IMPORTADOS'!H55","v":0},{"$f":"'[1]HOJA GENERAL DATOS IMPORTADOS'!I55","v":0},{"$f":"'[1]HOJA GENERAL DATOS IMPORTADOS'!J55","v":0},{"$f":"'[1]HOJA GENERAL DATOS IMPORTADOS'!K55","v":0},{"$f":"'[1]HOJA GENERAL DATOS IMPORTADOS'!L55","v":0},{"$f":"'[1]HOJA GENERAL DATOS IMPORTADOS'!M55","v":0},{"$f":"'[1]HOJA GENERAL DATOS IMPORTADOS'!N55","v":0},{"$f":"'[1]HOJA GENERAL DATOS IMPORTADOS'!O55","v":0},{"$f":"'[1]HOJA GENERAL DATOS IMPORTADOS'!P55","v":0},{"$f":"'[1]HOJA GENERAL DATOS IMPORTADOS'!Q55","v":0},{"$f":"'[1]HOJA GENERAL DATOS IMPORTADOS'!R55","v":0},{"$f":"'[1]HOJA GENERAL DATOS IMPORTADOS'!S55","v":0},{"$f":"'[1]HOJA GENERAL DATOS IMPORTADOS'!T55","v":0},{"$f":"'[1]HOJA GENERAL DATOS IMPORTADOS'!U55","v":0},{"$f":"'[1]HOJA GENERAL DATOS IMPORTADOS'!V55","v":0},{"$f":"'[1]HOJA GENERAL DATOS IMPORTADOS'!W55","v":0},{"$f":"'[1]HOJA GENERAL DATOS IMPORTADOS'!X55","v":0},{"$f":"'[1]HOJA GENERAL DATOS IMPORTADOS'!Y55","v":0},{"$f":"'[1]HOJA GENERAL DATOS IMPORTADOS'!Z55","v":0},{"$f":"'[1]HOJA GENERAL DATOS IMPORTADOS'!AA55","v":0},{"$f":"'[1]HOJA GENERAL DATOS IMPORTADOS'!AB55","v":0},{"$f":"'[1]HOJA GENERAL DATOS IMPORTADOS'!AC55","v":0},{"$f":"'[1]HOJA GENERAL DATOS IMPORTADOS'!AD55","v":0},{"$f":"'[1]HOJA GENERAL DATOS IMPORTADOS'!AE55","v":0},{"$f":"'[1]HOJA GENERAL DATOS IMPORTADOS'!AF55","v":0},{"$f":"'[1]HOJA GENERAL DATOS IMPORTADOS'!AG55","v":0},{"$f":"'[1]HOJA GENERAL DATOS IMPORTADOS'!AH55","v":0},{"$f":"'[1]HOJA GENERAL DATOS IMPORTADOS'!AI55","v":0}]
[{"$f":"'[1]HOJA GENERAL DATOS IMPORTADOS'!A56","v":0},{"$f":"'[1]HOJA GENERAL DATOS IMPORTADOS'!B56","v":0},{"$f":"'[1]HOJA GENERAL DATOS IMPORTADOS'!C56","v":0},{"$f":"'[1]HOJA GENERAL DATOS IMPORTADOS'!D56","v":0},{"$f":"'[1]HOJA GENERAL DATOS IMPORTADOS'!E56","v":0},{"$f":"'[1]HOJA GENERAL DATOS IMPORTADOS'!F56","v":0},{"$f":"'[1]HOJA GENERAL DATOS IMPORTADOS'!G56","v":0},{"$f":"'[1]HOJA GENERAL DATOS IMPORTADOS'!H56","v":0},{"$f":"'[1]HOJA GENERAL DATOS IMPORTADOS'!I56","v":0},{"$f":"'[1]HOJA GENERAL DATOS IMPORTADOS'!J56","v":0},{"$f":"'[1]HOJA GENERAL DATOS IMPORTADOS'!K56","v":0},{"$f":"'[1]HOJA GENERAL DATOS IMPORTADOS'!L56","v":0},{"$f":"'[1]HOJA GENERAL DATOS IMPORTADOS'!M56","v":0},{"$f":"'[1]HOJA GENERAL DATOS IMPORTADOS'!N56","v":0},{"$f":"'[1]HOJA GENERAL DATOS IMPORTADOS'!O56","v":0},{"$f":"'[1]HOJA GENERAL DATOS IMPORTADOS'!P56","v":0},{"$f":"'[1]HOJA GENERAL DATOS IMPORTADOS'!Q56","v":0},{"$f":"'[1]HOJA GENERAL DATOS IMPORTADOS'!R56","v":0},{"$f":"'[1]HOJA GENERAL DATOS IMPORTADOS'!S56","v":0},{"$f":"'[1]HOJA GENERAL DATOS IMPORTADOS'!T56","v":0},{"$f":"'[1]HOJA GENERAL DATOS IMPORTADOS'!U56","v":0},{"$f":"'[1]HOJA GENERAL DATOS IMPORTADOS'!V56","v":0},{"$f":"'[1]HOJA GENERAL DATOS IMPORTADOS'!W56","v":0},{"$f":"'[1]HOJA GENERAL DATOS IMPORTADOS'!X56","v":0},{"$f":"'[1]HOJA GENERAL DATOS IMPORTADOS'!Y56","v":0},{"$f":"'[1]HOJA GENERAL DATOS IMPORTADOS'!Z56","v":0},{"$f":"'[1]HOJA GENERAL DATOS IMPORTADOS'!AA56","v":0},{"$f":"'[1]HOJA GENERAL DATOS IMPORTADOS'!AB56","v":0},{"$f":"'[1]HOJA GENERAL DATOS IMPORTADOS'!AC56","v":0},{"$f":"'[1]HOJA GENERAL DATOS IMPORTADOS'!AD56","v":0},{"$f":"'[1]HOJA GENERAL DATOS IMPORTADOS'!AE56","v":0},{"$f":"'[1]HOJA GENERAL DATOS IMPORTADOS'!AF56","v":0},{"$f":"'[1]HOJA GENERAL DATOS IMPORTADOS'!AG56","v":0},{"$f":"'[1]HOJA GENERAL DATOS IMPORTADOS'!AH56","v":0},{"$f":"'[1]HOJA GENERAL DATOS IMPORTADOS'!AI56","v":0}]
[{"$f":"'[1]HOJA GENERAL DATOS IMPORTADOS'!A57","v":"ESPECIE"},{"$f":"'[1]HOJA GENERAL DATOS IMPORTADOS'!B57","v":"MES CONTROL"},{"$f":"'[1]HOJA GENERAL DATOS IMPORTADOS'!C57","v":"PromedioDeANIMALES SECOS"},{"$f":"'[1]HOJA GENERAL DATOS IMPORTADOS'!D57","v":"PromedioDeANIMALES EN PREPARTO"},{"$f":"'[1]HOJA GENERAL DATOS IMPORTADOS'!E57","v":"PromedioDeANIMALES  EN ORDEÑO"},{"$f":"'[1]HOJA GENERAL DATOS IMPORTADOS'!F57","v":"ANIMALES TOTALES"},{"$f":"'[1]HOJA GENERAL DATOS IMPORTADOS'!G57","v":"%ANIMALES SECOS"},{"$f":"'[1]HOJA GENERAL DATOS IMPORTADOS'!H57","v":"%ANIMALES EN PREPARTO"},{"$f":"'[1]HOJA GENERAL DATOS IMPORTADOS'!I57","v":"%ANIMALES EN ORDEÑO"},{"$f":"'[1]HOJA GENERAL DATOS IMPORTADOS'!J57","v":"TOT ANIMALES"},{"$f":"'[1]HOJA GENERAL DATOS IMPORTADOS'!K57","v":0},{"$f":"'[1]HOJA GENERAL DATOS IMPORTADOS'!L57","v":0},{"$f":"'[1]HOJA GENERAL DATOS IMPORTADOS'!M57","v":0},{"$f":"'[1]HOJA GENERAL DATOS IMPORTADOS'!N57","v":0},{"$f":"'[1]HOJA GENERAL DATOS IMPORTADOS'!O57","v":0},{"$f":"'[1]HOJA GENERAL DATOS IMPORTADOS'!P57","v":0},{"$f":"'[1]HOJA GENERAL DATOS IMPORTADOS'!Q57","v":0},{"$f":"'[1]HOJA GENERAL DATOS IMPORTADOS'!R57","v":0},{"$f":"'[1]HOJA GENERAL DATOS IMPORTADOS'!S57","v":0},{"$f":"'[1]HOJA GENERAL DATOS IMPORTADOS'!T57","v":0},{"$f":"'[1]HOJA GENERAL DATOS IMPORTADOS'!U57","v":0},{"$f":"'[1]HOJA GENERAL DATOS IMPORTADOS'!V57","v":0},{"$f":"'[1]HOJA GENERAL DATOS IMPORTADOS'!W57","v":0},{"$f":"'[1]HOJA GENERAL DATOS IMPORTADOS'!X57","v":0},{"$f":"'[1]HOJA GENERAL DATOS IMPORTADOS'!Y57","v":0},{"$f":"'[1]HOJA GENERAL DATOS IMPORTADOS'!Z57","v":0},{"$f":"'[1]HOJA GENERAL DATOS IMPORTADOS'!AA57","v":0},{"$f":"'[1]HOJA GENERAL DATOS IMPORTADOS'!AB57","v":0},{"$f":"'[1]HOJA GENERAL DATOS IMPORTADOS'!AC57","v":0},{"$f":"'[1]HOJA GENERAL DATOS IMPORTADOS'!AD57","v":0},{"$f":"'[1]HOJA GENERAL DATOS IMPORTADOS'!AE57","v":0},{"$f":"'[1]HOJA GENERAL DATOS IMPORTADOS'!AF57","v":0},{"$f":"'[1]HOJA GENERAL DATOS IMPORTADOS'!AG57","v":0},{"$f":"'[1]HOJA GENERAL DATOS IMPORTADOS'!AH57","v":0},{"$f":"'[1]HOJA GENERAL DATOS IMPORTADOS'!AI57","v":0}]
[{"$f":"'[1]HOJA GENERAL DATOS IMPORTADOS'!A58","v":"CAPRINO"},null,null,null,null,null,null,null,null,null,{"$f":"'[1]HOJA GENERAL DATOS IMPORTADOS'!K58","v":0},{"$f":"'[1]HOJA GENERAL DATOS IMPORTADOS'!L58","v":0},{"$f":"'[1]HOJA GENERAL DATOS IMPORTADOS'!M58","v":0},{"$f":"'[1]HOJA GENERAL DATOS IMPORTADOS'!N58","v":0},{"$f":"'[1]HOJA GENERAL DATOS IMPORTADOS'!O58","v":0},{"$f":"'[1]HOJA GENERAL DATOS IMPORTADOS'!P58","v":0},{"$f":"'[1]HOJA GENERAL DATOS IMPORTADOS'!Q58","v":0},{"$f":"'[1]HOJA GENERAL DATOS IMPORTADOS'!R58","v":0},{"$f":"'[1]HOJA GENERAL DATOS IMPORTADOS'!S58","v":0},{"$f":"'[1]HOJA GENERAL DATOS IMPORTADOS'!T58","v":0},{"$f":"'[1]HOJA GENERAL DATOS IMPORTADOS'!U58","v":0},{"$f":"'[1]HOJA GENERAL DATOS IMPORTADOS'!V58","v":0},{"$f":"'[1]HOJA GENERAL DATOS IMPORTADOS'!W58","v":0},{"$f":"'[1]HOJA GENERAL DATOS IMPORTADOS'!X58","v":0},{"$f":"'[1]HOJA GENERAL DATOS IMPORTADOS'!Y58","v":0},{"$f":"'[1]HOJA GENERAL DATOS IMPORTADOS'!Z58","v":0},{"$f":"'[1]HOJA GENERAL DATOS IMPORTADOS'!AA58","v":0},{"$f":"'[1]HOJA GENERAL DATOS IMPORTADOS'!AB58","v":0},{"$f":"'[1]HOJA GENERAL DATOS IMPORTADOS'!AC58","v":0},{"$f":"'[1]HOJA GENERAL DATOS IMPORTADOS'!AD58","v":0},{"$f":"'[1]HOJA GENERAL DATOS IMPORTADOS'!AE58","v":0},{"$f":"'[1]HOJA GENERAL DATOS IMPORTADOS'!AF58","v":0},{"$f":"'[1]HOJA GENERAL DATOS IMPORTADOS'!AG58","v":0},{"$f":"'[1]HOJA GENERAL DATOS IMPORTADOS'!AH58","v":0},{"$f":"'[1]HOJA GENERAL DATOS IMPORTADOS'!AI58","v":0}]
[{"$f":"'[1]HOJA GENERAL DATOS IMPORTADOS'!A59","v":"CAPRINO"},null,null,null,null,null,null,null,null,null,{"$f":"'[1]HOJA GENERAL DATOS IMPORTADOS'!K59","v":0},{"$f":"'[1]HOJA GENERAL DATOS IMPORTADOS'!L59","v":0},{"$f":"'[1]HOJA GENERAL DATOS IMPORTADOS'!M59","v":0},{"$f":"'[1]HOJA GENERAL DATOS IMPORTADOS'!N59","v":0},{"$f":"'[1]HOJA GENERAL DATOS IMPORTADOS'!O59","v":0},{"$f":"'[1]HOJA GENERAL DATOS IMPORTADOS'!P59","v":0},{"$f":"'[1]HOJA GENERAL DATOS IMPORTADOS'!Q59","v":0},{"$f":"'[1]HOJA GENERAL DATOS IMPORTADOS'!R59","v":0},{"$f":"'[1]HOJA GENERAL DATOS IMPORTADOS'!S59","v":0},{"$f":"'[1]HOJA GENERAL DATOS IMPORTADOS'!T59","v":0},{"$f":"'[1]HOJA GENERAL DATOS IMPORTADOS'!U59","v":0},{"$f":"'[1]HOJA GENERAL DATOS IMPORTADOS'!V59","v":0},{"$f":"'[1]HOJA GENERAL DATOS IMPORTADOS'!W59","v":0},{"$f":"'[1]HOJA GENERAL DATOS IMPORTADOS'!X59","v":0},{"$f":"'[1]HOJA GENERAL DATOS IMPORTADOS'!Y59","v":0},{"$f":"'[1]HOJA GENERAL DATOS IMPORTADOS'!Z59","v":0},{"$f":"'[1]HOJA GENERAL DATOS IMPORTADOS'!AA59","v":0},{"$f":"'[1]HOJA GENERAL DATOS IMPORTADOS'!AB59","v":0},{"$f":"'[1]HOJA GENERAL DATOS IMPORTADOS'!AC59","v":0},{"$f":"'[1]HOJA GENERAL DATOS IMPORTADOS'!AD59","v":0},{"$f":"'[1]HOJA GENERAL DATOS IMPORTADOS'!AE59","v":0},{"$f":"'[1]HOJA GENERAL DATOS IMPORTADOS'!AF59","v":0},{"$f":"'[1]HOJA GENERAL DATOS IMPORTADOS'!AG59","v":0},{"$f":"'[1]HOJA GENERAL DATOS IMPORTADOS'!AH59","v":0},{"$f":"'[1]HOJA GENERAL DATOS IMPORTADOS'!AI59","v":0}]
[{"$f":"'[1]HOJA GENERAL DATOS IMPORTADOS'!A60","v":"CAPRINO"},null,null,null,null,null,null,null,null,null,{"$f":"'[1]HOJA GENERAL DATOS IMPORTADOS'!K60","v":0},{"$f":"'[1]HOJA GENERAL DATOS IMPORTADOS'!L60","v":0},{"$f":"'[1]HOJA GENERAL DATOS IMPORTADOS'!M60","v":0},{"$f":"'[1]HOJA GENERAL DATOS IMPORTADOS'!N60","v":0},{"$f":"'[1]HOJA GENERAL DATOS IMPORTADOS'!O60","v":0},{"$f":"'[1]HOJA GENERAL DATOS IMPORTADOS'!P60","v":0},{"$f":"'[1]HOJA GENERAL DATOS IMPORTADOS'!Q60","v":0},{"$f":"'[1]HOJA GENERAL DATOS IMPORTADOS'!R60","v":0},{"$f":"'[1]HOJA GENERAL DATOS IMPORTADOS'!S60","v":0},{"$f":"'[1]HOJA GENERAL DATOS IMPORTADOS'!T60","v":0},{"$f":"'[1]HOJA GENERAL DATOS IMPORTADOS'!U60","v":0},{"$f":"'[1]HOJA GENERAL DATOS IMPORTADOS'!V60","v":0},{"$f":"'[1]HOJA GENERAL DATOS IMPORTADOS'!W60","v":0},{"$f":"'[1]HOJA GENERAL DATOS IMPORTADOS'!X60","v":0},{"$f":"'[1]HOJA GENERAL DATOS IMPORTADOS'!Y60","v":0},{"$f":"'[1]HOJA GENERAL DATOS IMPORTADOS'!Z60","v":0},{"$f":"'[1]HOJA GENERAL DATOS IMPORTADOS'!AA60","v":0},{"$f":"'[1]HOJA GENERAL DATOS IMPORTADOS'!AB60","v":0},{"$f":"'[1]HOJA GENERAL DATOS IMPORTADOS'!AC60","v":0},{"$f":"'[1]HOJA GENERAL DATOS IMPORTADOS'!AD60","v":0},{"$f":"'[1]HOJA GENERAL DATOS IMPORTADOS'!AE60","v":0},{"$f":"'[1]HOJA GENERAL DATOS IMPORTADOS'!AF60","v":0},{"$f":"'[1]HOJA GENERAL DATOS IMPORTADOS'!AG60","v":0},{"$f":"'[1]HOJA GENERAL DATOS IMPORTADOS'!AH60","v":0},{"$f":"'[1]HOJA GENERAL DATOS IMPORTADOS'!AI60","v":0}]
[{"$f":"'[1]HOJA GENERAL DATOS IMPORTADOS'!A61","v":"CAPRINO"},null,null,null,null,null,null,null,null,null,{"$f":"'[1]HOJA GENERAL DATOS IMPORTADOS'!K61","v":0},{"$f":"'[1]HOJA GENERAL DATOS IMPORTADOS'!L61","v":0},{"$f":"'[1]HOJA GENERAL DATOS IMPORTADOS'!M61","v":0},{"$f":"'[1]HOJA GENERAL DATOS IMPORTADOS'!N61","v":0},{"$f":"'[1]HOJA GENERAL DATOS IMPORTADOS'!O61","v":0},{"$f":"'[1]HOJA GENERAL DATOS IMPORTADOS'!P61","v":0},{"$f":"'[1]HOJA GENERAL DATOS IMPORTADOS'!Q61","v":0},{"$f":"'[1]HOJA GENERAL DATOS IMPORTADOS'!R61","v":0},{"$f":"'[1]HOJA GENERAL DATOS IMPORTADOS'!S61","v":0},{"$f":"'[1]HOJA GENERAL DATOS IMPORTADOS'!T61","v":0},{"$f":"'[1]HOJA GENERAL DATOS IMPORTADOS'!U61","v":0},{"$f":"'[1]HOJA GENERAL DATOS IMPORTADOS'!V61","v":0},{"$f":"'[1]HOJA GENERAL DATOS IMPORTADOS'!W61","v":0},{"$f":"'[1]HOJA GENERAL DATOS IMPORTADOS'!X61","v":0},{"$f":"'[1]HOJA GENERAL DATOS IMPORTADOS'!Y61","v":0},{"$f":"'[1]HOJA GENERAL DATOS IMPORTADOS'!Z61","v":0},{"$f":"'[1]HOJA GENERAL DATOS IMPORTADOS'!AA61","v":0},{"$f":"'[1]HOJA GENERAL DATOS IMPORTADOS'!AB61","v":0},{"$f":"'[1]HOJA GENERAL DATOS IMPORTADOS'!AC61","v":0},{"$f":"'[1]HOJA GENERAL DATOS IMPORTADOS'!AD61","v":0},{"$f":"'[1]HOJA GENERAL DATOS IMPORTADOS'!AE61","v":0},{"$f":"'[1]HOJA GENERAL DATOS IMPORTADOS'!AF61","v":0},{"$f":"'[1]HOJA GENERAL DATOS IMPORTADOS'!AG61","v":0},{"$f":"'[1]HOJA GENERAL DATOS IMPORTADOS'!AH61","v":0},{"$f":"'[1]HOJA GENERAL DATOS IMPORTADOS'!AI61","v":0}]
[{"$f":"'[1]HOJA GENERAL DATOS IMPORTADOS'!A62","v":"CAPRINO"},null,null,null,null,null,null,null,null,null,{"$f":"'[1]HOJA GENERAL DATOS IMPORTADOS'!K62","v":0},{"$f":"'[1]HOJA GENERAL DATOS IMPORTADOS'!L62","v":0},{"$f":"'[1]HOJA GENERAL DATOS IMPORTADOS'!M62","v":0},{"$f":"'[1]HOJA GENERAL DATOS IMPORTADOS'!N62","v":0},{"$f":"'[1]HOJA GENERAL DATOS IMPORTADOS'!O62","v":0},{"$f":"'[1]HOJA GENERAL DATOS IMPORTADOS'!P62","v":0},{"$f":"'[1]HOJA GENERAL DATOS IMPORTADOS'!Q62","v":0},{"$f":"'[1]HOJA GENERAL DATOS IMPORTADOS'!R62","v":0},{"$f":"'[1]HOJA GENERAL DATOS IMPORTADOS'!S62","v":0},{"$f":"'[1]HOJA GENERAL DATOS IMPORTADOS'!T62","v":0},{"$f":"'[1]HOJA GENERAL DATOS IMPORTADOS'!U62","v":0},{"$f":"'[1]HOJA GENERAL DATOS IMPORTADOS'!V62","v":0},{"$f":"'[1]HOJA GENERAL DATOS IMPORTADOS'!W62","v":0},{"$f":"'[1]HOJA GENERAL DATOS IMPORTADOS'!X62","v":0},{"$f":"'[1]HOJA GENERAL DATOS IMPORTADOS'!Y62","v":0},{"$f":"'[1]HOJA GENERAL DATOS IMPORTADOS'!Z62","v":0},{"$f":"'[1]HOJA GENERAL DATOS IMPORTADOS'!AA62","v":0},{"$f":"'[1]HOJA GENERAL DATOS IMPORTADOS'!AB62","v":0},{"$f":"'[1]HOJA GENERAL DATOS IMPORTADOS'!AC62","v":0},{"$f":"'[1]HOJA GENERAL DATOS IMPORTADOS'!AD62","v":0},{"$f":"'[1]HOJA GENERAL DATOS IMPORTADOS'!AE62","v":0},{"$f":"'[1]HOJA GENERAL DATOS IMPORTADOS'!AF62","v":0},{"$f":"'[1]HOJA GENERAL DATOS IMPORTADOS'!AG62","v":0},{"$f":"'[1]HOJA GENERAL DATOS IMPORTADOS'!AH62","v":0},{"$f":"'[1]HOJA GENERAL DATOS IMPORTADOS'!AI62","v":0}]
[{"$f":"'[1]HOJA GENERAL DATOS IMPORTADOS'!A63","v":"CAPRINO"},null,null,null,null,null,null,null,null,null,{"$f":"'[1]HOJA GENERAL DATOS IMPORTADOS'!K63","v":0},{"$f":"'[1]HOJA GENERAL DATOS IMPORTADOS'!L63","v":0},{"$f":"'[1]HOJA GENERAL DATOS IMPORTADOS'!M63","v":0},{"$f":"'[1]HOJA GENERAL DATOS IMPORTADOS'!N63","v":0},{"$f":"'[1]HOJA GENERAL DATOS IMPORTADOS'!O63","v":0},{"$f":"'[1]HOJA GENERAL DATOS IMPORTADOS'!P63","v":0},{"$f":"'[1]HOJA GENERAL DATOS IMPORTADOS'!Q63","v":0},{"$f":"'[1]HOJA GENERAL DATOS IMPORTADOS'!R63","v":0},{"$f":"'[1]HOJA GENERAL DATOS IMPORTADOS'!S63","v":0},{"$f":"'[1]HOJA GENERAL DATOS IMPORTADOS'!T63","v":0},{"$f":"'[1]HOJA GENERAL DATOS IMPORTADOS'!U63","v":0},{"$f":"'[1]HOJA GENERAL DATOS IMPORTADOS'!V63","v":0},{"$f":"'[1]HOJA GENERAL DATOS IMPORTADOS'!W63","v":0},{"$f":"'[1]HOJA GENERAL DATOS IMPORTADOS'!X63","v":0},{"$f":"'[1]HOJA GENERAL DATOS IMPORTADOS'!Y63","v":0},{"$f":"'[1]HOJA GENERAL DATOS IMPORTADOS'!Z63","v":0},{"$f":"'[1]HOJA GENERAL DATOS IMPORTADOS'!AA63","v":0},{"$f":"'[1]HOJA GENERAL DATOS IMPORTADOS'!AB63","v":0},{"$f":"'[1]HOJA GENERAL DATOS IMPORTADOS'!AC63","v":0},{"$f":"'[1]HOJA GENERAL DATOS IMPORTADOS'!AD63","v":0},{"$f":"'[1]HOJA GENERAL DATOS IMPORTADOS'!AE63","v":0},{"$f":"'[1]HOJA GENERAL DATOS IMPORTADOS'!AF63","v":0},{"$f":"'[1]HOJA GENERAL DATOS IMPORTADOS'!AG63","v":0},{"$f":"'[1]HOJA GENERAL DATOS IMPORTADOS'!AH63","v":0},{"$f":"'[1]HOJA GENERAL DATOS IMPORTADOS'!AI63","v":0}]
[{"$f":"'[1]HOJA GENERAL DATOS IMPORTADOS'!A64","v":"CAPRINO"},null,null,null,null,null,null,null,null,null,{"$f":"'[1]HOJA GENERAL DATOS IMPORTADOS'!K64","v":0},{"$f":"'[1]HOJA GENERAL DATOS IMPORTADOS'!L64","v":0},{"$f":"'[1]HOJA GENERAL DATOS IMPORTADOS'!M64","v":0},{"$f":"'[1]HOJA GENERAL DATOS IMPORTADOS'!N64","v":0},{"$f":"'[1]HOJA GENERAL DATOS IMPORTADOS'!O64","v":0},{"$f":"'[1]HOJA GENERAL DATOS IMPORTADOS'!P64","v":0},{"$f":"'[1]HOJA GENERAL DATOS IMPORTADOS'!Q64","v":0},{"$f":"'[1]HOJA GENERAL DATOS IMPORTADOS'!R64","v":0},{"$f":"'[1]HOJA GENERAL DATOS IMPORTADOS'!S64","v":0},{"$f":"'[1]HOJA GENERAL DATOS IMPORTADOS'!T64","v":0},{"$f":"'[1]HOJA GENERAL DATOS IMPORTADOS'!U64","v":0},{"$f":"'[1]HOJA GENERAL DATOS IMPORTADOS'!V64","v":0},{"$f":"'[1]HOJA GENERAL DATOS IMPORTADOS'!W64","v":0},{"$f":"'[1]HOJA GENERAL DATOS IMPORTADOS'!X64","v":0},{"$f":"'[1]HOJA GENERAL DATOS IMPORTADOS'!Y64","v":0},{"$f":"'[1]HOJA GENERAL DATOS IMPORTADOS'!Z64","v":0},{"$f":"'[1]HOJA GENERAL DATOS IMPORTADOS'!AA64","v":0},{"$f":"'[1]HOJA GENERAL DATOS IMPORTADOS'!AB64","v":0},{"$f":"'[1]HOJA GENERAL DATOS IMPORTADOS'!AC64","v":0},{"$f":"'[1]HOJA GENERAL DATOS IMPORTADOS'!AD64","v":0},{"$f":"'[1]HOJA GENERAL DATOS IMPORTADOS'!AE64","v":0},{"$f":"'[1]HOJA GENERAL DATOS IMPORTADOS'!AF64","v":0},{"$f":"'[1]HOJA GENERAL DATOS IMPORTADOS'!AG64","v":0},{"$f":"'[1]HOJA GENERAL DATOS IMPORTADOS'!AH64","v":0},{"$f":"'[1]HOJA GENERAL DATOS IMPORTADOS'!AI64","v":0}]
[{"$f":"'[1]HOJA GENERAL DATOS IMPORTADOS'!A65","v":"CAPRINO"},null,null,null,null,null,null,null,null,null,{"$f":"'[1]HOJA GENERAL DATOS IMPORTADOS'!K65","v":0},{"$f":"'[1]HOJA GENERAL DATOS IMPORTADOS'!L65","v":0},{"$f":"'[1]HOJA GENERAL DATOS IMPORTADOS'!M65","v":0},{"$f":"'[1]HOJA GENERAL DATOS IMPORTADOS'!N65","v":0},{"$f":"'[1]HOJA GENERAL DATOS IMPORTADOS'!O65","v":0},{"$f":"'[1]HOJA GENERAL DATOS IMPORTADOS'!P65","v":0},{"$f":"'[1]HOJA GENERAL DATOS IMPORTADOS'!Q65","v":0},{"$f":"'[1]HOJA GENERAL DATOS IMPORTADOS'!R65","v":0},{"$f":"'[1]HOJA GENERAL DATOS IMPORTADOS'!S65","v":0},{"$f":"'[1]HOJA GENERAL DATOS IMPORTADOS'!T65","v":0},{"$f":"'[1]HOJA GENERAL DATOS IMPORTADOS'!U65","v":0},{"$f":"'[1]HOJA GENERAL DATOS IMPORTADOS'!V65","v":0},{"$f":"'[1]HOJA GENERAL DATOS IMPORTADOS'!W65","v":0},{"$f":"'[1]HOJA GENERAL DATOS IMPORTADOS'!X65","v":0},{"$f":"'[1]HOJA GENERAL DATOS IMPORTADOS'!Y65","v":0},{"$f":"'[1]HOJA GENERAL DATOS IMPORTADOS'!Z65","v":0},{"$f":"'[1]HOJA GENERAL DATOS IMPORTADOS'!AA65","v":0},{"$f":"'[1]HOJA GENERAL DATOS IMPORTADOS'!AB65","v":0},{"$f":"'[1]HOJA GENERAL DATOS IMPORTADOS'!AC65","v":0},{"$f":"'[1]HOJA GENERAL DATOS IMPORTADOS'!AD65","v":0},{"$f":"'[1]HOJA GENERAL DATOS IMPORTADOS'!AE65","v":0},{"$f":"'[1]HOJA GENERAL DATOS IMPORTADOS'!AF65","v":0},{"$f":"'[1]HOJA GENERAL DATOS IMPORTADOS'!AG65","v":0},{"$f":"'[1]HOJA GENERAL DATOS IMPORTADOS'!AH65","v":0},{"$f":"'[1]HOJA GENERAL DATOS IMPORTADOS'!AI65","v":0}]
[{"$f":"'[1]HOJA GENERAL DATOS IMPORTADOS'!A66","v":"CAPRINO"},null,null,null,null,null,null,null,null,null,{"$f":"'[1]HOJA GENERAL DATOS IMPORTADOS'!K66","v":0},{"$f":"'[1]HOJA GENERAL DATOS IMPORTADOS'!L66","v":0},{"$f":"'[1]HOJA GENERAL DATOS IMPORTADOS'!M66","v":0},{"$f":"'[1]HOJA GENERAL DATOS IMPORTADOS'!N66","v":0},{"$f":"'[1]HOJA GENERAL DATOS IMPORTADOS'!O66","v":0},{"$f":"'[1]HOJA GENERAL DATOS IMPORTADOS'!P66","v":0},{"$f":"'[1]HOJA GENERAL DATOS IMPORTADOS'!Q66","v":0},{"$f":"'[1]HOJA GENERAL DATOS IMPORTADOS'!R66","v":0},{"$f":"'[1]HOJA GENERAL DATOS IMPORTADOS'!S66","v":0},{"$f":"'[1]HOJA GENERAL DATOS IMPORTADOS'!T66","v":0},{"$f":"'[1]HOJA GENERAL DATOS IMPORTADOS'!U66","v":0},{"$f":"'[1]HOJA GENERAL DATOS IMPORTADOS'!V66","v":0},{"$f":"'[1]HOJA GENERAL DATOS IMPORTADOS'!W66","v":0},{"$f":"'[1]HOJA GENERAL DATOS IMPORTADOS'!X66","v":0},{"$f":"'[1]HOJA GENERAL DATOS IMPORTADOS'!Y66","v":0},{"$f":"'[1]HOJA GENERAL DATOS IMPORTADOS'!Z66","v":0},{"$f":"'[1]HOJA GENERAL DATOS IMPORTADOS'!AA66","v":0},{"$f":"'[1]HOJA GENERAL DATOS IMPORTADOS'!AB66","v":0},{"$f":"'[1]HOJA GENERAL DATOS IMPORTADOS'!AC66","v":0},{"$f":"'[1]HOJA GENERAL DATOS IMPORTADOS'!AD66","v":0},{"$f":"'[1]HOJA GENERAL DATOS IMPORTADOS'!AE66","v":0},{"$f":"'[1]HOJA GENERAL DATOS IMPORTADOS'!AF66","v":0},{"$f":"'[1]HOJA GENERAL DATOS IMPORTADOS'!AG66","v":0},{"$f":"'[1]HOJA GENERAL DATOS IMPORTADOS'!AH66","v":0},{"$f":"'[1]HOJA GENERAL DATOS IMPORTADOS'!AI66","v":0}]
[{"$f":"'[1]HOJA GENERAL DATOS IMPORTADOS'!A67","v":"CAPRINO"},null,null,null,null,null,null,null,null,null,{"$f":"'[1]HOJA GENERAL DATOS IMPORTADOS'!K67","v":0},{"$f":"'[1]HOJA GENERAL DATOS IMPORTADOS'!L67","v":0},{"$f":"'[1]HOJA GENERAL DATOS IMPORTADOS'!M67","v":0},{"$f":"'[1]HOJA GENERAL DATOS IMPORTADOS'!N67","v":0},{"$f":"'[1]HOJA GENERAL DATOS IMPORTADOS'!O67","v":0},{"$f":"'[1]HOJA GENERAL DATOS IMPORTADOS'!P67","v":0},{"$f":"'[1]HOJA GENERAL DATOS IMPORTADOS'!Q67","v":0},{"$f":"'[1]HOJA GENERAL DATOS IMPORTADOS'!R67","v":0},{"$f":"'[1]HOJA GENERAL DATOS IMPORTADOS'!S67","v":0},{"$f":"'[1]HOJA GENERAL DATOS IMPORTADOS'!T67","v":0},{"$f":"'[1]HOJA GENERAL DATOS IMPORTADOS'!U67","v":0},{"$f":"'[1]HOJA GENERAL DATOS IMPORTADOS'!V67","v":0},{"$f":"'[1]HOJA GENERAL DATOS IMPORTADOS'!W67","v":0},{"$f":"'[1]HOJA GENERAL DATOS IMPORTADOS'!X67","v":0},{"$f":"'[1]HOJA GENERAL DATOS IMPORTADOS'!Y67","v":0},{"$f":"'[1]HOJA GENERAL DATOS IMPORTADOS'!Z67","v":0},{"$f":"'[1]HOJA GENERAL DATOS IMPORTADOS'!AA67","v":0},{"$f":"'[1]HOJA GENERAL DATOS IMPORTADOS'!AB67","v":0},{"$f":"'[1]HOJA GENERAL DATOS IMPORTADOS'!AC67","v":0},{"$f":"'[1]HOJA GENERAL DATOS IMPORTADOS'!AD67","v":0},{"$f":"'[1]HOJA GENERAL DATOS IMPORTADOS'!AE67","v":0},{"$f":"'[1]HOJA GENERAL DATOS IMPORTADOS'!AF67","v":0},{"$f":"'[1]HOJA GENERAL DATOS IMPORTADOS'!AG67","v":0},{"$f":"'[1]HOJA GENERAL DATOS IMPORTADOS'!AH67","v":0},{"$f":"'[1]HOJA GENERAL DATOS IMPORTADOS'!AI67","v":0}]
[{"$f":"'[1]HOJA GENERAL DATOS IMPORTADOS'!A68","v":"CAPRINO"},null,null,null,null,null,null,null,null,null,{"$f":"'[1]HOJA GENERAL DATOS IMPORTADOS'!K68","v":0},{"$f":"'[1]HOJA GENERAL DATOS IMPORTADOS'!L68","v":0},{"$f":"'[1]HOJA GENERAL DATOS IMPORTADOS'!M68","v":0},{"$f":"'[1]HOJA GENERAL DATOS IMPORTADOS'!N68","v":0},{"$f":"'[1]HOJA GENERAL DATOS IMPORTADOS'!O68","v":0},{"$f":"'[1]HOJA GENERAL DATOS IMPORTADOS'!P68","v":0},{"$f":"'[1]HOJA GENERAL DATOS IMPORTADOS'!Q68","v":0},{"$f":"'[1]HOJA GENERAL DATOS IMPORTADOS'!R68","v":0},{"$f":"'[1]HOJA GENERAL DATOS IMPORTADOS'!S68","v":0},{"$f":"'[1]HOJA GENERAL DATOS IMPORTADOS'!T68","v":0},{"$f":"'[1]HOJA GENERAL DATOS IMPORTADOS'!U68","v":0},{"$f":"'[1]HOJA GENERAL DATOS IMPORTADOS'!V68","v":0},{"$f":"'[1]HOJA GENERAL DATOS IMPORTADOS'!W68","v":0},{"$f":"'[1]HOJA GENERAL DATOS IMPORTADOS'!X68","v":0},{"$f":"'[1]HOJA GENERAL DATOS IMPORTADOS'!Y68","v":0},{"$f":"'[1]HOJA GENERAL DATOS IMPORTADOS'!Z68","v":0},{"$f":"'[1]HOJA GENERAL DATOS IMPORTADOS'!AA68","v":0},{"$f":"'[1]HOJA GENERAL DATOS IMPORTADOS'!AB68","v":0},{"$f":"'[1]HOJA GENERAL DATOS IMPORTADOS'!AC68","v":0},{"$f":"'[1]HOJA GENERAL DATOS IMPORTADOS'!AD68","v":0},{"$f":"'[1]HOJA GENERAL DATOS IMPORTADOS'!AE68","v":0},{"$f":"'[1]HOJA GENERAL DATOS IMPORTADOS'!AF68","v":0},{"$f":"'[1]HOJA GENERAL DATOS IMPORTADOS'!AG68","v":0},{"$f":"'[1]HOJA GENERAL DATOS IMPORTADOS'!AH68","v":0},{"$f":"'[1]HOJA GENERAL DATOS IMPORTADOS'!AI68","v":0}]
[{"$f":"'[1]HOJA GENERAL DATOS IMPORTADOS'!A69","v":"CAPRINO"},null,null,null,null,null,null,null,null,null,{"$f":"'[1]HOJA GENERAL DATOS IMPORTADOS'!K69","v":0},{"$f":"'[1]HOJA GENERAL DATOS IMPORTADOS'!L69","v":0},{"$f":"'[1]HOJA GENERAL DATOS IMPORTADOS'!M69","v":0},{"$f":"'[1]HOJA GENERAL DATOS IMPORTADOS'!N69","v":0},{"$f":"'[1]HOJA GENERAL DATOS IMPORTADOS'!O69","v":0},{"$f":"'[1]HOJA GENERAL DATOS IMPORTADOS'!P69","v":0},{"$f":"'[1]HOJA GENERAL DATOS IMPORTADOS'!Q69","v":0},{"$f":"'[1]HOJA GENERAL DATOS IMPORTADOS'!R69","v":0},{"$f":"'[1]HOJA GENERAL DATOS IMPORTADOS'!S69","v":0},{"$f":"'[1]HOJA GENERAL DATOS IMPORTADOS'!T69","v":0},{"$f":"'[1]HOJA GENERAL DATOS IMPORTADOS'!U69","v":0},{"$f":"'[1]HOJA GENERAL DATOS IMPORTADOS'!V69","v":0},{"$f":"'[1]HOJA GENERAL DATOS IMPORTADOS'!W69","v":0},{"$f":"'[1]HOJA GENERAL DATOS IMPORTADOS'!X69","v":0},{"$f":"'[1]HOJA GENERAL DATOS IMPORTADOS'!Y69","v":0},{"$f":"'[1]HOJA GENERAL DATOS IMPORTADOS'!Z69","v":0},{"$f":"'[1]HOJA GENERAL DATOS IMPORTADOS'!AA69","v":0},{"$f":"'[1]HOJA GENERAL DATOS IMPORTADOS'!AB69","v":0},{"$f":"'[1]HOJA GENERAL DATOS IMPORTADOS'!AC69","v":0},{"$f":"'[1]HOJA GENERAL DATOS IMPORTADOS'!AD69","v":0},{"$f":"'[1]HOJA GENERAL DATOS IMPORTADOS'!AE69","v":0},{"$f":"'[1]HOJA GENERAL DATOS IMPORTADOS'!AF69","v":0},{"$f":"'[1]HOJA GENERAL DATOS IMPORTADOS'!AG69","v":0},{"$f":"'[1]HOJA GENERAL DATOS IMPORTADOS'!AH69","v":0},{"$f":"'[1]HOJA GENERAL DATOS IMPORTADOS'!AI69","v":0}]
[{"$f":"'[1]HOJA GENERAL DATOS IMPORTADOS'!A70","v":"OVINO"},null,null,null,null,null,null,null,null,null,{"$f":"'[1]HOJA GENERAL DATOS IMPORTADOS'!K70","v":0},{"$f":"'[1]HOJA GENERAL DATOS IMPORTADOS'!L70","v":0},{"$f":"'[1]HOJA GENERAL DATOS IMPORTADOS'!M70","v":0},{"$f":"'[1]HOJA GENERAL DATOS IMPORTADOS'!N70","v":0},{"$f":"'[1]HOJA GENERAL DATOS IMPORTADOS'!O70","v":0},{"$f":"'[1]HOJA GENERAL DATOS IMPORTADOS'!P70","v":0},{"$f":"'[1]HOJA GENERAL DATOS IMPORTADOS'!Q70","v":0},{"$f":"'[1]HOJA GENERAL DATOS IMPORTADOS'!R70","v":0},{"$f":"'[1]HOJA GENERAL DATOS IMPORTADOS'!S70","v":0},{"$f":"'[1]HOJA GENERAL DATOS IMPORTADOS'!T70","v":0},{"$f":"'[1]HOJA GENERAL DATOS IMPORTADOS'!U70","v":0},{"$f":"'[1]HOJA GENERAL DATOS IMPORTADOS'!V70","v":0},{"$f":"'[1]HOJA GENERAL DATOS IMPORTADOS'!W70","v":0},{"$f":"'[1]HOJA GENERAL DATOS IMPORTADOS'!X70","v":0},{"$f":"'[1]HOJA GENERAL DATOS IMPORTADOS'!Y70","v":0},{"$f":"'[1]HOJA GENERAL DATOS IMPORTADOS'!Z70","v":0},{"$f":"'[1]HOJA GENERAL DATOS IMPORTADOS'!AA70","v":0},{"$f":"'[1]HOJA GENERAL DATOS IMPORTADOS'!AB70","v":0},{"$f":"'[1]HOJA GENERAL DATOS IMPORTADOS'!AC70","v":0},{"$f":"'[1]HOJA GENERAL DATOS IMPORTADOS'!AD70","v":0},{"$f":"'[1]HOJA GENERAL DATOS IMPORTADOS'!AE70","v":0},{"$f":"'[1]HOJA GENERAL DATOS IMPORTADOS'!AF70","v":0},{"$f":"'[1]HOJA GENERAL DATOS IMPORTADOS'!AG70","v":0},{"$f":"'[1]HOJA GENERAL DATOS IMPORTADOS'!AH70","v":0},{"$f":"'[1]HOJA GENERAL DATOS IMPORTADOS'!AI70","v":0}]
[{"$f":"'[1]HOJA GENERAL DATOS IMPORTADOS'!A71","v":"OVINO"},null,null,null,null,null,null,null,null,null,{"$f":"'[1]HOJA GENERAL DATOS IMPORTADOS'!K71","v":0},{"$f":"'[1]HOJA GENERAL DATOS IMPORTADOS'!L71","v":0},{"$f":"'[1]HOJA GENERAL DATOS IMPORTADOS'!M71","v":0},{"$f":"'[1]HOJA GENERAL DATOS IMPORTADOS'!N71","v":0},{"$f":"'[1]HOJA GENERAL DATOS IMPORTADOS'!O71","v":0},{"$f":"'[1]HOJA GENERAL DATOS IMPORTADOS'!P71","v":0},{"$f":"'[1]HOJA GENERAL DATOS IMPORTADOS'!Q71","v":0},{"$f":"'[1]HOJA GENERAL DATOS IMPORTADOS'!R71","v":0},{"$f":"'[1]HOJA GENERAL DATOS IMPORTADOS'!S71","v":0},{"$f":"'[1]HOJA GENERAL DATOS IMPORTADOS'!T71","v":0},{"$f":"'[1]HOJA GENERAL DATOS IMPORTADOS'!U71","v":0},{"$f":"'[1]HOJA GENERAL DATOS IMPORTADOS'!V71","v":0},{"$f":"'[1]HOJA GENERAL DATOS IMPORTADOS'!W71","v":0},{"$f":"'[1]HOJA GENERAL DATOS IMPORTADOS'!X71","v":0},{"$f":"'[1]HOJA GENERAL DATOS IMPORTADOS'!Y71","v":0},{"$f":"'[1]HOJA GENERAL DATOS IMPORTADOS'!Z71","v":0},{"$f":"'[1]HOJA GENERAL DATOS IMPORTADOS'!AA71","v":0},{"$f":"'[1]HOJA GENERAL DATOS IMPORTADOS'!AB71","v":0},{"$f":"'[1]HOJA GENERAL DATOS IMPORTADOS'!AC71","v":0},{"$f":"'[1]HOJA GENERAL DATOS IMPORTADOS'!AD71","v":0},{"$f":"'[1]HOJA GENERAL DATOS IMPORTADOS'!AE71","v":0},{"$f":"'[1]HOJA GENERAL DATOS IMPORTADOS'!AF71","v":0},{"$f":"'[1]HOJA GENERAL DATOS IMPORTADOS'!AG71","v":0},{"$f":"'[1]HOJA GENERAL DATOS IMPORTADOS'!AH71","v":0},{"$f":"'[1]HOJA GENERAL DATOS IMPORTADOS'!AI71","v":0}]
[{"$f":"'[1]HOJA GENERAL DATOS IMPORTADOS'!A72","v":"OVINO"},null,null,null,null,null,null,null,null,null,{"$f":"'[1]HOJA GENERAL DATOS IMPORTADOS'!K72","v":0},{"$f":"'[1]HOJA GENERAL DATOS IMPORTADOS'!L72","v":0},{"$f":"'[1]HOJA GENERAL DATOS IMPORTADOS'!M72","v":0},{"$f":"'[1]HOJA GENERAL DATOS IMPORTADOS'!N72","v":0},{"$f":"'[1]HOJA GENERAL DATOS IMPORTADOS'!O72","v":0},{"$f":"'[1]HOJA GENERAL DATOS IMPORTADOS'!P72","v":0},{"$f":"'[1]HOJA GENERAL DATOS IMPORTADOS'!Q72","v":0},{"$f":"'[1]HOJA GENERAL DATOS IMPORTADOS'!R72","v":0},{"$f":"'[1]HOJA GENERAL DATOS IMPORTADOS'!S72","v":0},{"$f":"'[1]HOJA GENERAL DATOS IMPORTADOS'!T72","v":0},{"$f":"'[1]HOJA GENERAL DATOS IMPORTADOS'!U72","v":0},{"$f":"'[1]HOJA GENERAL DATOS IMPORTADOS'!V72","v":0},{"$f":"'[1]HOJA GENERAL DATOS IMPORTADOS'!W72","v":0},{"$f":"'[1]HOJA GENERAL DATOS IMPORTADOS'!X72","v":0},{"$f":"'[1]HOJA GENERAL DATOS IMPORTADOS'!Y72","v":0},{"$f":"'[1]HOJA GENERAL DATOS IMPORTADOS'!Z72","v":0},{"$f":"'[1]HOJA GENERAL DATOS IMPORTADOS'!AA72","v":0},{"$f":"'[1]HOJA GENERAL DATOS IMPORTADOS'!AB72","v":0},{"$f":"'[1]HOJA GENERAL DATOS IMPORTADOS'!AC72","v":0},{"$f":"'[1]HOJA GENERAL DATOS IMPORTADOS'!AD72","v":0},{"$f":"'[1]HOJA GENERAL DATOS IMPORTADOS'!AE72","v":0},{"$f":"'[1]HOJA GENERAL DATOS IMPORTADOS'!AF72","v":0},{"$f":"'[1]HOJA GENERAL DATOS IMPORTADOS'!AG72","v":0},{"$f":"'[1]HOJA GENERAL DATOS IMPORTADOS'!AH72","v":0},{"$f":"'[1]HOJA GENERAL DATOS IMPORTADOS'!AI72","v":0}]
[{"$f":"'[1]HOJA GENERAL DATOS IMPORTADOS'!A73","v":"OVINO"},null,null,null,null,null,null,null,null,null,{"$f":"'[1]HOJA GENERAL DATOS IMPORTADOS'!K73","v":0},{"$f":"'[1]HOJA GENERAL DATOS IMPORTADOS'!L73","v":0},{"$f":"'[1]HOJA GENERAL DATOS IMPORTADOS'!M73","v":0},{"$f":"'[1]HOJA GENERAL DATOS IMPORTADOS'!N73","v":0},{"$f":"'[1]HOJA GENERAL DATOS IMPORTADOS'!O73","v":0},{"$f":"'[1]HOJA GENERAL DATOS IMPORTADOS'!P73","v":0},{"$f":"'[1]HOJA GENERAL DATOS IMPORTADOS'!Q73","v":0},{"$f":"'[1]HOJA GENERAL DATOS IMPORTADOS'!R73","v":0},{"$f":"'[1]HOJA GENERAL DATOS IMPORTADOS'!S73","v":0},{"$f":"'[1]HOJA GENERAL DATOS IMPORTADOS'!T73","v":0},{"$f":"'[1]HOJA GENERAL DATOS IMPORTADOS'!U73","v":0},{"$f":"'[1]HOJA GENERAL DATOS IMPORTADOS'!V73","v":0},{"$f":"'[1]HOJA GENERAL DATOS IMPORTADOS'!W73","v":0},{"$f":"'[1]HOJA GENERAL DATOS IMPORTADOS'!X73","v":0},{"$f":"'[1]HOJA GENERAL DATOS IMPORTADOS'!Y73","v":0},{"$f":"'[1]HOJA GENERAL DATOS IMPORTADOS'!Z73","v":0},{"$f":"'[1]HOJA GENERAL DATOS IMPORTADOS'!AA73","v":0},{"$f":"'[1]HOJA GENERAL DATOS IMPORTADOS'!AB73","v":0},{"$f":"'[1]HOJA GENERAL DATOS IMPORTADOS'!AC73","v":0},{"$f":"'[1]HOJA GENERAL DATOS IMPORTADOS'!AD73","v":0},{"$f":"'[1]HOJA GENERAL DATOS IMPORTADOS'!AE73","v":0},{"$f":"'[1]HOJA GENERAL DATOS IMPORTADOS'!AF73","v":0},{"$f":"'[1]HOJA GENERAL DATOS IMPORTADOS'!AG73","v":0},{"$f":"'[1]HOJA GENERAL DATOS IMPORTADOS'!AH73","v":0},{"$f":"'[1]HOJA GENERAL DATOS IMPORTADOS'!AI73","v":0}]
[{"$f":"'[1]HOJA GENERAL DATOS IMPORTADOS'!A74","v":"OVINO"},null,null,null,null,null,null,null,null,null,{"$f":"'[1]HOJA GENERAL DATOS IMPORTADOS'!K74","v":0},{"$f":"'[1]HOJA GENERAL DATOS IMPORTADOS'!L74","v":0},{"$f":"'[1]HOJA GENERAL DATOS IMPORTADOS'!M74","v":0},{"$f":"'[1]HOJA GENERAL DATOS IMPORTADOS'!N74","v":0},{"$f":"'[1]HOJA GENERAL DATOS IMPORTADOS'!O74","v":0},{"$f":"'[1]HOJA GENERAL DATOS IMPORTADOS'!P74","v":0},{"$f":"'[1]HOJA GENERAL DATOS IMPORTADOS'!Q74","v":0},{"$f":"'[1]HOJA GENERAL DATOS IMPORTADOS'!R74","v":0},{"$f":"'[1]HOJA GENERAL DATOS IMPORTADOS'!S74","v":0},{"$f":"'[1]HOJA GENERAL DATOS IMPORTADOS'!T74","v":0},{"$f":"'[1]HOJA GENERAL DATOS IMPORTADOS'!U74","v":0},{"$f":"'[1]HOJA GENERAL DATOS IMPORTADOS'!V74","v":0},{"$f":"'[1]HOJA GENERAL DATOS IMPORTADOS'!W74","v":0},{"$f":"'[1]HOJA GENERAL DATOS IMPORTADOS'!X74","v":0},{"$f":"'[1]HOJA GENERAL DATOS IMPORTADOS'!Y74","v":0},{"$f":"'[1]HOJA GENERAL DATOS IMPORTADOS'!Z74","v":0},{"$f":"'[1]HOJA GENERAL DATOS IMPORTADOS'!AA74","v":0},{"$f":"'[1]HOJA GENERAL DATOS IMPORTADOS'!AB74","v":0},{"$f":"'[1]HOJA GENERAL DATOS IMPORTADOS'!AC74","v":0},{"$f":"'[1]HOJA GENERAL DATOS IMPORTADOS'!AD74","v":0},{"$f":"'[1]HOJA GENERAL DATOS IMPORTADOS'!AE74","v":0},{"$f":"'[1]HOJA GENERAL DATOS IMPORTADOS'!AF74","v":0},{"$f":"'[1]HOJA GENERAL DATOS IMPORTADOS'!AG74","v":0},{"$f":"'[1]HOJA GENERAL DATOS IMPORTADOS'!AH74","v":0},{"$f":"'[1]HOJA GENERAL DATOS IMPORTADOS'!AI74","v":0}]
[{"$f":"'[1]HOJA GENERAL DATOS IMPORTADOS'!A75","v":"OVINO"},null,null,null,null,null,null,null,null,null,{"$f":"'[1]HOJA GENERAL DATOS IMPORTADOS'!K75","v":0},{"$f":"'[1]HOJA GENERAL DATOS IMPORTADOS'!L75","v":0},{"$f":"'[1]HOJA GENERAL DATOS IMPORTADOS'!M75","v":0},{"$f":"'[1]HOJA GENERAL DATOS IMPORTADOS'!N75","v":0},{"$f":"'[1]HOJA GENERAL DATOS IMPORTADOS'!O75","v":0},{"$f":"'[1]HOJA GENERAL DATOS IMPORTADOS'!P75","v":0},{"$f":"'[1]HOJA GENERAL DATOS IMPORTADOS'!Q75","v":0},{"$f":"'[1]HOJA GENERAL DATOS IMPORTADOS'!R75","v":0},{"$f":"'[1]HOJA GENERAL DATOS IMPORTADOS'!S75","v":0},{"$f":"'[1]HOJA GENERAL DATOS IMPORTADOS'!T75","v":0},{"$f":"'[1]HOJA GENERAL DATOS IMPORTADOS'!U75","v":0},{"$f":"'[1]HOJA GENERAL DATOS IMPORTADOS'!V75","v":0},{"$f":"'[1]HOJA GENERAL DATOS IMPORTADOS'!W75","v":0},{"$f":"'[1]HOJA GENERAL DATOS IMPORTADOS'!X75","v":0},{"$f":"'[1]HOJA GENERAL DATOS IMPORTADOS'!Y75","v":0},{"$f":"'[1]HOJA GENERAL DATOS IMPORTADOS'!Z75","v":0},{"$f":"'[1]HOJA GENERAL DATOS IMPORTADOS'!AA75","v":0},{"$f":"'[1]HOJA GENERAL DATOS IMPORTADOS'!AB75","v":0},{"$f":"'[1]HOJA GENERAL DATOS IMPORTADOS'!AC75","v":0},{"$f":"'[1]HOJA GENERAL DATOS IMPORTADOS'!AD75","v":0},{"$f":"'[1]HOJA GENERAL DATOS IMPORTADOS'!AE75","v":0},{"$f":"'[1]HOJA GENERAL DATOS IMPORTADOS'!AF75","v":0},{"$f":"'[1]HOJA GENERAL DATOS IMPORTADOS'!AG75","v":0},{"$f":"'[1]HOJA GENERAL DATOS IMPORTADOS'!AH75","v":0},{"$f":"'[1]HOJA GENERAL DATOS IMPORTADOS'!AI75","v":0}]
[{"$f":"'[1]HOJA GENERAL DATOS IMPORTADOS'!A76","v":"OVINO"},null,null,null,null,null,null,null,null,null,{"$f":"'[1]HOJA GENERAL DATOS IMPORTADOS'!K76","v":0},{"$f":"'[1]HOJA GENERAL DATOS IMPORTADOS'!L76","v":0},{"$f":"'[1]HOJA GENERAL DATOS IMPORTADOS'!M76","v":0},{"$f":"'[1]HOJA GENERAL DATOS IMPORTADOS'!N76","v":0},{"$f":"'[1]HOJA GENERAL DATOS IMPORTADOS'!O76","v":0},{"$f":"'[1]HOJA GENERAL DATOS IMPORTADOS'!P76","v":0},{"$f":"'[1]HOJA GENERAL DATOS IMPORTADOS'!Q76","v":0},{"$f":"'[1]HOJA GENERAL DATOS IMPORTADOS'!R76","v":0},{"$f":"'[1]HOJA GENERAL DATOS IMPORTADOS'!S76","v":0},{"$f":"'[1]HOJA GENERAL DATOS IMPORTADOS'!T76","v":0},{"$f":"'[1]HOJA GENERAL DATOS IMPORTADOS'!U76","v":0},{"$f":"'[1]HOJA GENERAL DATOS IMPORTADOS'!V76","v":0},{"$f":"'[1]HOJA GENERAL DATOS IMPORTADOS'!W76","v":0},{"$f":"'[1]HOJA GENERAL DATOS IMPORTADOS'!X76","v":0},{"$f":"'[1]HOJA GENERAL DATOS IMPORTADOS'!Y76","v":0},{"$f":"'[1]HOJA GENERAL DATOS IMPORTADOS'!Z76","v":0},{"$f":"'[1]HOJA GENERAL DATOS IMPORTADOS'!AA76","v":0},{"$f":"'[1]HOJA GENERAL DATOS IMPORTADOS'!AB76","v":0},{"$f":"'[1]HOJA GENERAL DATOS IMPORTADOS'!AC76","v":0},{"$f":"'[1]HOJA GENERAL DATOS IMPORTADOS'!AD76","v":0},{"$f":"'[1]HOJA GENERAL DATOS IMPORTADOS'!AE76","v":0},{"$f":"'[1]HOJA GENERAL DATOS IMPORTADOS'!AF76","v":0},{"$f":"'[1]HOJA GENERAL DATOS IMPORTADOS'!AG76","v":0},{"$f":"'[1]HOJA GENERAL DATOS IMPORTADOS'!AH76","v":0},{"$f":"'[1]HOJA GENERAL DATOS IMPORTADOS'!AI76","v":0}]
[{"$f":"'[1]HOJA GENERAL DATOS IMPORTADOS'!A77","v":"OVINO"},null,null,null,null,null,null,null,null,null,{"$f":"'[1]HOJA GENERAL DATOS IMPORTADOS'!K77","v":0},{"$f":"'[1]HOJA GENERAL DATOS IMPORTADOS'!L77","v":0},{"$f":"'[1]HOJA GENERAL DATOS IMPORTADOS'!M77","v":0},{"$f":"'[1]HOJA GENERAL DATOS IMPORTADOS'!N77","v":0},{"$f":"'[1]HOJA GENERAL DATOS IMPORTADOS'!O77","v":0},{"$f":"'[1]HOJA GENERAL DATOS IMPORTADOS'!P77","v":0},{"$f":"'[1]HOJA GENERAL DATOS IMPORTADOS'!Q77","v":0},{"$f":"'[1]HOJA GENERAL DATOS IMPORTADOS'!R77","v":0},{"$f":"'[1]HOJA GENERAL DATOS IMPORTADOS'!S77","v":0},{"$f":"'[1]HOJA GENERAL DATOS IMPORTADOS'!T77","v":0},{"$f":"'[1]HOJA GENERAL DATOS IMPORTADOS'!U77","v":0},{"$f":"'[1]HOJA GENERAL DATOS IMPORTADOS'!V77","v":0},{"$f":"'[1]HOJA GENERAL DATOS IMPORTADOS'!W77","v":0},{"$f":"'[1]HOJA GENERAL DATOS IMPORTADOS'!X77","v":0},{"$f":"'[1]HOJA GENERAL DATOS IMPORTADOS'!Y77","v":0},{"$f":"'[1]HOJA GENERAL DATOS IMPORTADOS'!Z77","v":0},{"$f":"'[1]HOJA GENERAL DATOS IMPORTADOS'!AA77","v":0},{"$f":"'[1]HOJA GENERAL DATOS IMPORTADOS'!AB77","v":0},{"$f":"'[1]HOJA GENERAL DATOS IMPORTADOS'!AC77","v":0},{"$f":"'[1]HOJA GENERAL DATOS IMPORTADOS'!AD77","v":0},{"$f":"'[1]HOJA GENERAL DATOS IMPORTADOS'!AE77","v":0},{"$f":"'[1]HOJA GENERAL DATOS IMPORTADOS'!AF77","v":0},{"$f":"'[1]HOJA GENERAL DATOS IMPORTADOS'!AG77","v":0},{"$f":"'[1]HOJA GENERAL DATOS IMPORTADOS'!AH77","v":0},{"$f":"'[1]HOJA GENERAL DATOS IMPORTADOS'!AI77","v":0}]
[{"$f":"'[1]HOJA GENERAL DATOS IMPORTADOS'!A78","v":"OVINO"},null,null,null,null,null,null,null,null,null,{"$f":"'[1]HOJA GENERAL DATOS IMPORTADOS'!K78","v":0},{"$f":"'[1]HOJA GENERAL DATOS IMPORTADOS'!L78","v":0},{"$f":"'[1]HOJA GENERAL DATOS IMPORTADOS'!M78","v":0},{"$f":"'[1]HOJA GENERAL DATOS IMPORTADOS'!N78","v":0},{"$f":"'[1]HOJA GENERAL DATOS IMPORTADOS'!O78","v":0},{"$f":"'[1]HOJA GENERAL DATOS IMPORTADOS'!P78","v":0},{"$f":"'[1]HOJA GENERAL DATOS IMPORTADOS'!Q78","v":0},{"$f":"'[1]HOJA GENERAL DATOS IMPORTADOS'!R78","v":0},{"$f":"'[1]HOJA GENERAL DATOS IMPORTADOS'!S78","v":0},{"$f":"'[1]HOJA GENERAL DATOS IMPORTADOS'!T78","v":0},{"$f":"'[1]HOJA GENERAL DATOS IMPORTADOS'!U78","v":0},{"$f":"'[1]HOJA GENERAL DATOS IMPORTADOS'!V78","v":0},{"$f":"'[1]HOJA GENERAL DATOS IMPORTADOS'!W78","v":0},{"$f":"'[1]HOJA GENERAL DATOS IMPORTADOS'!X78","v":0},{"$f":"'[1]HOJA GENERAL DATOS IMPORTADOS'!Y78","v":0},{"$f":"'[1]HOJA GENERAL DATOS IMPORTADOS'!Z78","v":0},{"$f":"'[1]HOJA GENERAL DATOS IMPORTADOS'!AA78","v":0},{"$f":"'[1]HOJA GENERAL DATOS IMPORTADOS'!AB78","v":0},{"$f":"'[1]HOJA GENERAL DATOS IMPORTADOS'!AC78","v":0},{"$f":"'[1]HOJA GENERAL DATOS IMPORTADOS'!AD78","v":0},{"$f":"'[1]HOJA GENERAL DATOS IMPORTADOS'!AE78","v":0},{"$f":"'[1]HOJA GENERAL DATOS IMPORTADOS'!AF78","v":0},{"$f":"'[1]HOJA GENERAL DATOS IMPORTADOS'!AG78","v":0},{"$f":"'[1]HOJA GENERAL DATOS IMPORTADOS'!AH78","v":0},{"$f":"'[1]HOJA GENERAL DATOS IMPORTADOS'!AI78","v":0}]
[{"$f":"'[1]HOJA GENERAL DATOS IMPORTADOS'!A79","v":"OVINO"},null,null,null,null,null,null,null,null,null,{"$f":"'[1]HOJA GENERAL DATOS IMPORTADOS'!K79","v":0},{"$f":"'[1]HOJA GENERAL DATOS IMPORTADOS'!L79","v":0},{"$f":"'[1]HOJA GENERAL DATOS IMPORTADOS'!M79","v":0},{"$f":"'[1]HOJA GENERAL DATOS IMPORTADOS'!N79","v":0},{"$f":"'[1]HOJA GENERAL DATOS IMPORTADOS'!O79","v":0},{"$f":"'[1]HOJA GENERAL DATOS IMPORTADOS'!P79","v":0},{"$f":"'[1]HOJA GENERAL DATOS IMPORTADOS'!Q79","v":0},{"$f":"'[1]HOJA GENERAL DATOS IMPORTADOS'!R79","v":0},{"$f":"'[1]HOJA GENERAL DATOS IMPORTADOS'!S79","v":0},{"$f":"'[1]HOJA GENERAL DATOS IMPORTADOS'!T79","v":0},{"$f":"'[1]HOJA GENERAL DATOS IMPORTADOS'!U79","v":0},{"$f":"'[1]HOJA GENERAL DATOS IMPORTADOS'!V79","v":0},{"$f":"'[1]HOJA GENERAL DATOS IMPORTADOS'!W79","v":0},{"$f":"'[1]HOJA GENERAL DATOS IMPORTADOS'!X79","v":0},{"$f":"'[1]HOJA GENERAL DATOS IMPORTADOS'!Y79","v":0},{"$f":"'[1]HOJA GENERAL DATOS IMPORTADOS'!Z79","v":0},{"$f":"'[1]HOJA GENERAL DATOS IMPORTADOS'!AA79","v":0},{"$f":"'[1]HOJA GENERAL DATOS IMPORTADOS'!AB79","v":0},{"$f":"'[1]HOJA GENERAL DATOS IMPORTADOS'!AC79","v":0},{"$f":"'[1]HOJA GENERAL DATOS IMPORTADOS'!AD79","v":0},{"$f":"'[1]HOJA GENERAL DATOS IMPORTADOS'!AE79","v":0},{"$f":"'[1]HOJA GENERAL DATOS IMPORTADOS'!AF79","v":0},{"$f":"'[1]HOJA GENERAL DATOS IMPORTADOS'!AG79","v":0},{"$f":"'[1]HOJA GENERAL DATOS IMPORTADOS'!AH79","v":0},{"$f":"'[1]HOJA GENERAL DATOS IMPORTADOS'!AI79","v":0}]
[{"$f":"'[1]HOJA GENERAL DATOS IMPORTADOS'!A80","v":"OVINO"},null,null,null,null,null,null,null,null,null,{"$f":"'[1]HOJA GENERAL DATOS IMPORTADOS'!K80","v":0},{"$f":"'[1]HOJA GENERAL DATOS IMPORTADOS'!L80","v":0},{"$f":"'[1]HOJA GENERAL DATOS IMPORTADOS'!M80","v":0},{"$f":"'[1]HOJA GENERAL DATOS IMPORTADOS'!N80","v":0},{"$f":"'[1]HOJA GENERAL DATOS IMPORTADOS'!O80","v":0},{"$f":"'[1]HOJA GENERAL DATOS IMPORTADOS'!P80","v":0},{"$f":"'[1]HOJA GENERAL DATOS IMPORTADOS'!Q80","v":0},{"$f":"'[1]HOJA GENERAL DATOS IMPORTADOS'!R80","v":0},{"$f":"'[1]HOJA GENERAL DATOS IMPORTADOS'!S80","v":0},{"$f":"'[1]HOJA GENERAL DATOS IMPORTADOS'!T80","v":0},{"$f":"'[1]HOJA GENERAL DATOS IMPORTADOS'!U80","v":0},{"$f":"'[1]HOJA GENERAL DATOS IMPORTADOS'!V80","v":0},{"$f":"'[1]HOJA GENERAL DATOS IMPORTADOS'!W80","v":0},{"$f":"'[1]HOJA GENERAL DATOS IMPORTADOS'!X80","v":0},{"$f":"'[1]HOJA GENERAL DATOS IMPORTADOS'!Y80","v":0},{"$f":"'[1]HOJA GENERAL DATOS IMPORTADOS'!Z80","v":0},{"$f":"'[1]HOJA GENERAL DATOS IMPORTADOS'!AA80","v":0},{"$f":"'[1]HOJA GENERAL DATOS IMPORTADOS'!AB80","v":0},{"$f":"'[1]HOJA GENERAL DATOS IMPORTADOS'!AC80","v":0},{"$f":"'[1]HOJA GENERAL DATOS IMPORTADOS'!AD80","v":0},{"$f":"'[1]HOJA GENERAL DATOS IMPORTADOS'!AE80","v":0},{"$f":"'[1]HOJA GENERAL DATOS IMPORTADOS'!AF80","v":0},{"$f":"'[1]HOJA GENERAL DATOS IMPORTADOS'!AG80","v":0},{"$f":"'[1]HOJA GENERAL DATOS IMPORTADOS'!AH80","v":0},{"$f":"'[1]HOJA GENERAL DATOS IMPORTADOS'!AI80","v":0}]
[{"$f":"'[1]HOJA GENERAL DATOS IMPORTADOS'!A81","v":"OVINO"},null,null,null,null,null,null,null,null,null,{"$f":"'[1]HOJA GENERAL DATOS IMPORTADOS'!K81","v":0},{"$f":"'[1]HOJA GENERAL DATOS IMPORTADOS'!L81","v":0},{"$f":"'[1]HOJA GENERAL DATOS IMPORTADOS'!M81","v":0},{"$f":"'[1]HOJA GENERAL DATOS IMPORTADOS'!N81","v":0},{"$f":"'[1]HOJA GENERAL DATOS IMPORTADOS'!O81","v":0},{"$f":"'[1]HOJA GENERAL DATOS IMPORTADOS'!P81","v":0},{"$f":"'[1]HOJA GENERAL DATOS IMPORTADOS'!Q81","v":0},{"$f":"'[1]HOJA GENERAL DATOS IMPORTADOS'!R81","v":0},{"$f":"'[1]HOJA GENERAL DATOS IMPORTADOS'!S81","v":0},{"$f":"'[1]HOJA GENERAL DATOS IMPORTADOS'!T81","v":0},{"$f":"'[1]HOJA GENERAL DATOS IMPORTADOS'!U81","v":0},{"$f":"'[1]HOJA GENERAL DATOS IMPORTADOS'!V81","v":0},{"$f":"'[1]HOJA GENERAL DATOS IMPORTADOS'!W81","v":0},{"$f":"'[1]HOJA GENERAL DATOS IMPORTADOS'!X81","v":0},{"$f":"'[1]HOJA GENERAL DATOS IMPORTADOS'!Y81","v":0},{"$f":"'[1]HOJA GENERAL DATOS IMPORTADOS'!Z81","v":0},{"$f":"'[1]HOJA GENERAL DATOS IMPORTADOS'!AA81","v":0},{"$f":"'[1]HOJA GENERAL DATOS IMPORTADOS'!AB81","v":0},{"$f":"'[1]HOJA GENERAL DATOS IMPORTADOS'!AC81","v":0},{"$f":"'[1]HOJA GENERAL DATOS IMPORTADOS'!AD81","v":0},{"$f":"'[1]HOJA GENERAL DATOS IMPORTADOS'!AE81","v":0},{"$f":"'[1]HOJA GENERAL DATOS IMPORTADOS'!AF81","v":0},{"$f":"'[1]HOJA GENERAL DATOS IMPORTADOS'!AG81","v":0},{"$f":"'[1]HOJA GENERAL DATOS IMPORTADOS'!AH81","v":0},{"$f":"'[1]HOJA GENERAL DATOS IMPORTADOS'!AI81","v":0}]
[{"$f":"'[1]HOJA GENERAL DATOS IMPORTADOS'!A82","v":0},null,null,null,null,null,null,null,null,null,{"$f":"'[1]HOJA GENERAL DATOS IMPORTADOS'!K82","v":0},{"$f":"'[1]HOJA GENERAL DATOS IMPORTADOS'!L82","v":0},{"$f":"'[1]HOJA GENERAL DATOS IMPORTADOS'!M82","v":0},{"$f":"'[1]HOJA GENERAL DATOS IMPORTADOS'!N82","v":0},{"$f":"'[1]HOJA GENERAL DATOS IMPORTADOS'!O82","v":0},{"$f":"'[1]HOJA GENERAL DATOS IMPORTADOS'!P82","v":0},{"$f":"'[1]HOJA GENERAL DATOS IMPORTADOS'!Q82","v":0},{"$f":"'[1]HOJA GENERAL DATOS IMPORTADOS'!R82","v":0},{"$f":"'[1]HOJA GENERAL DATOS IMPORTADOS'!S82","v":0},{"$f":"'[1]HOJA GENERAL DATOS IMPORTADOS'!T82","v":0},{"$f":"'[1]HOJA GENERAL DATOS IMPORTADOS'!U82","v":0},{"$f":"'[1]HOJA GENERAL DATOS IMPORTADOS'!V82","v":0},{"$f":"'[1]HOJA GENERAL DATOS IMPORTADOS'!W82","v":0},{"$f":"'[1]HOJA GENERAL DATOS IMPORTADOS'!X82","v":0},{"$f":"'[1]HOJA GENERAL DATOS IMPORTADOS'!Y82","v":0},{"$f":"'[1]HOJA GENERAL DATOS IMPORTADOS'!Z82","v":0},{"$f":"'[1]HOJA GENERAL DATOS IMPORTADOS'!AA82","v":0},{"$f":"'[1]HOJA GENERAL DATOS IMPORTADOS'!AB82","v":0},{"$f":"'[1]HOJA GENERAL DATOS IMPORTADOS'!AC82","v":0},{"$f":"'[1]HOJA GENERAL DATOS IMPORTADOS'!AD82","v":0},{"$f":"'[1]HOJA GENERAL DATOS IMPORTADOS'!AE82","v":0},{"$f":"'[1]HOJA GENERAL DATOS IMPORTADOS'!AF82","v":0},{"$f":"'[1]HOJA GENERAL DATOS IMPORTADOS'!AG82","v":0},{"$f":"'[1]HOJA GENERAL DATOS IMPORTADOS'!AH82","v":0},{"$f":"'[1]HOJA GENERAL DATOS IMPORTADOS'!AI82","v":0}]
[{"$f":"'[1]HOJA GENERAL DATOS IMPORTADOS'!A83","v":0},{"$f":"'[1]HOJA GENERAL DATOS IMPORTADOS'!B83","v":0},{"$f":"'[1]HOJA GENERAL DATOS IMPORTADOS'!C83","v":0},{"$f":"'[1]HOJA GENERAL DATOS IMPORTADOS'!D83","v":0},{"$f":"'[1]HOJA GENERAL DATOS IMPORTADOS'!E83","v":0},{"$f":"'[1]HOJA GENERAL DATOS IMPORTADOS'!F83","v":0},{"$f":"'[1]HOJA GENERAL DATOS IMPORTADOS'!G83","v":0},{"$f":"'[1]HOJA GENERAL DATOS IMPORTADOS'!H83","v":0},{"$f":"'[1]HOJA GENERAL DATOS IMPORTADOS'!I83","v":0},{"$f":"'[1]HOJA GENERAL DATOS IMPORTADOS'!J83","v":0},{"$f":"'[1]HOJA GENERAL DATOS IMPORTADOS'!K83","v":0},{"$f":"'[1]HOJA GENERAL DATOS IMPORTADOS'!L83","v":0},{"$f":"'[1]HOJA GENERAL DATOS IMPORTADOS'!M83","v":0},{"$f":"'[1]HOJA GENERAL DATOS IMPORTADOS'!N83","v":0},{"$f":"'[1]HOJA GENERAL DATOS IMPORTADOS'!O83","v":0},{"$f":"'[1]HOJA GENERAL DATOS IMPORTADOS'!P83","v":0},{"$f":"'[1]HOJA GENERAL DATOS IMPORTADOS'!Q83","v":0},{"$f":"'[1]HOJA GENERAL DATOS IMPORTADOS'!R83","v":0},{"$f":"'[1]HOJA GENERAL DATOS IMPORTADOS'!S83","v":0},{"$f":"'[1]HOJA GENERAL DATOS IMPORTADOS'!T83","v":0},{"$f":"'[1]HOJA GENERAL DATOS IMPORTADOS'!U83","v":0},{"$f":"'[1]HOJA GENERAL DATOS IMPORTADOS'!V83","v":0},{"$f":"'[1]HOJA GENERAL DATOS IMPORTADOS'!W83","v":0},{"$f":"'[1]HOJA GENERAL DATOS IMPORTADOS'!X83","v":0},{"$f":"'[1]HOJA GENERAL DATOS IMPORTADOS'!Y83","v":0},{"$f":"'[1]HOJA GENERAL DATOS IMPORTADOS'!Z83","v":0},{"$f":"'[1]HOJA GENERAL DATOS IMPORTADOS'!AA83","v":0},{"$f":"'[1]HOJA GENERAL DATOS IMPORTADOS'!AB83","v":0},{"$f":"'[1]HOJA GENERAL DATOS IMPORTADOS'!AC83","v":0},{"$f":"'[1]HOJA GENERAL DATOS IMPORTADOS'!AD83","v":0},{"$f":"'[1]HOJA GENERAL DATOS IMPORTADOS'!AE83","v":0},{"$f":"'[1]HOJA GENERAL DATOS IMPORTADOS'!AF83","v":0},{"$f":"'[1]HOJA GENERAL DATOS IMPORTADOS'!AG83","v":0},{"$f":"'[1]HOJA GENERAL DATOS IMPORTADOS'!AH83","v":0},{"$f":"'[1]HOJA GENERAL DATOS IMPORTADOS'!AI83","v":0}]
[{"$f":"'[1]HOJA GENERAL DATOS IMPORTADOS'!A84","v":0},{"$f":"'[1]HOJA GENERAL DATOS IMPORTADOS'!B84","v":0},{"$f":"'[1]HOJA GENERAL DATOS IMPORTADOS'!C84","v":0},{"$f":"'[1]HOJA GENERAL DATOS IMPORTADOS'!D84","v":0},{"$f":"'[1]HOJA GENERAL DATOS IMPORTADOS'!E84","v":0},{"$f":"'[1]HOJA GENERAL DATOS IMPORTADOS'!F84","v":0},{"$f":"'[1]HOJA GENERAL DATOS IMPORTADOS'!G84","v":0},{"$f":"'[1]HOJA GENERAL DATOS IMPORTADOS'!H84","v":0},{"$f":"'[1]HOJA GENERAL DATOS IMPORTADOS'!I84","v":0},{"$f":"'[1]HOJA GENERAL DATOS IMPORTADOS'!J84","v":0},{"$f":"'[1]HOJA GENERAL DATOS IMPORTADOS'!K84","v":0},{"$f":"'[1]HOJA GENERAL DATOS IMPORTADOS'!L84","v":0},{"$f":"'[1]HOJA GENERAL DATOS IMPORTADOS'!M84","v":0},{"$f":"'[1]HOJA GENERAL DATOS IMPORTADOS'!N84","v":0},{"$f":"'[1]HOJA GENERAL DATOS IMPORTADOS'!O84","v":0},{"$f":"'[1]HOJA GENERAL DATOS IMPORTADOS'!P84","v":0},{"$f":"'[1]HOJA GENERAL DATOS IMPORTADOS'!Q84","v":0},{"$f":"'[1]HOJA GENERAL DATOS IMPORTADOS'!R84","v":0},{"$f":"'[1]HOJA GENERAL DATOS IMPORTADOS'!S84","v":0},{"$f":"'[1]HOJA GENERAL DATOS IMPORTADOS'!T84","v":0},{"$f":"'[1]HOJA GENERAL DATOS IMPORTADOS'!U84","v":0},{"$f":"'[1]HOJA GENERAL DATOS IMPORTADOS'!V84","v":0},{"$f":"'[1]HOJA GENERAL DATOS IMPORTADOS'!W84","v":0},{"$f":"'[1]HOJA GENERAL DATOS IMPORTADOS'!X84","v":0},{"$f":"'[1]HOJA GENERAL DATOS IMPORTADOS'!Y84","v":0},{"$f":"'[1]HOJA GENERAL DATOS IMPORTADOS'!Z84","v":0},{"$f":"'[1]HOJA GENERAL DATOS IMPORTADOS'!AA84","v":0},{"$f":"'[1]HOJA GENERAL DATOS IMPORTADOS'!AB84","v":0},{"$f":"'[1]HOJA GENERAL DATOS IMPORTADOS'!AC84","v":0},{"$f":"'[1]HOJA GENERAL DATOS IMPORTADOS'!AD84","v":0},{"$f":"'[1]HOJA GENERAL DATOS IMPORTADOS'!AE84","v":0},{"$f":"'[1]HOJA GENERAL DATOS IMPORTADOS'!AF84","v":0},{"$f":"'[1]HOJA GENERAL DATOS IMPORTADOS'!AG84","v":0},{"$f":"'[1]HOJA GENERAL DATOS IMPORTADOS'!AH84","v":0},{"$f":"'[1]HOJA GENERAL DATOS IMPORTADOS'!AI84","v":0}]
[{"$f":"'[1]HOJA GENERAL DATOS IMPORTADOS'!A85","v":"ESPECIE"},{"$f":"'[1]HOJA GENERAL DATOS IMPORTADOS'!B85","v":"CuentaDeMES CONTROL"},{"$f":"'[1]HOJA GENERAL DATOS IMPORTADOS'!C85","v":"PromedioDeANIMALES SECOS"},{"$f":"'[1]HOJA GENERAL DATOS IMPORTADOS'!D85","v":"PromedioDeANIMALES EN PREPARTO"},{"$f":"'[1]HOJA GENERAL DATOS IMPORTADOS'!E85","v":"PromedioDeANIMALES  EN ORDEÑO"},{"$f":"'[1]HOJA GENERAL DATOS IMPORTADOS'!F85","v":"ANIMALES TOTALES"},{"$f":"'[1]HOJA GENERAL DATOS IMPORTADOS'!G85","v":"SumaDeNº PARTOS"},{"$f":"'[1]HOJA GENERAL DATOS IMPORTADOS'!H85","v":"SumaDeNº ABORTOS"},{"$f":"'[1]HOJA GENERAL DATOS IMPORTADOS'!I85","v":"SumaDeNº BAJAS ADULTAS"},{"$f":"'[1]HOJA GENERAL DATOS IMPORTADOS'!J85","v":"SumaDeNº MAMITIS TRATADAS"},{"$f":"'[1]HOJA GENERAL DATOS IMPORTADOS'!K85","v":"PromedioDeNº PARTOS"},{"$f":"'[1]HOJA GENERAL DATOS IMPORTADOS'!L85","v":"PARTOS/ANIMAL"},{"$f":"'[1]HOJA GENERAL DATOS IMPORTADOS'!M85","v":"%ABORTOS"},{"$f":"'[1]HOJA GENERAL DATOS IMPORTADOS'!N85","v":"%BAJAS"},{"$f":"'[1]HOJA GENERAL DATOS IMPORTADOS'!O85","v":"%MAMITIS"},{"$f":"'[1]HOJA GENERAL DATOS IMPORTADOS'!P85","v":"TOT ANIM"},{"$f":"'[1]HOJA GENERAL DATOS IMPORTADOS'!Q85","v":"PARTOS"},{"$f":"'[1]HOJA GENERAL DATOS IMPORTADOS'!R85","v":"ABORTOS"},{"$f":"'[1]HOJA GENERAL DATOS IMPORTADOS'!S85","v":"BAJAS"},{"$f":"'[1]HOJA GENERAL DATOS IMPORTADOS'!T85","v":"MAMITIS"},{"$f":"'[1]HOJA GENERAL DATOS IMPORTADOS'!U85","v":0},{"$f":"'[1]HOJA GENERAL DATOS IMPORTADOS'!V85","v":0},{"$f":"'[1]HOJA GENERAL DATOS IMPORTADOS'!W85","v":0},{"$f":"'[1]HOJA GENERAL DATOS IMPORTADOS'!X85","v":0},{"$f":"'[1]HOJA GENERAL DATOS IMPORTADOS'!Y85","v":0},{"$f":"'[1]HOJA GENERAL DATOS IMPORTADOS'!Z85","v":0},{"$f":"'[1]HOJA GENERAL DATOS IMPORTADOS'!AA85","v":0},{"$f":"'[1]HOJA GENERAL DATOS IMPORTADOS'!AB85","v":0},{"$f":"'[1]HOJA GENERAL DATOS IMPORTADOS'!AC85","v":0},{"$f":"'[1]HOJA GENERAL DATOS IMPORTADOS'!AD85","v":0},{"$f":"'[1]HOJA GENERAL DATOS IMPORTADOS'!AE85","v":0},{"$f":"'[1]HOJA GENERAL DATOS IMPORTADOS'!AF85","v":0},{"$f":"'[1]HOJA GENERAL DATOS IMPORTADOS'!AG85","v":0},{"$f":"'[1]HOJA GENERAL DATOS IMPORTADOS'!AH85","v":0},{"$f":"'[1]HOJA GENERAL DATOS IMPORTADOS'!AI85","v":0}]
[{"$f":"'[1]HOJA GENERAL DATOS IMPORTADOS'!A86","v":"CAPRINO"},null,null,null,null,null,null,{"$f":"'[1]HOJA GENERAL DATOS IMPORTADOS'!H86","v":315},{"$f":"'[1]HOJA GENERAL DATOS IMPORTADOS'!I86","v":1108},{"$f":"'[1]HOJA GENERAL DATOS IMPORTADOS'!J86","v":392},{"$f":"'[1]HOJA GENERAL DATOS IMPORTADOS'!K86","v":36.637010676156599},{"$f":"'[1]HOJA GENERAL DATOS IMPORTADOS'!L86","v":1.00369360593208},{"$f":"'[1]HOJA GENERAL DATOS IMPORTADOS'!M86","v":3.0601489922836098E-2},{"$f":"'[1]HOJA GENERAL DATOS IMPORTADOS'!N86","v":0.10763952645873801},{"$f":"'[1]HOJA GENERAL DATOS IMPORTADOS'!O86","v":3.8081854126196003E-2},{"$f":"'[1]HOJA GENERAL DATOS IMPORTADOS'!P86","v":438.02623182559898},{"$f":"'[1]HOJA GENERAL DATOS IMPORTADOS'!Q86","v":36.637010676156599},{"$f":"'[1]HOJA GENERAL DATOS IMPORTADOS'!R86","v":315},{"$f":"'[1]HOJA GENERAL DATOS IMPORTADOS'!S86","v":1108},{"$f":"'[1]HOJA GENERAL DATOS IMPORTADOS'!T86","v":392},{"$f":"'[1]HOJA GENERAL DATOS IMPORTADOS'!U86","v":0},{"$f":"'[1]HOJA GENERAL DATOS IMPORTADOS'!V86","v":0},{"$f":"'[1]HOJA GENERAL DATOS IMPORTADOS'!W86","v":0},{"$f":"'[1]HOJA GENERAL DATOS IMPORTADOS'!X86","v":0},{"$f":"'[1]HOJA GENERAL DATOS IMPORTADOS'!Y86","v":0},{"$f":"'[1]HOJA GENERAL DATOS IMPORTADOS'!Z86","v":0},{"$f":"'[1]HOJA GENERAL DATOS IMPORTADOS'!AA86","v":0},{"$f":"'[1]HOJA GENERAL DATOS IMPORTADOS'!AB86","v":0},{"$f":"'[1]HOJA GENERAL DATOS IMPORTADOS'!AC86","v":0},{"$f":"'[1]HOJA GENERAL DATOS IMPORTADOS'!AD86","v":0},{"$f":"'[1]HOJA GENERAL DATOS IMPORTADOS'!AE86","v":0},{"$f":"'[1]HOJA GENERAL DATOS IMPORTADOS'!AF86","v":0},{"$f":"'[1]HOJA GENERAL DATOS IMPORTADOS'!AG86","v":0},{"$f":"'[1]HOJA GENERAL DATOS IMPORTADOS'!AH86","v":0},{"$f":"'[1]HOJA GENERAL DATOS IMPORTADOS'!AI86","v":0}]
[{"$f":"'[1]HOJA GENERAL DATOS IMPORTADOS'!A87","v":"OVINO"},null,null,null,null,null,null,{"$f":"'[1]HOJA GENERAL DATOS IMPORTADOS'!H87","v":651},{"$f":"'[1]HOJA GENERAL DATOS IMPORTADOS'!I87","v":5861},{"$f":"'[1]HOJA GENERAL DATOS IMPORTADOS'!J87","v":273},{"$f":"'[1]HOJA GENERAL DATOS IMPORTADOS'!K87","v":105.40497737556601},{"$f":"'[1]HOJA GENERAL DATOS IMPORTADOS'!L87","v":1.1996802293278299},{"$f":"'[1]HOJA GENERAL DATOS IMPORTADOS'!M87","v":1.59000853020182E-2},{"$f":"'[1]HOJA GENERAL DATOS IMPORTADOS'!N87","v":0.143149615906495},{"$f":"'[1]HOJA GENERAL DATOS IMPORTADOS'!O87","v":6.66777770729795E-3},{"$f":"'[1]HOJA GENERAL DATOS IMPORTADOS'!P87","v":1054.3307271267399},{"$f":"'[1]HOJA GENERAL DATOS IMPORTADOS'!Q87","v":105.40497737556601},{"$f":"'[1]HOJA GENERAL DATOS IMPORTADOS'!R87","v":651},{"$f":"'[1]HOJA GENERAL DATOS IMPORTADOS'!S87","v":5861},{"$f":"'[1]HOJA GENERAL DATOS IMPORTADOS'!T87","v":273},{"$f":"'[1]HOJA GENERAL DATOS IMPORTADOS'!U87","v":0},{"$f":"'[1]HOJA GENERAL DATOS IMPORTADOS'!V87","v":0},{"$f":"'[1]HOJA GENERAL DATOS IMPORTADOS'!W87","v":0},{"$f":"'[1]HOJA GENERAL DATOS IMPORTADOS'!X87","v":0},{"$f":"'[1]HOJA GENERAL DATOS IMPORTADOS'!Y87","v":0},{"$f":"'[1]HOJA GENERAL DATOS IMPORTADOS'!Z87","v":0},{"$f":"'[1]HOJA GENERAL DATOS IMPORTADOS'!AA87","v":0},{"$f":"'[1]HOJA GENERAL DATOS IMPORTADOS'!AB87","v":0},{"$f":"'[1]HOJA GENERAL DATOS IMPORTADOS'!AC87","v":0},{"$f":"'[1]HOJA GENERAL DATOS IMPORTADOS'!AD87","v":0},{"$f":"'[1]HOJA GENERAL DATOS IMPORTADOS'!AE87","v":0},{"$f":"'[1]HOJA GENERAL DATOS IMPORTADOS'!AF87","v":0},{"$f":"'[1]HOJA GENERAL DATOS IMPORTADOS'!AG87","v":0},{"$f":"'[1]HOJA GENERAL DATOS IMPORTADOS'!AH87","v":0},{"$f":"'[1]HOJA GENERAL DATOS IMPORTADOS'!AI87","v":0}]
[{"$f":"'[1]HOJA GENERAL DATOS IMPORTADOS'!A88","v":0},{"$f":"'[1]HOJA GENERAL DATOS IMPORTADOS'!B88","v":0},{"$f":"'[1]HOJA GENERAL DATOS IMPORTADOS'!C88","v":0},{"$f":"'[1]HOJA GENERAL DATOS IMPORTADOS'!D88","v":0},{"$f":"'[1]HOJA GENERAL DATOS IMPORTADOS'!E88","v":0},{"$f":"'[1]HOJA GENERAL DATOS IMPORTADOS'!F88","v":0},{"$f":"'[1]HOJA GENERAL DATOS IMPORTADOS'!G88","v":0},{"$f":"'[1]HOJA GENERAL DATOS IMPORTADOS'!H88","v":0},{"$f":"'[1]HOJA GENERAL DATOS IMPORTADOS'!I88","v":0},{"$f":"'[1]HOJA GENERAL DATOS IMPORTADOS'!J88","v":0},{"$f":"'[1]HOJA GENERAL DATOS IMPORTADOS'!K88","v":0},{"$f":"'[1]HOJA GENERAL DATOS IMPORTADOS'!L88","v":0},{"$f":"'[1]HOJA GENERAL DATOS IMPORTADOS'!M88","v":0},{"$f":"'[1]HOJA GENERAL DATOS IMPORTADOS'!N88","v":0},{"$f":"'[1]HOJA GENERAL DATOS IMPORTADOS'!O88","v":0},{"$f":"'[1]HOJA GENERAL DATOS IMPORTADOS'!P88","v":0},{"$f":"'[1]HOJA GENERAL DATOS IMPORTADOS'!Q88","v":0},{"$f":"'[1]HOJA GENERAL DATOS IMPORTADOS'!R88","v":0},{"$f":"'[1]HOJA GENERAL DATOS IMPORTADOS'!S88","v":0},{"$f":"'[1]HOJA GENERAL DATOS IMPORTADOS'!T88","v":0},{"$f":"'[1]HOJA GENERAL DATOS IMPORTADOS'!U88","v":0},{"$f":"'[1]HOJA GENERAL DATOS IMPORTADOS'!V88","v":0},{"$f":"'[1]HOJA GENERAL DATOS IMPORTADOS'!W88","v":0},{"$f":"'[1]HOJA GENERAL DATOS IMPORTADOS'!X88","v":0},{"$f":"'[1]HOJA GENERAL DATOS IMPORTADOS'!Y88","v":0},{"$f":"'[1]HOJA GENERAL DATOS IMPORTADOS'!Z88","v":0},{"$f":"'[1]HOJA GENERAL DATOS IMPORTADOS'!AA88","v":0},{"$f":"'[1]HOJA GENERAL DATOS IMPORTADOS'!AB88","v":0},{"$f":"'[1]HOJA GENERAL DATOS IMPORTADOS'!AC88","v":0},{"$f":"'[1]HOJA GENERAL DATOS IMPORTADOS'!AD88","v":0},{"$f":"'[1]HOJA GENERAL DATOS IMPORTADOS'!AE88","v":0},{"$f":"'[1]HOJA GENERAL DATOS IMPORTADOS'!AF88","v":0},{"$f":"'[1]HOJA GENERAL DATOS IMPORTADOS'!AG88","v":0},{"$f":"'[1]HOJA GENERAL DATOS IMPORTADOS'!AH88","v":0},{"$f":"'[1]HOJA GENERAL DATOS IMPORTADOS'!AI88","v":0}]
[{"$f":"'[1]HOJA GENERAL DATOS IMPORTADOS'!A89","v":0},{"$f":"'[1]HOJA GENERAL DATOS IMPORTADOS'!B89","v":0},{"$f":"'[1]HOJA GENERAL DATOS IMPORTADOS'!C89","v":0},{"$f":"'[1]HOJA GENERAL DATOS IMPORTADOS'!D89","v":0},{"$f":"'[1]HOJA GENERAL DATOS IMPORTADOS'!E89","v":0},{"$f":"'[1]HOJA GENERAL DATOS IMPORTADOS'!F89","v":0},{"$f":"'[1]HOJA GENERAL DATOS IMPORTADOS'!G89","v":0},{"$f":"'[1]HOJA GENERAL DATOS IMPORTADOS'!H89","v":0},{"$f":"'[1]HOJA GENERAL DATOS IMPORTADOS'!I89","v":0},{"$f":"'[1]HOJA GENERAL DATOS IMPORTADOS'!J89","v":0},{"$f":"'[1]HOJA GENERAL DATOS IMPORTADOS'!K89","v":0},{"$f":"'[1]HOJA GENERAL DATOS IMPORTADOS'!L89","v":0},{"$f":"'[1]HOJA GENERAL DATOS IMPORTADOS'!M89","v":0},{"$f":"'[1]HOJA GENERAL DATOS IMPORTADOS'!N89","v":0},{"$f":"'[1]HOJA GENERAL DATOS IMPORTADOS'!O89","v":0},{"$f":"'[1]HOJA GENERAL DATOS IMPORTADOS'!P89","v":0},{"$f":"'[1]HOJA GENERAL DATOS IMPORTADOS'!Q89","v":0},{"$f":"'[1]HOJA GENERAL DATOS IMPORTADOS'!R89","v":0},{"$f":"'[1]HOJA GENERAL DATOS IMPORTADOS'!S89","v":0},{"$f":"'[1]HOJA GENERAL DATOS IMPORTADOS'!T89","v":0},{"$f":"'[1]HOJA GENERAL DATOS IMPORTADOS'!U89","v":0},{"$f":"'[1]HOJA GENERAL DATOS IMPORTADOS'!V89","v":0},{"$f":"'[1]HOJA GENERAL DATOS IMPORTADOS'!W89","v":0},{"$f":"'[1]HOJA GENERAL DATOS IMPORTADOS'!X89","v":0},{"$f":"'[1]HOJA GENERAL DATOS IMPORTADOS'!Y89","v":0},{"$f":"'[1]HOJA GENERAL DATOS IMPORTADOS'!Z89","v":0},{"$f":"'[1]HOJA GENERAL DATOS IMPORTADOS'!AA89","v":0},{"$f":"'[1]HOJA GENERAL DATOS IMPORTADOS'!AB89","v":0},{"$f":"'[1]HOJA GENERAL DATOS IMPORTADOS'!AC89","v":0},{"$f":"'[1]HOJA GENERAL DATOS IMPORTADOS'!AD89","v":0},{"$f":"'[1]HOJA GENERAL DATOS IMPORTADOS'!AE89","v":0},{"$f":"'[1]HOJA GENERAL DATOS IMPORTADOS'!AF89","v":0},{"$f":"'[1]HOJA GENERAL DATOS IMPORTADOS'!AG89","v":0},{"$f":"'[1]HOJA GENERAL DATOS IMPORTADOS'!AH89","v":0},{"$f":"'[1]HOJA GENERAL DATOS IMPORTADOS'!AI89","v":0}]
[{"$f":"'[1]HOJA GENERAL DATOS IMPORTADOS'!A90","v":0},{"$f":"'[1]HOJA GENERAL DATOS IMPORTADOS'!B90","v":0},{"$f":"'[1]HOJA GENERAL DATOS IMPORTADOS'!C90","v":0},{"$f":"'[1]HOJA GENERAL DATOS IMPORTADOS'!D90","v":0},{"$f":"'[1]HOJA GENERAL DATOS IMPORTADOS'!E90","v":0},{"$f":"'[1]HOJA GENERAL DATOS IMPORTADOS'!F90","v":0},{"$f":"'[1]HOJA GENERAL DATOS IMPORTADOS'!G90","v":0},{"$f":"'[1]HOJA GENERAL DATOS IMPORTADOS'!H90","v":0},{"$f":"'[1]HOJA GENERAL DATOS IMPORTADOS'!I90","v":0},{"$f":"'[1]HOJA GENERAL DATOS IMPORTADOS'!J90","v":0},{"$f":"'[1]HOJA GENERAL DATOS IMPORTADOS'!K90","v":0},{"$f":"'[1]HOJA GENERAL DATOS IMPORTADOS'!L90","v":0},{"$f":"'[1]HOJA GENERAL DATOS IMPORTADOS'!M90","v":0},{"$f":"'[1]HOJA GENERAL DATOS IMPORTADOS'!N90","v":0},{"$f":"'[1]HOJA GENERAL DATOS IMPORTADOS'!O90","v":0},{"$f":"'[1]HOJA GENERAL DATOS IMPORTADOS'!P90","v":0},{"$f":"'[1]HOJA GENERAL DATOS IMPORTADOS'!Q90","v":0},{"$f":"'[1]HOJA GENERAL DATOS IMPORTADOS'!R90","v":0},{"$f":"'[1]HOJA GENERAL DATOS IMPORTADOS'!S90","v":0},{"$f":"'[1]HOJA GENERAL DATOS IMPORTADOS'!T90","v":0},{"$f":"'[1]HOJA GENERAL DATOS IMPORTADOS'!U90","v":0},{"$f":"'[1]HOJA GENERAL DATOS IMPORTADOS'!V90","v":0},{"$f":"'[1]HOJA GENERAL DATOS IMPORTADOS'!W90","v":0},{"$f":"'[1]HOJA GENERAL DATOS IMPORTADOS'!X90","v":0},{"$f":"'[1]HOJA GENERAL DATOS IMPORTADOS'!Y90","v":0},{"$f":"'[1]HOJA GENERAL DATOS IMPORTADOS'!Z90","v":0},{"$f":"'[1]HOJA GENERAL DATOS IMPORTADOS'!AA90","v":0},{"$f":"'[1]HOJA GENERAL DATOS IMPORTADOS'!AB90","v":0},{"$f":"'[1]HOJA GENERAL DATOS IMPORTADOS'!AC90","v":0},{"$f":"'[1]HOJA GENERAL DATOS IMPORTADOS'!AD90","v":0},{"$f":"'[1]HOJA GENERAL DATOS IMPORTADOS'!AE90","v":0},{"$f":"'[1]HOJA GENERAL DATOS IMPORTADOS'!AF90","v":0},{"$f":"'[1]HOJA GENERAL DATOS IMPORTADOS'!AG90","v":0},{"$f":"'[1]HOJA GENERAL DATOS IMPORTADOS'!AH90","v":0},{"$f":"'[1]HOJA GENERAL DATOS IMPORTADOS'!AI90","v":0}]
[{"$f":"'[1]HOJA GENERAL DATOS IMPORTADOS'!A91","v":"ESPECIE"},{"$f":"'[1]HOJA GENERAL DATOS IMPORTADOS'!B91","v":"MES CONTROL"},{"$f":"'[1]HOJA GENERAL DATOS IMPORTADOS'!C91","v":"PromedioDeANIMALES SECOS"},{"$f":"'[1]HOJA GENERAL DATOS IMPORTADOS'!D91","v":"PromedioDeANIMALES EN PREPARTO"},{"$f":"'[1]HOJA GENERAL DATOS IMPORTADOS'!E91","v":"PromedioDeANIMALES  EN ORDEÑO"},{"$f":"'[1]HOJA GENERAL DATOS IMPORTADOS'!F91","v":"ANIMALES TOTALES"},{"$f":"'[1]HOJA GENERAL DATOS IMPORTADOS'!G91","v":"SumaDeNº PARTOS"},{"$f":"'[1]HOJA GENERAL DATOS IMPORTADOS'!H91","v":"SumaDeNº ABORTOS"},{"$f":"'[1]HOJA GENERAL DATOS IMPORTADOS'!I91","v":"SumaDeNº BAJAS ADULTAS"},{"$f":"'[1]HOJA GENERAL DATOS IMPORTADOS'!J91","v":"SumaDeNº MAMITIS TRATADAS"},{"$f":"'[1]HOJA GENERAL DATOS IMPORTADOS'!K91","v":"PromedioDeNº PARTOS"},{"$f":"'[1]HOJA GENERAL DATOS IMPORTADOS'!L91","v":"PARTOS/ANIMAL"},{"$f":"'[1]HOJA GENERAL DATOS IMPORTADOS'!M91","v":"%ABORTOS SOBRE TOTALES"},{"$f":"'[1]HOJA GENERAL DATOS IMPORTADOS'!N91","v":"%BAJAS"},{"$f":"'[1]HOJA GENERAL DATOS IMPORTADOS'!O91","v":"%MAMITIS SOBRE TOTALES"},{"$f":"'[1]HOJA GENERAL DATOS IMPORTADOS'!P91","v":"TOT ANIM"},{"$f":"'[1]HOJA GENERAL DATOS IMPORTADOS'!Q91","v":"PARTOS"},{"$f":"'[1]HOJA GENERAL DATOS IMPORTADOS'!R91","v":"ABORTOS"},{"$f":"'[1]HOJA GENERAL DATOS IMPORTADOS'!S91","v":"BAJAS"},{"$f":"'[1]HOJA GENERAL DATOS IMPORTADOS'!T91","v":"MAMITIS"},{"$f":"'[1]HOJA GENERAL DATOS IMPORTADOS'!U91","v":0},{"$f":"'[1]HOJA GENERAL DATOS IMPORTADOS'!V91","v":0},{"$f":"'[1]HOJA GENERAL DATOS IMPORTADOS'!W91","v":0},{"$f":"'[1]HOJA GENERAL DATOS IMPORTADOS'!X91","v":0},{"$f":"'[1]HOJA GENERAL DATOS IMPORTADOS'!Y91","v":0},{"$f":"'[1]HOJA GENERAL DATOS IMPORTADOS'!Z91","v":0},{"$f":"'[1]HOJA GENERAL DATOS IMPORTADOS'!AA91","v":0},{"$f":"'[1]HOJA GENERAL DATOS IMPORTADOS'!AB91","v":0},{"$f":"'[1]HOJA GENERAL DATOS IMPORTADOS'!AC91","v":0},{"$f":"'[1]HOJA GENERAL DATOS IMPORTADOS'!AD91","v":0},{"$f":"'[1]HOJA GENERAL DATOS IMPORTADOS'!AE91","v":0},{"$f":"'[1]HOJA GENERAL DATOS IMPORTADOS'!AF91","v":0},{"$f":"'[1]HOJA GENERAL DATOS IMPORTADOS'!AG91","v":0},{"$f":"'[1]HOJA GENERAL DATOS IMPORTADOS'!AH91","v":0},{"$f":"'[1]HOJA GENERAL DATOS IMPORTADOS'!AI91","v":0}]
[{"$f":"'[1]HOJA GENERAL DATOS IMPORTADOS'!A92","v":"CAPRINO"},null,null,null,null,null,null,{"$f":"'[1]HOJA GENERAL DATOS IMPORTADOS'!H92","v":33},{"$f":"'[1]HOJA GENERAL DATOS IMPORTADOS'!I92","v":132},{"$f":"'[1]HOJA GENERAL DATOS IMPORTADOS'!J92","v":72},{"$f":"'[1]HOJA GENERAL DATOS IMPORTADOS'!K92","v":30.909090909090899},{"$f":"'[1]HOJA GENERAL DATOS IMPORTADOS'!L92","v":5.43026895802722E-2},{"$f":"'[1]HOJA GENERAL DATOS IMPORTADOS'!M92","v":5.7976106816584702E-2},{"$f":"'[1]HOJA GENERAL DATOS IMPORTADOS'!N92","v":0.231904427266339},{"$f":"'[1]HOJA GENERAL DATOS IMPORTADOS'!O92","v":0.126493323963457},{"$f":"'[1]HOJA GENERAL DATOS IMPORTADOS'!P92","v":569.20000000000005},{"$f":"'[1]HOJA GENERAL DATOS IMPORTADOS'!Q92","v":30.909090909090899},{"$f":"'[1]HOJA GENERAL DATOS IMPORTADOS'!R92","v":33},{"$f":"'[1]HOJA GENERAL DATOS IMPORTADOS'!S92","v":132},{"$f":"'[1]HOJA GENERAL DATOS IMPORTADOS'!T92","v":72},{"$f":"'[1]HOJA GENERAL DATOS IMPORTADOS'!U92","v":0},{"$f":"'[1]HOJA GENERAL DATOS IMPORTADOS'!V92","v":0},{"$f":"'[1]HOJA GENERAL DATOS IMPORTADOS'!W92","v":0},{"$f":"'[1]HOJA GENERAL DATOS IMPORTADOS'!X92","v":0},{"$f":"'[1]HOJA GENERAL DATOS IMPORTADOS'!Y92","v":0},{"$f":"'[1]HOJA GENERAL DATOS IMPORTADOS'!Z92","v":0},{"$f":"'[1]HOJA GENERAL DATOS IMPORTADOS'!AA92","v":0},{"$f":"'[1]HOJA GENERAL DATOS IMPORTADOS'!AB92","v":0},{"$f":"'[1]HOJA GENERAL DATOS IMPORTADOS'!AC92","v":0},{"$f":"'[1]HOJA GENERAL DATOS IMPORTADOS'!AD92","v":0},{"$f":"'[1]HOJA GENERAL DATOS IMPORTADOS'!AE92","v":0},{"$f":"'[1]HOJA GENERAL DATOS IMPORTADOS'!AF92","v":0},{"$f":"'[1]HOJA GENERAL DATOS IMPORTADOS'!AG92","v":0},{"$f":"'[1]HOJA GENERAL DATOS IMPORTADOS'!AH92","v":0},{"$f":"'[1]HOJA GENERAL DATOS IMPORTADOS'!AI92","v":0}]
[{"$f":"'[1]HOJA GENERAL DATOS IMPORTADOS'!A93","v":"CAPRINO"},null,null,null,null,null,null,{"$f":"'[1]HOJA GENERAL DATOS IMPORTADOS'!H93","v":16},{"$f":"'[1]HOJA GENERAL DATOS IMPORTADOS'!I93","v":72},{"$f":"'[1]HOJA GENERAL DATOS IMPORTADOS'!J93","v":13},{"$f":"'[1]HOJA GENERAL DATOS IMPORTADOS'!K93","v":36},{"$f":"'[1]HOJA GENERAL DATOS IMPORTADOS'!L93","v":8.5481682496607897E-2},{"$f":"'[1]HOJA GENERAL DATOS IMPORTADOS'!M93","v":3.7991858887381297E-2},{"$f":"'[1]HOJA GENERAL DATOS IMPORTADOS'!N93","v":0.17096336499321599},{"$f":"'[1]HOJA GENERAL DATOS IMPORTADOS'!O93","v":3.0868385345997298E-2},{"$f":"'[1]HOJA GENERAL DATOS IMPORTADOS'!P93","v":421.142857142857},{"$f":"'[1]HOJA GENERAL DATOS IMPORTADOS'!Q93","v":36},{"$f":"'[1]HOJA GENERAL DATOS IMPORTADOS'!R93","v":16},{"$f":"'[1]HOJA GENERAL DATOS IMPORTADOS'!S93","v":72},{"$f":"'[1]HOJA GENERAL DATOS IMPORTADOS'!T93","v":13},{"$f":"'[1]HOJA GENERAL DATOS IMPORTADOS'!U93","v":0},{"$f":"'[1]HOJA GENERAL DATOS IMPORTADOS'!V93","v":0},{"$f":"'[1]HOJA GENERAL DATOS IMPORTADOS'!W93","v":0},{"$f":"'[1]HOJA GENERAL DATOS IMPORTADOS'!X93","v":0},{"$f":"'[1]HOJA GENERAL DATOS IMPORTADOS'!Y93","v":0},{"$f":"'[1]HOJA GENERAL DATOS IMPORTADOS'!Z93","v":0},{"$f":"'[1]HOJA GENERAL DATOS IMPORTADOS'!AA93","v":0},{"$f":"'[1]HOJA GENERAL DATOS IMPORTADOS'!AB93","v":0},{"$f":"'[1]HOJA GENERAL DATOS IMPORTADOS'!AC93","v":0},{"$f":"'[1]HOJA GENERAL DATOS IMPORTADOS'!AD93","v":0},{"$f":"'[1]HOJA GENERAL DATOS IMPORTADOS'!AE93","v":0},{"$f":"'[1]HOJA GENERAL DATOS IMPORTADOS'!AF93","v":0},{"$f":"'[1]HOJA GENERAL DATOS IMPORTADOS'!AG93","v":0},{"$f":"'[1]HOJA GENERAL DATOS IMPORTADOS'!AH93","v":0},{"$f":"'[1]HOJA GENERAL DATOS IMPORTADOS'!AI93","v":0}]
[{"$f":"'[1]HOJA GENERAL DATOS IMPORTADOS'!A94","v":"CAPRINO"},null,null,null,null,null,null,{"$f":"'[1]HOJA GENERAL DATOS IMPORTADOS'!H94","v":8},{"$f":"'[1]HOJA GENERAL DATOS IMPORTADOS'!I94","v":71},{"$f":"'[1]HOJA GENERAL DATOS IMPORTADOS'!J94","v":11},{"$f":"'[1]HOJA GENERAL DATOS IMPORTADOS'!K94","v":71.75},{"$f":"'[1]HOJA GENERAL DATOS IMPORTADOS'!L94","v":0.179318962824117},{"$f":"'[1]HOJA GENERAL DATOS IMPORTADOS'!M94","v":1.99937519525148E-2},{"$f":"'[1]HOJA GENERAL DATOS IMPORTADOS'!N94","v":0.17744454857856901},{"$f":"'[1]HOJA GENERAL DATOS IMPORTADOS'!O94","v":2.74914089347079E-2},{"$f":"'[1]HOJA GENERAL DATOS IMPORTADOS'!P94","v":400.125},{"$f":"'[1]HOJA GENERAL DATOS IMPORTADOS'!Q94","v":71.75},{"$f":"'[1]HOJA GENERAL DATOS IMPORTADOS'!R94","v":8},{"$f":"'[1]HOJA GENERAL DATOS IMPORTADOS'!S94","v":71},{"$f":"'[1]HOJA GENERAL DATOS IMPORTADOS'!T94","v":11},{"$f":"'[1]HOJA GENERAL DATOS IMPORTADOS'!U94","v":0},{"$f":"'[1]HOJA GENERAL DATOS IMPORTADOS'!V94","v":0},{"$f":"'[1]HOJA GENERAL DATOS IMPORTADOS'!W94","v":0},{"$f":"'[1]HOJA GENERAL DATOS IMPORTADOS'!X94","v":0},{"$f":"'[1]HOJA GENERAL DATOS IMPORTADOS'!Y94","v":0},{"$f":"'[1]HOJA GENERAL DATOS IMPORTADOS'!Z94","v":0},{"$f":"'[1]HOJA GENERAL DATOS IMPORTADOS'!AA94","v":0},{"$f":"'[1]HOJA GENERAL DATOS IMPORTADOS'!AB94","v":0},{"$f":"'[1]HOJA GENERAL DATOS IMPORTADOS'!AC94","v":0},{"$f":"'[1]HOJA GENERAL DATOS IMPORTADOS'!AD94","v":0},{"$f":"'[1]HOJA GENERAL DATOS IMPORTADOS'!AE94","v":0},{"$f":"'[1]HOJA GENERAL DATOS IMPORTADOS'!AF94","v":0},{"$f":"'[1]HOJA GENERAL DATOS IMPORTADOS'!AG94","v":0},{"$f":"'[1]HOJA GENERAL DATOS IMPORTADOS'!AH94","v":0},{"$f":"'[1]HOJA GENERAL DATOS IMPORTADOS'!AI94","v":0}]
[{"$f":"'[1]HOJA GENERAL DATOS IMPORTADOS'!A95","v":"CAPRINO"},null,null,null,null,null,null,{"$f":"'[1]HOJA GENERAL DATOS IMPORTADOS'!H95","v":0},{"$f":"'[1]HOJA GENERAL DATOS IMPORTADOS'!I95","v":31},{"$f":"'[1]HOJA GENERAL DATOS IMPORTADOS'!J95","v":4},{"$f":"'[1]HOJA GENERAL DATOS IMPORTADOS'!K95","v":3.1666666666666701},{"$f":"'[1]HOJA GENERAL DATOS IMPORTADOS'!L95","v":8.05767599660729E-3},{"$f":"'[1]HOJA GENERAL DATOS IMPORTADOS'!M95","v":0},{"$f":"'[1]HOJA GENERAL DATOS IMPORTADOS'!N95","v":7.8880407124681903E-2},{"$f":"'[1]HOJA GENERAL DATOS IMPORTADOS'!O95","v":1.01781170483461E-2},{"$f":"'[1]HOJA GENERAL DATOS IMPORTADOS'!P95","v":393},{"$f":"'[1]HOJA GENERAL DATOS IMPORTADOS'!Q95","v":3.1666666666666701},{"$f":"'[1]HOJA GENERAL DATOS IMPORTADOS'!R95","v":0},{"$f":"'[1]HOJA GENERAL DATOS IMPORTADOS'!S95","v":31},{"$f":"'[1]HOJA GENERAL DATOS IMPORTADOS'!T95","v":4},{"$f":"'[1]HOJA GENERAL DATOS IMPORTADOS'!U95","v":0},{"$f":"'[1]HOJA GENERAL DATOS IMPORTADOS'!V95","v":0},{"$f":"'[1]HOJA GENERAL DATOS IMPORTADOS'!W95","v":0},{"$f":"'[1]HOJA GENERAL DATOS IMPORTADOS'!X95","v":0},{"$f":"'[1]HOJA GENERAL DATOS IMPORTADOS'!Y95","v":0},{"$f":"'[1]HOJA GENERAL DATOS IMPORTADOS'!Z95","v":0},{"$f":"'[1]HOJA GENERAL DATOS IMPORTADOS'!AA95","v":0},{"$f":"'[1]HOJA GENERAL DATOS IMPORTADOS'!AB95","v":0},{"$f":"'[1]HOJA GENERAL DATOS IMPORTADOS'!AC95","v":0},{"$f":"'[1]HOJA GENERAL DATOS IMPORTADOS'!AD95","v":0},{"$f":"'[1]HOJA GENERAL DATOS IMPORTADOS'!AE95","v":0},{"$f":"'[1]HOJA GENERAL DATOS IMPORTADOS'!AF95","v":0},{"$f":"'[1]HOJA GENERAL DATOS IMPORTADOS'!AG95","v":0},{"$f":"'[1]HOJA GENERAL DATOS IMPORTADOS'!AH95","v":0},{"$f":"'[1]HOJA GENERAL DATOS IMPORTADOS'!AI95","v":0}]
[{"$f":"'[1]HOJA GENERAL DATOS IMPORTADOS'!A96","v":"CAPRINO"},null,null,null,null,null,null,{"$f":"'[1]HOJA GENERAL DATOS IMPORTADOS'!H96","v":6},{"$f":"'[1]HOJA GENERAL DATOS IMPORTADOS'!I96","v":27},{"$f":"'[1]HOJA GENERAL DATOS IMPORTADOS'!J96","v":3},{"$f":"'[1]HOJA GENERAL DATOS IMPORTADOS'!K96","v":11.4285714285714},{"$f":"'[1]HOJA GENERAL DATOS IMPORTADOS'!L96","v":2.2785531187695801E-2},{"$f":"'[1]HOJA GENERAL DATOS IMPORTADOS'!M96","v":1.1962403873540301E-2},{"$f":"'[1]HOJA GENERAL DATOS IMPORTADOS'!N96","v":5.3830817430931398E-2},{"$f":"'[1]HOJA GENERAL DATOS IMPORTADOS'!O96","v":5.9812019367701504E-3},{"$f":"'[1]HOJA GENERAL DATOS IMPORTADOS'!P96","v":501.57142857142901},{"$f":"'[1]HOJA GENERAL DATOS IMPORTADOS'!Q96","v":11.4285714285714},{"$f":"'[1]HOJA GENERAL DATOS IMPORTADOS'!R96","v":6},{"$f":"'[1]HOJA GENERAL DATOS IMPORTADOS'!S96","v":27},{"$f":"'[1]HOJA GENERAL DATOS IMPORTADOS'!T96","v":3},{"$f":"'[1]HOJA GENERAL DATOS IMPORTADOS'!U96","v":0},{"$f":"'[1]HOJA GENERAL DATOS IMPORTADOS'!V96","v":0},{"$f":"'[1]HOJA GENERAL DATOS IMPORTADOS'!W96","v":0},{"$f":"'[1]HOJA GENERAL DATOS IMPORTADOS'!X96","v":0},{"$f":"'[1]HOJA GENERAL DATOS IMPORTADOS'!Y96","v":0},{"$f":"'[1]HOJA GENERAL DATOS IMPORTADOS'!Z96","v":0},{"$f":"'[1]HOJA GENERAL DATOS IMPORTADOS'!AA96","v":0},{"$f":"'[1]HOJA GENERAL DATOS IMPORTADOS'!AB96","v":0},{"$f":"'[1]HOJA GENERAL DATOS IMPORTADOS'!AC96","v":0},{"$f":"'[1]HOJA GENERAL DATOS IMPORTADOS'!AD96","v":0},{"$f":"'[1]HOJA GENERAL DATOS IMPORTADOS'!AE96","v":0},{"$f":"'[1]HOJA GENERAL DATOS IMPORTADOS'!AF96","v":0},{"$f":"'[1]HOJA GENERAL DATOS IMPORTADOS'!AG96","v":0},{"$f":"'[1]HOJA GENERAL DATOS IMPORTADOS'!AH96","v":0},{"$f":"'[1]HOJA GENERAL DATOS IMPORTADOS'!AI96","v":0}]
[{"$f":"'[1]HOJA GENERAL DATOS IMPORTADOS'!A97","v":"CAPRINO"},null,null,null,null,null,null,{"$f":"'[1]HOJA GENERAL DATOS IMPORTADOS'!H97","v":1},{"$f":"'[1]HOJA GENERAL DATOS IMPORTADOS'!I97","v":18},{"$f":"'[1]HOJA GENERAL DATOS IMPORTADOS'!J97","v":5},{"$f":"'[1]HOJA GENERAL DATOS IMPORTADOS'!K97","v":11.4285714285714},{"$f":"'[1]HOJA GENERAL DATOS IMPORTADOS'!L97","v":2.3543260741612702E-2},{"$f":"'[1]HOJA GENERAL DATOS IMPORTADOS'!M97","v":2.0600353148911101E-3},{"$f":"'[1]HOJA GENERAL DATOS IMPORTADOS'!N97","v":3.7080635668039999E-2},{"$f":"'[1]HOJA GENERAL DATOS IMPORTADOS'!O97","v":1.0300176574455601E-2},{"$f":"'[1]HOJA GENERAL DATOS IMPORTADOS'!P97","v":485.42857142857099},{"$f":"'[1]HOJA GENERAL DATOS IMPORTADOS'!Q97","v":11.4285714285714},{"$f":"'[1]HOJA GENERAL DATOS IMPORTADOS'!R97","v":1},{"$f":"'[1]HOJA GENERAL DATOS IMPORTADOS'!S97","v":18},{"$f":"'[1]HOJA GENERAL DATOS IMPORTADOS'!T97","v":5},{"$f":"'[1]HOJA GENERAL DATOS IMPORTADOS'!U97","v":0},{"$f":"'[1]HOJA GENERAL DATOS IMPORTADOS'!V97","v":0},{"$f":"'[1]HOJA GENERAL DATOS IMPORTADOS'!W97","v":0},{"$f":"'[1]HOJA GENERAL DATOS IMPORTADOS'!X97","v":0},{"$f":"'[1]HOJA GENERAL DATOS IMPORTADOS'!Y97","v":0},{"$f":"'[1]HOJA GENERAL DATOS IMPORTADOS'!Z97","v":0},{"$f":"'[1]HOJA GENERAL DATOS IMPORTADOS'!AA97","v":0},{"$f":"'[1]HOJA GENERAL DATOS IMPORTADOS'!AB97","v":0},{"$f":"'[1]HOJA GENERAL DATOS IMPORTADOS'!AC97","v":0},{"$f":"'[1]HOJA GENERAL DATOS IMPORTADOS'!AD97","v":0},{"$f":"'[1]HOJA GENERAL DATOS IMPORTADOS'!AE97","v":0},{"$f":"'[1]HOJA GENERAL DATOS IMPORTADOS'!AF97","v":0},{"$f":"'[1]HOJA GENERAL DATOS IMPORTADOS'!AG97","v":0},{"$f":"'[1]HOJA GENERAL DATOS IMPORTADOS'!AH97","v":0},{"$f":"'[1]HOJA GENERAL DATOS IMPORTADOS'!AI97","v":0}]
[{"$f":"'[1]HOJA GENERAL DATOS IMPORTADOS'!A98","v":"CAPRINO"},null,null,null,null,null,null,{"$f":"'[1]HOJA GENERAL DATOS IMPORTADOS'!H98","v":3},{"$f":"'[1]HOJA GENERAL DATOS IMPORTADOS'!I98","v":15},{"$f":"'[1]HOJA GENERAL DATOS IMPORTADOS'!J98","v":4},{"$f":"'[1]HOJA GENERAL DATOS IMPORTADOS'!K98","v":14},{"$f":"'[1]HOJA GENERAL DATOS IMPORTADOS'!L98","v":2.6565464895635701E-2},{"$f":"'[1]HOJA GENERAL DATOS IMPORTADOS'!M98","v":5.6925996204933603E-3},{"$f":"'[1]HOJA GENERAL DATOS IMPORTADOS'!N98","v":2.8462998102466799E-2},{"$f":"'[1]HOJA GENERAL DATOS IMPORTADOS'!O98","v":7.5901328273244801E-3},{"$f":"'[1]HOJA GENERAL DATOS IMPORTADOS'!P98","v":527},{"$f":"'[1]HOJA GENERAL DATOS IMPORTADOS'!Q98","v":14},{"$f":"'[1]HOJA GENERAL DATOS IMPORTADOS'!R98","v":3},{"$f":"'[1]HOJA GENERAL DATOS IMPORTADOS'!S98","v":15},{"$f":"'[1]HOJA GENERAL DATOS IMPORTADOS'!T98","v":4},{"$f":"'[1]HOJA GENERAL DATOS IMPORTADOS'!U98","v":0},{"$f":"'[1]HOJA GENERAL DATOS IMPORTADOS'!V98","v":0},{"$f":"'[1]HOJA GENERAL DATOS IMPORTADOS'!W98","v":0},{"$f":"'[1]HOJA GENERAL DATOS IMPORTADOS'!X98","v":0},{"$f":"'[1]HOJA GENERAL DATOS IMPORTADOS'!Y98","v":0},{"$f":"'[1]HOJA GENERAL DATOS IMPORTADOS'!Z98","v":0},{"$f":"'[1]HOJA GENERAL DATOS IMPORTADOS'!AA98","v":0},{"$f":"'[1]HOJA GENERAL DATOS IMPORTADOS'!AB98","v":0},{"$f":"'[1]HOJA GENERAL DATOS IMPORTADOS'!AC98","v":0},{"$f":"'[1]HOJA GENERAL DATOS IMPORTADOS'!AD98","v":0},{"$f":"'[1]HOJA GENERAL DATOS IMPORTADOS'!AE98","v":0},{"$f":"'[1]HOJA GENERAL DATOS IMPORTADOS'!AF98","v":0},{"$f":"'[1]HOJA GENERAL DATOS IMPORTADOS'!AG98","v":0},{"$f":"'[1]HOJA GENERAL DATOS IMPORTADOS'!AH98","v":0},{"$f":"'[1]HOJA GENERAL DATOS IMPORTADOS'!AI98","v":0}]
[{"$f":"'[1]HOJA GENERAL DATOS IMPORTADOS'!A99","v":"CAPRINO"},null,null,null,null,null,null,{"$f":"'[1]HOJA GENERAL DATOS IMPORTADOS'!H99","v":7},{"$f":"'[1]HOJA GENERAL DATOS IMPORTADOS'!I99","v":19},{"$f":"'[1]HOJA GENERAL DATOS IMPORTADOS'!J99","v":11},{"$f":"'[1]HOJA GENERAL DATOS IMPORTADOS'!K99","v":32.4},{"$f":"'[1]HOJA GENERAL DATOS IMPORTADOS'!L99","v":6.9024286322965506E-2},{"$f":"'[1]HOJA GENERAL DATOS IMPORTADOS'!M99","v":1.4912654452492499E-2},{"$f":"'[1]HOJA GENERAL DATOS IMPORTADOS'!N99","v":4.0477204942479798E-2},{"$f":"'[1]HOJA GENERAL DATOS IMPORTADOS'!O99","v":2.34341712824883E-2},{"$f":"'[1]HOJA GENERAL DATOS IMPORTADOS'!P99","v":469.4},{"$f":"'[1]HOJA GENERAL DATOS IMPORTADOS'!Q99","v":32.4},{"$f":"'[1]HOJA GENERAL DATOS IMPORTADOS'!R99","v":7},{"$f":"'[1]HOJA GENERAL DATOS IMPORTADOS'!S99","v":19},{"$f":"'[1]HOJA GENERAL DATOS IMPORTADOS'!T99","v":11},{"$f":"'[1]HOJA GENERAL DATOS IMPORTADOS'!U99","v":0},{"$f":"'[1]HOJA GENERAL DATOS IMPORTADOS'!V99","v":0},{"$f":"'[1]HOJA GENERAL DATOS IMPORTADOS'!W99","v":0},{"$f":"'[1]HOJA GENERAL DATOS IMPORTADOS'!X99","v":0},{"$f":"'[1]HOJA GENERAL DATOS IMPORTADOS'!Y99","v":0},{"$f":"'[1]HOJA GENERAL DATOS IMPORTADOS'!Z99","v":0},{"$f":"'[1]HOJA GENERAL DATOS IMPORTADOS'!AA99","v":0},{"$f":"'[1]HOJA GENERAL DATOS IMPORTADOS'!AB99","v":0},{"$f":"'[1]HOJA GENERAL DATOS IMPORTADOS'!AC99","v":0},{"$f":"'[1]HOJA GENERAL DATOS IMPORTADOS'!AD99","v":0},{"$f":"'[1]HOJA GENERAL DATOS IMPORTADOS'!AE99","v":0},{"$f":"'[1]HOJA GENERAL DATOS IMPORTADOS'!AF99","v":0},{"$f":"'[1]HOJA GENERAL DATOS IMPORTADOS'!AG99","v":0},{"$f":"'[1]HOJA GENERAL DATOS IMPORTADOS'!AH99","v":0},{"$f":"'[1]HOJA GENERAL DATOS IMPORTADOS'!AI99","v":0}]
[{"$f":"'[1]HOJA GENERAL DATOS IMPORTADOS'!A100","v":"CAPRINO"},null,null,null,null,null,null,{"$f":"'[1]HOJA GENERAL DATOS IMPORTADOS'!H100","v":2},{"$f":"'[1]HOJA GENERAL DATOS IMPORTADOS'!I100","v":9},{"$f":"'[1]HOJA GENERAL DATOS IMPORTADOS'!J100","v":4},{"$f":"'[1]HOJA GENERAL DATOS IMPORTADOS'!K100","v":0.4},{"$f":"'[1]HOJA GENERAL DATOS IMPORTADOS'!L100","v":8.4853627492575295E-4},{"$f":"'[1]HOJA GENERAL DATOS IMPORTADOS'!M100","v":4.2426813746287697E-3},{"$f":"'[1]HOJA GENERAL DATOS IMPORTADOS'!N100","v":1.9092066185829398E-2},{"$f":"'[1]HOJA GENERAL DATOS IMPORTADOS'!O100","v":8.4853627492575308E-3},{"$f":"'[1]HOJA GENERAL DATOS IMPORTADOS'!P100","v":471.4},{"$f":"'[1]HOJA GENERAL DATOS IMPORTADOS'!Q100","v":0.4},{"$f":"'[1]HOJA GENERAL DATOS IMPORTADOS'!R100","v":2},{"$f":"'[1]HOJA GENERAL DATOS IMPORTADOS'!S100","v":9},{"$f":"'[1]HOJA GENERAL DATOS IMPORTADOS'!T100","v":4},{"$f":"'[1]HOJA GENERAL DATOS IMPORTADOS'!U100","v":0},{"$f":"'[1]HOJA GENERAL DATOS IMPORTADOS'!V100","v":0},{"$f":"'[1]HOJA GENERAL DATOS IMPORTADOS'!W100","v":0},{"$f":"'[1]HOJA GENERAL DATOS IMPORTADOS'!X100","v":0},{"$f":"'[1]HOJA GENERAL DATOS IMPORTADOS'!Y100","v":0},{"$f":"'[1]HOJA GENERAL DATOS IMPORTADOS'!Z100","v":0},{"$f":"'[1]HOJA GENERAL DATOS IMPORTADOS'!AA100","v":0},{"$f":"'[1]HOJA GENERAL DATOS IMPORTADOS'!AB100","v":0},{"$f":"'[1]HOJA GENERAL DATOS IMPORTADOS'!AC100","v":0},{"$f":"'[1]HOJA GENERAL DATOS IMPORTADOS'!AD100","v":0},{"$f":"'[1]HOJA GENERAL DATOS IMPORTADOS'!AE100","v":0},{"$f":"'[1]HOJA GENERAL DATOS IMPORTADOS'!AF100","v":0},{"$f":"'[1]HOJA GENERAL DATOS IMPORTADOS'!AG100","v":0},{"$f":"'[1]HOJA GENERAL DATOS IMPORTADOS'!AH100","v":0},{"$f":"'[1]HOJA GENERAL DATOS IMPORTADOS'!AI100","v":0}]
[{"$f":"'[1]HOJA GENERAL DATOS IMPORTADOS'!A101","v":"CAPRINO"},null,null,null,null,null,null,{"$f":"'[1]HOJA GENERAL DATOS IMPORTADOS'!H101","v":8},{"$f":"'[1]HOJA GENERAL DATOS IMPORTADOS'!I101","v":36},{"$f":"'[1]HOJA GENERAL DATOS IMPORTADOS'!J101","v":11},{"$f":"'[1]HOJA GENERAL DATOS IMPORTADOS'!K101","v":40.857142857142897},{"$f":"'[1]HOJA GENERAL DATOS IMPORTADOS'!L101","v":7.4266424305375195E-2},{"$f":"'[1]HOJA GENERAL DATOS IMPORTADOS'!M101","v":1.4541677486367199E-2},{"$f":"'[1]HOJA GENERAL DATOS IMPORTADOS'!N101","v":6.54375486886523E-2},{"$f":"'[1]HOJA GENERAL DATOS IMPORTADOS'!O101","v":1.9994806543754899E-2},{"$f":"'[1]HOJA GENERAL DATOS IMPORTADOS'!P101","v":550.142857142857},{"$f":"'[1]HOJA GENERAL DATOS IMPORTADOS'!Q101","v":40.857142857142897},{"$f":"'[1]HOJA GENERAL DATOS IMPORTADOS'!R101","v":8},{"$f":"'[1]HOJA GENERAL DATOS IMPORTADOS'!S101","v":36},{"$f":"'[1]HOJA GENERAL DATOS IMPORTADOS'!T101","v":11},{"$f":"'[1]HOJA GENERAL DATOS IMPORTADOS'!U101","v":0},{"$f":"'[1]HOJA GENERAL DATOS IMPORTADOS'!V101","v":0},{"$f":"'[1]HOJA GENERAL DATOS IMPORTADOS'!W101","v":0},{"$f":"'[1]HOJA GENERAL DATOS IMPORTADOS'!X101","v":0},{"$f":"'[1]HOJA GENERAL DATOS IMPORTADOS'!Y101","v":0},{"$f":"'[1]HOJA GENERAL DATOS IMPORTADOS'!Z101","v":0},{"$f":"'[1]HOJA GENERAL DATOS IMPORTADOS'!AA101","v":0},{"$f":"'[1]HOJA GENERAL DATOS IMPORTADOS'!AB101","v":0},{"$f":"'[1]HOJA GENERAL DATOS IMPORTADOS'!AC101","v":0},{"$f":"'[1]HOJA GENERAL DATOS IMPORTADOS'!AD101","v":0},{"$f":"'[1]HOJA GENERAL DATOS IMPORTADOS'!AE101","v":0},{"$f":"'[1]HOJA GENERAL DATOS IMPORTADOS'!AF101","v":0},{"$f":"'[1]HOJA GENERAL DATOS IMPORTADOS'!AG101","v":0},{"$f":"'[1]HOJA GENERAL DATOS IMPORTADOS'!AH101","v":0},{"$f":"'[1]HOJA GENERAL DATOS IMPORTADOS'!AI101","v":0}]
[{"$f":"'[1]HOJA GENERAL DATOS IMPORTADOS'!A102","v":"CAPRINO"},null,null,null,null,null,null,{"$f":"'[1]HOJA GENERAL DATOS IMPORTADOS'!H102","v":21},{"$f":"'[1]HOJA GENERAL DATOS IMPORTADOS'!I102","v":44},{"$f":"'[1]HOJA GENERAL DATOS IMPORTADOS'!J102","v":14},{"$f":"'[1]HOJA GENERAL DATOS IMPORTADOS'!K102","v":138.857142857143},{"$f":"'[1]HOJA GENERAL DATOS IMPORTADOS'!L102","v":0.26791620727673698},{"$f":"'[1]HOJA GENERAL DATOS IMPORTADOS'!M102","v":4.0518191841234799E-2},{"$f":"'[1]HOJA GENERAL DATOS IMPORTADOS'!N102","v":8.4895259095920605E-2},{"$f":"'[1]HOJA GENERAL DATOS IMPORTADOS'!O102","v":2.70121278941566E-2},{"$f":"'[1]HOJA GENERAL DATOS IMPORTADOS'!P102","v":518.28571428571399},{"$f":"'[1]HOJA GENERAL DATOS IMPORTADOS'!Q102","v":138.857142857143},{"$f":"'[1]HOJA GENERAL DATOS IMPORTADOS'!R102","v":21},{"$f":"'[1]HOJA GENERAL DATOS IMPORTADOS'!S102","v":44},{"$f":"'[1]HOJA GENERAL DATOS IMPORTADOS'!T102","v":14},{"$f":"'[1]HOJA GENERAL DATOS IMPORTADOS'!U102","v":0},{"$f":"'[1]HOJA GENERAL DATOS IMPORTADOS'!V102","v":0},{"$f":"'[1]HOJA GENERAL DATOS IMPORTADOS'!W102","v":0},{"$f":"'[1]HOJA GENERAL DATOS IMPORTADOS'!X102","v":0},{"$f":"'[1]HOJA GENERAL DATOS IMPORTADOS'!Y102","v":0},{"$f":"'[1]HOJA GENERAL DATOS IMPORTADOS'!Z102","v":0},{"$f":"'[1]HOJA GENERAL DATOS IMPORTADOS'!AA102","v":0},{"$f":"'[1]HOJA GENERAL DATOS IMPORTADOS'!AB102","v":0},{"$f":"'[1]HOJA GENERAL DATOS IMPORTADOS'!AC102","v":0},{"$f":"'[1]HOJA GENERAL DATOS IMPORTADOS'!AD102","v":0},{"$f":"'[1]HOJA GENERAL DATOS IMPORTADOS'!AE102","v":0},{"$f":"'[1]HOJA GENERAL DATOS IMPORTADOS'!AF102","v":0},{"$f":"'[1]HOJA GENERAL DATOS IMPORTADOS'!AG102","v":0},{"$f":"'[1]HOJA GENERAL DATOS IMPORTADOS'!AH102","v":0},{"$f":"'[1]HOJA GENERAL DATOS IMPORTADOS'!AI102","v":0}]
[{"$f":"'[1]HOJA GENERAL DATOS IMPORTADOS'!A103","v":"CAPRINO"},null,null,null,null,null,null,{"$f":"'[1]HOJA GENERAL DATOS IMPORTADOS'!H103","v":3},{"$f":"'[1]HOJA GENERAL DATOS IMPORTADOS'!I103","v":20},{"$f":"'[1]HOJA GENERAL DATOS IMPORTADOS'!J103","v":8},{"$f":"'[1]HOJA GENERAL DATOS IMPORTADOS'!K103","v":1.5},{"$f":"'[1]HOJA GENERAL DATOS IMPORTADOS'!L103","v":2.6905829596412601E-3},{"$f":"'[1]HOJA GENERAL DATOS IMPORTADOS'!M103","v":5.3811659192825097E-3},{"$f":"'[1]HOJA GENERAL DATOS IMPORTADOS'!N103","v":3.5874439461883401E-2},{"$f":"'[1]HOJA GENERAL DATOS IMPORTADOS'!O103","v":1.43497757847534E-2},{"$f":"'[1]HOJA GENERAL DATOS IMPORTADOS'!P103","v":557.5},{"$f":"'[1]HOJA GENERAL DATOS IMPORTADOS'!Q103","v":1.5},{"$f":"'[1]HOJA GENERAL DATOS IMPORTADOS'!R103","v":3},{"$f":"'[1]HOJA GENERAL DATOS IMPORTADOS'!S103","v":20},{"$f":"'[1]HOJA GENERAL DATOS IMPORTADOS'!T103","v":8},{"$f":"'[1]HOJA GENERAL DATOS IMPORTADOS'!U103","v":0},{"$f":"'[1]HOJA GENERAL DATOS IMPORTADOS'!V103","v":0},{"$f":"'[1]HOJA GENERAL DATOS IMPORTADOS'!W103","v":0},{"$f":"'[1]HOJA GENERAL DATOS IMPORTADOS'!X103","v":0},{"$f":"'[1]HOJA GENERAL DATOS IMPORTADOS'!Y103","v":0},{"$f":"'[1]HOJA GENERAL DATOS IMPORTADOS'!Z103","v":0},{"$f":"'[1]HOJA GENERAL DATOS IMPORTADOS'!AA103","v":0},{"$f":"'[1]HOJA GENERAL DATOS IMPORTADOS'!AB103","v":0},{"$f":"'[1]HOJA GENERAL DATOS IMPORTADOS'!AC103","v":0},{"$f":"'[1]HOJA GENERAL DATOS IMPORTADOS'!AD103","v":0},{"$f":"'[1]HOJA GENERAL DATOS IMPORTADOS'!AE103","v":0},{"$f":"'[1]HOJA GENERAL DATOS IMPORTADOS'!AF103","v":0},{"$f":"'[1]HOJA GENERAL DATOS IMPORTADOS'!AG103","v":0},{"$f":"'[1]HOJA GENERAL DATOS IMPORTADOS'!AH103","v":0},{"$f":"'[1]HOJA GENERAL DATOS IMPORTADOS'!AI103","v":0}]
[{"$f":"'[1]HOJA GENERAL DATOS IMPORTADOS'!A104","v":"OVINO"},null,null,null,null,null,null,{"$f":"'[1]HOJA GENERAL DATOS IMPORTADOS'!H104","v":3},{"$f":"'[1]HOJA GENERAL DATOS IMPORTADOS'!I104","v":14},{"$f":"'[1]HOJA GENERAL DATOS IMPORTADOS'!J104","v":6},{"$f":"'[1]HOJA GENERAL DATOS IMPORTADOS'!K104","v":32.1666666666667},{"$f":"'[1]HOJA GENERAL DATOS IMPORTADOS'!L104","v":3.00422503891483E-2},{"$f":"'[1]HOJA GENERAL DATOS IMPORTADOS'!M104","v":2.8018679119412898E-3},{"$f":"'[1]HOJA GENERAL DATOS IMPORTADOS'!N104","v":1.30753835890594E-2},{"$f":"'[1]HOJA GENERAL DATOS IMPORTADOS'!O104","v":5.6037358238825901E-3},{"$f":"'[1]HOJA GENERAL DATOS IMPORTADOS'!P104","v":1070.7142857142901},{"$f":"'[1]HOJA GENERAL DATOS IMPORTADOS'!Q104","v":32.1666666666667},{"$f":"'[1]HOJA GENERAL DATOS IMPORTADOS'!R104","v":3},{"$f":"'[1]HOJA GENERAL DATOS IMPORTADOS'!S104","v":14},{"$f":"'[1]HOJA GENERAL DATOS IMPORTADOS'!T104","v":6},{"$f":"'[1]HOJA GENERAL DATOS IMPORTADOS'!U104","v":0},{"$f":"'[1]HOJA GENERAL DATOS IMPORTADOS'!V104","v":0},{"$f":"'[1]HOJA GENERAL DATOS IMPORTADOS'!W104","v":0},{"$f":"'[1]HOJA GENERAL DATOS IMPORTADOS'!X104","v":0},{"$f":"'[1]HOJA GENERAL DATOS IMPORTADOS'!Y104","v":0},{"$f":"'[1]HOJA GENERAL DATOS IMPORTADOS'!Z104","v":0},{"$f":"'[1]HOJA GENERAL DATOS IMPORTADOS'!AA104","v":0},{"$f":"'[1]HOJA GENERAL DATOS IMPORTADOS'!AB104","v":0},{"$f":"'[1]HOJA GENERAL DATOS IMPORTADOS'!AC104","v":0},{"$f":"'[1]HOJA GENERAL DATOS IMPORTADOS'!AD104","v":0},{"$f":"'[1]HOJA GENERAL DATOS IMPORTADOS'!AE104","v":0},{"$f":"'[1]HOJA GENERAL DATOS IMPORTADOS'!AF104","v":0},{"$f":"'[1]HOJA GENERAL DATOS IMPORTADOS'!AG104","v":0},{"$f":"'[1]HOJA GENERAL DATOS IMPORTADOS'!AH104","v":0},{"$f":"'[1]HOJA GENERAL DATOS IMPORTADOS'!AI104","v":0}]
[{"$f":"'[1]HOJA GENERAL DATOS IMPORTADOS'!A105","v":"OVINO"},null,null,null,null,null,null,{"$f":"'[1]HOJA GENERAL DATOS IMPORTADOS'!H105","v":30},{"$f":"'[1]HOJA GENERAL DATOS IMPORTADOS'!I105","v":44},{"$f":"'[1]HOJA GENERAL DATOS IMPORTADOS'!J105","v":2},{"$f":"'[1]HOJA GENERAL DATOS IMPORTADOS'!K105","v":234.666666666667},{"$f":"'[1]HOJA GENERAL DATOS IMPORTADOS'!L105","v":0.22709154166954701},{"$f":"'[1]HOJA GENERAL DATOS IMPORTADOS'!M105","v":2.9031589133890898E-2},{"$f":"'[1]HOJA GENERAL DATOS IMPORTADOS'!N105","v":4.257966406304E-2},{"$f":"'[1]HOJA GENERAL DATOS IMPORTADOS'!O105","v":1.93543927559273E-3},{"$f":"'[1]HOJA GENERAL DATOS IMPORTADOS'!P105","v":1033.3571428571399},{"$f":"'[1]HOJA GENERAL DATOS IMPORTADOS'!Q105","v":234.666666666667},{"$f":"'[1]HOJA GENERAL DATOS IMPORTADOS'!R105","v":30},{"$f":"'[1]HOJA GENERAL DATOS IMPORTADOS'!S105","v":44},{"$f":"'[1]HOJA GENERAL DATOS IMPORTADOS'!T105","v":2},{"$f":"'[1]HOJA GENERAL DATOS IMPORTADOS'!U105","v":0},{"$f":"'[1]HOJA GENERAL DATOS IMPORTADOS'!V105","v":0},{"$f":"'[1]HOJA GENERAL DATOS IMPORTADOS'!W105","v":0},{"$f":"'[1]HOJA GENERAL DATOS IMPORTADOS'!X105","v":0},{"$f":"'[1]HOJA GENERAL DATOS IMPORTADOS'!Y105","v":0},{"$f":"'[1]HOJA GENERAL DATOS IMPORTADOS'!Z105","v":0},{"$f":"'[1]HOJA GENERAL DATOS IMPORTADOS'!AA105","v":0},{"$f":"'[1]HOJA GENERAL DATOS IMPORTADOS'!AB105","v":0},{"$f":"'[1]HOJA GENERAL DATOS IMPORTADOS'!AC105","v":0},{"$f":"'[1]HOJA GENERAL DATOS IMPORTADOS'!AD105","v":0},{"$f":"'[1]HOJA GENERAL DATOS IMPORTADOS'!AE105","v":0},{"$f":"'[1]HOJA GENERAL DATOS IMPORTADOS'!AF105","v":0},{"$f":"'[1]HOJA GENERAL DATOS IMPORTADOS'!AG105","v":0},{"$f":"'[1]HOJA GENERAL DATOS IMPORTADOS'!AH105","v":0},{"$f":"'[1]HOJA GENERAL DATOS IMPORTADOS'!AI105","v":0}]
[{"$f":"'[1]HOJA GENERAL DATOS IMPORTADOS'!A106","v":"OVINO"},null,null,null,null,null,null,{"$f":"'[1]HOJA GENERAL DATOS IMPORTADOS'!H106","v":11},{"$f":"'[1]HOJA GENERAL DATOS IMPORTADOS'!I106","v":70},{"$f":"'[1]HOJA GENERAL DATOS IMPORTADOS'!J106","v":6},{"$f":"'[1]HOJA GENERAL DATOS IMPORTADOS'!K106","v":164.833333333333},{"$f":"'[1]HOJA GENERAL DATOS IMPORTADOS'!L106","v":0.157706501435145},{"$f":"'[1]HOJA GENERAL DATOS IMPORTADOS'!M106","v":1.0524397466855E-2},{"$f":"'[1]HOJA GENERAL DATOS IMPORTADOS'!N106","v":6.6973438425440804E-2},{"$f":"'[1]HOJA GENERAL DATOS IMPORTADOS'!O106","v":5.7405804364663504E-3},{"$f":"'[1]HOJA GENERAL DATOS IMPORTADOS'!P106","v":1045.19047619048},{"$f":"'[1]HOJA GENERAL DATOS IMPORTADOS'!Q106","v":164.833333333333},{"$f":"'[1]HOJA GENERAL DATOS IMPORTADOS'!R106","v":11},{"$f":"'[1]HOJA GENERAL DATOS IMPORTADOS'!S106","v":70},{"$f":"'[1]HOJA GENERAL DATOS IMPORTADOS'!T106","v":6},{"$f":"'[1]HOJA GENERAL DATOS IMPORTADOS'!U106","v":0},{"$f":"'[1]HOJA GENERAL DATOS IMPORTADOS'!V106","v":0},{"$f":"'[1]HOJA GENERAL DATOS IMPORTADOS'!W106","v":0},{"$f":"'[1]HOJA GENERAL DATOS IMPORTADOS'!X106","v":0},{"$f":"'[1]HOJA GENERAL DATOS IMPORTADOS'!Y106","v":0},{"$f":"'[1]HOJA GENERAL DATOS IMPORTADOS'!Z106","v":0},{"$f":"'[1]HOJA GENERAL DATOS IMPORTADOS'!AA106","v":0},{"$f":"'[1]HOJA GENERAL DATOS IMPORTADOS'!AB106","v":0},{"$f":"'[1]HOJA GENERAL DATOS IMPORTADOS'!AC106","v":0},{"$f":"'[1]HOJA GENERAL DATOS IMPORTADOS'!AD106","v":0},{"$f":"'[1]HOJA GENERAL DATOS IMPORTADOS'!AE106","v":0},{"$f":"'[1]HOJA GENERAL DATOS IMPORTADOS'!AF106","v":0},{"$f":"'[1]HOJA GENERAL DATOS IMPORTADOS'!AG106","v":0},{"$f":"'[1]HOJA GENERAL DATOS IMPORTADOS'!AH106","v":0},{"$f":"'[1]HOJA GENERAL DATOS IMPORTADOS'!AI106","v":0}]
[{"$f":"'[1]HOJA GENERAL DATOS IMPORTADOS'!A107","v":"OVINO"},null,null,null,null,null,null,{"$f":"'[1]HOJA GENERAL DATOS IMPORTADOS'!H107","v":3},{"$f":"'[1]HOJA GENERAL DATOS IMPORTADOS'!I107","v":71},{"$f":"'[1]HOJA GENERAL DATOS IMPORTADOS'!J107","v":2},{"$f":"'[1]HOJA GENERAL DATOS IMPORTADOS'!K107","v":103.166666666667},{"$f":"'[1]HOJA GENERAL DATOS IMPORTADOS'!L107","v":0.105062800058193},{"$f":"'[1]HOJA GENERAL DATOS IMPORTADOS'!M107","v":3.0551379661510102E-3},{"$f":"'[1]HOJA GENERAL DATOS IMPORTADOS'!N107","v":7.2304931865573893E-2},{"$f":"'[1]HOJA GENERAL DATOS IMPORTADOS'!O107","v":2.03675864410067E-3},{"$f":"'[1]HOJA GENERAL DATOS IMPORTADOS'!P107","v":981.95238095238096},{"$f":"'[1]HOJA GENERAL DATOS IMPORTADOS'!Q107","v":103.166666666667},{"$f":"'[1]HOJA GENERAL DATOS IMPORTADOS'!R107","v":3},{"$f":"'[1]HOJA GENERAL DATOS IMPORTADOS'!S107","v":71},{"$f":"'[1]HOJA GENERAL DATOS IMPORTADOS'!T107","v":2},{"$f":"'[1]HOJA GENERAL DATOS IMPORTADOS'!U107","v":0},{"$f":"'[1]HOJA GENERAL DATOS IMPORTADOS'!V107","v":0},{"$f":"'[1]HOJA GENERAL DATOS IMPORTADOS'!W107","v":0},{"$f":"'[1]HOJA GENERAL DATOS IMPORTADOS'!X107","v":0},{"$f":"'[1]HOJA GENERAL DATOS IMPORTADOS'!Y107","v":0},{"$f":"'[1]HOJA GENERAL DATOS IMPORTADOS'!Z107","v":0},{"$f":"'[1]HOJA GENERAL DATOS IMPORTADOS'!AA107","v":0},{"$f":"'[1]HOJA GENERAL DATOS IMPORTADOS'!AB107","v":0},{"$f":"'[1]HOJA GENERAL DATOS IMPORTADOS'!AC107","v":0},{"$f":"'[1]HOJA GENERAL DATOS IMPORTADOS'!AD107","v":0},{"$f":"'[1]HOJA GENERAL DATOS IMPORTADOS'!AE107","v":0},{"$f":"'[1]HOJA GENERAL DATOS IMPORTADOS'!AF107","v":0},{"$f":"'[1]HOJA GENERAL DATOS IMPORTADOS'!AG107","v":0},{"$f":"'[1]HOJA GENERAL DATOS IMPORTADOS'!AH107","v":0},{"$f":"'[1]HOJA GENERAL DATOS IMPORTADOS'!AI107","v":0}]
[{"$f":"'[1]HOJA GENERAL DATOS IMPORTADOS'!A108","v":"OVINO"},null,null,null,null,null,null,{"$f":"'[1]HOJA GENERAL DATOS IMPORTADOS'!H108","v":3},{"$f":"'[1]HOJA GENERAL DATOS IMPORTADOS'!I108","v":63},{"$f":"'[1]HOJA GENERAL DATOS IMPORTADOS'!J108","v":2},{"$f":"'[1]HOJA GENERAL DATOS IMPORTADOS'!K108","v":50.8333333333333},{"$f":"'[1]HOJA GENERAL DATOS IMPORTADOS'!L108","v":5.3122667330181603E-2},{"$f":"'[1]HOJA GENERAL DATOS IMPORTADOS'!M108","v":3.1351082358795699E-3},{"$f":"'[1]HOJA GENERAL DATOS IMPORTADOS'!N108","v":6.5837272953470999E-2},{"$f":"'[1]HOJA GENERAL DATOS IMPORTADOS'!O108","v":2.0900721572530501E-3},{"$f":"'[1]HOJA GENERAL DATOS IMPORTADOS'!P108","v":956.90476190476204},{"$f":"'[1]HOJA GENERAL DATOS IMPORTADOS'!Q108","v":50.8333333333333},{"$f":"'[1]HOJA GENERAL DATOS IMPORTADOS'!R108","v":3},{"$f":"'[1]HOJA GENERAL DATOS IMPORTADOS'!S108","v":63},{"$f":"'[1]HOJA GENERAL DATOS IMPORTADOS'!T108","v":2},{"$f":"'[1]HOJA GENERAL DATOS IMPORTADOS'!U108","v":0},{"$f":"'[1]HOJA GENERAL DATOS IMPORTADOS'!V108","v":0},{"$f":"'[1]HOJA GENERAL DATOS IMPORTADOS'!W108","v":0},{"$f":"'[1]HOJA GENERAL DATOS IMPORTADOS'!X108","v":0},{"$f":"'[1]HOJA GENERAL DATOS IMPORTADOS'!Y108","v":0},{"$f":"'[1]HOJA GENERAL DATOS IMPORTADOS'!Z108","v":0},{"$f":"'[1]HOJA GENERAL DATOS IMPORTADOS'!AA108","v":0},{"$f":"'[1]HOJA GENERAL DATOS IMPORTADOS'!AB108","v":0},{"$f":"'[1]HOJA GENERAL DATOS IMPORTADOS'!AC108","v":0},{"$f":"'[1]HOJA GENERAL DATOS IMPORTADOS'!AD108","v":0},{"$f":"'[1]HOJA GENERAL DATOS IMPORTADOS'!AE108","v":0},{"$f":"'[1]HOJA GENERAL DATOS IMPORTADOS'!AF108","v":0},{"$f":"'[1]HOJA GENERAL DATOS IMPORTADOS'!AG108","v":0},{"$f":"'[1]HOJA GENERAL DATOS IMPORTADOS'!AH108","v":0},{"$f":"'[1]HOJA GENERAL DATOS IMPORTADOS'!AI108","v":0}]
[{"$f":"'[1]HOJA GENERAL DATOS IMPORTADOS'!A109","v":"OVINO"},null,null,null,null,null,null,{"$f":"'[1]HOJA GENERAL DATOS IMPORTADOS'!H109","v":2},{"$f":"'[1]HOJA GENERAL DATOS IMPORTADOS'!I109","v":68},{"$f":"'[1]HOJA GENERAL DATOS IMPORTADOS'!J109","v":0},{"$f":"'[1]HOJA GENERAL DATOS IMPORTADOS'!K109","v":1.8333333333333299},{"$f":"'[1]HOJA GENERAL DATOS IMPORTADOS'!L109","v":1.9456236102688501E-3},{"$f":"'[1]HOJA GENERAL DATOS IMPORTADOS'!M109","v":2.1224984839296498E-3},{"$f":"'[1]HOJA GENERAL DATOS IMPORTADOS'!N109","v":7.2164948453608199E-2},{"$f":"'[1]HOJA GENERAL DATOS IMPORTADOS'!O109","v":0},{"$f":"'[1]HOJA GENERAL DATOS IMPORTADOS'!P109","v":942.28571428571399},{"$f":"'[1]HOJA GENERAL DATOS IMPORTADOS'!Q109","v":1.8333333333333299},{"$f":"'[1]HOJA GENERAL DATOS IMPORTADOS'!R109","v":2},{"$f":"'[1]HOJA GENERAL DATOS IMPORTADOS'!S109","v":68},{"$f":"'[1]HOJA GENERAL DATOS IMPORTADOS'!T109","v":0},{"$f":"'[1]HOJA GENERAL DATOS IMPORTADOS'!U109","v":0},{"$f":"'[1]HOJA GENERAL DATOS IMPORTADOS'!V109","v":0},{"$f":"'[1]HOJA GENERAL DATOS IMPORTADOS'!W109","v":0},{"$f":"'[1]HOJA GENERAL DATOS IMPORTADOS'!X109","v":0},{"$f":"'[1]HOJA GENERAL DATOS IMPORTADOS'!Y109","v":0},{"$f":"'[1]HOJA GENERAL DATOS IMPORTADOS'!Z109","v":0},{"$f":"'[1]HOJA GENERAL DATOS IMPORTADOS'!AA109","v":0},{"$f":"'[1]HOJA GENERAL DATOS IMPORTADOS'!AB109","v":0},{"$f":"'[1]HOJA GENERAL DATOS IMPORTADOS'!AC109","v":0},{"$f":"'[1]HOJA GENERAL DATOS IMPORTADOS'!AD109","v":0},{"$f":"'[1]HOJA GENERAL DATOS IMPORTADOS'!AE109","v":0},{"$f":"'[1]HOJA GENERAL DATOS IMPORTADOS'!AF109","v":0},{"$f":"'[1]HOJA GENERAL DATOS IMPORTADOS'!AG109","v":0},{"$f":"'[1]HOJA GENERAL DATOS IMPORTADOS'!AH109","v":0},{"$f":"'[1]HOJA GENERAL DATOS IMPORTADOS'!AI109","v":0}]
[{"$f":"'[1]HOJA GENERAL DATOS IMPORTADOS'!A110","v":"OVINO"},null,null,null,null,null,null,{"$f":"'[1]HOJA GENERAL DATOS IMPORTADOS'!H110","v":7},{"$f":"'[1]HOJA GENERAL DATOS IMPORTADOS'!I110","v":46},{"$f":"'[1]HOJA GENERAL DATOS IMPORTADOS'!J110","v":1},{"$f":"'[1]HOJA GENERAL DATOS IMPORTADOS'!K110","v":110.666666666667},{"$f":"'[1]HOJA GENERAL DATOS IMPORTADOS'!L110","v":0.117658971243418},{"$f":"'[1]HOJA GENERAL DATOS IMPORTADOS'!M110","v":7.4422843256379103E-3},{"$f":"'[1]HOJA GENERAL DATOS IMPORTADOS'!N110","v":4.8906439854191998E-2},{"$f":"'[1]HOJA GENERAL DATOS IMPORTADOS'!O110","v":1.0631834750911299E-3},{"$f":"'[1]HOJA GENERAL DATOS IMPORTADOS'!P110","v":940.57142857142901},{"$f":"'[1]HOJA GENERAL DATOS IMPORTADOS'!Q110","v":110.666666666667},{"$f":"'[1]HOJA GENERAL DATOS IMPORTADOS'!R110","v":7},{"$f":"'[1]HOJA GENERAL DATOS IMPORTADOS'!S110","v":46},{"$f":"'[1]HOJA GENERAL DATOS IMPORTADOS'!T110","v":1},{"$f":"'[1]HOJA GENERAL DATOS IMPORTADOS'!U110","v":0},{"$f":"'[1]HOJA GENERAL DATOS IMPORTADOS'!V110","v":0},{"$f":"'[1]HOJA GENERAL DATOS IMPORTADOS'!W110","v":0},{"$f":"'[1]HOJA GENERAL DATOS IMPORTADOS'!X110","v":0},{"$f":"'[1]HOJA GENERAL DATOS IMPORTADOS'!Y110","v":0},{"$f":"'[1]HOJA GENERAL DATOS IMPORTADOS'!Z110","v":0},{"$f":"'[1]HOJA GENERAL DATOS IMPORTADOS'!AA110","v":0},{"$f":"'[1]HOJA GENERAL DATOS IMPORTADOS'!AB110","v":0},{"$f":"'[1]HOJA GENERAL DATOS IMPORTADOS'!AC110","v":0},{"$f":"'[1]HOJA GENERAL DATOS IMPORTADOS'!AD110","v":0},{"$f":"'[1]HOJA GENERAL DATOS IMPORTADOS'!AE110","v":0},{"$f":"'[1]HOJA GENERAL DATOS IMPORTADOS'!AF110","v":0},{"$f":"'[1]HOJA GENERAL DATOS IMPORTADOS'!AG110","v":0},{"$f":"'[1]HOJA GENERAL DATOS IMPORTADOS'!AH110","v":0},{"$f":"'[1]HOJA GENERAL DATOS IMPORTADOS'!AI110","v":0}]
[{"$f":"'[1]HOJA GENERAL DATOS IMPORTADOS'!A111","v":"OVINO"},null,null,null,null,null,null,{"$f":"'[1]HOJA GENERAL DATOS IMPORTADOS'!H111","v":1},{"$f":"'[1]HOJA GENERAL DATOS IMPORTADOS'!I111","v":69},{"$f":"'[1]HOJA GENERAL DATOS IMPORTADOS'!J111","v":3},{"$f":"'[1]HOJA GENERAL DATOS IMPORTADOS'!K111","v":61.1666666666667},{"$f":"'[1]HOJA GENERAL DATOS IMPORTADOS'!L111","v":6.7480956133438394E-2},{"$f":"'[1]HOJA GENERAL DATOS IMPORTADOS'!M111","v":1.1032308904649301E-3},{"$f":"'[1]HOJA GENERAL DATOS IMPORTADOS'!N111","v":7.6122931442080405E-2},{"$f":"'[1]HOJA GENERAL DATOS IMPORTADOS'!O111","v":3.3096926713947999E-3},{"$f":"'[1]HOJA GENERAL DATOS IMPORTADOS'!P111","v":906.42857142857099},{"$f":"'[1]HOJA GENERAL DATOS IMPORTADOS'!Q111","v":61.1666666666667},{"$f":"'[1]HOJA GENERAL DATOS IMPORTADOS'!R111","v":1},{"$f":"'[1]HOJA GENERAL DATOS IMPORTADOS'!S111","v":69},{"$f":"'[1]HOJA GENERAL DATOS IMPORTADOS'!T111","v":3},{"$f":"'[1]HOJA GENERAL DATOS IMPORTADOS'!U111","v":0},{"$f":"'[1]HOJA GENERAL DATOS IMPORTADOS'!V111","v":0},{"$f":"'[1]HOJA GENERAL DATOS IMPORTADOS'!W111","v":0},{"$f":"'[1]HOJA GENERAL DATOS IMPORTADOS'!X111","v":0},{"$f":"'[1]HOJA GENERAL DATOS IMPORTADOS'!Y111","v":0},{"$f":"'[1]HOJA GENERAL DATOS IMPORTADOS'!Z111","v":0},{"$f":"'[1]HOJA GENERAL DATOS IMPORTADOS'!AA111","v":0},{"$f":"'[1]HOJA GENERAL DATOS IMPORTADOS'!AB111","v":0},{"$f":"'[1]HOJA GENERAL DATOS IMPORTADOS'!AC111","v":0},{"$f":"'[1]HOJA GENERAL DATOS IMPORTADOS'!AD111","v":0},{"$f":"'[1]HOJA GENERAL DATOS IMPORTADOS'!AE111","v":0},{"$f":"'[1]HOJA GENERAL DATOS IMPORTADOS'!AF111","v":0},{"$f":"'[1]HOJA GENERAL DATOS IMPORTADOS'!AG111","v":0},{"$f":"'[1]HOJA GENERAL DATOS IMPORTADOS'!AH111","v":0},{"$f":"'[1]HOJA GENERAL DATOS IMPORTADOS'!AI111","v":0}]
[{"$f":"'[1]HOJA GENERAL DATOS IMPORTADOS'!A112","v":"OVINO"},null,null,null,null,null,null,{"$f":"'[1]HOJA GENERAL DATOS IMPORTADOS'!H112","v":9},{"$f":"'[1]HOJA GENERAL DATOS IMPORTADOS'!I112","v":77},{"$f":"'[1]HOJA GENERAL DATOS IMPORTADOS'!J112","v":3},{"$f":"'[1]HOJA GENERAL DATOS IMPORTADOS'!K112","v":62.25},{"$f":"'[1]HOJA GENERAL DATOS IMPORTADOS'!L112","v":7.0980615735461799E-2},{"$f":"'[1]HOJA GENERAL DATOS IMPORTADOS'!M112","v":1.0262257696693301E-2},{"$f":"'[1]HOJA GENERAL DATOS IMPORTADOS'!N112","v":8.77993158494869E-2},{"$f":"'[1]HOJA GENERAL DATOS IMPORTADOS'!O112","v":3.4207525655644199E-3},{"$f":"'[1]HOJA GENERAL DATOS IMPORTADOS'!P112","v":877},{"$f":"'[1]HOJA GENERAL DATOS IMPORTADOS'!Q112","v":62.25},{"$f":"'[1]HOJA GENERAL DATOS IMPORTADOS'!R112","v":9},{"$f":"'[1]HOJA GENERAL DATOS IMPORTADOS'!S112","v":77},{"$f":"'[1]HOJA GENERAL DATOS IMPORTADOS'!T112","v":3},{"$f":"'[1]HOJA GENERAL DATOS IMPORTADOS'!U112","v":0},{"$f":"'[1]HOJA GENERAL DATOS IMPORTADOS'!V112","v":0},{"$f":"'[1]HOJA GENERAL DATOS IMPORTADOS'!W112","v":0},{"$f":"'[1]HOJA GENERAL DATOS IMPORTADOS'!X112","v":0},{"$f":"'[1]HOJA GENERAL DATOS IMPORTADOS'!Y112","v":0},{"$f":"'[1]HOJA GENERAL DATOS IMPORTADOS'!Z112","v":0},{"$f":"'[1]HOJA GENERAL DATOS IMPORTADOS'!AA112","v":0},{"$f":"'[1]HOJA GENERAL DATOS IMPORTADOS'!AB112","v":0},{"$f":"'[1]HOJA GENERAL DATOS IMPORTADOS'!AC112","v":0},{"$f":"'[1]HOJA GENERAL DATOS IMPORTADOS'!AD112","v":0},{"$f":"'[1]HOJA GENERAL DATOS IMPORTADOS'!AE112","v":0},{"$f":"'[1]HOJA GENERAL DATOS IMPORTADOS'!AF112","v":0},{"$f":"'[1]HOJA GENERAL DATOS IMPORTADOS'!AG112","v":0},{"$f":"'[1]HOJA GENERAL DATOS IMPORTADOS'!AH112","v":0},{"$f":"'[1]HOJA GENERAL DATOS IMPORTADOS'!AI112","v":0}]
[{"$f":"'[1]HOJA GENERAL DATOS IMPORTADOS'!A113","v":"OVINO"},null,null,null,null,null,null,{"$f":"'[1]HOJA GENERAL DATOS IMPORTADOS'!H113","v":1},{"$f":"'[1]HOJA GENERAL DATOS IMPORTADOS'!I113","v":63},{"$f":"'[1]HOJA GENERAL DATOS IMPORTADOS'!J113","v":2},{"$f":"'[1]HOJA GENERAL DATOS IMPORTADOS'!K113","v":20.625},{"$f":"'[1]HOJA GENERAL DATOS IMPORTADOS'!L113","v":2.5677825425370001E-2},{"$f":"'[1]HOJA GENERAL DATOS IMPORTADOS'!M113","v":1.2449854751694601E-3},{"$f":"'[1]HOJA GENERAL DATOS IMPORTADOS'!N113","v":7.8434084935675802E-2},{"$f":"'[1]HOJA GENERAL DATOS IMPORTADOS'!O113","v":2.4899709503389102E-3},{"$f":"'[1]HOJA GENERAL DATOS IMPORTADOS'!P113","v":803.22222222222194},{"$f":"'[1]HOJA GENERAL DATOS IMPORTADOS'!Q113","v":20.625},{"$f":"'[1]HOJA GENERAL DATOS IMPORTADOS'!R113","v":1},{"$f":"'[1]HOJA GENERAL DATOS IMPORTADOS'!S113","v":63},{"$f":"'[1]HOJA GENERAL DATOS IMPORTADOS'!T113","v":2},{"$f":"'[1]HOJA GENERAL DATOS IMPORTADOS'!U113","v":0},{"$f":"'[1]HOJA GENERAL DATOS IMPORTADOS'!V113","v":0},{"$f":"'[1]HOJA GENERAL DATOS IMPORTADOS'!W113","v":0},{"$f":"'[1]HOJA GENERAL DATOS IMPORTADOS'!X113","v":0},{"$f":"'[1]HOJA GENERAL DATOS IMPORTADOS'!Y113","v":0},{"$f":"'[1]HOJA GENERAL DATOS IMPORTADOS'!Z113","v":0},{"$f":"'[1]HOJA GENERAL DATOS IMPORTADOS'!AA113","v":0},{"$f":"'[1]HOJA GENERAL DATOS IMPORTADOS'!AB113","v":0},{"$f":"'[1]HOJA GENERAL DATOS IMPORTADOS'!AC113","v":0},{"$f":"'[1]HOJA GENERAL DATOS IMPORTADOS'!AD113","v":0},{"$f":"'[1]HOJA GENERAL DATOS IMPORTADOS'!AE113","v":0},{"$f":"'[1]HOJA GENERAL DATOS IMPORTADOS'!AF113","v":0},{"$f":"'[1]HOJA GENERAL DATOS IMPORTADOS'!AG113","v":0},{"$f":"'[1]HOJA GENERAL DATOS IMPORTADOS'!AH113","v":0},{"$f":"'[1]HOJA GENERAL DATOS IMPORTADOS'!AI113","v":0}]
[{"$f":"'[1]HOJA GENERAL DATOS IMPORTADOS'!A114","v":"OVINO"},null,null,null,null,null,null,{"$f":"'[1]HOJA GENERAL DATOS IMPORTADOS'!H114","v":11},{"$f":"'[1]HOJA GENERAL DATOS IMPORTADOS'!I114","v":41},{"$f":"'[1]HOJA GENERAL DATOS IMPORTADOS'!J114","v":2},{"$f":"'[1]HOJA GENERAL DATOS IMPORTADOS'!K114","v":86.75},{"$f":"'[1]HOJA GENERAL DATOS IMPORTADOS'!L114","v":0.108302122347066},{"$f":"'[1]HOJA GENERAL DATOS IMPORTADOS'!M114","v":1.3732833957553099E-2},{"$f":"'[1]HOJA GENERAL DATOS IMPORTADOS'!N114","v":5.1186017478152303E-2},{"$f":"'[1]HOJA GENERAL DATOS IMPORTADOS'!O114","v":2.49687890137328E-3},{"$f":"'[1]HOJA GENERAL DATOS IMPORTADOS'!P114","v":801},{"$f":"'[1]HOJA GENERAL DATOS IMPORTADOS'!Q114","v":86.75},{"$f":"'[1]HOJA GENERAL DATOS IMPORTADOS'!R114","v":11},{"$f":"'[1]HOJA GENERAL DATOS IMPORTADOS'!S114","v":41},{"$f":"'[1]HOJA GENERAL DATOS IMPORTADOS'!T114","v":2},{"$f":"'[1]HOJA GENERAL DATOS IMPORTADOS'!U114","v":0},{"$f":"'[1]HOJA GENERAL DATOS IMPORTADOS'!V114","v":0},{"$f":"'[1]HOJA GENERAL DATOS IMPORTADOS'!W114","v":0},{"$f":"'[1]HOJA GENERAL DATOS IMPORTADOS'!X114","v":0},{"$f":"'[1]HOJA GENERAL DATOS IMPORTADOS'!Y114","v":0},{"$f":"'[1]HOJA GENERAL DATOS IMPORTADOS'!Z114","v":0},{"$f":"'[1]HOJA GENERAL DATOS IMPORTADOS'!AA114","v":0},{"$f":"'[1]HOJA GENERAL DATOS IMPORTADOS'!AB114","v":0},{"$f":"'[1]HOJA GENERAL DATOS IMPORTADOS'!AC114","v":0},{"$f":"'[1]HOJA GENERAL DATOS IMPORTADOS'!AD114","v":0},{"$f":"'[1]HOJA GENERAL DATOS IMPORTADOS'!AE114","v":0},{"$f":"'[1]HOJA GENERAL DATOS IMPORTADOS'!AF114","v":0},{"$f":"'[1]HOJA GENERAL DATOS IMPORTADOS'!AG114","v":0},{"$f":"'[1]HOJA GENERAL DATOS IMPORTADOS'!AH114","v":0},{"$f":"'[1]HOJA GENERAL DATOS IMPORTADOS'!AI114","v":0}]
[{"$f":"'[1]HOJA GENERAL DATOS IMPORTADOS'!A115","v":"OVINO"},null,null,null,null,null,null,{"$f":"'[1]HOJA GENERAL DATOS IMPORTADOS'!H115","v":8},{"$f":"'[1]HOJA GENERAL DATOS IMPORTADOS'!I115","v":104},{"$f":"'[1]HOJA GENERAL DATOS IMPORTADOS'!J115","v":9},{"$f":"'[1]HOJA GENERAL DATOS IMPORTADOS'!K115","v":103.25},{"$f":"'[1]HOJA GENERAL DATOS IMPORTADOS'!L115","v":0.129674853474742},{"$f":"'[1]HOJA GENERAL DATOS IMPORTADOS'!M115","v":1.0047446274071999E-2},{"$f":"'[1]HOJA GENERAL DATOS IMPORTADOS'!N115","v":0.13061680156293601},{"$f":"'[1]HOJA GENERAL DATOS IMPORTADOS'!O115","v":1.1303377058331E-2},{"$f":"'[1]HOJA GENERAL DATOS IMPORTADOS'!P115","v":796.22222222222194},{"$f":"'[1]HOJA GENERAL DATOS IMPORTADOS'!Q115","v":103.25},{"$f":"'[1]HOJA GENERAL DATOS IMPORTADOS'!R115","v":8},{"$f":"'[1]HOJA GENERAL DATOS IMPORTADOS'!S115","v":104},{"$f":"'[1]HOJA GENERAL DATOS IMPORTADOS'!T115","v":9},{"$f":"'[1]HOJA GENERAL DATOS IMPORTADOS'!U115","v":0},{"$f":"'[1]HOJA GENERAL DATOS IMPORTADOS'!V115","v":0},{"$f":"'[1]HOJA GENERAL DATOS IMPORTADOS'!W115","v":0},{"$f":"'[1]HOJA GENERAL DATOS IMPORTADOS'!X115","v":0},{"$f":"'[1]HOJA GENERAL DATOS IMPORTADOS'!Y115","v":0},{"$f":"'[1]HOJA GENERAL DATOS IMPORTADOS'!Z115","v":0},{"$f":"'[1]HOJA GENERAL DATOS IMPORTADOS'!AA115","v":0},{"$f":"'[1]HOJA GENERAL DATOS IMPORTADOS'!AB115","v":0},{"$f":"'[1]HOJA GENERAL DATOS IMPORTADOS'!AC115","v":0},{"$f":"'[1]HOJA GENERAL DATOS IMPORTADOS'!AD115","v":0},{"$f":"'[1]HOJA GENERAL DATOS IMPORTADOS'!AE115","v":0},{"$f":"'[1]HOJA GENERAL DATOS IMPORTADOS'!AF115","v":0},{"$f":"'[1]HOJA GENERAL DATOS IMPORTADOS'!AG115","v":0},{"$f":"'[1]HOJA GENERAL DATOS IMPORTADOS'!AH115","v":0},{"$f":"'[1]HOJA GENERAL DATOS IMPORTADOS'!AI115","v":0}]
[{"$f":"'[1]HOJA GENERAL DATOS IMPORTADOS'!A116","v":0},{"$f":"'[1]HOJA GENERAL DATOS IMPORTADOS'!B116","v":0},{"$f":"'[1]HOJA GENERAL DATOS IMPORTADOS'!C116","v":0},{"$f":"'[1]HOJA GENERAL DATOS IMPORTADOS'!D116","v":0},{"$f":"'[1]HOJA GENERAL DATOS IMPORTADOS'!E116","v":0},{"$f":"'[1]HOJA GENERAL DATOS IMPORTADOS'!F116","v":0},{"$f":"'[1]HOJA GENERAL DATOS IMPORTADOS'!G116","v":0},{"$f":"'[1]HOJA GENERAL DATOS IMPORTADOS'!H116","v":0},{"$f":"'[1]HOJA GENERAL DATOS IMPORTADOS'!I116","v":0},{"$f":"'[1]HOJA GENERAL DATOS IMPORTADOS'!J116","v":0},{"$f":"'[1]HOJA GENERAL DATOS IMPORTADOS'!K116","v":0},{"$f":"'[1]HOJA GENERAL DATOS IMPORTADOS'!L116","v":0},{"$f":"'[1]HOJA GENERAL DATOS IMPORTADOS'!M116","v":0},{"$f":"'[1]HOJA GENERAL DATOS IMPORTADOS'!N116","v":0},{"$f":"'[1]HOJA GENERAL DATOS IMPORTADOS'!O116","v":0},{"$f":"'[1]HOJA GENERAL DATOS IMPORTADOS'!P116","v":0},{"$f":"'[1]HOJA GENERAL DATOS IMPORTADOS'!Q116","v":0},{"$f":"'[1]HOJA GENERAL DATOS IMPORTADOS'!R116","v":0},{"$f":"'[1]HOJA GENERAL DATOS IMPORTADOS'!S116","v":0},{"$f":"'[1]HOJA GENERAL DATOS IMPORTADOS'!T116","v":0},{"$f":"'[1]HOJA GENERAL DATOS IMPORTADOS'!U116","v":0},{"$f":"'[1]HOJA GENERAL DATOS IMPORTADOS'!V116","v":0},{"$f":"'[1]HOJA GENERAL DATOS IMPORTADOS'!W116","v":0},{"$f":"'[1]HOJA GENERAL DATOS IMPORTADOS'!X116","v":0},{"$f":"'[1]HOJA GENERAL DATOS IMPORTADOS'!Y116","v":0},{"$f":"'[1]HOJA GENERAL DATOS IMPORTADOS'!Z116","v":0},{"$f":"'[1]HOJA GENERAL DATOS IMPORTADOS'!AA116","v":0},{"$f":"'[1]HOJA GENERAL DATOS IMPORTADOS'!AB116","v":0},{"$f":"'[1]HOJA GENERAL DATOS IMPORTADOS'!AC116","v":0},{"$f":"'[1]HOJA GENERAL DATOS IMPORTADOS'!AD116","v":0},{"$f":"'[1]HOJA GENERAL DATOS IMPORTADOS'!AE116","v":0},{"$f":"'[1]HOJA GENERAL DATOS IMPORTADOS'!AF116","v":0},{"$f":"'[1]HOJA GENERAL DATOS IMPORTADOS'!AG116","v":0},{"$f":"'[1]HOJA GENERAL DATOS IMPORTADOS'!AH116","v":0},{"$f":"'[1]HOJA GENERAL DATOS IMPORTADOS'!AI116","v":0}]
[{"$f":"'[1]HOJA GENERAL DATOS IMPORTADOS'!A117","v":0},{"$f":"'[1]HOJA GENERAL DATOS IMPORTADOS'!B117","v":0},{"$f":"'[1]HOJA GENERAL DATOS IMPORTADOS'!C117","v":0},{"$f":"'[1]HOJA GENERAL DATOS IMPORTADOS'!D117","v":0},{"$f":"'[1]HOJA GENERAL DATOS IMPORTADOS'!E117","v":0},{"$f":"'[1]HOJA GENERAL DATOS IMPORTADOS'!F117","v":0},{"$f":"'[1]HOJA GENERAL DATOS IMPORTADOS'!G117","v":0},{"$f":"'[1]HOJA GENERAL DATOS IMPORTADOS'!H117","v":0},{"$f":"'[1]HOJA GENERAL DATOS IMPORTADOS'!I117","v":0},{"$f":"'[1]HOJA GENERAL DATOS IMPORTADOS'!J117","v":0},{"$f":"'[1]HOJA GENERAL DATOS IMPORTADOS'!K117","v":0},{"$f":"'[1]HOJA GENERAL DATOS IMPORTADOS'!L117","v":0},{"$f":"'[1]HOJA GENERAL DATOS IMPORTADOS'!M117","v":0},{"$f":"'[1]HOJA GENERAL DATOS IMPORTADOS'!N117","v":0},{"$f":"'[1]HOJA GENERAL DATOS IMPORTADOS'!O117","v":0},{"$f":"'[1]HOJA GENERAL DATOS IMPORTADOS'!P117","v":0},{"$f":"'[1]HOJA GENERAL DATOS IMPORTADOS'!Q117","v":0},{"$f":"'[1]HOJA GENERAL DATOS IMPORTADOS'!R117","v":0},{"$f":"'[1]HOJA GENERAL DATOS IMPORTADOS'!S117","v":0},{"$f":"'[1]HOJA GENERAL DATOS IMPORTADOS'!T117","v":0},{"$f":"'[1]HOJA GENERAL DATOS IMPORTADOS'!U117","v":0},{"$f":"'[1]HOJA GENERAL DATOS IMPORTADOS'!V117","v":0},{"$f":"'[1]HOJA GENERAL DATOS IMPORTADOS'!W117","v":0},{"$f":"'[1]HOJA GENERAL DATOS IMPORTADOS'!X117","v":0},{"$f":"'[1]HOJA GENERAL DATOS IMPORTADOS'!Y117","v":0},{"$f":"'[1]HOJA GENERAL DATOS IMPORTADOS'!Z117","v":0},{"$f":"'[1]HOJA GENERAL DATOS IMPORTADOS'!AA117","v":0},{"$f":"'[1]HOJA GENERAL DATOS IMPORTADOS'!AB117","v":0},{"$f":"'[1]HOJA GENERAL DATOS IMPORTADOS'!AC117","v":0},{"$f":"'[1]HOJA GENERAL DATOS IMPORTADOS'!AD117","v":0},{"$f":"'[1]HOJA GENERAL DATOS IMPORTADOS'!AE117","v":0},{"$f":"'[1]HOJA GENERAL DATOS IMPORTADOS'!AF117","v":0},{"$f":"'[1]HOJA GENERAL DATOS IMPORTADOS'!AG117","v":0},{"$f":"'[1]HOJA GENERAL DATOS IMPORTADOS'!AH117","v":0},{"$f":"'[1]HOJA GENERAL DATOS IMPORTADOS'!AI117","v":0}]
[{"$f":"'[1]HOJA GENERAL DATOS IMPORTADOS'!A118","v":"COND CORP"},{"$f":"'[1]HOJA GENERAL DATOS IMPORTADOS'!B118","v":"ESPECIE"},{"$f":"'[1]HOJA GENERAL DATOS IMPORTADOS'!C118","v":"TIPO EXPLOTACION"},{"$f":"'[1]HOJA GENERAL DATOS IMPORTADOS'!D118","v":"PromedioDeTEMPERATURA"},{"$f":"'[1]HOJA GENERAL DATOS IMPORTADOS'!E118","v":"PromedioDeCORRIENTES AIRE"},{"$f":"'[1]HOJA GENERAL DATOS IMPORTADOS'!F118","v":"PromedioDeVENTILACION"},{"$f":"'[1]HOJA GENERAL DATOS IMPORTADOS'!G118","v":"PromedioDeAMBIENTE CARGADO"},{"$f":"'[1]HOJA GENERAL DATOS IMPORTADOS'!H118","v":"PromedioDeDENSIDAD ANIMALES"},{"$f":"'[1]HOJA GENERAL DATOS IMPORTADOS'!I118","v":"PromedioDeCALIDAD CAMA"},{"$f":"'[1]HOJA GENERAL DATOS IMPORTADOS'!J118","v":"PromedioDeCONFORT ANIMALES"},{"$f":"'[1]HOJA GENERAL DATOS IMPORTADOS'!K118","v":"PromedioDeANIMALES ESTRESADOS"},{"$f":"'[1]HOJA GENERAL DATOS IMPORTADOS'!L118","v":"PromedioDeCOMEDEROS PIENSO"},{"$f":"'[1]HOJA GENERAL DATOS IMPORTADOS'!M118","v":"PromedioDeCOMEDEROS PAJA"},{"$f":"'[1]HOJA GENERAL DATOS IMPORTADOS'!N118","v":"PromedioDeBEBEDEROS"},{"$f":"'[1]HOJA GENERAL DATOS IMPORTADOS'!O118","v":"PromedioDeCONSISTENCIA HECES"},{"$f":"'[1]HOJA GENERAL DATOS IMPORTADOS'!P118","v":"PromedioDeESTADO CORPORAL"},{"$f":"'[1]HOJA GENERAL DATOS IMPORTADOS'!Q118","v":"PromedioDeLIMPIEZA ANIMALES"},{"$f":"'[1]HOJA GENERAL DATOS IMPORTADOS'!R118","v":"CuentaDeNº VISITA"},{"$f":"'[1]HOJA GENERAL DATOS IMPORTADOS'!S118","v":"PromedioDeESTADO PEZUÑAS"},{"$f":"'[1]HOJA GENERAL DATOS IMPORTADOS'!T118","v":0},{"$f":"'[1]HOJA GENERAL DATOS IMPORTADOS'!U118","v":0},{"$f":"'[1]HOJA GENERAL DATOS IMPORTADOS'!V118","v":0},{"$f":"'[1]HOJA GENERAL DATOS IMPORTADOS'!W118","v":0},{"$f":"'[1]HOJA GENERAL DATOS IMPORTADOS'!X118","v":0},{"$f":"'[1]HOJA GENERAL DATOS IMPORTADOS'!Y118","v":0},{"$f":"'[1]HOJA GENERAL DATOS IMPORTADOS'!Z118","v":0},{"$f":"'[1]HOJA GENERAL DATOS IMPORTADOS'!AA118","v":0},{"$f":"'[1]HOJA GENERAL DATOS IMPORTADOS'!AB118","v":0},{"$f":"'[1]HOJA GENERAL DATOS IMPORTADOS'!AC118","v":0},{"$f":"'[1]HOJA GENERAL DATOS IMPORTADOS'!AD118","v":0},{"$f":"'[1]HOJA GENERAL DATOS IMPORTADOS'!AE118","v":0},{"$f":"'[1]HOJA GENERAL DATOS IMPORTADOS'!AF118","v":0},{"$f":"'[1]HOJA GENERAL DATOS IMPORTADOS'!AG118","v":0},{"$f":"'[1]HOJA GENERAL DATOS IMPORTADOS'!AH118","v":0},{"$f":"'[1]HOJA GENERAL DATOS IMPORTADOS'!AI118","v":0}]
[{"$f":"'[1]HOJA GENERAL DATOS IMPORTADOS'!A119","v":2.9043010752688199},{"$f":"'[1]HOJA GENERAL DATOS IMPORTADOS'!B119","v":"CAPRINO"},{"$f":"'[1]HOJA GENERAL DATOS IMPORTADOS'!C119","v":"ORDEÑO"},{"$f":"'[1]HOJA GENERAL DATOS IMPORTADOS'!D119","v":6.1505376344086002},{"$f":"'[1]HOJA GENERAL DATOS IMPORTADOS'!E119","v":6.2473118279569899},{"$f":"'[1]HOJA GENERAL DATOS IMPORTADOS'!F119","v":5.5913978494623704},{"$f":"'[1]HOJA GENERAL DATOS IMPORTADOS'!G119","v":5.5806451612903203},{"$f":"'[1]HOJA GENERAL DATOS IMPORTADOS'!H119","v":6.2795698924731198},{"$f":"'[1]HOJA GENERAL DATOS IMPORTADOS'!I119","v":6.1182795698924703},{"$f":"'[1]HOJA GENERAL DATOS IMPORTADOS'!J119","v":6},{"$f":"'[1]HOJA GENERAL DATOS IMPORTADOS'!K119","v":5.8279569892473102},{"$f":"'[1]HOJA GENERAL DATOS IMPORTADOS'!L119","v":5.9247311827956999},{"$f":"'[1]HOJA GENERAL DATOS IMPORTADOS'!M119","v":6.3440860215053796},{"$f":"'[1]HOJA GENERAL DATOS IMPORTADOS'!N119","v":5.7634408602150504},{"$f":"'[1]HOJA GENERAL DATOS IMPORTADOS'!O119","v":3.3333333333333299},{"$f":"'[1]HOJA GENERAL DATOS IMPORTADOS'!P119","v":290.43010752688201},{"$f":"'[1]HOJA GENERAL DATOS IMPORTADOS'!Q119","v":6.8602150537634401},{"$f":"'[1]HOJA GENERAL DATOS IMPORTADOS'!R119","v":93},{"$f":"'[1]HOJA GENERAL DATOS IMPORTADOS'!S119","v":5.8666666666666698},{"$f":"'[1]HOJA GENERAL DATOS IMPORTADOS'!T119","v":0},{"$f":"'[1]HOJA GENERAL DATOS IMPORTADOS'!U119","v":0},{"$f":"'[1]HOJA GENERAL DATOS IMPORTADOS'!V119","v":0},{"$f":"'[1]HOJA GENERAL DATOS IMPORTADOS'!W119","v":0},{"$f":"'[1]HOJA GENERAL DATOS IMPORTADOS'!X119","v":0},{"$f":"'[1]HOJA GENERAL DATOS IMPORTADOS'!Y119","v":0},{"$f":"'[1]HOJA GENERAL DATOS IMPORTADOS'!Z119","v":0},{"$f":"'[1]HOJA GENERAL DATOS IMPORTADOS'!AA119","v":0},{"$f":"'[1]HOJA GENERAL DATOS IMPORTADOS'!AB119","v":0},{"$f":"'[1]HOJA GENERAL DATOS IMPORTADOS'!AC119","v":0},{"$f":"'[1]HOJA GENERAL DATOS IMPORTADOS'!AD119","v":0},{"$f":"'[1]HOJA GENERAL DATOS IMPORTADOS'!AE119","v":0},{"$f":"'[1]HOJA GENERAL DATOS IMPORTADOS'!AF119","v":0},{"$f":"'[1]HOJA GENERAL DATOS IMPORTADOS'!AG119","v":0},{"$f":"'[1]HOJA GENERAL DATOS IMPORTADOS'!AH119","v":0},{"$f":"'[1]HOJA GENERAL DATOS IMPORTADOS'!AI119","v":0}]
[{"$f":"'[1]HOJA GENERAL DATOS IMPORTADOS'!A120","v":3.0792079207920802},{"$f":"'[1]HOJA GENERAL DATOS IMPORTADOS'!B120","v":"OVINO"},{"$f":"'[1]HOJA GENERAL DATOS IMPORTADOS'!C120","v":"ORDEÑO"},{"$f":"'[1]HOJA GENERAL DATOS IMPORTADOS'!D120","v":6.2277227722772297},{"$f":"'[1]HOJA GENERAL DATOS IMPORTADOS'!E120","v":6.28712871287129},{"$f":"'[1]HOJA GENERAL DATOS IMPORTADOS'!F120","v":5.8811881188118802},{"$f":"'[1]HOJA GENERAL DATOS IMPORTADOS'!G120","v":5.71287128712871},{"$f":"'[1]HOJA GENERAL DATOS IMPORTADOS'!H120","v":6.0594059405940603},{"$f":"'[1]HOJA GENERAL DATOS IMPORTADOS'!I120","v":6},{"$f":"'[1]HOJA GENERAL DATOS IMPORTADOS'!J120","v":5.9405940594059397},{"$f":"'[1]HOJA GENERAL DATOS IMPORTADOS'!K120","v":5.6633663366336604},{"$f":"'[1]HOJA GENERAL DATOS IMPORTADOS'!L120","v":6.0099009900990099},{"$f":"'[1]HOJA GENERAL DATOS IMPORTADOS'!M120","v":6.0099009900990099},{"$f":"'[1]HOJA GENERAL DATOS IMPORTADOS'!N120","v":5.6831683168316802},{"$f":"'[1]HOJA GENERAL DATOS IMPORTADOS'!O120","v":3.4653465346534702},{"$f":"'[1]HOJA GENERAL DATOS IMPORTADOS'!P120","v":307.92079207920801},{"$f":"'[1]HOJA GENERAL DATOS IMPORTADOS'!Q120","v":6.1584158415841603},{"$f":"'[1]HOJA GENERAL DATOS IMPORTADOS'!R120","v":101},{"$f":"'[1]HOJA GENERAL DATOS IMPORTADOS'!S120","v":5.3529411764705896},{"$f":"'[1]HOJA GENERAL DATOS IMPORTADOS'!T120","v":0},{"$f":"'[1]HOJA GENERAL DATOS IMPORTADOS'!U120","v":0},{"$f":"'[1]HOJA GENERAL DATOS IMPORTADOS'!V120","v":0},{"$f":"'[1]HOJA GENERAL DATOS IMPORTADOS'!W120","v":0},{"$f":"'[1]HOJA GENERAL DATOS IMPORTADOS'!X120","v":0},{"$f":"'[1]HOJA GENERAL DATOS IMPORTADOS'!Y120","v":0},{"$f":"'[1]HOJA GENERAL DATOS IMPORTADOS'!Z120","v":0},{"$f":"'[1]HOJA GENERAL DATOS IMPORTADOS'!AA120","v":0},{"$f":"'[1]HOJA GENERAL DATOS IMPORTADOS'!AB120","v":0},{"$f":"'[1]HOJA GENERAL DATOS IMPORTADOS'!AC120","v":0},{"$f":"'[1]HOJA GENERAL DATOS IMPORTADOS'!AD120","v":0},{"$f":"'[1]HOJA GENERAL DATOS IMPORTADOS'!AE120","v":0},{"$f":"'[1]HOJA GENERAL DATOS IMPORTADOS'!AF120","v":0},{"$f":"'[1]HOJA GENERAL DATOS IMPORTADOS'!AG120","v":0},{"$f":"'[1]HOJA GENERAL DATOS IMPORTADOS'!AH120","v":0},{"$f":"'[1]HOJA GENERAL DATOS IMPORTADOS'!AI120","v":0}]
[{"$f":"'[1]HOJA GENERAL DATOS IMPORTADOS'!A121","v":0},{"$f":"'[1]HOJA GENERAL DATOS IMPORTADOS'!B121","v":0},{"$f":"'[1]HOJA GENERAL DATOS IMPORTADOS'!C121","v":0},{"$f":"'[1]HOJA GENERAL DATOS IMPORTADOS'!D121","v":0},{"$f":"'[1]HOJA GENERAL DATOS IMPORTADOS'!E121","v":0},{"$f":"'[1]HOJA GENERAL DATOS IMPORTADOS'!F121","v":0},{"$f":"'[1]HOJA GENERAL DATOS IMPORTADOS'!G121","v":0},{"$f":"'[1]HOJA GENERAL DATOS IMPORTADOS'!H121","v":0},{"$f":"'[1]HOJA GENERAL DATOS IMPORTADOS'!I121","v":0},{"$f":"'[1]HOJA GENERAL DATOS IMPORTADOS'!J121","v":0},{"$f":"'[1]HOJA GENERAL DATOS IMPORTADOS'!K121","v":0},{"$f":"'[1]HOJA GENERAL DATOS IMPORTADOS'!L121","v":0},{"$f":"'[1]HOJA GENERAL DATOS IMPORTADOS'!M121","v":0},{"$f":"'[1]HOJA GENERAL DATOS IMPORTADOS'!N121","v":0},{"$f":"'[1]HOJA GENERAL DATOS IMPORTADOS'!O121","v":0},{"$f":"'[1]HOJA GENERAL DATOS IMPORTADOS'!P121","v":0},{"$f":"'[1]HOJA GENERAL DATOS IMPORTADOS'!Q121","v":0},{"$f":"'[1]HOJA GENERAL DATOS IMPORTADOS'!R121","v":0},{"$f":"'[1]HOJA GENERAL DATOS IMPORTADOS'!S121","v":0},{"$f":"'[1]HOJA GENERAL DATOS IMPORTADOS'!T121","v":0},{"$f":"'[1]HOJA GENERAL DATOS IMPORTADOS'!U121","v":0},{"$f":"'[1]HOJA GENERAL DATOS IMPORTADOS'!V121","v":0},{"$f":"'[1]HOJA GENERAL DATOS IMPORTADOS'!W121","v":0},{"$f":"'[1]HOJA GENERAL DATOS IMPORTADOS'!X121","v":0},{"$f":"'[1]HOJA GENERAL DATOS IMPORTADOS'!Y121","v":0},{"$f":"'[1]HOJA GENERAL DATOS IMPORTADOS'!Z121","v":0},{"$f":"'[1]HOJA GENERAL DATOS IMPORTADOS'!AA121","v":0},{"$f":"'[1]HOJA GENERAL DATOS IMPORTADOS'!AB121","v":0},{"$f":"'[1]HOJA GENERAL DATOS IMPORTADOS'!AC121","v":0},{"$f":"'[1]HOJA GENERAL DATOS IMPORTADOS'!AD121","v":0},{"$f":"'[1]HOJA GENERAL DATOS IMPORTADOS'!AE121","v":0},{"$f":"'[1]HOJA GENERAL DATOS IMPORTADOS'!AF121","v":0},{"$f":"'[1]HOJA GENERAL DATOS IMPORTADOS'!AG121","v":0},{"$f":"'[1]HOJA GENERAL DATOS IMPORTADOS'!AH121","v":0},{"$f":"'[1]HOJA GENERAL DATOS IMPORTADOS'!AI121","v":0}]
[{"$f":"'[1]HOJA GENERAL DATOS IMPORTADOS'!A122","v":0},{"$f":"'[1]HOJA GENERAL DATOS IMPORTADOS'!B122","v":0},{"$f":"'[1]HOJA GENERAL DATOS IMPORTADOS'!C122","v":0},{"$f":"'[1]HOJA GENERAL DATOS IMPORTADOS'!D122","v":0},{"$f":"'[1]HOJA GENERAL DATOS IMPORTADOS'!E122","v":0},{"$f":"'[1]HOJA GENERAL DATOS IMPORTADOS'!F122","v":0},{"$f":"'[1]HOJA GENERAL DATOS IMPORTADOS'!G122","v":0},{"$f":"'[1]HOJA GENERAL DATOS IMPORTADOS'!H122","v":0},{"$f":"'[1]HOJA GENERAL DATOS IMPORTADOS'!I122","v":0},{"$f":"'[1]HOJA GENERAL DATOS IMPORTADOS'!J122","v":0},{"$f":"'[1]HOJA GENERAL DATOS IMPORTADOS'!K122","v":0},{"$f":"'[1]HOJA GENERAL DATOS IMPORTADOS'!L122","v":0},{"$f":"'[1]HOJA GENERAL DATOS IMPORTADOS'!M122","v":0},{"$f":"'[1]HOJA GENERAL DATOS IMPORTADOS'!N122","v":0},{"$f":"'[1]HOJA GENERAL DATOS IMPORTADOS'!O122","v":0},{"$f":"'[1]HOJA GENERAL DATOS IMPORTADOS'!P122","v":0},{"$f":"'[1]HOJA GENERAL DATOS IMPORTADOS'!Q122","v":0},{"$f":"'[1]HOJA GENERAL DATOS IMPORTADOS'!R122","v":0},{"$f":"'[1]HOJA GENERAL DATOS IMPORTADOS'!S122","v":0},{"$f":"'[1]HOJA GENERAL DATOS IMPORTADOS'!T122","v":0},{"$f":"'[1]HOJA GENERAL DATOS IMPORTADOS'!U122","v":0},{"$f":"'[1]HOJA GENERAL DATOS IMPORTADOS'!V122","v":0},{"$f":"'[1]HOJA GENERAL DATOS IMPORTADOS'!W122","v":0},{"$f":"'[1]HOJA GENERAL DATOS IMPORTADOS'!X122","v":0},{"$f":"'[1]HOJA GENERAL DATOS IMPORTADOS'!Y122","v":0},{"$f":"'[1]HOJA GENERAL DATOS IMPORTADOS'!Z122","v":0},{"$f":"'[1]HOJA GENERAL DATOS IMPORTADOS'!AA122","v":0},{"$f":"'[1]HOJA GENERAL DATOS IMPORTADOS'!AB122","v":0},{"$f":"'[1]HOJA GENERAL DATOS IMPORTADOS'!AC122","v":0},{"$f":"'[1]HOJA GENERAL DATOS IMPORTADOS'!AD122","v":0},{"$f":"'[1]HOJA GENERAL DATOS IMPORTADOS'!AE122","v":0},{"$f":"'[1]HOJA GENERAL DATOS IMPORTADOS'!AF122","v":0},{"$f":"'[1]HOJA GENERAL DATOS IMPORTADOS'!AG122","v":0},{"$f":"'[1]HOJA GENERAL DATOS IMPORTADOS'!AH122","v":0},{"$f":"'[1]HOJA GENERAL DATOS IMPORTADOS'!AI122","v":0}]
[{"$f":"'[1]HOJA GENERAL DATOS IMPORTADOS'!A123","v":"COND CORP"},{"$f":"'[1]HOJA GENERAL DATOS IMPORTADOS'!B123","v":"ESPECIE"},{"$f":"'[1]HOJA GENERAL DATOS IMPORTADOS'!C123","v":"TIPO EXPLOTACION"},{"$f":"'[1]HOJA GENERAL DATOS IMPORTADOS'!D123","v":"DesvEstDeTEMPERATURA"},{"$f":"'[1]HOJA GENERAL DATOS IMPORTADOS'!E123","v":"DesvEstDeCORRIENTES AIRE"},{"$f":"'[1]HOJA GENERAL DATOS IMPORTADOS'!F123","v":"DesvEstDeVENTILACION"},{"$f":"'[1]HOJA GENERAL DATOS IMPORTADOS'!G123","v":"DesvEstDeAMBIENTE CARGADO"},{"$f":"'[1]HOJA GENERAL DATOS IMPORTADOS'!H123","v":"DesvEstDeDENSIDAD ANIMALES"},{"$f":"'[1]HOJA GENERAL DATOS IMPORTADOS'!I123","v":"DesvEstDeCALIDAD CAMA"},{"$f":"'[1]HOJA GENERAL DATOS IMPORTADOS'!J123","v":"DesvEstDeCONFORT ANIMALES"},{"$f":"'[1]HOJA GENERAL DATOS IMPORTADOS'!K123","v":"DesvEstDeANIMALES ESTRESADOS"},{"$f":"'[1]HOJA GENERAL DATOS IMPORTADOS'!L123","v":"DesvEstDeCOMEDEROS PIENSO"},{"$f":"'[1]HOJA GENERAL DATOS IMPORTADOS'!M123","v":"DesvEstDeCOMEDEROS PAJA"},{"$f":"'[1]HOJA GENERAL DATOS IMPORTADOS'!N123","v":"DesvEstDeBEBEDEROS"},{"$f":"'[1]HOJA GENERAL DATOS IMPORTADOS'!O123","v":"DesvEstDeCONSISTENCIA HECES"},{"$f":"'[1]HOJA GENERAL DATOS IMPORTADOS'!P123","v":"DesvEstDeESTADO CORPORAL"},{"$f":"'[1]HOJA GENERAL DATOS IMPORTADOS'!Q123","v":"DesvEstDeLIMPIEZA ANIMALES"},{"$f":"'[1]HOJA GENERAL DATOS IMPORTADOS'!R123","v":"DesvEstDeESTADO PEZUÑAS"},{"$f":"'[1]HOJA GENERAL DATOS IMPORTADOS'!S123","v":0},{"$f":"'[1]HOJA GENERAL DATOS IMPORTADOS'!T123","v":0},{"$f":"'[1]HOJA GENERAL DATOS IMPORTADOS'!U123","v":0},{"$f":"'[1]HOJA GENERAL DATOS IMPORTADOS'!V123","v":0},{"$f":"'[1]HOJA GENERAL DATOS IMPORTADOS'!W123","v":0},{"$f":"'[1]HOJA GENERAL DATOS IMPORTADOS'!X123","v":0},{"$f":"'[1]HOJA GENERAL DATOS IMPORTADOS'!Y123","v":0},{"$f":"'[1]HOJA GENERAL DATOS IMPORTADOS'!Z123","v":0},{"$f":"'[1]HOJA GENERAL DATOS IMPORTADOS'!AA123","v":0},{"$f":"'[1]HOJA GENERAL DATOS IMPORTADOS'!AB123","v":0},{"$f":"'[1]HOJA GENERAL DATOS IMPORTADOS'!AC123","v":0},{"$f":"'[1]HOJA GENERAL DATOS IMPORTADOS'!AD123","v":0},{"$f":"'[1]HOJA GENERAL DATOS IMPORTADOS'!AE123","v":0},{"$f":"'[1]HOJA GENERAL DATOS IMPORTADOS'!AF123","v":0},{"$f":"'[1]HOJA GENERAL DATOS IMPORTADOS'!AG123","v":0},{"$f":"'[1]HOJA GENERAL DATOS IMPORTADOS'!AH123","v":0},{"$f":"'[1]HOJA GENERAL DATOS IMPORTADOS'!AI123","v":0}]
[{"$f":"'[1]HOJA GENERAL DATOS IMPORTADOS'!A124","v":0.35152276767584101},{"$f":"'[1]HOJA GENERAL DATOS IMPORTADOS'!B124","v":"CAPRINO"},{"$f":"'[1]HOJA GENERAL DATOS IMPORTADOS'!C124","v":"ORDEÑO"},{"$f":"'[1]HOJA GENERAL DATOS IMPORTADOS'!D124","v":0.96623694725578002},{"$f":"'[1]HOJA GENERAL DATOS IMPORTADOS'!E124","v":0.78927476312524103},{"$f":"'[1]HOJA GENERAL DATOS IMPORTADOS'!F124","v":0.95822026082534595},{"$f":"'[1]HOJA GENERAL DATOS IMPORTADOS'!G124","v":0.99260943592438},{"$f":"'[1]HOJA GENERAL DATOS IMPORTADOS'!H124","v":0.91325494556855402},{"$f":"'[1]HOJA GENERAL DATOS IMPORTADOS'!I124","v":1.0513910285446399},{"$f":"'[1]HOJA GENERAL DATOS IMPORTADOS'!J124","v":0.83405765622829897},{"$f":"'[1]HOJA GENERAL DATOS IMPORTADOS'!K124","v":0.86757603242771197},{"$f":"'[1]HOJA GENERAL DATOS IMPORTADOS'!L124","v":1.0450354595584099},{"$f":"'[1]HOJA GENERAL DATOS IMPORTADOS'!M124","v":0.85331353705415303},{"$f":"'[1]HOJA GENERAL DATOS IMPORTADOS'!N124","v":1.03627520121834},{"$f":"'[1]HOJA GENERAL DATOS IMPORTADOS'!O124","v":0.55820623688610904},{"$f":"'[1]HOJA GENERAL DATOS IMPORTADOS'!P124","v":35.152276767584098},{"$f":"'[1]HOJA GENERAL DATOS IMPORTADOS'!Q124","v":0.63573644131385099},{"$f":"'[1]HOJA GENERAL DATOS IMPORTADOS'!R124","v":1.12546286774228},{"$f":"'[1]HOJA GENERAL DATOS IMPORTADOS'!S124","v":0},{"$f":"'[1]HOJA GENERAL DATOS IMPORTADOS'!T124","v":0},{"$f":"'[1]HOJA GENERAL DATOS IMPORTADOS'!U124","v":0},{"$f":"'[1]HOJA GENERAL DATOS IMPORTADOS'!V124","v":0},{"$f":"'[1]HOJA GENERAL DATOS IMPORTADOS'!W124","v":0},{"$f":"'[1]HOJA GENERAL DATOS IMPORTADOS'!X124","v":0},{"$f":"'[1]HOJA GENERAL DATOS IMPORTADOS'!Y124","v":0},{"$f":"'[1]HOJA GENERAL DATOS IMPORTADOS'!Z124","v":0},{"$f":"'[1]HOJA GENERAL DATOS IMPORTADOS'!AA124","v":0},{"$f":"'[1]HOJA GENERAL DATOS IMPORTADOS'!AB124","v":0},{"$f":"'[1]HOJA GENERAL DATOS IMPORTADOS'!AC124","v":0},{"$f":"'[1]HOJA GENERAL DATOS IMPORTADOS'!AD124","v":0},{"$f":"'[1]HOJA GENERAL DATOS IMPORTADOS'!AE124","v":0},{"$f":"'[1]HOJA GENERAL DATOS IMPORTADOS'!AF124","v":0},{"$f":"'[1]HOJA GENERAL DATOS IMPORTADOS'!AG124","v":0},{"$f":"'[1]HOJA GENERAL DATOS IMPORTADOS'!AH124","v":0},{"$f":"'[1]HOJA GENERAL DATOS IMPORTADOS'!AI124","v":0}]
[{"$f":"'[1]HOJA GENERAL DATOS IMPORTADOS'!A125","v":0.323903328690265},{"$f":"'[1]HOJA GENERAL DATOS IMPORTADOS'!B125","v":"OVINO"},{"$f":"'[1]HOJA GENERAL DATOS IMPORTADOS'!C125","v":"ORDEÑO"},{"$f":"'[1]HOJA GENERAL DATOS IMPORTADOS'!D125","v":0.93681575690006302},{"$f":"'[1]HOJA GENERAL DATOS IMPORTADOS'!E125","v":0.84067393992399098},{"$f":"'[1]HOJA GENERAL DATOS IMPORTADOS'!F125","v":0.84008486134284399},{"$f":"'[1]HOJA GENERAL DATOS IMPORTADOS'!G125","v":0.93098478680767205},{"$f":"'[1]HOJA GENERAL DATOS IMPORTADOS'!H125","v":1.1297945138671699},{"$f":"'[1]HOJA GENERAL DATOS IMPORTADOS'!I125","v":1.03923048454133},{"$f":"'[1]HOJA GENERAL DATOS IMPORTADOS'!J125","v":0.89243243081163104},{"$f":"'[1]HOJA GENERAL DATOS IMPORTADOS'!K125","v":0.97239115301171097},{"$f":"'[1]HOJA GENERAL DATOS IMPORTADOS'!L125","v":0.93268482892079396},{"$f":"'[1]HOJA GENERAL DATOS IMPORTADOS'!M125","v":0.98483551423524995},{"$f":"'[1]HOJA GENERAL DATOS IMPORTADOS'!N125","v":0.926614192307747},{"$f":"'[1]HOJA GENERAL DATOS IMPORTADOS'!O125","v":0.64131671482417396},{"$f":"'[1]HOJA GENERAL DATOS IMPORTADOS'!P125","v":32.390332869026501},{"$f":"'[1]HOJA GENERAL DATOS IMPORTADOS'!Q125","v":1.0652011384459401},{"$f":"'[1]HOJA GENERAL DATOS IMPORTADOS'!R125","v":1.4116115112960499},{"$f":"'[1]HOJA GENERAL DATOS IMPORTADOS'!S125","v":0},{"$f":"'[1]HOJA GENERAL DATOS IMPORTADOS'!T125","v":0},{"$f":"'[1]HOJA GENERAL DATOS IMPORTADOS'!U125","v":0},{"$f":"'[1]HOJA GENERAL DATOS IMPORTADOS'!V125","v":0},{"$f":"'[1]HOJA GENERAL DATOS IMPORTADOS'!W125","v":0},{"$f":"'[1]HOJA GENERAL DATOS IMPORTADOS'!X125","v":0},{"$f":"'[1]HOJA GENERAL DATOS IMPORTADOS'!Y125","v":0},{"$f":"'[1]HOJA GENERAL DATOS IMPORTADOS'!Z125","v":0},{"$f":"'[1]HOJA GENERAL DATOS IMPORTADOS'!AA125","v":0},{"$f":"'[1]HOJA GENERAL DATOS IMPORTADOS'!AB125","v":0},{"$f":"'[1]HOJA GENERAL DATOS IMPORTADOS'!AC125","v":0},{"$f":"'[1]HOJA GENERAL DATOS IMPORTADOS'!AD125","v":0},{"$f":"'[1]HOJA GENERAL DATOS IMPORTADOS'!AE125","v":0},{"$f":"'[1]HOJA GENERAL DATOS IMPORTADOS'!AF125","v":0},{"$f":"'[1]HOJA GENERAL DATOS IMPORTADOS'!AG125","v":0},{"$f":"'[1]HOJA GENERAL DATOS IMPORTADOS'!AH125","v":0},{"$f":"'[1]HOJA GENERAL DATOS IMPORTADOS'!AI125","v":0}]
[{"$f":"'[1]HOJA GENERAL DATOS IMPORTADOS'!A126","v":0},{"$f":"'[1]HOJA GENERAL DATOS IMPORTADOS'!B126","v":0},{"$f":"'[1]HOJA GENERAL DATOS IMPORTADOS'!C126","v":0},{"$f":"'[1]HOJA GENERAL DATOS IMPORTADOS'!D126","v":0},{"$f":"'[1]HOJA GENERAL DATOS IMPORTADOS'!E126","v":0},{"$f":"'[1]HOJA GENERAL DATOS IMPORTADOS'!F126","v":0},{"$f":"'[1]HOJA GENERAL DATOS IMPORTADOS'!G126","v":0},{"$f":"'[1]HOJA GENERAL DATOS IMPORTADOS'!H126","v":0},{"$f":"'[1]HOJA GENERAL DATOS IMPORTADOS'!I126","v":0},{"$f":"'[1]HOJA GENERAL DATOS IMPORTADOS'!J126","v":0},{"$f":"'[1]HOJA GENERAL DATOS IMPORTADOS'!K126","v":0},{"$f":"'[1]HOJA GENERAL DATOS IMPORTADOS'!L126","v":0},{"$f":"'[1]HOJA GENERAL DATOS IMPORTADOS'!M126","v":0},{"$f":"'[1]HOJA GENERAL DATOS IMPORTADOS'!N126","v":0},{"$f":"'[1]HOJA GENERAL DATOS IMPORTADOS'!O126","v":0},{"$f":"'[1]HOJA GENERAL DATOS IMPORTADOS'!P126","v":0},{"$f":"'[1]HOJA GENERAL DATOS IMPORTADOS'!Q126","v":0},{"$f":"'[1]HOJA GENERAL DATOS IMPORTADOS'!R126","v":0},{"$f":"'[1]HOJA GENERAL DATOS IMPORTADOS'!S126","v":0},{"$f":"'[1]HOJA GENERAL DATOS IMPORTADOS'!T126","v":0},{"$f":"'[1]HOJA GENERAL DATOS IMPORTADOS'!U126","v":0},{"$f":"'[1]HOJA GENERAL DATOS IMPORTADOS'!V126","v":0},{"$f":"'[1]HOJA GENERAL DATOS IMPORTADOS'!W126","v":0},{"$f":"'[1]HOJA GENERAL DATOS IMPORTADOS'!X126","v":0},{"$f":"'[1]HOJA GENERAL DATOS IMPORTADOS'!Y126","v":0},{"$f":"'[1]HOJA GENERAL DATOS IMPORTADOS'!Z126","v":0},{"$f":"'[1]HOJA GENERAL DATOS IMPORTADOS'!AA126","v":0},{"$f":"'[1]HOJA GENERAL DATOS IMPORTADOS'!AB126","v":0},{"$f":"'[1]HOJA GENERAL DATOS IMPORTADOS'!AC126","v":0},{"$f":"'[1]HOJA GENERAL DATOS IMPORTADOS'!AD126","v":0},{"$f":"'[1]HOJA GENERAL DATOS IMPORTADOS'!AE126","v":0},{"$f":"'[1]HOJA GENERAL DATOS IMPORTADOS'!AF126","v":0},{"$f":"'[1]HOJA GENERAL DATOS IMPORTADOS'!AG126","v":0},{"$f":"'[1]HOJA GENERAL DATOS IMPORTADOS'!AH126","v":0},{"$f":"'[1]HOJA GENERAL DATOS IMPORTADOS'!AI126","v":0}]
[{"$f":"'[1]HOJA GENERAL DATOS IMPORTADOS'!A127","v":0},{"$f":"'[1]HOJA GENERAL DATOS IMPORTADOS'!B127","v":0},{"$f":"'[1]HOJA GENERAL DATOS IMPORTADOS'!C127","v":0},{"$f":"'[1]HOJA GENERAL DATOS IMPORTADOS'!D127","v":0},{"$f":"'[1]HOJA GENERAL DATOS IMPORTADOS'!E127","v":0},{"$f":"'[1]HOJA GENERAL DATOS IMPORTADOS'!F127","v":0},{"$f":"'[1]HOJA GENERAL DATOS IMPORTADOS'!G127","v":0},{"$f":"'[1]HOJA GENERAL DATOS IMPORTADOS'!H127","v":0},{"$f":"'[1]HOJA GENERAL DATOS IMPORTADOS'!I127","v":0},{"$f":"'[1]HOJA GENERAL DATOS IMPORTADOS'!J127","v":0},{"$f":"'[1]HOJA GENERAL DATOS IMPORTADOS'!K127","v":0},{"$f":"'[1]HOJA GENERAL DATOS IMPORTADOS'!L127","v":0},{"$f":"'[1]HOJA GENERAL DATOS IMPORTADOS'!M127","v":0},{"$f":"'[1]HOJA GENERAL DATOS IMPORTADOS'!N127","v":0},{"$f":"'[1]HOJA GENERAL DATOS IMPORTADOS'!O127","v":0},{"$f":"'[1]HOJA GENERAL DATOS IMPORTADOS'!P127","v":0},{"$f":"'[1]HOJA GENERAL DATOS IMPORTADOS'!Q127","v":0},{"$f":"'[1]HOJA GENERAL DATOS IMPORTADOS'!R127","v":0},{"$f":"'[1]HOJA GENERAL DATOS IMPORTADOS'!S127","v":0},{"$f":"'[1]HOJA GENERAL DATOS IMPORTADOS'!T127","v":0},{"$f":"'[1]HOJA GENERAL DATOS IMPORTADOS'!U127","v":0},{"$f":"'[1]HOJA GENERAL DATOS IMPORTADOS'!V127","v":0},{"$f":"'[1]HOJA GENERAL DATOS IMPORTADOS'!W127","v":0},{"$f":"'[1]HOJA GENERAL DATOS IMPORTADOS'!X127","v":0},{"$f":"'[1]HOJA GENERAL DATOS IMPORTADOS'!Y127","v":0},{"$f":"'[1]HOJA GENERAL DATOS IMPORTADOS'!Z127","v":0},{"$f":"'[1]HOJA GENERAL DATOS IMPORTADOS'!AA127","v":0},{"$f":"'[1]HOJA GENERAL DATOS IMPORTADOS'!AB127","v":0},{"$f":"'[1]HOJA GENERAL DATOS IMPORTADOS'!AC127","v":0},{"$f":"'[1]HOJA GENERAL DATOS IMPORTADOS'!AD127","v":0},{"$f":"'[1]HOJA GENERAL DATOS IMPORTADOS'!AE127","v":0},{"$f":"'[1]HOJA GENERAL DATOS IMPORTADOS'!AF127","v":0},{"$f":"'[1]HOJA GENERAL DATOS IMPORTADOS'!AG127","v":0},{"$f":"'[1]HOJA GENERAL DATOS IMPORTADOS'!AH127","v":0},{"$f":"'[1]HOJA GENERAL DATOS IMPORTADOS'!AI127","v":0}]
[{"$f":"'[1]HOJA GENERAL DATOS IMPORTADOS'!A128","v":"PromedioDeOL ALI SISTEMA ALIMENTACION"},{"$f":"'[1]HOJA GENERAL DATOS IMPORTADOS'!B128","v":"PromedioDeOL ALI CALIDAD Y DISPONIBILIDAD DE FORRAJES"},{"$f":"'[1]HOJA GENERAL DATOS IMPORTADOS'!C128","v":"PromedioDeOL ALI LOTES ALIMENTACION"},{"$f":"'[1]HOJA GENERAL DATOS IMPORTADOS'!D128","v":"PromedioDeOL ALI APROVECHAMIENTO RECURSOS NATURALES"},{"$f":"'[1]HOJA GENERAL DATOS IMPORTADOS'!E128","v":"PromedioDeOL ALI AUTOMATIZACION"},{"$f":"'[1]HOJA GENERAL DATOS IMPORTADOS'!F128","v":"PromedioDeOL SA PLAN SANITARIO"},{"$f":"'[1]HOJA GENERAL DATOS IMPORTADOS'!G128","v":"PromedioDeOL SA MORTALIDAD CORDEROS"},{"$f":"'[1]HOJA GENERAL DATOS IMPORTADOS'!H128","v":"PromedioDeOL SA MORTALIDAD ADULTOS"},{"$f":"'[1]HOJA GENERAL DATOS IMPORTADOS'!I128","v":"PromedioDeOL SA INCIDENCIA PATOLOGIA MAS FRECUENTE"},{"$f":"'[1]HOJA GENERAL DATOS IMPORTADOS'!J128","v":"PromedioDeOL SA PORCENTAJE DE MAMITIS"},{"$f":"'[1]HOJA GENERAL DATOS IMPORTADOS'!K128","v":"PromedioDeOL IBA LACTANCIA ARTIFICIAL"},{"$f":"'[1]HOJA GENERAL DATOS IMPORTADOS'!L128","v":"PromedioDeOL IBA SALA ORDEÑO"},{"$f":"'[1]HOJA GENERAL DATOS IMPORTADOS'!M128","v":"PromedioDeOL IBA VENTILACION Y AMBIENTE"},{"$f":"'[1]HOJA GENERAL DATOS IMPORTADOS'!N128","v":"PromedioDeOL IBA NAVES PARA LOTES"},{"$f":"'[1]HOJA GENERAL DATOS IMPORTADOS'!O128","v":"PromedioDeOL IBA COMEDEROS, BEBEDEROS"},{"$f":"'[1]HOJA GENERAL DATOS IMPORTADOS'!P128","v":"PromedioDeOL PRI LECHE/OVEJA AÑO"},{"$f":"'[1]HOJA GENERAL DATOS IMPORTADOS'!Q128","v":"PromedioDeOL PRI CORDEROS VENDIDOS"},{"$f":"'[1]HOJA GENERAL DATOS IMPORTADOS'!R128","v":"PromedioDeOL PRI OVEJAS/ UTH"},{"$f":"'[1]HOJA GENERAL DATOS IMPORTADOS'!S128","v":"PromedioDeOL PRI CALIDAD DE LECHE"},{"$f":"'[1]HOJA GENERAL DATOS IMPORTADOS'!T128","v":"PromedioDeOL PRI TASA REPOSICION"},{"$f":"'[1]HOJA GENERAL DATOS IMPORTADOS'!U128","v":"PromedioDeOL REC INGRESOS BRUTOS LECHE"},{"$f":"'[1]HOJA GENERAL DATOS IMPORTADOS'!V128","v":"PromedioDeOL REC INGRESOS BRUTOS VENTA ANIMALES"},{"$f":"'[1]HOJA GENERAL DATOS IMPORTADOS'!W128","v":"PromedioDeOL REC GASTOS ALIMENTACION"},{"$f":"'[1]HOJA GENERAL DATOS IMPORTADOS'!X128","v":"PromedioDeOL REC AMORTIZACION"},{"$f":"'[1]HOJA GENERAL DATOS IMPORTADOS'!Y128","v":"PromedioDeOL REC MANO DE OBRA"},{"$f":"'[1]HOJA GENERAL DATOS IMPORTADOS'!Z128","v":"CuentaDeNº REGISTRO"},{"$f":"'[1]HOJA GENERAL DATOS IMPORTADOS'!AA128","v":0},{"$f":"'[1]HOJA GENERAL DATOS IMPORTADOS'!AB128","v":0},{"$f":"'[1]HOJA GENERAL DATOS IMPORTADOS'!AC128","v":0},{"$f":"'[1]HOJA GENERAL DATOS IMPORTADOS'!AD128","v":0},{"$f":"'[1]HOJA GENERAL DATOS IMPORTADOS'!AE128","v":0},{"$f":"'[1]HOJA GENERAL DATOS IMPORTADOS'!AF128","v":0},{"$f":"'[1]HOJA GENERAL DATOS IMPORTADOS'!AG128","v":0},{"$f":"'[1]HOJA GENERAL DATOS IMPORTADOS'!AH128","v":0},{"$f":"'[1]HOJA GENERAL DATOS IMPORTADOS'!AI128","v":0}]
[{"$f":"'[1]HOJA GENERAL DATOS IMPORTADOS'!A129","v":3},{"$f":"'[1]HOJA GENERAL DATOS IMPORTADOS'!B129","v":2.8333333333333299},{"$f":"'[1]HOJA GENERAL DATOS IMPORTADOS'!C129","v":2.93333333333333},{"$f":"'[1]HOJA GENERAL DATOS IMPORTADOS'!D129","v":2.4666666666666699},{"$f":"'[1]HOJA GENERAL DATOS IMPORTADOS'!E129","v":2.93333333333333},{"$f":"'[1]HOJA GENERAL DATOS IMPORTADOS'!F129","v":3.1},{"$f":"'[1]HOJA GENERAL DATOS IMPORTADOS'!G129","v":2.8666666666666698},{"$f":"'[1]HOJA GENERAL DATOS IMPORTADOS'!H129","v":3.1333333333333302},{"$f":"'[1]HOJA GENERAL DATOS IMPORTADOS'!I129","v":2.8},{"$f":"'[1]HOJA GENERAL DATOS IMPORTADOS'!J129","v":2.6333333333333302},{"$f":"'[1]HOJA GENERAL DATOS IMPORTADOS'!K129","v":1.43333333333333},{"$f":"'[1]HOJA GENERAL DATOS IMPORTADOS'!L129","v":2.9},{"$f":"'[1]HOJA GENERAL DATOS IMPORTADOS'!M129","v":2.5},{"$f":"'[1]HOJA GENERAL DATOS IMPORTADOS'!N129","v":2.1666666666666701},{"$f":"'[1]HOJA GENERAL DATOS IMPORTADOS'!O129","v":2.8},{"$f":"'[1]HOJA GENERAL DATOS IMPORTADOS'!P129","v":2.43333333333333},{"$f":"'[1]HOJA GENERAL DATOS IMPORTADOS'!Q129","v":2.3666666666666698},{"$f":"'[1]HOJA GENERAL DATOS IMPORTADOS'!R129","v":2.6666666666666701},{"$f":"'[1]HOJA GENERAL DATOS IMPORTADOS'!S129","v":2.2666666666666702},{"$f":"'[1]HOJA GENERAL DATOS IMPORTADOS'!T129","v":2.5333333333333301},{"$f":"'[1]HOJA GENERAL DATOS IMPORTADOS'!U129","v":3.1333333333333302},{"$f":"'[1]HOJA GENERAL DATOS IMPORTADOS'!V129","v":3.1333333333333302},{"$f":"'[1]HOJA GENERAL DATOS IMPORTADOS'!W129","v":3.1666666666666701},{"$f":"'[1]HOJA GENERAL DATOS IMPORTADOS'!X129","v":3.06666666666667},{"$f":"'[1]HOJA GENERAL DATOS IMPORTADOS'!Y129","v":2.9666666666666699},{"$f":"'[1]HOJA GENERAL DATOS IMPORTADOS'!Z129","v":30},{"$f":"'[1]HOJA GENERAL DATOS IMPORTADOS'!AA129","v":0},{"$f":"'[1]HOJA GENERAL DATOS IMPORTADOS'!AB129","v":0},{"$f":"'[1]HOJA GENERAL DATOS IMPORTADOS'!AC129","v":0},{"$f":"'[1]HOJA GENERAL DATOS IMPORTADOS'!AD129","v":0},{"$f":"'[1]HOJA GENERAL DATOS IMPORTADOS'!AE129","v":0},{"$f":"'[1]HOJA GENERAL DATOS IMPORTADOS'!AF129","v":0},{"$f":"'[1]HOJA GENERAL DATOS IMPORTADOS'!AG129","v":0},{"$f":"'[1]HOJA GENERAL DATOS IMPORTADOS'!AH129","v":0},{"$f":"'[1]HOJA GENERAL DATOS IMPORTADOS'!AI129","v":0}]
[{"$f":"'[1]HOJA GENERAL DATOS IMPORTADOS'!A130","v":0},{"$f":"'[1]HOJA GENERAL DATOS IMPORTADOS'!B130","v":0},{"$f":"'[1]HOJA GENERAL DATOS IMPORTADOS'!C130","v":0},{"$f":"'[1]HOJA GENERAL DATOS IMPORTADOS'!D130","v":0},{"$f":"'[1]HOJA GENERAL DATOS IMPORTADOS'!E130","v":0},{"$f":"'[1]HOJA GENERAL DATOS IMPORTADOS'!F130","v":0},{"$f":"'[1]HOJA GENERAL DATOS IMPORTADOS'!G130","v":0},{"$f":"'[1]HOJA GENERAL DATOS IMPORTADOS'!H130","v":0},{"$f":"'[1]HOJA GENERAL DATOS IMPORTADOS'!I130","v":0},{"$f":"'[1]HOJA GENERAL DATOS IMPORTADOS'!J130","v":0},{"$f":"'[1]HOJA GENERAL DATOS IMPORTADOS'!K130","v":0},{"$f":"'[1]HOJA GENERAL DATOS IMPORTADOS'!L130","v":0},{"$f":"'[1]HOJA GENERAL DATOS IMPORTADOS'!M130","v":0},{"$f":"'[1]HOJA GENERAL DATOS IMPORTADOS'!N130","v":0},{"$f":"'[1]HOJA GENERAL DATOS IMPORTADOS'!O130","v":0},{"$f":"'[1]HOJA GENERAL DATOS IMPORTADOS'!P130","v":0},{"$f":"'[1]HOJA GENERAL DATOS IMPORTADOS'!Q130","v":0},{"$f":"'[1]HOJA GENERAL DATOS IMPORTADOS'!R130","v":0},{"$f":"'[1]HOJA GENERAL DATOS IMPORTADOS'!S130","v":0},{"$f":"'[1]HOJA GENERAL DATOS IMPORTADOS'!T130","v":0},{"$f":"'[1]HOJA GENERAL DATOS IMPORTADOS'!U130","v":0},{"$f":"'[1]HOJA GENERAL DATOS IMPORTADOS'!V130","v":0},{"$f":"'[1]HOJA GENERAL DATOS IMPORTADOS'!W130","v":0},{"$f":"'[1]HOJA GENERAL DATOS IMPORTADOS'!X130","v":0},{"$f":"'[1]HOJA GENERAL DATOS IMPORTADOS'!Y130","v":0},{"$f":"'[1]HOJA GENERAL DATOS IMPORTADOS'!Z130","v":0},{"$f":"'[1]HOJA GENERAL DATOS IMPORTADOS'!AA130","v":0},{"$f":"'[1]HOJA GENERAL DATOS IMPORTADOS'!AB130","v":0},{"$f":"'[1]HOJA GENERAL DATOS IMPORTADOS'!AC130","v":0},{"$f":"'[1]HOJA GENERAL DATOS IMPORTADOS'!AD130","v":0},{"$f":"'[1]HOJA GENERAL DATOS IMPORTADOS'!AE130","v":0},{"$f":"'[1]HOJA GENERAL DATOS IMPORTADOS'!AF130","v":0},{"$f":"'[1]HOJA GENERAL DATOS IMPORTADOS'!AG130","v":0},{"$f":"'[1]HOJA GENERAL DATOS IMPORTADOS'!AH130","v":0},{"$f":"'[1]HOJA GENERAL DATOS IMPORTADOS'!AI130","v":0}]
[{"$f":"'[1]HOJA GENERAL DATOS IMPORTADOS'!A131","v":"DesvEstDeOL ALI SISTEMA ALIMENTACION"},{"$f":"'[1]HOJA GENERAL DATOS IMPORTADOS'!B131","v":"DesvEstDeOL ALI CALIDAD Y DISPONIBILIDAD DE FORRAJES"},{"$f":"'[1]HOJA GENERAL DATOS IMPORTADOS'!C131","v":"DesvEstDeOL ALI LOTES ALIMENTACION"},{"$f":"'[1]HOJA GENERAL DATOS IMPORTADOS'!D131","v":"DesvEstDeOL ALI APROVECHAMIENTO RECURSOS NATURALES"},{"$f":"'[1]HOJA GENERAL DATOS IMPORTADOS'!E131","v":"DesvEstDeOL ALI AUTOMATIZACION"},{"$f":"'[1]HOJA GENERAL DATOS IMPORTADOS'!F131","v":"DesvEstDeOL SA PLAN SANITARIO"},{"$f":"'[1]HOJA GENERAL DATOS IMPORTADOS'!G131","v":"DesvEstDeOL SA MORTALIDAD CORDEROS"},{"$f":"'[1]HOJA GENERAL DATOS IMPORTADOS'!H131","v":"DesvEstDeOL SA MORTALIDAD ADULTOS"},{"$f":"'[1]HOJA GENERAL DATOS IMPORTADOS'!I131","v":"DesvEstDeOL SA INCIDENCIA PATOLOGIA MAS FRECUENTE"},{"$f":"'[1]HOJA GENERAL DATOS IMPORTADOS'!J131","v":"DesvEstDeOL SA PORCENTAJE DE MAMITIS"},{"$f":"'[1]HOJA GENERAL DATOS IMPORTADOS'!K131","v":"DesvEstDeOL IBA LACTANCIA ARTIFICIAL"},{"$f":"'[1]HOJA GENERAL DATOS IMPORTADOS'!L131","v":"DesvEstDeOL IBA SALA ORDEÑO"},{"$f":"'[1]HOJA GENERAL DATOS IMPORTADOS'!M131","v":"DesvEstDeOL IBA VENTILACION Y AMBIENTE"},{"$f":"'[1]HOJA GENERAL DATOS IMPORTADOS'!N131","v":"DesvEstDeOL IBA NAVES PARA LOTES"},{"$f":"'[1]HOJA GENERAL DATOS IMPORTADOS'!O131","v":"DesvEstDeOL IBA COMEDEROS, BEBEDEROS"},{"$f":"'[1]HOJA GENERAL DATOS IMPORTADOS'!P131","v":"DesvEstDeOL PRI LECHE/OVEJA AÑO"},{"$f":"'[1]HOJA GENERAL DATOS IMPORTADOS'!Q131","v":"DesvEstDeOL PRI CORDEROS VENDIDOS"},{"$f":"'[1]HOJA GENERAL DATOS IMPORTADOS'!R131","v":"DesvEstDeOL PRI OVEJAS/ UTH"},{"$f":"'[1]HOJA GENERAL DATOS IMPORTADOS'!S131","v":"DesvEstDeOL PRI CALIDAD DE LECHE"},{"$f":"'[1]HOJA GENERAL DATOS IMPORTADOS'!T131","v":"DesvEstDeOL PRI TASA REPOSICION"},{"$f":"'[1]HOJA GENERAL DATOS IMPORTADOS'!U131","v":"DesvEstDeOL REC INGRESOS BRUTOS LECHE"},{"$f":"'[1]HOJA GENERAL DATOS IMPORTADOS'!V131","v":"DesvEstDeOL REC INGRESOS BRUTOS VENTA ANIMALES"},{"$f":"'[1]HOJA GENERAL DATOS IMPORTADOS'!W131","v":"DesvEstDeOL REC GASTOS ALIMENTACION"},{"$f":"'[1]HOJA GENERAL DATOS IMPORTADOS'!X131","v":"DesvEstDeOL REC AMORTIZACION"},{"$f":"'[1]HOJA GENERAL DATOS IMPORTADOS'!Y131","v":"DesvEstDeOL REC MANO DE OBRA"},{"$f":"'[1]HOJA GENERAL DATOS IMPORTADOS'!Z131","v":"CuentaDeNº REGISTRO"},{"$f":"'[1]HOJA GENERAL DATOS IMPORTADOS'!AA131","v":0},{"$f":"'[1]HOJA GENERAL DATOS IMPORTADOS'!AB131","v":0},{"$f":"'[1]HOJA GENERAL DATOS IMPORTADOS'!AC131","v":0},{"$f":"'[1]HOJA GENERAL DATOS IMPORTADOS'!AD131","v":0},{"$f":"'[1]HOJA GENERAL DATOS IMPORTADOS'!AE131","v":0},{"$f":"'[1]HOJA GENERAL DATOS IMPORTADOS'!AF131","v":0},{"$f":"'[1]HOJA GENERAL DATOS IMPORTADOS'!AG131","v":0},{"$f":"'[1]HOJA GENERAL DATOS IMPORTADOS'!AH131","v":0},{"$f":"'[1]HOJA GENERAL DATOS IMPORTADOS'!AI131","v":0}]
[{"$f":"'[1]HOJA GENERAL DATOS IMPORTADOS'!A132","v":0.742781352708207},{"$f":"'[1]HOJA GENERAL DATOS IMPORTADOS'!B132","v":0.87428131404711695},{"$f":"'[1]HOJA GENERAL DATOS IMPORTADOS'!C132","v":0.86834497091060903},{"$f":"'[1]HOJA GENERAL DATOS IMPORTADOS'!D132","v":1.3578211078487299},{"$f":"'[1]HOJA GENERAL DATOS IMPORTADOS'!E132","v":1.0806553992619601},{"$f":"'[1]HOJA GENERAL DATOS IMPORTADOS'!F132","v":1.0938700673013799},{"$f":"'[1]HOJA GENERAL DATOS IMPORTADOS'!G132","v":0.86036613430415299},{"$f":"'[1]HOJA GENERAL DATOS IMPORTADOS'!H132","v":1.13664155431187},{"$f":"'[1]HOJA GENERAL DATOS IMPORTADOS'!I132","v":0.84690104457979298},{"$f":"'[1]HOJA GENERAL DATOS IMPORTADOS'!J132","v":1.12903172837532},0.4,{"$f":"'[1]HOJA GENERAL DATOS IMPORTADOS'!L132","v":0.80301157289723801},{"$f":"'[1]HOJA GENERAL DATOS IMPORTADOS'!M132","v":0.86103386132301896},{"$f":"'[1]HOJA GENERAL DATOS IMPORTADOS'!N132","v":1.0199166069132699},{"$f":"'[1]HOJA GENERAL DATOS IMPORTADOS'!O132","v":1.18612670137896},{"$f":"'[1]HOJA GENERAL DATOS IMPORTADOS'!P132","v":1.1651056880677499},{"$f":"'[1]HOJA GENERAL DATOS IMPORTADOS'!Q132","v":1.0661996103898199},{"$f":"'[1]HOJA GENERAL DATOS IMPORTADOS'!R132","v":1.2129568697262501},{"$f":"'[1]HOJA GENERAL DATOS IMPORTADOS'!S132","v":1.1121068335350699},{"$f":"'[1]HOJA GENERAL DATOS IMPORTADOS'!T132","v":1.1957780134587099},{"$f":"'[1]HOJA GENERAL DATOS IMPORTADOS'!U132","v":0.73029674334022099},{"$f":"'[1]HOJA GENERAL DATOS IMPORTADOS'!V132","v":0.68144538746105998},{"$f":"'[1]HOJA GENERAL DATOS IMPORTADOS'!W132","v":1.0531834608931401},{"$f":"'[1]HOJA GENERAL DATOS IMPORTADOS'!X132","v":1.0482607379429201},{"$f":"'[1]HOJA GENERAL DATOS IMPORTADOS'!Y132","v":1.0661996103898199},{"$f":"'[1]HOJA GENERAL DATOS IMPORTADOS'!Z132","v":30},{"$f":"'[1]HOJA GENERAL DATOS IMPORTADOS'!AA132","v":0},{"$f":"'[1]HOJA GENERAL DATOS IMPORTADOS'!AB132","v":0},{"$f":"'[1]HOJA GENERAL DATOS IMPORTADOS'!AC132","v":0},{"$f":"'[1]HOJA GENERAL DATOS IMPORTADOS'!AD132","v":0},{"$f":"'[1]HOJA GENERAL DATOS IMPORTADOS'!AE132","v":0},{"$f":"'[1]HOJA GENERAL DATOS IMPORTADOS'!AF132","v":0},{"$f":"'[1]HOJA GENERAL DATOS IMPORTADOS'!AG132","v":0},{"$f":"'[1]HOJA GENERAL DATOS IMPORTADOS'!AH132","v":0},{"$f":"'[1]HOJA GENERAL DATOS IMPORTADOS'!AI132","v":0}]
[{"$f":"'[1]HOJA GENERAL DATOS IMPORTADOS'!A133","v":0},{"$f":"'[1]HOJA GENERAL DATOS IMPORTADOS'!B133","v":0},{"$f":"'[1]HOJA GENERAL DATOS IMPORTADOS'!C133","v":0},{"$f":"'[1]HOJA GENERAL DATOS IMPORTADOS'!D133","v":0},{"$f":"'[1]HOJA GENERAL DATOS IMPORTADOS'!E133","v":0},{"$f":"'[1]HOJA GENERAL DATOS IMPORTADOS'!F133","v":0},{"$f":"'[1]HOJA GENERAL DATOS IMPORTADOS'!G133","v":0},{"$f":"'[1]HOJA GENERAL DATOS IMPORTADOS'!H133","v":0},{"$f":"'[1]HOJA GENERAL DATOS IMPORTADOS'!I133","v":0},{"$f":"'[1]HOJA GENERAL DATOS IMPORTADOS'!J133","v":0},{"$f":"'[1]HOJA GENERAL DATOS IMPORTADOS'!K133","v":0},{"$f":"'[1]HOJA GENERAL DATOS IMPORTADOS'!L133","v":0},{"$f":"'[1]HOJA GENERAL DATOS IMPORTADOS'!M133","v":0},{"$f":"'[1]HOJA GENERAL DATOS IMPORTADOS'!N133","v":0},{"$f":"'[1]HOJA GENERAL DATOS IMPORTADOS'!O133","v":0},{"$f":"'[1]HOJA GENERAL DATOS IMPORTADOS'!P133","v":0},{"$f":"'[1]HOJA GENERAL DATOS IMPORTADOS'!Q133","v":0},{"$f":"'[1]HOJA GENERAL DATOS IMPORTADOS'!R133","v":0},{"$f":"'[1]HOJA GENERAL DATOS IMPORTADOS'!S133","v":0},{"$f":"'[1]HOJA GENERAL DATOS IMPORTADOS'!T133","v":0},{"$f":"'[1]HOJA GENERAL DATOS IMPORTADOS'!U133","v":0},{"$f":"'[1]HOJA GENERAL DATOS IMPORTADOS'!V133","v":0},{"$f":"'[1]HOJA GENERAL DATOS IMPORTADOS'!W133","v":0},{"$f":"'[1]HOJA GENERAL DATOS IMPORTADOS'!X133","v":0},{"$f":"'[1]HOJA GENERAL DATOS IMPORTADOS'!Y133","v":0},{"$f":"'[1]HOJA GENERAL DATOS IMPORTADOS'!Z133","v":0},{"$f":"'[1]HOJA GENERAL DATOS IMPORTADOS'!AA133","v":0},{"$f":"'[1]HOJA GENERAL DATOS IMPORTADOS'!AB133","v":0},{"$f":"'[1]HOJA GENERAL DATOS IMPORTADOS'!AC133","v":0},{"$f":"'[1]HOJA GENERAL DATOS IMPORTADOS'!AD133","v":0},{"$f":"'[1]HOJA GENERAL DATOS IMPORTADOS'!AE133","v":0},{"$f":"'[1]HOJA GENERAL DATOS IMPORTADOS'!AF133","v":0},{"$f":"'[1]HOJA GENERAL DATOS IMPORTADOS'!AG133","v":0},{"$f":"'[1]HOJA GENERAL DATOS IMPORTADOS'!AH133","v":0},{"$f":"'[1]HOJA GENERAL DATOS IMPORTADOS'!AI133","v":0}]
[{"$f":"'[1]HOJA GENERAL DATOS IMPORTADOS'!A134","v":"PromedioDeCL ALI SISTEMA ALIMENTACION"},{"$f":"'[1]HOJA GENERAL DATOS IMPORTADOS'!B134","v":"PromedioDeCL ALI CALIDAD DISPONIBILIDAD FORRAJES"},{"$f":"'[1]HOJA GENERAL DATOS IMPORTADOS'!C134","v":"PromedioDeCL ALI LOTES ALIMENTACION"},{"$f":"'[1]HOJA GENERAL DATOS IMPORTADOS'!D134","v":"PromedioDeCL ALI APROVECHAMIENTO RECURSOS"},{"$f":"'[1]HOJA GENERAL DATOS IMPORTADOS'!E134","v":"PromedioDeCL ALI AUTOMATIZACION"},{"$f":"'[1]HOJA GENERAL DATOS IMPORTADOS'!F134","v":"PromedioDeCL SA PROTOCOLO SANITARIO"},{"$f":"'[1]HOJA GENERAL DATOS IMPORTADOS'!G134","v":"PromedioDeCL SA MORTALIDAD EN CHIVOS"},{"$f":"'[1]HOJA GENERAL DATOS IMPORTADOS'!H134","v":"PromedioDeCL SA MORTALIDAD EN ADULTOS"},{"$f":"'[1]HOJA GENERAL DATOS IMPORTADOS'!I134","v":"PromedioDeCL SA INCIDENCIA PATOLOGIA MAS FRECUENTE"},{"$f":"'[1]HOJA GENERAL DATOS IMPORTADOS'!J134","v":"PromedioDeCL SA PORCENTAJE DE MAMITIS"},{"$f":"'[1]HOJA GENERAL DATOS IMPORTADOS'!K134","v":"PromedioDeCL IBA LACTANCIA ARTIFICIAL"},{"$f":"'[1]HOJA GENERAL DATOS IMPORTADOS'!L134","v":"PromedioDeCL IBA TIPO SALA ORDEÑO"},{"$f":"'[1]HOJA GENERAL DATOS IMPORTADOS'!M134","v":"PromedioDeCL IBA CONTROL AMBIENTAL NAVES"},{"$f":"'[1]HOJA GENERAL DATOS IMPORTADOS'!N134","v":"PromedioDeCL IBA PAEQUES POR LOTES"},{"$f":"'[1]HOJA GENERAL DATOS IMPORTADOS'!O134","v":"PromedioDeCL IBA COMEDEROS BEBEDEROS"},{"$f":"'[1]HOJA GENERAL DATOS IMPORTADOS'!P134","v":"PromedioDeCL PRI PORCENTAJE REPOSICION"},{"$f":"'[1]HOJA GENERAL DATOS IMPORTADOS'!Q134","v":"PromedioDeCL PRI PRODUCCION MEDIA"},{"$f":"'[1]HOJA GENERAL DATOS IMPORTADOS'!R134","v":"PromedioDeCL PRI CALIDAD MEDIA"},{"$f":"'[1]HOJA GENERAL DATOS IMPORTADOS'!S134","v":"PromedioDeCL PRI CABRITOS VENDIDOS"},{"$f":"'[1]HOJA GENERAL DATOS IMPORTADOS'!T134","v":"PromedioDeCL PRI CABRAS POR UHT"},{"$f":"'[1]HOJA GENERAL DATOS IMPORTADOS'!U134","v":"PromedioDeCL REC INGRESOS BRUTOS LECHE"},{"$f":"'[1]HOJA GENERAL DATOS IMPORTADOS'!V134","v":"PromedioDeCL REC INGRESOS BRUTOS VENTA ANIMALES"},{"$f":"'[1]HOJA GENERAL DATOS IMPORTADOS'!W134","v":"PromedioDeCL REC COSTE MANO DE OBRA"},{"$f":"'[1]HOJA GENERAL DATOS IMPORTADOS'!X134","v":"PromedioDeCL REC COSTE ALIMENTACION"},{"$f":"'[1]HOJA GENERAL DATOS IMPORTADOS'!Y134","v":"PromedioDeCL REC AMORTIZACIONES/SUBVENCIONES"},{"$f":"'[1]HOJA GENERAL DATOS IMPORTADOS'!Z134","v":"CuentaDeNº REGISTRO"},{"$f":"'[1]HOJA GENERAL DATOS IMPORTADOS'!AA134","v":0},{"$f":"'[1]HOJA GENERAL DATOS IMPORTADOS'!AB134","v":0},{"$f":"'[1]HOJA GENERAL DATOS IMPORTADOS'!AC134","v":0},{"$f":"'[1]HOJA GENERAL DATOS IMPORTADOS'!AD134","v":0},{"$f":"'[1]HOJA GENERAL DATOS IMPORTADOS'!AE134","v":0},{"$f":"'[1]HOJA GENERAL DATOS IMPORTADOS'!AF134","v":0},{"$f":"'[1]HOJA GENERAL DATOS IMPORTADOS'!AG134","v":0},{"$f":"'[1]HOJA GENERAL DATOS IMPORTADOS'!AH134","v":0},{"$f":"'[1]HOJA GENERAL DATOS IMPORTADOS'!AI134","v":0}]
[{"$f":"'[1]HOJA GENERAL DATOS IMPORTADOS'!A135","v":3.25},{"$f":"'[1]HOJA GENERAL DATOS IMPORTADOS'!B135","v":3.1785714285714302},{"$f":"'[1]HOJA GENERAL DATOS IMPORTADOS'!C135","v":2.9285714285714302},{"$f":"'[1]HOJA GENERAL DATOS IMPORTADOS'!D135","v":1.6428571428571399},{"$f":"'[1]HOJA GENERAL DATOS IMPORTADOS'!E135","v":2.21428571428571},{"$f":"'[1]HOJA GENERAL DATOS IMPORTADOS'!F135","v":3.4285714285714302},{"$f":"'[1]HOJA GENERAL DATOS IMPORTADOS'!G135","v":2.8214285714285698},{"$f":"'[1]HOJA GENERAL DATOS IMPORTADOS'!H135","v":2.8571428571428599},{"$f":"'[1]HOJA GENERAL DATOS IMPORTADOS'!I135","v":2.1785714285714302},{"$f":"'[1]HOJA GENERAL DATOS IMPORTADOS'!J135","v":2.46428571428571},{"$f":"'[1]HOJA GENERAL DATOS IMPORTADOS'!K135","v":2.0714285714285698},{"$f":"'[1]HOJA GENERAL DATOS IMPORTADOS'!L135","v":2.78571428571429},{"$f":"'[1]HOJA GENERAL DATOS IMPORTADOS'!M135","v":2.28571428571429},{"$f":"'[1]HOJA GENERAL DATOS IMPORTADOS'!N135","v":2.21428571428571},{"$f":"'[1]HOJA GENERAL DATOS IMPORTADOS'!O135","v":2.4285714285714302},{"$f":"'[1]HOJA GENERAL DATOS IMPORTADOS'!P135","v":3.6071428571428599},{"$f":"'[1]HOJA GENERAL DATOS IMPORTADOS'!Q135","v":2.0714285714285698},{"$f":"'[1]HOJA GENERAL DATOS IMPORTADOS'!R135","v":2.8214285714285698},{"$f":"'[1]HOJA GENERAL DATOS IMPORTADOS'!S135","v":1.8571428571428601},{"$f":"'[1]HOJA GENERAL DATOS IMPORTADOS'!T135","v":1.78571428571429},{"$f":"'[1]HOJA GENERAL DATOS IMPORTADOS'!U135","v":2.9285714285714302},{"$f":"'[1]HOJA GENERAL DATOS IMPORTADOS'!V135","v":2.25},{"$f":"'[1]HOJA GENERAL DATOS IMPORTADOS'!W135","v":2.6428571428571401},{"$f":"'[1]HOJA GENERAL DATOS IMPORTADOS'!X135","v":3.21428571428571},{"$f":"'[1]HOJA GENERAL DATOS IMPORTADOS'!Y135","v":2.4285714285714302},{"$f":"'[1]HOJA GENERAL DATOS IMPORTADOS'!Z135","v":28},{"$f":"'[1]HOJA GENERAL DATOS IMPORTADOS'!AA135","v":0},{"$f":"'[1]HOJA GENERAL DATOS IMPORTADOS'!AB135","v":0},{"$f":"'[1]HOJA GENERAL DATOS IMPORTADOS'!AC135","v":0},{"$f":"'[1]HOJA GENERAL DATOS IMPORTADOS'!AD135","v":0},{"$f":"'[1]HOJA GENERAL DATOS IMPORTADOS'!AE135","v":0},{"$f":"'[1]HOJA GENERAL DATOS IMPORTADOS'!AF135","v":0},{"$f":"'[1]HOJA GENERAL DATOS IMPORTADOS'!AG135","v":0},{"$f":"'[1]HOJA GENERAL DATOS IMPORTADOS'!AH135","v":0},{"$f":"'[1]HOJA GENERAL DATOS IMPORTADOS'!AI135","v":0}]
[{"$f":"'[1]HOJA GENERAL DATOS IMPORTADOS'!A136","v":0},{"$f":"'[1]HOJA GENERAL DATOS IMPORTADOS'!B136","v":0},{"$f":"'[1]HOJA GENERAL DATOS IMPORTADOS'!C136","v":0},{"$f":"'[1]HOJA GENERAL DATOS IMPORTADOS'!D136","v":0},{"$f":"'[1]HOJA GENERAL DATOS IMPORTADOS'!E136","v":0},{"$f":"'[1]HOJA GENERAL DATOS IMPORTADOS'!F136","v":0},{"$f":"'[1]HOJA GENERAL DATOS IMPORTADOS'!G136","v":0},{"$f":"'[1]HOJA GENERAL DATOS IMPORTADOS'!H136","v":0},{"$f":"'[1]HOJA GENERAL DATOS IMPORTADOS'!I136","v":0},{"$f":"'[1]HOJA GENERAL DATOS IMPORTADOS'!J136","v":0},{"$f":"'[1]HOJA GENERAL DATOS IMPORTADOS'!K136","v":0},{"$f":"'[1]HOJA GENERAL DATOS IMPORTADOS'!L136","v":0},{"$f":"'[1]HOJA GENERAL DATOS IMPORTADOS'!M136","v":0},{"$f":"'[1]HOJA GENERAL DATOS IMPORTADOS'!N136","v":0},{"$f":"'[1]HOJA GENERAL DATOS IMPORTADOS'!O136","v":0},{"$f":"'[1]HOJA GENERAL DATOS IMPORTADOS'!P136","v":0},{"$f":"'[1]HOJA GENERAL DATOS IMPORTADOS'!Q136","v":0},{"$f":"'[1]HOJA GENERAL DATOS IMPORTADOS'!R136","v":0},{"$f":"'[1]HOJA GENERAL DATOS IMPORTADOS'!S136","v":0},{"$f":"'[1]HOJA GENERAL DATOS IMPORTADOS'!T136","v":0},{"$f":"'[1]HOJA GENERAL DATOS IMPORTADOS'!U136","v":0},{"$f":"'[1]HOJA GENERAL DATOS IMPORTADOS'!V136","v":0},{"$f":"'[1]HOJA GENERAL DATOS IMPORTADOS'!W136","v":0},{"$f":"'[1]HOJA GENERAL DATOS IMPORTADOS'!X136","v":0},{"$f":"'[1]HOJA GENERAL DATOS IMPORTADOS'!Y136","v":0},{"$f":"'[1]HOJA GENERAL DATOS IMPORTADOS'!Z136","v":0},{"$f":"'[1]HOJA GENERAL DATOS IMPORTADOS'!AA136","v":0},{"$f":"'[1]HOJA GENERAL DATOS IMPORTADOS'!AB136","v":0},{"$f":"'[1]HOJA GENERAL DATOS IMPORTADOS'!AC136","v":0},{"$f":"'[1]HOJA GENERAL DATOS IMPORTADOS'!AD136","v":0},{"$f":"'[1]HOJA GENERAL DATOS IMPORTADOS'!AE136","v":0},{"$f":"'[1]HOJA GENERAL DATOS IMPORTADOS'!AF136","v":0},{"$f":"'[1]HOJA GENERAL DATOS IMPORTADOS'!AG136","v":0},{"$f":"'[1]HOJA GENERAL DATOS IMPORTADOS'!AH136","v":0},{"$f":"'[1]HOJA GENERAL DATOS IMPORTADOS'!AI136","v":0}]
[{"$f":"'[1]HOJA GENERAL DATOS IMPORTADOS'!A137","v":"DesvEstDeCL ALI SISTEMA ALIMENTACION"},{"$f":"'[1]HOJA GENERAL DATOS IMPORTADOS'!B137","v":"DesvEstDeCL ALI CALIDAD DISPONIBILIDAD FORRAJES"},{"$f":"'[1]HOJA GENERAL DATOS IMPORTADOS'!C137","v":"DesvEstDeCL ALI LOTES ALIMENTACION"},{"$f":"'[1]HOJA GENERAL DATOS IMPORTADOS'!D137","v":"DesvEstDeCL ALI APROVECHAMIENTO RECURSOS"},{"$f":"'[1]HOJA GENERAL DATOS IMPORTADOS'!E137","v":"DesvEstDeCL ALI AUTOMATIZACION"},{"$f":"'[1]HOJA GENERAL DATOS IMPORTADOS'!F137","v":"DesvEstDeCL SA PROTOCOLO SANITARIO"},{"$f":"'[1]HOJA GENERAL DATOS IMPORTADOS'!G137","v":"DesvEstDeCL SA MORTALIDAD EN CHIVOS"},{"$f":"'[1]HOJA GENERAL DATOS IMPORTADOS'!H137","v":"DesvEstDeCL SA MORTALIDAD EN ADULTOS"},{"$f":"'[1]HOJA GENERAL DATOS IMPORTADOS'!I137","v":"DesvEstDeCL SA INCIDENCIA PATOLOGIA MAS FRECUENTE"},{"$f":"'[1]HOJA GENERAL DATOS IMPORTADOS'!J137","v":"DesvEstDeCL SA PORCENTAJE DE MAMITIS"},{"$f":"'[1]HOJA GENERAL DATOS IMPORTADOS'!K137","v":"DesvEstDeCL IBA LACTANCIA ARTIFICIAL"},{"$f":"'[1]HOJA GENERAL DATOS IMPORTADOS'!L137","v":"DesvEstDeCL IBA TIPO SALA ORDEÑO"},{"$f":"'[1]HOJA GENERAL DATOS IMPORTADOS'!M137","v":"DesvEstDeCL IBA CONTROL AMBIENTAL NAVES"},{"$f":"'[1]HOJA GENERAL DATOS IMPORTADOS'!N137","v":"DesvEstDeCL IBA PAEQUES POR LOTES"},{"$f":"'[1]HOJA GENERAL DATOS IMPORTADOS'!O137","v":"DesvEstDeCL IBA COMEDEROS BEBEDEROS"},{"$f":"'[1]HOJA GENERAL DATOS IMPORTADOS'!P137","v":"DesvEstDeCL PRI PORCENTAJE REPOSICION"},{"$f":"'[1]HOJA GENERAL DATOS IMPORTADOS'!Q137","v":"DesvEstDeCL PRI PRODUCCION MEDIA"},{"$f":"'[1]HOJA GENERAL DATOS IMPORTADOS'!R137","v":"DesvEstDeCL PRI CALIDAD MEDIA"},{"$f":"'[1]HOJA GENERAL DATOS IMPORTADOS'!S137","v":"DesvEstDeCL PRI CABRITOS VENDIDOS"},{"$f":"'[1]HOJA GENERAL DATOS IMPORTADOS'!T137","v":"DesvEstDeCL PRI CABRAS POR UHT"},{"$f":"'[1]HOJA GENERAL DATOS IMPORTADOS'!U137","v":"DesvEstDeCL REC INGRESOS BRUTOS LECHE"},{"$f":"'[1]HOJA GENERAL DATOS IMPORTADOS'!V137","v":"DesvEstDeCL REC INGRESOS BRUTOS VENTA ANIMALES"},{"$f":"'[1]HOJA GENERAL DATOS IMPORTADOS'!W137","v":"DesvEstDeCL REC COSTE MANO DE OBRA"},{"$f":"'[1]HOJA GENERAL DATOS IMPORTADOS'!X137","v":"DesvEstDeCL REC COSTE ALIMENTACION"},{"$f":"'[1]HOJA GENERAL DATOS IMPORTADOS'!Y137","v":"DesvEstDeCL REC AMORTIZACIONES/SUBVENCIONES"},{"$f":"'[1]HOJA GENERAL DATOS IMPORTADOS'!Z137","v":"CuentaDeNº REGISTRO"},{"$f":"'[1]HOJA GENERAL DATOS IMPORTADOS'!AA137","v":0},{"$f":"'[1]HOJA GENERAL DATOS IMPORTADOS'!AB137","v":0},{"$f":"'[1]HOJA GENERAL DATOS IMPORTADOS'!AC137","v":0},{"$f":"'[1]HOJA GENERAL DATOS IMPORTADOS'!AD137","v":0},{"$f":"'[1]HOJA GENERAL DATOS IMPORTADOS'!AE137","v":0},{"$f":"'[1]HOJA GENERAL DATOS IMPORTADOS'!AF137","v":0},{"$f":"'[1]HOJA GENERAL DATOS IMPORTADOS'!AG137","v":0},{"$f":"'[1]HOJA GENERAL DATOS IMPORTADOS'!AH137","v":0},{"$f":"'[1]HOJA GENERAL DATOS IMPORTADOS'!AI137","v":0}]
[{"$f":"'[1]HOJA GENERAL DATOS IMPORTADOS'!A138","v":0.92796072713833699},{"$f":"'[1]HOJA GENERAL DATOS IMPORTADOS'!B138","v":0.77237351492710205},{"$f":"'[1]HOJA GENERAL DATOS IMPORTADOS'!C138","v":0.71639899024741305},{"$f":"'[1]HOJA GENERAL DATOS IMPORTADOS'!D138","v":1.56853991352387},{"$f":"'[1]HOJA GENERAL DATOS IMPORTADOS'!E138","v":0.56811206883089804},{"$f":"'[1]HOJA GENERAL DATOS IMPORTADOS'!F138","v":1.0690449676497},{"$f":"'[1]HOJA GENERAL DATOS IMPORTADOS'!G138","v":1.18801332542007},{"$f":"'[1]HOJA GENERAL DATOS IMPORTADOS'!H138","v":1.0788981249502501},{"$f":"'[1]HOJA GENERAL DATOS IMPORTADOS'!I138","v":0.90486632647207599},{"$f":"'[1]HOJA GENERAL DATOS IMPORTADOS'!J138","v":1.1049431980420901},{"$f":"'[1]HOJA GENERAL DATOS IMPORTADOS'!K138","v":1.1841099620036999},{"$f":"'[1]HOJA GENERAL DATOS IMPORTADOS'!L138","v":0.73822323518942801},{"$f":"'[1]HOJA GENERAL DATOS IMPORTADOS'!M138","v":0.76289618036177198},{"$f":"'[1]HOJA GENERAL DATOS IMPORTADOS'!N138","v":0.68622115305451703},{"$f":"'[1]HOJA GENERAL DATOS IMPORTADOS'!O138","v":0.92008741245647196},{"$f":"'[1]HOJA GENERAL DATOS IMPORTADOS'!P138","v":0.62889001065579497},{"$f":"'[1]HOJA GENERAL DATOS IMPORTADOS'!Q138","v":1.1841099620036999},{"$f":"'[1]HOJA GENERAL DATOS IMPORTADOS'!R138","v":0.98332660745614797},{"$f":"'[1]HOJA GENERAL DATOS IMPORTADOS'!S138","v":1.1126972805283699},{"$f":"'[1]HOJA GENERAL DATOS IMPORTADOS'!T138","v":1.1007452982594199},{"$f":"'[1]HOJA GENERAL DATOS IMPORTADOS'!U138","v":0.81325006079044404},{"$f":"'[1]HOJA GENERAL DATOS IMPORTADOS'!V138","v":0.84437134186503704},{"$f":"'[1]HOJA GENERAL DATOS IMPORTADOS'!W138","v":1.0261140545329499},{"$f":"'[1]HOJA GENERAL DATOS IMPORTADOS'!X138","v":0.68622115305451703},{"$f":"'[1]HOJA GENERAL DATOS IMPORTADOS'!Y138","v":1.2301331282538099},{"$f":"'[1]HOJA GENERAL DATOS IMPORTADOS'!Z138","v":28},{"$f":"'[1]HOJA GENERAL DATOS IMPORTADOS'!AA138","v":0},{"$f":"'[1]HOJA GENERAL DATOS IMPORTADOS'!AB138","v":0},{"$f":"'[1]HOJA GENERAL DATOS IMPORTADOS'!AC138","v":0},{"$f":"'[1]HOJA GENERAL DATOS IMPORTADOS'!AD138","v":0},{"$f":"'[1]HOJA GENERAL DATOS IMPORTADOS'!AE138","v":0},{"$f":"'[1]HOJA GENERAL DATOS IMPORTADOS'!AF138","v":0},{"$f":"'[1]HOJA GENERAL DATOS IMPORTADOS'!AG138","v":0},{"$f":"'[1]HOJA GENERAL DATOS IMPORTADOS'!AH138","v":0},{"$f":"'[1]HOJA GENERAL DATOS IMPORTADOS'!AI138","v":0}]
[{"$f":"'[1]HOJA GENERAL DATOS IMPORTADOS'!A139","v":0},{"$f":"'[1]HOJA GENERAL DATOS IMPORTADOS'!B139","v":0},{"$f":"'[1]HOJA GENERAL DATOS IMPORTADOS'!C139","v":0},{"$f":"'[1]HOJA GENERAL DATOS IMPORTADOS'!D139","v":0},{"$f":"'[1]HOJA GENERAL DATOS IMPORTADOS'!E139","v":0},{"$f":"'[1]HOJA GENERAL DATOS IMPORTADOS'!F139","v":0},{"$f":"'[1]HOJA GENERAL DATOS IMPORTADOS'!G139","v":0},{"$f":"'[1]HOJA GENERAL DATOS IMPORTADOS'!H139","v":0},{"$f":"'[1]HOJA GENERAL DATOS IMPORTADOS'!I139","v":0},{"$f":"'[1]HOJA GENERAL DATOS IMPORTADOS'!J139","v":0},{"$f":"'[1]HOJA GENERAL DATOS IMPORTADOS'!K139","v":0},{"$f":"'[1]HOJA GENERAL DATOS IMPORTADOS'!L139","v":0},{"$f":"'[1]HOJA GENERAL DATOS IMPORTADOS'!M139","v":0},{"$f":"'[1]HOJA GENERAL DATOS IMPORTADOS'!N139","v":0},{"$f":"'[1]HOJA GENERAL DATOS IMPORTADOS'!O139","v":0},{"$f":"'[1]HOJA GENERAL DATOS IMPORTADOS'!P139","v":0},{"$f":"'[1]HOJA GENERAL DATOS IMPORTADOS'!Q139","v":0},{"$f":"'[1]HOJA GENERAL DATOS IMPORTADOS'!R139","v":0},{"$f":"'[1]HOJA GENERAL DATOS IMPORTADOS'!S139","v":0},{"$f":"'[1]HOJA GENERAL DATOS IMPORTADOS'!T139","v":0},{"$f":"'[1]HOJA GENERAL DATOS IMPORTADOS'!U139","v":0},{"$f":"'[1]HOJA GENERAL DATOS IMPORTADOS'!V139","v":0},{"$f":"'[1]HOJA GENERAL DATOS IMPORTADOS'!W139","v":0},{"$f":"'[1]HOJA GENERAL DATOS IMPORTADOS'!X139","v":0},{"$f":"'[1]HOJA GENERAL DATOS IMPORTADOS'!Y139","v":0},{"$f":"'[1]HOJA GENERAL DATOS IMPORTADOS'!Z139","v":0},{"$f":"'[1]HOJA GENERAL DATOS IMPORTADOS'!AA139","v":0},{"$f":"'[1]HOJA GENERAL DATOS IMPORTADOS'!AB139","v":0},{"$f":"'[1]HOJA GENERAL DATOS IMPORTADOS'!AC139","v":0},{"$f":"'[1]HOJA GENERAL DATOS IMPORTADOS'!AD139","v":0},{"$f":"'[1]HOJA GENERAL DATOS IMPORTADOS'!AE139","v":0},{"$f":"'[1]HOJA GENERAL DATOS IMPORTADOS'!AF139","v":0},{"$f":"'[1]HOJA GENERAL DATOS IMPORTADOS'!AG139","v":0},{"$f":"'[1]HOJA GENERAL DATOS IMPORTADOS'!AH139","v":0},{"$f":"'[1]HOJA GENERAL DATOS IMPORTADOS'!AI139","v":0}]
[{"$f":"'[1]HOJA GENERAL DATOS IMPORTADOS'!A140","v":0},{"$f":"'[1]HOJA GENERAL DATOS IMPORTADOS'!B140","v":0},{"$f":"'[1]HOJA GENERAL DATOS IMPORTADOS'!C140","v":0},{"$f":"'[1]HOJA GENERAL DATOS IMPORTADOS'!D140","v":0},{"$f":"'[1]HOJA GENERAL DATOS IMPORTADOS'!E140","v":0},{"$f":"'[1]HOJA GENERAL DATOS IMPORTADOS'!F140","v":0},{"$f":"'[1]HOJA GENERAL DATOS IMPORTADOS'!G140","v":0},{"$f":"'[1]HOJA GENERAL DATOS IMPORTADOS'!H140","v":0},{"$f":"'[1]HOJA GENERAL DATOS IMPORTADOS'!I140","v":0},{"$f":"'[1]HOJA GENERAL DATOS IMPORTADOS'!J140","v":0},{"$f":"'[1]HOJA GENERAL DATOS IMPORTADOS'!K140","v":0},{"$f":"'[1]HOJA GENERAL DATOS IMPORTADOS'!L140","v":0},{"$f":"'[1]HOJA GENERAL DATOS IMPORTADOS'!M140","v":0},{"$f":"'[1]HOJA GENERAL DATOS IMPORTADOS'!N140","v":0},{"$f":"'[1]HOJA GENERAL DATOS IMPORTADOS'!O140","v":0},{"$f":"'[1]HOJA GENERAL DATOS IMPORTADOS'!P140","v":0},{"$f":"'[1]HOJA GENERAL DATOS IMPORTADOS'!Q140","v":0},{"$f":"'[1]HOJA GENERAL DATOS IMPORTADOS'!R140","v":0},{"$f":"'[1]HOJA GENERAL DATOS IMPORTADOS'!S140","v":0},{"$f":"'[1]HOJA GENERAL DATOS IMPORTADOS'!T140","v":0},{"$f":"'[1]HOJA GENERAL DATOS IMPORTADOS'!U140","v":0},{"$f":"'[1]HOJA GENERAL DATOS IMPORTADOS'!V140","v":0},{"$f":"'[1]HOJA GENERAL DATOS IMPORTADOS'!W140","v":0},{"$f":"'[1]HOJA GENERAL DATOS IMPORTADOS'!X140","v":0},{"$f":"'[1]HOJA GENERAL DATOS IMPORTADOS'!Y140","v":0},{"$f":"'[1]HOJA GENERAL DATOS IMPORTADOS'!Z140","v":0},{"$f":"'[1]HOJA GENERAL DATOS IMPORTADOS'!AA140","v":0},{"$f":"'[1]HOJA GENERAL DATOS IMPORTADOS'!AB140","v":0},{"$f":"'[1]HOJA GENERAL DATOS IMPORTADOS'!AC140","v":0},{"$f":"'[1]HOJA GENERAL DATOS IMPORTADOS'!AD140","v":0},{"$f":"'[1]HOJA GENERAL DATOS IMPORTADOS'!AE140","v":0},{"$f":"'[1]HOJA GENERAL DATOS IMPORTADOS'!AF140","v":0},{"$f":"'[1]HOJA GENERAL DATOS IMPORTADOS'!AG140","v":0},{"$f":"'[1]HOJA GENERAL DATOS IMPORTADOS'!AH140","v":0},{"$f":"'[1]HOJA GENERAL DATOS IMPORTADOS'!AI140","v":0}]
[{"$f":"'[1]HOJA GENERAL DATOS IMPORTADOS'!A141","v":"NUMEROREGISTRO"},{"$f":"'[1]HOJA GENERAL DATOS IMPORTADOS'!B141","v":"GANADO"},{"$f":"'[1]HOJA GENERAL DATOS IMPORTADOS'!C141","v":"CODIGO IRIS"},{"$f":"'[1]HOJA GENERAL DATOS IMPORTADOS'!D141","v":"NOMBRE PRODUCTO"},{"$f":"'[1]HOJA GENERAL DATOS IMPORTADOS'!E141","v":"PRESENTACION"},{"$f":"'[1]HOJA GENERAL DATOS IMPORTADOS'!F141","v":"UFL/UFV"},{"$f":"'[1]HOJA GENERAL DATOS IMPORTADOS'!G141","v":"PROTEINA BRUTA"},{"$f":"'[1]HOJA GENERAL DATOS IMPORTADOS'!H141","v":"FIBRA BRUTA"},{"$f":"'[1]HOJA GENERAL DATOS IMPORTADOS'!I141","v":"GRASA BRUTA"},{"$f":"'[1]HOJA GENERAL DATOS IMPORTADOS'!J141","v":"CENIZAS"},{"$f":"'[1]HOJA GENERAL DATOS IMPORTADOS'!K141","v":"MODO DE EMPLEO"},{"$f":"'[1]HOJA GENERAL DATOS IMPORTADOS'!L141","v":"OBSERVACIONES"},{"$f":"'[1]HOJA GENERAL DATOS IMPORTADOS'!M141","v":0},{"$f":"'[1]HOJA GENERAL DATOS IMPORTADOS'!N141","v":0},{"$f":"'[1]HOJA GENERAL DATOS IMPORTADOS'!O141","v":0},{"$f":"'[1]HOJA GENERAL DATOS IMPORTADOS'!P141","v":0},{"$f":"'[1]HOJA GENERAL DATOS IMPORTADOS'!Q141","v":0},{"$f":"'[1]HOJA GENERAL DATOS IMPORTADOS'!R141","v":0},{"$f":"'[1]HOJA GENERAL DATOS IMPORTADOS'!S141","v":0},{"$f":"'[1]HOJA GENERAL DATOS IMPORTADOS'!T141","v":0},{"$f":"'[1]HOJA GENERAL DATOS IMPORTADOS'!U141","v":0},{"$f":"'[1]HOJA GENERAL DATOS IMPORTADOS'!V141","v":0},{"$f":"'[1]HOJA GENERAL DATOS IMPORTADOS'!W141","v":0},{"$f":"'[1]HOJA GENERAL DATOS IMPORTADOS'!X141","v":0},{"$f":"'[1]HOJA GENERAL DATOS IMPORTADOS'!Y141","v":0},{"$f":"'[1]HOJA GENERAL DATOS IMPORTADOS'!Z141","v":0},{"$f":"'[1]HOJA GENERAL DATOS IMPORTADOS'!AA141","v":0},{"$f":"'[1]HOJA GENERAL DATOS IMPORTADOS'!AB141","v":0},{"$f":"'[1]HOJA GENERAL DATOS IMPORTADOS'!AC141","v":0},{"$f":"'[1]HOJA GENERAL DATOS IMPORTADOS'!AD141","v":0},{"$f":"'[1]HOJA GENERAL DATOS IMPORTADOS'!AE141","v":0},{"$f":"'[1]HOJA GENERAL DATOS IMPORTADOS'!AF141","v":0},{"$f":"'[1]HOJA GENERAL DATOS IMPORTADOS'!AG141","v":0},{"$f":"'[1]HOJA GENERAL DATOS IMPORTADOS'!AH141","v":0},{"$f":"'[1]HOJA GENERAL DATOS IMPORTADOS'!AI141","v":0}]
[{"$f":"'[1]HOJA GENERAL DATOS IMPORTADOS'!A142","v":278},{"$f":"'[1]HOJA GENERAL DATOS IMPORTADOS'!B142","v":"OVINO"},{"$f":"'[1]HOJA GENERAL DATOS IMPORTADOS'!C142","v":"1808 GGR"},{"$f":"'[1]HOJA GENERAL DATOS IMPORTADOS'!D142","v":"OVIRECRIA"},{"$f":"'[1]HOJA GENERAL DATOS IMPORTADOS'!E142","v":"GRANULADO 3,5"},{"$f":"'[1]HOJA GENERAL DATOS IMPORTADOS'!F142","v":88},{"$f":"'[1]HOJA GENERAL DATOS IMPORTADOS'!G142","v":165},{"$f":"'[1]HOJA GENERAL DATOS IMPORTADOS'!H142","v":82},{"$f":"'[1]HOJA GENERAL DATOS IMPORTADOS'!I142","v":35},{"$f":"'[1]HOJA GENERAL DATOS IMPORTADOS'!J142","v":78},{"$f":"'[1]HOJA GENERAL DATOS IMPORTADOS'!K142","v":"Pienso complementario destinados a corderas de reposición desde los 3 a los 6-7 meses. Se puede suministar a voluntad con paja ad libitumn pero es aconsejable el aporte de forrajes"},{"$f":"'[1]HOJA GENERAL DATOS IMPORTADOS'!L142","v":"Los animales dispondrán en todo momento de agua limpia y fresca a libre servicio. Consultar a los servicios técnicos."},{"$f":"'[1]HOJA GENERAL DATOS IMPORTADOS'!M142","v":0},{"$f":"'[1]HOJA GENERAL DATOS IMPORTADOS'!N142","v":0},{"$f":"'[1]HOJA GENERAL DATOS IMPORTADOS'!O142","v":0},{"$f":"'[1]HOJA GENERAL DATOS IMPORTADOS'!P142","v":0},{"$f":"'[1]HOJA GENERAL DATOS IMPORTADOS'!Q142","v":0},{"$f":"'[1]HOJA GENERAL DATOS IMPORTADOS'!R142","v":0},{"$f":"'[1]HOJA GENERAL DATOS IMPORTADOS'!S142","v":0},{"$f":"'[1]HOJA GENERAL DATOS IMPORTADOS'!T142","v":0},{"$f":"'[1]HOJA GENERAL DATOS IMPORTADOS'!U142","v":0},{"$f":"'[1]HOJA GENERAL DATOS IMPORTADOS'!V142","v":0},{"$f":"'[1]HOJA GENERAL DATOS IMPORTADOS'!W142","v":0},{"$f":"'[1]HOJA GENERAL DATOS IMPORTADOS'!X142","v":0},{"$f":"'[1]HOJA GENERAL DATOS IMPORTADOS'!Y142","v":0},{"$f":"'[1]HOJA GENERAL DATOS IMPORTADOS'!Z142","v":0},{"$f":"'[1]HOJA GENERAL DATOS IMPORTADOS'!AA142","v":0},{"$f":"'[1]HOJA GENERAL DATOS IMPORTADOS'!AB142","v":0},{"$f":"'[1]HOJA GENERAL DATOS IMPORTADOS'!AC142","v":0},{"$f":"'[1]HOJA GENERAL DATOS IMPORTADOS'!AD142","v":0},{"$f":"'[1]HOJA GENERAL DATOS IMPORTADOS'!AE142","v":0},{"$f":"'[1]HOJA GENERAL DATOS IMPORTADOS'!AF142","v":0},{"$f":"'[1]HOJA GENERAL DATOS IMPORTADOS'!AG142","v":0},{"$f":"'[1]HOJA GENERAL DATOS IMPORTADOS'!AH142","v":0},{"$f":"'[1]HOJA GENERAL DATOS IMPORTADOS'!AI142","v":0}]
[{"$f":"'[1]HOJA GENERAL DATOS IMPORTADOS'!A143","v":285},{"$f":"'[1]HOJA GENERAL DATOS IMPORTADOS'!B143","v":"CAPRINO"},{"$f":"'[1]HOJA GENERAL DATOS IMPORTADOS'!C143","v":"1610 GGR"},{"$f":"'[1]HOJA GENERAL DATOS IMPORTADOS'!D143","v":"CAPRIRECRIA"},{"$f":"'[1]HOJA GENERAL DATOS IMPORTADOS'!E143","v":"GRANULADO 3,5"},{"$f":"'[1]HOJA GENERAL DATOS IMPORTADOS'!F143","v":89},{"$f":"'[1]HOJA GENERAL DATOS IMPORTADOS'!G143","v":165},{"$f":"'[1]HOJA GENERAL DATOS IMPORTADOS'!H143","v":82},{"$f":"'[1]HOJA GENERAL DATOS IMPORTADOS'!I143","v":35},{"$f":"'[1]HOJA GENERAL DATOS IMPORTADOS'!J143","v":78},{"$f":"'[1]HOJA GENERAL DATOS IMPORTADOS'!K143","v":"Pienso complementario destinados a chivas de reposición desde los 3 a los 6-7 meses. Se puede suministar a voluntad con paja ad libitumn pero es aconsejable el aporte de forrajes"},{"$f":"'[1]HOJA GENERAL DATOS IMPORTADOS'!L143","v":"Los animales dispondrán en todo momento de agua limpia y fresca a libre servicio. Consultar a los servicios técnicos."},{"$f":"'[1]HOJA GENERAL DATOS IMPORTADOS'!M143","v":0},{"$f":"'[1]HOJA GENERAL DATOS IMPORTADOS'!N143","v":0},{"$f":"'[1]HOJA GENERAL DATOS IMPORTADOS'!O143","v":0},{"$f":"'[1]HOJA GENERAL DATOS IMPORTADOS'!P143","v":0},{"$f":"'[1]HOJA GENERAL DATOS IMPORTADOS'!Q143","v":0},{"$f":"'[1]HOJA GENERAL DATOS IMPORTADOS'!R143","v":0},{"$f":"'[1]HOJA GENERAL DATOS IMPORTADOS'!S143","v":0},{"$f":"'[1]HOJA GENERAL DATOS IMPORTADOS'!T143","v":0},{"$f":"'[1]HOJA GENERAL DATOS IMPORTADOS'!U143","v":0},{"$f":"'[1]HOJA GENERAL DATOS IMPORTADOS'!V143","v":0},{"$f":"'[1]HOJA GENERAL DATOS IMPORTADOS'!W143","v":0},{"$f":"'[1]HOJA GENERAL DATOS IMPORTADOS'!X143","v":0},{"$f":"'[1]HOJA GENERAL DATOS IMPORTADOS'!Y143","v":0},{"$f":"'[1]HOJA GENERAL DATOS IMPORTADOS'!Z143","v":0},{"$f":"'[1]HOJA GENERAL DATOS IMPORTADOS'!AA143","v":0},{"$f":"'[1]HOJA GENERAL DATOS IMPORTADOS'!AB143","v":0},{"$f":"'[1]HOJA GENERAL DATOS IMPORTADOS'!AC143","v":0},{"$f":"'[1]HOJA GENERAL DATOS IMPORTADOS'!AD143","v":0},{"$f":"'[1]HOJA GENERAL DATOS IMPORTADOS'!AE143","v":0},{"$f":"'[1]HOJA GENERAL DATOS IMPORTADOS'!AF143","v":0},{"$f":"'[1]HOJA GENERAL DATOS IMPORTADOS'!AG143","v":0},{"$f":"'[1]HOJA GENERAL DATOS IMPORTADOS'!AH143","v":0},{"$f":"'[1]HOJA GENERAL DATOS IMPORTADOS'!AI143","v":0}]
[{"$f":"'[1]HOJA GENERAL DATOS IMPORTADOS'!A144","v":298},{"$f":"'[1]HOJA GENERAL DATOS IMPORTADOS'!B144","v":"CAPRINO"},{"$f":"'[1]HOJA GENERAL DATOS IMPORTADOS'!C144","v":"1512 GGR"},{"$f":"'[1]HOJA GENERAL DATOS IMPORTADOS'!D144","v":"CAPRI KOMPLET ESTANDAR"},{"$f":"'[1]HOJA GENERAL DATOS IMPORTADOS'!E144","v":"GRANULADO 3,5"},{"$f":"'[1]HOJA GENERAL DATOS IMPORTADOS'!F144","v":90},{"$f":"'[1]HOJA GENERAL DATOS IMPORTADOS'!G144","v":170},{"$f":"'[1]HOJA GENERAL DATOS IMPORTADOS'!H144","v":120},{"$f":"'[1]HOJA GENERAL DATOS IMPORTADOS'!I144","v":35},{"$f":"'[1]HOJA GENERAL DATOS IMPORTADOS'!J144","v":75},{"$f":"'[1]HOJA GENERAL DATOS IMPORTADOS'!K144","v":"Pienso complementario destinado a cabras de leche para ser suministrado con paja a voluntad. La paja deberá ser limpia y seca y se administrará ad libitum. Los animales dispondrán de agua limpia y fresca."},{"$f":"'[1]HOJA GENERAL DATOS IMPORTADOS'!L144","v":"Preferiblemente administrar varias veces al día pero que siempre lo tengan disponible. La transición a este alñimento debe ser lenta (15 días mínimo) y paulatina. Recomendamos tener a los animales desparasitados y vacunados de Enterotoxemia."},{"$f":"'[1]HOJA GENERAL DATOS IMPORTADOS'!M144","v":0},{"$f":"'[1]HOJA GENERAL DATOS IMPORTADOS'!N144","v":0},{"$f":"'[1]HOJA GENERAL DATOS IMPORTADOS'!O144","v":0},{"$f":"'[1]HOJA GENERAL DATOS IMPORTADOS'!P144","v":0},{"$f":"'[1]HOJA GENERAL DATOS IMPORTADOS'!Q144","v":0},{"$f":"'[1]HOJA GENERAL DATOS IMPORTADOS'!R144","v":0},{"$f":"'[1]HOJA GENERAL DATOS IMPORTADOS'!S144","v":0},{"$f":"'[1]HOJA GENERAL DATOS IMPORTADOS'!T144","v":0},{"$f":"'[1]HOJA GENERAL DATOS IMPORTADOS'!U144","v":0},{"$f":"'[1]HOJA GENERAL DATOS IMPORTADOS'!V144","v":0},{"$f":"'[1]HOJA GENERAL DATOS IMPORTADOS'!W144","v":0},{"$f":"'[1]HOJA GENERAL DATOS IMPORTADOS'!X144","v":0},{"$f":"'[1]HOJA GENERAL DATOS IMPORTADOS'!Y144","v":0},{"$f":"'[1]HOJA GENERAL DATOS IMPORTADOS'!Z144","v":0},{"$f":"'[1]HOJA GENERAL DATOS IMPORTADOS'!AA144","v":0},{"$f":"'[1]HOJA GENERAL DATOS IMPORTADOS'!AB144","v":0},{"$f":"'[1]HOJA GENERAL DATOS IMPORTADOS'!AC144","v":0},{"$f":"'[1]HOJA GENERAL DATOS IMPORTADOS'!AD144","v":0},{"$f":"'[1]HOJA GENERAL DATOS IMPORTADOS'!AE144","v":0},{"$f":"'[1]HOJA GENERAL DATOS IMPORTADOS'!AF144","v":0},{"$f":"'[1]HOJA GENERAL DATOS IMPORTADOS'!AG144","v":0},{"$f":"'[1]HOJA GENERAL DATOS IMPORTADOS'!AH144","v":0},{"$f":"'[1]HOJA GENERAL DATOS IMPORTADOS'!AI144","v":0}]
[{"$f":"'[1]HOJA GENERAL DATOS IMPORTADOS'!A145","v":299},{"$f":"'[1]HOJA GENERAL DATOS IMPORTADOS'!B145","v":"CAPRINO"},{"$f":"'[1]HOJA GENERAL DATOS IMPORTADOS'!C145","v":"1515 GGR"},{"$f":"'[1]HOJA GENERAL DATOS IMPORTADOS'!D145","v":"CAPRI KOMPLET ESPECIAL"},{"$f":"'[1]HOJA GENERAL DATOS IMPORTADOS'!E145","v":"GRANULADO 10"},{"$f":"'[1]HOJA GENERAL DATOS IMPORTADOS'!F145","v":92},{"$f":"'[1]HOJA GENERAL DATOS IMPORTADOS'!G145","v":170},{"$f":"'[1]HOJA GENERAL DATOS IMPORTADOS'!H145","v":120},{"$f":"'[1]HOJA GENERAL DATOS IMPORTADOS'!I145","v":40},{"$f":"'[1]HOJA GENERAL DATOS IMPORTADOS'!J145","v":83},{"$f":"'[1]HOJA GENERAL DATOS IMPORTADOS'!K145","v":"Pienso complementario  de paja para cabras en ordeño. Los animales dispondrán en todo momento de paja de cereales limpia y agua limpia y fresca. Puede emplearse racionado o a voluntad. Diseñado especialmente para cabras tipo murciano."},{"$f":"'[1]HOJA GENERAL DATOS IMPORTADOS'!L145","v":"Preferiblemente administrar varias veces al día pero que siempre lo tengan disponible. La transición a este alimento debe ser lenta (15 días mínimo) y paulatina. Recomendamos tener a los animales desparasitados y vacunados de Enterotoxemia."},{"$f":"'[1]HOJA GENERAL DATOS IMPORTADOS'!M145","v":0},{"$f":"'[1]HOJA GENERAL DATOS IMPORTADOS'!N145","v":0},{"$f":"'[1]HOJA GENERAL DATOS IMPORTADOS'!O145","v":0},{"$f":"'[1]HOJA GENERAL DATOS IMPORTADOS'!P145","v":0},{"$f":"'[1]HOJA GENERAL DATOS IMPORTADOS'!Q145","v":0},{"$f":"'[1]HOJA GENERAL DATOS IMPORTADOS'!R145","v":0},{"$f":"'[1]HOJA GENERAL DATOS IMPORTADOS'!S145","v":0},{"$f":"'[1]HOJA GENERAL DATOS IMPORTADOS'!T145","v":0},{"$f":"'[1]HOJA GENERAL DATOS IMPORTADOS'!U145","v":0},{"$f":"'[1]HOJA GENERAL DATOS IMPORTADOS'!V145","v":0},{"$f":"'[1]HOJA GENERAL DATOS IMPORTADOS'!W145","v":0},{"$f":"'[1]HOJA GENERAL DATOS IMPORTADOS'!X145","v":0},{"$f":"'[1]HOJA GENERAL DATOS IMPORTADOS'!Y145","v":0},{"$f":"'[1]HOJA GENERAL DATOS IMPORTADOS'!Z145","v":0},{"$f":"'[1]HOJA GENERAL DATOS IMPORTADOS'!AA145","v":0},{"$f":"'[1]HOJA GENERAL DATOS IMPORTADOS'!AB145","v":0},{"$f":"'[1]HOJA GENERAL DATOS IMPORTADOS'!AC145","v":0},{"$f":"'[1]HOJA GENERAL DATOS IMPORTADOS'!AD145","v":0},{"$f":"'[1]HOJA GENERAL DATOS IMPORTADOS'!AE145","v":0},{"$f":"'[1]HOJA GENERAL DATOS IMPORTADOS'!AF145","v":0},{"$f":"'[1]HOJA GENERAL DATOS IMPORTADOS'!AG145","v":0},{"$f":"'[1]HOJA GENERAL DATOS IMPORTADOS'!AH145","v":0},{"$f":"'[1]HOJA GENERAL DATOS IMPORTADOS'!AI145","v":0}]
[{"$f":"'[1]HOJA GENERAL DATOS IMPORTADOS'!A146","v":374},{"$f":"'[1]HOJA GENERAL DATOS IMPORTADOS'!B146","v":"OVINO/CAPRINO"},{"$f":"'[1]HOJA GENERAL DATOS IMPORTADOS'!C146","v":"1669 GGR"},{"$f":"'[1]HOJA GENERAL DATOS IMPORTADOS'!D146","v":"INOGEST"},{"$f":"'[1]HOJA GENERAL DATOS IMPORTADOS'!E146","v":"GRANULADO 3,5"},{"$f":"'[1]HOJA GENERAL DATOS IMPORTADOS'!F146","v":92},{"$f":"'[1]HOJA GENERAL DATOS IMPORTADOS'!G146","v":143},{"$f":"'[1]HOJA GENERAL DATOS IMPORTADOS'!H146","v":71},{"$f":"'[1]HOJA GENERAL DATOS IMPORTADOS'!I146","v":28},{"$f":"'[1]HOJA GENERAL DATOS IMPORTADOS'!J146","v":67},{"$f":"'[1]HOJA GENERAL DATOS IMPORTADOS'!K146","v":"Pienso complementario especial para el preparto de ovejas y cabras de ordeño . Utilizar como complementario de forrajes los últimos 45 días de antes del parto."},{"$f":"'[1]HOJA GENERAL DATOS IMPORTADOS'!L146","v":"No se recomienda la utilización de paja en esta fase sobre todo en razas muy lecheras y prolíficas.Los animales dispondrán de agua limpia y fresca a libre disposición."},{"$f":"'[1]HOJA GENERAL DATOS IMPORTADOS'!M146","v":0},{"$f":"'[1]HOJA GENERAL DATOS IMPORTADOS'!N146","v":0},{"$f":"'[1]HOJA GENERAL DATOS IMPORTADOS'!O146","v":0},{"$f":"'[1]HOJA GENERAL DATOS IMPORTADOS'!P146","v":0},{"$f":"'[1]HOJA GENERAL DATOS IMPORTADOS'!Q146","v":0},{"$f":"'[1]HOJA GENERAL DATOS IMPORTADOS'!R146","v":0},{"$f":"'[1]HOJA GENERAL DATOS IMPORTADOS'!S146","v":0},{"$f":"'[1]HOJA GENERAL DATOS IMPORTADOS'!T146","v":0},{"$f":"'[1]HOJA GENERAL DATOS IMPORTADOS'!U146","v":0},{"$f":"'[1]HOJA GENERAL DATOS IMPORTADOS'!V146","v":0},{"$f":"'[1]HOJA GENERAL DATOS IMPORTADOS'!W146","v":0},{"$f":"'[1]HOJA GENERAL DATOS IMPORTADOS'!X146","v":0},{"$f":"'[1]HOJA GENERAL DATOS IMPORTADOS'!Y146","v":0},{"$f":"'[1]HOJA GENERAL DATOS IMPORTADOS'!Z146","v":0},{"$f":"'[1]HOJA GENERAL DATOS IMPORTADOS'!AA146","v":0},{"$f":"'[1]HOJA GENERAL DATOS IMPORTADOS'!AB146","v":0},{"$f":"'[1]HOJA GENERAL DATOS IMPORTADOS'!AC146","v":0},{"$f":"'[1]HOJA GENERAL DATOS IMPORTADOS'!AD146","v":0},{"$f":"'[1]HOJA GENERAL DATOS IMPORTADOS'!AE146","v":0},{"$f":"'[1]HOJA GENERAL DATOS IMPORTADOS'!AF146","v":0},{"$f":"'[1]HOJA GENERAL DATOS IMPORTADOS'!AG146","v":0},{"$f":"'[1]HOJA GENERAL DATOS IMPORTADOS'!AH146","v":0},{"$f":"'[1]HOJA GENERAL DATOS IMPORTADOS'!AI146","v":0}]
[{"$f":"'[1]HOJA GENERAL DATOS IMPORTADOS'!A147","v":383},{"$f":"'[1]HOJA GENERAL DATOS IMPORTADOS'!B147","v":"OVINO"},{"$f":"'[1]HOJA GENERAL DATOS IMPORTADOS'!C147","v":"1705 GGR"},{"$f":"'[1]HOJA GENERAL DATOS IMPORTADOS'!D147","v":"OVIKOMPLET"},{"$f":"'[1]HOJA GENERAL DATOS IMPORTADOS'!E147","v":"GRANULADO 10"},{"$f":"'[1]HOJA GENERAL DATOS IMPORTADOS'!F147","v":88},{"$f":"'[1]HOJA GENERAL DATOS IMPORTADOS'!G147","v":180},{"$f":"'[1]HOJA GENERAL DATOS IMPORTADOS'!H147","v":120},{"$f":"'[1]HOJA GENERAL DATOS IMPORTADOS'!I147","v":40},{"$f":"'[1]HOJA GENERAL DATOS IMPORTADOS'!J147","v":80},{"$f":"'[1]HOJA GENERAL DATOS IMPORTADOS'!K147","v":"Pienso complementario de paja para ovejas en ordeño. Los animales dispondrán en todo momento de paja de cereales limpia y agua limpia y fresca. Puede emplearse racionado o a voluntad. Consultar cada caso con los servicios técnicos."},{"$f":"'[1]HOJA GENERAL DATOS IMPORTADOS'!L147","v":"Preferiblemente administrar varias veces al día pero que siempre lo tengan disponible.La transición a este alimento debe ser lenta (15 días mínimo) y paulatina. Necesaria vacunacion Enterotoxemia."},{"$f":"'[1]HOJA GENERAL DATOS IMPORTADOS'!M147","v":0},{"$f":"'[1]HOJA GENERAL DATOS IMPORTADOS'!N147","v":0},{"$f":"'[1]HOJA GENERAL DATOS IMPORTADOS'!O147","v":0},{"$f":"'[1]HOJA GENERAL DATOS IMPORTADOS'!P147","v":0},{"$f":"'[1]HOJA GENERAL DATOS IMPORTADOS'!Q147","v":0},{"$f":"'[1]HOJA GENERAL DATOS IMPORTADOS'!R147","v":0},{"$f":"'[1]HOJA GENERAL DATOS IMPORTADOS'!S147","v":0},{"$f":"'[1]HOJA GENERAL DATOS IMPORTADOS'!T147","v":0},{"$f":"'[1]HOJA GENERAL DATOS IMPORTADOS'!U147","v":0},{"$f":"'[1]HOJA GENERAL DATOS IMPORTADOS'!V147","v":0},{"$f":"'[1]HOJA GENERAL DATOS IMPORTADOS'!W147","v":0},{"$f":"'[1]HOJA GENERAL DATOS IMPORTADOS'!X147","v":0},{"$f":"'[1]HOJA GENERAL DATOS IMPORTADOS'!Y147","v":0},{"$f":"'[1]HOJA GENERAL DATOS IMPORTADOS'!Z147","v":0},{"$f":"'[1]HOJA GENERAL DATOS IMPORTADOS'!AA147","v":0},{"$f":"'[1]HOJA GENERAL DATOS IMPORTADOS'!AB147","v":0},{"$f":"'[1]HOJA GENERAL DATOS IMPORTADOS'!AC147","v":0},{"$f":"'[1]HOJA GENERAL DATOS IMPORTADOS'!AD147","v":0},{"$f":"'[1]HOJA GENERAL DATOS IMPORTADOS'!AE147","v":0},{"$f":"'[1]HOJA GENERAL DATOS IMPORTADOS'!AF147","v":0},{"$f":"'[1]HOJA GENERAL DATOS IMPORTADOS'!AG147","v":0},{"$f":"'[1]HOJA GENERAL DATOS IMPORTADOS'!AH147","v":0},{"$f":"'[1]HOJA GENERAL DATOS IMPORTADOS'!AI147","v":0}]
[{"$f":"'[1]HOJA GENERAL DATOS IMPORTADOS'!A148","v":391},{"$f":"'[1]HOJA GENERAL DATOS IMPORTADOS'!B148","v":"OVINO"},{"$f":"'[1]HOJA GENERAL DATOS IMPORTADOS'!C148","v":"1777 GGR"},{"$f":"'[1]HOJA GENERAL DATOS IMPORTADOS'!D148","v":"OVIKOMPLET BASIC"},{"$f":"'[1]HOJA GENERAL DATOS IMPORTADOS'!E148","v":"GRANULADO 10"},{"$f":"'[1]HOJA GENERAL DATOS IMPORTADOS'!F148","v":81},{"$f":"'[1]HOJA GENERAL DATOS IMPORTADOS'!G148","v":165},{"$f":"'[1]HOJA GENERAL DATOS IMPORTADOS'!H148","v":135},{"$f":"'[1]HOJA GENERAL DATOS IMPORTADOS'!I148","v":30},{"$f":"'[1]HOJA GENERAL DATOS IMPORTADOS'!J148","v":87},{"$f":"'[1]HOJA GENERAL DATOS IMPORTADOS'!K148","v":"Pienso complementario de paja para ovejas en ordeño. Los animales dispondrán en todo momento de paja de cereales limpia y agua limpia y fresca. Puede emplearse racionado. Consultar cada caso con los servicios técnicos."},{"$f":"'[1]HOJA GENERAL DATOS IMPORTADOS'!L148","v":"Preferiblemente administrar varias veces al día pero que siempre lo tengan disponible.La transición a este alimento debe ser lenta (15 días mínimo) y paulatina. Necesaria vacunacion Enterotoxemia."},{"$f":"'[1]HOJA GENERAL DATOS IMPORTADOS'!M148","v":0},{"$f":"'[1]HOJA GENERAL DATOS IMPORTADOS'!N148","v":0},{"$f":"'[1]HOJA GENERAL DATOS IMPORTADOS'!O148","v":0},{"$f":"'[1]HOJA GENERAL DATOS IMPORTADOS'!P148","v":0},{"$f":"'[1]HOJA GENERAL DATOS IMPORTADOS'!Q148","v":0},{"$f":"'[1]HOJA GENERAL DATOS IMPORTADOS'!R148","v":0},{"$f":"'[1]HOJA GENERAL DATOS IMPORTADOS'!S148","v":0},{"$f":"'[1]HOJA GENERAL DATOS IMPORTADOS'!T148","v":0},{"$f":"'[1]HOJA GENERAL DATOS IMPORTADOS'!U148","v":0},{"$f":"'[1]HOJA GENERAL DATOS IMPORTADOS'!V148","v":0},{"$f":"'[1]HOJA GENERAL DATOS IMPORTADOS'!W148","v":0},{"$f":"'[1]HOJA GENERAL DATOS IMPORTADOS'!X148","v":0},{"$f":"'[1]HOJA GENERAL DATOS IMPORTADOS'!Y148","v":0},{"$f":"'[1]HOJA GENERAL DATOS IMPORTADOS'!Z148","v":0},{"$f":"'[1]HOJA GENERAL DATOS IMPORTADOS'!AA148","v":0},{"$f":"'[1]HOJA GENERAL DATOS IMPORTADOS'!AB148","v":0},{"$f":"'[1]HOJA GENERAL DATOS IMPORTADOS'!AC148","v":0},{"$f":"'[1]HOJA GENERAL DATOS IMPORTADOS'!AD148","v":0},{"$f":"'[1]HOJA GENERAL DATOS IMPORTADOS'!AE148","v":0},{"$f":"'[1]HOJA GENERAL DATOS IMPORTADOS'!AF148","v":0},{"$f":"'[1]HOJA GENERAL DATOS IMPORTADOS'!AG148","v":0},{"$f":"'[1]HOJA GENERAL DATOS IMPORTADOS'!AH148","v":0},{"$f":"'[1]HOJA GENERAL DATOS IMPORTADOS'!AI148","v":0}]
[{"$f":"'[1]HOJA GENERAL DATOS IMPORTADOS'!A149","v":396},{"$f":"'[1]HOJA GENERAL DATOS IMPORTADOS'!B149","v":"OVINO"},{"$f":"'[1]HOJA GENERAL DATOS IMPORTADOS'!C149","v":"1797 GGR"},{"$f":"'[1]HOJA GENERAL DATOS IMPORTADOS'!D149","v":"OVIKOMPLET EQ"},{"$f":"'[1]HOJA GENERAL DATOS IMPORTADOS'!E149","v":"GRANULADO 10"},{"$f":"'[1]HOJA GENERAL DATOS IMPORTADOS'!F149","v":86},{"$f":"'[1]HOJA GENERAL DATOS IMPORTADOS'!G149","v":180},{"$f":"'[1]HOJA GENERAL DATOS IMPORTADOS'!H149","v":155},{"$f":"'[1]HOJA GENERAL DATOS IMPORTADOS'!I149","v":40},{"$f":"'[1]HOJA GENERAL DATOS IMPORTADOS'!J149","v":90},{"$f":"'[1]HOJA GENERAL DATOS IMPORTADOS'!K149","v":"Pienso complementario de paja para ovejas en ordeño. Los animales dispondrán en todo momento de paja de cereales limpia y agua limpia y fresca. Puede emplearse racionado o a voluntad. Consultar cada caso con los servicios técnicos."},{"$f":"'[1]HOJA GENERAL DATOS IMPORTADOS'!L149","v":"Preferiblemente administrar varias veces al día pero que siempre lo tengan disponible.La transición a este alimento debe ser lenta (15 días mínimo) y paulatina. Necesaria vacunacion Enterotoxemia."},{"$f":"'[1]HOJA GENERAL DATOS IMPORTADOS'!M149","v":0},{"$f":"'[1]HOJA GENERAL DATOS IMPORTADOS'!N149","v":0},{"$f":"'[1]HOJA GENERAL DATOS IMPORTADOS'!O149","v":0},{"$f":"'[1]HOJA GENERAL DATOS IMPORTADOS'!P149","v":0},{"$f":"'[1]HOJA GENERAL DATOS IMPORTADOS'!Q149","v":0},{"$f":"'[1]HOJA GENERAL DATOS IMPORTADOS'!R149","v":0},{"$f":"'[1]HOJA GENERAL DATOS IMPORTADOS'!S149","v":0},{"$f":"'[1]HOJA GENERAL DATOS IMPORTADOS'!T149","v":0},{"$f":"'[1]HOJA GENERAL DATOS IMPORTADOS'!U149","v":0},{"$f":"'[1]HOJA GENERAL DATOS IMPORTADOS'!V149","v":0},{"$f":"'[1]HOJA GENERAL DATOS IMPORTADOS'!W149","v":0},{"$f":"'[1]HOJA GENERAL DATOS IMPORTADOS'!X149","v":0},{"$f":"'[1]HOJA GENERAL DATOS IMPORTADOS'!Y149","v":0},{"$f":"'[1]HOJA GENERAL DATOS IMPORTADOS'!Z149","v":0},{"$f":"'[1]HOJA GENERAL DATOS IMPORTADOS'!AA149","v":0},{"$f":"'[1]HOJA GENERAL DATOS IMPORTADOS'!AB149","v":0},{"$f":"'[1]HOJA GENERAL DATOS IMPORTADOS'!AC149","v":0},{"$f":"'[1]HOJA GENERAL DATOS IMPORTADOS'!AD149","v":0},{"$f":"'[1]HOJA GENERAL DATOS IMPORTADOS'!AE149","v":0},{"$f":"'[1]HOJA GENERAL DATOS IMPORTADOS'!AF149","v":0},{"$f":"'[1]HOJA GENERAL DATOS IMPORTADOS'!AG149","v":0},{"$f":"'[1]HOJA GENERAL DATOS IMPORTADOS'!AH149","v":0},{"$f":"'[1]HOJA GENERAL DATOS IMPORTADOS'!AI149","v":0}]
[{"$f":"'[1]HOJA GENERAL DATOS IMPORTADOS'!A150","v":397},{"$f":"'[1]HOJA GENERAL DATOS IMPORTADOS'!B150","v":"CAPRINO"},{"$f":"'[1]HOJA GENERAL DATOS IMPORTADOS'!C150","v":""},{"$f":"'[1]HOJA GENERAL DATOS IMPORTADOS'!D150","v":"CAPRIKOMPLET PLUS"},{"$f":"'[1]HOJA GENERAL DATOS IMPORTADOS'!E150","v":"GRANULADO 3,5"},{"$f":"'[1]HOJA GENERAL DATOS IMPORTADOS'!F150","v":94},{"$f":"'[1]HOJA GENERAL DATOS IMPORTADOS'!G150","v":180},{"$f":"'[1]HOJA GENERAL DATOS IMPORTADOS'!H150","v":100},{"$f":"'[1]HOJA GENERAL DATOS IMPORTADOS'!I150","v":38},{"$f":"'[1]HOJA GENERAL DATOS IMPORTADOS'!J150","v":74},{"$f":"'[1]HOJA GENERAL DATOS IMPORTADOS'!K150","v":"Pienso complementario  de paja para cabras en ordeño. Los animales dispondrán en todo momento de paja de cereales y algo de forraje y agua limpia y fresca . Puede emplearse racionado o a voluntad. Diseñado especialmente para cabras tipo murciano."},{"$f":"'[1]HOJA GENERAL DATOS IMPORTADOS'!L150","v":"Preferiblemente administrar varias veces al día pero que siempre lo tengan disponible. La transición a este alimento debe ser lenta (15 días mínimo) y paulatina. Recomendamos tener a los animales desparasitados y vacunados de Enterotoxemia."},{"$f":"'[1]HOJA GENERAL DATOS IMPORTADOS'!M150","v":0},{"$f":"'[1]HOJA GENERAL DATOS IMPORTADOS'!N150","v":0},{"$f":"'[1]HOJA GENERAL DATOS IMPORTADOS'!O150","v":0},{"$f":"'[1]HOJA GENERAL DATOS IMPORTADOS'!P150","v":0},{"$f":"'[1]HOJA GENERAL DATOS IMPORTADOS'!Q150","v":0},{"$f":"'[1]HOJA GENERAL DATOS IMPORTADOS'!R150","v":0},{"$f":"'[1]HOJA GENERAL DATOS IMPORTADOS'!S150","v":0},{"$f":"'[1]HOJA GENERAL DATOS IMPORTADOS'!T150","v":0},{"$f":"'[1]HOJA GENERAL DATOS IMPORTADOS'!U150","v":0},{"$f":"'[1]HOJA GENERAL DATOS IMPORTADOS'!V150","v":0},{"$f":"'[1]HOJA GENERAL DATOS IMPORTADOS'!W150","v":0},{"$f":"'[1]HOJA GENERAL DATOS IMPORTADOS'!X150","v":0},{"$f":"'[1]HOJA GENERAL DATOS IMPORTADOS'!Y150","v":0},{"$f":"'[1]HOJA GENERAL DATOS IMPORTADOS'!Z150","v":0},{"$f":"'[1]HOJA GENERAL DATOS IMPORTADOS'!AA150","v":0},{"$f":"'[1]HOJA GENERAL DATOS IMPORTADOS'!AB150","v":0},{"$f":"'[1]HOJA GENERAL DATOS IMPORTADOS'!AC150","v":0},{"$f":"'[1]HOJA GENERAL DATOS IMPORTADOS'!AD150","v":0},{"$f":"'[1]HOJA GENERAL DATOS IMPORTADOS'!AE150","v":0},{"$f":"'[1]HOJA GENERAL DATOS IMPORTADOS'!AF150","v":0},{"$f":"'[1]HOJA GENERAL DATOS IMPORTADOS'!AG150","v":0},{"$f":"'[1]HOJA GENERAL DATOS IMPORTADOS'!AH150","v":0},{"$f":"'[1]HOJA GENERAL DATOS IMPORTADOS'!AI150","v":0}]
[{"$f":"'[1]HOJA GENERAL DATOS IMPORTADOS'!A151","v":413},{"$f":"'[1]HOJA GENERAL DATOS IMPORTADOS'!B151","v":"OVINO/CAPRINO"},{"$f":"'[1]HOJA GENERAL DATOS IMPORTADOS'!C151","v":"1818 GGR"},{"$f":"'[1]HOJA GENERAL DATOS IMPORTADOS'!D151","v":"KOMPLET GESTACION"},{"$f":"'[1]HOJA GENERAL DATOS IMPORTADOS'!E151","v":"GRANULADO 3,5"},{"$f":"'[1]HOJA GENERAL DATOS IMPORTADOS'!F151","v":90},{"$f":"'[1]HOJA GENERAL DATOS IMPORTADOS'!G151","v":175},{"$f":"'[1]HOJA GENERAL DATOS IMPORTADOS'!H151","v":90},{"$f":"'[1]HOJA GENERAL DATOS IMPORTADOS'!I151","v":25},{"$f":"'[1]HOJA GENERAL DATOS IMPORTADOS'!J151","v":83},{"$f":"'[1]HOJA GENERAL DATOS IMPORTADOS'!K151","v":"Pienso complementario especial para el preparto de ovejas y cabras de ordeño . Utilizar como complementario de forrajes (incluido paja) los últimos 45 días de antes del parto."},{"$f":"'[1]HOJA GENERAL DATOS IMPORTADOS'!L151","v":"racionar adecuadamente según peso vivo y prolificidad. .Los animales dispondrán de agua limpia y fresca a libre disposición."},{"$f":"'[1]HOJA GENERAL DATOS IMPORTADOS'!M151","v":0},{"$f":"'[1]HOJA GENERAL DATOS IMPORTADOS'!N151","v":0},{"$f":"'[1]HOJA GENERAL DATOS IMPORTADOS'!O151","v":0},{"$f":"'[1]HOJA GENERAL DATOS IMPORTADOS'!P151","v":0},{"$f":"'[1]HOJA GENERAL DATOS IMPORTADOS'!Q151","v":0},{"$f":"'[1]HOJA GENERAL DATOS IMPORTADOS'!R151","v":0},{"$f":"'[1]HOJA GENERAL DATOS IMPORTADOS'!S151","v":0},{"$f":"'[1]HOJA GENERAL DATOS IMPORTADOS'!T151","v":0},{"$f":"'[1]HOJA GENERAL DATOS IMPORTADOS'!U151","v":0},{"$f":"'[1]HOJA GENERAL DATOS IMPORTADOS'!V151","v":0},{"$f":"'[1]HOJA GENERAL DATOS IMPORTADOS'!W151","v":0},{"$f":"'[1]HOJA GENERAL DATOS IMPORTADOS'!X151","v":0},{"$f":"'[1]HOJA GENERAL DATOS IMPORTADOS'!Y151","v":0},{"$f":"'[1]HOJA GENERAL DATOS IMPORTADOS'!Z151","v":0},{"$f":"'[1]HOJA GENERAL DATOS IMPORTADOS'!AA151","v":0},{"$f":"'[1]HOJA GENERAL DATOS IMPORTADOS'!AB151","v":0},{"$f":"'[1]HOJA GENERAL DATOS IMPORTADOS'!AC151","v":0},{"$f":"'[1]HOJA GENERAL DATOS IMPORTADOS'!AD151","v":0},{"$f":"'[1]HOJA GENERAL DATOS IMPORTADOS'!AE151","v":0},{"$f":"'[1]HOJA GENERAL DATOS IMPORTADOS'!AF151","v":0},{"$f":"'[1]HOJA GENERAL DATOS IMPORTADOS'!AG151","v":0},{"$f":"'[1]HOJA GENERAL DATOS IMPORTADOS'!AH151","v":0},{"$f":"'[1]HOJA GENERAL DATOS IMPORTADOS'!AI151","v":0}]
[{"$f":"'[1]HOJA GENERAL DATOS IMPORTADOS'!A152","v":414},{"$f":"'[1]HOJA GENERAL DATOS IMPORTADOS'!B152","v":"OVINO/CAPRINO"},{"$f":"'[1]HOJA GENERAL DATOS IMPORTADOS'!C152","v":"1819 GGR"},{"$f":"'[1]HOJA GENERAL DATOS IMPORTADOS'!D152","v":"KOMPLET RECRIA"},{"$f":"'[1]HOJA GENERAL DATOS IMPORTADOS'!E152","v":"GRANULADO 3,5"},{"$f":"'[1]HOJA GENERAL DATOS IMPORTADOS'!F152","v":91},{"$f":"'[1]HOJA GENERAL DATOS IMPORTADOS'!G152","v":170},{"$f":"'[1]HOJA GENERAL DATOS IMPORTADOS'!H152","v":100},{"$f":"'[1]HOJA GENERAL DATOS IMPORTADOS'!I152","v":38},{"$f":"'[1]HOJA GENERAL DATOS IMPORTADOS'!J152","v":74},{"$f":"'[1]HOJA GENERAL DATOS IMPORTADOS'!K152","v":"Pienso complementario destinados a corderas y chivas de reposición desde los 3 hasta el preparto. Se puede suministar a voluntad con paja ad libitumn en la primera fase- Despues racionado.  El aporte de forrajes es siempre preferible."},{"$f":"'[1]HOJA GENERAL DATOS IMPORTADOS'!L152","v":"Los animales dispondrán en todo momento de agua limpia y fresca a libre servicio. Consultar a los servicios técnicos."},{"$f":"'[1]HOJA GENERAL DATOS IMPORTADOS'!M152","v":0},{"$f":"'[1]HOJA GENERAL DATOS IMPORTADOS'!N152","v":0},{"$f":"'[1]HOJA GENERAL DATOS IMPORTADOS'!O152","v":0},{"$f":"'[1]HOJA GENERAL DATOS IMPORTADOS'!P152","v":0},{"$f":"'[1]HOJA GENERAL DATOS IMPORTADOS'!Q152","v":0},{"$f":"'[1]HOJA GENERAL DATOS IMPORTADOS'!R152","v":0},{"$f":"'[1]HOJA GENERAL DATOS IMPORTADOS'!S152","v":0},{"$f":"'[1]HOJA GENERAL DATOS IMPORTADOS'!T152","v":0},{"$f":"'[1]HOJA GENERAL DATOS IMPORTADOS'!U152","v":0},{"$f":"'[1]HOJA GENERAL DATOS IMPORTADOS'!V152","v":0},{"$f":"'[1]HOJA GENERAL DATOS IMPORTADOS'!W152","v":0},{"$f":"'[1]HOJA GENERAL DATOS IMPORTADOS'!X152","v":0},{"$f":"'[1]HOJA GENERAL DATOS IMPORTADOS'!Y152","v":0},{"$f":"'[1]HOJA GENERAL DATOS IMPORTADOS'!Z152","v":0},{"$f":"'[1]HOJA GENERAL DATOS IMPORTADOS'!AA152","v":0},{"$f":"'[1]HOJA GENERAL DATOS IMPORTADOS'!AB152","v":0},{"$f":"'[1]HOJA GENERAL DATOS IMPORTADOS'!AC152","v":0},{"$f":"'[1]HOJA GENERAL DATOS IMPORTADOS'!AD152","v":0},{"$f":"'[1]HOJA GENERAL DATOS IMPORTADOS'!AE152","v":0},{"$f":"'[1]HOJA GENERAL DATOS IMPORTADOS'!AF152","v":0},{"$f":"'[1]HOJA GENERAL DATOS IMPORTADOS'!AG152","v":0},{"$f":"'[1]HOJA GENERAL DATOS IMPORTADOS'!AH152","v":0},{"$f":"'[1]HOJA GENERAL DATOS IMPORTADOS'!AI152","v":0}]
[{"$f":"'[1]HOJA GENERAL DATOS IMPORTADOS'!A153","v":420},{"$f":"'[1]HOJA GENERAL DATOS IMPORTADOS'!B153","v":"OVINO"},{"$f":"'[1]HOJA GENERAL DATOS IMPORTADOS'!C153","v":"1856 GGR"},{"$f":"'[1]HOJA GENERAL DATOS IMPORTADOS'!D153","v":"OVIKOMPLET PLUS"},{"$f":"'[1]HOJA GENERAL DATOS IMPORTADOS'!E153","v":"GRANULADO 10"},{"$f":"'[1]HOJA GENERAL DATOS IMPORTADOS'!F153","v":90},{"$f":"'[1]HOJA GENERAL DATOS IMPORTADOS'!G153","v":185},{"$f":"'[1]HOJA GENERAL DATOS IMPORTADOS'!H153","v":110},{"$f":"'[1]HOJA GENERAL DATOS IMPORTADOS'!I153","v":38},{"$f":"'[1]HOJA GENERAL DATOS IMPORTADOS'!J153","v":81},{"$f":"'[1]HOJA GENERAL DATOS IMPORTADOS'!K153","v":"Pienso complementario de paja y forrajes para ovejas en ordeño. Los animales dispondrán en todo momento de paja de cereales limpia y agua limpia y fresca. Puede emplearse racionado o a voluntad. Consultar cada caso con los servicios técnicos."},{"$f":"'[1]HOJA GENERAL DATOS IMPORTADOS'!L153","v":"Preferiblemente administrar varias veces al día pero que siempre lo tengan disponible.La transición a este alimento debe ser lenta (15 días mínimo) y paulatina. Necesaria vacunacion Enterotoxemia."},{"$f":"'[1]HOJA GENERAL DATOS IMPORTADOS'!M153","v":0},{"$f":"'[1]HOJA GENERAL DATOS IMPORTADOS'!N153","v":0},{"$f":"'[1]HOJA GENERAL DATOS IMPORTADOS'!O153","v":0},{"$f":"'[1]HOJA GENERAL DATOS IMPORTADOS'!P153","v":0},{"$f":"'[1]HOJA GENERAL DATOS IMPORTADOS'!Q153","v":0},{"$f":"'[1]HOJA GENERAL DATOS IMPORTADOS'!R153","v":0},{"$f":"'[1]HOJA GENERAL DATOS IMPORTADOS'!S153","v":0},{"$f":"'[1]HOJA GENERAL DATOS IMPORTADOS'!T153","v":0},{"$f":"'[1]HOJA GENERAL DATOS IMPORTADOS'!U153","v":0},{"$f":"'[1]HOJA GENERAL DATOS IMPORTADOS'!V153","v":0},{"$f":"'[1]HOJA GENERAL DATOS IMPORTADOS'!W153","v":0},{"$f":"'[1]HOJA GENERAL DATOS IMPORTADOS'!X153","v":0},{"$f":"'[1]HOJA GENERAL DATOS IMPORTADOS'!Y153","v":0},{"$f":"'[1]HOJA GENERAL DATOS IMPORTADOS'!Z153","v":0},{"$f":"'[1]HOJA GENERAL DATOS IMPORTADOS'!AA153","v":0},{"$f":"'[1]HOJA GENERAL DATOS IMPORTADOS'!AB153","v":0},{"$f":"'[1]HOJA GENERAL DATOS IMPORTADOS'!AC153","v":0},{"$f":"'[1]HOJA GENERAL DATOS IMPORTADOS'!AD153","v":0},{"$f":"'[1]HOJA GENERAL DATOS IMPORTADOS'!AE153","v":0},{"$f":"'[1]HOJA GENERAL DATOS IMPORTADOS'!AF153","v":0},{"$f":"'[1]HOJA GENERAL DATOS IMPORTADOS'!AG153","v":0},{"$f":"'[1]HOJA GENERAL DATOS IMPORTADOS'!AH153","v":0},{"$f":"'[1]HOJA GENERAL DATOS IMPORTADOS'!AI153","v":0}]
[{"$f":"'[1]HOJA GENERAL DATOS IMPORTADOS'!A154","v":0},{"$f":"'[1]HOJA GENERAL DATOS IMPORTADOS'!B154","v":0},{"$f":"'[1]HOJA GENERAL DATOS IMPORTADOS'!C154","v":0},{"$f":"'[1]HOJA GENERAL DATOS IMPORTADOS'!D154","v":0},{"$f":"'[1]HOJA GENERAL DATOS IMPORTADOS'!E154","v":0},{"$f":"'[1]HOJA GENERAL DATOS IMPORTADOS'!F154","v":0},{"$f":"'[1]HOJA GENERAL DATOS IMPORTADOS'!G154","v":0},{"$f":"'[1]HOJA GENERAL DATOS IMPORTADOS'!H154","v":0},{"$f":"'[1]HOJA GENERAL DATOS IMPORTADOS'!I154","v":0},{"$f":"'[1]HOJA GENERAL DATOS IMPORTADOS'!J154","v":0},{"$f":"'[1]HOJA GENERAL DATOS IMPORTADOS'!K154","v":0},{"$f":"'[1]HOJA GENERAL DATOS IMPORTADOS'!L154","v":0},{"$f":"'[1]HOJA GENERAL DATOS IMPORTADOS'!M154","v":0},{"$f":"'[1]HOJA GENERAL DATOS IMPORTADOS'!N154","v":0},{"$f":"'[1]HOJA GENERAL DATOS IMPORTADOS'!O154","v":0},{"$f":"'[1]HOJA GENERAL DATOS IMPORTADOS'!P154","v":0},{"$f":"'[1]HOJA GENERAL DATOS IMPORTADOS'!Q154","v":0},{"$f":"'[1]HOJA GENERAL DATOS IMPORTADOS'!R154","v":0},{"$f":"'[1]HOJA GENERAL DATOS IMPORTADOS'!S154","v":0},{"$f":"'[1]HOJA GENERAL DATOS IMPORTADOS'!T154","v":0},{"$f":"'[1]HOJA GENERAL DATOS IMPORTADOS'!U154","v":0},{"$f":"'[1]HOJA GENERAL DATOS IMPORTADOS'!V154","v":0},{"$f":"'[1]HOJA GENERAL DATOS IMPORTADOS'!W154","v":0},{"$f":"'[1]HOJA GENERAL DATOS IMPORTADOS'!X154","v":0},{"$f":"'[1]HOJA GENERAL DATOS IMPORTADOS'!Y154","v":0},{"$f":"'[1]HOJA GENERAL DATOS IMPORTADOS'!Z154","v":0},{"$f":"'[1]HOJA GENERAL DATOS IMPORTADOS'!AA154","v":0},{"$f":"'[1]HOJA GENERAL DATOS IMPORTADOS'!AB154","v":0},{"$f":"'[1]HOJA GENERAL DATOS IMPORTADOS'!AC154","v":0},{"$f":"'[1]HOJA GENERAL DATOS IMPORTADOS'!AD154","v":0},{"$f":"'[1]HOJA GENERAL DATOS IMPORTADOS'!AE154","v":0},{"$f":"'[1]HOJA GENERAL DATOS IMPORTADOS'!AF154","v":0},{"$f":"'[1]HOJA GENERAL DATOS IMPORTADOS'!AG154","v":0},{"$f":"'[1]HOJA GENERAL DATOS IMPORTADOS'!AH154","v":0},{"$f":"'[1]HOJA GENERAL DATOS IMPORTADOS'!AI154","v":0}]
[{"$f":"'[1]HOJA GENERAL DATOS IMPORTADOS'!A155","v":0},{"$f":"'[1]HOJA GENERAL DATOS IMPORTADOS'!B155","v":0},{"$f":"'[1]HOJA GENERAL DATOS IMPORTADOS'!C155","v":0},{"$f":"'[1]HOJA GENERAL DATOS IMPORTADOS'!D155","v":0},{"$f":"'[1]HOJA GENERAL DATOS IMPORTADOS'!E155","v":0},{"$f":"'[1]HOJA GENERAL DATOS IMPORTADOS'!F155","v":0},{"$f":"'[1]HOJA GENERAL DATOS IMPORTADOS'!G155","v":0},{"$f":"'[1]HOJA GENERAL DATOS IMPORTADOS'!H155","v":0},{"$f":"'[1]HOJA GENERAL DATOS IMPORTADOS'!I155","v":0},{"$f":"'[1]HOJA GENERAL DATOS IMPORTADOS'!J155","v":0},{"$f":"'[1]HOJA GENERAL DATOS IMPORTADOS'!K155","v":0},{"$f":"'[1]HOJA GENERAL DATOS IMPORTADOS'!L155","v":0},{"$f":"'[1]HOJA GENERAL DATOS IMPORTADOS'!M155","v":0},{"$f":"'[1]HOJA GENERAL DATOS IMPORTADOS'!N155","v":0},{"$f":"'[1]HOJA GENERAL DATOS IMPORTADOS'!O155","v":0},{"$f":"'[1]HOJA GENERAL DATOS IMPORTADOS'!P155","v":0},{"$f":"'[1]HOJA GENERAL DATOS IMPORTADOS'!Q155","v":0},{"$f":"'[1]HOJA GENERAL DATOS IMPORTADOS'!R155","v":0},{"$f":"'[1]HOJA GENERAL DATOS IMPORTADOS'!S155","v":0},{"$f":"'[1]HOJA GENERAL DATOS IMPORTADOS'!T155","v":0},{"$f":"'[1]HOJA GENERAL DATOS IMPORTADOS'!U155","v":0},{"$f":"'[1]HOJA GENERAL DATOS IMPORTADOS'!V155","v":0},{"$f":"'[1]HOJA GENERAL DATOS IMPORTADOS'!W155","v":0},{"$f":"'[1]HOJA GENERAL DATOS IMPORTADOS'!X155","v":0},{"$f":"'[1]HOJA GENERAL DATOS IMPORTADOS'!Y155","v":0},{"$f":"'[1]HOJA GENERAL DATOS IMPORTADOS'!Z155","v":0},{"$f":"'[1]HOJA GENERAL DATOS IMPORTADOS'!AA155","v":0},{"$f":"'[1]HOJA GENERAL DATOS IMPORTADOS'!AB155","v":0},{"$f":"'[1]HOJA GENERAL DATOS IMPORTADOS'!AC155","v":0},{"$f":"'[1]HOJA GENERAL DATOS IMPORTADOS'!AD155","v":0},{"$f":"'[1]HOJA GENERAL DATOS IMPORTADOS'!AE155","v":0},{"$f":"'[1]HOJA GENERAL DATOS IMPORTADOS'!AF155","v":0},{"$f":"'[1]HOJA GENERAL DATOS IMPORTADOS'!AG155","v":0},{"$f":"'[1]HOJA GENERAL DATOS IMPORTADOS'!AH155","v":0},{"$f":"'[1]HOJA GENERAL DATOS IMPORTADOS'!AI155","v":0}]
[{"$f":"'[1]HOJA GENERAL DATOS IMPORTADOS'!A156","v":0},{"$f":"'[1]HOJA GENERAL DATOS IMPORTADOS'!B156","v":0},{"$f":"'[1]HOJA GENERAL DATOS IMPORTADOS'!C156","v":0},{"$f":"'[1]HOJA GENERAL DATOS IMPORTADOS'!D156","v":0},{"$f":"'[1]HOJA GENERAL DATOS IMPORTADOS'!E156","v":0},{"$f":"'[1]HOJA GENERAL DATOS IMPORTADOS'!F156","v":0},{"$f":"'[1]HOJA GENERAL DATOS IMPORTADOS'!G156","v":0},{"$f":"'[1]HOJA GENERAL DATOS IMPORTADOS'!H156","v":0},{"$f":"'[1]HOJA GENERAL DATOS IMPORTADOS'!I156","v":0},{"$f":"'[1]HOJA GENERAL DATOS IMPORTADOS'!J156","v":0},{"$f":"'[1]HOJA GENERAL DATOS IMPORTADOS'!K156","v":0},{"$f":"'[1]HOJA GENERAL DATOS IMPORTADOS'!L156","v":0},{"$f":"'[1]HOJA GENERAL DATOS IMPORTADOS'!M156","v":0},{"$f":"'[1]HOJA GENERAL DATOS IMPORTADOS'!N156","v":0},{"$f":"'[1]HOJA GENERAL DATOS IMPORTADOS'!O156","v":0},{"$f":"'[1]HOJA GENERAL DATOS IMPORTADOS'!P156","v":0},{"$f":"'[1]HOJA GENERAL DATOS IMPORTADOS'!Q156","v":0},{"$f":"'[1]HOJA GENERAL DATOS IMPORTADOS'!R156","v":0},{"$f":"'[1]HOJA GENERAL DATOS IMPORTADOS'!S156","v":0},{"$f":"'[1]HOJA GENERAL DATOS IMPORTADOS'!T156","v":0},{"$f":"'[1]HOJA GENERAL DATOS IMPORTADOS'!U156","v":0},{"$f":"'[1]HOJA GENERAL DATOS IMPORTADOS'!V156","v":0},{"$f":"'[1]HOJA GENERAL DATOS IMPORTADOS'!W156","v":0},{"$f":"'[1]HOJA GENERAL DATOS IMPORTADOS'!X156","v":0},{"$f":"'[1]HOJA GENERAL DATOS IMPORTADOS'!Y156","v":0},{"$f":"'[1]HOJA GENERAL DATOS IMPORTADOS'!Z156","v":0},{"$f":"'[1]HOJA GENERAL DATOS IMPORTADOS'!AA156","v":0},{"$f":"'[1]HOJA GENERAL DATOS IMPORTADOS'!AB156","v":0},{"$f":"'[1]HOJA GENERAL DATOS IMPORTADOS'!AC156","v":0},{"$f":"'[1]HOJA GENERAL DATOS IMPORTADOS'!AD156","v":0},{"$f":"'[1]HOJA GENERAL DATOS IMPORTADOS'!AE156","v":0},{"$f":"'[1]HOJA GENERAL DATOS IMPORTADOS'!AF156","v":0},{"$f":"'[1]HOJA GENERAL DATOS IMPORTADOS'!AG156","v":0},{"$f":"'[1]HOJA GENERAL DATOS IMPORTADOS'!AH156","v":0},{"$f":"'[1]HOJA GENERAL DATOS IMPORTADOS'!AI156","v":0}]
[{"$f":"'[1]HOJA GENERAL DATOS IMPORTADOS'!A157","v":0},{"$f":"'[1]HOJA GENERAL DATOS IMPORTADOS'!B157","v":0},{"$f":"'[1]HOJA GENERAL DATOS IMPORTADOS'!C157","v":0},{"$f":"'[1]HOJA GENERAL DATOS IMPORTADOS'!D157","v":0},{"$f":"'[1]HOJA GENERAL DATOS IMPORTADOS'!E157","v":0},{"$f":"'[1]HOJA GENERAL DATOS IMPORTADOS'!F157","v":0},{"$f":"'[1]HOJA GENERAL DATOS IMPORTADOS'!G157","v":0},{"$f":"'[1]HOJA GENERAL DATOS IMPORTADOS'!H157","v":0},{"$f":"'[1]HOJA GENERAL DATOS IMPORTADOS'!I157","v":0},{"$f":"'[1]HOJA GENERAL DATOS IMPORTADOS'!J157","v":0},{"$f":"'[1]HOJA GENERAL DATOS IMPORTADOS'!K157","v":0},{"$f":"'[1]HOJA GENERAL DATOS IMPORTADOS'!L157","v":0},{"$f":"'[1]HOJA GENERAL DATOS IMPORTADOS'!M157","v":0},{"$f":"'[1]HOJA GENERAL DATOS IMPORTADOS'!N157","v":0},{"$f":"'[1]HOJA GENERAL DATOS IMPORTADOS'!O157","v":0},{"$f":"'[1]HOJA GENERAL DATOS IMPORTADOS'!P157","v":0},{"$f":"'[1]HOJA GENERAL DATOS IMPORTADOS'!Q157","v":0},{"$f":"'[1]HOJA GENERAL DATOS IMPORTADOS'!R157","v":0},{"$f":"'[1]HOJA GENERAL DATOS IMPORTADOS'!S157","v":0},{"$f":"'[1]HOJA GENERAL DATOS IMPORTADOS'!T157","v":0},{"$f":"'[1]HOJA GENERAL DATOS IMPORTADOS'!U157","v":0},{"$f":"'[1]HOJA GENERAL DATOS IMPORTADOS'!V157","v":0},{"$f":"'[1]HOJA GENERAL DATOS IMPORTADOS'!W157","v":0},{"$f":"'[1]HOJA GENERAL DATOS IMPORTADOS'!X157","v":0},{"$f":"'[1]HOJA GENERAL DATOS IMPORTADOS'!Y157","v":0},{"$f":"'[1]HOJA GENERAL DATOS IMPORTADOS'!Z157","v":0},{"$f":"'[1]HOJA GENERAL DATOS IMPORTADOS'!AA157","v":0},{"$f":"'[1]HOJA GENERAL DATOS IMPORTADOS'!AB157","v":0},{"$f":"'[1]HOJA GENERAL DATOS IMPORTADOS'!AC157","v":0},{"$f":"'[1]HOJA GENERAL DATOS IMPORTADOS'!AD157","v":0},{"$f":"'[1]HOJA GENERAL DATOS IMPORTADOS'!AE157","v":0},{"$f":"'[1]HOJA GENERAL DATOS IMPORTADOS'!AF157","v":0},{"$f":"'[1]HOJA GENERAL DATOS IMPORTADOS'!AG157","v":0},{"$f":"'[1]HOJA GENERAL DATOS IMPORTADOS'!AH157","v":0},{"$f":"'[1]HOJA GENERAL DATOS IMPORTADOS'!AI157","v":0}]
[{"$f":"'[1]HOJA GENERAL DATOS IMPORTADOS'!A158","v":0},{"$f":"'[1]HOJA GENERAL DATOS IMPORTADOS'!B158","v":0},{"$f":"'[1]HOJA GENERAL DATOS IMPORTADOS'!C158","v":0},{"$f":"'[1]HOJA GENERAL DATOS IMPORTADOS'!D158","v":0},{"$f":"'[1]HOJA GENERAL DATOS IMPORTADOS'!E158","v":0},{"$f":"'[1]HOJA GENERAL DATOS IMPORTADOS'!F158","v":0},{"$f":"'[1]HOJA GENERAL DATOS IMPORTADOS'!G158","v":0},{"$f":"'[1]HOJA GENERAL DATOS IMPORTADOS'!H158","v":0},{"$f":"'[1]HOJA GENERAL DATOS IMPORTADOS'!I158","v":0},{"$f":"'[1]HOJA GENERAL DATOS IMPORTADOS'!J158","v":0},{"$f":"'[1]HOJA GENERAL DATOS IMPORTADOS'!K158","v":0},{"$f":"'[1]HOJA GENERAL DATOS IMPORTADOS'!L158","v":0},{"$f":"'[1]HOJA GENERAL DATOS IMPORTADOS'!M158","v":0},{"$f":"'[1]HOJA GENERAL DATOS IMPORTADOS'!N158","v":0},{"$f":"'[1]HOJA GENERAL DATOS IMPORTADOS'!O158","v":0},{"$f":"'[1]HOJA GENERAL DATOS IMPORTADOS'!P158","v":0},{"$f":"'[1]HOJA GENERAL DATOS IMPORTADOS'!Q158","v":0},{"$f":"'[1]HOJA GENERAL DATOS IMPORTADOS'!R158","v":0},{"$f":"'[1]HOJA GENERAL DATOS IMPORTADOS'!S158","v":0},{"$f":"'[1]HOJA GENERAL DATOS IMPORTADOS'!T158","v":0},{"$f":"'[1]HOJA GENERAL DATOS IMPORTADOS'!U158","v":0},{"$f":"'[1]HOJA GENERAL DATOS IMPORTADOS'!V158","v":0},{"$f":"'[1]HOJA GENERAL DATOS IMPORTADOS'!W158","v":0},{"$f":"'[1]HOJA GENERAL DATOS IMPORTADOS'!X158","v":0},{"$f":"'[1]HOJA GENERAL DATOS IMPORTADOS'!Y158","v":0},{"$f":"'[1]HOJA GENERAL DATOS IMPORTADOS'!Z158","v":0},{"$f":"'[1]HOJA GENERAL DATOS IMPORTADOS'!AA158","v":0},{"$f":"'[1]HOJA GENERAL DATOS IMPORTADOS'!AB158","v":0},{"$f":"'[1]HOJA GENERAL DATOS IMPORTADOS'!AC158","v":0},{"$f":"'[1]HOJA GENERAL DATOS IMPORTADOS'!AD158","v":0},{"$f":"'[1]HOJA GENERAL DATOS IMPORTADOS'!AE158","v":0},{"$f":"'[1]HOJA GENERAL DATOS IMPORTADOS'!AF158","v":0},{"$f":"'[1]HOJA GENERAL DATOS IMPORTADOS'!AG158","v":0},{"$f":"'[1]HOJA GENERAL DATOS IMPORTADOS'!AH158","v":0},{"$f":"'[1]HOJA GENERAL DATOS IMPORTADOS'!AI158","v":0}]
[{"$f":"'[1]HOJA GENERAL DATOS IMPORTADOS'!A159","v":"NUMEROREGISTRO"},{"$f":"'[1]HOJA GENERAL DATOS IMPORTADOS'!B159","v":"HOMOLOGADO"},{"$f":"'[1]HOJA GENERAL DATOS IMPORTADOS'!C159","v":"NOMBRE PRODUCTO"},{"$f":"'[1]HOJA GENERAL DATOS IMPORTADOS'!D159","v":"GANADO"},{"$f":"'[1]HOJA GENERAL DATOS IMPORTADOS'!E159","v":"CLASE"},{"$f":"'[1]HOJA GENERAL DATOS IMPORTADOS'!F159","v":"TIPO"},{"$f":"'[1]HOJA GENERAL DATOS IMPORTADOS'!G159","v":"PRESENTACION"},{"$f":"'[1]HOJA GENERAL DATOS IMPORTADOS'!H159","v":"TIPO DE PIENSO"},{"$f":"'[1]HOJA GENERAL DATOS IMPORTADOS'!I159","v":"DESTINO PIENSO"},{"$f":"'[1]HOJA GENERAL DATOS IMPORTADOS'!J159","v":"HUMEDAD"},{"$f":"'[1]HOJA GENERAL DATOS IMPORTADOS'!K159","v":"PROTEINA BRUTA"},{"$f":"'[1]HOJA GENERAL DATOS IMPORTADOS'!L159","v":"FIBRA BRUTA"},{"$f":"'[1]HOJA GENERAL DATOS IMPORTADOS'!M159","v":"GRASA BRUTA"},{"$f":"'[1]HOJA GENERAL DATOS IMPORTADOS'!N159","v":"CENIZAS"},{"$f":"'[1]HOJA GENERAL DATOS IMPORTADOS'!O159","v":"A+A"},{"$f":"'[1]HOJA GENERAL DATOS IMPORTADOS'!P159","v":"UFL/UFV"},{"$f":"'[1]HOJA GENERAL DATOS IMPORTADOS'!Q159","v":"MODO DE EMPLEO"},{"$f":"'[1]HOJA GENERAL DATOS IMPORTADOS'!R159","v":"OBSERVACIONES"},{"$f":"'[1]HOJA GENERAL DATOS IMPORTADOS'!S159","v":"MODO EMPLEO ETIQUETA"},{"$f":"'[1]HOJA GENERAL DATOS IMPORTADOS'!T159","v":"%HUM"},{"$f":"'[1]HOJA GENERAL DATOS IMPORTADOS'!U159","v":"%PB"},{"$f":"'[1]HOJA GENERAL DATOS IMPORTADOS'!V159","v":"%FB"},{"$f":"'[1]HOJA GENERAL DATOS IMPORTADOS'!W159","v":"GB"},{"$f":"'[1]HOJA GENERAL DATOS IMPORTADOS'!X159","v":"%MM"},{"$f":"'[1]HOJA GENERAL DATOS IMPORTADOS'!Y159","v":"%A+A"},{"$f":"'[1]HOJA GENERAL DATOS IMPORTADOS'!Z159","v":0},{"$f":"'[1]HOJA GENERAL DATOS IMPORTADOS'!AA159","v":0},{"$f":"'[1]HOJA GENERAL DATOS IMPORTADOS'!AB159","v":0},{"$f":"'[1]HOJA GENERAL DATOS IMPORTADOS'!AC159","v":0},{"$f":"'[1]HOJA GENERAL DATOS IMPORTADOS'!AD159","v":0},{"$f":"'[1]HOJA GENERAL DATOS IMPORTADOS'!AE159","v":0},{"$f":"'[1]HOJA GENERAL DATOS IMPORTADOS'!AF159","v":0},{"$f":"'[1]HOJA GENERAL DATOS IMPORTADOS'!AG159","v":0},{"$f":"'[1]HOJA GENERAL DATOS IMPORTADOS'!AH159","v":0},{"$f":"'[1]HOJA GENERAL DATOS IMPORTADOS'!AI159","v":0}]
[null,null,null,null,null,null,null,null,null,null,null,null,null,null,null,null,null,null,null,null,null,null,null,null,null,{"$f":"'[1]HOJA GENERAL DATOS IMPORTADOS'!Z160","v":0},{"$f":"'[1]HOJA GENERAL DATOS IMPORTADOS'!AA160","v":0},{"$f":"'[1]HOJA GENERAL DATOS IMPORTADOS'!AB160","v":0},{"$f":"'[1]HOJA GENERAL DATOS IMPORTADOS'!AC160","v":0},{"$f":"'[1]HOJA GENERAL DATOS IMPORTADOS'!AD160","v":0},{"$f":"'[1]HOJA GENERAL DATOS IMPORTADOS'!AE160","v":0},{"$f":"'[1]HOJA GENERAL DATOS IMPORTADOS'!AF160","v":0},{"$f":"'[1]HOJA GENERAL DATOS IMPORTADOS'!AG160","v":0},{"$f":"'[1]HOJA GENERAL DATOS IMPORTADOS'!AH160","v":0},{"$f":"'[1]HOJA GENERAL DATOS IMPORTADOS'!AI160","v":0}]
[null,null,null,null,null,null,null,null,null,null,null,null,null,null,null,null,null,null,null,null,null,null,null,null,null,{"$f":"'[1]HOJA GENERAL DATOS IMPORTADOS'!Z161","v":0},{"$f":"'[1]HOJA GENERAL DATOS IMPORTADOS'!AA161","v":0},{"$f":"'[1]HOJA GENERAL DATOS IMPORTADOS'!AB161","v":0},{"$f":"'[1]HOJA GENERAL DATOS IMPORTADOS'!AC161","v":0},{"$f":"'[1]HOJA GENERAL DATOS IMPORTADOS'!AD161","v":0},{"$f":"'[1]HOJA GENERAL DATOS IMPORTADOS'!AE161","v":0},{"$f":"'[1]HOJA GENERAL DATOS IMPORTADOS'!AF161","v":0},{"$f":"'[1]HOJA GENERAL DATOS IMPORTADOS'!AG161","v":0},{"$f":"'[1]HOJA GENERAL DATOS IMPORTADOS'!AH161","v":0},{"$f":"'[1]HOJA GENERAL DATOS IMPORTADOS'!AI161","v":0}]
[null,null,null,null,null,null,null,null,null,null,null,null,null,null,null,null,null,null,null,null,null,null,null,null,null,{"$f":"'[1]HOJA GENERAL DATOS IMPORTADOS'!Z162","v":0},{"$f":"'[1]HOJA GENERAL DATOS IMPORTADOS'!AA162","v":0},{"$f":"'[1]HOJA GENERAL DATOS IMPORTADOS'!AB162","v":0},{"$f":"'[1]HOJA GENERAL DATOS IMPORTADOS'!AC162","v":0},{"$f":"'[1]HOJA GENERAL DATOS IMPORTADOS'!AD162","v":0},{"$f":"'[1]HOJA GENERAL DATOS IMPORTADOS'!AE162","v":0},{"$f":"'[1]HOJA GENERAL DATOS IMPORTADOS'!AF162","v":0},{"$f":"'[1]HOJA GENERAL DATOS IMPORTADOS'!AG162","v":0},{"$f":"'[1]HOJA GENERAL DATOS IMPORTADOS'!AH162","v":0},{"$f":"'[1]HOJA GENERAL DATOS IMPORTADOS'!AI162","v":0}]
[null,null,null,null,null,null,null,null,null,null,null,null,null,null,null,null,null,null,null,null,null,null,null,null,null,{"$f":"'[1]HOJA GENERAL DATOS IMPORTADOS'!Z163","v":0},{"$f":"'[1]HOJA GENERAL DATOS IMPORTADOS'!AA163","v":0},{"$f":"'[1]HOJA GENERAL DATOS IMPORTADOS'!AB163","v":0},{"$f":"'[1]HOJA GENERAL DATOS IMPORTADOS'!AC163","v":0},{"$f":"'[1]HOJA GENERAL DATOS IMPORTADOS'!AD163","v":0},{"$f":"'[1]HOJA GENERAL DATOS IMPORTADOS'!AE163","v":0},{"$f":"'[1]HOJA GENERAL DATOS IMPORTADOS'!AF163","v":0},{"$f":"'[1]HOJA GENERAL DATOS IMPORTADOS'!AG163","v":0},{"$f":"'[1]HOJA GENERAL DATOS IMPORTADOS'!AH163","v":0},{"$f":"'[1]HOJA GENERAL DATOS IMPORTADOS'!AI163","v":0}]
[null,null,null,null,null,null,null,null,null,null,null,null,null,null,null,null,null,null,null,null,null,null,null,null,null,{"$f":"'[1]HOJA GENERAL DATOS IMPORTADOS'!Z164","v":0},{"$f":"'[1]HOJA GENERAL DATOS IMPORTADOS'!AA164","v":0},{"$f":"'[1]HOJA GENERAL DATOS IMPORTADOS'!AB164","v":0},{"$f":"'[1]HOJA GENERAL DATOS IMPORTADOS'!AC164","v":0},{"$f":"'[1]HOJA GENERAL DATOS IMPORTADOS'!AD164","v":0},{"$f":"'[1]HOJA GENERAL DATOS IMPORTADOS'!AE164","v":0},{"$f":"'[1]HOJA GENERAL DATOS IMPORTADOS'!AF164","v":0},{"$f":"'[1]HOJA GENERAL DATOS IMPORTADOS'!AG164","v":0},{"$f":"'[1]HOJA GENERAL DATOS IMPORTADOS'!AH164","v":0},{"$f":"'[1]HOJA GENERAL DATOS IMPORTADOS'!AI164","v":0}]
[null,null,null,null,null,null,null,null,null,null,null,null,null,null,null,null,null,null,null,null,null,null,null,null,null,{"$f":"'[1]HOJA GENERAL DATOS IMPORTADOS'!Z165","v":0},{"$f":"'[1]HOJA GENERAL DATOS IMPORTADOS'!AA165","v":0},{"$f":"'[1]HOJA GENERAL DATOS IMPORTADOS'!AB165","v":0},{"$f":"'[1]HOJA GENERAL DATOS IMPORTADOS'!AC165","v":0},{"$f":"'[1]HOJA GENERAL DATOS IMPORTADOS'!AD165","v":0},{"$f":"'[1]HOJA GENERAL DATOS IMPORTADOS'!AE165","v":0},{"$f":"'[1]HOJA GENERAL DATOS IMPORTADOS'!AF165","v":0},{"$f":"'[1]HOJA GENERAL DATOS IMPORTADOS'!AG165","v":0},{"$f":"'[1]HOJA GENERAL DATOS IMPORTADOS'!AH165","v":0},{"$f":"'[1]HOJA GENERAL DATOS IMPORTADOS'!AI165","v":0}]
[null,null,null,null,null,null,null,null,null,null,null,null,null,null,null,null,null,null,null,null,null,null,null,null,null,{"$f":"'[1]HOJA GENERAL DATOS IMPORTADOS'!Z166","v":0},{"$f":"'[1]HOJA GENERAL DATOS IMPORTADOS'!AA166","v":0},{"$f":"'[1]HOJA GENERAL DATOS IMPORTADOS'!AB166","v":0},{"$f":"'[1]HOJA GENERAL DATOS IMPORTADOS'!AC166","v":0},{"$f":"'[1]HOJA GENERAL DATOS IMPORTADOS'!AD166","v":0},{"$f":"'[1]HOJA GENERAL DATOS IMPORTADOS'!AE166","v":0},{"$f":"'[1]HOJA GENERAL DATOS IMPORTADOS'!AF166","v":0},{"$f":"'[1]HOJA GENERAL DATOS IMPORTADOS'!AG166","v":0},{"$f":"'[1]HOJA GENERAL DATOS IMPORTADOS'!AH166","v":0},{"$f":"'[1]HOJA GENERAL DATOS IMPORTADOS'!AI166","v":0}]
[null,null,null,null,null,null,null,null,null,null,null,null,null,null,null,null,null,null,null,null,null,null,null,null,null,{"$f":"'[1]HOJA GENERAL DATOS IMPORTADOS'!Z167","v":0},{"$f":"'[1]HOJA GENERAL DATOS IMPORTADOS'!AA167","v":0},{"$f":"'[1]HOJA GENERAL DATOS IMPORTADOS'!AB167","v":0},{"$f":"'[1]HOJA GENERAL DATOS IMPORTADOS'!AC167","v":0},{"$f":"'[1]HOJA GENERAL DATOS IMPORTADOS'!AD167","v":0},{"$f":"'[1]HOJA GENERAL DATOS IMPORTADOS'!AE167","v":0},{"$f":"'[1]HOJA GENERAL DATOS IMPORTADOS'!AF167","v":0},{"$f":"'[1]HOJA GENERAL DATOS IMPORTADOS'!AG167","v":0},{"$f":"'[1]HOJA GENERAL DATOS IMPORTADOS'!AH167","v":0},{"$f":"'[1]HOJA GENERAL DATOS IMPORTADOS'!AI167","v":0}]
[null,null,null,null,null,null,null,null,null,null,null,null,null,null,null,null,null,null,null,null,null,null,null,null,null,{"$f":"'[1]HOJA GENERAL DATOS IMPORTADOS'!Z168","v":0},{"$f":"'[1]HOJA GENERAL DATOS IMPORTADOS'!AA168","v":0},{"$f":"'[1]HOJA GENERAL DATOS IMPORTADOS'!AB168","v":0},{"$f":"'[1]HOJA GENERAL DATOS IMPORTADOS'!AC168","v":0},{"$f":"'[1]HOJA GENERAL DATOS IMPORTADOS'!AD168","v":0},{"$f":"'[1]HOJA GENERAL DATOS IMPORTADOS'!AE168","v":0},{"$f":"'[1]HOJA GENERAL DATOS IMPORTADOS'!AF168","v":0},{"$f":"'[1]HOJA GENERAL DATOS IMPORTADOS'!AG168","v":0},{"$f":"'[1]HOJA GENERAL DATOS IMPORTADOS'!AH168","v":0},{"$f":"'[1]HOJA GENERAL DATOS IMPORTADOS'!AI168","v":0}]
[null,null,null,null,null,null,null,null,null,null,null,null,null,null,null,null,null,null,null,null,null,null,null,null,null,{"$f":"'[1]HOJA GENERAL DATOS IMPORTADOS'!Z169","v":0},{"$f":"'[1]HOJA GENERAL DATOS IMPORTADOS'!AA169","v":0},{"$f":"'[1]HOJA GENERAL DATOS IMPORTADOS'!AB169","v":0},{"$f":"'[1]HOJA GENERAL DATOS IMPORTADOS'!AC169","v":0},{"$f":"'[1]HOJA GENERAL DATOS IMPORTADOS'!AD169","v":0},{"$f":"'[1]HOJA GENERAL DATOS IMPORTADOS'!AE169","v":0},{"$f":"'[1]HOJA GENERAL DATOS IMPORTADOS'!AF169","v":0},{"$f":"'[1]HOJA GENERAL DATOS IMPORTADOS'!AG169","v":0},{"$f":"'[1]HOJA GENERAL DATOS IMPORTADOS'!AH169","v":0},{"$f":"'[1]HOJA GENERAL DATOS IMPORTADOS'!AI169","v":0}]
[null,null,null,null,null,null,null,null,null,null,null,null,null,null,null,null,null,null,null,null,null,null,null,null,null,{"$f":"'[1]HOJA GENERAL DATOS IMPORTADOS'!Z170","v":0},{"$f":"'[1]HOJA GENERAL DATOS IMPORTADOS'!AA170","v":0},{"$f":"'[1]HOJA GENERAL DATOS IMPORTADOS'!AB170","v":0},{"$f":"'[1]HOJA GENERAL DATOS IMPORTADOS'!AC170","v":0},{"$f":"'[1]HOJA GENERAL DATOS IMPORTADOS'!AD170","v":0},{"$f":"'[1]HOJA GENERAL DATOS IMPORTADOS'!AE170","v":0},{"$f":"'[1]HOJA GENERAL DATOS IMPORTADOS'!AF170","v":0},{"$f":"'[1]HOJA GENERAL DATOS IMPORTADOS'!AG170","v":0},{"$f":"'[1]HOJA GENERAL DATOS IMPORTADOS'!AH170","v":0},{"$f":"'[1]HOJA GENERAL DATOS IMPORTADOS'!AI170","v":0}]
[null,null,null,null,null,null,null,null,null,null,null,null,null,null,null,null,null,null,null,null,null,null,null,null,null,{"$f":"'[1]HOJA GENERAL DATOS IMPORTADOS'!Z171","v":0},{"$f":"'[1]HOJA GENERAL DATOS IMPORTADOS'!AA171","v":0},{"$f":"'[1]HOJA GENERAL DATOS IMPORTADOS'!AB171","v":0},{"$f":"'[1]HOJA GENERAL DATOS IMPORTADOS'!AC171","v":0},{"$f":"'[1]HOJA GENERAL DATOS IMPORTADOS'!AD171","v":0},{"$f":"'[1]HOJA GENERAL DATOS IMPORTADOS'!AE171","v":0},{"$f":"'[1]HOJA GENERAL DATOS IMPORTADOS'!AF171","v":0},{"$f":"'[1]HOJA GENERAL DATOS IMPORTADOS'!AG171","v":0},{"$f":"'[1]HOJA GENERAL DATOS IMPORTADOS'!AH171","v":0},{"$f":"'[1]HOJA GENERAL DATOS IMPORTADOS'!AI171","v":0}]
[null,null,null,null,null,null,null,null,null,null,null,null,null,null,null,null,null,null,null,null,null,null,null,null,null,{"$f":"'[1]HOJA GENERAL DATOS IMPORTADOS'!Z172","v":0},{"$f":"'[1]HOJA GENERAL DATOS IMPORTADOS'!AA172","v":0},{"$f":"'[1]HOJA GENERAL DATOS IMPORTADOS'!AB172","v":0},{"$f":"'[1]HOJA GENERAL DATOS IMPORTADOS'!AC172","v":0},{"$f":"'[1]HOJA GENERAL DATOS IMPORTADOS'!AD172","v":0},{"$f":"'[1]HOJA GENERAL DATOS IMPORTADOS'!AE172","v":0},{"$f":"'[1]HOJA GENERAL DATOS IMPORTADOS'!AF172","v":0},{"$f":"'[1]HOJA GENERAL DATOS IMPORTADOS'!AG172","v":0},{"$f":"'[1]HOJA GENERAL DATOS IMPORTADOS'!AH172","v":0},{"$f":"'[1]HOJA GENERAL DATOS IMPORTADOS'!AI172","v":0}]
[null,null,null,null,null,null,null,null,null,null,null,null,null,null,null,null,null,null,null,null,null,null,null,null,null,{"$f":"'[1]HOJA GENERAL DATOS IMPORTADOS'!Z173","v":0},{"$f":"'[1]HOJA GENERAL DATOS IMPORTADOS'!AA173","v":0},{"$f":"'[1]HOJA GENERAL DATOS IMPORTADOS'!AB173","v":0},{"$f":"'[1]HOJA GENERAL DATOS IMPORTADOS'!AC173","v":0},{"$f":"'[1]HOJA GENERAL DATOS IMPORTADOS'!AD173","v":0},{"$f":"'[1]HOJA GENERAL DATOS IMPORTADOS'!AE173","v":0},{"$f":"'[1]HOJA GENERAL DATOS IMPORTADOS'!AF173","v":0},{"$f":"'[1]HOJA GENERAL DATOS IMPORTADOS'!AG173","v":0},{"$f":"'[1]HOJA GENERAL DATOS IMPORTADOS'!AH173","v":0},{"$f":"'[1]HOJA GENERAL DATOS IMPORTADOS'!AI173","v":0}]
[null,null,null,null,null,null,null,null,null,null,null,null,null,null,null,null,null,null,null,null,null,null,null,null,null,{"$f":"'[1]HOJA GENERAL DATOS IMPORTADOS'!Z174","v":0},{"$f":"'[1]HOJA GENERAL DATOS IMPORTADOS'!AA174","v":0},{"$f":"'[1]HOJA GENERAL DATOS IMPORTADOS'!AB174","v":0},{"$f":"'[1]HOJA GENERAL DATOS IMPORTADOS'!AC174","v":0},{"$f":"'[1]HOJA GENERAL DATOS IMPORTADOS'!AD174","v":0},{"$f":"'[1]HOJA GENERAL DATOS IMPORTADOS'!AE174","v":0},{"$f":"'[1]HOJA GENERAL DATOS IMPORTADOS'!AF174","v":0},{"$f":"'[1]HOJA GENERAL DATOS IMPORTADOS'!AG174","v":0},{"$f":"'[1]HOJA GENERAL DATOS IMPORTADOS'!AH174","v":0},{"$f":"'[1]HOJA GENERAL DATOS IMPORTADOS'!AI174","v":0}]
[null,null,null,null,null,null,null,null,null,null,null,null,null,null,null,null,null,null,null,null,null,null,null,null,null,{"$f":"'[1]HOJA GENERAL DATOS IMPORTADOS'!Z175","v":0},{"$f":"'[1]HOJA GENERAL DATOS IMPORTADOS'!AA175","v":0},{"$f":"'[1]HOJA GENERAL DATOS IMPORTADOS'!AB175","v":0},{"$f":"'[1]HOJA GENERAL DATOS IMPORTADOS'!AC175","v":0},{"$f":"'[1]HOJA GENERAL DATOS IMPORTADOS'!AD175","v":0},{"$f":"'[1]HOJA GENERAL DATOS IMPORTADOS'!AE175","v":0},{"$f":"'[1]HOJA GENERAL DATOS IMPORTADOS'!AF175","v":0},{"$f":"'[1]HOJA GENERAL DATOS IMPORTADOS'!AG175","v":0},{"$f":"'[1]HOJA GENERAL DATOS IMPORTADOS'!AH175","v":0},{"$f":"'[1]HOJA GENERAL DATOS IMPORTADOS'!AI175","v":0}]
[null,null,null,null,null,null,null,null,null,null,null,null,null,null,null,null,null,null,null,null,null,null,null,null,null,{"$f":"'[1]HOJA GENERAL DATOS IMPORTADOS'!Z176","v":0},{"$f":"'[1]HOJA GENERAL DATOS IMPORTADOS'!AA176","v":0},{"$f":"'[1]HOJA GENERAL DATOS IMPORTADOS'!AB176","v":0},{"$f":"'[1]HOJA GENERAL DATOS IMPORTADOS'!AC176","v":0},{"$f":"'[1]HOJA GENERAL DATOS IMPORTADOS'!AD176","v":0},{"$f":"'[1]HOJA GENERAL DATOS IMPORTADOS'!AE176","v":0},{"$f":"'[1]HOJA GENERAL DATOS IMPORTADOS'!AF176","v":0},{"$f":"'[1]HOJA GENERAL DATOS IMPORTADOS'!AG176","v":0},{"$f":"'[1]HOJA GENERAL DATOS IMPORTADOS'!AH176","v":0},{"$f":"'[1]HOJA GENERAL DATOS IMPORTADOS'!AI176","v":0}]
[null,null,null,null,null,null,null,null,null,null,null,null,null,null,null,null,null,null,null,null,null,null,null,null,null,{"$f":"'[1]HOJA GENERAL DATOS IMPORTADOS'!Z177","v":0},{"$f":"'[1]HOJA GENERAL DATOS IMPORTADOS'!AA177","v":0},{"$f":"'[1]HOJA GENERAL DATOS IMPORTADOS'!AB177","v":0},{"$f":"'[1]HOJA GENERAL DATOS IMPORTADOS'!AC177","v":0},{"$f":"'[1]HOJA GENERAL DATOS IMPORTADOS'!AD177","v":0},{"$f":"'[1]HOJA GENERAL DATOS IMPORTADOS'!AE177","v":0},{"$f":"'[1]HOJA GENERAL DATOS IMPORTADOS'!AF177","v":0},{"$f":"'[1]HOJA GENERAL DATOS IMPORTADOS'!AG177","v":0},{"$f":"'[1]HOJA GENERAL DATOS IMPORTADOS'!AH177","v":0},{"$f":"'[1]HOJA GENERAL DATOS IMPORTADOS'!AI177","v":0}]
[null,null,null,null,null,null,null,null,null,null,null,null,null,null,null,null,null,null,null,null,null,null,null,null,null,{"$f":"'[1]HOJA GENERAL DATOS IMPORTADOS'!Z178","v":0},{"$f":"'[1]HOJA GENERAL DATOS IMPORTADOS'!AA178","v":0},{"$f":"'[1]HOJA GENERAL DATOS IMPORTADOS'!AB178","v":0},{"$f":"'[1]HOJA GENERAL DATOS IMPORTADOS'!AC178","v":0},{"$f":"'[1]HOJA GENERAL DATOS IMPORTADOS'!AD178","v":0},{"$f":"'[1]HOJA GENERAL DATOS IMPORTADOS'!AE178","v":0},{"$f":"'[1]HOJA GENERAL DATOS IMPORTADOS'!AF178","v":0},{"$f":"'[1]HOJA GENERAL DATOS IMPORTADOS'!AG178","v":0},{"$f":"'[1]HOJA GENERAL DATOS IMPORTADOS'!AH178","v":0},{"$f":"'[1]HOJA GENERAL DATOS IMPORTADOS'!AI178","v":0}]
[null,null,null,null,null,null,null,null,null,null,null,null,null,null,null,null,null,null,null,null,null,null,null,null,null,{"$f":"'[1]HOJA GENERAL DATOS IMPORTADOS'!Z179","v":0},{"$f":"'[1]HOJA GENERAL DATOS IMPORTADOS'!AA179","v":0},{"$f":"'[1]HOJA GENERAL DATOS IMPORTADOS'!AB179","v":0},{"$f":"'[1]HOJA GENERAL DATOS IMPORTADOS'!AC179","v":0},{"$f":"'[1]HOJA GENERAL DATOS IMPORTADOS'!AD179","v":0},{"$f":"'[1]HOJA GENERAL DATOS IMPORTADOS'!AE179","v":0},{"$f":"'[1]HOJA GENERAL DATOS IMPORTADOS'!AF179","v":0},{"$f":"'[1]HOJA GENERAL DATOS IMPORTADOS'!AG179","v":0},{"$f":"'[1]HOJA GENERAL DATOS IMPORTADOS'!AH179","v":0},{"$f":"'[1]HOJA GENERAL DATOS IMPORTADOS'!AI179","v":0}]
[null,null,null,null,null,null,null,null,null,null,null,null,null,null,null,null,null,null,null,null,null,null,null,null,null,{"$f":"'[1]HOJA GENERAL DATOS IMPORTADOS'!Z180","v":0},{"$f":"'[1]HOJA GENERAL DATOS IMPORTADOS'!AA180","v":0},{"$f":"'[1]HOJA GENERAL DATOS IMPORTADOS'!AB180","v":0},{"$f":"'[1]HOJA GENERAL DATOS IMPORTADOS'!AC180","v":0},{"$f":"'[1]HOJA GENERAL DATOS IMPORTADOS'!AD180","v":0},{"$f":"'[1]HOJA GENERAL DATOS IMPORTADOS'!AE180","v":0},{"$f":"'[1]HOJA GENERAL DATOS IMPORTADOS'!AF180","v":0},{"$f":"'[1]HOJA GENERAL DATOS IMPORTADOS'!AG180","v":0},{"$f":"'[1]HOJA GENERAL DATOS IMPORTADOS'!AH180","v":0},{"$f":"'[1]HOJA GENERAL DATOS IMPORTADOS'!AI180","v":0}]
[null,null,null,null,null,null,null,null,null,null,null,null,null,null,null,null,null,null,null,null,null,null,null,null,null,{"$f":"'[1]HOJA GENERAL DATOS IMPORTADOS'!Z181","v":0},{"$f":"'[1]HOJA GENERAL DATOS IMPORTADOS'!AA181","v":0},{"$f":"'[1]HOJA GENERAL DATOS IMPORTADOS'!AB181","v":0},{"$f":"'[1]HOJA GENERAL DATOS IMPORTADOS'!AC181","v":0},{"$f":"'[1]HOJA GENERAL DATOS IMPORTADOS'!AD181","v":0},{"$f":"'[1]HOJA GENERAL DATOS IMPORTADOS'!AE181","v":0},{"$f":"'[1]HOJA GENERAL DATOS IMPORTADOS'!AF181","v":0},{"$f":"'[1]HOJA GENERAL DATOS IMPORTADOS'!AG181","v":0},{"$f":"'[1]HOJA GENERAL DATOS IMPORTADOS'!AH181","v":0},{"$f":"'[1]HOJA GENERAL DATOS IMPORTADOS'!AI181","v":0}]
[null,null,null,null,null,null,null,null,null,null,null,null,null,null,null,null,null,null,null,null,null,null,null,null,null,{"$f":"'[1]HOJA GENERAL DATOS IMPORTADOS'!Z182","v":0},{"$f":"'[1]HOJA GENERAL DATOS IMPORTADOS'!AA182","v":0},{"$f":"'[1]HOJA GENERAL DATOS IMPORTADOS'!AB182","v":0},{"$f":"'[1]HOJA GENERAL DATOS IMPORTADOS'!AC182","v":0},{"$f":"'[1]HOJA GENERAL DATOS IMPORTADOS'!AD182","v":0},{"$f":"'[1]HOJA GENERAL DATOS IMPORTADOS'!AE182","v":0},{"$f":"'[1]HOJA GENERAL DATOS IMPORTADOS'!AF182","v":0},{"$f":"'[1]HOJA GENERAL DATOS IMPORTADOS'!AG182","v":0},{"$f":"'[1]HOJA GENERAL DATOS IMPORTADOS'!AH182","v":0},{"$f":"'[1]HOJA GENERAL DATOS IMPORTADOS'!AI182","v":0}]
[null,null,null,null,null,null,null,null,null,null,null,null,null,null,null,null,null,null,null,null,null,null,null,null,null,{"$f":"'[1]HOJA GENERAL DATOS IMPORTADOS'!Z183","v":0},{"$f":"'[1]HOJA GENERAL DATOS IMPORTADOS'!AA183","v":0},{"$f":"'[1]HOJA GENERAL DATOS IMPORTADOS'!AB183","v":0},{"$f":"'[1]HOJA GENERAL DATOS IMPORTADOS'!AC183","v":0},{"$f":"'[1]HOJA GENERAL DATOS IMPORTADOS'!AD183","v":0},{"$f":"'[1]HOJA GENERAL DATOS IMPORTADOS'!AE183","v":0},{"$f":"'[1]HOJA GENERAL DATOS IMPORTADOS'!AF183","v":0},{"$f":"'[1]HOJA GENERAL DATOS IMPORTADOS'!AG183","v":0},{"$f":"'[1]HOJA GENERAL DATOS IMPORTADOS'!AH183","v":0},{"$f":"'[1]HOJA GENERAL DATOS IMPORTADOS'!AI183","v":0}]
[null,null,null,null,null,null,null,null,null,null,null,null,null,null,null,null,null,null,null,null,null,null,null,null,null,{"$f":"'[1]HOJA GENERAL DATOS IMPORTADOS'!Z184","v":0},{"$f":"'[1]HOJA GENERAL DATOS IMPORTADOS'!AA184","v":0},{"$f":"'[1]HOJA GENERAL DATOS IMPORTADOS'!AB184","v":0},{"$f":"'[1]HOJA GENERAL DATOS IMPORTADOS'!AC184","v":0},{"$f":"'[1]HOJA GENERAL DATOS IMPORTADOS'!AD184","v":0},{"$f":"'[1]HOJA GENERAL DATOS IMPORTADOS'!AE184","v":0},{"$f":"'[1]HOJA GENERAL DATOS IMPORTADOS'!AF184","v":0},{"$f":"'[1]HOJA GENERAL DATOS IMPORTADOS'!AG184","v":0},{"$f":"'[1]HOJA GENERAL DATOS IMPORTADOS'!AH184","v":0},{"$f":"'[1]HOJA GENERAL DATOS IMPORTADOS'!AI184","v":0}]
[null,null,null,null,null,null,null,null,null,null,null,null,null,null,null,null,null,null,null,null,null,null,null,null,null,{"$f":"'[1]HOJA GENERAL DATOS IMPORTADOS'!Z185","v":0},{"$f":"'[1]HOJA GENERAL DATOS IMPORTADOS'!AA185","v":0},{"$f":"'[1]HOJA GENERAL DATOS IMPORTADOS'!AB185","v":0},{"$f":"'[1]HOJA GENERAL DATOS IMPORTADOS'!AC185","v":0},{"$f":"'[1]HOJA GENERAL DATOS IMPORTADOS'!AD185","v":0},{"$f":"'[1]HOJA GENERAL DATOS IMPORTADOS'!AE185","v":0},{"$f":"'[1]HOJA GENERAL DATOS IMPORTADOS'!AF185","v":0},{"$f":"'[1]HOJA GENERAL DATOS IMPORTADOS'!AG185","v":0},{"$f":"'[1]HOJA GENERAL DATOS IMPORTADOS'!AH185","v":0},{"$f":"'[1]HOJA GENERAL DATOS IMPORTADOS'!AI185","v":0}]
[null,null,null,null,null,null,null,null,null,null,null,null,null,null,null,null,null,null,null,null,null,null,null,null,null,{"$f":"'[1]HOJA GENERAL DATOS IMPORTADOS'!Z186","v":0},{"$f":"'[1]HOJA GENERAL DATOS IMPORTADOS'!AA186","v":0},{"$f":"'[1]HOJA GENERAL DATOS IMPORTADOS'!AB186","v":0},{"$f":"'[1]HOJA GENERAL DATOS IMPORTADOS'!AC186","v":0},{"$f":"'[1]HOJA GENERAL DATOS IMPORTADOS'!AD186","v":0},{"$f":"'[1]HOJA GENERAL DATOS IMPORTADOS'!AE186","v":0},{"$f":"'[1]HOJA GENERAL DATOS IMPORTADOS'!AF186","v":0},{"$f":"'[1]HOJA GENERAL DATOS IMPORTADOS'!AG186","v":0},{"$f":"'[1]HOJA GENERAL DATOS IMPORTADOS'!AH186","v":0},{"$f":"'[1]HOJA GENERAL DATOS IMPORTADOS'!AI186","v":0}]
[null,null,null,null,null,null,null,null,null,null,null,null,null,null,null,null,null,null,null,null,null,null,null,null,null,{"$f":"'[1]HOJA GENERAL DATOS IMPORTADOS'!Z187","v":0},{"$f":"'[1]HOJA GENERAL DATOS IMPORTADOS'!AA187","v":0},{"$f":"'[1]HOJA GENERAL DATOS IMPORTADOS'!AB187","v":0},{"$f":"'[1]HOJA GENERAL DATOS IMPORTADOS'!AC187","v":0},{"$f":"'[1]HOJA GENERAL DATOS IMPORTADOS'!AD187","v":0},{"$f":"'[1]HOJA GENERAL DATOS IMPORTADOS'!AE187","v":0},{"$f":"'[1]HOJA GENERAL DATOS IMPORTADOS'!AF187","v":0},{"$f":"'[1]HOJA GENERAL DATOS IMPORTADOS'!AG187","v":0},{"$f":"'[1]HOJA GENERAL DATOS IMPORTADOS'!AH187","v":0},{"$f":"'[1]HOJA GENERAL DATOS IMPORTADOS'!AI187","v":0}]
[null,null,null,null,null,null,null,null,null,null,null,null,null,null,null,null,null,null,null,null,null,null,null,null,null,{"$f":"'[1]HOJA GENERAL DATOS IMPORTADOS'!Z188","v":0},{"$f":"'[1]HOJA GENERAL DATOS IMPORTADOS'!AA188","v":0},{"$f":"'[1]HOJA GENERAL DATOS IMPORTADOS'!AB188","v":0},{"$f":"'[1]HOJA GENERAL DATOS IMPORTADOS'!AC188","v":0},{"$f":"'[1]HOJA GENERAL DATOS IMPORTADOS'!AD188","v":0},{"$f":"'[1]HOJA GENERAL DATOS IMPORTADOS'!AE188","v":0},{"$f":"'[1]HOJA GENERAL DATOS IMPORTADOS'!AF188","v":0},{"$f":"'[1]HOJA GENERAL DATOS IMPORTADOS'!AG188","v":0},{"$f":"'[1]HOJA GENERAL DATOS IMPORTADOS'!AH188","v":0},{"$f":"'[1]HOJA GENERAL DATOS IMPORTADOS'!AI188","v":0}]
[null,null,null,null,null,null,null,null,null,null,null,null,null,null,null,null,null,null,null,null,null,null,null,null,null,{"$f":"'[1]HOJA GENERAL DATOS IMPORTADOS'!Z189","v":0},{"$f":"'[1]HOJA GENERAL DATOS IMPORTADOS'!AA189","v":0},{"$f":"'[1]HOJA GENERAL DATOS IMPORTADOS'!AB189","v":0},{"$f":"'[1]HOJA GENERAL DATOS IMPORTADOS'!AC189","v":0},{"$f":"'[1]HOJA GENERAL DATOS IMPORTADOS'!AD189","v":0},{"$f":"'[1]HOJA GENERAL DATOS IMPORTADOS'!AE189","v":0},{"$f":"'[1]HOJA GENERAL DATOS IMPORTADOS'!AF189","v":0},{"$f":"'[1]HOJA GENERAL DATOS IMPORTADOS'!AG189","v":0},{"$f":"'[1]HOJA GENERAL DATOS IMPORTADOS'!AH189","v":0},{"$f":"'[1]HOJA GENERAL DATOS IMPORTADOS'!AI189","v":0}]
[null,null,null,null,null,null,null,null,null,null,null,null,null,null,null,null,null,null,null,null,null,null,null,null,null,{"$f":"'[1]HOJA GENERAL DATOS IMPORTADOS'!Z190","v":0},{"$f":"'[1]HOJA GENERAL DATOS IMPORTADOS'!AA190","v":0},{"$f":"'[1]HOJA GENERAL DATOS IMPORTADOS'!AB190","v":0},{"$f":"'[1]HOJA GENERAL DATOS IMPORTADOS'!AC190","v":0},{"$f":"'[1]HOJA GENERAL DATOS IMPORTADOS'!AD190","v":0},{"$f":"'[1]HOJA GENERAL DATOS IMPORTADOS'!AE190","v":0},{"$f":"'[1]HOJA GENERAL DATOS IMPORTADOS'!AF190","v":0},{"$f":"'[1]HOJA GENERAL DATOS IMPORTADOS'!AG190","v":0},{"$f":"'[1]HOJA GENERAL DATOS IMPORTADOS'!AH190","v":0},{"$f":"'[1]HOJA GENERAL DATOS IMPORTADOS'!AI190","v":0}]
[null,null,null,null,null,null,null,null,null,null,null,null,null,null,null,null,null,null,null,null,null,null,null,null,null,{"$f":"'[1]HOJA GENERAL DATOS IMPORTADOS'!Z191","v":0},{"$f":"'[1]HOJA GENERAL DATOS IMPORTADOS'!AA191","v":0},{"$f":"'[1]HOJA GENERAL DATOS IMPORTADOS'!AB191","v":0},{"$f":"'[1]HOJA GENERAL DATOS IMPORTADOS'!AC191","v":0},{"$f":"'[1]HOJA GENERAL DATOS IMPORTADOS'!AD191","v":0},{"$f":"'[1]HOJA GENERAL DATOS IMPORTADOS'!AE191","v":0},{"$f":"'[1]HOJA GENERAL DATOS IMPORTADOS'!AF191","v":0},{"$f":"'[1]HOJA GENERAL DATOS IMPORTADOS'!AG191","v":0},{"$f":"'[1]HOJA GENERAL DATOS IMPORTADOS'!AH191","v":0},{"$f":"'[1]HOJA GENERAL DATOS IMPORTADOS'!AI191","v":0}]
[null,null,null,null,null,null,null,null,null,null,null,null,null,null,null,null,null,null,null,null,null,null,null,null,null,{"$f":"'[1]HOJA GENERAL DATOS IMPORTADOS'!Z192","v":0},{"$f":"'[1]HOJA GENERAL DATOS IMPORTADOS'!AA192","v":0},{"$f":"'[1]HOJA GENERAL DATOS IMPORTADOS'!AB192","v":0},{"$f":"'[1]HOJA GENERAL DATOS IMPORTADOS'!AC192","v":0},{"$f":"'[1]HOJA GENERAL DATOS IMPORTADOS'!AD192","v":0},{"$f":"'[1]HOJA GENERAL DATOS IMPORTADOS'!AE192","v":0},{"$f":"'[1]HOJA GENERAL DATOS IMPORTADOS'!AF192","v":0},{"$f":"'[1]HOJA GENERAL DATOS IMPORTADOS'!AG192","v":0},{"$f":"'[1]HOJA GENERAL DATOS IMPORTADOS'!AH192","v":0},{"$f":"'[1]HOJA GENERAL DATOS IMPORTADOS'!AI192","v":0}]
[null,null,null,null,null,null,null,null,null,null,null,null,null,null,null,null,null,null,null,null,null,null,null,null,null,{"$f":"'[1]HOJA GENERAL DATOS IMPORTADOS'!Z193","v":0},{"$f":"'[1]HOJA GENERAL DATOS IMPORTADOS'!AA193","v":0},{"$f":"'[1]HOJA GENERAL DATOS IMPORTADOS'!AB193","v":0},{"$f":"'[1]HOJA GENERAL DATOS IMPORTADOS'!AC193","v":0},{"$f":"'[1]HOJA GENERAL DATOS IMPORTADOS'!AD193","v":0},{"$f":"'[1]HOJA GENERAL DATOS IMPORTADOS'!AE193","v":0},{"$f":"'[1]HOJA GENERAL DATOS IMPORTADOS'!AF193","v":0},{"$f":"'[1]HOJA GENERAL DATOS IMPORTADOS'!AG193","v":0},{"$f":"'[1]HOJA GENERAL DATOS IMPORTADOS'!AH193","v":0},{"$f":"'[1]HOJA GENERAL DATOS IMPORTADOS'!AI193","v":0}]
[null,null,null,null,null,null,null,null,null,null,null,null,null,null,null,null,null,null,null,null,null,null,null,null,null,{"$f":"'[1]HOJA GENERAL DATOS IMPORTADOS'!Z194","v":0},{"$f":"'[1]HOJA GENERAL DATOS IMPORTADOS'!AA194","v":0},{"$f":"'[1]HOJA GENERAL DATOS IMPORTADOS'!AB194","v":0},{"$f":"'[1]HOJA GENERAL DATOS IMPORTADOS'!AC194","v":0},{"$f":"'[1]HOJA GENERAL DATOS IMPORTADOS'!AD194","v":0},{"$f":"'[1]HOJA GENERAL DATOS IMPORTADOS'!AE194","v":0},{"$f":"'[1]HOJA GENERAL DATOS IMPORTADOS'!AF194","v":0},{"$f":"'[1]HOJA GENERAL DATOS IMPORTADOS'!AG194","v":0},{"$f":"'[1]HOJA GENERAL DATOS IMPORTADOS'!AH194","v":0},{"$f":"'[1]HOJA GENERAL DATOS IMPORTADOS'!AI194","v":0}]
[null,null,null,null,null,null,null,null,null,null,null,null,null,null,null,null,null,null,null,null,null,null,null,null,null,{"$f":"'[1]HOJA GENERAL DATOS IMPORTADOS'!Z195","v":0},{"$f":"'[1]HOJA GENERAL DATOS IMPORTADOS'!AA195","v":0},{"$f":"'[1]HOJA GENERAL DATOS IMPORTADOS'!AB195","v":0},{"$f":"'[1]HOJA GENERAL DATOS IMPORTADOS'!AC195","v":0},{"$f":"'[1]HOJA GENERAL DATOS IMPORTADOS'!AD195","v":0},{"$f":"'[1]HOJA GENERAL DATOS IMPORTADOS'!AE195","v":0},{"$f":"'[1]HOJA GENERAL DATOS IMPORTADOS'!AF195","v":0},{"$f":"'[1]HOJA GENERAL DATOS IMPORTADOS'!AG195","v":0},{"$f":"'[1]HOJA GENERAL DATOS IMPORTADOS'!AH195","v":0},{"$f":"'[1]HOJA GENERAL DATOS IMPORTADOS'!AI195","v":0}]
[null,null,null,null,null,null,null,null,null,null,null,null,null,null,null,null,null,null,null,null,null,null,null,null,null,{"$f":"'[1]HOJA GENERAL DATOS IMPORTADOS'!Z196","v":0},{"$f":"'[1]HOJA GENERAL DATOS IMPORTADOS'!AA196","v":0},{"$f":"'[1]HOJA GENERAL DATOS IMPORTADOS'!AB196","v":0},{"$f":"'[1]HOJA GENERAL DATOS IMPORTADOS'!AC196","v":0},{"$f":"'[1]HOJA GENERAL DATOS IMPORTADOS'!AD196","v":0},{"$f":"'[1]HOJA GENERAL DATOS IMPORTADOS'!AE196","v":0},{"$f":"'[1]HOJA GENERAL DATOS IMPORTADOS'!AF196","v":0},{"$f":"'[1]HOJA GENERAL DATOS IMPORTADOS'!AG196","v":0},{"$f":"'[1]HOJA GENERAL DATOS IMPORTADOS'!AH196","v":0},{"$f":"'[1]HOJA GENERAL DATOS IMPORTADOS'!AI196","v":0}]
[null,null,null,null,null,null,null,null,null,null,null,null,null,null,null,null,null,null,null,null,null,null,null,null,null,{"$f":"'[1]HOJA GENERAL DATOS IMPORTADOS'!Z197","v":0},{"$f":"'[1]HOJA GENERAL DATOS IMPORTADOS'!AA197","v":0},{"$f":"'[1]HOJA GENERAL DATOS IMPORTADOS'!AB197","v":0},{"$f":"'[1]HOJA GENERAL DATOS IMPORTADOS'!AC197","v":0},{"$f":"'[1]HOJA GENERAL DATOS IMPORTADOS'!AD197","v":0},{"$f":"'[1]HOJA GENERAL DATOS IMPORTADOS'!AE197","v":0},{"$f":"'[1]HOJA GENERAL DATOS IMPORTADOS'!AF197","v":0},{"$f":"'[1]HOJA GENERAL DATOS IMPORTADOS'!AG197","v":0},{"$f":"'[1]HOJA GENERAL DATOS IMPORTADOS'!AH197","v":0},{"$f":"'[1]HOJA GENERAL DATOS IMPORTADOS'!AI197","v":0}]
[null,null,null,null,null,null,null,null,null,null,null,null,null,null,null,null,null,null,null,null,null,null,null,null,null,{"$f":"'[1]HOJA GENERAL DATOS IMPORTADOS'!Z198","v":0},{"$f":"'[1]HOJA GENERAL DATOS IMPORTADOS'!AA198","v":0},{"$f":"'[1]HOJA GENERAL DATOS IMPORTADOS'!AB198","v":0},{"$f":"'[1]HOJA GENERAL DATOS IMPORTADOS'!AC198","v":0},{"$f":"'[1]HOJA GENERAL DATOS IMPORTADOS'!AD198","v":0},{"$f":"'[1]HOJA GENERAL DATOS IMPORTADOS'!AE198","v":0},{"$f":"'[1]HOJA GENERAL DATOS IMPORTADOS'!AF198","v":0},{"$f":"'[1]HOJA GENERAL DATOS IMPORTADOS'!AG198","v":0},{"$f":"'[1]HOJA GENERAL DATOS IMPORTADOS'!AH198","v":0},{"$f":"'[1]HOJA GENERAL DATOS IMPORTADOS'!AI198","v":0}]
[null,null,null,null,null,null,null,null,null,null,null,null,null,null,null,null,null,null,null,null,null,null,null,null,null,{"$f":"'[1]HOJA GENERAL DATOS IMPORTADOS'!Z199","v":0},{"$f":"'[1]HOJA GENERAL DATOS IMPORTADOS'!AA199","v":0},{"$f":"'[1]HOJA GENERAL DATOS IMPORTADOS'!AB199","v":0},{"$f":"'[1]HOJA GENERAL DATOS IMPORTADOS'!AC199","v":0},{"$f":"'[1]HOJA GENERAL DATOS IMPORTADOS'!AD199","v":0},{"$f":"'[1]HOJA GENERAL DATOS IMPORTADOS'!AE199","v":0},{"$f":"'[1]HOJA GENERAL DATOS IMPORTADOS'!AF199","v":0},{"$f":"'[1]HOJA GENERAL DATOS IMPORTADOS'!AG199","v":0},{"$f":"'[1]HOJA GENERAL DATOS IMPORTADOS'!AH199","v":0},{"$f":"'[1]HOJA GENERAL DATOS IMPORTADOS'!AI199","v":0}]
[null,null,null,null,null,null,null,null,null,null,null,null,null,null,null,null,null,null,null,null,null,null,null,null,null,{"$f":"'[1]HOJA GENERAL DATOS IMPORTADOS'!Z200","v":0},{"$f":"'[1]HOJA GENERAL DATOS IMPORTADOS'!AA200","v":0},{"$f":"'[1]HOJA GENERAL DATOS IMPORTADOS'!AB200","v":0},{"$f":"'[1]HOJA GENERAL DATOS IMPORTADOS'!AC200","v":0},{"$f":"'[1]HOJA GENERAL DATOS IMPORTADOS'!AD200","v":0},{"$f":"'[1]HOJA GENERAL DATOS IMPORTADOS'!AE200","v":0},{"$f":"'[1]HOJA GENERAL DATOS IMPORTADOS'!AF200","v":0},{"$f":"'[1]HOJA GENERAL DATOS IMPORTADOS'!AG200","v":0},{"$f":"'[1]HOJA GENERAL DATOS IMPORTADOS'!AH200","v":0},{"$f":"'[1]HOJA GENERAL DATOS IMPORTADOS'!AI200","v":0}]
[null,null,null,null,null,null,null,null,null,null,null,null,null,null,null,null,null,null,null,null,null,null,null,null,null,{"$f":"'[1]HOJA GENERAL DATOS IMPORTADOS'!Z201","v":0},{"$f":"'[1]HOJA GENERAL DATOS IMPORTADOS'!AA201","v":0},{"$f":"'[1]HOJA GENERAL DATOS IMPORTADOS'!AB201","v":0},{"$f":"'[1]HOJA GENERAL DATOS IMPORTADOS'!AC201","v":0},{"$f":"'[1]HOJA GENERAL DATOS IMPORTADOS'!AD201","v":0},{"$f":"'[1]HOJA GENERAL DATOS IMPORTADOS'!AE201","v":0},{"$f":"'[1]HOJA GENERAL DATOS IMPORTADOS'!AF201","v":0},{"$f":"'[1]HOJA GENERAL DATOS IMPORTADOS'!AG201","v":0},{"$f":"'[1]HOJA GENERAL DATOS IMPORTADOS'!AH201","v":0},{"$f":"'[1]HOJA GENERAL DATOS IMPORTADOS'!AI201","v":0}]
[null,null,null,null,null,null,null,null,null,null,null,null,null,null,null,null,null,null,null,null,null,null,null,null,null,{"$f":"'[1]HOJA GENERAL DATOS IMPORTADOS'!Z202","v":0},{"$f":"'[1]HOJA GENERAL DATOS IMPORTADOS'!AA202","v":0},{"$f":"'[1]HOJA GENERAL DATOS IMPORTADOS'!AB202","v":0},{"$f":"'[1]HOJA GENERAL DATOS IMPORTADOS'!AC202","v":0},{"$f":"'[1]HOJA GENERAL DATOS IMPORTADOS'!AD202","v":0},{"$f":"'[1]HOJA GENERAL DATOS IMPORTADOS'!AE202","v":0},{"$f":"'[1]HOJA GENERAL DATOS IMPORTADOS'!AF202","v":0},{"$f":"'[1]HOJA GENERAL DATOS IMPORTADOS'!AG202","v":0},{"$f":"'[1]HOJA GENERAL DATOS IMPORTADOS'!AH202","v":0},{"$f":"'[1]HOJA GENERAL DATOS IMPORTADOS'!AI202","v":0}]
[null,null,null,null,null,null,null,null,null,null,null,null,null,null,null,null,null,null,null,null,null,null,null,null,null,{"$f":"'[1]HOJA GENERAL DATOS IMPORTADOS'!Z203","v":0},{"$f":"'[1]HOJA GENERAL DATOS IMPORTADOS'!AA203","v":0},{"$f":"'[1]HOJA GENERAL DATOS IMPORTADOS'!AB203","v":0},{"$f":"'[1]HOJA GENERAL DATOS IMPORTADOS'!AC203","v":0},{"$f":"'[1]HOJA GENERAL DATOS IMPORTADOS'!AD203","v":0},{"$f":"'[1]HOJA GENERAL DATOS IMPORTADOS'!AE203","v":0},{"$f":"'[1]HOJA GENERAL DATOS IMPORTADOS'!AF203","v":0},{"$f":"'[1]HOJA GENERAL DATOS IMPORTADOS'!AG203","v":0},{"$f":"'[1]HOJA GENERAL DATOS IMPORTADOS'!AH203","v":0},{"$f":"'[1]HOJA GENERAL DATOS IMPORTADOS'!AI203","v":0}]
[null,null,null,null,null,null,null,null,null,null,null,null,null,null,null,null,null,null,null,null,null,null,null,null,null,{"$f":"'[1]HOJA GENERAL DATOS IMPORTADOS'!Z204","v":0},{"$f":"'[1]HOJA GENERAL DATOS IMPORTADOS'!AA204","v":0},{"$f":"'[1]HOJA GENERAL DATOS IMPORTADOS'!AB204","v":0},{"$f":"'[1]HOJA GENERAL DATOS IMPORTADOS'!AC204","v":0},{"$f":"'[1]HOJA GENERAL DATOS IMPORTADOS'!AD204","v":0},{"$f":"'[1]HOJA GENERAL DATOS IMPORTADOS'!AE204","v":0},{"$f":"'[1]HOJA GENERAL DATOS IMPORTADOS'!AF204","v":0},{"$f":"'[1]HOJA GENERAL DATOS IMPORTADOS'!AG204","v":0},{"$f":"'[1]HOJA GENERAL DATOS IMPORTADOS'!AH204","v":0},{"$f":"'[1]HOJA GENERAL DATOS IMPORTADOS'!AI204","v":0}]
[null,null,null,null,null,null,null,null,null,null,null,null,null,null,null,null,null,null,null,null,null,null,null,null,null,{"$f":"'[1]HOJA GENERAL DATOS IMPORTADOS'!Z205","v":0},{"$f":"'[1]HOJA GENERAL DATOS IMPORTADOS'!AA205","v":0},{"$f":"'[1]HOJA GENERAL DATOS IMPORTADOS'!AB205","v":0},{"$f":"'[1]HOJA GENERAL DATOS IMPORTADOS'!AC205","v":0},{"$f":"'[1]HOJA GENERAL DATOS IMPORTADOS'!AD205","v":0},{"$f":"'[1]HOJA GENERAL DATOS IMPORTADOS'!AE205","v":0},{"$f":"'[1]HOJA GENERAL DATOS IMPORTADOS'!AF205","v":0},{"$f":"'[1]HOJA GENERAL DATOS IMPORTADOS'!AG205","v":0},{"$f":"'[1]HOJA GENERAL DATOS IMPORTADOS'!AH205","v":0},{"$f":"'[1]HOJA GENERAL DATOS IMPORTADOS'!AI205","v":0}]
[null,null,null,null,null,null,null,null,null,null,null,null,null,null,null,null,null,null,null,null,null,null,null,null,null,{"$f":"'[1]HOJA GENERAL DATOS IMPORTADOS'!Z206","v":0},{"$f":"'[1]HOJA GENERAL DATOS IMPORTADOS'!AA206","v":0},{"$f":"'[1]HOJA GENERAL DATOS IMPORTADOS'!AB206","v":0},{"$f":"'[1]HOJA GENERAL DATOS IMPORTADOS'!AC206","v":0},{"$f":"'[1]HOJA GENERAL DATOS IMPORTADOS'!AD206","v":0},{"$f":"'[1]HOJA GENERAL DATOS IMPORTADOS'!AE206","v":0},{"$f":"'[1]HOJA GENERAL DATOS IMPORTADOS'!AF206","v":0},{"$f":"'[1]HOJA GENERAL DATOS IMPORTADOS'!AG206","v":0},{"$f":"'[1]HOJA GENERAL DATOS IMPORTADOS'!AH206","v":0},{"$f":"'[1]HOJA GENERAL DATOS IMPORTADOS'!AI206","v":0}]
[null,null,null,null,null,null,null,null,null,null,null,null,null,null,null,null,null,null,null,null,null,null,null,null,null,{"$f":"'[1]HOJA GENERAL DATOS IMPORTADOS'!Z207","v":0},{"$f":"'[1]HOJA GENERAL DATOS IMPORTADOS'!AA207","v":0},{"$f":"'[1]HOJA GENERAL DATOS IMPORTADOS'!AB207","v":0},{"$f":"'[1]HOJA GENERAL DATOS IMPORTADOS'!AC207","v":0},{"$f":"'[1]HOJA GENERAL DATOS IMPORTADOS'!AD207","v":0},{"$f":"'[1]HOJA GENERAL DATOS IMPORTADOS'!AE207","v":0},{"$f":"'[1]HOJA GENERAL DATOS IMPORTADOS'!AF207","v":0},{"$f":"'[1]HOJA GENERAL DATOS IMPORTADOS'!AG207","v":0},{"$f":"'[1]HOJA GENERAL DATOS IMPORTADOS'!AH207","v":0},{"$f":"'[1]HOJA GENERAL DATOS IMPORTADOS'!AI207","v":0}]
[null,null,null,null,null,null,null,null,null,null,null,null,null,null,null,null,null,null,null,null,null,null,null,null,null,{"$f":"'[1]HOJA GENERAL DATOS IMPORTADOS'!Z208","v":0},{"$f":"'[1]HOJA GENERAL DATOS IMPORTADOS'!AA208","v":0},{"$f":"'[1]HOJA GENERAL DATOS IMPORTADOS'!AB208","v":0},{"$f":"'[1]HOJA GENERAL DATOS IMPORTADOS'!AC208","v":0},{"$f":"'[1]HOJA GENERAL DATOS IMPORTADOS'!AD208","v":0},{"$f":"'[1]HOJA GENERAL DATOS IMPORTADOS'!AE208","v":0},{"$f":"'[1]HOJA GENERAL DATOS IMPORTADOS'!AF208","v":0},{"$f":"'[1]HOJA GENERAL DATOS IMPORTADOS'!AG208","v":0},{"$f":"'[1]HOJA GENERAL DATOS IMPORTADOS'!AH208","v":0},{"$f":"'[1]HOJA GENERAL DATOS IMPORTADOS'!AI208","v":0}]
[null,null,null,null,null,null,null,null,null,null,null,null,null,null,null,null,null,null,null,null,null,null,null,null,null,{"$f":"'[1]HOJA GENERAL DATOS IMPORTADOS'!Z209","v":0},{"$f":"'[1]HOJA GENERAL DATOS IMPORTADOS'!AA209","v":0},{"$f":"'[1]HOJA GENERAL DATOS IMPORTADOS'!AB209","v":0},{"$f":"'[1]HOJA GENERAL DATOS IMPORTADOS'!AC209","v":0},{"$f":"'[1]HOJA GENERAL DATOS IMPORTADOS'!AD209","v":0},{"$f":"'[1]HOJA GENERAL DATOS IMPORTADOS'!AE209","v":0},{"$f":"'[1]HOJA GENERAL DATOS IMPORTADOS'!AF209","v":0},{"$f":"'[1]HOJA GENERAL DATOS IMPORTADOS'!AG209","v":0},{"$f":"'[1]HOJA GENERAL DATOS IMPORTADOS'!AH209","v":0},{"$f":"'[1]HOJA GENERAL DATOS IMPORTADOS'!AI209","v":0}]
[null,null,null,null,null,null,null,null,null,null,null,null,null,null,null,null,null,null,null,null,null,null,null,null,null,{"$f":"'[1]HOJA GENERAL DATOS IMPORTADOS'!Z210","v":0},{"$f":"'[1]HOJA GENERAL DATOS IMPORTADOS'!AA210","v":0},{"$f":"'[1]HOJA GENERAL DATOS IMPORTADOS'!AB210","v":0},{"$f":"'[1]HOJA GENERAL DATOS IMPORTADOS'!AC210","v":0},{"$f":"'[1]HOJA GENERAL DATOS IMPORTADOS'!AD210","v":0},{"$f":"'[1]HOJA GENERAL DATOS IMPORTADOS'!AE210","v":0},{"$f":"'[1]HOJA GENERAL DATOS IMPORTADOS'!AF210","v":0},{"$f":"'[1]HOJA GENERAL DATOS IMPORTADOS'!AG210","v":0},{"$f":"'[1]HOJA GENERAL DATOS IMPORTADOS'!AH210","v":0},{"$f":"'[1]HOJA GENERAL DATOS IMPORTADOS'!AI210","v":0}]
[null,null,null,null,null,null,null,null,null,null,null,null,null,null,null,null,null,null,null,null,null,null,null,null,null,{"$f":"'[1]HOJA GENERAL DATOS IMPORTADOS'!Z211","v":0},{"$f":"'[1]HOJA GENERAL DATOS IMPORTADOS'!AA211","v":0},{"$f":"'[1]HOJA GENERAL DATOS IMPORTADOS'!AB211","v":0},{"$f":"'[1]HOJA GENERAL DATOS IMPORTADOS'!AC211","v":0},{"$f":"'[1]HOJA GENERAL DATOS IMPORTADOS'!AD211","v":0},{"$f":"'[1]HOJA GENERAL DATOS IMPORTADOS'!AE211","v":0},{"$f":"'[1]HOJA GENERAL DATOS IMPORTADOS'!AF211","v":0},{"$f":"'[1]HOJA GENERAL DATOS IMPORTADOS'!AG211","v":0},{"$f":"'[1]HOJA GENERAL DATOS IMPORTADOS'!AH211","v":0},{"$f":"'[1]HOJA GENERAL DATOS IMPORTADOS'!AI211","v":0}]
[null,null,null,null,null,null,null,null,null,null,null,null,null,null,null,null,null,null,null,null,null,null,null,null,null,{"$f":"'[1]HOJA GENERAL DATOS IMPORTADOS'!Z212","v":0},{"$f":"'[1]HOJA GENERAL DATOS IMPORTADOS'!AA212","v":0},{"$f":"'[1]HOJA GENERAL DATOS IMPORTADOS'!AB212","v":0},{"$f":"'[1]HOJA GENERAL DATOS IMPORTADOS'!AC212","v":0},{"$f":"'[1]HOJA GENERAL DATOS IMPORTADOS'!AD212","v":0},{"$f":"'[1]HOJA GENERAL DATOS IMPORTADOS'!AE212","v":0},{"$f":"'[1]HOJA GENERAL DATOS IMPORTADOS'!AF212","v":0},{"$f":"'[1]HOJA GENERAL DATOS IMPORTADOS'!AG212","v":0},{"$f":"'[1]HOJA GENERAL DATOS IMPORTADOS'!AH212","v":0},{"$f":"'[1]HOJA GENERAL DATOS IMPORTADOS'!AI212","v":0}]
[null,null,null,null,null,null,null,null,null,null,null,null,null,null,null,null,null,null,null,null,null,null,null,null,null,{"$f":"'[1]HOJA GENERAL DATOS IMPORTADOS'!Z213","v":0},{"$f":"'[1]HOJA GENERAL DATOS IMPORTADOS'!AA213","v":0},{"$f":"'[1]HOJA GENERAL DATOS IMPORTADOS'!AB213","v":0},{"$f":"'[1]HOJA GENERAL DATOS IMPORTADOS'!AC213","v":0},{"$f":"'[1]HOJA GENERAL DATOS IMPORTADOS'!AD213","v":0},{"$f":"'[1]HOJA GENERAL DATOS IMPORTADOS'!AE213","v":0},{"$f":"'[1]HOJA GENERAL DATOS IMPORTADOS'!AF213","v":0},{"$f":"'[1]HOJA GENERAL DATOS IMPORTADOS'!AG213","v":0},{"$f":"'[1]HOJA GENERAL DATOS IMPORTADOS'!AH213","v":0},{"$f":"'[1]HOJA GENERAL DATOS IMPORTADOS'!AI213","v":0}]
[null,null,null,null,null,null,null,null,null,null,null,null,null,null,null,null,null,null,null,null,null,null,null,null,null,{"$f":"'[1]HOJA GENERAL DATOS IMPORTADOS'!Z214","v":0},{"$f":"'[1]HOJA GENERAL DATOS IMPORTADOS'!AA214","v":0},{"$f":"'[1]HOJA GENERAL DATOS IMPORTADOS'!AB214","v":0},{"$f":"'[1]HOJA GENERAL DATOS IMPORTADOS'!AC214","v":0},{"$f":"'[1]HOJA GENERAL DATOS IMPORTADOS'!AD214","v":0},{"$f":"'[1]HOJA GENERAL DATOS IMPORTADOS'!AE214","v":0},{"$f":"'[1]HOJA GENERAL DATOS IMPORTADOS'!AF214","v":0},{"$f":"'[1]HOJA GENERAL DATOS IMPORTADOS'!AG214","v":0},{"$f":"'[1]HOJA GENERAL DATOS IMPORTADOS'!AH214","v":0},{"$f":"'[1]HOJA GENERAL DATOS IMPORTADOS'!AI214","v":0}]
[null,null,null,null,null,null,null,null,null,null,null,null,null,null,null,null,null,null,null,null,null,null,null,null,null,{"$f":"'[1]HOJA GENERAL DATOS IMPORTADOS'!Z215","v":0},{"$f":"'[1]HOJA GENERAL DATOS IMPORTADOS'!AA215","v":0},{"$f":"'[1]HOJA GENERAL DATOS IMPORTADOS'!AB215","v":0},{"$f":"'[1]HOJA GENERAL DATOS IMPORTADOS'!AC215","v":0},{"$f":"'[1]HOJA GENERAL DATOS IMPORTADOS'!AD215","v":0},{"$f":"'[1]HOJA GENERAL DATOS IMPORTADOS'!AE215","v":0},{"$f":"'[1]HOJA GENERAL DATOS IMPORTADOS'!AF215","v":0},{"$f":"'[1]HOJA GENERAL DATOS IMPORTADOS'!AG215","v":0},{"$f":"'[1]HOJA GENERAL DATOS IMPORTADOS'!AH215","v":0},{"$f":"'[1]HOJA GENERAL DATOS IMPORTADOS'!AI215","v":0}]
[null,null,null,null,null,null,null,null,null,null,null,null,null,null,null,null,null,null,null,null,null,null,null,null,null,{"$f":"'[1]HOJA GENERAL DATOS IMPORTADOS'!Z216","v":0},{"$f":"'[1]HOJA GENERAL DATOS IMPORTADOS'!AA216","v":0},{"$f":"'[1]HOJA GENERAL DATOS IMPORTADOS'!AB216","v":0},{"$f":"'[1]HOJA GENERAL DATOS IMPORTADOS'!AC216","v":0},{"$f":"'[1]HOJA GENERAL DATOS IMPORTADOS'!AD216","v":0},{"$f":"'[1]HOJA GENERAL DATOS IMPORTADOS'!AE216","v":0},{"$f":"'[1]HOJA GENERAL DATOS IMPORTADOS'!AF216","v":0},{"$f":"'[1]HOJA GENERAL DATOS IMPORTADOS'!AG216","v":0},{"$f":"'[1]HOJA GENERAL DATOS IMPORTADOS'!AH216","v":0},{"$f":"'[1]HOJA GENERAL DATOS IMPORTADOS'!AI216","v":0}]
[null,null,null,null,null,null,null,null,null,null,null,null,null,null,null,null,null,null,null,null,null,null,null,null,null,{"$f":"'[1]HOJA GENERAL DATOS IMPORTADOS'!Z217","v":0},{"$f":"'[1]HOJA GENERAL DATOS IMPORTADOS'!AA217","v":0},{"$f":"'[1]HOJA GENERAL DATOS IMPORTADOS'!AB217","v":0},{"$f":"'[1]HOJA GENERAL DATOS IMPORTADOS'!AC217","v":0},{"$f":"'[1]HOJA GENERAL DATOS IMPORTADOS'!AD217","v":0},{"$f":"'[1]HOJA GENERAL DATOS IMPORTADOS'!AE217","v":0},{"$f":"'[1]HOJA GENERAL DATOS IMPORTADOS'!AF217","v":0},{"$f":"'[1]HOJA GENERAL DATOS IMPORTADOS'!AG217","v":0},{"$f":"'[1]HOJA GENERAL DATOS IMPORTADOS'!AH217","v":0},{"$f":"'[1]HOJA GENERAL DATOS IMPORTADOS'!AI217","v":0}]
[null,null,null,null,null,null,null,null,null,null,null,null,null,null,null,null,null,null,null,null,null,null,null,null,null,{"$f":"'[1]HOJA GENERAL DATOS IMPORTADOS'!Z218","v":0},{"$f":"'[1]HOJA GENERAL DATOS IMPORTADOS'!AA218","v":0},{"$f":"'[1]HOJA GENERAL DATOS IMPORTADOS'!AB218","v":0},{"$f":"'[1]HOJA GENERAL DATOS IMPORTADOS'!AC218","v":0},{"$f":"'[1]HOJA GENERAL DATOS IMPORTADOS'!AD218","v":0},{"$f":"'[1]HOJA GENERAL DATOS IMPORTADOS'!AE218","v":0},{"$f":"'[1]HOJA GENERAL DATOS IMPORTADOS'!AF218","v":0},{"$f":"'[1]HOJA GENERAL DATOS IMPORTADOS'!AG218","v":0},{"$f":"'[1]HOJA GENERAL DATOS IMPORTADOS'!AH218","v":0},{"$f":"'[1]HOJA GENERAL DATOS IMPORTADOS'!AI218","v":0}]
[null,null,null,null,null,null,null,null,null,null,null,null,null,null,null,null,null,null,null,null,null,null,null,null,null,{"$f":"'[1]HOJA GENERAL DATOS IMPORTADOS'!Z219","v":0},{"$f":"'[1]HOJA GENERAL DATOS IMPORTADOS'!AA219","v":0},{"$f":"'[1]HOJA GENERAL DATOS IMPORTADOS'!AB219","v":0},{"$f":"'[1]HOJA GENERAL DATOS IMPORTADOS'!AC219","v":0},{"$f":"'[1]HOJA GENERAL DATOS IMPORTADOS'!AD219","v":0},{"$f":"'[1]HOJA GENERAL DATOS IMPORTADOS'!AE219","v":0},{"$f":"'[1]HOJA GENERAL DATOS IMPORTADOS'!AF219","v":0},{"$f":"'[1]HOJA GENERAL DATOS IMPORTADOS'!AG219","v":0},{"$f":"'[1]HOJA GENERAL DATOS IMPORTADOS'!AH219","v":0},{"$f":"'[1]HOJA GENERAL DATOS IMPORTADOS'!AI219","v":0}]
[null,null,null,null,null,null,null,null,null,null,null,null,null,null,null,null,null,null,null,null,null,null,null,null,null,{"$f":"'[1]HOJA GENERAL DATOS IMPORTADOS'!Z220","v":0},{"$f":"'[1]HOJA GENERAL DATOS IMPORTADOS'!AA220","v":0},{"$f":"'[1]HOJA GENERAL DATOS IMPORTADOS'!AB220","v":0},{"$f":"'[1]HOJA GENERAL DATOS IMPORTADOS'!AC220","v":0},{"$f":"'[1]HOJA GENERAL DATOS IMPORTADOS'!AD220","v":0},{"$f":"'[1]HOJA GENERAL DATOS IMPORTADOS'!AE220","v":0},{"$f":"'[1]HOJA GENERAL DATOS IMPORTADOS'!AF220","v":0},{"$f":"'[1]HOJA GENERAL DATOS IMPORTADOS'!AG220","v":0},{"$f":"'[1]HOJA GENERAL DATOS IMPORTADOS'!AH220","v":0},{"$f":"'[1]HOJA GENERAL DATOS IMPORTADOS'!AI220","v":0}]
[null,null,null,null,null,null,null,null,null,null,null,null,null,null,null,null,null,null,null,null,null,null,null,null,null,{"$f":"'[1]HOJA GENERAL DATOS IMPORTADOS'!Z221","v":0},{"$f":"'[1]HOJA GENERAL DATOS IMPORTADOS'!AA221","v":0},{"$f":"'[1]HOJA GENERAL DATOS IMPORTADOS'!AB221","v":0},{"$f":"'[1]HOJA GENERAL DATOS IMPORTADOS'!AC221","v":0},{"$f":"'[1]HOJA GENERAL DATOS IMPORTADOS'!AD221","v":0},{"$f":"'[1]HOJA GENERAL DATOS IMPORTADOS'!AE221","v":0},{"$f":"'[1]HOJA GENERAL DATOS IMPORTADOS'!AF221","v":0},{"$f":"'[1]HOJA GENERAL DATOS IMPORTADOS'!AG221","v":0},{"$f":"'[1]HOJA GENERAL DATOS IMPORTADOS'!AH221","v":0},{"$f":"'[1]HOJA GENERAL DATOS IMPORTADOS'!AI221","v":0}]
[null,null,null,null,null,null,null,null,null,null,null,null,null,null,null,null,null,null,null,null,null,null,null,null,null,{"$f":"'[1]HOJA GENERAL DATOS IMPORTADOS'!Z222","v":0},{"$f":"'[1]HOJA GENERAL DATOS IMPORTADOS'!AA222","v":0},{"$f":"'[1]HOJA GENERAL DATOS IMPORTADOS'!AB222","v":0},{"$f":"'[1]HOJA GENERAL DATOS IMPORTADOS'!AC222","v":0},{"$f":"'[1]HOJA GENERAL DATOS IMPORTADOS'!AD222","v":0},{"$f":"'[1]HOJA GENERAL DATOS IMPORTADOS'!AE222","v":0},{"$f":"'[1]HOJA GENERAL DATOS IMPORTADOS'!AF222","v":0},{"$f":"'[1]HOJA GENERAL DATOS IMPORTADOS'!AG222","v":0},{"$f":"'[1]HOJA GENERAL DATOS IMPORTADOS'!AH222","v":0},{"$f":"'[1]HOJA GENERAL DATOS IMPORTADOS'!AI222","v":0}]
[null,null,null,null,null,null,null,null,null,null,null,null,null,null,null,null,null,null,null,null,null,null,null,null,null,{"$f":"'[1]HOJA GENERAL DATOS IMPORTADOS'!Z223","v":0},{"$f":"'[1]HOJA GENERAL DATOS IMPORTADOS'!AA223","v":0},{"$f":"'[1]HOJA GENERAL DATOS IMPORTADOS'!AB223","v":0},{"$f":"'[1]HOJA GENERAL DATOS IMPORTADOS'!AC223","v":0},{"$f":"'[1]HOJA GENERAL DATOS IMPORTADOS'!AD223","v":0},{"$f":"'[1]HOJA GENERAL DATOS IMPORTADOS'!AE223","v":0},{"$f":"'[1]HOJA GENERAL DATOS IMPORTADOS'!AF223","v":0},{"$f":"'[1]HOJA GENERAL DATOS IMPORTADOS'!AG223","v":0},{"$f":"'[1]HOJA GENERAL DATOS IMPORTADOS'!AH223","v":0},{"$f":"'[1]HOJA GENERAL DATOS IMPORTADOS'!AI223","v":0}]
[null,null,null,null,null,null,null,null,null,null,null,null,null,null,null,null,null,null,null,null,null,null,null,null,null,{"$f":"'[1]HOJA GENERAL DATOS IMPORTADOS'!Z224","v":0},{"$f":"'[1]HOJA GENERAL DATOS IMPORTADOS'!AA224","v":0},{"$f":"'[1]HOJA GENERAL DATOS IMPORTADOS'!AB224","v":0},{"$f":"'[1]HOJA GENERAL DATOS IMPORTADOS'!AC224","v":0},{"$f":"'[1]HOJA GENERAL DATOS IMPORTADOS'!AD224","v":0},{"$f":"'[1]HOJA GENERAL DATOS IMPORTADOS'!AE224","v":0},{"$f":"'[1]HOJA GENERAL DATOS IMPORTADOS'!AF224","v":0},{"$f":"'[1]HOJA GENERAL DATOS IMPORTADOS'!AG224","v":0},{"$f":"'[1]HOJA GENERAL DATOS IMPORTADOS'!AH224","v":0},{"$f":"'[1]HOJA GENERAL DATOS IMPORTADOS'!AI224","v":0}]
[null,null,null,null,null,null,null,null,null,null,null,null,null,null,null,null,null,null,null,null,null,null,null,null,null,{"$f":"'[1]HOJA GENERAL DATOS IMPORTADOS'!Z225","v":0},{"$f":"'[1]HOJA GENERAL DATOS IMPORTADOS'!AA225","v":0},{"$f":"'[1]HOJA GENERAL DATOS IMPORTADOS'!AB225","v":0},{"$f":"'[1]HOJA GENERAL DATOS IMPORTADOS'!AC225","v":0},{"$f":"'[1]HOJA GENERAL DATOS IMPORTADOS'!AD225","v":0},{"$f":"'[1]HOJA GENERAL DATOS IMPORTADOS'!AE225","v":0},{"$f":"'[1]HOJA GENERAL DATOS IMPORTADOS'!AF225","v":0},{"$f":"'[1]HOJA GENERAL DATOS IMPORTADOS'!AG225","v":0},{"$f":"'[1]HOJA GENERAL DATOS IMPORTADOS'!AH225","v":0},{"$f":"'[1]HOJA GENERAL DATOS IMPORTADOS'!AI225","v":0}]
[null,null,null,null,null,null,null,null,null,null,null,null,null,null,null,null,null,null,null,null,null,null,null,null,null,{"$f":"'[1]HOJA GENERAL DATOS IMPORTADOS'!Z226","v":0},{"$f":"'[1]HOJA GENERAL DATOS IMPORTADOS'!AA226","v":0},{"$f":"'[1]HOJA GENERAL DATOS IMPORTADOS'!AB226","v":0},{"$f":"'[1]HOJA GENERAL DATOS IMPORTADOS'!AC226","v":0},{"$f":"'[1]HOJA GENERAL DATOS IMPORTADOS'!AD226","v":0},{"$f":"'[1]HOJA GENERAL DATOS IMPORTADOS'!AE226","v":0},{"$f":"'[1]HOJA GENERAL DATOS IMPORTADOS'!AF226","v":0},{"$f":"'[1]HOJA GENERAL DATOS IMPORTADOS'!AG226","v":0},{"$f":"'[1]HOJA GENERAL DATOS IMPORTADOS'!AH226","v":0},{"$f":"'[1]HOJA GENERAL DATOS IMPORTADOS'!AI226","v":0}]
[null,null,null,null,null,null,null,null,null,null,null,null,null,null,null,null,null,null,null,null,null,null,null,null,null,{"$f":"'[1]HOJA GENERAL DATOS IMPORTADOS'!Z227","v":0},{"$f":"'[1]HOJA GENERAL DATOS IMPORTADOS'!AA227","v":0},{"$f":"'[1]HOJA GENERAL DATOS IMPORTADOS'!AB227","v":0},{"$f":"'[1]HOJA GENERAL DATOS IMPORTADOS'!AC227","v":0},{"$f":"'[1]HOJA GENERAL DATOS IMPORTADOS'!AD227","v":0},{"$f":"'[1]HOJA GENERAL DATOS IMPORTADOS'!AE227","v":0},{"$f":"'[1]HOJA GENERAL DATOS IMPORTADOS'!AF227","v":0},{"$f":"'[1]HOJA GENERAL DATOS IMPORTADOS'!AG227","v":0},{"$f":"'[1]HOJA GENERAL DATOS IMPORTADOS'!AH227","v":0},{"$f":"'[1]HOJA GENERAL DATOS IMPORTADOS'!AI227","v":0}]
[{"$f":"'[1]HOJA GENERAL DATOS IMPORTADOS'!A228","v":0},{"$f":"'[1]HOJA GENERAL DATOS IMPORTADOS'!B228","v":0},{"$f":"'[1]HOJA GENERAL DATOS IMPORTADOS'!C228","v":0},{"$f":"'[1]HOJA GENERAL DATOS IMPORTADOS'!D228","v":0},{"$f":"'[1]HOJA GENERAL DATOS IMPORTADOS'!E228","v":0},{"$f":"'[1]HOJA GENERAL DATOS IMPORTADOS'!F228","v":0},{"$f":"'[1]HOJA GENERAL DATOS IMPORTADOS'!G228","v":0},{"$f":"'[1]HOJA GENERAL DATOS IMPORTADOS'!H228","v":0},{"$f":"'[1]HOJA GENERAL DATOS IMPORTADOS'!I228","v":0},{"$f":"'[1]HOJA GENERAL DATOS IMPORTADOS'!J228","v":0},{"$f":"'[1]HOJA GENERAL DATOS IMPORTADOS'!K228","v":0},{"$f":"'[1]HOJA GENERAL DATOS IMPORTADOS'!L228","v":0},{"$f":"'[1]HOJA GENERAL DATOS IMPORTADOS'!M228","v":0},{"$f":"'[1]HOJA GENERAL DATOS IMPORTADOS'!N228","v":0},{"$f":"'[1]HOJA GENERAL DATOS IMPORTADOS'!O228","v":0},{"$f":"'[1]HOJA GENERAL DATOS IMPORTADOS'!P228","v":0},{"$f":"'[1]HOJA GENERAL DATOS IMPORTADOS'!Q228","v":0},{"$f":"'[1]HOJA GENERAL DATOS IMPORTADOS'!R228","v":0},{"$f":"'[1]HOJA GENERAL DATOS IMPORTADOS'!S228","v":0},{"$f":"'[1]HOJA GENERAL DATOS IMPORTADOS'!T228","v":0},{"$f":"'[1]HOJA GENERAL DATOS IMPORTADOS'!U228","v":0},{"$f":"'[1]HOJA GENERAL DATOS IMPORTADOS'!V228","v":0},{"$f":"'[1]HOJA GENERAL DATOS IMPORTADOS'!W228","v":0},{"$f":"'[1]HOJA GENERAL DATOS IMPORTADOS'!X228","v":0},null,{"$f":"'[1]HOJA GENERAL DATOS IMPORTADOS'!Z228","v":0},{"$f":"'[1]HOJA GENERAL DATOS IMPORTADOS'!AA228","v":0},{"$f":"'[1]HOJA GENERAL DATOS IMPORTADOS'!AB228","v":0},{"$f":"'[1]HOJA GENERAL DATOS IMPORTADOS'!AC228","v":0},{"$f":"'[1]HOJA GENERAL DATOS IMPORTADOS'!AD228","v":0},{"$f":"'[1]HOJA GENERAL DATOS IMPORTADOS'!AE228","v":0},{"$f":"'[1]HOJA GENERAL DATOS IMPORTADOS'!AF228","v":0},{"$f":"'[1]HOJA GENERAL DATOS IMPORTADOS'!AG228","v":0},{"$f":"'[1]HOJA GENERAL DATOS IMPORTADOS'!AH228","v":0},{"$f":"'[1]HOJA GENERAL DATOS IMPORTADOS'!AI228","v":0}]
[{"$f":"'[1]HOJA GENERAL DATOS IMPORTADOS'!A229","v":0},{"$f":"'[1]HOJA GENERAL DATOS IMPORTADOS'!B229","v":0},{"$f":"'[1]HOJA GENERAL DATOS IMPORTADOS'!C229","v":0},{"$f":"'[1]HOJA GENERAL DATOS IMPORTADOS'!D229","v":0},{"$f":"'[1]HOJA GENERAL DATOS IMPORTADOS'!E229","v":0},{"$f":"'[1]HOJA GENERAL DATOS IMPORTADOS'!F229","v":0},{"$f":"'[1]HOJA GENERAL DATOS IMPORTADOS'!G229","v":0},{"$f":"'[1]HOJA GENERAL DATOS IMPORTADOS'!H229","v":0},{"$f":"'[1]HOJA GENERAL DATOS IMPORTADOS'!I229","v":0},{"$f":"'[1]HOJA GENERAL DATOS IMPORTADOS'!J229","v":0},{"$f":"'[1]HOJA GENERAL DATOS IMPORTADOS'!K229","v":0},{"$f":"'[1]HOJA GENERAL DATOS IMPORTADOS'!L229","v":0},{"$f":"'[1]HOJA GENERAL DATOS IMPORTADOS'!M229","v":0},{"$f":"'[1]HOJA GENERAL DATOS IMPORTADOS'!N229","v":0},{"$f":"'[1]HOJA GENERAL DATOS IMPORTADOS'!O229","v":0},{"$f":"'[1]HOJA GENERAL DATOS IMPORTADOS'!P229","v":0},{"$f":"'[1]HOJA GENERAL DATOS IMPORTADOS'!Q229","v":0},{"$f":"'[1]HOJA GENERAL DATOS IMPORTADOS'!R229","v":0},{"$f":"'[1]HOJA GENERAL DATOS IMPORTADOS'!S229","v":0},{"$f":"'[1]HOJA GENERAL DATOS IMPORTADOS'!T229","v":0},{"$f":"'[1]HOJA GENERAL DATOS IMPORTADOS'!U229","v":0},{"$f":"'[1]HOJA GENERAL DATOS IMPORTADOS'!V229","v":0},{"$f":"'[1]HOJA GENERAL DATOS IMPORTADOS'!W229","v":0},{"$f":"'[1]HOJA GENERAL DATOS IMPORTADOS'!X229","v":0},{"$f":"'[1]HOJA GENERAL DATOS IMPORTADOS'!Y229","v":0},{"$f":"'[1]HOJA GENERAL DATOS IMPORTADOS'!Z229","v":0},{"$f":"'[1]HOJA GENERAL DATOS IMPORTADOS'!AA229","v":0},{"$f":"'[1]HOJA GENERAL DATOS IMPORTADOS'!AB229","v":0},{"$f":"'[1]HOJA GENERAL DATOS IMPORTADOS'!AC229","v":0},{"$f":"'[1]HOJA GENERAL DATOS IMPORTADOS'!AD229","v":0},{"$f":"'[1]HOJA GENERAL DATOS IMPORTADOS'!AE229","v":0},{"$f":"'[1]HOJA GENERAL DATOS IMPORTADOS'!AF229","v":0},{"$f":"'[1]HOJA GENERAL DATOS IMPORTADOS'!AG229","v":0},{"$f":"'[1]HOJA GENERAL DATOS IMPORTADOS'!AH229","v":0},{"$f":"'[1]HOJA GENERAL DATOS IMPORTADOS'!AI229","v":0}]
[{"$f":"'[1]HOJA GENERAL DATOS IMPORTADOS'!A230","v":0},{"$f":"'[1]HOJA GENERAL DATOS IMPORTADOS'!B230","v":0},{"$f":"'[1]HOJA GENERAL DATOS IMPORTADOS'!C230","v":0},{"$f":"'[1]HOJA GENERAL DATOS IMPORTADOS'!D230","v":0},{"$f":"'[1]HOJA GENERAL DATOS IMPORTADOS'!E230","v":0},{"$f":"'[1]HOJA GENERAL DATOS IMPORTADOS'!F230","v":0},{"$f":"'[1]HOJA GENERAL DATOS IMPORTADOS'!G230","v":0},{"$f":"'[1]HOJA GENERAL DATOS IMPORTADOS'!H230","v":0},{"$f":"'[1]HOJA GENERAL DATOS IMPORTADOS'!I230","v":0},{"$f":"'[1]HOJA GENERAL DATOS IMPORTADOS'!J230","v":0},{"$f":"'[1]HOJA GENERAL DATOS IMPORTADOS'!K230","v":0},{"$f":"'[1]HOJA GENERAL DATOS IMPORTADOS'!L230","v":0},{"$f":"'[1]HOJA GENERAL DATOS IMPORTADOS'!M230","v":0},{"$f":"'[1]HOJA GENERAL DATOS IMPORTADOS'!N230","v":0},{"$f":"'[1]HOJA GENERAL DATOS IMPORTADOS'!O230","v":0},{"$f":"'[1]HOJA GENERAL DATOS IMPORTADOS'!P230","v":0},{"$f":"'[1]HOJA GENERAL DATOS IMPORTADOS'!Q230","v":0},{"$f":"'[1]HOJA GENERAL DATOS IMPORTADOS'!R230","v":0},{"$f":"'[1]HOJA GENERAL DATOS IMPORTADOS'!S230","v":0},{"$f":"'[1]HOJA GENERAL DATOS IMPORTADOS'!T230","v":0},{"$f":"'[1]HOJA GENERAL DATOS IMPORTADOS'!U230","v":0},{"$f":"'[1]HOJA GENERAL DATOS IMPORTADOS'!V230","v":0},{"$f":"'[1]HOJA GENERAL DATOS IMPORTADOS'!W230","v":0},{"$f":"'[1]HOJA GENERAL DATOS IMPORTADOS'!X230","v":0},{"$f":"'[1]HOJA GENERAL DATOS IMPORTADOS'!Y230","v":0},{"$f":"'[1]HOJA GENERAL DATOS IMPORTADOS'!Z230","v":0},{"$f":"'[1]HOJA GENERAL DATOS IMPORTADOS'!AA230","v":0},{"$f":"'[1]HOJA GENERAL DATOS IMPORTADOS'!AB230","v":0},{"$f":"'[1]HOJA GENERAL DATOS IMPORTADOS'!AC230","v":0},{"$f":"'[1]HOJA GENERAL DATOS IMPORTADOS'!AD230","v":0},{"$f":"'[1]HOJA GENERAL DATOS IMPORTADOS'!AE230","v":0},{"$f":"'[1]HOJA GENERAL DATOS IMPORTADOS'!AF230","v":0},{"$f":"'[1]HOJA GENERAL DATOS IMPORTADOS'!AG230","v":0},{"$f":"'[1]HOJA GENERAL DATOS IMPORTADOS'!AH230","v":0},{"$f":"'[1]HOJA GENERAL DATOS IMPORTADOS'!AI230","v":0}]
[{"$f":"'[1]HOJA GENERAL DATOS IMPORTADOS'!A231","v":"ESTACION"},{"$f":"'[1]HOJA GENERAL DATOS IMPORTADOS'!B231","v":"CuentaDeCuentaDeNº REGISTRO"},{"$f":"'[1]HOJA GENERAL DATOS IMPORTADOS'!C231","v":"PromedioDePromedioDeEXTERIOR TEMPERATURA"},{"$f":"'[1]HOJA GENERAL DATOS IMPORTADOS'!D231","v":"PromedioDePromedioDeCUADRA TEMPERATURA"},{"$f":"'[1]HOJA GENERAL DATOS IMPORTADOS'!E231","v":"DesvEstDePromedioDeCUADRA TEMPERATURA"},{"$f":"'[1]HOJA GENERAL DATOS IMPORTADOS'!F231","v":"PromedioDePromedioDeANIMALES TEMPERATURA"},{"$f":"'[1]HOJA GENERAL DATOS IMPORTADOS'!G231","v":"DesvEstDePromedioDeANIMALES TEMPERATURA"},{"$f":"'[1]HOJA GENERAL DATOS IMPORTADOS'!H231","v":"PromedioDePromedioDeCAMA TEMPERATURA"},{"$f":"'[1]HOJA GENERAL DATOS IMPORTADOS'!I231","v":"DesvEstDePromedioDeCAMA TEMPERATURA"},{"$f":"'[1]HOJA GENERAL DATOS IMPORTADOS'!J231","v":"PromedioDePromedioDeEXTERIOR HUMEDAD"},{"$f":"'[1]HOJA GENERAL DATOS IMPORTADOS'!K231","v":"PromedioDePromedioDeCUADRA HUMEDAD"},{"$f":"'[1]HOJA GENERAL DATOS IMPORTADOS'!L231","v":"DesvEstDePromedioDeCUADRA HUMEDAD"},{"$f":"'[1]HOJA GENERAL DATOS IMPORTADOS'!M231","v":"PromedioDePromedioDeANIMALES HUMEDAD"},{"$f":"'[1]HOJA GENERAL DATOS IMPORTADOS'!N231","v":"DesvEstDePromedioDeANIMALES HUMEDAD"},{"$f":"'[1]HOJA GENERAL DATOS IMPORTADOS'!O231","v":"PromedioDePromedioDeCAMA HUMEDAD"},{"$f":"'[1]HOJA GENERAL DATOS IMPORTADOS'!P231","v":"DesvEstDePromedioDeCAMA HUMEDAD"},{"$f":"'[1]HOJA GENERAL DATOS IMPORTADOS'!Q231","v":"PromedioDePromedioDeEXTERIOR VELOCIDAD AIRE"},{"$f":"'[1]HOJA GENERAL DATOS IMPORTADOS'!R231","v":"PromedioDePromedioDeCUADRA VELOCIDAD AIRE"},{"$f":"'[1]HOJA GENERAL DATOS IMPORTADOS'!S231","v":"DesvEstDePromedioDeCUADRA VELOCIDAD AIRE"},{"$f":"'[1]HOJA GENERAL DATOS IMPORTADOS'!T231","v":"PromedioDePromedioDeANIMALES VELOCIDAD AIRE"},{"$f":"'[1]HOJA GENERAL DATOS IMPORTADOS'!U231","v":"DesvEstDePromedioDeANIMALES VELOCIDAD AIRE"},{"$f":"'[1]HOJA GENERAL DATOS IMPORTADOS'!V231","v":"T AISLAM NAVE"},{"$f":"'[1]HOJA GENERAL DATOS IMPORTADOS'!W231","v":"T DENSIDAD"},{"$f":"'[1]HOJA GENERAL DATOS IMPORTADOS'!X231","v":"T CAMA"},{"$f":"'[1]HOJA GENERAL DATOS IMPORTADOS'!Y231","v":"H VENTILACION"},{"$f":"'[1]HOJA GENERAL DATOS IMPORTADOS'!Z231","v":"H DENSIDAD"},{"$f":"'[1]HOJA GENERAL DATOS IMPORTADOS'!AA231","v":"H CAMA"},{"$f":"'[1]HOJA GENERAL DATOS IMPORTADOS'!AB231","v":"CORRIENTES ANIMALES"},{"$f":"'[1]HOJA GENERAL DATOS IMPORTADOS'!AC231","v":0},{"$f":"'[1]HOJA GENERAL DATOS IMPORTADOS'!AD231","v":0},{"$f":"'[1]HOJA GENERAL DATOS IMPORTADOS'!AE231","v":0},{"$f":"'[1]HOJA GENERAL DATOS IMPORTADOS'!AF231","v":0},{"$f":"'[1]HOJA GENERAL DATOS IMPORTADOS'!AG231","v":0},{"$f":"'[1]HOJA GENERAL DATOS IMPORTADOS'!AH231","v":0},{"$f":"'[1]HOJA GENERAL DATOS IMPORTADOS'!AI231","v":0}]
[{"$f":"'[1]HOJA GENERAL DATOS IMPORTADOS'!A232","v":"INVIERNO"},{"$f":"'[1]HOJA GENERAL DATOS IMPORTADOS'!B232","v":19},{"$f":"'[1]HOJA GENERAL DATOS IMPORTADOS'!C232","v":183.57894736842101},{"$f":"'[1]HOJA GENERAL DATOS IMPORTADOS'!D232","v":195.07894736842101},{"$f":"'[1]HOJA GENERAL DATOS IMPORTADOS'!E232","v":41.651084805765599},{"$f":"'[1]HOJA GENERAL DATOS IMPORTADOS'!F232","v":194.68421052631601},{"$f":"'[1]HOJA GENERAL DATOS IMPORTADOS'!G232","v":41.653067956339498},{"$f":"'[1]HOJA GENERAL DATOS IMPORTADOS'!H232","v":194.894736842105},{"$f":"'[1]HOJA GENERAL DATOS IMPORTADOS'!I232","v":40.898783922211997},{"$f":"'[1]HOJA GENERAL DATOS IMPORTADOS'!J232","v":274.23684210526301},{"$f":"'[1]HOJA GENERAL DATOS IMPORTADOS'!K232","v":315.28947368421098},{"$f":"'[1]HOJA GENERAL DATOS IMPORTADOS'!L232","v":116.41560078126599},{"$f":"'[1]HOJA GENERAL DATOS IMPORTADOS'!M232","v":332.23684210526301},{"$f":"'[1]HOJA GENERAL DATOS IMPORTADOS'!N232","v":116.695516483074},{"$f":"'[1]HOJA GENERAL DATOS IMPORTADOS'!O232","v":397.81578947368399},{"$f":"'[1]HOJA GENERAL DATOS IMPORTADOS'!P232","v":96.650747328017701},{"$f":"'[1]HOJA GENERAL DATOS IMPORTADOS'!Q232","v":15.526315789473699},{"$f":"'[1]HOJA GENERAL DATOS IMPORTADOS'!R232","v":3.3947368421052602},{"$f":"'[1]HOJA GENERAL DATOS IMPORTADOS'!S232","v":6.9892356667005},{"$f":"'[1]HOJA GENERAL DATOS IMPORTADOS'!T232","v":1.34210526315789},{"$f":"'[1]HOJA GENERAL DATOS IMPORTADOS'!U232","v":3.4723216360037301},{"$f":"'[1]HOJA GENERAL DATOS IMPORTADOS'!V232","v":21.105759364035901},{"$f":"'[1]HOJA GENERAL DATOS IMPORTADOS'!W232","v":29.4334633589114},{"$f":"'[1]HOJA GENERAL DATOS IMPORTADOS'!X232","v":28.481780324495801},{"$f":"'[1]HOJA GENERAL DATOS IMPORTADOS'!Y232","v":110.22776265215001},{"$f":"'[1]HOJA GENERAL DATOS IMPORTADOS'!Z232","v":93.550019432888902},{"$f":"'[1]HOJA GENERAL DATOS IMPORTADOS'!AA232","v":113.560786287507},{"$f":"'[1]HOJA GENERAL DATOS IMPORTADOS'!AB232","v":3.8674672504657699},{"$f":"'[1]HOJA GENERAL DATOS IMPORTADOS'!AC232","v":0},{"$f":"'[1]HOJA GENERAL DATOS IMPORTADOS'!AD232","v":0},{"$f":"'[1]HOJA GENERAL DATOS IMPORTADOS'!AE232","v":0},{"$f":"'[1]HOJA GENERAL DATOS IMPORTADOS'!AF232","v":0},{"$f":"'[1]HOJA GENERAL DATOS IMPORTADOS'!AG232","v":0},{"$f":"'[1]HOJA GENERAL DATOS IMPORTADOS'!AH232","v":0},{"$f":"'[1]HOJA GENERAL DATOS IMPORTADOS'!AI232","v":0}]
[{"$f":"'[1]HOJA GENERAL DATOS IMPORTADOS'!A233","v":"VERANO"},{"$f":"'[1]HOJA GENERAL DATOS IMPORTADOS'!B233","v":28},{"$f":"'[1]HOJA GENERAL DATOS IMPORTADOS'!C233","v":287.04761904761898},{"$f":"'[1]HOJA GENERAL DATOS IMPORTADOS'!D233","v":281.517857142857},{"$f":"'[1]HOJA GENERAL DATOS IMPORTADOS'!E233","v":39.125926783635897},{"$f":"'[1]HOJA GENERAL DATOS IMPORTADOS'!F233","v":283.41071428571399},{"$f":"'[1]HOJA GENERAL DATOS IMPORTADOS'!G233","v":39.174151691999},{"$f":"'[1]HOJA GENERAL DATOS IMPORTADOS'!H233","v":273.46428571428601},{"$f":"'[1]HOJA GENERAL DATOS IMPORTADOS'!I233","v":61.535502100921001},{"$f":"'[1]HOJA GENERAL DATOS IMPORTADOS'!J233","v":254.38095238095201},{"$f":"'[1]HOJA GENERAL DATOS IMPORTADOS'!K233","v":274.58928571428601},{"$f":"'[1]HOJA GENERAL DATOS IMPORTADOS'!L233","v":104.334619979276},{"$f":"'[1]HOJA GENERAL DATOS IMPORTADOS'!M233","v":295.56547619047598},{"$f":"'[1]HOJA GENERAL DATOS IMPORTADOS'!N233","v":107.629741205421},{"$f":"'[1]HOJA GENERAL DATOS IMPORTADOS'!O233","v":346.267857142857},{"$f":"'[1]HOJA GENERAL DATOS IMPORTADOS'!P233","v":114.13863618484},{"$f":"'[1]HOJA GENERAL DATOS IMPORTADOS'!Q233","v":16.244047619047599},{"$f":"'[1]HOJA GENERAL DATOS IMPORTADOS'!R233","v":3.61904761904762},{"$f":"'[1]HOJA GENERAL DATOS IMPORTADOS'!S233","v":4.1103245350770896},{"$f":"'[1]HOJA GENERAL DATOS IMPORTADOS'!T233","v":1.7083333333333299},{"$f":"'[1]HOJA GENERAL DATOS IMPORTADOS'!U233","v":2.9015481180710201},{"$f":"'[1]HOJA GENERAL DATOS IMPORTADOS'!V233","v":31.258982081878401},{"$f":"'[1]HOJA GENERAL DATOS IMPORTADOS'!W233","v":26.096906184399302},{"$f":"'[1]HOJA GENERAL DATOS IMPORTADOS'!X233","v":50.037351470644701},{"$f":"'[1]HOJA GENERAL DATOS IMPORTADOS'!Y233","v":87.180067318826303},{"$f":"'[1]HOJA GENERAL DATOS IMPORTADOS'!Z233","v":90.024152177128002},{"$f":"'[1]HOJA GENERAL DATOS IMPORTADOS'!AA233","v":115.388711996054},{"$f":"'[1]HOJA GENERAL DATOS IMPORTADOS'!AB233","v":3.36858368264972},{"$f":"'[1]HOJA GENERAL DATOS IMPORTADOS'!AC233","v":0},{"$f":"'[1]HOJA GENERAL DATOS IMPORTADOS'!AD233","v":0},{"$f":"'[1]HOJA GENERAL DATOS IMPORTADOS'!AE233","v":0},{"$f":"'[1]HOJA GENERAL DATOS IMPORTADOS'!AF233","v":0},{"$f":"'[1]HOJA GENERAL DATOS IMPORTADOS'!AG233","v":0},{"$f":"'[1]HOJA GENERAL DATOS IMPORTADOS'!AH233","v":0},{"$f":"'[1]HOJA GENERAL DATOS IMPORTADOS'!AI233","v":0}]
[{"$f":"'[1]HOJA GENERAL DATOS IMPORTADOS'!A234","v":0},{"$f":"'[1]HOJA GENERAL DATOS IMPORTADOS'!B234","v":0},{"$f":"'[1]HOJA GENERAL DATOS IMPORTADOS'!C234","v":0},{"$f":"'[1]HOJA GENERAL DATOS IMPORTADOS'!D234","v":0},{"$f":"'[1]HOJA GENERAL DATOS IMPORTADOS'!E234","v":0},{"$f":"'[1]HOJA GENERAL DATOS IMPORTADOS'!F234","v":0},{"$f":"'[1]HOJA GENERAL DATOS IMPORTADOS'!G234","v":0},{"$f":"'[1]HOJA GENERAL DATOS IMPORTADOS'!H234","v":0},{"$f":"'[1]HOJA GENERAL DATOS IMPORTADOS'!I234","v":0},{"$f":"'[1]HOJA GENERAL DATOS IMPORTADOS'!J234","v":0},{"$f":"'[1]HOJA GENERAL DATOS IMPORTADOS'!K234","v":0},{"$f":"'[1]HOJA GENERAL DATOS IMPORTADOS'!L234","v":0},{"$f":"'[1]HOJA GENERAL DATOS IMPORTADOS'!M234","v":0},{"$f":"'[1]HOJA GENERAL DATOS IMPORTADOS'!N234","v":0},{"$f":"'[1]HOJA GENERAL DATOS IMPORTADOS'!O234","v":0},{"$f":"'[1]HOJA GENERAL DATOS IMPORTADOS'!P234","v":0},{"$f":"'[1]HOJA GENERAL DATOS IMPORTADOS'!Q234","v":0},{"$f":"'[1]HOJA GENERAL DATOS IMPORTADOS'!R234","v":0},{"$f":"'[1]HOJA GENERAL DATOS IMPORTADOS'!S234","v":0},{"$f":"'[1]HOJA GENERAL DATOS IMPORTADOS'!T234","v":0},{"$f":"'[1]HOJA GENERAL DATOS IMPORTADOS'!U234","v":0},{"$f":"'[1]HOJA GENERAL DATOS IMPORTADOS'!V234","v":0},{"$f":"'[1]HOJA GENERAL DATOS IMPORTADOS'!W234","v":0},{"$f":"'[1]HOJA GENERAL DATOS IMPORTADOS'!X234","v":0},{"$f":"'[1]HOJA GENERAL DATOS IMPORTADOS'!Y234","v":0},{"$f":"'[1]HOJA GENERAL DATOS IMPORTADOS'!Z234","v":0},{"$f":"'[1]HOJA GENERAL DATOS IMPORTADOS'!AA234","v":0},{"$f":"'[1]HOJA GENERAL DATOS IMPORTADOS'!AB234","v":0},{"$f":"'[1]HOJA GENERAL DATOS IMPORTADOS'!AC234","v":0},{"$f":"'[1]HOJA GENERAL DATOS IMPORTADOS'!AD234","v":0},{"$f":"'[1]HOJA GENERAL DATOS IMPORTADOS'!AE234","v":0},{"$f":"'[1]HOJA GENERAL DATOS IMPORTADOS'!AF234","v":0},{"$f":"'[1]HOJA GENERAL DATOS IMPORTADOS'!AG234","v":0},{"$f":"'[1]HOJA GENERAL DATOS IMPORTADOS'!AH234","v":0},{"$f":"'[1]HOJA GENERAL DATOS IMPORTADOS'!AI234","v":0}]
[{"$f":"'[1]HOJA GENERAL DATOS IMPORTADOS'!A235","v":0},{"$f":"'[1]HOJA GENERAL DATOS IMPORTADOS'!B235","v":0},{"$f":"'[1]HOJA GENERAL DATOS IMPORTADOS'!C235","v":0},{"$f":"'[1]HOJA GENERAL DATOS IMPORTADOS'!D235","v":0},{"$f":"'[1]HOJA GENERAL DATOS IMPORTADOS'!E235","v":0},{"$f":"'[1]HOJA GENERAL DATOS IMPORTADOS'!F235","v":0},{"$f":"'[1]HOJA GENERAL DATOS IMPORTADOS'!G235","v":0},{"$f":"'[1]HOJA GENERAL DATOS IMPORTADOS'!H235","v":0},{"$f":"'[1]HOJA GENERAL DATOS IMPORTADOS'!I235","v":0},{"$f":"'[1]HOJA GENERAL DATOS IMPORTADOS'!J235","v":0},{"$f":"'[1]HOJA GENERAL DATOS IMPORTADOS'!K235","v":0},{"$f":"'[1]HOJA GENERAL DATOS IMPORTADOS'!L235","v":0},{"$f":"'[1]HOJA GENERAL DATOS IMPORTADOS'!M235","v":0},{"$f":"'[1]HOJA GENERAL DATOS IMPORTADOS'!N235","v":0},{"$f":"'[1]HOJA GENERAL DATOS IMPORTADOS'!O235","v":0},{"$f":"'[1]HOJA GENERAL DATOS IMPORTADOS'!P235","v":0},{"$f":"'[1]HOJA GENERAL DATOS IMPORTADOS'!Q235","v":0},{"$f":"'[1]HOJA GENERAL DATOS IMPORTADOS'!R235","v":0},{"$f":"'[1]HOJA GENERAL DATOS IMPORTADOS'!S235","v":0},{"$f":"'[1]HOJA GENERAL DATOS IMPORTADOS'!T235","v":0},{"$f":"'[1]HOJA GENERAL DATOS IMPORTADOS'!U235","v":0},{"$f":"'[1]HOJA GENERAL DATOS IMPORTADOS'!V235","v":0},{"$f":"'[1]HOJA GENERAL DATOS IMPORTADOS'!W235","v":0},{"$f":"'[1]HOJA GENERAL DATOS IMPORTADOS'!X235","v":0},{"$f":"'[1]HOJA GENERAL DATOS IMPORTADOS'!Y235","v":0},{"$f":"'[1]HOJA GENERAL DATOS IMPORTADOS'!Z235","v":0},{"$f":"'[1]HOJA GENERAL DATOS IMPORTADOS'!AA235","v":0},{"$f":"'[1]HOJA GENERAL DATOS IMPORTADOS'!AB235","v":0},{"$f":"'[1]HOJA GENERAL DATOS IMPORTADOS'!AC235","v":0},{"$f":"'[1]HOJA GENERAL DATOS IMPORTADOS'!AD235","v":0},{"$f":"'[1]HOJA GENERAL DATOS IMPORTADOS'!AE235","v":0},{"$f":"'[1]HOJA GENERAL DATOS IMPORTADOS'!AF235","v":0},{"$f":"'[1]HOJA GENERAL DATOS IMPORTADOS'!AG235","v":0},{"$f":"'[1]HOJA GENERAL DATOS IMPORTADOS'!AH235","v":0},{"$f":"'[1]HOJA GENERAL DATOS IMPORTADOS'!AI235","v":0}]
[{"$f":"'[1]HOJA GENERAL DATOS IMPORTADOS'!A236","v":0},{"$f":"'[1]HOJA GENERAL DATOS IMPORTADOS'!B236","v":0},{"$f":"'[1]HOJA GENERAL DATOS IMPORTADOS'!C236","v":0},{"$f":"'[1]HOJA GENERAL DATOS IMPORTADOS'!D236","v":0},{"$f":"'[1]HOJA GENERAL DATOS IMPORTADOS'!E236","v":0},{"$f":"'[1]HOJA GENERAL DATOS IMPORTADOS'!F236","v":0},{"$f":"'[1]HOJA GENERAL DATOS IMPORTADOS'!G236","v":0},{"$f":"'[1]HOJA GENERAL DATOS IMPORTADOS'!H236","v":0},{"$f":"'[1]HOJA GENERAL DATOS IMPORTADOS'!I236","v":0},{"$f":"'[1]HOJA GENERAL DATOS IMPORTADOS'!J236","v":0},{"$f":"'[1]HOJA GENERAL DATOS IMPORTADOS'!K236","v":0},{"$f":"'[1]HOJA GENERAL DATOS IMPORTADOS'!L236","v":0},{"$f":"'[1]HOJA GENERAL DATOS IMPORTADOS'!M236","v":0},{"$f":"'[1]HOJA GENERAL DATOS IMPORTADOS'!N236","v":0},{"$f":"'[1]HOJA GENERAL DATOS IMPORTADOS'!O236","v":0},{"$f":"'[1]HOJA GENERAL DATOS IMPORTADOS'!P236","v":0},{"$f":"'[1]HOJA GENERAL DATOS IMPORTADOS'!Q236","v":0},{"$f":"'[1]HOJA GENERAL DATOS IMPORTADOS'!R236","v":0},{"$f":"'[1]HOJA GENERAL DATOS IMPORTADOS'!S236","v":0},{"$f":"'[1]HOJA GENERAL DATOS IMPORTADOS'!T236","v":0},{"$f":"'[1]HOJA GENERAL DATOS IMPORTADOS'!U236","v":0},{"$f":"'[1]HOJA GENERAL DATOS IMPORTADOS'!V236","v":0},{"$f":"'[1]HOJA GENERAL DATOS IMPORTADOS'!W236","v":0},{"$f":"'[1]HOJA GENERAL DATOS IMPORTADOS'!X236","v":0},{"$f":"'[1]HOJA GENERAL DATOS IMPORTADOS'!Y236","v":0},{"$f":"'[1]HOJA GENERAL DATOS IMPORTADOS'!Z236","v":0},{"$f":"'[1]HOJA GENERAL DATOS IMPORTADOS'!AA236","v":0},{"$f":"'[1]HOJA GENERAL DATOS IMPORTADOS'!AB236","v":0},{"$f":"'[1]HOJA GENERAL DATOS IMPORTADOS'!AC236","v":0},{"$f":"'[1]HOJA GENERAL DATOS IMPORTADOS'!AD236","v":0},{"$f":"'[1]HOJA GENERAL DATOS IMPORTADOS'!AE236","v":0},{"$f":"'[1]HOJA GENERAL DATOS IMPORTADOS'!AF236","v":0},{"$f":"'[1]HOJA GENERAL DATOS IMPORTADOS'!AG236","v":0},{"$f":"'[1]HOJA GENERAL DATOS IMPORTADOS'!AH236","v":0},{"$f":"'[1]HOJA GENERAL DATOS IMPORTADOS'!AI236","v":0}]
[{"$f":"'[1]HOJA GENERAL DATOS IMPORTADOS'!A237","v":0},{"$f":"'[1]HOJA GENERAL DATOS IMPORTADOS'!B237","v":0},{"$f":"'[1]HOJA GENERAL DATOS IMPORTADOS'!C237","v":0},{"$f":"'[1]HOJA GENERAL DATOS IMPORTADOS'!D237","v":0},{"$f":"'[1]HOJA GENERAL DATOS IMPORTADOS'!E237","v":0},{"$f":"'[1]HOJA GENERAL DATOS IMPORTADOS'!F237","v":0},{"$f":"'[1]HOJA GENERAL DATOS IMPORTADOS'!G237","v":0},{"$f":"'[1]HOJA GENERAL DATOS IMPORTADOS'!H237","v":0},{"$f":"'[1]HOJA GENERAL DATOS IMPORTADOS'!I237","v":0},{"$f":"'[1]HOJA GENERAL DATOS IMPORTADOS'!J237","v":0},{"$f":"'[1]HOJA GENERAL DATOS IMPORTADOS'!K237","v":0},{"$f":"'[1]HOJA GENERAL DATOS IMPORTADOS'!L237","v":0},{"$f":"'[1]HOJA GENERAL DATOS IMPORTADOS'!M237","v":0},{"$f":"'[1]HOJA GENERAL DATOS IMPORTADOS'!N237","v":0},{"$f":"'[1]HOJA GENERAL DATOS IMPORTADOS'!O237","v":0},{"$f":"'[1]HOJA GENERAL DATOS IMPORTADOS'!P237","v":0},{"$f":"'[1]HOJA GENERAL DATOS IMPORTADOS'!Q237","v":0},{"$f":"'[1]HOJA GENERAL DATOS IMPORTADOS'!R237","v":0},{"$f":"'[1]HOJA GENERAL DATOS IMPORTADOS'!S237","v":0},{"$f":"'[1]HOJA GENERAL DATOS IMPORTADOS'!T237","v":0},{"$f":"'[1]HOJA GENERAL DATOS IMPORTADOS'!U237","v":0},{"$f":"'[1]HOJA GENERAL DATOS IMPORTADOS'!V237","v":0},{"$f":"'[1]HOJA GENERAL DATOS IMPORTADOS'!W237","v":0},{"$f":"'[1]HOJA GENERAL DATOS IMPORTADOS'!X237","v":0},{"$f":"'[1]HOJA GENERAL DATOS IMPORTADOS'!Y237","v":0},{"$f":"'[1]HOJA GENERAL DATOS IMPORTADOS'!Z237","v":0},{"$f":"'[1]HOJA GENERAL DATOS IMPORTADOS'!AA237","v":0},{"$f":"'[1]HOJA GENERAL DATOS IMPORTADOS'!AB237","v":0},{"$f":"'[1]HOJA GENERAL DATOS IMPORTADOS'!AC237","v":0},{"$f":"'[1]HOJA GENERAL DATOS IMPORTADOS'!AD237","v":0},{"$f":"'[1]HOJA GENERAL DATOS IMPORTADOS'!AE237","v":0},{"$f":"'[1]HOJA GENERAL DATOS IMPORTADOS'!AF237","v":0},{"$f":"'[1]HOJA GENERAL DATOS IMPORTADOS'!AG237","v":0},{"$f":"'[1]HOJA GENERAL DATOS IMPORTADOS'!AH237","v":0},{"$f":"'[1]HOJA GENERAL DATOS IMPORTADOS'!AI237","v":0}]
[{"$f":"'[1]HOJA GENERAL DATOS IMPORTADOS'!A238","v":0},{"$f":"'[1]HOJA GENERAL DATOS IMPORTADOS'!B238","v":0},{"$f":"'[1]HOJA GENERAL DATOS IMPORTADOS'!C238","v":0},{"$f":"'[1]HOJA GENERAL DATOS IMPORTADOS'!D238","v":0},{"$f":"'[1]HOJA GENERAL DATOS IMPORTADOS'!E238","v":0},{"$f":"'[1]HOJA GENERAL DATOS IMPORTADOS'!F238","v":0},{"$f":"'[1]HOJA GENERAL DATOS IMPORTADOS'!G238","v":0},{"$f":"'[1]HOJA GENERAL DATOS IMPORTADOS'!H238","v":0},{"$f":"'[1]HOJA GENERAL DATOS IMPORTADOS'!I238","v":0},{"$f":"'[1]HOJA GENERAL DATOS IMPORTADOS'!J238","v":0},{"$f":"'[1]HOJA GENERAL DATOS IMPORTADOS'!K238","v":0},{"$f":"'[1]HOJA GENERAL DATOS IMPORTADOS'!L238","v":0},{"$f":"'[1]HOJA GENERAL DATOS IMPORTADOS'!M238","v":0},{"$f":"'[1]HOJA GENERAL DATOS IMPORTADOS'!N238","v":0},{"$f":"'[1]HOJA GENERAL DATOS IMPORTADOS'!O238","v":0},{"$f":"'[1]HOJA GENERAL DATOS IMPORTADOS'!P238","v":0},{"$f":"'[1]HOJA GENERAL DATOS IMPORTADOS'!Q238","v":0},{"$f":"'[1]HOJA GENERAL DATOS IMPORTADOS'!R238","v":0},{"$f":"'[1]HOJA GENERAL DATOS IMPORTADOS'!S238","v":0},{"$f":"'[1]HOJA GENERAL DATOS IMPORTADOS'!T238","v":0},{"$f":"'[1]HOJA GENERAL DATOS IMPORTADOS'!U238","v":0},{"$f":"'[1]HOJA GENERAL DATOS IMPORTADOS'!V238","v":0},{"$f":"'[1]HOJA GENERAL DATOS IMPORTADOS'!W238","v":0},{"$f":"'[1]HOJA GENERAL DATOS IMPORTADOS'!X238","v":0},{"$f":"'[1]HOJA GENERAL DATOS IMPORTADOS'!Y238","v":0},{"$f":"'[1]HOJA GENERAL DATOS IMPORTADOS'!Z238","v":0},{"$f":"'[1]HOJA GENERAL DATOS IMPORTADOS'!AA238","v":0},{"$f":"'[1]HOJA GENERAL DATOS IMPORTADOS'!AB238","v":0},{"$f":"'[1]HOJA GENERAL DATOS IMPORTADOS'!AC238","v":0},{"$f":"'[1]HOJA GENERAL DATOS IMPORTADOS'!AD238","v":0},{"$f":"'[1]HOJA GENERAL DATOS IMPORTADOS'!AE238","v":0},{"$f":"'[1]HOJA GENERAL DATOS IMPORTADOS'!AF238","v":0},{"$f":"'[1]HOJA GENERAL DATOS IMPORTADOS'!AG238","v":0},{"$f":"'[1]HOJA GENERAL DATOS IMPORTADOS'!AH238","v":0},{"$f":"'[1]HOJA GENERAL DATOS IMPORTADOS'!AI238","v":0}]
[{"$f":"'[1]HOJA GENERAL DATOS IMPORTADOS'!A239","v":0},{"$f":"'[1]HOJA GENERAL DATOS IMPORTADOS'!B239","v":0},{"$f":"'[1]HOJA GENERAL DATOS IMPORTADOS'!C239","v":0},{"$f":"'[1]HOJA GENERAL DATOS IMPORTADOS'!D239","v":0},{"$f":"'[1]HOJA GENERAL DATOS IMPORTADOS'!E239","v":0},{"$f":"'[1]HOJA GENERAL DATOS IMPORTADOS'!F239","v":0},{"$f":"'[1]HOJA GENERAL DATOS IMPORTADOS'!G239","v":0},{"$f":"'[1]HOJA GENERAL DATOS IMPORTADOS'!H239","v":0},{"$f":"'[1]HOJA GENERAL DATOS IMPORTADOS'!I239","v":0},{"$f":"'[1]HOJA GENERAL DATOS IMPORTADOS'!J239","v":0},{"$f":"'[1]HOJA GENERAL DATOS IMPORTADOS'!K239","v":0},{"$f":"'[1]HOJA GENERAL DATOS IMPORTADOS'!L239","v":0},{"$f":"'[1]HOJA GENERAL DATOS IMPORTADOS'!M239","v":0},{"$f":"'[1]HOJA GENERAL DATOS IMPORTADOS'!N239","v":0},{"$f":"'[1]HOJA GENERAL DATOS IMPORTADOS'!O239","v":0},{"$f":"'[1]HOJA GENERAL DATOS IMPORTADOS'!P239","v":0},{"$f":"'[1]HOJA GENERAL DATOS IMPORTADOS'!Q239","v":0},{"$f":"'[1]HOJA GENERAL DATOS IMPORTADOS'!R239","v":0},{"$f":"'[1]HOJA GENERAL DATOS IMPORTADOS'!S239","v":0},{"$f":"'[1]HOJA GENERAL DATOS IMPORTADOS'!T239","v":0},{"$f":"'[1]HOJA GENERAL DATOS IMPORTADOS'!U239","v":0},{"$f":"'[1]HOJA GENERAL DATOS IMPORTADOS'!V239","v":0},{"$f":"'[1]HOJA GENERAL DATOS IMPORTADOS'!W239","v":0},{"$f":"'[1]HOJA GENERAL DATOS IMPORTADOS'!X239","v":0},{"$f":"'[1]HOJA GENERAL DATOS IMPORTADOS'!Y239","v":0},{"$f":"'[1]HOJA GENERAL DATOS IMPORTADOS'!Z239","v":0},{"$f":"'[1]HOJA GENERAL DATOS IMPORTADOS'!AA239","v":0},{"$f":"'[1]HOJA GENERAL DATOS IMPORTADOS'!AB239","v":0},{"$f":"'[1]HOJA GENERAL DATOS IMPORTADOS'!AC239","v":0},{"$f":"'[1]HOJA GENERAL DATOS IMPORTADOS'!AD239","v":0},{"$f":"'[1]HOJA GENERAL DATOS IMPORTADOS'!AE239","v":0},{"$f":"'[1]HOJA GENERAL DATOS IMPORTADOS'!AF239","v":0},{"$f":"'[1]HOJA GENERAL DATOS IMPORTADOS'!AG239","v":0},{"$f":"'[1]HOJA GENERAL DATOS IMPORTADOS'!AH239","v":0},{"$f":"'[1]HOJA GENERAL DATOS IMPORTADOS'!AI239","v":0}]
[{"$f":"'[1]HOJA GENERAL DATOS IMPORTADOS'!A240","v":0},{"$f":"'[1]HOJA GENERAL DATOS IMPORTADOS'!B240","v":0},{"$f":"'[1]HOJA GENERAL DATOS IMPORTADOS'!C240","v":0},{"$f":"'[1]HOJA GENERAL DATOS IMPORTADOS'!D240","v":0},{"$f":"'[1]HOJA GENERAL DATOS IMPORTADOS'!E240","v":0},{"$f":"'[1]HOJA GENERAL DATOS IMPORTADOS'!F240","v":0},{"$f":"'[1]HOJA GENERAL DATOS IMPORTADOS'!G240","v":0},{"$f":"'[1]HOJA GENERAL DATOS IMPORTADOS'!H240","v":0},{"$f":"'[1]HOJA GENERAL DATOS IMPORTADOS'!I240","v":0},{"$f":"'[1]HOJA GENERAL DATOS IMPORTADOS'!J240","v":0},{"$f":"'[1]HOJA GENERAL DATOS IMPORTADOS'!K240","v":0},{"$f":"'[1]HOJA GENERAL DATOS IMPORTADOS'!L240","v":0},{"$f":"'[1]HOJA GENERAL DATOS IMPORTADOS'!M240","v":0},{"$f":"'[1]HOJA GENERAL DATOS IMPORTADOS'!N240","v":0},{"$f":"'[1]HOJA GENERAL DATOS IMPORTADOS'!O240","v":0},{"$f":"'[1]HOJA GENERAL DATOS IMPORTADOS'!P240","v":0},{"$f":"'[1]HOJA GENERAL DATOS IMPORTADOS'!Q240","v":0},{"$f":"'[1]HOJA GENERAL DATOS IMPORTADOS'!R240","v":0},{"$f":"'[1]HOJA GENERAL DATOS IMPORTADOS'!S240","v":0},{"$f":"'[1]HOJA GENERAL DATOS IMPORTADOS'!T240","v":0},{"$f":"'[1]HOJA GENERAL DATOS IMPORTADOS'!U240","v":0},{"$f":"'[1]HOJA GENERAL DATOS IMPORTADOS'!V240","v":0},{"$f":"'[1]HOJA GENERAL DATOS IMPORTADOS'!W240","v":0},{"$f":"'[1]HOJA GENERAL DATOS IMPORTADOS'!X240","v":0},{"$f":"'[1]HOJA GENERAL DATOS IMPORTADOS'!Y240","v":0},{"$f":"'[1]HOJA GENERAL DATOS IMPORTADOS'!Z240","v":0},{"$f":"'[1]HOJA GENERAL DATOS IMPORTADOS'!AA240","v":0},{"$f":"'[1]HOJA GENERAL DATOS IMPORTADOS'!AB240","v":0},{"$f":"'[1]HOJA GENERAL DATOS IMPORTADOS'!AC240","v":0},{"$f":"'[1]HOJA GENERAL DATOS IMPORTADOS'!AD240","v":0},{"$f":"'[1]HOJA GENERAL DATOS IMPORTADOS'!AE240","v":0},{"$f":"'[1]HOJA GENERAL DATOS IMPORTADOS'!AF240","v":0},{"$f":"'[1]HOJA GENERAL DATOS IMPORTADOS'!AG240","v":0},{"$f":"'[1]HOJA GENERAL DATOS IMPORTADOS'!AH240","v":0},{"$f":"'[1]HOJA GENERAL DATOS IMPORTADOS'!AI240","v":0}]
[{"$f":"'[1]HOJA GENERAL DATOS IMPORTADOS'!A241","v":0},{"$f":"'[1]HOJA GENERAL DATOS IMPORTADOS'!B241","v":0},{"$f":"'[1]HOJA GENERAL DATOS IMPORTADOS'!C241","v":0},{"$f":"'[1]HOJA GENERAL DATOS IMPORTADOS'!D241","v":0},{"$f":"'[1]HOJA GENERAL DATOS IMPORTADOS'!E241","v":0},{"$f":"'[1]HOJA GENERAL DATOS IMPORTADOS'!F241","v":0},{"$f":"'[1]HOJA GENERAL DATOS IMPORTADOS'!G241","v":0},{"$f":"'[1]HOJA GENERAL DATOS IMPORTADOS'!H241","v":0},{"$f":"'[1]HOJA GENERAL DATOS IMPORTADOS'!I241","v":0},{"$f":"'[1]HOJA GENERAL DATOS IMPORTADOS'!J241","v":0},{"$f":"'[1]HOJA GENERAL DATOS IMPORTADOS'!K241","v":0},{"$f":"'[1]HOJA GENERAL DATOS IMPORTADOS'!L241","v":0},{"$f":"'[1]HOJA GENERAL DATOS IMPORTADOS'!M241","v":0},{"$f":"'[1]HOJA GENERAL DATOS IMPORTADOS'!N241","v":0},{"$f":"'[1]HOJA GENERAL DATOS IMPORTADOS'!O241","v":0},{"$f":"'[1]HOJA GENERAL DATOS IMPORTADOS'!P241","v":0},{"$f":"'[1]HOJA GENERAL DATOS IMPORTADOS'!Q241","v":0},{"$f":"'[1]HOJA GENERAL DATOS IMPORTADOS'!R241","v":0},{"$f":"'[1]HOJA GENERAL DATOS IMPORTADOS'!S241","v":0},{"$f":"'[1]HOJA GENERAL DATOS IMPORTADOS'!T241","v":0},{"$f":"'[1]HOJA GENERAL DATOS IMPORTADOS'!U241","v":0},{"$f":"'[1]HOJA GENERAL DATOS IMPORTADOS'!V241","v":0},{"$f":"'[1]HOJA GENERAL DATOS IMPORTADOS'!W241","v":0},{"$f":"'[1]HOJA GENERAL DATOS IMPORTADOS'!X241","v":0},{"$f":"'[1]HOJA GENERAL DATOS IMPORTADOS'!Y241","v":0},{"$f":"'[1]HOJA GENERAL DATOS IMPORTADOS'!Z241","v":0},{"$f":"'[1]HOJA GENERAL DATOS IMPORTADOS'!AA241","v":0},{"$f":"'[1]HOJA GENERAL DATOS IMPORTADOS'!AB241","v":0},{"$f":"'[1]HOJA GENERAL DATOS IMPORTADOS'!AC241","v":0},{"$f":"'[1]HOJA GENERAL DATOS IMPORTADOS'!AD241","v":0},{"$f":"'[1]HOJA GENERAL DATOS IMPORTADOS'!AE241","v":0},{"$f":"'[1]HOJA GENERAL DATOS IMPORTADOS'!AF241","v":0},{"$f":"'[1]HOJA GENERAL DATOS IMPORTADOS'!AG241","v":0},{"$f":"'[1]HOJA GENERAL DATOS IMPORTADOS'!AH241","v":0},{"$f":"'[1]HOJA GENERAL DATOS IMPORTADOS'!AI241","v":0}]
[{"$f":"'[1]HOJA GENERAL DATOS IMPORTADOS'!A242","v":0},{"$f":"'[1]HOJA GENERAL DATOS IMPORTADOS'!B242","v":0},{"$f":"'[1]HOJA GENERAL DATOS IMPORTADOS'!C242","v":0},{"$f":"'[1]HOJA GENERAL DATOS IMPORTADOS'!D242","v":0},{"$f":"'[1]HOJA GENERAL DATOS IMPORTADOS'!E242","v":0},{"$f":"'[1]HOJA GENERAL DATOS IMPORTADOS'!F242","v":0},{"$f":"'[1]HOJA GENERAL DATOS IMPORTADOS'!G242","v":0},{"$f":"'[1]HOJA GENERAL DATOS IMPORTADOS'!H242","v":0},{"$f":"'[1]HOJA GENERAL DATOS IMPORTADOS'!I242","v":0},{"$f":"'[1]HOJA GENERAL DATOS IMPORTADOS'!J242","v":0},{"$f":"'[1]HOJA GENERAL DATOS IMPORTADOS'!K242","v":0},{"$f":"'[1]HOJA GENERAL DATOS IMPORTADOS'!L242","v":0},{"$f":"'[1]HOJA GENERAL DATOS IMPORTADOS'!M242","v":0},{"$f":"'[1]HOJA GENERAL DATOS IMPORTADOS'!N242","v":0},{"$f":"'[1]HOJA GENERAL DATOS IMPORTADOS'!O242","v":0},{"$f":"'[1]HOJA GENERAL DATOS IMPORTADOS'!P242","v":0},{"$f":"'[1]HOJA GENERAL DATOS IMPORTADOS'!Q242","v":0},{"$f":"'[1]HOJA GENERAL DATOS IMPORTADOS'!R242","v":0},{"$f":"'[1]HOJA GENERAL DATOS IMPORTADOS'!S242","v":0},{"$f":"'[1]HOJA GENERAL DATOS IMPORTADOS'!T242","v":0},{"$f":"'[1]HOJA GENERAL DATOS IMPORTADOS'!U242","v":0},{"$f":"'[1]HOJA GENERAL DATOS IMPORTADOS'!V242","v":0},{"$f":"'[1]HOJA GENERAL DATOS IMPORTADOS'!W242","v":0},{"$f":"'[1]HOJA GENERAL DATOS IMPORTADOS'!X242","v":0},{"$f":"'[1]HOJA GENERAL DATOS IMPORTADOS'!Y242","v":0},{"$f":"'[1]HOJA GENERAL DATOS IMPORTADOS'!Z242","v":0},{"$f":"'[1]HOJA GENERAL DATOS IMPORTADOS'!AA242","v":0},{"$f":"'[1]HOJA GENERAL DATOS IMPORTADOS'!AB242","v":0},{"$f":"'[1]HOJA GENERAL DATOS IMPORTADOS'!AC242","v":0},{"$f":"'[1]HOJA GENERAL DATOS IMPORTADOS'!AD242","v":0},{"$f":"'[1]HOJA GENERAL DATOS IMPORTADOS'!AE242","v":0},{"$f":"'[1]HOJA GENERAL DATOS IMPORTADOS'!AF242","v":0},{"$f":"'[1]HOJA GENERAL DATOS IMPORTADOS'!AG242","v":0},{"$f":"'[1]HOJA GENERAL DATOS IMPORTADOS'!AH242","v":0},{"$f":"'[1]HOJA GENERAL DATOS IMPORTADOS'!AI242","v":0}]
[{"$f":"'[1]HOJA GENERAL DATOS IMPORTADOS'!A243","v":0},{"$f":"'[1]HOJA GENERAL DATOS IMPORTADOS'!B243","v":0},{"$f":"'[1]HOJA GENERAL DATOS IMPORTADOS'!C243","v":0},{"$f":"'[1]HOJA GENERAL DATOS IMPORTADOS'!D243","v":0},{"$f":"'[1]HOJA GENERAL DATOS IMPORTADOS'!E243","v":0},{"$f":"'[1]HOJA GENERAL DATOS IMPORTADOS'!F243","v":0},{"$f":"'[1]HOJA GENERAL DATOS IMPORTADOS'!G243","v":0},{"$f":"'[1]HOJA GENERAL DATOS IMPORTADOS'!H243","v":0},{"$f":"'[1]HOJA GENERAL DATOS IMPORTADOS'!I243","v":0},{"$f":"'[1]HOJA GENERAL DATOS IMPORTADOS'!J243","v":0},{"$f":"'[1]HOJA GENERAL DATOS IMPORTADOS'!K243","v":0},{"$f":"'[1]HOJA GENERAL DATOS IMPORTADOS'!L243","v":0},{"$f":"'[1]HOJA GENERAL DATOS IMPORTADOS'!M243","v":0},{"$f":"'[1]HOJA GENERAL DATOS IMPORTADOS'!N243","v":0},{"$f":"'[1]HOJA GENERAL DATOS IMPORTADOS'!O243","v":0},{"$f":"'[1]HOJA GENERAL DATOS IMPORTADOS'!P243","v":0},{"$f":"'[1]HOJA GENERAL DATOS IMPORTADOS'!Q243","v":0},{"$f":"'[1]HOJA GENERAL DATOS IMPORTADOS'!R243","v":0},{"$f":"'[1]HOJA GENERAL DATOS IMPORTADOS'!S243","v":0},{"$f":"'[1]HOJA GENERAL DATOS IMPORTADOS'!T243","v":0},{"$f":"'[1]HOJA GENERAL DATOS IMPORTADOS'!U243","v":0},{"$f":"'[1]HOJA GENERAL DATOS IMPORTADOS'!V243","v":0},{"$f":"'[1]HOJA GENERAL DATOS IMPORTADOS'!W243","v":0},{"$f":"'[1]HOJA GENERAL DATOS IMPORTADOS'!X243","v":0},{"$f":"'[1]HOJA GENERAL DATOS IMPORTADOS'!Y243","v":0},{"$f":"'[1]HOJA GENERAL DATOS IMPORTADOS'!Z243","v":0},{"$f":"'[1]HOJA GENERAL DATOS IMPORTADOS'!AA243","v":0},{"$f":"'[1]HOJA GENERAL DATOS IMPORTADOS'!AB243","v":0},{"$f":"'[1]HOJA GENERAL DATOS IMPORTADOS'!AC243","v":0},{"$f":"'[1]HOJA GENERAL DATOS IMPORTADOS'!AD243","v":0},{"$f":"'[1]HOJA GENERAL DATOS IMPORTADOS'!AE243","v":0},{"$f":"'[1]HOJA GENERAL DATOS IMPORTADOS'!AF243","v":0},{"$f":"'[1]HOJA GENERAL DATOS IMPORTADOS'!AG243","v":0},{"$f":"'[1]HOJA GENERAL DATOS IMPORTADOS'!AH243","v":0},{"$f":"'[1]HOJA GENERAL DATOS IMPORTADOS'!AI243","v":0}]
[{"$f":"'[1]HOJA GENERAL DATOS IMPORTADOS'!A244","v":0},{"$f":"'[1]HOJA GENERAL DATOS IMPORTADOS'!B244","v":0},{"$f":"'[1]HOJA GENERAL DATOS IMPORTADOS'!C244","v":0},{"$f":"'[1]HOJA GENERAL DATOS IMPORTADOS'!D244","v":0},{"$f":"'[1]HOJA GENERAL DATOS IMPORTADOS'!E244","v":0},{"$f":"'[1]HOJA GENERAL DATOS IMPORTADOS'!F244","v":0},{"$f":"'[1]HOJA GENERAL DATOS IMPORTADOS'!G244","v":0},{"$f":"'[1]HOJA GENERAL DATOS IMPORTADOS'!H244","v":0},{"$f":"'[1]HOJA GENERAL DATOS IMPORTADOS'!I244","v":0},{"$f":"'[1]HOJA GENERAL DATOS IMPORTADOS'!J244","v":0},{"$f":"'[1]HOJA GENERAL DATOS IMPORTADOS'!K244","v":0},{"$f":"'[1]HOJA GENERAL DATOS IMPORTADOS'!L244","v":0},{"$f":"'[1]HOJA GENERAL DATOS IMPORTADOS'!M244","v":0},{"$f":"'[1]HOJA GENERAL DATOS IMPORTADOS'!N244","v":0},{"$f":"'[1]HOJA GENERAL DATOS IMPORTADOS'!O244","v":0},{"$f":"'[1]HOJA GENERAL DATOS IMPORTADOS'!P244","v":0},{"$f":"'[1]HOJA GENERAL DATOS IMPORTADOS'!Q244","v":0},{"$f":"'[1]HOJA GENERAL DATOS IMPORTADOS'!R244","v":0},{"$f":"'[1]HOJA GENERAL DATOS IMPORTADOS'!S244","v":0},{"$f":"'[1]HOJA GENERAL DATOS IMPORTADOS'!T244","v":0},{"$f":"'[1]HOJA GENERAL DATOS IMPORTADOS'!U244","v":0},{"$f":"'[1]HOJA GENERAL DATOS IMPORTADOS'!V244","v":0},{"$f":"'[1]HOJA GENERAL DATOS IMPORTADOS'!W244","v":0},{"$f":"'[1]HOJA GENERAL DATOS IMPORTADOS'!X244","v":0},{"$f":"'[1]HOJA GENERAL DATOS IMPORTADOS'!Y244","v":0},{"$f":"'[1]HOJA GENERAL DATOS IMPORTADOS'!Z244","v":0},{"$f":"'[1]HOJA GENERAL DATOS IMPORTADOS'!AA244","v":0},{"$f":"'[1]HOJA GENERAL DATOS IMPORTADOS'!AB244","v":0},{"$f":"'[1]HOJA GENERAL DATOS IMPORTADOS'!AC244","v":0},{"$f":"'[1]HOJA GENERAL DATOS IMPORTADOS'!AD244","v":0},{"$f":"'[1]HOJA GENERAL DATOS IMPORTADOS'!AE244","v":0},{"$f":"'[1]HOJA GENERAL DATOS IMPORTADOS'!AF244","v":0},{"$f":"'[1]HOJA GENERAL DATOS IMPORTADOS'!AG244","v":0},{"$f":"'[1]HOJA GENERAL DATOS IMPORTADOS'!AH244","v":0},{"$f":"'[1]HOJA GENERAL DATOS IMPORTADOS'!AI244","v":0}]
[{"$f":"'[1]HOJA GENERAL DATOS IMPORTADOS'!A245","v":0},{"$f":"'[1]HOJA GENERAL DATOS IMPORTADOS'!B245","v":0},{"$f":"'[1]HOJA GENERAL DATOS IMPORTADOS'!C245","v":0},{"$f":"'[1]HOJA GENERAL DATOS IMPORTADOS'!D245","v":0},{"$f":"'[1]HOJA GENERAL DATOS IMPORTADOS'!E245","v":0},{"$f":"'[1]HOJA GENERAL DATOS IMPORTADOS'!F245","v":0},{"$f":"'[1]HOJA GENERAL DATOS IMPORTADOS'!G245","v":0},{"$f":"'[1]HOJA GENERAL DATOS IMPORTADOS'!H245","v":0},{"$f":"'[1]HOJA GENERAL DATOS IMPORTADOS'!I245","v":0},{"$f":"'[1]HOJA GENERAL DATOS IMPORTADOS'!J245","v":0},{"$f":"'[1]HOJA GENERAL DATOS IMPORTADOS'!K245","v":0},{"$f":"'[1]HOJA GENERAL DATOS IMPORTADOS'!L245","v":0},{"$f":"'[1]HOJA GENERAL DATOS IMPORTADOS'!M245","v":0},{"$f":"'[1]HOJA GENERAL DATOS IMPORTADOS'!N245","v":0},{"$f":"'[1]HOJA GENERAL DATOS IMPORTADOS'!O245","v":0},{"$f":"'[1]HOJA GENERAL DATOS IMPORTADOS'!P245","v":0},{"$f":"'[1]HOJA GENERAL DATOS IMPORTADOS'!Q245","v":0},{"$f":"'[1]HOJA GENERAL DATOS IMPORTADOS'!R245","v":0},{"$f":"'[1]HOJA GENERAL DATOS IMPORTADOS'!S245","v":0},{"$f":"'[1]HOJA GENERAL DATOS IMPORTADOS'!T245","v":0},{"$f":"'[1]HOJA GENERAL DATOS IMPORTADOS'!U245","v":0},{"$f":"'[1]HOJA GENERAL DATOS IMPORTADOS'!V245","v":0},{"$f":"'[1]HOJA GENERAL DATOS IMPORTADOS'!W245","v":0},{"$f":"'[1]HOJA GENERAL DATOS IMPORTADOS'!X245","v":0},{"$f":"'[1]HOJA GENERAL DATOS IMPORTADOS'!Y245","v":0},{"$f":"'[1]HOJA GENERAL DATOS IMPORTADOS'!Z245","v":0},{"$f":"'[1]HOJA GENERAL DATOS IMPORTADOS'!AA245","v":0},{"$f":"'[1]HOJA GENERAL DATOS IMPORTADOS'!AB245","v":0},{"$f":"'[1]HOJA GENERAL DATOS IMPORTADOS'!AC245","v":0},{"$f":"'[1]HOJA GENERAL DATOS IMPORTADOS'!AD245","v":0},{"$f":"'[1]HOJA GENERAL DATOS IMPORTADOS'!AE245","v":0},{"$f":"'[1]HOJA GENERAL DATOS IMPORTADOS'!AF245","v":0},{"$f":"'[1]HOJA GENERAL DATOS IMPORTADOS'!AG245","v":0},{"$f":"'[1]HOJA GENERAL DATOS IMPORTADOS'!AH245","v":0},{"$f":"'[1]HOJA GENERAL DATOS IMPORTADOS'!AI245","v":0}]
[{"$f":"'[1]HOJA GENERAL DATOS IMPORTADOS'!A246","v":0},{"$f":"'[1]HOJA GENERAL DATOS IMPORTADOS'!B246","v":0},{"$f":"'[1]HOJA GENERAL DATOS IMPORTADOS'!C246","v":0},{"$f":"'[1]HOJA GENERAL DATOS IMPORTADOS'!D246","v":0},{"$f":"'[1]HOJA GENERAL DATOS IMPORTADOS'!E246","v":0},{"$f":"'[1]HOJA GENERAL DATOS IMPORTADOS'!F246","v":0},{"$f":"'[1]HOJA GENERAL DATOS IMPORTADOS'!G246","v":0},{"$f":"'[1]HOJA GENERAL DATOS IMPORTADOS'!H246","v":0},{"$f":"'[1]HOJA GENERAL DATOS IMPORTADOS'!I246","v":0},{"$f":"'[1]HOJA GENERAL DATOS IMPORTADOS'!J246","v":0},{"$f":"'[1]HOJA GENERAL DATOS IMPORTADOS'!K246","v":0},{"$f":"'[1]HOJA GENERAL DATOS IMPORTADOS'!L246","v":0},{"$f":"'[1]HOJA GENERAL DATOS IMPORTADOS'!M246","v":0},{"$f":"'[1]HOJA GENERAL DATOS IMPORTADOS'!N246","v":0},{"$f":"'[1]HOJA GENERAL DATOS IMPORTADOS'!O246","v":0},{"$f":"'[1]HOJA GENERAL DATOS IMPORTADOS'!P246","v":0},{"$f":"'[1]HOJA GENERAL DATOS IMPORTADOS'!Q246","v":0},{"$f":"'[1]HOJA GENERAL DATOS IMPORTADOS'!R246","v":0},{"$f":"'[1]HOJA GENERAL DATOS IMPORTADOS'!S246","v":0},{"$f":"'[1]HOJA GENERAL DATOS IMPORTADOS'!T246","v":0},{"$f":"'[1]HOJA GENERAL DATOS IMPORTADOS'!U246","v":0},{"$f":"'[1]HOJA GENERAL DATOS IMPORTADOS'!V246","v":0},{"$f":"'[1]HOJA GENERAL DATOS IMPORTADOS'!W246","v":0},{"$f":"'[1]HOJA GENERAL DATOS IMPORTADOS'!X246","v":0},{"$f":"'[1]HOJA GENERAL DATOS IMPORTADOS'!Y246","v":0},{"$f":"'[1]HOJA GENERAL DATOS IMPORTADOS'!Z246","v":0},{"$f":"'[1]HOJA GENERAL DATOS IMPORTADOS'!AA246","v":0},{"$f":"'[1]HOJA GENERAL DATOS IMPORTADOS'!AB246","v":0},{"$f":"'[1]HOJA GENERAL DATOS IMPORTADOS'!AC246","v":0},{"$f":"'[1]HOJA GENERAL DATOS IMPORTADOS'!AD246","v":0},{"$f":"'[1]HOJA GENERAL DATOS IMPORTADOS'!AE246","v":0},{"$f":"'[1]HOJA GENERAL DATOS IMPORTADOS'!AF246","v":0},{"$f":"'[1]HOJA GENERAL DATOS IMPORTADOS'!AG246","v":0},{"$f":"'[1]HOJA GENERAL DATOS IMPORTADOS'!AH246","v":0},{"$f":"'[1]HOJA GENERAL DATOS IMPORTADOS'!AI246","v":0}]
[{"$f":"'[1]HOJA GENERAL DATOS IMPORTADOS'!A247","v":0},{"$f":"'[1]HOJA GENERAL DATOS IMPORTADOS'!B247","v":0},{"$f":"'[1]HOJA GENERAL DATOS IMPORTADOS'!C247","v":0},{"$f":"'[1]HOJA GENERAL DATOS IMPORTADOS'!D247","v":0},{"$f":"'[1]HOJA GENERAL DATOS IMPORTADOS'!E247","v":0},{"$f":"'[1]HOJA GENERAL DATOS IMPORTADOS'!F247","v":0},{"$f":"'[1]HOJA GENERAL DATOS IMPORTADOS'!G247","v":0},{"$f":"'[1]HOJA GENERAL DATOS IMPORTADOS'!H247","v":0},{"$f":"'[1]HOJA GENERAL DATOS IMPORTADOS'!I247","v":0},{"$f":"'[1]HOJA GENERAL DATOS IMPORTADOS'!J247","v":0},{"$f":"'[1]HOJA GENERAL DATOS IMPORTADOS'!K247","v":0},{"$f":"'[1]HOJA GENERAL DATOS IMPORTADOS'!L247","v":0},{"$f":"'[1]HOJA GENERAL DATOS IMPORTADOS'!M247","v":0},{"$f":"'[1]HOJA GENERAL DATOS IMPORTADOS'!N247","v":0},{"$f":"'[1]HOJA GENERAL DATOS IMPORTADOS'!O247","v":0},{"$f":"'[1]HOJA GENERAL DATOS IMPORTADOS'!P247","v":0},{"$f":"'[1]HOJA GENERAL DATOS IMPORTADOS'!Q247","v":0},{"$f":"'[1]HOJA GENERAL DATOS IMPORTADOS'!R247","v":0},{"$f":"'[1]HOJA GENERAL DATOS IMPORTADOS'!S247","v":0},{"$f":"'[1]HOJA GENERAL DATOS IMPORTADOS'!T247","v":0},{"$f":"'[1]HOJA GENERAL DATOS IMPORTADOS'!U247","v":0},{"$f":"'[1]HOJA GENERAL DATOS IMPORTADOS'!V247","v":0},{"$f":"'[1]HOJA GENERAL DATOS IMPORTADOS'!W247","v":0},{"$f":"'[1]HOJA GENERAL DATOS IMPORTADOS'!X247","v":0},{"$f":"'[1]HOJA GENERAL DATOS IMPORTADOS'!Y247","v":0},{"$f":"'[1]HOJA GENERAL DATOS IMPORTADOS'!Z247","v":0},{"$f":"'[1]HOJA GENERAL DATOS IMPORTADOS'!AA247","v":0},{"$f":"'[1]HOJA GENERAL DATOS IMPORTADOS'!AB247","v":0},{"$f":"'[1]HOJA GENERAL DATOS IMPORTADOS'!AC247","v":0},{"$f":"'[1]HOJA GENERAL DATOS IMPORTADOS'!AD247","v":0},{"$f":"'[1]HOJA GENERAL DATOS IMPORTADOS'!AE247","v":0},{"$f":"'[1]HOJA GENERAL DATOS IMPORTADOS'!AF247","v":0},{"$f":"'[1]HOJA GENERAL DATOS IMPORTADOS'!AG247","v":0},{"$f":"'[1]HOJA GENERAL DATOS IMPORTADOS'!AH247","v":0},{"$f":"'[1]HOJA GENERAL DATOS IMPORTADOS'!AI247","v":0}]
[{"$f":"'[1]HOJA GENERAL DATOS IMPORTADOS'!A248","v":0},{"$f":"'[1]HOJA GENERAL DATOS IMPORTADOS'!B248","v":0},{"$f":"'[1]HOJA GENERAL DATOS IMPORTADOS'!C248","v":0},{"$f":"'[1]HOJA GENERAL DATOS IMPORTADOS'!D248","v":0},{"$f":"'[1]HOJA GENERAL DATOS IMPORTADOS'!E248","v":0},{"$f":"'[1]HOJA GENERAL DATOS IMPORTADOS'!F248","v":0},{"$f":"'[1]HOJA GENERAL DATOS IMPORTADOS'!G248","v":0},{"$f":"'[1]HOJA GENERAL DATOS IMPORTADOS'!H248","v":0},{"$f":"'[1]HOJA GENERAL DATOS IMPORTADOS'!I248","v":0},{"$f":"'[1]HOJA GENERAL DATOS IMPORTADOS'!J248","v":0},{"$f":"'[1]HOJA GENERAL DATOS IMPORTADOS'!K248","v":0},{"$f":"'[1]HOJA GENERAL DATOS IMPORTADOS'!L248","v":0},{"$f":"'[1]HOJA GENERAL DATOS IMPORTADOS'!M248","v":0},{"$f":"'[1]HOJA GENERAL DATOS IMPORTADOS'!N248","v":0},{"$f":"'[1]HOJA GENERAL DATOS IMPORTADOS'!O248","v":0},{"$f":"'[1]HOJA GENERAL DATOS IMPORTADOS'!P248","v":0},{"$f":"'[1]HOJA GENERAL DATOS IMPORTADOS'!Q248","v":0},{"$f":"'[1]HOJA GENERAL DATOS IMPORTADOS'!R248","v":0},{"$f":"'[1]HOJA GENERAL DATOS IMPORTADOS'!S248","v":0},{"$f":"'[1]HOJA GENERAL DATOS IMPORTADOS'!T248","v":0},{"$f":"'[1]HOJA GENERAL DATOS IMPORTADOS'!U248","v":0},{"$f":"'[1]HOJA GENERAL DATOS IMPORTADOS'!V248","v":0},{"$f":"'[1]HOJA GENERAL DATOS IMPORTADOS'!W248","v":0},{"$f":"'[1]HOJA GENERAL DATOS IMPORTADOS'!X248","v":0},{"$f":"'[1]HOJA GENERAL DATOS IMPORTADOS'!Y248","v":0},{"$f":"'[1]HOJA GENERAL DATOS IMPORTADOS'!Z248","v":0},{"$f":"'[1]HOJA GENERAL DATOS IMPORTADOS'!AA248","v":0},{"$f":"'[1]HOJA GENERAL DATOS IMPORTADOS'!AB248","v":0},{"$f":"'[1]HOJA GENERAL DATOS IMPORTADOS'!AC248","v":0},{"$f":"'[1]HOJA GENERAL DATOS IMPORTADOS'!AD248","v":0},{"$f":"'[1]HOJA GENERAL DATOS IMPORTADOS'!AE248","v":0},{"$f":"'[1]HOJA GENERAL DATOS IMPORTADOS'!AF248","v":0},{"$f":"'[1]HOJA GENERAL DATOS IMPORTADOS'!AG248","v":0},{"$f":"'[1]HOJA GENERAL DATOS IMPORTADOS'!AH248","v":0},{"$f":"'[1]HOJA GENERAL DATOS IMPORTADOS'!AI248","v":0}]
[{"$f":"'[1]HOJA GENERAL DATOS IMPORTADOS'!A249","v":0},{"$f":"'[1]HOJA GENERAL DATOS IMPORTADOS'!B249","v":0},{"$f":"'[1]HOJA GENERAL DATOS IMPORTADOS'!C249","v":0},{"$f":"'[1]HOJA GENERAL DATOS IMPORTADOS'!D249","v":0},{"$f":"'[1]HOJA GENERAL DATOS IMPORTADOS'!E249","v":0},{"$f":"'[1]HOJA GENERAL DATOS IMPORTADOS'!F249","v":0},{"$f":"'[1]HOJA GENERAL DATOS IMPORTADOS'!G249","v":0},{"$f":"'[1]HOJA GENERAL DATOS IMPORTADOS'!H249","v":0},{"$f":"'[1]HOJA GENERAL DATOS IMPORTADOS'!I249","v":0},{"$f":"'[1]HOJA GENERAL DATOS IMPORTADOS'!J249","v":0},{"$f":"'[1]HOJA GENERAL DATOS IMPORTADOS'!K249","v":0},{"$f":"'[1]HOJA GENERAL DATOS IMPORTADOS'!L249","v":0},{"$f":"'[1]HOJA GENERAL DATOS IMPORTADOS'!M249","v":0},{"$f":"'[1]HOJA GENERAL DATOS IMPORTADOS'!N249","v":0},{"$f":"'[1]HOJA GENERAL DATOS IMPORTADOS'!O249","v":0},{"$f":"'[1]HOJA GENERAL DATOS IMPORTADOS'!P249","v":0},{"$f":"'[1]HOJA GENERAL DATOS IMPORTADOS'!Q249","v":0},{"$f":"'[1]HOJA GENERAL DATOS IMPORTADOS'!R249","v":0},{"$f":"'[1]HOJA GENERAL DATOS IMPORTADOS'!S249","v":0},{"$f":"'[1]HOJA GENERAL DATOS IMPORTADOS'!T249","v":0},{"$f":"'[1]HOJA GENERAL DATOS IMPORTADOS'!U249","v":0},{"$f":"'[1]HOJA GENERAL DATOS IMPORTADOS'!V249","v":0},{"$f":"'[1]HOJA GENERAL DATOS IMPORTADOS'!W249","v":0},{"$f":"'[1]HOJA GENERAL DATOS IMPORTADOS'!X249","v":0},{"$f":"'[1]HOJA GENERAL DATOS IMPORTADOS'!Y249","v":0},{"$f":"'[1]HOJA GENERAL DATOS IMPORTADOS'!Z249","v":0},{"$f":"'[1]HOJA GENERAL DATOS IMPORTADOS'!AA249","v":0},{"$f":"'[1]HOJA GENERAL DATOS IMPORTADOS'!AB249","v":0},{"$f":"'[1]HOJA GENERAL DATOS IMPORTADOS'!AC249","v":0},{"$f":"'[1]HOJA GENERAL DATOS IMPORTADOS'!AD249","v":0},{"$f":"'[1]HOJA GENERAL DATOS IMPORTADOS'!AE249","v":0},{"$f":"'[1]HOJA GENERAL DATOS IMPORTADOS'!AF249","v":0},{"$f":"'[1]HOJA GENERAL DATOS IMPORTADOS'!AG249","v":0},{"$f":"'[1]HOJA GENERAL DATOS IMPORTADOS'!AH249","v":0},{"$f":"'[1]HOJA GENERAL DATOS IMPORTADOS'!AI249","v":0}]
[{"$f":"'[1]HOJA GENERAL DATOS IMPORTADOS'!A250","v":0},{"$f":"'[1]HOJA GENERAL DATOS IMPORTADOS'!B250","v":0},{"$f":"'[1]HOJA GENERAL DATOS IMPORTADOS'!C250","v":0},{"$f":"'[1]HOJA GENERAL DATOS IMPORTADOS'!D250","v":0},{"$f":"'[1]HOJA GENERAL DATOS IMPORTADOS'!E250","v":0},{"$f":"'[1]HOJA GENERAL DATOS IMPORTADOS'!F250","v":0},{"$f":"'[1]HOJA GENERAL DATOS IMPORTADOS'!G250","v":0},{"$f":"'[1]HOJA GENERAL DATOS IMPORTADOS'!H250","v":0},{"$f":"'[1]HOJA GENERAL DATOS IMPORTADOS'!I250","v":0},{"$f":"'[1]HOJA GENERAL DATOS IMPORTADOS'!J250","v":0},{"$f":"'[1]HOJA GENERAL DATOS IMPORTADOS'!K250","v":0},{"$f":"'[1]HOJA GENERAL DATOS IMPORTADOS'!L250","v":0},{"$f":"'[1]HOJA GENERAL DATOS IMPORTADOS'!M250","v":0},{"$f":"'[1]HOJA GENERAL DATOS IMPORTADOS'!N250","v":0},{"$f":"'[1]HOJA GENERAL DATOS IMPORTADOS'!O250","v":0},{"$f":"'[1]HOJA GENERAL DATOS IMPORTADOS'!P250","v":0},{"$f":"'[1]HOJA GENERAL DATOS IMPORTADOS'!Q250","v":0},{"$f":"'[1]HOJA GENERAL DATOS IMPORTADOS'!R250","v":0},{"$f":"'[1]HOJA GENERAL DATOS IMPORTADOS'!S250","v":0},{"$f":"'[1]HOJA GENERAL DATOS IMPORTADOS'!T250","v":0},{"$f":"'[1]HOJA GENERAL DATOS IMPORTADOS'!U250","v":0},{"$f":"'[1]HOJA GENERAL DATOS IMPORTADOS'!V250","v":0},{"$f":"'[1]HOJA GENERAL DATOS IMPORTADOS'!W250","v":0},{"$f":"'[1]HOJA GENERAL DATOS IMPORTADOS'!X250","v":0},{"$f":"'[1]HOJA GENERAL DATOS IMPORTADOS'!Y250","v":0},{"$f":"'[1]HOJA GENERAL DATOS IMPORTADOS'!Z250","v":0},{"$f":"'[1]HOJA GENERAL DATOS IMPORTADOS'!AA250","v":0},{"$f":"'[1]HOJA GENERAL DATOS IMPORTADOS'!AB250","v":0},{"$f":"'[1]HOJA GENERAL DATOS IMPORTADOS'!AC250","v":0},{"$f":"'[1]HOJA GENERAL DATOS IMPORTADOS'!AD250","v":0},{"$f":"'[1]HOJA GENERAL DATOS IMPORTADOS'!AE250","v":0},{"$f":"'[1]HOJA GENERAL DATOS IMPORTADOS'!AF250","v":0},{"$f":"'[1]HOJA GENERAL DATOS IMPORTADOS'!AG250","v":0},{"$f":"'[1]HOJA GENERAL DATOS IMPORTADOS'!AH250","v":0},{"$f":"'[1]HOJA GENERAL DATOS IMPORTADOS'!AI250","v":0}]
[{"$f":"'[1]HOJA GENERAL DATOS IMPORTADOS'!A251","v":0},{"$f":"'[1]HOJA GENERAL DATOS IMPORTADOS'!B251","v":0},{"$f":"'[1]HOJA GENERAL DATOS IMPORTADOS'!C251","v":0},{"$f":"'[1]HOJA GENERAL DATOS IMPORTADOS'!D251","v":0},{"$f":"'[1]HOJA GENERAL DATOS IMPORTADOS'!E251","v":0},{"$f":"'[1]HOJA GENERAL DATOS IMPORTADOS'!F251","v":0},{"$f":"'[1]HOJA GENERAL DATOS IMPORTADOS'!G251","v":0},{"$f":"'[1]HOJA GENERAL DATOS IMPORTADOS'!H251","v":0},{"$f":"'[1]HOJA GENERAL DATOS IMPORTADOS'!I251","v":0},{"$f":"'[1]HOJA GENERAL DATOS IMPORTADOS'!J251","v":0},{"$f":"'[1]HOJA GENERAL DATOS IMPORTADOS'!K251","v":0},{"$f":"'[1]HOJA GENERAL DATOS IMPORTADOS'!L251","v":0},{"$f":"'[1]HOJA GENERAL DATOS IMPORTADOS'!M251","v":0},{"$f":"'[1]HOJA GENERAL DATOS IMPORTADOS'!N251","v":0},{"$f":"'[1]HOJA GENERAL DATOS IMPORTADOS'!O251","v":0},{"$f":"'[1]HOJA GENERAL DATOS IMPORTADOS'!P251","v":0},{"$f":"'[1]HOJA GENERAL DATOS IMPORTADOS'!Q251","v":0},{"$f":"'[1]HOJA GENERAL DATOS IMPORTADOS'!R251","v":0},{"$f":"'[1]HOJA GENERAL DATOS IMPORTADOS'!S251","v":0},{"$f":"'[1]HOJA GENERAL DATOS IMPORTADOS'!T251","v":0},{"$f":"'[1]HOJA GENERAL DATOS IMPORTADOS'!U251","v":0},{"$f":"'[1]HOJA GENERAL DATOS IMPORTADOS'!V251","v":0},{"$f":"'[1]HOJA GENERAL DATOS IMPORTADOS'!W251","v":0},{"$f":"'[1]HOJA GENERAL DATOS IMPORTADOS'!X251","v":0},{"$f":"'[1]HOJA GENERAL DATOS IMPORTADOS'!Y251","v":0},{"$f":"'[1]HOJA GENERAL DATOS IMPORTADOS'!Z251","v":0},{"$f":"'[1]HOJA GENERAL DATOS IMPORTADOS'!AA251","v":0},{"$f":"'[1]HOJA GENERAL DATOS IMPORTADOS'!AB251","v":0},{"$f":"'[1]HOJA GENERAL DATOS IMPORTADOS'!AC251","v":0},{"$f":"'[1]HOJA GENERAL DATOS IMPORTADOS'!AD251","v":0},{"$f":"'[1]HOJA GENERAL DATOS IMPORTADOS'!AE251","v":0},{"$f":"'[1]HOJA GENERAL DATOS IMPORTADOS'!AF251","v":0},{"$f":"'[1]HOJA GENERAL DATOS IMPORTADOS'!AG251","v":0},{"$f":"'[1]HOJA GENERAL DATOS IMPORTADOS'!AH251","v":0},{"$f":"'[1]HOJA GENERAL DATOS IMPORTADOS'!AI251","v":0}]
[{"$f":"'[1]HOJA GENERAL DATOS IMPORTADOS'!A252","v":0},{"$f":"'[1]HOJA GENERAL DATOS IMPORTADOS'!B252","v":0},{"$f":"'[1]HOJA GENERAL DATOS IMPORTADOS'!C252","v":0},{"$f":"'[1]HOJA GENERAL DATOS IMPORTADOS'!D252","v":0},{"$f":"'[1]HOJA GENERAL DATOS IMPORTADOS'!E252","v":0},{"$f":"'[1]HOJA GENERAL DATOS IMPORTADOS'!F252","v":0},{"$f":"'[1]HOJA GENERAL DATOS IMPORTADOS'!G252","v":0},{"$f":"'[1]HOJA GENERAL DATOS IMPORTADOS'!H252","v":0},{"$f":"'[1]HOJA GENERAL DATOS IMPORTADOS'!I252","v":0},{"$f":"'[1]HOJA GENERAL DATOS IMPORTADOS'!J252","v":0},{"$f":"'[1]HOJA GENERAL DATOS IMPORTADOS'!K252","v":0},{"$f":"'[1]HOJA GENERAL DATOS IMPORTADOS'!L252","v":0},{"$f":"'[1]HOJA GENERAL DATOS IMPORTADOS'!M252","v":0},{"$f":"'[1]HOJA GENERAL DATOS IMPORTADOS'!N252","v":0},{"$f":"'[1]HOJA GENERAL DATOS IMPORTADOS'!O252","v":0},{"$f":"'[1]HOJA GENERAL DATOS IMPORTADOS'!P252","v":0},{"$f":"'[1]HOJA GENERAL DATOS IMPORTADOS'!Q252","v":0},{"$f":"'[1]HOJA GENERAL DATOS IMPORTADOS'!R252","v":0},{"$f":"'[1]HOJA GENERAL DATOS IMPORTADOS'!S252","v":0},{"$f":"'[1]HOJA GENERAL DATOS IMPORTADOS'!T252","v":0},{"$f":"'[1]HOJA GENERAL DATOS IMPORTADOS'!U252","v":0},{"$f":"'[1]HOJA GENERAL DATOS IMPORTADOS'!V252","v":0},{"$f":"'[1]HOJA GENERAL DATOS IMPORTADOS'!W252","v":0},{"$f":"'[1]HOJA GENERAL DATOS IMPORTADOS'!X252","v":0},{"$f":"'[1]HOJA GENERAL DATOS IMPORTADOS'!Y252","v":0},{"$f":"'[1]HOJA GENERAL DATOS IMPORTADOS'!Z252","v":0},{"$f":"'[1]HOJA GENERAL DATOS IMPORTADOS'!AA252","v":0},{"$f":"'[1]HOJA GENERAL DATOS IMPORTADOS'!AB252","v":0},{"$f":"'[1]HOJA GENERAL DATOS IMPORTADOS'!AC252","v":0},{"$f":"'[1]HOJA GENERAL DATOS IMPORTADOS'!AD252","v":0},{"$f":"'[1]HOJA GENERAL DATOS IMPORTADOS'!AE252","v":0},{"$f":"'[1]HOJA GENERAL DATOS IMPORTADOS'!AF252","v":0},{"$f":"'[1]HOJA GENERAL DATOS IMPORTADOS'!AG252","v":0},{"$f":"'[1]HOJA GENERAL DATOS IMPORTADOS'!AH252","v":0},{"$f":"'[1]HOJA GENERAL DATOS IMPORTADOS'!AI252","v":0}]
[{"$f":"'[1]HOJA GENERAL DATOS IMPORTADOS'!A253","v":0},{"$f":"'[1]HOJA GENERAL DATOS IMPORTADOS'!B253","v":0},{"$f":"'[1]HOJA GENERAL DATOS IMPORTADOS'!C253","v":0},{"$f":"'[1]HOJA GENERAL DATOS IMPORTADOS'!D253","v":0},{"$f":"'[1]HOJA GENERAL DATOS IMPORTADOS'!E253","v":0},{"$f":"'[1]HOJA GENERAL DATOS IMPORTADOS'!F253","v":0},{"$f":"'[1]HOJA GENERAL DATOS IMPORTADOS'!G253","v":0},{"$f":"'[1]HOJA GENERAL DATOS IMPORTADOS'!H253","v":0},{"$f":"'[1]HOJA GENERAL DATOS IMPORTADOS'!I253","v":0},{"$f":"'[1]HOJA GENERAL DATOS IMPORTADOS'!J253","v":0},{"$f":"'[1]HOJA GENERAL DATOS IMPORTADOS'!K253","v":0},{"$f":"'[1]HOJA GENERAL DATOS IMPORTADOS'!L253","v":0},{"$f":"'[1]HOJA GENERAL DATOS IMPORTADOS'!M253","v":0},{"$f":"'[1]HOJA GENERAL DATOS IMPORTADOS'!N253","v":0},{"$f":"'[1]HOJA GENERAL DATOS IMPORTADOS'!O253","v":0},{"$f":"'[1]HOJA GENERAL DATOS IMPORTADOS'!P253","v":0},{"$f":"'[1]HOJA GENERAL DATOS IMPORTADOS'!Q253","v":0},{"$f":"'[1]HOJA GENERAL DATOS IMPORTADOS'!R253","v":0},{"$f":"'[1]HOJA GENERAL DATOS IMPORTADOS'!S253","v":0},{"$f":"'[1]HOJA GENERAL DATOS IMPORTADOS'!T253","v":0},{"$f":"'[1]HOJA GENERAL DATOS IMPORTADOS'!U253","v":0},{"$f":"'[1]HOJA GENERAL DATOS IMPORTADOS'!V253","v":0},{"$f":"'[1]HOJA GENERAL DATOS IMPORTADOS'!W253","v":0},{"$f":"'[1]HOJA GENERAL DATOS IMPORTADOS'!X253","v":0},{"$f":"'[1]HOJA GENERAL DATOS IMPORTADOS'!Y253","v":0},{"$f":"'[1]HOJA GENERAL DATOS IMPORTADOS'!Z253","v":0},{"$f":"'[1]HOJA GENERAL DATOS IMPORTADOS'!AA253","v":0},{"$f":"'[1]HOJA GENERAL DATOS IMPORTADOS'!AB253","v":0},{"$f":"'[1]HOJA GENERAL DATOS IMPORTADOS'!AC253","v":0},{"$f":"'[1]HOJA GENERAL DATOS IMPORTADOS'!AD253","v":0},{"$f":"'[1]HOJA GENERAL DATOS IMPORTADOS'!AE253","v":0},{"$f":"'[1]HOJA GENERAL DATOS IMPORTADOS'!AF253","v":0},{"$f":"'[1]HOJA GENERAL DATOS IMPORTADOS'!AG253","v":0},{"$f":"'[1]HOJA GENERAL DATOS IMPORTADOS'!AH253","v":0},{"$f":"'[1]HOJA GENERAL DATOS IMPORTADOS'!AI253","v":0}]
[{"$f":"'[1]HOJA GENERAL DATOS IMPORTADOS'!A254","v":0},{"$f":"'[1]HOJA GENERAL DATOS IMPORTADOS'!B254","v":0},{"$f":"'[1]HOJA GENERAL DATOS IMPORTADOS'!C254","v":0},{"$f":"'[1]HOJA GENERAL DATOS IMPORTADOS'!D254","v":0},{"$f":"'[1]HOJA GENERAL DATOS IMPORTADOS'!E254","v":0},{"$f":"'[1]HOJA GENERAL DATOS IMPORTADOS'!F254","v":0},{"$f":"'[1]HOJA GENERAL DATOS IMPORTADOS'!G254","v":0},{"$f":"'[1]HOJA GENERAL DATOS IMPORTADOS'!H254","v":0},{"$f":"'[1]HOJA GENERAL DATOS IMPORTADOS'!I254","v":0},{"$f":"'[1]HOJA GENERAL DATOS IMPORTADOS'!J254","v":0},{"$f":"'[1]HOJA GENERAL DATOS IMPORTADOS'!K254","v":0},{"$f":"'[1]HOJA GENERAL DATOS IMPORTADOS'!L254","v":0},{"$f":"'[1]HOJA GENERAL DATOS IMPORTADOS'!M254","v":0},{"$f":"'[1]HOJA GENERAL DATOS IMPORTADOS'!N254","v":0},{"$f":"'[1]HOJA GENERAL DATOS IMPORTADOS'!O254","v":0},{"$f":"'[1]HOJA GENERAL DATOS IMPORTADOS'!P254","v":0},{"$f":"'[1]HOJA GENERAL DATOS IMPORTADOS'!Q254","v":0},{"$f":"'[1]HOJA GENERAL DATOS IMPORTADOS'!R254","v":0},{"$f":"'[1]HOJA GENERAL DATOS IMPORTADOS'!S254","v":0},{"$f":"'[1]HOJA GENERAL DATOS IMPORTADOS'!T254","v":0},{"$f":"'[1]HOJA GENERAL DATOS IMPORTADOS'!U254","v":0},{"$f":"'[1]HOJA GENERAL DATOS IMPORTADOS'!V254","v":0},{"$f":"'[1]HOJA GENERAL DATOS IMPORTADOS'!W254","v":0},{"$f":"'[1]HOJA GENERAL DATOS IMPORTADOS'!X254","v":0},{"$f":"'[1]HOJA GENERAL DATOS IMPORTADOS'!Y254","v":0},{"$f":"'[1]HOJA GENERAL DATOS IMPORTADOS'!Z254","v":0},{"$f":"'[1]HOJA GENERAL DATOS IMPORTADOS'!AA254","v":0},{"$f":"'[1]HOJA GENERAL DATOS IMPORTADOS'!AB254","v":0},{"$f":"'[1]HOJA GENERAL DATOS IMPORTADOS'!AC254","v":0},{"$f":"'[1]HOJA GENERAL DATOS IMPORTADOS'!AD254","v":0},{"$f":"'[1]HOJA GENERAL DATOS IMPORTADOS'!AE254","v":0},{"$f":"'[1]HOJA GENERAL DATOS IMPORTADOS'!AF254","v":0},{"$f":"'[1]HOJA GENERAL DATOS IMPORTADOS'!AG254","v":0},{"$f":"'[1]HOJA GENERAL DATOS IMPORTADOS'!AH254","v":0},{"$f":"'[1]HOJA GENERAL DATOS IMPORTADOS'!AI254","v":0}]
[{"$f":"'[1]HOJA GENERAL DATOS IMPORTADOS'!A255","v":0},{"$f":"'[1]HOJA GENERAL DATOS IMPORTADOS'!B255","v":0},{"$f":"'[1]HOJA GENERAL DATOS IMPORTADOS'!C255","v":0},{"$f":"'[1]HOJA GENERAL DATOS IMPORTADOS'!D255","v":0},{"$f":"'[1]HOJA GENERAL DATOS IMPORTADOS'!E255","v":0},{"$f":"'[1]HOJA GENERAL DATOS IMPORTADOS'!F255","v":0},{"$f":"'[1]HOJA GENERAL DATOS IMPORTADOS'!G255","v":0},{"$f":"'[1]HOJA GENERAL DATOS IMPORTADOS'!H255","v":0},{"$f":"'[1]HOJA GENERAL DATOS IMPORTADOS'!I255","v":0},{"$f":"'[1]HOJA GENERAL DATOS IMPORTADOS'!J255","v":0},{"$f":"'[1]HOJA GENERAL DATOS IMPORTADOS'!K255","v":0},{"$f":"'[1]HOJA GENERAL DATOS IMPORTADOS'!L255","v":0},{"$f":"'[1]HOJA GENERAL DATOS IMPORTADOS'!M255","v":0},{"$f":"'[1]HOJA GENERAL DATOS IMPORTADOS'!N255","v":0},{"$f":"'[1]HOJA GENERAL DATOS IMPORTADOS'!O255","v":0},{"$f":"'[1]HOJA GENERAL DATOS IMPORTADOS'!P255","v":0},{"$f":"'[1]HOJA GENERAL DATOS IMPORTADOS'!Q255","v":0},{"$f":"'[1]HOJA GENERAL DATOS IMPORTADOS'!R255","v":0},{"$f":"'[1]HOJA GENERAL DATOS IMPORTADOS'!S255","v":0},{"$f":"'[1]HOJA GENERAL DATOS IMPORTADOS'!T255","v":0},{"$f":"'[1]HOJA GENERAL DATOS IMPORTADOS'!U255","v":0},{"$f":"'[1]HOJA GENERAL DATOS IMPORTADOS'!V255","v":0},{"$f":"'[1]HOJA GENERAL DATOS IMPORTADOS'!W255","v":0},{"$f":"'[1]HOJA GENERAL DATOS IMPORTADOS'!X255","v":0},{"$f":"'[1]HOJA GENERAL DATOS IMPORTADOS'!Y255","v":0},{"$f":"'[1]HOJA GENERAL DATOS IMPORTADOS'!Z255","v":0},{"$f":"'[1]HOJA GENERAL DATOS IMPORTADOS'!AA255","v":0},{"$f":"'[1]HOJA GENERAL DATOS IMPORTADOS'!AB255","v":0},{"$f":"'[1]HOJA GENERAL DATOS IMPORTADOS'!AC255","v":0},{"$f":"'[1]HOJA GENERAL DATOS IMPORTADOS'!AD255","v":0},{"$f":"'[1]HOJA GENERAL DATOS IMPORTADOS'!AE255","v":0},{"$f":"'[1]HOJA GENERAL DATOS IMPORTADOS'!AF255","v":0},{"$f":"'[1]HOJA GENERAL DATOS IMPORTADOS'!AG255","v":0},{"$f":"'[1]HOJA GENERAL DATOS IMPORTADOS'!AH255","v":0},{"$f":"'[1]HOJA GENERAL DATOS IMPORTADOS'!AI255","v":0}]
[{"$f":"'[1]HOJA GENERAL DATOS IMPORTADOS'!A256","v":0},{"$f":"'[1]HOJA GENERAL DATOS IMPORTADOS'!B256","v":0},{"$f":"'[1]HOJA GENERAL DATOS IMPORTADOS'!C256","v":0},{"$f":"'[1]HOJA GENERAL DATOS IMPORTADOS'!D256","v":0},{"$f":"'[1]HOJA GENERAL DATOS IMPORTADOS'!E256","v":0},{"$f":"'[1]HOJA GENERAL DATOS IMPORTADOS'!F256","v":0},{"$f":"'[1]HOJA GENERAL DATOS IMPORTADOS'!G256","v":0},{"$f":"'[1]HOJA GENERAL DATOS IMPORTADOS'!H256","v":0},{"$f":"'[1]HOJA GENERAL DATOS IMPORTADOS'!I256","v":0},{"$f":"'[1]HOJA GENERAL DATOS IMPORTADOS'!J256","v":0},{"$f":"'[1]HOJA GENERAL DATOS IMPORTADOS'!K256","v":0},{"$f":"'[1]HOJA GENERAL DATOS IMPORTADOS'!L256","v":0},{"$f":"'[1]HOJA GENERAL DATOS IMPORTADOS'!M256","v":0},{"$f":"'[1]HOJA GENERAL DATOS IMPORTADOS'!N256","v":0},{"$f":"'[1]HOJA GENERAL DATOS IMPORTADOS'!O256","v":0},{"$f":"'[1]HOJA GENERAL DATOS IMPORTADOS'!P256","v":0},{"$f":"'[1]HOJA GENERAL DATOS IMPORTADOS'!Q256","v":0},{"$f":"'[1]HOJA GENERAL DATOS IMPORTADOS'!R256","v":0},{"$f":"'[1]HOJA GENERAL DATOS IMPORTADOS'!S256","v":0},{"$f":"'[1]HOJA GENERAL DATOS IMPORTADOS'!T256","v":0},{"$f":"'[1]HOJA GENERAL DATOS IMPORTADOS'!U256","v":0},{"$f":"'[1]HOJA GENERAL DATOS IMPORTADOS'!V256","v":0},{"$f":"'[1]HOJA GENERAL DATOS IMPORTADOS'!W256","v":0},{"$f":"'[1]HOJA GENERAL DATOS IMPORTADOS'!X256","v":0},{"$f":"'[1]HOJA GENERAL DATOS IMPORTADOS'!Y256","v":0},{"$f":"'[1]HOJA GENERAL DATOS IMPORTADOS'!Z256","v":0},{"$f":"'[1]HOJA GENERAL DATOS IMPORTADOS'!AA256","v":0},{"$f":"'[1]HOJA GENERAL DATOS IMPORTADOS'!AB256","v":0},{"$f":"'[1]HOJA GENERAL DATOS IMPORTADOS'!AC256","v":0},{"$f":"'[1]HOJA GENERAL DATOS IMPORTADOS'!AD256","v":0},{"$f":"'[1]HOJA GENERAL DATOS IMPORTADOS'!AE256","v":0},{"$f":"'[1]HOJA GENERAL DATOS IMPORTADOS'!AF256","v":0},{"$f":"'[1]HOJA GENERAL DATOS IMPORTADOS'!AG256","v":0},{"$f":"'[1]HOJA GENERAL DATOS IMPORTADOS'!AH256","v":0},{"$f":"'[1]HOJA GENERAL DATOS IMPORTADOS'!AI256","v":0}]
[{"$f":"'[1]HOJA GENERAL DATOS IMPORTADOS'!A257","v":0},{"$f":"'[1]HOJA GENERAL DATOS IMPORTADOS'!B257","v":0},{"$f":"'[1]HOJA GENERAL DATOS IMPORTADOS'!C257","v":0},{"$f":"'[1]HOJA GENERAL DATOS IMPORTADOS'!D257","v":0},{"$f":"'[1]HOJA GENERAL DATOS IMPORTADOS'!E257","v":0},{"$f":"'[1]HOJA GENERAL DATOS IMPORTADOS'!F257","v":0},{"$f":"'[1]HOJA GENERAL DATOS IMPORTADOS'!G257","v":0},{"$f":"'[1]HOJA GENERAL DATOS IMPORTADOS'!H257","v":0},{"$f":"'[1]HOJA GENERAL DATOS IMPORTADOS'!I257","v":0},{"$f":"'[1]HOJA GENERAL DATOS IMPORTADOS'!J257","v":0},{"$f":"'[1]HOJA GENERAL DATOS IMPORTADOS'!K257","v":0},{"$f":"'[1]HOJA GENERAL DATOS IMPORTADOS'!L257","v":0},{"$f":"'[1]HOJA GENERAL DATOS IMPORTADOS'!M257","v":0},{"$f":"'[1]HOJA GENERAL DATOS IMPORTADOS'!N257","v":0},{"$f":"'[1]HOJA GENERAL DATOS IMPORTADOS'!O257","v":0},{"$f":"'[1]HOJA GENERAL DATOS IMPORTADOS'!P257","v":0},{"$f":"'[1]HOJA GENERAL DATOS IMPORTADOS'!Q257","v":0},{"$f":"'[1]HOJA GENERAL DATOS IMPORTADOS'!R257","v":0},{"$f":"'[1]HOJA GENERAL DATOS IMPORTADOS'!S257","v":0},{"$f":"'[1]HOJA GENERAL DATOS IMPORTADOS'!T257","v":0},{"$f":"'[1]HOJA GENERAL DATOS IMPORTADOS'!U257","v":0},{"$f":"'[1]HOJA GENERAL DATOS IMPORTADOS'!V257","v":0},{"$f":"'[1]HOJA GENERAL DATOS IMPORTADOS'!W257","v":0},{"$f":"'[1]HOJA GENERAL DATOS IMPORTADOS'!X257","v":0},{"$f":"'[1]HOJA GENERAL DATOS IMPORTADOS'!Y257","v":0},{"$f":"'[1]HOJA GENERAL DATOS IMPORTADOS'!Z257","v":0},{"$f":"'[1]HOJA GENERAL DATOS IMPORTADOS'!AA257","v":0},{"$f":"'[1]HOJA GENERAL DATOS IMPORTADOS'!AB257","v":0},{"$f":"'[1]HOJA GENERAL DATOS IMPORTADOS'!AC257","v":0},{"$f":"'[1]HOJA GENERAL DATOS IMPORTADOS'!AD257","v":0},{"$f":"'[1]HOJA GENERAL DATOS IMPORTADOS'!AE257","v":0},{"$f":"'[1]HOJA GENERAL DATOS IMPORTADOS'!AF257","v":0},{"$f":"'[1]HOJA GENERAL DATOS IMPORTADOS'!AG257","v":0},{"$f":"'[1]HOJA GENERAL DATOS IMPORTADOS'!AH257","v":0},{"$f":"'[1]HOJA GENERAL DATOS IMPORTADOS'!AI257","v":0}]
[{"$f":"'[1]HOJA GENERAL DATOS IMPORTADOS'!A258","v":0},{"$f":"'[1]HOJA GENERAL DATOS IMPORTADOS'!B258","v":0},{"$f":"'[1]HOJA GENERAL DATOS IMPORTADOS'!C258","v":0},{"$f":"'[1]HOJA GENERAL DATOS IMPORTADOS'!D258","v":0},{"$f":"'[1]HOJA GENERAL DATOS IMPORTADOS'!E258","v":0},{"$f":"'[1]HOJA GENERAL DATOS IMPORTADOS'!F258","v":0},{"$f":"'[1]HOJA GENERAL DATOS IMPORTADOS'!G258","v":0},{"$f":"'[1]HOJA GENERAL DATOS IMPORTADOS'!H258","v":0},{"$f":"'[1]HOJA GENERAL DATOS IMPORTADOS'!I258","v":0},{"$f":"'[1]HOJA GENERAL DATOS IMPORTADOS'!J258","v":0},{"$f":"'[1]HOJA GENERAL DATOS IMPORTADOS'!K258","v":0},{"$f":"'[1]HOJA GENERAL DATOS IMPORTADOS'!L258","v":0},{"$f":"'[1]HOJA GENERAL DATOS IMPORTADOS'!M258","v":0},{"$f":"'[1]HOJA GENERAL DATOS IMPORTADOS'!N258","v":0},{"$f":"'[1]HOJA GENERAL DATOS IMPORTADOS'!O258","v":0},{"$f":"'[1]HOJA GENERAL DATOS IMPORTADOS'!P258","v":0},{"$f":"'[1]HOJA GENERAL DATOS IMPORTADOS'!Q258","v":0},{"$f":"'[1]HOJA GENERAL DATOS IMPORTADOS'!R258","v":0},{"$f":"'[1]HOJA GENERAL DATOS IMPORTADOS'!S258","v":0},{"$f":"'[1]HOJA GENERAL DATOS IMPORTADOS'!T258","v":0},{"$f":"'[1]HOJA GENERAL DATOS IMPORTADOS'!U258","v":0},{"$f":"'[1]HOJA GENERAL DATOS IMPORTADOS'!V258","v":0},{"$f":"'[1]HOJA GENERAL DATOS IMPORTADOS'!W258","v":0},{"$f":"'[1]HOJA GENERAL DATOS IMPORTADOS'!X258","v":0},{"$f":"'[1]HOJA GENERAL DATOS IMPORTADOS'!Y258","v":0},{"$f":"'[1]HOJA GENERAL DATOS IMPORTADOS'!Z258","v":0},{"$f":"'[1]HOJA GENERAL DATOS IMPORTADOS'!AA258","v":0},{"$f":"'[1]HOJA GENERAL DATOS IMPORTADOS'!AB258","v":0},{"$f":"'[1]HOJA GENERAL DATOS IMPORTADOS'!AC258","v":0},{"$f":"'[1]HOJA GENERAL DATOS IMPORTADOS'!AD258","v":0},{"$f":"'[1]HOJA GENERAL DATOS IMPORTADOS'!AE258","v":0},{"$f":"'[1]HOJA GENERAL DATOS IMPORTADOS'!AF258","v":0},{"$f":"'[1]HOJA GENERAL DATOS IMPORTADOS'!AG258","v":0},{"$f":"'[1]HOJA GENERAL DATOS IMPORTADOS'!AH258","v":0},{"$f":"'[1]HOJA GENERAL DATOS IMPORTADOS'!AI258","v":0}]
[{"$f":"'[1]HOJA GENERAL DATOS IMPORTADOS'!A259","v":0},{"$f":"'[1]HOJA GENERAL DATOS IMPORTADOS'!B259","v":0},{"$f":"'[1]HOJA GENERAL DATOS IMPORTADOS'!C259","v":0},{"$f":"'[1]HOJA GENERAL DATOS IMPORTADOS'!D259","v":0},{"$f":"'[1]HOJA GENERAL DATOS IMPORTADOS'!E259","v":0},{"$f":"'[1]HOJA GENERAL DATOS IMPORTADOS'!F259","v":0},{"$f":"'[1]HOJA GENERAL DATOS IMPORTADOS'!G259","v":0},{"$f":"'[1]HOJA GENERAL DATOS IMPORTADOS'!H259","v":0},{"$f":"'[1]HOJA GENERAL DATOS IMPORTADOS'!I259","v":0},{"$f":"'[1]HOJA GENERAL DATOS IMPORTADOS'!J259","v":0},{"$f":"'[1]HOJA GENERAL DATOS IMPORTADOS'!K259","v":0},{"$f":"'[1]HOJA GENERAL DATOS IMPORTADOS'!L259","v":0},{"$f":"'[1]HOJA GENERAL DATOS IMPORTADOS'!M259","v":0},{"$f":"'[1]HOJA GENERAL DATOS IMPORTADOS'!N259","v":0},{"$f":"'[1]HOJA GENERAL DATOS IMPORTADOS'!O259","v":0},{"$f":"'[1]HOJA GENERAL DATOS IMPORTADOS'!P259","v":0},{"$f":"'[1]HOJA GENERAL DATOS IMPORTADOS'!Q259","v":0},{"$f":"'[1]HOJA GENERAL DATOS IMPORTADOS'!R259","v":0},{"$f":"'[1]HOJA GENERAL DATOS IMPORTADOS'!S259","v":0},{"$f":"'[1]HOJA GENERAL DATOS IMPORTADOS'!T259","v":0},{"$f":"'[1]HOJA GENERAL DATOS IMPORTADOS'!U259","v":0},{"$f":"'[1]HOJA GENERAL DATOS IMPORTADOS'!V259","v":0},{"$f":"'[1]HOJA GENERAL DATOS IMPORTADOS'!W259","v":0},{"$f":"'[1]HOJA GENERAL DATOS IMPORTADOS'!X259","v":0},{"$f":"'[1]HOJA GENERAL DATOS IMPORTADOS'!Y259","v":0},{"$f":"'[1]HOJA GENERAL DATOS IMPORTADOS'!Z259","v":0},{"$f":"'[1]HOJA GENERAL DATOS IMPORTADOS'!AA259","v":0},{"$f":"'[1]HOJA GENERAL DATOS IMPORTADOS'!AB259","v":0},{"$f":"'[1]HOJA GENERAL DATOS IMPORTADOS'!AC259","v":0},{"$f":"'[1]HOJA GENERAL DATOS IMPORTADOS'!AD259","v":0},{"$f":"'[1]HOJA GENERAL DATOS IMPORTADOS'!AE259","v":0},{"$f":"'[1]HOJA GENERAL DATOS IMPORTADOS'!AF259","v":0},{"$f":"'[1]HOJA GENERAL DATOS IMPORTADOS'!AG259","v":0},{"$f":"'[1]HOJA GENERAL DATOS IMPORTADOS'!AH259","v":0},{"$f":"'[1]HOJA GENERAL DATOS IMPORTADOS'!AI259","v":0}]
[{"$f":"'[1]HOJA GENERAL DATOS IMPORTADOS'!A260","v":0},{"$f":"'[1]HOJA GENERAL DATOS IMPORTADOS'!B260","v":0},{"$f":"'[1]HOJA GENERAL DATOS IMPORTADOS'!C260","v":0},{"$f":"'[1]HOJA GENERAL DATOS IMPORTADOS'!D260","v":0},{"$f":"'[1]HOJA GENERAL DATOS IMPORTADOS'!E260","v":0},{"$f":"'[1]HOJA GENERAL DATOS IMPORTADOS'!F260","v":0},{"$f":"'[1]HOJA GENERAL DATOS IMPORTADOS'!G260","v":0},{"$f":"'[1]HOJA GENERAL DATOS IMPORTADOS'!H260","v":0},{"$f":"'[1]HOJA GENERAL DATOS IMPORTADOS'!I260","v":0},{"$f":"'[1]HOJA GENERAL DATOS IMPORTADOS'!J260","v":0},{"$f":"'[1]HOJA GENERAL DATOS IMPORTADOS'!K260","v":0},{"$f":"'[1]HOJA GENERAL DATOS IMPORTADOS'!L260","v":0},{"$f":"'[1]HOJA GENERAL DATOS IMPORTADOS'!M260","v":0},{"$f":"'[1]HOJA GENERAL DATOS IMPORTADOS'!N260","v":0},{"$f":"'[1]HOJA GENERAL DATOS IMPORTADOS'!O260","v":0},{"$f":"'[1]HOJA GENERAL DATOS IMPORTADOS'!P260","v":0},{"$f":"'[1]HOJA GENERAL DATOS IMPORTADOS'!Q260","v":0},{"$f":"'[1]HOJA GENERAL DATOS IMPORTADOS'!R260","v":0},{"$f":"'[1]HOJA GENERAL DATOS IMPORTADOS'!S260","v":0},{"$f":"'[1]HOJA GENERAL DATOS IMPORTADOS'!T260","v":0},{"$f":"'[1]HOJA GENERAL DATOS IMPORTADOS'!U260","v":0},{"$f":"'[1]HOJA GENERAL DATOS IMPORTADOS'!V260","v":0},{"$f":"'[1]HOJA GENERAL DATOS IMPORTADOS'!W260","v":0},{"$f":"'[1]HOJA GENERAL DATOS IMPORTADOS'!X260","v":0},{"$f":"'[1]HOJA GENERAL DATOS IMPORTADOS'!Y260","v":0},{"$f":"'[1]HOJA GENERAL DATOS IMPORTADOS'!Z260","v":0},{"$f":"'[1]HOJA GENERAL DATOS IMPORTADOS'!AA260","v":0},{"$f":"'[1]HOJA GENERAL DATOS IMPORTADOS'!AB260","v":0},{"$f":"'[1]HOJA GENERAL DATOS IMPORTADOS'!AC260","v":0},{"$f":"'[1]HOJA GENERAL DATOS IMPORTADOS'!AD260","v":0},{"$f":"'[1]HOJA GENERAL DATOS IMPORTADOS'!AE260","v":0},{"$f":"'[1]HOJA GENERAL DATOS IMPORTADOS'!AF260","v":0},{"$f":"'[1]HOJA GENERAL DATOS IMPORTADOS'!AG260","v":0},{"$f":"'[1]HOJA GENERAL DATOS IMPORTADOS'!AH260","v":0},{"$f":"'[1]HOJA GENERAL DATOS IMPORTADOS'!AI260","v":0}]
[{"$f":"'[1]HOJA GENERAL DATOS IMPORTADOS'!A261","v":0},{"$f":"'[1]HOJA GENERAL DATOS IMPORTADOS'!B261","v":0},{"$f":"'[1]HOJA GENERAL DATOS IMPORTADOS'!C261","v":0},{"$f":"'[1]HOJA GENERAL DATOS IMPORTADOS'!D261","v":0},{"$f":"'[1]HOJA GENERAL DATOS IMPORTADOS'!E261","v":0},{"$f":"'[1]HOJA GENERAL DATOS IMPORTADOS'!F261","v":0},{"$f":"'[1]HOJA GENERAL DATOS IMPORTADOS'!G261","v":0},{"$f":"'[1]HOJA GENERAL DATOS IMPORTADOS'!H261","v":0},{"$f":"'[1]HOJA GENERAL DATOS IMPORTADOS'!I261","v":0},{"$f":"'[1]HOJA GENERAL DATOS IMPORTADOS'!J261","v":0},{"$f":"'[1]HOJA GENERAL DATOS IMPORTADOS'!K261","v":0},{"$f":"'[1]HOJA GENERAL DATOS IMPORTADOS'!L261","v":0},{"$f":"'[1]HOJA GENERAL DATOS IMPORTADOS'!M261","v":0},{"$f":"'[1]HOJA GENERAL DATOS IMPORTADOS'!N261","v":0},{"$f":"'[1]HOJA GENERAL DATOS IMPORTADOS'!O261","v":0},{"$f":"'[1]HOJA GENERAL DATOS IMPORTADOS'!P261","v":0},{"$f":"'[1]HOJA GENERAL DATOS IMPORTADOS'!Q261","v":0},{"$f":"'[1]HOJA GENERAL DATOS IMPORTADOS'!R261","v":0},{"$f":"'[1]HOJA GENERAL DATOS IMPORTADOS'!S261","v":0},{"$f":"'[1]HOJA GENERAL DATOS IMPORTADOS'!T261","v":0},{"$f":"'[1]HOJA GENERAL DATOS IMPORTADOS'!U261","v":0},{"$f":"'[1]HOJA GENERAL DATOS IMPORTADOS'!V261","v":0},{"$f":"'[1]HOJA GENERAL DATOS IMPORTADOS'!W261","v":0},{"$f":"'[1]HOJA GENERAL DATOS IMPORTADOS'!X261","v":0},{"$f":"'[1]HOJA GENERAL DATOS IMPORTADOS'!Y261","v":0},{"$f":"'[1]HOJA GENERAL DATOS IMPORTADOS'!Z261","v":0},{"$f":"'[1]HOJA GENERAL DATOS IMPORTADOS'!AA261","v":0},{"$f":"'[1]HOJA GENERAL DATOS IMPORTADOS'!AB261","v":0},{"$f":"'[1]HOJA GENERAL DATOS IMPORTADOS'!AC261","v":0},{"$f":"'[1]HOJA GENERAL DATOS IMPORTADOS'!AD261","v":0},{"$f":"'[1]HOJA GENERAL DATOS IMPORTADOS'!AE261","v":0},{"$f":"'[1]HOJA GENERAL DATOS IMPORTADOS'!AF261","v":0},{"$f":"'[1]HOJA GENERAL DATOS IMPORTADOS'!AG261","v":0},{"$f":"'[1]HOJA GENERAL DATOS IMPORTADOS'!AH261","v":0},{"$f":"'[1]HOJA GENERAL DATOS IMPORTADOS'!AI261","v":0}]
[{"$f":"'[1]HOJA GENERAL DATOS IMPORTADOS'!A262","v":0},{"$f":"'[1]HOJA GENERAL DATOS IMPORTADOS'!B262","v":0},{"$f":"'[1]HOJA GENERAL DATOS IMPORTADOS'!C262","v":0},{"$f":"'[1]HOJA GENERAL DATOS IMPORTADOS'!D262","v":0},{"$f":"'[1]HOJA GENERAL DATOS IMPORTADOS'!E262","v":0},{"$f":"'[1]HOJA GENERAL DATOS IMPORTADOS'!F262","v":0},{"$f":"'[1]HOJA GENERAL DATOS IMPORTADOS'!G262","v":0},{"$f":"'[1]HOJA GENERAL DATOS IMPORTADOS'!H262","v":0},{"$f":"'[1]HOJA GENERAL DATOS IMPORTADOS'!I262","v":0},{"$f":"'[1]HOJA GENERAL DATOS IMPORTADOS'!J262","v":0},{"$f":"'[1]HOJA GENERAL DATOS IMPORTADOS'!K262","v":0},{"$f":"'[1]HOJA GENERAL DATOS IMPORTADOS'!L262","v":0},{"$f":"'[1]HOJA GENERAL DATOS IMPORTADOS'!M262","v":0},{"$f":"'[1]HOJA GENERAL DATOS IMPORTADOS'!N262","v":0},{"$f":"'[1]HOJA GENERAL DATOS IMPORTADOS'!O262","v":0},{"$f":"'[1]HOJA GENERAL DATOS IMPORTADOS'!P262","v":0},{"$f":"'[1]HOJA GENERAL DATOS IMPORTADOS'!Q262","v":0},{"$f":"'[1]HOJA GENERAL DATOS IMPORTADOS'!R262","v":0},{"$f":"'[1]HOJA GENERAL DATOS IMPORTADOS'!S262","v":0},{"$f":"'[1]HOJA GENERAL DATOS IMPORTADOS'!T262","v":0},{"$f":"'[1]HOJA GENERAL DATOS IMPORTADOS'!U262","v":0},{"$f":"'[1]HOJA GENERAL DATOS IMPORTADOS'!V262","v":0},{"$f":"'[1]HOJA GENERAL DATOS IMPORTADOS'!W262","v":0},{"$f":"'[1]HOJA GENERAL DATOS IMPORTADOS'!X262","v":0},{"$f":"'[1]HOJA GENERAL DATOS IMPORTADOS'!Y262","v":0},{"$f":"'[1]HOJA GENERAL DATOS IMPORTADOS'!Z262","v":0},{"$f":"'[1]HOJA GENERAL DATOS IMPORTADOS'!AA262","v":0},{"$f":"'[1]HOJA GENERAL DATOS IMPORTADOS'!AB262","v":0},{"$f":"'[1]HOJA GENERAL DATOS IMPORTADOS'!AC262","v":0},{"$f":"'[1]HOJA GENERAL DATOS IMPORTADOS'!AD262","v":0},{"$f":"'[1]HOJA GENERAL DATOS IMPORTADOS'!AE262","v":0},{"$f":"'[1]HOJA GENERAL DATOS IMPORTADOS'!AF262","v":0},{"$f":"'[1]HOJA GENERAL DATOS IMPORTADOS'!AG262","v":0},{"$f":"'[1]HOJA GENERAL DATOS IMPORTADOS'!AH262","v":0},{"$f":"'[1]HOJA GENERAL DATOS IMPORTADOS'!AI262","v":0}]
[{"$f":"'[1]HOJA GENERAL DATOS IMPORTADOS'!A263","v":0},{"$f":"'[1]HOJA GENERAL DATOS IMPORTADOS'!B263","v":0},{"$f":"'[1]HOJA GENERAL DATOS IMPORTADOS'!C263","v":0},{"$f":"'[1]HOJA GENERAL DATOS IMPORTADOS'!D263","v":0},{"$f":"'[1]HOJA GENERAL DATOS IMPORTADOS'!E263","v":0},{"$f":"'[1]HOJA GENERAL DATOS IMPORTADOS'!F263","v":0},{"$f":"'[1]HOJA GENERAL DATOS IMPORTADOS'!G263","v":0},{"$f":"'[1]HOJA GENERAL DATOS IMPORTADOS'!H263","v":0},{"$f":"'[1]HOJA GENERAL DATOS IMPORTADOS'!I263","v":0},{"$f":"'[1]HOJA GENERAL DATOS IMPORTADOS'!J263","v":0},{"$f":"'[1]HOJA GENERAL DATOS IMPORTADOS'!K263","v":0},{"$f":"'[1]HOJA GENERAL DATOS IMPORTADOS'!L263","v":0},{"$f":"'[1]HOJA GENERAL DATOS IMPORTADOS'!M263","v":0},{"$f":"'[1]HOJA GENERAL DATOS IMPORTADOS'!N263","v":0},{"$f":"'[1]HOJA GENERAL DATOS IMPORTADOS'!O263","v":0},{"$f":"'[1]HOJA GENERAL DATOS IMPORTADOS'!P263","v":0},{"$f":"'[1]HOJA GENERAL DATOS IMPORTADOS'!Q263","v":0},{"$f":"'[1]HOJA GENERAL DATOS IMPORTADOS'!R263","v":0},{"$f":"'[1]HOJA GENERAL DATOS IMPORTADOS'!S263","v":0},{"$f":"'[1]HOJA GENERAL DATOS IMPORTADOS'!T263","v":0},{"$f":"'[1]HOJA GENERAL DATOS IMPORTADOS'!U263","v":0},{"$f":"'[1]HOJA GENERAL DATOS IMPORTADOS'!V263","v":0},{"$f":"'[1]HOJA GENERAL DATOS IMPORTADOS'!W263","v":0},{"$f":"'[1]HOJA GENERAL DATOS IMPORTADOS'!X263","v":0},{"$f":"'[1]HOJA GENERAL DATOS IMPORTADOS'!Y263","v":0},{"$f":"'[1]HOJA GENERAL DATOS IMPORTADOS'!Z263","v":0},{"$f":"'[1]HOJA GENERAL DATOS IMPORTADOS'!AA263","v":0},{"$f":"'[1]HOJA GENERAL DATOS IMPORTADOS'!AB263","v":0},{"$f":"'[1]HOJA GENERAL DATOS IMPORTADOS'!AC263","v":0},{"$f":"'[1]HOJA GENERAL DATOS IMPORTADOS'!AD263","v":0},{"$f":"'[1]HOJA GENERAL DATOS IMPORTADOS'!AE263","v":0},{"$f":"'[1]HOJA GENERAL DATOS IMPORTADOS'!AF263","v":0},{"$f":"'[1]HOJA GENERAL DATOS IMPORTADOS'!AG263","v":0},{"$f":"'[1]HOJA GENERAL DATOS IMPORTADOS'!AH263","v":0},{"$f":"'[1]HOJA GENERAL DATOS IMPORTADOS'!AI263","v":0}]
[{"$f":"'[1]HOJA GENERAL DATOS IMPORTADOS'!A264","v":0},{"$f":"'[1]HOJA GENERAL DATOS IMPORTADOS'!B264","v":0},{"$f":"'[1]HOJA GENERAL DATOS IMPORTADOS'!C264","v":0},{"$f":"'[1]HOJA GENERAL DATOS IMPORTADOS'!D264","v":0},{"$f":"'[1]HOJA GENERAL DATOS IMPORTADOS'!E264","v":0},{"$f":"'[1]HOJA GENERAL DATOS IMPORTADOS'!F264","v":0},{"$f":"'[1]HOJA GENERAL DATOS IMPORTADOS'!G264","v":0},{"$f":"'[1]HOJA GENERAL DATOS IMPORTADOS'!H264","v":0},{"$f":"'[1]HOJA GENERAL DATOS IMPORTADOS'!I264","v":0},{"$f":"'[1]HOJA GENERAL DATOS IMPORTADOS'!J264","v":0},{"$f":"'[1]HOJA GENERAL DATOS IMPORTADOS'!K264","v":0},{"$f":"'[1]HOJA GENERAL DATOS IMPORTADOS'!L264","v":0},{"$f":"'[1]HOJA GENERAL DATOS IMPORTADOS'!M264","v":0},{"$f":"'[1]HOJA GENERAL DATOS IMPORTADOS'!N264","v":0},{"$f":"'[1]HOJA GENERAL DATOS IMPORTADOS'!O264","v":0},{"$f":"'[1]HOJA GENERAL DATOS IMPORTADOS'!P264","v":0},{"$f":"'[1]HOJA GENERAL DATOS IMPORTADOS'!Q264","v":0},{"$f":"'[1]HOJA GENERAL DATOS IMPORTADOS'!R264","v":0},{"$f":"'[1]HOJA GENERAL DATOS IMPORTADOS'!S264","v":0},{"$f":"'[1]HOJA GENERAL DATOS IMPORTADOS'!T264","v":0},{"$f":"'[1]HOJA GENERAL DATOS IMPORTADOS'!U264","v":0},{"$f":"'[1]HOJA GENERAL DATOS IMPORTADOS'!V264","v":0},{"$f":"'[1]HOJA GENERAL DATOS IMPORTADOS'!W264","v":0},{"$f":"'[1]HOJA GENERAL DATOS IMPORTADOS'!X264","v":0},{"$f":"'[1]HOJA GENERAL DATOS IMPORTADOS'!Y264","v":0},{"$f":"'[1]HOJA GENERAL DATOS IMPORTADOS'!Z264","v":0},{"$f":"'[1]HOJA GENERAL DATOS IMPORTADOS'!AA264","v":0},{"$f":"'[1]HOJA GENERAL DATOS IMPORTADOS'!AB264","v":0},{"$f":"'[1]HOJA GENERAL DATOS IMPORTADOS'!AC264","v":0},{"$f":"'[1]HOJA GENERAL DATOS IMPORTADOS'!AD264","v":0},{"$f":"'[1]HOJA GENERAL DATOS IMPORTADOS'!AE264","v":0},{"$f":"'[1]HOJA GENERAL DATOS IMPORTADOS'!AF264","v":0},{"$f":"'[1]HOJA GENERAL DATOS IMPORTADOS'!AG264","v":0},{"$f":"'[1]HOJA GENERAL DATOS IMPORTADOS'!AH264","v":0},{"$f":"'[1]HOJA GENERAL DATOS IMPORTADOS'!AI264","v":0}]
[{"$f":"'[1]HOJA GENERAL DATOS IMPORTADOS'!A265","v":0},{"$f":"'[1]HOJA GENERAL DATOS IMPORTADOS'!B265","v":0},{"$f":"'[1]HOJA GENERAL DATOS IMPORTADOS'!C265","v":0},{"$f":"'[1]HOJA GENERAL DATOS IMPORTADOS'!D265","v":0},{"$f":"'[1]HOJA GENERAL DATOS IMPORTADOS'!E265","v":0},{"$f":"'[1]HOJA GENERAL DATOS IMPORTADOS'!F265","v":0},{"$f":"'[1]HOJA GENERAL DATOS IMPORTADOS'!G265","v":0},{"$f":"'[1]HOJA GENERAL DATOS IMPORTADOS'!H265","v":0},{"$f":"'[1]HOJA GENERAL DATOS IMPORTADOS'!I265","v":0},{"$f":"'[1]HOJA GENERAL DATOS IMPORTADOS'!J265","v":0},{"$f":"'[1]HOJA GENERAL DATOS IMPORTADOS'!K265","v":0},{"$f":"'[1]HOJA GENERAL DATOS IMPORTADOS'!L265","v":0},{"$f":"'[1]HOJA GENERAL DATOS IMPORTADOS'!M265","v":0},{"$f":"'[1]HOJA GENERAL DATOS IMPORTADOS'!N265","v":0},{"$f":"'[1]HOJA GENERAL DATOS IMPORTADOS'!O265","v":0},{"$f":"'[1]HOJA GENERAL DATOS IMPORTADOS'!P265","v":0},{"$f":"'[1]HOJA GENERAL DATOS IMPORTADOS'!Q265","v":0},{"$f":"'[1]HOJA GENERAL DATOS IMPORTADOS'!R265","v":0},{"$f":"'[1]HOJA GENERAL DATOS IMPORTADOS'!S265","v":0},{"$f":"'[1]HOJA GENERAL DATOS IMPORTADOS'!T265","v":0},{"$f":"'[1]HOJA GENERAL DATOS IMPORTADOS'!U265","v":0},{"$f":"'[1]HOJA GENERAL DATOS IMPORTADOS'!V265","v":0},{"$f":"'[1]HOJA GENERAL DATOS IMPORTADOS'!W265","v":0},{"$f":"'[1]HOJA GENERAL DATOS IMPORTADOS'!X265","v":0},{"$f":"'[1]HOJA GENERAL DATOS IMPORTADOS'!Y265","v":0},{"$f":"'[1]HOJA GENERAL DATOS IMPORTADOS'!Z265","v":0},{"$f":"'[1]HOJA GENERAL DATOS IMPORTADOS'!AA265","v":0},{"$f":"'[1]HOJA GENERAL DATOS IMPORTADOS'!AB265","v":0},{"$f":"'[1]HOJA GENERAL DATOS IMPORTADOS'!AC265","v":0},{"$f":"'[1]HOJA GENERAL DATOS IMPORTADOS'!AD265","v":0},{"$f":"'[1]HOJA GENERAL DATOS IMPORTADOS'!AE265","v":0},{"$f":"'[1]HOJA GENERAL DATOS IMPORTADOS'!AF265","v":0},{"$f":"'[1]HOJA GENERAL DATOS IMPORTADOS'!AG265","v":0},{"$f":"'[1]HOJA GENERAL DATOS IMPORTADOS'!AH265","v":0},{"$f":"'[1]HOJA GENERAL DATOS IMPORTADOS'!AI265","v":0}]
[{"$f":"'[1]HOJA GENERAL DATOS IMPORTADOS'!A266","v":0},{"$f":"'[1]HOJA GENERAL DATOS IMPORTADOS'!B266","v":0},{"$f":"'[1]HOJA GENERAL DATOS IMPORTADOS'!C266","v":0},{"$f":"'[1]HOJA GENERAL DATOS IMPORTADOS'!D266","v":0},{"$f":"'[1]HOJA GENERAL DATOS IMPORTADOS'!E266","v":0},{"$f":"'[1]HOJA GENERAL DATOS IMPORTADOS'!F266","v":0},{"$f":"'[1]HOJA GENERAL DATOS IMPORTADOS'!G266","v":0},{"$f":"'[1]HOJA GENERAL DATOS IMPORTADOS'!H266","v":0},{"$f":"'[1]HOJA GENERAL DATOS IMPORTADOS'!I266","v":0},{"$f":"'[1]HOJA GENERAL DATOS IMPORTADOS'!J266","v":0},{"$f":"'[1]HOJA GENERAL DATOS IMPORTADOS'!K266","v":0},{"$f":"'[1]HOJA GENERAL DATOS IMPORTADOS'!L266","v":0},{"$f":"'[1]HOJA GENERAL DATOS IMPORTADOS'!M266","v":0},{"$f":"'[1]HOJA GENERAL DATOS IMPORTADOS'!N266","v":0},{"$f":"'[1]HOJA GENERAL DATOS IMPORTADOS'!O266","v":0},{"$f":"'[1]HOJA GENERAL DATOS IMPORTADOS'!P266","v":0},{"$f":"'[1]HOJA GENERAL DATOS IMPORTADOS'!Q266","v":0},{"$f":"'[1]HOJA GENERAL DATOS IMPORTADOS'!R266","v":0},{"$f":"'[1]HOJA GENERAL DATOS IMPORTADOS'!S266","v":0},{"$f":"'[1]HOJA GENERAL DATOS IMPORTADOS'!T266","v":0},{"$f":"'[1]HOJA GENERAL DATOS IMPORTADOS'!U266","v":0},{"$f":"'[1]HOJA GENERAL DATOS IMPORTADOS'!V266","v":0},{"$f":"'[1]HOJA GENERAL DATOS IMPORTADOS'!W266","v":0},{"$f":"'[1]HOJA GENERAL DATOS IMPORTADOS'!X266","v":0},{"$f":"'[1]HOJA GENERAL DATOS IMPORTADOS'!Y266","v":0},{"$f":"'[1]HOJA GENERAL DATOS IMPORTADOS'!Z266","v":0},{"$f":"'[1]HOJA GENERAL DATOS IMPORTADOS'!AA266","v":0},{"$f":"'[1]HOJA GENERAL DATOS IMPORTADOS'!AB266","v":0},{"$f":"'[1]HOJA GENERAL DATOS IMPORTADOS'!AC266","v":0},{"$f":"'[1]HOJA GENERAL DATOS IMPORTADOS'!AD266","v":0},{"$f":"'[1]HOJA GENERAL DATOS IMPORTADOS'!AE266","v":0},{"$f":"'[1]HOJA GENERAL DATOS IMPORTADOS'!AF266","v":0},{"$f":"'[1]HOJA GENERAL DATOS IMPORTADOS'!AG266","v":0},{"$f":"'[1]HOJA GENERAL DATOS IMPORTADOS'!AH266","v":0},{"$f":"'[1]HOJA GENERAL DATOS IMPORTADOS'!AI266","v":0}]
[{"$f":"'[1]HOJA GENERAL DATOS IMPORTADOS'!A267","v":0},{"$f":"'[1]HOJA GENERAL DATOS IMPORTADOS'!B267","v":0},{"$f":"'[1]HOJA GENERAL DATOS IMPORTADOS'!C267","v":0},{"$f":"'[1]HOJA GENERAL DATOS IMPORTADOS'!D267","v":0},{"$f":"'[1]HOJA GENERAL DATOS IMPORTADOS'!E267","v":0},{"$f":"'[1]HOJA GENERAL DATOS IMPORTADOS'!F267","v":0},{"$f":"'[1]HOJA GENERAL DATOS IMPORTADOS'!G267","v":0},{"$f":"'[1]HOJA GENERAL DATOS IMPORTADOS'!H267","v":0},{"$f":"'[1]HOJA GENERAL DATOS IMPORTADOS'!I267","v":0},{"$f":"'[1]HOJA GENERAL DATOS IMPORTADOS'!J267","v":0},{"$f":"'[1]HOJA GENERAL DATOS IMPORTADOS'!K267","v":0},{"$f":"'[1]HOJA GENERAL DATOS IMPORTADOS'!L267","v":0},{"$f":"'[1]HOJA GENERAL DATOS IMPORTADOS'!M267","v":0},{"$f":"'[1]HOJA GENERAL DATOS IMPORTADOS'!N267","v":0},{"$f":"'[1]HOJA GENERAL DATOS IMPORTADOS'!O267","v":0},{"$f":"'[1]HOJA GENERAL DATOS IMPORTADOS'!P267","v":0},{"$f":"'[1]HOJA GENERAL DATOS IMPORTADOS'!Q267","v":0},{"$f":"'[1]HOJA GENERAL DATOS IMPORTADOS'!R267","v":0},{"$f":"'[1]HOJA GENERAL DATOS IMPORTADOS'!S267","v":0},{"$f":"'[1]HOJA GENERAL DATOS IMPORTADOS'!T267","v":0},{"$f":"'[1]HOJA GENERAL DATOS IMPORTADOS'!U267","v":0},{"$f":"'[1]HOJA GENERAL DATOS IMPORTADOS'!V267","v":0},{"$f":"'[1]HOJA GENERAL DATOS IMPORTADOS'!W267","v":0},{"$f":"'[1]HOJA GENERAL DATOS IMPORTADOS'!X267","v":0},{"$f":"'[1]HOJA GENERAL DATOS IMPORTADOS'!Y267","v":0},{"$f":"'[1]HOJA GENERAL DATOS IMPORTADOS'!Z267","v":0},{"$f":"'[1]HOJA GENERAL DATOS IMPORTADOS'!AA267","v":0},{"$f":"'[1]HOJA GENERAL DATOS IMPORTADOS'!AB267","v":0},{"$f":"'[1]HOJA GENERAL DATOS IMPORTADOS'!AC267","v":0},{"$f":"'[1]HOJA GENERAL DATOS IMPORTADOS'!AD267","v":0},{"$f":"'[1]HOJA GENERAL DATOS IMPORTADOS'!AE267","v":0},{"$f":"'[1]HOJA GENERAL DATOS IMPORTADOS'!AF267","v":0},{"$f":"'[1]HOJA GENERAL DATOS IMPORTADOS'!AG267","v":0},{"$f":"'[1]HOJA GENERAL DATOS IMPORTADOS'!AH267","v":0},{"$f":"'[1]HOJA GENERAL DATOS IMPORTADOS'!AI267","v":0}]
[{"$f":"'[1]HOJA GENERAL DATOS IMPORTADOS'!A268","v":0},{"$f":"'[1]HOJA GENERAL DATOS IMPORTADOS'!B268","v":0},{"$f":"'[1]HOJA GENERAL DATOS IMPORTADOS'!C268","v":0},{"$f":"'[1]HOJA GENERAL DATOS IMPORTADOS'!D268","v":0},{"$f":"'[1]HOJA GENERAL DATOS IMPORTADOS'!E268","v":0},{"$f":"'[1]HOJA GENERAL DATOS IMPORTADOS'!F268","v":0},{"$f":"'[1]HOJA GENERAL DATOS IMPORTADOS'!G268","v":0},{"$f":"'[1]HOJA GENERAL DATOS IMPORTADOS'!H268","v":0},{"$f":"'[1]HOJA GENERAL DATOS IMPORTADOS'!I268","v":0},{"$f":"'[1]HOJA GENERAL DATOS IMPORTADOS'!J268","v":0},{"$f":"'[1]HOJA GENERAL DATOS IMPORTADOS'!K268","v":0},{"$f":"'[1]HOJA GENERAL DATOS IMPORTADOS'!L268","v":0},{"$f":"'[1]HOJA GENERAL DATOS IMPORTADOS'!M268","v":0},{"$f":"'[1]HOJA GENERAL DATOS IMPORTADOS'!N268","v":0},{"$f":"'[1]HOJA GENERAL DATOS IMPORTADOS'!O268","v":0},{"$f":"'[1]HOJA GENERAL DATOS IMPORTADOS'!P268","v":0},{"$f":"'[1]HOJA GENERAL DATOS IMPORTADOS'!Q268","v":0},{"$f":"'[1]HOJA GENERAL DATOS IMPORTADOS'!R268","v":0},{"$f":"'[1]HOJA GENERAL DATOS IMPORTADOS'!S268","v":0},{"$f":"'[1]HOJA GENERAL DATOS IMPORTADOS'!T268","v":0},{"$f":"'[1]HOJA GENERAL DATOS IMPORTADOS'!U268","v":0},{"$f":"'[1]HOJA GENERAL DATOS IMPORTADOS'!V268","v":0},{"$f":"'[1]HOJA GENERAL DATOS IMPORTADOS'!W268","v":0},{"$f":"'[1]HOJA GENERAL DATOS IMPORTADOS'!X268","v":0},{"$f":"'[1]HOJA GENERAL DATOS IMPORTADOS'!Y268","v":0},{"$f":"'[1]HOJA GENERAL DATOS IMPORTADOS'!Z268","v":0},{"$f":"'[1]HOJA GENERAL DATOS IMPORTADOS'!AA268","v":0},{"$f":"'[1]HOJA GENERAL DATOS IMPORTADOS'!AB268","v":0},{"$f":"'[1]HOJA GENERAL DATOS IMPORTADOS'!AC268","v":0},{"$f":"'[1]HOJA GENERAL DATOS IMPORTADOS'!AD268","v":0},{"$f":"'[1]HOJA GENERAL DATOS IMPORTADOS'!AE268","v":0},{"$f":"'[1]HOJA GENERAL DATOS IMPORTADOS'!AF268","v":0},{"$f":"'[1]HOJA GENERAL DATOS IMPORTADOS'!AG268","v":0},{"$f":"'[1]HOJA GENERAL DATOS IMPORTADOS'!AH268","v":0},{"$f":"'[1]HOJA GENERAL DATOS IMPORTADOS'!AI268","v":0}]
[{"$f":"'[1]HOJA GENERAL DATOS IMPORTADOS'!A269","v":0},{"$f":"'[1]HOJA GENERAL DATOS IMPORTADOS'!B269","v":0},{"$f":"'[1]HOJA GENERAL DATOS IMPORTADOS'!C269","v":0},{"$f":"'[1]HOJA GENERAL DATOS IMPORTADOS'!D269","v":0},{"$f":"'[1]HOJA GENERAL DATOS IMPORTADOS'!E269","v":0},{"$f":"'[1]HOJA GENERAL DATOS IMPORTADOS'!F269","v":0},{"$f":"'[1]HOJA GENERAL DATOS IMPORTADOS'!G269","v":0},{"$f":"'[1]HOJA GENERAL DATOS IMPORTADOS'!H269","v":0},{"$f":"'[1]HOJA GENERAL DATOS IMPORTADOS'!I269","v":0},{"$f":"'[1]HOJA GENERAL DATOS IMPORTADOS'!J269","v":0},{"$f":"'[1]HOJA GENERAL DATOS IMPORTADOS'!K269","v":0},{"$f":"'[1]HOJA GENERAL DATOS IMPORTADOS'!L269","v":0},{"$f":"'[1]HOJA GENERAL DATOS IMPORTADOS'!M269","v":0},{"$f":"'[1]HOJA GENERAL DATOS IMPORTADOS'!N269","v":0},{"$f":"'[1]HOJA GENERAL DATOS IMPORTADOS'!O269","v":0},{"$f":"'[1]HOJA GENERAL DATOS IMPORTADOS'!P269","v":0},{"$f":"'[1]HOJA GENERAL DATOS IMPORTADOS'!Q269","v":0},{"$f":"'[1]HOJA GENERAL DATOS IMPORTADOS'!R269","v":0},{"$f":"'[1]HOJA GENERAL DATOS IMPORTADOS'!S269","v":0},{"$f":"'[1]HOJA GENERAL DATOS IMPORTADOS'!T269","v":0},{"$f":"'[1]HOJA GENERAL DATOS IMPORTADOS'!U269","v":0},{"$f":"'[1]HOJA GENERAL DATOS IMPORTADOS'!V269","v":0},{"$f":"'[1]HOJA GENERAL DATOS IMPORTADOS'!W269","v":0},{"$f":"'[1]HOJA GENERAL DATOS IMPORTADOS'!X269","v":0},{"$f":"'[1]HOJA GENERAL DATOS IMPORTADOS'!Y269","v":0},{"$f":"'[1]HOJA GENERAL DATOS IMPORTADOS'!Z269","v":0},{"$f":"'[1]HOJA GENERAL DATOS IMPORTADOS'!AA269","v":0},{"$f":"'[1]HOJA GENERAL DATOS IMPORTADOS'!AB269","v":0},{"$f":"'[1]HOJA GENERAL DATOS IMPORTADOS'!AC269","v":0},{"$f":"'[1]HOJA GENERAL DATOS IMPORTADOS'!AD269","v":0},{"$f":"'[1]HOJA GENERAL DATOS IMPORTADOS'!AE269","v":0},{"$f":"'[1]HOJA GENERAL DATOS IMPORTADOS'!AF269","v":0},{"$f":"'[1]HOJA GENERAL DATOS IMPORTADOS'!AG269","v":0},{"$f":"'[1]HOJA GENERAL DATOS IMPORTADOS'!AH269","v":0},{"$f":"'[1]HOJA GENERAL DATOS IMPORTADOS'!AI269","v":0}]
[{"$f":"'[1]HOJA GENERAL DATOS IMPORTADOS'!A270","v":0},{"$f":"'[1]HOJA GENERAL DATOS IMPORTADOS'!B270","v":0},{"$f":"'[1]HOJA GENERAL DATOS IMPORTADOS'!C270","v":0},{"$f":"'[1]HOJA GENERAL DATOS IMPORTADOS'!D270","v":0},{"$f":"'[1]HOJA GENERAL DATOS IMPORTADOS'!E270","v":0},{"$f":"'[1]HOJA GENERAL DATOS IMPORTADOS'!F270","v":0},{"$f":"'[1]HOJA GENERAL DATOS IMPORTADOS'!G270","v":0},{"$f":"'[1]HOJA GENERAL DATOS IMPORTADOS'!H270","v":0},{"$f":"'[1]HOJA GENERAL DATOS IMPORTADOS'!I270","v":0},{"$f":"'[1]HOJA GENERAL DATOS IMPORTADOS'!J270","v":0},{"$f":"'[1]HOJA GENERAL DATOS IMPORTADOS'!K270","v":0},{"$f":"'[1]HOJA GENERAL DATOS IMPORTADOS'!L270","v":0},{"$f":"'[1]HOJA GENERAL DATOS IMPORTADOS'!M270","v":0},{"$f":"'[1]HOJA GENERAL DATOS IMPORTADOS'!N270","v":0},{"$f":"'[1]HOJA GENERAL DATOS IMPORTADOS'!O270","v":0},{"$f":"'[1]HOJA GENERAL DATOS IMPORTADOS'!P270","v":0},{"$f":"'[1]HOJA GENERAL DATOS IMPORTADOS'!Q270","v":0},{"$f":"'[1]HOJA GENERAL DATOS IMPORTADOS'!R270","v":0},{"$f":"'[1]HOJA GENERAL DATOS IMPORTADOS'!S270","v":0},{"$f":"'[1]HOJA GENERAL DATOS IMPORTADOS'!T270","v":0},{"$f":"'[1]HOJA GENERAL DATOS IMPORTADOS'!U270","v":0},{"$f":"'[1]HOJA GENERAL DATOS IMPORTADOS'!V270","v":0},{"$f":"'[1]HOJA GENERAL DATOS IMPORTADOS'!W270","v":0},{"$f":"'[1]HOJA GENERAL DATOS IMPORTADOS'!X270","v":0},{"$f":"'[1]HOJA GENERAL DATOS IMPORTADOS'!Y270","v":0},{"$f":"'[1]HOJA GENERAL DATOS IMPORTADOS'!Z270","v":0},{"$f":"'[1]HOJA GENERAL DATOS IMPORTADOS'!AA270","v":0},{"$f":"'[1]HOJA GENERAL DATOS IMPORTADOS'!AB270","v":0},{"$f":"'[1]HOJA GENERAL DATOS IMPORTADOS'!AC270","v":0},{"$f":"'[1]HOJA GENERAL DATOS IMPORTADOS'!AD270","v":0},{"$f":"'[1]HOJA GENERAL DATOS IMPORTADOS'!AE270","v":0},{"$f":"'[1]HOJA GENERAL DATOS IMPORTADOS'!AF270","v":0},{"$f":"'[1]HOJA GENERAL DATOS IMPORTADOS'!AG270","v":0},{"$f":"'[1]HOJA GENERAL DATOS IMPORTADOS'!AH270","v":0},{"$f":"'[1]HOJA GENERAL DATOS IMPORTADOS'!AI270","v":0}]
[{"$f":"'[1]HOJA GENERAL DATOS IMPORTADOS'!A271","v":0},{"$f":"'[1]HOJA GENERAL DATOS IMPORTADOS'!B271","v":0},{"$f":"'[1]HOJA GENERAL DATOS IMPORTADOS'!C271","v":0},{"$f":"'[1]HOJA GENERAL DATOS IMPORTADOS'!D271","v":0},{"$f":"'[1]HOJA GENERAL DATOS IMPORTADOS'!E271","v":0},{"$f":"'[1]HOJA GENERAL DATOS IMPORTADOS'!F271","v":0},{"$f":"'[1]HOJA GENERAL DATOS IMPORTADOS'!G271","v":0},{"$f":"'[1]HOJA GENERAL DATOS IMPORTADOS'!H271","v":0},{"$f":"'[1]HOJA GENERAL DATOS IMPORTADOS'!I271","v":0},{"$f":"'[1]HOJA GENERAL DATOS IMPORTADOS'!J271","v":0},{"$f":"'[1]HOJA GENERAL DATOS IMPORTADOS'!K271","v":0},{"$f":"'[1]HOJA GENERAL DATOS IMPORTADOS'!L271","v":0},{"$f":"'[1]HOJA GENERAL DATOS IMPORTADOS'!M271","v":0},{"$f":"'[1]HOJA GENERAL DATOS IMPORTADOS'!N271","v":0},{"$f":"'[1]HOJA GENERAL DATOS IMPORTADOS'!O271","v":0},{"$f":"'[1]HOJA GENERAL DATOS IMPORTADOS'!P271","v":0},{"$f":"'[1]HOJA GENERAL DATOS IMPORTADOS'!Q271","v":0},{"$f":"'[1]HOJA GENERAL DATOS IMPORTADOS'!R271","v":0},{"$f":"'[1]HOJA GENERAL DATOS IMPORTADOS'!S271","v":0},{"$f":"'[1]HOJA GENERAL DATOS IMPORTADOS'!T271","v":0},{"$f":"'[1]HOJA GENERAL DATOS IMPORTADOS'!U271","v":0},{"$f":"'[1]HOJA GENERAL DATOS IMPORTADOS'!V271","v":0},{"$f":"'[1]HOJA GENERAL DATOS IMPORTADOS'!W271","v":0},{"$f":"'[1]HOJA GENERAL DATOS IMPORTADOS'!X271","v":0},{"$f":"'[1]HOJA GENERAL DATOS IMPORTADOS'!Y271","v":0},{"$f":"'[1]HOJA GENERAL DATOS IMPORTADOS'!Z271","v":0},{"$f":"'[1]HOJA GENERAL DATOS IMPORTADOS'!AA271","v":0},{"$f":"'[1]HOJA GENERAL DATOS IMPORTADOS'!AB271","v":0},{"$f":"'[1]HOJA GENERAL DATOS IMPORTADOS'!AC271","v":0},{"$f":"'[1]HOJA GENERAL DATOS IMPORTADOS'!AD271","v":0},{"$f":"'[1]HOJA GENERAL DATOS IMPORTADOS'!AE271","v":0},{"$f":"'[1]HOJA GENERAL DATOS IMPORTADOS'!AF271","v":0},{"$f":"'[1]HOJA GENERAL DATOS IMPORTADOS'!AG271","v":0},{"$f":"'[1]HOJA GENERAL DATOS IMPORTADOS'!AH271","v":0},{"$f":"'[1]HOJA GENERAL DATOS IMPORTADOS'!AI271","v":0}]
[{"$f":"'[1]HOJA GENERAL DATOS IMPORTADOS'!A272","v":0},{"$f":"'[1]HOJA GENERAL DATOS IMPORTADOS'!B272","v":0},{"$f":"'[1]HOJA GENERAL DATOS IMPORTADOS'!C272","v":0},{"$f":"'[1]HOJA GENERAL DATOS IMPORTADOS'!D272","v":0},{"$f":"'[1]HOJA GENERAL DATOS IMPORTADOS'!E272","v":0},{"$f":"'[1]HOJA GENERAL DATOS IMPORTADOS'!F272","v":0},{"$f":"'[1]HOJA GENERAL DATOS IMPORTADOS'!G272","v":0},{"$f":"'[1]HOJA GENERAL DATOS IMPORTADOS'!H272","v":0},{"$f":"'[1]HOJA GENERAL DATOS IMPORTADOS'!I272","v":0},{"$f":"'[1]HOJA GENERAL DATOS IMPORTADOS'!J272","v":0},{"$f":"'[1]HOJA GENERAL DATOS IMPORTADOS'!K272","v":0},{"$f":"'[1]HOJA GENERAL DATOS IMPORTADOS'!L272","v":0},{"$f":"'[1]HOJA GENERAL DATOS IMPORTADOS'!M272","v":0},{"$f":"'[1]HOJA GENERAL DATOS IMPORTADOS'!N272","v":0},{"$f":"'[1]HOJA GENERAL DATOS IMPORTADOS'!O272","v":0},{"$f":"'[1]HOJA GENERAL DATOS IMPORTADOS'!P272","v":0},{"$f":"'[1]HOJA GENERAL DATOS IMPORTADOS'!Q272","v":0},{"$f":"'[1]HOJA GENERAL DATOS IMPORTADOS'!R272","v":0},{"$f":"'[1]HOJA GENERAL DATOS IMPORTADOS'!S272","v":0},{"$f":"'[1]HOJA GENERAL DATOS IMPORTADOS'!T272","v":0},{"$f":"'[1]HOJA GENERAL DATOS IMPORTADOS'!U272","v":0},{"$f":"'[1]HOJA GENERAL DATOS IMPORTADOS'!V272","v":0},{"$f":"'[1]HOJA GENERAL DATOS IMPORTADOS'!W272","v":0},{"$f":"'[1]HOJA GENERAL DATOS IMPORTADOS'!X272","v":0},{"$f":"'[1]HOJA GENERAL DATOS IMPORTADOS'!Y272","v":0},{"$f":"'[1]HOJA GENERAL DATOS IMPORTADOS'!Z272","v":0},{"$f":"'[1]HOJA GENERAL DATOS IMPORTADOS'!AA272","v":0},{"$f":"'[1]HOJA GENERAL DATOS IMPORTADOS'!AB272","v":0},{"$f":"'[1]HOJA GENERAL DATOS IMPORTADOS'!AC272","v":0},{"$f":"'[1]HOJA GENERAL DATOS IMPORTADOS'!AD272","v":0},{"$f":"'[1]HOJA GENERAL DATOS IMPORTADOS'!AE272","v":0},{"$f":"'[1]HOJA GENERAL DATOS IMPORTADOS'!AF272","v":0},{"$f":"'[1]HOJA GENERAL DATOS IMPORTADOS'!AG272","v":0},{"$f":"'[1]HOJA GENERAL DATOS IMPORTADOS'!AH272","v":0},{"$f":"'[1]HOJA GENERAL DATOS IMPORTADOS'!AI272","v":0}]
[{"$f":"'[1]HOJA GENERAL DATOS IMPORTADOS'!A273","v":0},{"$f":"'[1]HOJA GENERAL DATOS IMPORTADOS'!B273","v":0},{"$f":"'[1]HOJA GENERAL DATOS IMPORTADOS'!C273","v":0},{"$f":"'[1]HOJA GENERAL DATOS IMPORTADOS'!D273","v":0},{"$f":"'[1]HOJA GENERAL DATOS IMPORTADOS'!E273","v":0},{"$f":"'[1]HOJA GENERAL DATOS IMPORTADOS'!F273","v":0},{"$f":"'[1]HOJA GENERAL DATOS IMPORTADOS'!G273","v":0},{"$f":"'[1]HOJA GENERAL DATOS IMPORTADOS'!H273","v":0},{"$f":"'[1]HOJA GENERAL DATOS IMPORTADOS'!I273","v":0},{"$f":"'[1]HOJA GENERAL DATOS IMPORTADOS'!J273","v":0},{"$f":"'[1]HOJA GENERAL DATOS IMPORTADOS'!K273","v":0},{"$f":"'[1]HOJA GENERAL DATOS IMPORTADOS'!L273","v":0},{"$f":"'[1]HOJA GENERAL DATOS IMPORTADOS'!M273","v":0},{"$f":"'[1]HOJA GENERAL DATOS IMPORTADOS'!N273","v":0},{"$f":"'[1]HOJA GENERAL DATOS IMPORTADOS'!O273","v":0},{"$f":"'[1]HOJA GENERAL DATOS IMPORTADOS'!P273","v":0},{"$f":"'[1]HOJA GENERAL DATOS IMPORTADOS'!Q273","v":0},{"$f":"'[1]HOJA GENERAL DATOS IMPORTADOS'!R273","v":0},{"$f":"'[1]HOJA GENERAL DATOS IMPORTADOS'!S273","v":0},{"$f":"'[1]HOJA GENERAL DATOS IMPORTADOS'!T273","v":0},{"$f":"'[1]HOJA GENERAL DATOS IMPORTADOS'!U273","v":0},{"$f":"'[1]HOJA GENERAL DATOS IMPORTADOS'!V273","v":0},{"$f":"'[1]HOJA GENERAL DATOS IMPORTADOS'!W273","v":0},{"$f":"'[1]HOJA GENERAL DATOS IMPORTADOS'!X273","v":0},{"$f":"'[1]HOJA GENERAL DATOS IMPORTADOS'!Y273","v":0},{"$f":"'[1]HOJA GENERAL DATOS IMPORTADOS'!Z273","v":0},{"$f":"'[1]HOJA GENERAL DATOS IMPORTADOS'!AA273","v":0},{"$f":"'[1]HOJA GENERAL DATOS IMPORTADOS'!AB273","v":0},{"$f":"'[1]HOJA GENERAL DATOS IMPORTADOS'!AC273","v":0},{"$f":"'[1]HOJA GENERAL DATOS IMPORTADOS'!AD273","v":0},{"$f":"'[1]HOJA GENERAL DATOS IMPORTADOS'!AE273","v":0},{"$f":"'[1]HOJA GENERAL DATOS IMPORTADOS'!AF273","v":0},{"$f":"'[1]HOJA GENERAL DATOS IMPORTADOS'!AG273","v":0},{"$f":"'[1]HOJA GENERAL DATOS IMPORTADOS'!AH273","v":0},{"$f":"'[1]HOJA GENERAL DATOS IMPORTADOS'!AI273","v":0}]
[{"$f":"'[1]HOJA GENERAL DATOS IMPORTADOS'!A274","v":0},{"$f":"'[1]HOJA GENERAL DATOS IMPORTADOS'!B274","v":0},{"$f":"'[1]HOJA GENERAL DATOS IMPORTADOS'!C274","v":0},{"$f":"'[1]HOJA GENERAL DATOS IMPORTADOS'!D274","v":0},{"$f":"'[1]HOJA GENERAL DATOS IMPORTADOS'!E274","v":0},{"$f":"'[1]HOJA GENERAL DATOS IMPORTADOS'!F274","v":0},{"$f":"'[1]HOJA GENERAL DATOS IMPORTADOS'!G274","v":0},{"$f":"'[1]HOJA GENERAL DATOS IMPORTADOS'!H274","v":0},{"$f":"'[1]HOJA GENERAL DATOS IMPORTADOS'!I274","v":0},{"$f":"'[1]HOJA GENERAL DATOS IMPORTADOS'!J274","v":0},{"$f":"'[1]HOJA GENERAL DATOS IMPORTADOS'!K274","v":0},{"$f":"'[1]HOJA GENERAL DATOS IMPORTADOS'!L274","v":0},{"$f":"'[1]HOJA GENERAL DATOS IMPORTADOS'!M274","v":0},{"$f":"'[1]HOJA GENERAL DATOS IMPORTADOS'!N274","v":0},{"$f":"'[1]HOJA GENERAL DATOS IMPORTADOS'!O274","v":0},{"$f":"'[1]HOJA GENERAL DATOS IMPORTADOS'!P274","v":0},{"$f":"'[1]HOJA GENERAL DATOS IMPORTADOS'!Q274","v":0},{"$f":"'[1]HOJA GENERAL DATOS IMPORTADOS'!R274","v":0},{"$f":"'[1]HOJA GENERAL DATOS IMPORTADOS'!S274","v":0},{"$f":"'[1]HOJA GENERAL DATOS IMPORTADOS'!T274","v":0},{"$f":"'[1]HOJA GENERAL DATOS IMPORTADOS'!U274","v":0},{"$f":"'[1]HOJA GENERAL DATOS IMPORTADOS'!V274","v":0},{"$f":"'[1]HOJA GENERAL DATOS IMPORTADOS'!W274","v":0},{"$f":"'[1]HOJA GENERAL DATOS IMPORTADOS'!X274","v":0},{"$f":"'[1]HOJA GENERAL DATOS IMPORTADOS'!Y274","v":0},{"$f":"'[1]HOJA GENERAL DATOS IMPORTADOS'!Z274","v":0},{"$f":"'[1]HOJA GENERAL DATOS IMPORTADOS'!AA274","v":0},{"$f":"'[1]HOJA GENERAL DATOS IMPORTADOS'!AB274","v":0},{"$f":"'[1]HOJA GENERAL DATOS IMPORTADOS'!AC274","v":0},{"$f":"'[1]HOJA GENERAL DATOS IMPORTADOS'!AD274","v":0},{"$f":"'[1]HOJA GENERAL DATOS IMPORTADOS'!AE274","v":0},{"$f":"'[1]HOJA GENERAL DATOS IMPORTADOS'!AF274","v":0},{"$f":"'[1]HOJA GENERAL DATOS IMPORTADOS'!AG274","v":0},{"$f":"'[1]HOJA GENERAL DATOS IMPORTADOS'!AH274","v":0},{"$f":"'[1]HOJA GENERAL DATOS IMPORTADOS'!AI274","v":0}]
[{"$f":"'[1]HOJA GENERAL DATOS IMPORTADOS'!A275","v":0},{"$f":"'[1]HOJA GENERAL DATOS IMPORTADOS'!B275","v":0},{"$f":"'[1]HOJA GENERAL DATOS IMPORTADOS'!C275","v":0},{"$f":"'[1]HOJA GENERAL DATOS IMPORTADOS'!D275","v":0},{"$f":"'[1]HOJA GENERAL DATOS IMPORTADOS'!E275","v":0},{"$f":"'[1]HOJA GENERAL DATOS IMPORTADOS'!F275","v":0},{"$f":"'[1]HOJA GENERAL DATOS IMPORTADOS'!G275","v":0},{"$f":"'[1]HOJA GENERAL DATOS IMPORTADOS'!H275","v":0},{"$f":"'[1]HOJA GENERAL DATOS IMPORTADOS'!I275","v":0},{"$f":"'[1]HOJA GENERAL DATOS IMPORTADOS'!J275","v":0},{"$f":"'[1]HOJA GENERAL DATOS IMPORTADOS'!K275","v":0},{"$f":"'[1]HOJA GENERAL DATOS IMPORTADOS'!L275","v":0},{"$f":"'[1]HOJA GENERAL DATOS IMPORTADOS'!M275","v":0},{"$f":"'[1]HOJA GENERAL DATOS IMPORTADOS'!N275","v":0},{"$f":"'[1]HOJA GENERAL DATOS IMPORTADOS'!O275","v":0},{"$f":"'[1]HOJA GENERAL DATOS IMPORTADOS'!P275","v":0},{"$f":"'[1]HOJA GENERAL DATOS IMPORTADOS'!Q275","v":0},{"$f":"'[1]HOJA GENERAL DATOS IMPORTADOS'!R275","v":0},{"$f":"'[1]HOJA GENERAL DATOS IMPORTADOS'!S275","v":0},{"$f":"'[1]HOJA GENERAL DATOS IMPORTADOS'!T275","v":0},{"$f":"'[1]HOJA GENERAL DATOS IMPORTADOS'!U275","v":0},{"$f":"'[1]HOJA GENERAL DATOS IMPORTADOS'!V275","v":0},{"$f":"'[1]HOJA GENERAL DATOS IMPORTADOS'!W275","v":0},{"$f":"'[1]HOJA GENERAL DATOS IMPORTADOS'!X275","v":0},{"$f":"'[1]HOJA GENERAL DATOS IMPORTADOS'!Y275","v":0},{"$f":"'[1]HOJA GENERAL DATOS IMPORTADOS'!Z275","v":0},{"$f":"'[1]HOJA GENERAL DATOS IMPORTADOS'!AA275","v":0},{"$f":"'[1]HOJA GENERAL DATOS IMPORTADOS'!AB275","v":0},{"$f":"'[1]HOJA GENERAL DATOS IMPORTADOS'!AC275","v":0},{"$f":"'[1]HOJA GENERAL DATOS IMPORTADOS'!AD275","v":0},{"$f":"'[1]HOJA GENERAL DATOS IMPORTADOS'!AE275","v":0},{"$f":"'[1]HOJA GENERAL DATOS IMPORTADOS'!AF275","v":0},{"$f":"'[1]HOJA GENERAL DATOS IMPORTADOS'!AG275","v":0},{"$f":"'[1]HOJA GENERAL DATOS IMPORTADOS'!AH275","v":0},{"$f":"'[1]HOJA GENERAL DATOS IMPORTADOS'!AI275","v":0}]
[{"$f":"'[1]HOJA GENERAL DATOS IMPORTADOS'!A276","v":0},{"$f":"'[1]HOJA GENERAL DATOS IMPORTADOS'!B276","v":0},{"$f":"'[1]HOJA GENERAL DATOS IMPORTADOS'!C276","v":0},{"$f":"'[1]HOJA GENERAL DATOS IMPORTADOS'!D276","v":0},{"$f":"'[1]HOJA GENERAL DATOS IMPORTADOS'!E276","v":0},{"$f":"'[1]HOJA GENERAL DATOS IMPORTADOS'!F276","v":0},{"$f":"'[1]HOJA GENERAL DATOS IMPORTADOS'!G276","v":0},{"$f":"'[1]HOJA GENERAL DATOS IMPORTADOS'!H276","v":0},{"$f":"'[1]HOJA GENERAL DATOS IMPORTADOS'!I276","v":0},{"$f":"'[1]HOJA GENERAL DATOS IMPORTADOS'!J276","v":0},{"$f":"'[1]HOJA GENERAL DATOS IMPORTADOS'!K276","v":0},{"$f":"'[1]HOJA GENERAL DATOS IMPORTADOS'!L276","v":0},{"$f":"'[1]HOJA GENERAL DATOS IMPORTADOS'!M276","v":0},{"$f":"'[1]HOJA GENERAL DATOS IMPORTADOS'!N276","v":0},{"$f":"'[1]HOJA GENERAL DATOS IMPORTADOS'!O276","v":0},{"$f":"'[1]HOJA GENERAL DATOS IMPORTADOS'!P276","v":0},{"$f":"'[1]HOJA GENERAL DATOS IMPORTADOS'!Q276","v":0},{"$f":"'[1]HOJA GENERAL DATOS IMPORTADOS'!R276","v":0},{"$f":"'[1]HOJA GENERAL DATOS IMPORTADOS'!S276","v":0},{"$f":"'[1]HOJA GENERAL DATOS IMPORTADOS'!T276","v":0},{"$f":"'[1]HOJA GENERAL DATOS IMPORTADOS'!U276","v":0},{"$f":"'[1]HOJA GENERAL DATOS IMPORTADOS'!V276","v":0},{"$f":"'[1]HOJA GENERAL DATOS IMPORTADOS'!W276","v":0},{"$f":"'[1]HOJA GENERAL DATOS IMPORTADOS'!X276","v":0},{"$f":"'[1]HOJA GENERAL DATOS IMPORTADOS'!Y276","v":0},{"$f":"'[1]HOJA GENERAL DATOS IMPORTADOS'!Z276","v":0},{"$f":"'[1]HOJA GENERAL DATOS IMPORTADOS'!AA276","v":0},{"$f":"'[1]HOJA GENERAL DATOS IMPORTADOS'!AB276","v":0},{"$f":"'[1]HOJA GENERAL DATOS IMPORTADOS'!AC276","v":0},{"$f":"'[1]HOJA GENERAL DATOS IMPORTADOS'!AD276","v":0},{"$f":"'[1]HOJA GENERAL DATOS IMPORTADOS'!AE276","v":0},{"$f":"'[1]HOJA GENERAL DATOS IMPORTADOS'!AF276","v":0},{"$f":"'[1]HOJA GENERAL DATOS IMPORTADOS'!AG276","v":0},{"$f":"'[1]HOJA GENERAL DATOS IMPORTADOS'!AH276","v":0},{"$f":"'[1]HOJA GENERAL DATOS IMPORTADOS'!AI276","v":0}]
[{"$f":"'[1]HOJA GENERAL DATOS IMPORTADOS'!A277","v":0},{"$f":"'[1]HOJA GENERAL DATOS IMPORTADOS'!B277","v":0},{"$f":"'[1]HOJA GENERAL DATOS IMPORTADOS'!C277","v":0},{"$f":"'[1]HOJA GENERAL DATOS IMPORTADOS'!D277","v":0},{"$f":"'[1]HOJA GENERAL DATOS IMPORTADOS'!E277","v":0},{"$f":"'[1]HOJA GENERAL DATOS IMPORTADOS'!F277","v":0},{"$f":"'[1]HOJA GENERAL DATOS IMPORTADOS'!G277","v":0},{"$f":"'[1]HOJA GENERAL DATOS IMPORTADOS'!H277","v":0},{"$f":"'[1]HOJA GENERAL DATOS IMPORTADOS'!I277","v":0},{"$f":"'[1]HOJA GENERAL DATOS IMPORTADOS'!J277","v":0},{"$f":"'[1]HOJA GENERAL DATOS IMPORTADOS'!K277","v":0},{"$f":"'[1]HOJA GENERAL DATOS IMPORTADOS'!L277","v":0},{"$f":"'[1]HOJA GENERAL DATOS IMPORTADOS'!M277","v":0},{"$f":"'[1]HOJA GENERAL DATOS IMPORTADOS'!N277","v":0},{"$f":"'[1]HOJA GENERAL DATOS IMPORTADOS'!O277","v":0},{"$f":"'[1]HOJA GENERAL DATOS IMPORTADOS'!P277","v":0},{"$f":"'[1]HOJA GENERAL DATOS IMPORTADOS'!Q277","v":0},{"$f":"'[1]HOJA GENERAL DATOS IMPORTADOS'!R277","v":0},{"$f":"'[1]HOJA GENERAL DATOS IMPORTADOS'!S277","v":0},{"$f":"'[1]HOJA GENERAL DATOS IMPORTADOS'!T277","v":0},{"$f":"'[1]HOJA GENERAL DATOS IMPORTADOS'!U277","v":0},{"$f":"'[1]HOJA GENERAL DATOS IMPORTADOS'!V277","v":0},{"$f":"'[1]HOJA GENERAL DATOS IMPORTADOS'!W277","v":0},{"$f":"'[1]HOJA GENERAL DATOS IMPORTADOS'!X277","v":0},{"$f":"'[1]HOJA GENERAL DATOS IMPORTADOS'!Y277","v":0},{"$f":"'[1]HOJA GENERAL DATOS IMPORTADOS'!Z277","v":0},{"$f":"'[1]HOJA GENERAL DATOS IMPORTADOS'!AA277","v":0},{"$f":"'[1]HOJA GENERAL DATOS IMPORTADOS'!AB277","v":0},{"$f":"'[1]HOJA GENERAL DATOS IMPORTADOS'!AC277","v":0},{"$f":"'[1]HOJA GENERAL DATOS IMPORTADOS'!AD277","v":0},{"$f":"'[1]HOJA GENERAL DATOS IMPORTADOS'!AE277","v":0},{"$f":"'[1]HOJA GENERAL DATOS IMPORTADOS'!AF277","v":0},{"$f":"'[1]HOJA GENERAL DATOS IMPORTADOS'!AG277","v":0},{"$f":"'[1]HOJA GENERAL DATOS IMPORTADOS'!AH277","v":0},{"$f":"'[1]HOJA GENERAL DATOS IMPORTADOS'!AI277","v":0}]
[{"$f":"'[1]HOJA GENERAL DATOS IMPORTADOS'!A278","v":0},{"$f":"'[1]HOJA GENERAL DATOS IMPORTADOS'!B278","v":0},{"$f":"'[1]HOJA GENERAL DATOS IMPORTADOS'!C278","v":0},{"$f":"'[1]HOJA GENERAL DATOS IMPORTADOS'!D278","v":0},{"$f":"'[1]HOJA GENERAL DATOS IMPORTADOS'!E278","v":0},{"$f":"'[1]HOJA GENERAL DATOS IMPORTADOS'!F278","v":0},{"$f":"'[1]HOJA GENERAL DATOS IMPORTADOS'!G278","v":0},{"$f":"'[1]HOJA GENERAL DATOS IMPORTADOS'!H278","v":0},{"$f":"'[1]HOJA GENERAL DATOS IMPORTADOS'!I278","v":0},{"$f":"'[1]HOJA GENERAL DATOS IMPORTADOS'!J278","v":0},{"$f":"'[1]HOJA GENERAL DATOS IMPORTADOS'!K278","v":0},{"$f":"'[1]HOJA GENERAL DATOS IMPORTADOS'!L278","v":0},{"$f":"'[1]HOJA GENERAL DATOS IMPORTADOS'!M278","v":0},{"$f":"'[1]HOJA GENERAL DATOS IMPORTADOS'!N278","v":0},{"$f":"'[1]HOJA GENERAL DATOS IMPORTADOS'!O278","v":0},{"$f":"'[1]HOJA GENERAL DATOS IMPORTADOS'!P278","v":0},{"$f":"'[1]HOJA GENERAL DATOS IMPORTADOS'!Q278","v":0},{"$f":"'[1]HOJA GENERAL DATOS IMPORTADOS'!R278","v":0},{"$f":"'[1]HOJA GENERAL DATOS IMPORTADOS'!S278","v":0},{"$f":"'[1]HOJA GENERAL DATOS IMPORTADOS'!T278","v":0},{"$f":"'[1]HOJA GENERAL DATOS IMPORTADOS'!U278","v":0},{"$f":"'[1]HOJA GENERAL DATOS IMPORTADOS'!V278","v":0},{"$f":"'[1]HOJA GENERAL DATOS IMPORTADOS'!W278","v":0},{"$f":"'[1]HOJA GENERAL DATOS IMPORTADOS'!X278","v":0},{"$f":"'[1]HOJA GENERAL DATOS IMPORTADOS'!Y278","v":0},{"$f":"'[1]HOJA GENERAL DATOS IMPORTADOS'!Z278","v":0},{"$f":"'[1]HOJA GENERAL DATOS IMPORTADOS'!AA278","v":0},{"$f":"'[1]HOJA GENERAL DATOS IMPORTADOS'!AB278","v":0},{"$f":"'[1]HOJA GENERAL DATOS IMPORTADOS'!AC278","v":0},{"$f":"'[1]HOJA GENERAL DATOS IMPORTADOS'!AD278","v":0},{"$f":"'[1]HOJA GENERAL DATOS IMPORTADOS'!AE278","v":0},{"$f":"'[1]HOJA GENERAL DATOS IMPORTADOS'!AF278","v":0},{"$f":"'[1]HOJA GENERAL DATOS IMPORTADOS'!AG278","v":0},{"$f":"'[1]HOJA GENERAL DATOS IMPORTADOS'!AH278","v":0},{"$f":"'[1]HOJA GENERAL DATOS IMPORTADOS'!AI278","v":0}]
[{"$f":"'[1]HOJA GENERAL DATOS IMPORTADOS'!A279","v":0},{"$f":"'[1]HOJA GENERAL DATOS IMPORTADOS'!B279","v":0},{"$f":"'[1]HOJA GENERAL DATOS IMPORTADOS'!C279","v":0},{"$f":"'[1]HOJA GENERAL DATOS IMPORTADOS'!D279","v":0},{"$f":"'[1]HOJA GENERAL DATOS IMPORTADOS'!E279","v":0},{"$f":"'[1]HOJA GENERAL DATOS IMPORTADOS'!F279","v":0},{"$f":"'[1]HOJA GENERAL DATOS IMPORTADOS'!G279","v":0},{"$f":"'[1]HOJA GENERAL DATOS IMPORTADOS'!H279","v":0},{"$f":"'[1]HOJA GENERAL DATOS IMPORTADOS'!I279","v":0},{"$f":"'[1]HOJA GENERAL DATOS IMPORTADOS'!J279","v":0},{"$f":"'[1]HOJA GENERAL DATOS IMPORTADOS'!K279","v":0},{"$f":"'[1]HOJA GENERAL DATOS IMPORTADOS'!L279","v":0},{"$f":"'[1]HOJA GENERAL DATOS IMPORTADOS'!M279","v":0},{"$f":"'[1]HOJA GENERAL DATOS IMPORTADOS'!N279","v":0},{"$f":"'[1]HOJA GENERAL DATOS IMPORTADOS'!O279","v":0},{"$f":"'[1]HOJA GENERAL DATOS IMPORTADOS'!P279","v":0},{"$f":"'[1]HOJA GENERAL DATOS IMPORTADOS'!Q279","v":0},{"$f":"'[1]HOJA GENERAL DATOS IMPORTADOS'!R279","v":0},{"$f":"'[1]HOJA GENERAL DATOS IMPORTADOS'!S279","v":0},{"$f":"'[1]HOJA GENERAL DATOS IMPORTADOS'!T279","v":0},{"$f":"'[1]HOJA GENERAL DATOS IMPORTADOS'!U279","v":0},{"$f":"'[1]HOJA GENERAL DATOS IMPORTADOS'!V279","v":0},{"$f":"'[1]HOJA GENERAL DATOS IMPORTADOS'!W279","v":0},{"$f":"'[1]HOJA GENERAL DATOS IMPORTADOS'!X279","v":0},{"$f":"'[1]HOJA GENERAL DATOS IMPORTADOS'!Y279","v":0},{"$f":"'[1]HOJA GENERAL DATOS IMPORTADOS'!Z279","v":0},{"$f":"'[1]HOJA GENERAL DATOS IMPORTADOS'!AA279","v":0},{"$f":"'[1]HOJA GENERAL DATOS IMPORTADOS'!AB279","v":0},{"$f":"'[1]HOJA GENERAL DATOS IMPORTADOS'!AC279","v":0},{"$f":"'[1]HOJA GENERAL DATOS IMPORTADOS'!AD279","v":0},{"$f":"'[1]HOJA GENERAL DATOS IMPORTADOS'!AE279","v":0},{"$f":"'[1]HOJA GENERAL DATOS IMPORTADOS'!AF279","v":0},{"$f":"'[1]HOJA GENERAL DATOS IMPORTADOS'!AG279","v":0},{"$f":"'[1]HOJA GENERAL DATOS IMPORTADOS'!AH279","v":0},{"$f":"'[1]HOJA GENERAL DATOS IMPORTADOS'!AI279","v":0}]
[{"$f":"'[1]HOJA GENERAL DATOS IMPORTADOS'!A280","v":0},{"$f":"'[1]HOJA GENERAL DATOS IMPORTADOS'!B280","v":0},{"$f":"'[1]HOJA GENERAL DATOS IMPORTADOS'!C280","v":0},{"$f":"'[1]HOJA GENERAL DATOS IMPORTADOS'!D280","v":0},{"$f":"'[1]HOJA GENERAL DATOS IMPORTADOS'!E280","v":0},{"$f":"'[1]HOJA GENERAL DATOS IMPORTADOS'!F280","v":0},{"$f":"'[1]HOJA GENERAL DATOS IMPORTADOS'!G280","v":0},{"$f":"'[1]HOJA GENERAL DATOS IMPORTADOS'!H280","v":0},{"$f":"'[1]HOJA GENERAL DATOS IMPORTADOS'!I280","v":0},{"$f":"'[1]HOJA GENERAL DATOS IMPORTADOS'!J280","v":0},{"$f":"'[1]HOJA GENERAL DATOS IMPORTADOS'!K280","v":0},{"$f":"'[1]HOJA GENERAL DATOS IMPORTADOS'!L280","v":0},{"$f":"'[1]HOJA GENERAL DATOS IMPORTADOS'!M280","v":0},{"$f":"'[1]HOJA GENERAL DATOS IMPORTADOS'!N280","v":0},{"$f":"'[1]HOJA GENERAL DATOS IMPORTADOS'!O280","v":0},{"$f":"'[1]HOJA GENERAL DATOS IMPORTADOS'!P280","v":0},{"$f":"'[1]HOJA GENERAL DATOS IMPORTADOS'!Q280","v":0},{"$f":"'[1]HOJA GENERAL DATOS IMPORTADOS'!R280","v":0},{"$f":"'[1]HOJA GENERAL DATOS IMPORTADOS'!S280","v":0},{"$f":"'[1]HOJA GENERAL DATOS IMPORTADOS'!T280","v":0},{"$f":"'[1]HOJA GENERAL DATOS IMPORTADOS'!U280","v":0},{"$f":"'[1]HOJA GENERAL DATOS IMPORTADOS'!V280","v":0},{"$f":"'[1]HOJA GENERAL DATOS IMPORTADOS'!W280","v":0},{"$f":"'[1]HOJA GENERAL DATOS IMPORTADOS'!X280","v":0},{"$f":"'[1]HOJA GENERAL DATOS IMPORTADOS'!Y280","v":0},{"$f":"'[1]HOJA GENERAL DATOS IMPORTADOS'!Z280","v":0},{"$f":"'[1]HOJA GENERAL DATOS IMPORTADOS'!AA280","v":0},{"$f":"'[1]HOJA GENERAL DATOS IMPORTADOS'!AB280","v":0},{"$f":"'[1]HOJA GENERAL DATOS IMPORTADOS'!AC280","v":0},{"$f":"'[1]HOJA GENERAL DATOS IMPORTADOS'!AD280","v":0},{"$f":"'[1]HOJA GENERAL DATOS IMPORTADOS'!AE280","v":0},{"$f":"'[1]HOJA GENERAL DATOS IMPORTADOS'!AF280","v":0},{"$f":"'[1]HOJA GENERAL DATOS IMPORTADOS'!AG280","v":0},{"$f":"'[1]HOJA GENERAL DATOS IMPORTADOS'!AH280","v":0},{"$f":"'[1]HOJA GENERAL DATOS IMPORTADOS'!AI280","v":0}]
[{"$f":"'[1]HOJA GENERAL DATOS IMPORTADOS'!A281","v":0},{"$f":"'[1]HOJA GENERAL DATOS IMPORTADOS'!B281","v":0},{"$f":"'[1]HOJA GENERAL DATOS IMPORTADOS'!C281","v":0},{"$f":"'[1]HOJA GENERAL DATOS IMPORTADOS'!D281","v":0},{"$f":"'[1]HOJA GENERAL DATOS IMPORTADOS'!E281","v":0},{"$f":"'[1]HOJA GENERAL DATOS IMPORTADOS'!F281","v":0},{"$f":"'[1]HOJA GENERAL DATOS IMPORTADOS'!G281","v":0},{"$f":"'[1]HOJA GENERAL DATOS IMPORTADOS'!H281","v":0},{"$f":"'[1]HOJA GENERAL DATOS IMPORTADOS'!I281","v":0},{"$f":"'[1]HOJA GENERAL DATOS IMPORTADOS'!J281","v":0},{"$f":"'[1]HOJA GENERAL DATOS IMPORTADOS'!K281","v":0},{"$f":"'[1]HOJA GENERAL DATOS IMPORTADOS'!L281","v":0},{"$f":"'[1]HOJA GENERAL DATOS IMPORTADOS'!M281","v":0},{"$f":"'[1]HOJA GENERAL DATOS IMPORTADOS'!N281","v":0},{"$f":"'[1]HOJA GENERAL DATOS IMPORTADOS'!O281","v":0},{"$f":"'[1]HOJA GENERAL DATOS IMPORTADOS'!P281","v":0},{"$f":"'[1]HOJA GENERAL DATOS IMPORTADOS'!Q281","v":0},{"$f":"'[1]HOJA GENERAL DATOS IMPORTADOS'!R281","v":0},{"$f":"'[1]HOJA GENERAL DATOS IMPORTADOS'!S281","v":0},{"$f":"'[1]HOJA GENERAL DATOS IMPORTADOS'!T281","v":0},{"$f":"'[1]HOJA GENERAL DATOS IMPORTADOS'!U281","v":0},{"$f":"'[1]HOJA GENERAL DATOS IMPORTADOS'!V281","v":0},{"$f":"'[1]HOJA GENERAL DATOS IMPORTADOS'!W281","v":0},{"$f":"'[1]HOJA GENERAL DATOS IMPORTADOS'!X281","v":0},{"$f":"'[1]HOJA GENERAL DATOS IMPORTADOS'!Y281","v":0},{"$f":"'[1]HOJA GENERAL DATOS IMPORTADOS'!Z281","v":0},{"$f":"'[1]HOJA GENERAL DATOS IMPORTADOS'!AA281","v":0},{"$f":"'[1]HOJA GENERAL DATOS IMPORTADOS'!AB281","v":0},{"$f":"'[1]HOJA GENERAL DATOS IMPORTADOS'!AC281","v":0},{"$f":"'[1]HOJA GENERAL DATOS IMPORTADOS'!AD281","v":0},{"$f":"'[1]HOJA GENERAL DATOS IMPORTADOS'!AE281","v":0},{"$f":"'[1]HOJA GENERAL DATOS IMPORTADOS'!AF281","v":0},{"$f":"'[1]HOJA GENERAL DATOS IMPORTADOS'!AG281","v":0},{"$f":"'[1]HOJA GENERAL DATOS IMPORTADOS'!AH281","v":0},{"$f":"'[1]HOJA GENERAL DATOS IMPORTADOS'!AI281","v":0}]
[{"$f":"'[1]HOJA GENERAL DATOS IMPORTADOS'!A282","v":0},{"$f":"'[1]HOJA GENERAL DATOS IMPORTADOS'!B282","v":0},{"$f":"'[1]HOJA GENERAL DATOS IMPORTADOS'!C282","v":0},{"$f":"'[1]HOJA GENERAL DATOS IMPORTADOS'!D282","v":0},{"$f":"'[1]HOJA GENERAL DATOS IMPORTADOS'!E282","v":0},{"$f":"'[1]HOJA GENERAL DATOS IMPORTADOS'!F282","v":0},{"$f":"'[1]HOJA GENERAL DATOS IMPORTADOS'!G282","v":0},{"$f":"'[1]HOJA GENERAL DATOS IMPORTADOS'!H282","v":0},{"$f":"'[1]HOJA GENERAL DATOS IMPORTADOS'!I282","v":0},{"$f":"'[1]HOJA GENERAL DATOS IMPORTADOS'!J282","v":0},{"$f":"'[1]HOJA GENERAL DATOS IMPORTADOS'!K282","v":0},{"$f":"'[1]HOJA GENERAL DATOS IMPORTADOS'!L282","v":0},{"$f":"'[1]HOJA GENERAL DATOS IMPORTADOS'!M282","v":0},{"$f":"'[1]HOJA GENERAL DATOS IMPORTADOS'!N282","v":0},{"$f":"'[1]HOJA GENERAL DATOS IMPORTADOS'!O282","v":0},{"$f":"'[1]HOJA GENERAL DATOS IMPORTADOS'!P282","v":0},{"$f":"'[1]HOJA GENERAL DATOS IMPORTADOS'!Q282","v":0},{"$f":"'[1]HOJA GENERAL DATOS IMPORTADOS'!R282","v":0},{"$f":"'[1]HOJA GENERAL DATOS IMPORTADOS'!S282","v":0},{"$f":"'[1]HOJA GENERAL DATOS IMPORTADOS'!T282","v":0},{"$f":"'[1]HOJA GENERAL DATOS IMPORTADOS'!U282","v":0},{"$f":"'[1]HOJA GENERAL DATOS IMPORTADOS'!V282","v":0},{"$f":"'[1]HOJA GENERAL DATOS IMPORTADOS'!W282","v":0},{"$f":"'[1]HOJA GENERAL DATOS IMPORTADOS'!X282","v":0},{"$f":"'[1]HOJA GENERAL DATOS IMPORTADOS'!Y282","v":0},{"$f":"'[1]HOJA GENERAL DATOS IMPORTADOS'!Z282","v":0},{"$f":"'[1]HOJA GENERAL DATOS IMPORTADOS'!AA282","v":0},{"$f":"'[1]HOJA GENERAL DATOS IMPORTADOS'!AB282","v":0},{"$f":"'[1]HOJA GENERAL DATOS IMPORTADOS'!AC282","v":0},{"$f":"'[1]HOJA GENERAL DATOS IMPORTADOS'!AD282","v":0},{"$f":"'[1]HOJA GENERAL DATOS IMPORTADOS'!AE282","v":0},{"$f":"'[1]HOJA GENERAL DATOS IMPORTADOS'!AF282","v":0},{"$f":"'[1]HOJA GENERAL DATOS IMPORTADOS'!AG282","v":0},{"$f":"'[1]HOJA GENERAL DATOS IMPORTADOS'!AH282","v":0},{"$f":"'[1]HOJA GENERAL DATOS IMPORTADOS'!AI282","v":0}]
[{"$f":"'[1]HOJA GENERAL DATOS IMPORTADOS'!A283","v":0},{"$f":"'[1]HOJA GENERAL DATOS IMPORTADOS'!B283","v":0},{"$f":"'[1]HOJA GENERAL DATOS IMPORTADOS'!C283","v":0},{"$f":"'[1]HOJA GENERAL DATOS IMPORTADOS'!D283","v":0},{"$f":"'[1]HOJA GENERAL DATOS IMPORTADOS'!E283","v":0},{"$f":"'[1]HOJA GENERAL DATOS IMPORTADOS'!F283","v":0},{"$f":"'[1]HOJA GENERAL DATOS IMPORTADOS'!G283","v":0},{"$f":"'[1]HOJA GENERAL DATOS IMPORTADOS'!H283","v":0},{"$f":"'[1]HOJA GENERAL DATOS IMPORTADOS'!I283","v":0},{"$f":"'[1]HOJA GENERAL DATOS IMPORTADOS'!J283","v":0},{"$f":"'[1]HOJA GENERAL DATOS IMPORTADOS'!K283","v":0},{"$f":"'[1]HOJA GENERAL DATOS IMPORTADOS'!L283","v":0},{"$f":"'[1]HOJA GENERAL DATOS IMPORTADOS'!M283","v":0},{"$f":"'[1]HOJA GENERAL DATOS IMPORTADOS'!N283","v":0},{"$f":"'[1]HOJA GENERAL DATOS IMPORTADOS'!O283","v":0},{"$f":"'[1]HOJA GENERAL DATOS IMPORTADOS'!P283","v":0},{"$f":"'[1]HOJA GENERAL DATOS IMPORTADOS'!Q283","v":0},{"$f":"'[1]HOJA GENERAL DATOS IMPORTADOS'!R283","v":0},{"$f":"'[1]HOJA GENERAL DATOS IMPORTADOS'!S283","v":0},{"$f":"'[1]HOJA GENERAL DATOS IMPORTADOS'!T283","v":0},{"$f":"'[1]HOJA GENERAL DATOS IMPORTADOS'!U283","v":0},{"$f":"'[1]HOJA GENERAL DATOS IMPORTADOS'!V283","v":0},{"$f":"'[1]HOJA GENERAL DATOS IMPORTADOS'!W283","v":0},{"$f":"'[1]HOJA GENERAL DATOS IMPORTADOS'!X283","v":0},{"$f":"'[1]HOJA GENERAL DATOS IMPORTADOS'!Y283","v":0},{"$f":"'[1]HOJA GENERAL DATOS IMPORTADOS'!Z283","v":0},{"$f":"'[1]HOJA GENERAL DATOS IMPORTADOS'!AA283","v":0},{"$f":"'[1]HOJA GENERAL DATOS IMPORTADOS'!AB283","v":0},{"$f":"'[1]HOJA GENERAL DATOS IMPORTADOS'!AC283","v":0},{"$f":"'[1]HOJA GENERAL DATOS IMPORTADOS'!AD283","v":0},{"$f":"'[1]HOJA GENERAL DATOS IMPORTADOS'!AE283","v":0},{"$f":"'[1]HOJA GENERAL DATOS IMPORTADOS'!AF283","v":0},{"$f":"'[1]HOJA GENERAL DATOS IMPORTADOS'!AG283","v":0},{"$f":"'[1]HOJA GENERAL DATOS IMPORTADOS'!AH283","v":0},{"$f":"'[1]HOJA GENERAL DATOS IMPORTADOS'!AI283","v":0}]
[{"$f":"'[1]HOJA GENERAL DATOS IMPORTADOS'!A284","v":0},{"$f":"'[1]HOJA GENERAL DATOS IMPORTADOS'!B284","v":0},{"$f":"'[1]HOJA GENERAL DATOS IMPORTADOS'!C284","v":0},{"$f":"'[1]HOJA GENERAL DATOS IMPORTADOS'!D284","v":0},{"$f":"'[1]HOJA GENERAL DATOS IMPORTADOS'!E284","v":0},{"$f":"'[1]HOJA GENERAL DATOS IMPORTADOS'!F284","v":0},{"$f":"'[1]HOJA GENERAL DATOS IMPORTADOS'!G284","v":0},{"$f":"'[1]HOJA GENERAL DATOS IMPORTADOS'!H284","v":0},{"$f":"'[1]HOJA GENERAL DATOS IMPORTADOS'!I284","v":0},{"$f":"'[1]HOJA GENERAL DATOS IMPORTADOS'!J284","v":0},{"$f":"'[1]HOJA GENERAL DATOS IMPORTADOS'!K284","v":0},{"$f":"'[1]HOJA GENERAL DATOS IMPORTADOS'!L284","v":0},{"$f":"'[1]HOJA GENERAL DATOS IMPORTADOS'!M284","v":0},{"$f":"'[1]HOJA GENERAL DATOS IMPORTADOS'!N284","v":0},{"$f":"'[1]HOJA GENERAL DATOS IMPORTADOS'!O284","v":0},{"$f":"'[1]HOJA GENERAL DATOS IMPORTADOS'!P284","v":0},{"$f":"'[1]HOJA GENERAL DATOS IMPORTADOS'!Q284","v":0},{"$f":"'[1]HOJA GENERAL DATOS IMPORTADOS'!R284","v":0},{"$f":"'[1]HOJA GENERAL DATOS IMPORTADOS'!S284","v":0},{"$f":"'[1]HOJA GENERAL DATOS IMPORTADOS'!T284","v":0},{"$f":"'[1]HOJA GENERAL DATOS IMPORTADOS'!U284","v":0},{"$f":"'[1]HOJA GENERAL DATOS IMPORTADOS'!V284","v":0},{"$f":"'[1]HOJA GENERAL DATOS IMPORTADOS'!W284","v":0},{"$f":"'[1]HOJA GENERAL DATOS IMPORTADOS'!X284","v":0},{"$f":"'[1]HOJA GENERAL DATOS IMPORTADOS'!Y284","v":0},{"$f":"'[1]HOJA GENERAL DATOS IMPORTADOS'!Z284","v":0},{"$f":"'[1]HOJA GENERAL DATOS IMPORTADOS'!AA284","v":0},{"$f":"'[1]HOJA GENERAL DATOS IMPORTADOS'!AB284","v":0},{"$f":"'[1]HOJA GENERAL DATOS IMPORTADOS'!AC284","v":0},{"$f":"'[1]HOJA GENERAL DATOS IMPORTADOS'!AD284","v":0},{"$f":"'[1]HOJA GENERAL DATOS IMPORTADOS'!AE284","v":0},{"$f":"'[1]HOJA GENERAL DATOS IMPORTADOS'!AF284","v":0},{"$f":"'[1]HOJA GENERAL DATOS IMPORTADOS'!AG284","v":0},{"$f":"'[1]HOJA GENERAL DATOS IMPORTADOS'!AH284","v":0},{"$f":"'[1]HOJA GENERAL DATOS IMPORTADOS'!AI284","v":0}]
[{"$f":"'[1]HOJA GENERAL DATOS IMPORTADOS'!A285","v":0},{"$f":"'[1]HOJA GENERAL DATOS IMPORTADOS'!B285","v":0},{"$f":"'[1]HOJA GENERAL DATOS IMPORTADOS'!C285","v":0},{"$f":"'[1]HOJA GENERAL DATOS IMPORTADOS'!D285","v":0},{"$f":"'[1]HOJA GENERAL DATOS IMPORTADOS'!E285","v":0},{"$f":"'[1]HOJA GENERAL DATOS IMPORTADOS'!F285","v":0},{"$f":"'[1]HOJA GENERAL DATOS IMPORTADOS'!G285","v":0},{"$f":"'[1]HOJA GENERAL DATOS IMPORTADOS'!H285","v":0},{"$f":"'[1]HOJA GENERAL DATOS IMPORTADOS'!I285","v":0},{"$f":"'[1]HOJA GENERAL DATOS IMPORTADOS'!J285","v":0},{"$f":"'[1]HOJA GENERAL DATOS IMPORTADOS'!K285","v":0},{"$f":"'[1]HOJA GENERAL DATOS IMPORTADOS'!L285","v":0},{"$f":"'[1]HOJA GENERAL DATOS IMPORTADOS'!M285","v":0},{"$f":"'[1]HOJA GENERAL DATOS IMPORTADOS'!N285","v":0},{"$f":"'[1]HOJA GENERAL DATOS IMPORTADOS'!O285","v":0},{"$f":"'[1]HOJA GENERAL DATOS IMPORTADOS'!P285","v":0},{"$f":"'[1]HOJA GENERAL DATOS IMPORTADOS'!Q285","v":0},{"$f":"'[1]HOJA GENERAL DATOS IMPORTADOS'!R285","v":0},{"$f":"'[1]HOJA GENERAL DATOS IMPORTADOS'!S285","v":0},{"$f":"'[1]HOJA GENERAL DATOS IMPORTADOS'!T285","v":0},{"$f":"'[1]HOJA GENERAL DATOS IMPORTADOS'!U285","v":0},{"$f":"'[1]HOJA GENERAL DATOS IMPORTADOS'!V285","v":0},{"$f":"'[1]HOJA GENERAL DATOS IMPORTADOS'!W285","v":0},{"$f":"'[1]HOJA GENERAL DATOS IMPORTADOS'!X285","v":0},{"$f":"'[1]HOJA GENERAL DATOS IMPORTADOS'!Y285","v":0},{"$f":"'[1]HOJA GENERAL DATOS IMPORTADOS'!Z285","v":0},{"$f":"'[1]HOJA GENERAL DATOS IMPORTADOS'!AA285","v":0},{"$f":"'[1]HOJA GENERAL DATOS IMPORTADOS'!AB285","v":0},{"$f":"'[1]HOJA GENERAL DATOS IMPORTADOS'!AC285","v":0},{"$f":"'[1]HOJA GENERAL DATOS IMPORTADOS'!AD285","v":0},{"$f":"'[1]HOJA GENERAL DATOS IMPORTADOS'!AE285","v":0},{"$f":"'[1]HOJA GENERAL DATOS IMPORTADOS'!AF285","v":0},{"$f":"'[1]HOJA GENERAL DATOS IMPORTADOS'!AG285","v":0},{"$f":"'[1]HOJA GENERAL DATOS IMPORTADOS'!AH285","v":0},{"$f":"'[1]HOJA GENERAL DATOS IMPORTADOS'!AI285","v":0}]
[{"$f":"'[1]HOJA GENERAL DATOS IMPORTADOS'!A286","v":0},{"$f":"'[1]HOJA GENERAL DATOS IMPORTADOS'!B286","v":0},{"$f":"'[1]HOJA GENERAL DATOS IMPORTADOS'!C286","v":0},{"$f":"'[1]HOJA GENERAL DATOS IMPORTADOS'!D286","v":0},{"$f":"'[1]HOJA GENERAL DATOS IMPORTADOS'!E286","v":0},{"$f":"'[1]HOJA GENERAL DATOS IMPORTADOS'!F286","v":0},{"$f":"'[1]HOJA GENERAL DATOS IMPORTADOS'!G286","v":0},{"$f":"'[1]HOJA GENERAL DATOS IMPORTADOS'!H286","v":0},{"$f":"'[1]HOJA GENERAL DATOS IMPORTADOS'!I286","v":0},{"$f":"'[1]HOJA GENERAL DATOS IMPORTADOS'!J286","v":0},{"$f":"'[1]HOJA GENERAL DATOS IMPORTADOS'!K286","v":0},{"$f":"'[1]HOJA GENERAL DATOS IMPORTADOS'!L286","v":0},{"$f":"'[1]HOJA GENERAL DATOS IMPORTADOS'!M286","v":0},{"$f":"'[1]HOJA GENERAL DATOS IMPORTADOS'!N286","v":0},{"$f":"'[1]HOJA GENERAL DATOS IMPORTADOS'!O286","v":0},{"$f":"'[1]HOJA GENERAL DATOS IMPORTADOS'!P286","v":0},{"$f":"'[1]HOJA GENERAL DATOS IMPORTADOS'!Q286","v":0},{"$f":"'[1]HOJA GENERAL DATOS IMPORTADOS'!R286","v":0},{"$f":"'[1]HOJA GENERAL DATOS IMPORTADOS'!S286","v":0},{"$f":"'[1]HOJA GENERAL DATOS IMPORTADOS'!T286","v":0},{"$f":"'[1]HOJA GENERAL DATOS IMPORTADOS'!U286","v":0},{"$f":"'[1]HOJA GENERAL DATOS IMPORTADOS'!V286","v":0},{"$f":"'[1]HOJA GENERAL DATOS IMPORTADOS'!W286","v":0},{"$f":"'[1]HOJA GENERAL DATOS IMPORTADOS'!X286","v":0},{"$f":"'[1]HOJA GENERAL DATOS IMPORTADOS'!Y286","v":0},{"$f":"'[1]HOJA GENERAL DATOS IMPORTADOS'!Z286","v":0},{"$f":"'[1]HOJA GENERAL DATOS IMPORTADOS'!AA286","v":0},{"$f":"'[1]HOJA GENERAL DATOS IMPORTADOS'!AB286","v":0},{"$f":"'[1]HOJA GENERAL DATOS IMPORTADOS'!AC286","v":0},{"$f":"'[1]HOJA GENERAL DATOS IMPORTADOS'!AD286","v":0},{"$f":"'[1]HOJA GENERAL DATOS IMPORTADOS'!AE286","v":0},{"$f":"'[1]HOJA GENERAL DATOS IMPORTADOS'!AF286","v":0},{"$f":"'[1]HOJA GENERAL DATOS IMPORTADOS'!AG286","v":0},{"$f":"'[1]HOJA GENERAL DATOS IMPORTADOS'!AH286","v":0},{"$f":"'[1]HOJA GENERAL DATOS IMPORTADOS'!AI286","v":0}]
[{"$f":"'[1]HOJA GENERAL DATOS IMPORTADOS'!A287","v":0},{"$f":"'[1]HOJA GENERAL DATOS IMPORTADOS'!B287","v":0},{"$f":"'[1]HOJA GENERAL DATOS IMPORTADOS'!C287","v":0},{"$f":"'[1]HOJA GENERAL DATOS IMPORTADOS'!D287","v":0},{"$f":"'[1]HOJA GENERAL DATOS IMPORTADOS'!E287","v":0},{"$f":"'[1]HOJA GENERAL DATOS IMPORTADOS'!F287","v":0},{"$f":"'[1]HOJA GENERAL DATOS IMPORTADOS'!G287","v":0},{"$f":"'[1]HOJA GENERAL DATOS IMPORTADOS'!H287","v":0},{"$f":"'[1]HOJA GENERAL DATOS IMPORTADOS'!I287","v":0},{"$f":"'[1]HOJA GENERAL DATOS IMPORTADOS'!J287","v":0},{"$f":"'[1]HOJA GENERAL DATOS IMPORTADOS'!K287","v":0},{"$f":"'[1]HOJA GENERAL DATOS IMPORTADOS'!L287","v":0},{"$f":"'[1]HOJA GENERAL DATOS IMPORTADOS'!M287","v":0},{"$f":"'[1]HOJA GENERAL DATOS IMPORTADOS'!N287","v":0},{"$f":"'[1]HOJA GENERAL DATOS IMPORTADOS'!O287","v":0},{"$f":"'[1]HOJA GENERAL DATOS IMPORTADOS'!P287","v":0},{"$f":"'[1]HOJA GENERAL DATOS IMPORTADOS'!Q287","v":0},{"$f":"'[1]HOJA GENERAL DATOS IMPORTADOS'!R287","v":0},{"$f":"'[1]HOJA GENERAL DATOS IMPORTADOS'!S287","v":0},{"$f":"'[1]HOJA GENERAL DATOS IMPORTADOS'!T287","v":0},{"$f":"'[1]HOJA GENERAL DATOS IMPORTADOS'!U287","v":0},{"$f":"'[1]HOJA GENERAL DATOS IMPORTADOS'!V287","v":0},{"$f":"'[1]HOJA GENERAL DATOS IMPORTADOS'!W287","v":0},{"$f":"'[1]HOJA GENERAL DATOS IMPORTADOS'!X287","v":0},{"$f":"'[1]HOJA GENERAL DATOS IMPORTADOS'!Y287","v":0},{"$f":"'[1]HOJA GENERAL DATOS IMPORTADOS'!Z287","v":0},{"$f":"'[1]HOJA GENERAL DATOS IMPORTADOS'!AA287","v":0},{"$f":"'[1]HOJA GENERAL DATOS IMPORTADOS'!AB287","v":0},{"$f":"'[1]HOJA GENERAL DATOS IMPORTADOS'!AC287","v":0},{"$f":"'[1]HOJA GENERAL DATOS IMPORTADOS'!AD287","v":0},{"$f":"'[1]HOJA GENERAL DATOS IMPORTADOS'!AE287","v":0},{"$f":"'[1]HOJA GENERAL DATOS IMPORTADOS'!AF287","v":0},{"$f":"'[1]HOJA GENERAL DATOS IMPORTADOS'!AG287","v":0},{"$f":"'[1]HOJA GENERAL DATOS IMPORTADOS'!AH287","v":0},{"$f":"'[1]HOJA GENERAL DATOS IMPORTADOS'!AI287","v":0}]
[{"$f":"'[1]HOJA GENERAL DATOS IMPORTADOS'!A288","v":0},{"$f":"'[1]HOJA GENERAL DATOS IMPORTADOS'!B288","v":0},{"$f":"'[1]HOJA GENERAL DATOS IMPORTADOS'!C288","v":0},{"$f":"'[1]HOJA GENERAL DATOS IMPORTADOS'!D288","v":0},{"$f":"'[1]HOJA GENERAL DATOS IMPORTADOS'!E288","v":0},{"$f":"'[1]HOJA GENERAL DATOS IMPORTADOS'!F288","v":0},{"$f":"'[1]HOJA GENERAL DATOS IMPORTADOS'!G288","v":0},{"$f":"'[1]HOJA GENERAL DATOS IMPORTADOS'!H288","v":0},{"$f":"'[1]HOJA GENERAL DATOS IMPORTADOS'!I288","v":0},{"$f":"'[1]HOJA GENERAL DATOS IMPORTADOS'!J288","v":0},{"$f":"'[1]HOJA GENERAL DATOS IMPORTADOS'!K288","v":0},{"$f":"'[1]HOJA GENERAL DATOS IMPORTADOS'!L288","v":0},{"$f":"'[1]HOJA GENERAL DATOS IMPORTADOS'!M288","v":0},{"$f":"'[1]HOJA GENERAL DATOS IMPORTADOS'!N288","v":0},{"$f":"'[1]HOJA GENERAL DATOS IMPORTADOS'!O288","v":0},{"$f":"'[1]HOJA GENERAL DATOS IMPORTADOS'!P288","v":0},{"$f":"'[1]HOJA GENERAL DATOS IMPORTADOS'!Q288","v":0},{"$f":"'[1]HOJA GENERAL DATOS IMPORTADOS'!R288","v":0},{"$f":"'[1]HOJA GENERAL DATOS IMPORTADOS'!S288","v":0},{"$f":"'[1]HOJA GENERAL DATOS IMPORTADOS'!T288","v":0},{"$f":"'[1]HOJA GENERAL DATOS IMPORTADOS'!U288","v":0},{"$f":"'[1]HOJA GENERAL DATOS IMPORTADOS'!V288","v":0},{"$f":"'[1]HOJA GENERAL DATOS IMPORTADOS'!W288","v":0},{"$f":"'[1]HOJA GENERAL DATOS IMPORTADOS'!X288","v":0},{"$f":"'[1]HOJA GENERAL DATOS IMPORTADOS'!Y288","v":0},{"$f":"'[1]HOJA GENERAL DATOS IMPORTADOS'!Z288","v":0},{"$f":"'[1]HOJA GENERAL DATOS IMPORTADOS'!AA288","v":0},{"$f":"'[1]HOJA GENERAL DATOS IMPORTADOS'!AB288","v":0},{"$f":"'[1]HOJA GENERAL DATOS IMPORTADOS'!AC288","v":0},{"$f":"'[1]HOJA GENERAL DATOS IMPORTADOS'!AD288","v":0},{"$f":"'[1]HOJA GENERAL DATOS IMPORTADOS'!AE288","v":0},{"$f":"'[1]HOJA GENERAL DATOS IMPORTADOS'!AF288","v":0},{"$f":"'[1]HOJA GENERAL DATOS IMPORTADOS'!AG288","v":0},{"$f":"'[1]HOJA GENERAL DATOS IMPORTADOS'!AH288","v":0},{"$f":"'[1]HOJA GENERAL DATOS IMPORTADOS'!AI288","v":0}]
[{"$f":"'[1]HOJA GENERAL DATOS IMPORTADOS'!A289","v":0},{"$f":"'[1]HOJA GENERAL DATOS IMPORTADOS'!B289","v":0},{"$f":"'[1]HOJA GENERAL DATOS IMPORTADOS'!C289","v":0},{"$f":"'[1]HOJA GENERAL DATOS IMPORTADOS'!D289","v":0},{"$f":"'[1]HOJA GENERAL DATOS IMPORTADOS'!E289","v":0},{"$f":"'[1]HOJA GENERAL DATOS IMPORTADOS'!F289","v":0},{"$f":"'[1]HOJA GENERAL DATOS IMPORTADOS'!G289","v":0},{"$f":"'[1]HOJA GENERAL DATOS IMPORTADOS'!H289","v":0},{"$f":"'[1]HOJA GENERAL DATOS IMPORTADOS'!I289","v":0},{"$f":"'[1]HOJA GENERAL DATOS IMPORTADOS'!J289","v":0},{"$f":"'[1]HOJA GENERAL DATOS IMPORTADOS'!K289","v":0},{"$f":"'[1]HOJA GENERAL DATOS IMPORTADOS'!L289","v":0},{"$f":"'[1]HOJA GENERAL DATOS IMPORTADOS'!M289","v":0},{"$f":"'[1]HOJA GENERAL DATOS IMPORTADOS'!N289","v":0},{"$f":"'[1]HOJA GENERAL DATOS IMPORTADOS'!O289","v":0},{"$f":"'[1]HOJA GENERAL DATOS IMPORTADOS'!P289","v":0},{"$f":"'[1]HOJA GENERAL DATOS IMPORTADOS'!Q289","v":0},{"$f":"'[1]HOJA GENERAL DATOS IMPORTADOS'!R289","v":0},{"$f":"'[1]HOJA GENERAL DATOS IMPORTADOS'!S289","v":0},{"$f":"'[1]HOJA GENERAL DATOS IMPORTADOS'!T289","v":0},{"$f":"'[1]HOJA GENERAL DATOS IMPORTADOS'!U289","v":0},{"$f":"'[1]HOJA GENERAL DATOS IMPORTADOS'!V289","v":0},{"$f":"'[1]HOJA GENERAL DATOS IMPORTADOS'!W289","v":0},{"$f":"'[1]HOJA GENERAL DATOS IMPORTADOS'!X289","v":0},{"$f":"'[1]HOJA GENERAL DATOS IMPORTADOS'!Y289","v":0},{"$f":"'[1]HOJA GENERAL DATOS IMPORTADOS'!Z289","v":0},{"$f":"'[1]HOJA GENERAL DATOS IMPORTADOS'!AA289","v":0},{"$f":"'[1]HOJA GENERAL DATOS IMPORTADOS'!AB289","v":0},{"$f":"'[1]HOJA GENERAL DATOS IMPORTADOS'!AC289","v":0},{"$f":"'[1]HOJA GENERAL DATOS IMPORTADOS'!AD289","v":0},{"$f":"'[1]HOJA GENERAL DATOS IMPORTADOS'!AE289","v":0},{"$f":"'[1]HOJA GENERAL DATOS IMPORTADOS'!AF289","v":0},{"$f":"'[1]HOJA GENERAL DATOS IMPORTADOS'!AG289","v":0},{"$f":"'[1]HOJA GENERAL DATOS IMPORTADOS'!AH289","v":0},{"$f":"'[1]HOJA GENERAL DATOS IMPORTADOS'!AI289","v":0}]
[{"$f":"'[1]HOJA GENERAL DATOS IMPORTADOS'!A290","v":0},{"$f":"'[1]HOJA GENERAL DATOS IMPORTADOS'!B290","v":0},{"$f":"'[1]HOJA GENERAL DATOS IMPORTADOS'!C290","v":0},{"$f":"'[1]HOJA GENERAL DATOS IMPORTADOS'!D290","v":0},{"$f":"'[1]HOJA GENERAL DATOS IMPORTADOS'!E290","v":0},{"$f":"'[1]HOJA GENERAL DATOS IMPORTADOS'!F290","v":0},{"$f":"'[1]HOJA GENERAL DATOS IMPORTADOS'!G290","v":0},{"$f":"'[1]HOJA GENERAL DATOS IMPORTADOS'!H290","v":0},{"$f":"'[1]HOJA GENERAL DATOS IMPORTADOS'!I290","v":0},{"$f":"'[1]HOJA GENERAL DATOS IMPORTADOS'!J290","v":0},{"$f":"'[1]HOJA GENERAL DATOS IMPORTADOS'!K290","v":0},{"$f":"'[1]HOJA GENERAL DATOS IMPORTADOS'!L290","v":0},{"$f":"'[1]HOJA GENERAL DATOS IMPORTADOS'!M290","v":0},{"$f":"'[1]HOJA GENERAL DATOS IMPORTADOS'!N290","v":0},{"$f":"'[1]HOJA GENERAL DATOS IMPORTADOS'!O290","v":0},{"$f":"'[1]HOJA GENERAL DATOS IMPORTADOS'!P290","v":0},{"$f":"'[1]HOJA GENERAL DATOS IMPORTADOS'!Q290","v":0},{"$f":"'[1]HOJA GENERAL DATOS IMPORTADOS'!R290","v":0},{"$f":"'[1]HOJA GENERAL DATOS IMPORTADOS'!S290","v":0},{"$f":"'[1]HOJA GENERAL DATOS IMPORTADOS'!T290","v":0},{"$f":"'[1]HOJA GENERAL DATOS IMPORTADOS'!U290","v":0},{"$f":"'[1]HOJA GENERAL DATOS IMPORTADOS'!V290","v":0},{"$f":"'[1]HOJA GENERAL DATOS IMPORTADOS'!W290","v":0},{"$f":"'[1]HOJA GENERAL DATOS IMPORTADOS'!X290","v":0},{"$f":"'[1]HOJA GENERAL DATOS IMPORTADOS'!Y290","v":0},{"$f":"'[1]HOJA GENERAL DATOS IMPORTADOS'!Z290","v":0},{"$f":"'[1]HOJA GENERAL DATOS IMPORTADOS'!AA290","v":0},{"$f":"'[1]HOJA GENERAL DATOS IMPORTADOS'!AB290","v":0},{"$f":"'[1]HOJA GENERAL DATOS IMPORTADOS'!AC290","v":0},{"$f":"'[1]HOJA GENERAL DATOS IMPORTADOS'!AD290","v":0},{"$f":"'[1]HOJA GENERAL DATOS IMPORTADOS'!AE290","v":0},{"$f":"'[1]HOJA GENERAL DATOS IMPORTADOS'!AF290","v":0},{"$f":"'[1]HOJA GENERAL DATOS IMPORTADOS'!AG290","v":0},{"$f":"'[1]HOJA GENERAL DATOS IMPORTADOS'!AH290","v":0},{"$f":"'[1]HOJA GENERAL DATOS IMPORTADOS'!AI290","v":0}]
[{"$f":"'[1]HOJA GENERAL DATOS IMPORTADOS'!A291","v":0},{"$f":"'[1]HOJA GENERAL DATOS IMPORTADOS'!B291","v":0},{"$f":"'[1]HOJA GENERAL DATOS IMPORTADOS'!C291","v":0},{"$f":"'[1]HOJA GENERAL DATOS IMPORTADOS'!D291","v":0},{"$f":"'[1]HOJA GENERAL DATOS IMPORTADOS'!E291","v":0},{"$f":"'[1]HOJA GENERAL DATOS IMPORTADOS'!F291","v":0},{"$f":"'[1]HOJA GENERAL DATOS IMPORTADOS'!G291","v":0},{"$f":"'[1]HOJA GENERAL DATOS IMPORTADOS'!H291","v":0},{"$f":"'[1]HOJA GENERAL DATOS IMPORTADOS'!I291","v":0},{"$f":"'[1]HOJA GENERAL DATOS IMPORTADOS'!J291","v":0},{"$f":"'[1]HOJA GENERAL DATOS IMPORTADOS'!K291","v":0},{"$f":"'[1]HOJA GENERAL DATOS IMPORTADOS'!L291","v":0},{"$f":"'[1]HOJA GENERAL DATOS IMPORTADOS'!M291","v":0},{"$f":"'[1]HOJA GENERAL DATOS IMPORTADOS'!N291","v":0},{"$f":"'[1]HOJA GENERAL DATOS IMPORTADOS'!O291","v":0},{"$f":"'[1]HOJA GENERAL DATOS IMPORTADOS'!P291","v":0},{"$f":"'[1]HOJA GENERAL DATOS IMPORTADOS'!Q291","v":0},{"$f":"'[1]HOJA GENERAL DATOS IMPORTADOS'!R291","v":0},{"$f":"'[1]HOJA GENERAL DATOS IMPORTADOS'!S291","v":0},{"$f":"'[1]HOJA GENERAL DATOS IMPORTADOS'!T291","v":0},{"$f":"'[1]HOJA GENERAL DATOS IMPORTADOS'!U291","v":0},{"$f":"'[1]HOJA GENERAL DATOS IMPORTADOS'!V291","v":0},{"$f":"'[1]HOJA GENERAL DATOS IMPORTADOS'!W291","v":0},{"$f":"'[1]HOJA GENERAL DATOS IMPORTADOS'!X291","v":0},{"$f":"'[1]HOJA GENERAL DATOS IMPORTADOS'!Y291","v":0},{"$f":"'[1]HOJA GENERAL DATOS IMPORTADOS'!Z291","v":0},{"$f":"'[1]HOJA GENERAL DATOS IMPORTADOS'!AA291","v":0},{"$f":"'[1]HOJA GENERAL DATOS IMPORTADOS'!AB291","v":0},{"$f":"'[1]HOJA GENERAL DATOS IMPORTADOS'!AC291","v":0},{"$f":"'[1]HOJA GENERAL DATOS IMPORTADOS'!AD291","v":0},{"$f":"'[1]HOJA GENERAL DATOS IMPORTADOS'!AE291","v":0},{"$f":"'[1]HOJA GENERAL DATOS IMPORTADOS'!AF291","v":0},{"$f":"'[1]HOJA GENERAL DATOS IMPORTADOS'!AG291","v":0},{"$f":"'[1]HOJA GENERAL DATOS IMPORTADOS'!AH291","v":0},{"$f":"'[1]HOJA GENERAL DATOS IMPORTADOS'!AI291","v":0}]
[{"$f":"'[1]HOJA GENERAL DATOS IMPORTADOS'!A292","v":0},{"$f":"'[1]HOJA GENERAL DATOS IMPORTADOS'!B292","v":0},{"$f":"'[1]HOJA GENERAL DATOS IMPORTADOS'!C292","v":0},{"$f":"'[1]HOJA GENERAL DATOS IMPORTADOS'!D292","v":0},{"$f":"'[1]HOJA GENERAL DATOS IMPORTADOS'!E292","v":0},{"$f":"'[1]HOJA GENERAL DATOS IMPORTADOS'!F292","v":0},{"$f":"'[1]HOJA GENERAL DATOS IMPORTADOS'!G292","v":0},{"$f":"'[1]HOJA GENERAL DATOS IMPORTADOS'!H292","v":0},{"$f":"'[1]HOJA GENERAL DATOS IMPORTADOS'!I292","v":0},{"$f":"'[1]HOJA GENERAL DATOS IMPORTADOS'!J292","v":0},{"$f":"'[1]HOJA GENERAL DATOS IMPORTADOS'!K292","v":0},{"$f":"'[1]HOJA GENERAL DATOS IMPORTADOS'!L292","v":0},{"$f":"'[1]HOJA GENERAL DATOS IMPORTADOS'!M292","v":0},{"$f":"'[1]HOJA GENERAL DATOS IMPORTADOS'!N292","v":0},{"$f":"'[1]HOJA GENERAL DATOS IMPORTADOS'!O292","v":0},{"$f":"'[1]HOJA GENERAL DATOS IMPORTADOS'!P292","v":0},{"$f":"'[1]HOJA GENERAL DATOS IMPORTADOS'!Q292","v":0},{"$f":"'[1]HOJA GENERAL DATOS IMPORTADOS'!R292","v":0},{"$f":"'[1]HOJA GENERAL DATOS IMPORTADOS'!S292","v":0},{"$f":"'[1]HOJA GENERAL DATOS IMPORTADOS'!T292","v":0},{"$f":"'[1]HOJA GENERAL DATOS IMPORTADOS'!U292","v":0},{"$f":"'[1]HOJA GENERAL DATOS IMPORTADOS'!V292","v":0},{"$f":"'[1]HOJA GENERAL DATOS IMPORTADOS'!W292","v":0},{"$f":"'[1]HOJA GENERAL DATOS IMPORTADOS'!X292","v":0},{"$f":"'[1]HOJA GENERAL DATOS IMPORTADOS'!Y292","v":0},{"$f":"'[1]HOJA GENERAL DATOS IMPORTADOS'!Z292","v":0},{"$f":"'[1]HOJA GENERAL DATOS IMPORTADOS'!AA292","v":0},{"$f":"'[1]HOJA GENERAL DATOS IMPORTADOS'!AB292","v":0},{"$f":"'[1]HOJA GENERAL DATOS IMPORTADOS'!AC292","v":0},{"$f":"'[1]HOJA GENERAL DATOS IMPORTADOS'!AD292","v":0},{"$f":"'[1]HOJA GENERAL DATOS IMPORTADOS'!AE292","v":0},{"$f":"'[1]HOJA GENERAL DATOS IMPORTADOS'!AF292","v":0},{"$f":"'[1]HOJA GENERAL DATOS IMPORTADOS'!AG292","v":0},{"$f":"'[1]HOJA GENERAL DATOS IMPORTADOS'!AH292","v":0},{"$f":"'[1]HOJA GENERAL DATOS IMPORTADOS'!AI292","v":0}]
[{"$f":"'[1]HOJA GENERAL DATOS IMPORTADOS'!A293","v":0},{"$f":"'[1]HOJA GENERAL DATOS IMPORTADOS'!B293","v":0},{"$f":"'[1]HOJA GENERAL DATOS IMPORTADOS'!C293","v":0},{"$f":"'[1]HOJA GENERAL DATOS IMPORTADOS'!D293","v":0},{"$f":"'[1]HOJA GENERAL DATOS IMPORTADOS'!E293","v":0},{"$f":"'[1]HOJA GENERAL DATOS IMPORTADOS'!F293","v":0},{"$f":"'[1]HOJA GENERAL DATOS IMPORTADOS'!G293","v":0},{"$f":"'[1]HOJA GENERAL DATOS IMPORTADOS'!H293","v":0},{"$f":"'[1]HOJA GENERAL DATOS IMPORTADOS'!I293","v":0},{"$f":"'[1]HOJA GENERAL DATOS IMPORTADOS'!J293","v":0},{"$f":"'[1]HOJA GENERAL DATOS IMPORTADOS'!K293","v":0},{"$f":"'[1]HOJA GENERAL DATOS IMPORTADOS'!L293","v":0},{"$f":"'[1]HOJA GENERAL DATOS IMPORTADOS'!M293","v":0},{"$f":"'[1]HOJA GENERAL DATOS IMPORTADOS'!N293","v":0},{"$f":"'[1]HOJA GENERAL DATOS IMPORTADOS'!O293","v":0},{"$f":"'[1]HOJA GENERAL DATOS IMPORTADOS'!P293","v":0},{"$f":"'[1]HOJA GENERAL DATOS IMPORTADOS'!Q293","v":0},{"$f":"'[1]HOJA GENERAL DATOS IMPORTADOS'!R293","v":0},{"$f":"'[1]HOJA GENERAL DATOS IMPORTADOS'!S293","v":0},{"$f":"'[1]HOJA GENERAL DATOS IMPORTADOS'!T293","v":0},{"$f":"'[1]HOJA GENERAL DATOS IMPORTADOS'!U293","v":0},{"$f":"'[1]HOJA GENERAL DATOS IMPORTADOS'!V293","v":0},{"$f":"'[1]HOJA GENERAL DATOS IMPORTADOS'!W293","v":0},{"$f":"'[1]HOJA GENERAL DATOS IMPORTADOS'!X293","v":0},{"$f":"'[1]HOJA GENERAL DATOS IMPORTADOS'!Y293","v":0},{"$f":"'[1]HOJA GENERAL DATOS IMPORTADOS'!Z293","v":0},{"$f":"'[1]HOJA GENERAL DATOS IMPORTADOS'!AA293","v":0},{"$f":"'[1]HOJA GENERAL DATOS IMPORTADOS'!AB293","v":0},{"$f":"'[1]HOJA GENERAL DATOS IMPORTADOS'!AC293","v":0},{"$f":"'[1]HOJA GENERAL DATOS IMPORTADOS'!AD293","v":0},{"$f":"'[1]HOJA GENERAL DATOS IMPORTADOS'!AE293","v":0},{"$f":"'[1]HOJA GENERAL DATOS IMPORTADOS'!AF293","v":0},{"$f":"'[1]HOJA GENERAL DATOS IMPORTADOS'!AG293","v":0},{"$f":"'[1]HOJA GENERAL DATOS IMPORTADOS'!AH293","v":0},{"$f":"'[1]HOJA GENERAL DATOS IMPORTADOS'!AI293","v":0}]
[{"$f":"'[1]HOJA GENERAL DATOS IMPORTADOS'!A294","v":0},{"$f":"'[1]HOJA GENERAL DATOS IMPORTADOS'!B294","v":0},{"$f":"'[1]HOJA GENERAL DATOS IMPORTADOS'!C294","v":0},{"$f":"'[1]HOJA GENERAL DATOS IMPORTADOS'!D294","v":0},{"$f":"'[1]HOJA GENERAL DATOS IMPORTADOS'!E294","v":0},{"$f":"'[1]HOJA GENERAL DATOS IMPORTADOS'!F294","v":0},{"$f":"'[1]HOJA GENERAL DATOS IMPORTADOS'!G294","v":0},{"$f":"'[1]HOJA GENERAL DATOS IMPORTADOS'!H294","v":0},{"$f":"'[1]HOJA GENERAL DATOS IMPORTADOS'!I294","v":0},{"$f":"'[1]HOJA GENERAL DATOS IMPORTADOS'!J294","v":0},{"$f":"'[1]HOJA GENERAL DATOS IMPORTADOS'!K294","v":0},{"$f":"'[1]HOJA GENERAL DATOS IMPORTADOS'!L294","v":0},{"$f":"'[1]HOJA GENERAL DATOS IMPORTADOS'!M294","v":0},{"$f":"'[1]HOJA GENERAL DATOS IMPORTADOS'!N294","v":0},{"$f":"'[1]HOJA GENERAL DATOS IMPORTADOS'!O294","v":0},{"$f":"'[1]HOJA GENERAL DATOS IMPORTADOS'!P294","v":0},{"$f":"'[1]HOJA GENERAL DATOS IMPORTADOS'!Q294","v":0},{"$f":"'[1]HOJA GENERAL DATOS IMPORTADOS'!R294","v":0},{"$f":"'[1]HOJA GENERAL DATOS IMPORTADOS'!S294","v":0},{"$f":"'[1]HOJA GENERAL DATOS IMPORTADOS'!T294","v":0},{"$f":"'[1]HOJA GENERAL DATOS IMPORTADOS'!U294","v":0},{"$f":"'[1]HOJA GENERAL DATOS IMPORTADOS'!V294","v":0},{"$f":"'[1]HOJA GENERAL DATOS IMPORTADOS'!W294","v":0},{"$f":"'[1]HOJA GENERAL DATOS IMPORTADOS'!X294","v":0},{"$f":"'[1]HOJA GENERAL DATOS IMPORTADOS'!Y294","v":0},{"$f":"'[1]HOJA GENERAL DATOS IMPORTADOS'!Z294","v":0},{"$f":"'[1]HOJA GENERAL DATOS IMPORTADOS'!AA294","v":0},{"$f":"'[1]HOJA GENERAL DATOS IMPORTADOS'!AB294","v":0},{"$f":"'[1]HOJA GENERAL DATOS IMPORTADOS'!AC294","v":0},{"$f":"'[1]HOJA GENERAL DATOS IMPORTADOS'!AD294","v":0},{"$f":"'[1]HOJA GENERAL DATOS IMPORTADOS'!AE294","v":0},{"$f":"'[1]HOJA GENERAL DATOS IMPORTADOS'!AF294","v":0},{"$f":"'[1]HOJA GENERAL DATOS IMPORTADOS'!AG294","v":0},{"$f":"'[1]HOJA GENERAL DATOS IMPORTADOS'!AH294","v":0},{"$f":"'[1]HOJA GENERAL DATOS IMPORTADOS'!AI294","v":0}]
[{"$f":"'[1]HOJA GENERAL DATOS IMPORTADOS'!A295","v":0},{"$f":"'[1]HOJA GENERAL DATOS IMPORTADOS'!B295","v":0},{"$f":"'[1]HOJA GENERAL DATOS IMPORTADOS'!C295","v":0},{"$f":"'[1]HOJA GENERAL DATOS IMPORTADOS'!D295","v":0},{"$f":"'[1]HOJA GENERAL DATOS IMPORTADOS'!E295","v":0},{"$f":"'[1]HOJA GENERAL DATOS IMPORTADOS'!F295","v":0},{"$f":"'[1]HOJA GENERAL DATOS IMPORTADOS'!G295","v":0},{"$f":"'[1]HOJA GENERAL DATOS IMPORTADOS'!H295","v":0},{"$f":"'[1]HOJA GENERAL DATOS IMPORTADOS'!I295","v":0},{"$f":"'[1]HOJA GENERAL DATOS IMPORTADOS'!J295","v":0},{"$f":"'[1]HOJA GENERAL DATOS IMPORTADOS'!K295","v":0},{"$f":"'[1]HOJA GENERAL DATOS IMPORTADOS'!L295","v":0},{"$f":"'[1]HOJA GENERAL DATOS IMPORTADOS'!M295","v":0},{"$f":"'[1]HOJA GENERAL DATOS IMPORTADOS'!N295","v":0},{"$f":"'[1]HOJA GENERAL DATOS IMPORTADOS'!O295","v":0},{"$f":"'[1]HOJA GENERAL DATOS IMPORTADOS'!P295","v":0},{"$f":"'[1]HOJA GENERAL DATOS IMPORTADOS'!Q295","v":0},{"$f":"'[1]HOJA GENERAL DATOS IMPORTADOS'!R295","v":0},{"$f":"'[1]HOJA GENERAL DATOS IMPORTADOS'!S295","v":0},{"$f":"'[1]HOJA GENERAL DATOS IMPORTADOS'!T295","v":0},{"$f":"'[1]HOJA GENERAL DATOS IMPORTADOS'!U295","v":0},{"$f":"'[1]HOJA GENERAL DATOS IMPORTADOS'!V295","v":0},{"$f":"'[1]HOJA GENERAL DATOS IMPORTADOS'!W295","v":0},{"$f":"'[1]HOJA GENERAL DATOS IMPORTADOS'!X295","v":0},{"$f":"'[1]HOJA GENERAL DATOS IMPORTADOS'!Y295","v":0},{"$f":"'[1]HOJA GENERAL DATOS IMPORTADOS'!Z295","v":0},{"$f":"'[1]HOJA GENERAL DATOS IMPORTADOS'!AA295","v":0},{"$f":"'[1]HOJA GENERAL DATOS IMPORTADOS'!AB295","v":0},{"$f":"'[1]HOJA GENERAL DATOS IMPORTADOS'!AC295","v":0},{"$f":"'[1]HOJA GENERAL DATOS IMPORTADOS'!AD295","v":0},{"$f":"'[1]HOJA GENERAL DATOS IMPORTADOS'!AE295","v":0},{"$f":"'[1]HOJA GENERAL DATOS IMPORTADOS'!AF295","v":0},{"$f":"'[1]HOJA GENERAL DATOS IMPORTADOS'!AG295","v":0},{"$f":"'[1]HOJA GENERAL DATOS IMPORTADOS'!AH295","v":0},{"$f":"'[1]HOJA GENERAL DATOS IMPORTADOS'!AI295","v":0}]
[{"$f":"'[1]HOJA GENERAL DATOS IMPORTADOS'!A296","v":0},{"$f":"'[1]HOJA GENERAL DATOS IMPORTADOS'!B296","v":0},{"$f":"'[1]HOJA GENERAL DATOS IMPORTADOS'!C296","v":0},{"$f":"'[1]HOJA GENERAL DATOS IMPORTADOS'!D296","v":0},{"$f":"'[1]HOJA GENERAL DATOS IMPORTADOS'!E296","v":0},{"$f":"'[1]HOJA GENERAL DATOS IMPORTADOS'!F296","v":0},{"$f":"'[1]HOJA GENERAL DATOS IMPORTADOS'!G296","v":0},{"$f":"'[1]HOJA GENERAL DATOS IMPORTADOS'!H296","v":0},{"$f":"'[1]HOJA GENERAL DATOS IMPORTADOS'!I296","v":0},{"$f":"'[1]HOJA GENERAL DATOS IMPORTADOS'!J296","v":0},{"$f":"'[1]HOJA GENERAL DATOS IMPORTADOS'!K296","v":0},{"$f":"'[1]HOJA GENERAL DATOS IMPORTADOS'!L296","v":0},{"$f":"'[1]HOJA GENERAL DATOS IMPORTADOS'!M296","v":0},{"$f":"'[1]HOJA GENERAL DATOS IMPORTADOS'!N296","v":0},{"$f":"'[1]HOJA GENERAL DATOS IMPORTADOS'!O296","v":0},{"$f":"'[1]HOJA GENERAL DATOS IMPORTADOS'!P296","v":0},{"$f":"'[1]HOJA GENERAL DATOS IMPORTADOS'!Q296","v":0},{"$f":"'[1]HOJA GENERAL DATOS IMPORTADOS'!R296","v":0},{"$f":"'[1]HOJA GENERAL DATOS IMPORTADOS'!S296","v":0},{"$f":"'[1]HOJA GENERAL DATOS IMPORTADOS'!T296","v":0},{"$f":"'[1]HOJA GENERAL DATOS IMPORTADOS'!U296","v":0},{"$f":"'[1]HOJA GENERAL DATOS IMPORTADOS'!V296","v":0},{"$f":"'[1]HOJA GENERAL DATOS IMPORTADOS'!W296","v":0},{"$f":"'[1]HOJA GENERAL DATOS IMPORTADOS'!X296","v":0},{"$f":"'[1]HOJA GENERAL DATOS IMPORTADOS'!Y296","v":0},{"$f":"'[1]HOJA GENERAL DATOS IMPORTADOS'!Z296","v":0},{"$f":"'[1]HOJA GENERAL DATOS IMPORTADOS'!AA296","v":0},{"$f":"'[1]HOJA GENERAL DATOS IMPORTADOS'!AB296","v":0},{"$f":"'[1]HOJA GENERAL DATOS IMPORTADOS'!AC296","v":0},{"$f":"'[1]HOJA GENERAL DATOS IMPORTADOS'!AD296","v":0},{"$f":"'[1]HOJA GENERAL DATOS IMPORTADOS'!AE296","v":0},{"$f":"'[1]HOJA GENERAL DATOS IMPORTADOS'!AF296","v":0},{"$f":"'[1]HOJA GENERAL DATOS IMPORTADOS'!AG296","v":0},{"$f":"'[1]HOJA GENERAL DATOS IMPORTADOS'!AH296","v":0},{"$f":"'[1]HOJA GENERAL DATOS IMPORTADOS'!AI296","v":0}]
[{"$f":"'[1]HOJA GENERAL DATOS IMPORTADOS'!A297","v":0},{"$f":"'[1]HOJA GENERAL DATOS IMPORTADOS'!B297","v":0},{"$f":"'[1]HOJA GENERAL DATOS IMPORTADOS'!C297","v":0},{"$f":"'[1]HOJA GENERAL DATOS IMPORTADOS'!D297","v":0},{"$f":"'[1]HOJA GENERAL DATOS IMPORTADOS'!E297","v":0},{"$f":"'[1]HOJA GENERAL DATOS IMPORTADOS'!F297","v":0},{"$f":"'[1]HOJA GENERAL DATOS IMPORTADOS'!G297","v":0},{"$f":"'[1]HOJA GENERAL DATOS IMPORTADOS'!H297","v":0},{"$f":"'[1]HOJA GENERAL DATOS IMPORTADOS'!I297","v":0},{"$f":"'[1]HOJA GENERAL DATOS IMPORTADOS'!J297","v":0},{"$f":"'[1]HOJA GENERAL DATOS IMPORTADOS'!K297","v":0},{"$f":"'[1]HOJA GENERAL DATOS IMPORTADOS'!L297","v":0},{"$f":"'[1]HOJA GENERAL DATOS IMPORTADOS'!M297","v":0},{"$f":"'[1]HOJA GENERAL DATOS IMPORTADOS'!N297","v":0},{"$f":"'[1]HOJA GENERAL DATOS IMPORTADOS'!O297","v":0},{"$f":"'[1]HOJA GENERAL DATOS IMPORTADOS'!P297","v":0},{"$f":"'[1]HOJA GENERAL DATOS IMPORTADOS'!Q297","v":0},{"$f":"'[1]HOJA GENERAL DATOS IMPORTADOS'!R297","v":0},{"$f":"'[1]HOJA GENERAL DATOS IMPORTADOS'!S297","v":0},{"$f":"'[1]HOJA GENERAL DATOS IMPORTADOS'!T297","v":0},{"$f":"'[1]HOJA GENERAL DATOS IMPORTADOS'!U297","v":0},{"$f":"'[1]HOJA GENERAL DATOS IMPORTADOS'!V297","v":0},{"$f":"'[1]HOJA GENERAL DATOS IMPORTADOS'!W297","v":0},{"$f":"'[1]HOJA GENERAL DATOS IMPORTADOS'!X297","v":0},{"$f":"'[1]HOJA GENERAL DATOS IMPORTADOS'!Y297","v":0},{"$f":"'[1]HOJA GENERAL DATOS IMPORTADOS'!Z297","v":0},{"$f":"'[1]HOJA GENERAL DATOS IMPORTADOS'!AA297","v":0},{"$f":"'[1]HOJA GENERAL DATOS IMPORTADOS'!AB297","v":0},{"$f":"'[1]HOJA GENERAL DATOS IMPORTADOS'!AC297","v":0},{"$f":"'[1]HOJA GENERAL DATOS IMPORTADOS'!AD297","v":0},{"$f":"'[1]HOJA GENERAL DATOS IMPORTADOS'!AE297","v":0},{"$f":"'[1]HOJA GENERAL DATOS IMPORTADOS'!AF297","v":0},{"$f":"'[1]HOJA GENERAL DATOS IMPORTADOS'!AG297","v":0},{"$f":"'[1]HOJA GENERAL DATOS IMPORTADOS'!AH297","v":0},{"$f":"'[1]HOJA GENERAL DATOS IMPORTADOS'!AI297","v":0}]
[{"$f":"'[1]HOJA GENERAL DATOS IMPORTADOS'!A298","v":0},{"$f":"'[1]HOJA GENERAL DATOS IMPORTADOS'!B298","v":0},{"$f":"'[1]HOJA GENERAL DATOS IMPORTADOS'!C298","v":0},{"$f":"'[1]HOJA GENERAL DATOS IMPORTADOS'!D298","v":0},{"$f":"'[1]HOJA GENERAL DATOS IMPORTADOS'!E298","v":0},{"$f":"'[1]HOJA GENERAL DATOS IMPORTADOS'!F298","v":0},{"$f":"'[1]HOJA GENERAL DATOS IMPORTADOS'!G298","v":0},{"$f":"'[1]HOJA GENERAL DATOS IMPORTADOS'!H298","v":0},{"$f":"'[1]HOJA GENERAL DATOS IMPORTADOS'!I298","v":0},{"$f":"'[1]HOJA GENERAL DATOS IMPORTADOS'!J298","v":0},{"$f":"'[1]HOJA GENERAL DATOS IMPORTADOS'!K298","v":0},{"$f":"'[1]HOJA GENERAL DATOS IMPORTADOS'!L298","v":0},{"$f":"'[1]HOJA GENERAL DATOS IMPORTADOS'!M298","v":0},{"$f":"'[1]HOJA GENERAL DATOS IMPORTADOS'!N298","v":0},{"$f":"'[1]HOJA GENERAL DATOS IMPORTADOS'!O298","v":0},{"$f":"'[1]HOJA GENERAL DATOS IMPORTADOS'!P298","v":0},{"$f":"'[1]HOJA GENERAL DATOS IMPORTADOS'!Q298","v":0},{"$f":"'[1]HOJA GENERAL DATOS IMPORTADOS'!R298","v":0},{"$f":"'[1]HOJA GENERAL DATOS IMPORTADOS'!S298","v":0},{"$f":"'[1]HOJA GENERAL DATOS IMPORTADOS'!T298","v":0},{"$f":"'[1]HOJA GENERAL DATOS IMPORTADOS'!U298","v":0},{"$f":"'[1]HOJA GENERAL DATOS IMPORTADOS'!V298","v":0},{"$f":"'[1]HOJA GENERAL DATOS IMPORTADOS'!W298","v":0},{"$f":"'[1]HOJA GENERAL DATOS IMPORTADOS'!X298","v":0},{"$f":"'[1]HOJA GENERAL DATOS IMPORTADOS'!Y298","v":0},{"$f":"'[1]HOJA GENERAL DATOS IMPORTADOS'!Z298","v":0},{"$f":"'[1]HOJA GENERAL DATOS IMPORTADOS'!AA298","v":0},{"$f":"'[1]HOJA GENERAL DATOS IMPORTADOS'!AB298","v":0},{"$f":"'[1]HOJA GENERAL DATOS IMPORTADOS'!AC298","v":0},{"$f":"'[1]HOJA GENERAL DATOS IMPORTADOS'!AD298","v":0},{"$f":"'[1]HOJA GENERAL DATOS IMPORTADOS'!AE298","v":0},{"$f":"'[1]HOJA GENERAL DATOS IMPORTADOS'!AF298","v":0},{"$f":"'[1]HOJA GENERAL DATOS IMPORTADOS'!AG298","v":0},{"$f":"'[1]HOJA GENERAL DATOS IMPORTADOS'!AH298","v":0},{"$f":"'[1]HOJA GENERAL DATOS IMPORTADOS'!AI298","v":0}]
[{"$f":"'[1]HOJA GENERAL DATOS IMPORTADOS'!A299","v":0},{"$f":"'[1]HOJA GENERAL DATOS IMPORTADOS'!B299","v":0},{"$f":"'[1]HOJA GENERAL DATOS IMPORTADOS'!C299","v":0},{"$f":"'[1]HOJA GENERAL DATOS IMPORTADOS'!D299","v":0},{"$f":"'[1]HOJA GENERAL DATOS IMPORTADOS'!E299","v":0},{"$f":"'[1]HOJA GENERAL DATOS IMPORTADOS'!F299","v":0},{"$f":"'[1]HOJA GENERAL DATOS IMPORTADOS'!G299","v":0},{"$f":"'[1]HOJA GENERAL DATOS IMPORTADOS'!H299","v":0},{"$f":"'[1]HOJA GENERAL DATOS IMPORTADOS'!I299","v":0},{"$f":"'[1]HOJA GENERAL DATOS IMPORTADOS'!J299","v":0},{"$f":"'[1]HOJA GENERAL DATOS IMPORTADOS'!K299","v":0},{"$f":"'[1]HOJA GENERAL DATOS IMPORTADOS'!L299","v":0},{"$f":"'[1]HOJA GENERAL DATOS IMPORTADOS'!M299","v":0},{"$f":"'[1]HOJA GENERAL DATOS IMPORTADOS'!N299","v":0},{"$f":"'[1]HOJA GENERAL DATOS IMPORTADOS'!O299","v":0},{"$f":"'[1]HOJA GENERAL DATOS IMPORTADOS'!P299","v":0},{"$f":"'[1]HOJA GENERAL DATOS IMPORTADOS'!Q299","v":0},{"$f":"'[1]HOJA GENERAL DATOS IMPORTADOS'!R299","v":0},{"$f":"'[1]HOJA GENERAL DATOS IMPORTADOS'!S299","v":0},{"$f":"'[1]HOJA GENERAL DATOS IMPORTADOS'!T299","v":0},{"$f":"'[1]HOJA GENERAL DATOS IMPORTADOS'!U299","v":0},{"$f":"'[1]HOJA GENERAL DATOS IMPORTADOS'!V299","v":0},{"$f":"'[1]HOJA GENERAL DATOS IMPORTADOS'!W299","v":0},{"$f":"'[1]HOJA GENERAL DATOS IMPORTADOS'!X299","v":0},{"$f":"'[1]HOJA GENERAL DATOS IMPORTADOS'!Y299","v":0},{"$f":"'[1]HOJA GENERAL DATOS IMPORTADOS'!Z299","v":0},{"$f":"'[1]HOJA GENERAL DATOS IMPORTADOS'!AA299","v":0},{"$f":"'[1]HOJA GENERAL DATOS IMPORTADOS'!AB299","v":0},{"$f":"'[1]HOJA GENERAL DATOS IMPORTADOS'!AC299","v":0},{"$f":"'[1]HOJA GENERAL DATOS IMPORTADOS'!AD299","v":0},{"$f":"'[1]HOJA GENERAL DATOS IMPORTADOS'!AE299","v":0},{"$f":"'[1]HOJA GENERAL DATOS IMPORTADOS'!AF299","v":0},{"$f":"'[1]HOJA GENERAL DATOS IMPORTADOS'!AG299","v":0},{"$f":"'[1]HOJA GENERAL DATOS IMPORTADOS'!AH299","v":0},{"$f":"'[1]HOJA GENERAL DATOS IMPORTADOS'!AI299","v":0}]
[{"$f":"'[1]HOJA GENERAL DATOS IMPORTADOS'!A300","v":0},{"$f":"'[1]HOJA GENERAL DATOS IMPORTADOS'!B300","v":0},{"$f":"'[1]HOJA GENERAL DATOS IMPORTADOS'!C300","v":0},{"$f":"'[1]HOJA GENERAL DATOS IMPORTADOS'!D300","v":0},{"$f":"'[1]HOJA GENERAL DATOS IMPORTADOS'!E300","v":0},{"$f":"'[1]HOJA GENERAL DATOS IMPORTADOS'!F300","v":0},{"$f":"'[1]HOJA GENERAL DATOS IMPORTADOS'!G300","v":0},{"$f":"'[1]HOJA GENERAL DATOS IMPORTADOS'!H300","v":0},{"$f":"'[1]HOJA GENERAL DATOS IMPORTADOS'!I300","v":0},{"$f":"'[1]HOJA GENERAL DATOS IMPORTADOS'!J300","v":0},{"$f":"'[1]HOJA GENERAL DATOS IMPORTADOS'!K300","v":0},{"$f":"'[1]HOJA GENERAL DATOS IMPORTADOS'!L300","v":0},{"$f":"'[1]HOJA GENERAL DATOS IMPORTADOS'!M300","v":0},{"$f":"'[1]HOJA GENERAL DATOS IMPORTADOS'!N300","v":0},{"$f":"'[1]HOJA GENERAL DATOS IMPORTADOS'!O300","v":0},{"$f":"'[1]HOJA GENERAL DATOS IMPORTADOS'!P300","v":0},{"$f":"'[1]HOJA GENERAL DATOS IMPORTADOS'!Q300","v":0},{"$f":"'[1]HOJA GENERAL DATOS IMPORTADOS'!R300","v":0},{"$f":"'[1]HOJA GENERAL DATOS IMPORTADOS'!S300","v":0},{"$f":"'[1]HOJA GENERAL DATOS IMPORTADOS'!T300","v":0},{"$f":"'[1]HOJA GENERAL DATOS IMPORTADOS'!U300","v":0},{"$f":"'[1]HOJA GENERAL DATOS IMPORTADOS'!V300","v":0},{"$f":"'[1]HOJA GENERAL DATOS IMPORTADOS'!W300","v":0},{"$f":"'[1]HOJA GENERAL DATOS IMPORTADOS'!X300","v":0},{"$f":"'[1]HOJA GENERAL DATOS IMPORTADOS'!Y300","v":0},{"$f":"'[1]HOJA GENERAL DATOS IMPORTADOS'!Z300","v":0},{"$f":"'[1]HOJA GENERAL DATOS IMPORTADOS'!AA300","v":0},{"$f":"'[1]HOJA GENERAL DATOS IMPORTADOS'!AB300","v":0},{"$f":"'[1]HOJA GENERAL DATOS IMPORTADOS'!AC300","v":0},{"$f":"'[1]HOJA GENERAL DATOS IMPORTADOS'!AD300","v":0},{"$f":"'[1]HOJA GENERAL DATOS IMPORTADOS'!AE300","v":0},{"$f":"'[1]HOJA GENERAL DATOS IMPORTADOS'!AF300","v":0},{"$f":"'[1]HOJA GENERAL DATOS IMPORTADOS'!AG300","v":0},{"$f":"'[1]HOJA GENERAL DATOS IMPORTADOS'!AH300","v":0},{"$f":"'[1]HOJA GENERAL DATOS IMPORTADOS'!AI300","v":0}]
[{"$f":"'[1]HOJA GENERAL DATOS IMPORTADOS'!A301","v":0},{"$f":"'[1]HOJA GENERAL DATOS IMPORTADOS'!B301","v":0},{"$f":"'[1]HOJA GENERAL DATOS IMPORTADOS'!C301","v":0},{"$f":"'[1]HOJA GENERAL DATOS IMPORTADOS'!D301","v":0},{"$f":"'[1]HOJA GENERAL DATOS IMPORTADOS'!E301","v":0},{"$f":"'[1]HOJA GENERAL DATOS IMPORTADOS'!F301","v":0},{"$f":"'[1]HOJA GENERAL DATOS IMPORTADOS'!G301","v":0},{"$f":"'[1]HOJA GENERAL DATOS IMPORTADOS'!H301","v":0},{"$f":"'[1]HOJA GENERAL DATOS IMPORTADOS'!I301","v":0},{"$f":"'[1]HOJA GENERAL DATOS IMPORTADOS'!J301","v":0},{"$f":"'[1]HOJA GENERAL DATOS IMPORTADOS'!K301","v":0},{"$f":"'[1]HOJA GENERAL DATOS IMPORTADOS'!L301","v":0},{"$f":"'[1]HOJA GENERAL DATOS IMPORTADOS'!M301","v":0},{"$f":"'[1]HOJA GENERAL DATOS IMPORTADOS'!N301","v":0},{"$f":"'[1]HOJA GENERAL DATOS IMPORTADOS'!O301","v":0},{"$f":"'[1]HOJA GENERAL DATOS IMPORTADOS'!P301","v":0},{"$f":"'[1]HOJA GENERAL DATOS IMPORTADOS'!Q301","v":0},{"$f":"'[1]HOJA GENERAL DATOS IMPORTADOS'!R301","v":0},{"$f":"'[1]HOJA GENERAL DATOS IMPORTADOS'!S301","v":0},{"$f":"'[1]HOJA GENERAL DATOS IMPORTADOS'!T301","v":0},{"$f":"'[1]HOJA GENERAL DATOS IMPORTADOS'!U301","v":0},{"$f":"'[1]HOJA GENERAL DATOS IMPORTADOS'!V301","v":0},{"$f":"'[1]HOJA GENERAL DATOS IMPORTADOS'!W301","v":0},{"$f":"'[1]HOJA GENERAL DATOS IMPORTADOS'!X301","v":0},{"$f":"'[1]HOJA GENERAL DATOS IMPORTADOS'!Y301","v":0},{"$f":"'[1]HOJA GENERAL DATOS IMPORTADOS'!Z301","v":0},{"$f":"'[1]HOJA GENERAL DATOS IMPORTADOS'!AA301","v":0},{"$f":"'[1]HOJA GENERAL DATOS IMPORTADOS'!AB301","v":0},{"$f":"'[1]HOJA GENERAL DATOS IMPORTADOS'!AC301","v":0},{"$f":"'[1]HOJA GENERAL DATOS IMPORTADOS'!AD301","v":0},{"$f":"'[1]HOJA GENERAL DATOS IMPORTADOS'!AE301","v":0},{"$f":"'[1]HOJA GENERAL DATOS IMPORTADOS'!AF301","v":0},{"$f":"'[1]HOJA GENERAL DATOS IMPORTADOS'!AG301","v":0},{"$f":"'[1]HOJA GENERAL DATOS IMPORTADOS'!AH301","v":0},{"$f":"'[1]HOJA GENERAL DATOS IMPORTADOS'!AI301","v":0}]
[{"$f":"'[1]HOJA GENERAL DATOS IMPORTADOS'!A302","v":0},{"$f":"'[1]HOJA GENERAL DATOS IMPORTADOS'!B302","v":0},{"$f":"'[1]HOJA GENERAL DATOS IMPORTADOS'!C302","v":0},{"$f":"'[1]HOJA GENERAL DATOS IMPORTADOS'!D302","v":0},{"$f":"'[1]HOJA GENERAL DATOS IMPORTADOS'!E302","v":0},{"$f":"'[1]HOJA GENERAL DATOS IMPORTADOS'!F302","v":0},{"$f":"'[1]HOJA GENERAL DATOS IMPORTADOS'!G302","v":0},{"$f":"'[1]HOJA GENERAL DATOS IMPORTADOS'!H302","v":0},{"$f":"'[1]HOJA GENERAL DATOS IMPORTADOS'!I302","v":0},{"$f":"'[1]HOJA GENERAL DATOS IMPORTADOS'!J302","v":0},{"$f":"'[1]HOJA GENERAL DATOS IMPORTADOS'!K302","v":0},{"$f":"'[1]HOJA GENERAL DATOS IMPORTADOS'!L302","v":0},{"$f":"'[1]HOJA GENERAL DATOS IMPORTADOS'!M302","v":0},{"$f":"'[1]HOJA GENERAL DATOS IMPORTADOS'!N302","v":0},{"$f":"'[1]HOJA GENERAL DATOS IMPORTADOS'!O302","v":0},{"$f":"'[1]HOJA GENERAL DATOS IMPORTADOS'!P302","v":0},{"$f":"'[1]HOJA GENERAL DATOS IMPORTADOS'!Q302","v":0},{"$f":"'[1]HOJA GENERAL DATOS IMPORTADOS'!R302","v":0},{"$f":"'[1]HOJA GENERAL DATOS IMPORTADOS'!S302","v":0},{"$f":"'[1]HOJA GENERAL DATOS IMPORTADOS'!T302","v":0},{"$f":"'[1]HOJA GENERAL DATOS IMPORTADOS'!U302","v":0},{"$f":"'[1]HOJA GENERAL DATOS IMPORTADOS'!V302","v":0},{"$f":"'[1]HOJA GENERAL DATOS IMPORTADOS'!W302","v":0},{"$f":"'[1]HOJA GENERAL DATOS IMPORTADOS'!X302","v":0},{"$f":"'[1]HOJA GENERAL DATOS IMPORTADOS'!Y302","v":0},{"$f":"'[1]HOJA GENERAL DATOS IMPORTADOS'!Z302","v":0},{"$f":"'[1]HOJA GENERAL DATOS IMPORTADOS'!AA302","v":0},{"$f":"'[1]HOJA GENERAL DATOS IMPORTADOS'!AB302","v":0},{"$f":"'[1]HOJA GENERAL DATOS IMPORTADOS'!AC302","v":0},{"$f":"'[1]HOJA GENERAL DATOS IMPORTADOS'!AD302","v":0},{"$f":"'[1]HOJA GENERAL DATOS IMPORTADOS'!AE302","v":0},{"$f":"'[1]HOJA GENERAL DATOS IMPORTADOS'!AF302","v":0},{"$f":"'[1]HOJA GENERAL DATOS IMPORTADOS'!AG302","v":0},{"$f":"'[1]HOJA GENERAL DATOS IMPORTADOS'!AH302","v":0},{"$f":"'[1]HOJA GENERAL DATOS IMPORTADOS'!AI302","v":0}]
[{"$f":"'[1]HOJA GENERAL DATOS IMPORTADOS'!A303","v":0},{"$f":"'[1]HOJA GENERAL DATOS IMPORTADOS'!B303","v":0},{"$f":"'[1]HOJA GENERAL DATOS IMPORTADOS'!C303","v":0},{"$f":"'[1]HOJA GENERAL DATOS IMPORTADOS'!D303","v":0},{"$f":"'[1]HOJA GENERAL DATOS IMPORTADOS'!E303","v":0},{"$f":"'[1]HOJA GENERAL DATOS IMPORTADOS'!F303","v":0},{"$f":"'[1]HOJA GENERAL DATOS IMPORTADOS'!G303","v":0},{"$f":"'[1]HOJA GENERAL DATOS IMPORTADOS'!H303","v":0},{"$f":"'[1]HOJA GENERAL DATOS IMPORTADOS'!I303","v":0},{"$f":"'[1]HOJA GENERAL DATOS IMPORTADOS'!J303","v":0},{"$f":"'[1]HOJA GENERAL DATOS IMPORTADOS'!K303","v":0},{"$f":"'[1]HOJA GENERAL DATOS IMPORTADOS'!L303","v":0},{"$f":"'[1]HOJA GENERAL DATOS IMPORTADOS'!M303","v":0},{"$f":"'[1]HOJA GENERAL DATOS IMPORTADOS'!N303","v":0},{"$f":"'[1]HOJA GENERAL DATOS IMPORTADOS'!O303","v":0},{"$f":"'[1]HOJA GENERAL DATOS IMPORTADOS'!P303","v":0},{"$f":"'[1]HOJA GENERAL DATOS IMPORTADOS'!Q303","v":0},{"$f":"'[1]HOJA GENERAL DATOS IMPORTADOS'!R303","v":0},{"$f":"'[1]HOJA GENERAL DATOS IMPORTADOS'!S303","v":0},{"$f":"'[1]HOJA GENERAL DATOS IMPORTADOS'!T303","v":0},{"$f":"'[1]HOJA GENERAL DATOS IMPORTADOS'!U303","v":0},{"$f":"'[1]HOJA GENERAL DATOS IMPORTADOS'!V303","v":0},{"$f":"'[1]HOJA GENERAL DATOS IMPORTADOS'!W303","v":0},{"$f":"'[1]HOJA GENERAL DATOS IMPORTADOS'!X303","v":0},{"$f":"'[1]HOJA GENERAL DATOS IMPORTADOS'!Y303","v":0},{"$f":"'[1]HOJA GENERAL DATOS IMPORTADOS'!Z303","v":0},{"$f":"'[1]HOJA GENERAL DATOS IMPORTADOS'!AA303","v":0},{"$f":"'[1]HOJA GENERAL DATOS IMPORTADOS'!AB303","v":0},{"$f":"'[1]HOJA GENERAL DATOS IMPORTADOS'!AC303","v":0},{"$f":"'[1]HOJA GENERAL DATOS IMPORTADOS'!AD303","v":0},{"$f":"'[1]HOJA GENERAL DATOS IMPORTADOS'!AE303","v":0},{"$f":"'[1]HOJA GENERAL DATOS IMPORTADOS'!AF303","v":0},{"$f":"'[1]HOJA GENERAL DATOS IMPORTADOS'!AG303","v":0},{"$f":"'[1]HOJA GENERAL DATOS IMPORTADOS'!AH303","v":0},{"$f":"'[1]HOJA GENERAL DATOS IMPORTADOS'!AI303","v":0}]
[{"$f":"'[1]HOJA GENERAL DATOS IMPORTADOS'!A304","v":0},{"$f":"'[1]HOJA GENERAL DATOS IMPORTADOS'!B304","v":0},{"$f":"'[1]HOJA GENERAL DATOS IMPORTADOS'!C304","v":0},{"$f":"'[1]HOJA GENERAL DATOS IMPORTADOS'!D304","v":0},{"$f":"'[1]HOJA GENERAL DATOS IMPORTADOS'!E304","v":0},{"$f":"'[1]HOJA GENERAL DATOS IMPORTADOS'!F304","v":0},{"$f":"'[1]HOJA GENERAL DATOS IMPORTADOS'!G304","v":0},{"$f":"'[1]HOJA GENERAL DATOS IMPORTADOS'!H304","v":0},{"$f":"'[1]HOJA GENERAL DATOS IMPORTADOS'!I304","v":0},{"$f":"'[1]HOJA GENERAL DATOS IMPORTADOS'!J304","v":0},{"$f":"'[1]HOJA GENERAL DATOS IMPORTADOS'!K304","v":0},{"$f":"'[1]HOJA GENERAL DATOS IMPORTADOS'!L304","v":0},{"$f":"'[1]HOJA GENERAL DATOS IMPORTADOS'!M304","v":0},{"$f":"'[1]HOJA GENERAL DATOS IMPORTADOS'!N304","v":0},{"$f":"'[1]HOJA GENERAL DATOS IMPORTADOS'!O304","v":0},{"$f":"'[1]HOJA GENERAL DATOS IMPORTADOS'!P304","v":0},{"$f":"'[1]HOJA GENERAL DATOS IMPORTADOS'!Q304","v":0},{"$f":"'[1]HOJA GENERAL DATOS IMPORTADOS'!R304","v":0},{"$f":"'[1]HOJA GENERAL DATOS IMPORTADOS'!S304","v":0},{"$f":"'[1]HOJA GENERAL DATOS IMPORTADOS'!T304","v":0},{"$f":"'[1]HOJA GENERAL DATOS IMPORTADOS'!U304","v":0},{"$f":"'[1]HOJA GENERAL DATOS IMPORTADOS'!V304","v":0},{"$f":"'[1]HOJA GENERAL DATOS IMPORTADOS'!W304","v":0},{"$f":"'[1]HOJA GENERAL DATOS IMPORTADOS'!X304","v":0},{"$f":"'[1]HOJA GENERAL DATOS IMPORTADOS'!Y304","v":0},{"$f":"'[1]HOJA GENERAL DATOS IMPORTADOS'!Z304","v":0},{"$f":"'[1]HOJA GENERAL DATOS IMPORTADOS'!AA304","v":0},{"$f":"'[1]HOJA GENERAL DATOS IMPORTADOS'!AB304","v":0},{"$f":"'[1]HOJA GENERAL DATOS IMPORTADOS'!AC304","v":0},{"$f":"'[1]HOJA GENERAL DATOS IMPORTADOS'!AD304","v":0},{"$f":"'[1]HOJA GENERAL DATOS IMPORTADOS'!AE304","v":0},{"$f":"'[1]HOJA GENERAL DATOS IMPORTADOS'!AF304","v":0},{"$f":"'[1]HOJA GENERAL DATOS IMPORTADOS'!AG304","v":0},{"$f":"'[1]HOJA GENERAL DATOS IMPORTADOS'!AH304","v":0},{"$f":"'[1]HOJA GENERAL DATOS IMPORTADOS'!AI304","v":0}]
[{"$f":"'[1]HOJA GENERAL DATOS IMPORTADOS'!A305","v":0},{"$f":"'[1]HOJA GENERAL DATOS IMPORTADOS'!B305","v":0},{"$f":"'[1]HOJA GENERAL DATOS IMPORTADOS'!C305","v":0},{"$f":"'[1]HOJA GENERAL DATOS IMPORTADOS'!D305","v":0},{"$f":"'[1]HOJA GENERAL DATOS IMPORTADOS'!E305","v":0},{"$f":"'[1]HOJA GENERAL DATOS IMPORTADOS'!F305","v":0},{"$f":"'[1]HOJA GENERAL DATOS IMPORTADOS'!G305","v":0},{"$f":"'[1]HOJA GENERAL DATOS IMPORTADOS'!H305","v":0},{"$f":"'[1]HOJA GENERAL DATOS IMPORTADOS'!I305","v":0},{"$f":"'[1]HOJA GENERAL DATOS IMPORTADOS'!J305","v":0},{"$f":"'[1]HOJA GENERAL DATOS IMPORTADOS'!K305","v":0},{"$f":"'[1]HOJA GENERAL DATOS IMPORTADOS'!L305","v":0},{"$f":"'[1]HOJA GENERAL DATOS IMPORTADOS'!M305","v":0},{"$f":"'[1]HOJA GENERAL DATOS IMPORTADOS'!N305","v":0},{"$f":"'[1]HOJA GENERAL DATOS IMPORTADOS'!O305","v":0},{"$f":"'[1]HOJA GENERAL DATOS IMPORTADOS'!P305","v":0},{"$f":"'[1]HOJA GENERAL DATOS IMPORTADOS'!Q305","v":0},{"$f":"'[1]HOJA GENERAL DATOS IMPORTADOS'!R305","v":0},{"$f":"'[1]HOJA GENERAL DATOS IMPORTADOS'!S305","v":0},{"$f":"'[1]HOJA GENERAL DATOS IMPORTADOS'!T305","v":0},{"$f":"'[1]HOJA GENERAL DATOS IMPORTADOS'!U305","v":0},{"$f":"'[1]HOJA GENERAL DATOS IMPORTADOS'!V305","v":0},{"$f":"'[1]HOJA GENERAL DATOS IMPORTADOS'!W305","v":0},{"$f":"'[1]HOJA GENERAL DATOS IMPORTADOS'!X305","v":0},{"$f":"'[1]HOJA GENERAL DATOS IMPORTADOS'!Y305","v":0},{"$f":"'[1]HOJA GENERAL DATOS IMPORTADOS'!Z305","v":0},{"$f":"'[1]HOJA GENERAL DATOS IMPORTADOS'!AA305","v":0},{"$f":"'[1]HOJA GENERAL DATOS IMPORTADOS'!AB305","v":0},{"$f":"'[1]HOJA GENERAL DATOS IMPORTADOS'!AC305","v":0},{"$f":"'[1]HOJA GENERAL DATOS IMPORTADOS'!AD305","v":0},{"$f":"'[1]HOJA GENERAL DATOS IMPORTADOS'!AE305","v":0},{"$f":"'[1]HOJA GENERAL DATOS IMPORTADOS'!AF305","v":0},{"$f":"'[1]HOJA GENERAL DATOS IMPORTADOS'!AG305","v":0},{"$f":"'[1]HOJA GENERAL DATOS IMPORTADOS'!AH305","v":0},{"$f":"'[1]HOJA GENERAL DATOS IMPORTADOS'!AI305","v":0}]
[{"$f":"'[1]HOJA GENERAL DATOS IMPORTADOS'!A306","v":0},{"$f":"'[1]HOJA GENERAL DATOS IMPORTADOS'!B306","v":0},{"$f":"'[1]HOJA GENERAL DATOS IMPORTADOS'!C306","v":0},{"$f":"'[1]HOJA GENERAL DATOS IMPORTADOS'!D306","v":0},{"$f":"'[1]HOJA GENERAL DATOS IMPORTADOS'!E306","v":0},{"$f":"'[1]HOJA GENERAL DATOS IMPORTADOS'!F306","v":0},{"$f":"'[1]HOJA GENERAL DATOS IMPORTADOS'!G306","v":0},{"$f":"'[1]HOJA GENERAL DATOS IMPORTADOS'!H306","v":0},{"$f":"'[1]HOJA GENERAL DATOS IMPORTADOS'!I306","v":0},{"$f":"'[1]HOJA GENERAL DATOS IMPORTADOS'!J306","v":0},{"$f":"'[1]HOJA GENERAL DATOS IMPORTADOS'!K306","v":0},{"$f":"'[1]HOJA GENERAL DATOS IMPORTADOS'!L306","v":0},{"$f":"'[1]HOJA GENERAL DATOS IMPORTADOS'!M306","v":0},{"$f":"'[1]HOJA GENERAL DATOS IMPORTADOS'!N306","v":0},{"$f":"'[1]HOJA GENERAL DATOS IMPORTADOS'!O306","v":0},{"$f":"'[1]HOJA GENERAL DATOS IMPORTADOS'!P306","v":0},{"$f":"'[1]HOJA GENERAL DATOS IMPORTADOS'!Q306","v":0},{"$f":"'[1]HOJA GENERAL DATOS IMPORTADOS'!R306","v":0},{"$f":"'[1]HOJA GENERAL DATOS IMPORTADOS'!S306","v":0},{"$f":"'[1]HOJA GENERAL DATOS IMPORTADOS'!T306","v":0},{"$f":"'[1]HOJA GENERAL DATOS IMPORTADOS'!U306","v":0},{"$f":"'[1]HOJA GENERAL DATOS IMPORTADOS'!V306","v":0},{"$f":"'[1]HOJA GENERAL DATOS IMPORTADOS'!W306","v":0},{"$f":"'[1]HOJA GENERAL DATOS IMPORTADOS'!X306","v":0},{"$f":"'[1]HOJA GENERAL DATOS IMPORTADOS'!Y306","v":0},{"$f":"'[1]HOJA GENERAL DATOS IMPORTADOS'!Z306","v":0},{"$f":"'[1]HOJA GENERAL DATOS IMPORTADOS'!AA306","v":0},{"$f":"'[1]HOJA GENERAL DATOS IMPORTADOS'!AB306","v":0},{"$f":"'[1]HOJA GENERAL DATOS IMPORTADOS'!AC306","v":0},{"$f":"'[1]HOJA GENERAL DATOS IMPORTADOS'!AD306","v":0},{"$f":"'[1]HOJA GENERAL DATOS IMPORTADOS'!AE306","v":0},{"$f":"'[1]HOJA GENERAL DATOS IMPORTADOS'!AF306","v":0},{"$f":"'[1]HOJA GENERAL DATOS IMPORTADOS'!AG306","v":0},{"$f":"'[1]HOJA GENERAL DATOS IMPORTADOS'!AH306","v":0},{"$f":"'[1]HOJA GENERAL DATOS IMPORTADOS'!AI306","v":0}]
[{"$f":"'[1]HOJA GENERAL DATOS IMPORTADOS'!A307","v":0},{"$f":"'[1]HOJA GENERAL DATOS IMPORTADOS'!B307","v":0},{"$f":"'[1]HOJA GENERAL DATOS IMPORTADOS'!C307","v":0},{"$f":"'[1]HOJA GENERAL DATOS IMPORTADOS'!D307","v":0},{"$f":"'[1]HOJA GENERAL DATOS IMPORTADOS'!E307","v":0},{"$f":"'[1]HOJA GENERAL DATOS IMPORTADOS'!F307","v":0},{"$f":"'[1]HOJA GENERAL DATOS IMPORTADOS'!G307","v":0},{"$f":"'[1]HOJA GENERAL DATOS IMPORTADOS'!H307","v":0},{"$f":"'[1]HOJA GENERAL DATOS IMPORTADOS'!I307","v":0},{"$f":"'[1]HOJA GENERAL DATOS IMPORTADOS'!J307","v":0},{"$f":"'[1]HOJA GENERAL DATOS IMPORTADOS'!K307","v":0},{"$f":"'[1]HOJA GENERAL DATOS IMPORTADOS'!L307","v":0},{"$f":"'[1]HOJA GENERAL DATOS IMPORTADOS'!M307","v":0},{"$f":"'[1]HOJA GENERAL DATOS IMPORTADOS'!N307","v":0},{"$f":"'[1]HOJA GENERAL DATOS IMPORTADOS'!O307","v":0},{"$f":"'[1]HOJA GENERAL DATOS IMPORTADOS'!P307","v":0},{"$f":"'[1]HOJA GENERAL DATOS IMPORTADOS'!Q307","v":0},{"$f":"'[1]HOJA GENERAL DATOS IMPORTADOS'!R307","v":0},{"$f":"'[1]HOJA GENERAL DATOS IMPORTADOS'!S307","v":0},{"$f":"'[1]HOJA GENERAL DATOS IMPORTADOS'!T307","v":0},{"$f":"'[1]HOJA GENERAL DATOS IMPORTADOS'!U307","v":0},{"$f":"'[1]HOJA GENERAL DATOS IMPORTADOS'!V307","v":0},{"$f":"'[1]HOJA GENERAL DATOS IMPORTADOS'!W307","v":0},{"$f":"'[1]HOJA GENERAL DATOS IMPORTADOS'!X307","v":0},{"$f":"'[1]HOJA GENERAL DATOS IMPORTADOS'!Y307","v":0},{"$f":"'[1]HOJA GENERAL DATOS IMPORTADOS'!Z307","v":0},{"$f":"'[1]HOJA GENERAL DATOS IMPORTADOS'!AA307","v":0},{"$f":"'[1]HOJA GENERAL DATOS IMPORTADOS'!AB307","v":0},{"$f":"'[1]HOJA GENERAL DATOS IMPORTADOS'!AC307","v":0},{"$f":"'[1]HOJA GENERAL DATOS IMPORTADOS'!AD307","v":0},{"$f":"'[1]HOJA GENERAL DATOS IMPORTADOS'!AE307","v":0},{"$f":"'[1]HOJA GENERAL DATOS IMPORTADOS'!AF307","v":0},{"$f":"'[1]HOJA GENERAL DATOS IMPORTADOS'!AG307","v":0},{"$f":"'[1]HOJA GENERAL DATOS IMPORTADOS'!AH307","v":0},{"$f":"'[1]HOJA GENERAL DATOS IMPORTADOS'!AI307","v":0}]
[{"$f":"'[1]HOJA GENERAL DATOS IMPORTADOS'!A308","v":0},{"$f":"'[1]HOJA GENERAL DATOS IMPORTADOS'!B308","v":0},{"$f":"'[1]HOJA GENERAL DATOS IMPORTADOS'!C308","v":0},{"$f":"'[1]HOJA GENERAL DATOS IMPORTADOS'!D308","v":0},{"$f":"'[1]HOJA GENERAL DATOS IMPORTADOS'!E308","v":0},{"$f":"'[1]HOJA GENERAL DATOS IMPORTADOS'!F308","v":0},{"$f":"'[1]HOJA GENERAL DATOS IMPORTADOS'!G308","v":0},{"$f":"'[1]HOJA GENERAL DATOS IMPORTADOS'!H308","v":0},{"$f":"'[1]HOJA GENERAL DATOS IMPORTADOS'!I308","v":0},{"$f":"'[1]HOJA GENERAL DATOS IMPORTADOS'!J308","v":0},{"$f":"'[1]HOJA GENERAL DATOS IMPORTADOS'!K308","v":0},{"$f":"'[1]HOJA GENERAL DATOS IMPORTADOS'!L308","v":0},{"$f":"'[1]HOJA GENERAL DATOS IMPORTADOS'!M308","v":0},{"$f":"'[1]HOJA GENERAL DATOS IMPORTADOS'!N308","v":0},{"$f":"'[1]HOJA GENERAL DATOS IMPORTADOS'!O308","v":0},{"$f":"'[1]HOJA GENERAL DATOS IMPORTADOS'!P308","v":0},{"$f":"'[1]HOJA GENERAL DATOS IMPORTADOS'!Q308","v":0},{"$f":"'[1]HOJA GENERAL DATOS IMPORTADOS'!R308","v":0},{"$f":"'[1]HOJA GENERAL DATOS IMPORTADOS'!S308","v":0},{"$f":"'[1]HOJA GENERAL DATOS IMPORTADOS'!T308","v":0},{"$f":"'[1]HOJA GENERAL DATOS IMPORTADOS'!U308","v":0},{"$f":"'[1]HOJA GENERAL DATOS IMPORTADOS'!V308","v":0},{"$f":"'[1]HOJA GENERAL DATOS IMPORTADOS'!W308","v":0},{"$f":"'[1]HOJA GENERAL DATOS IMPORTADOS'!X308","v":0},{"$f":"'[1]HOJA GENERAL DATOS IMPORTADOS'!Y308","v":0},{"$f":"'[1]HOJA GENERAL DATOS IMPORTADOS'!Z308","v":0},{"$f":"'[1]HOJA GENERAL DATOS IMPORTADOS'!AA308","v":0},{"$f":"'[1]HOJA GENERAL DATOS IMPORTADOS'!AB308","v":0},{"$f":"'[1]HOJA GENERAL DATOS IMPORTADOS'!AC308","v":0},{"$f":"'[1]HOJA GENERAL DATOS IMPORTADOS'!AD308","v":0},{"$f":"'[1]HOJA GENERAL DATOS IMPORTADOS'!AE308","v":0},{"$f":"'[1]HOJA GENERAL DATOS IMPORTADOS'!AF308","v":0},{"$f":"'[1]HOJA GENERAL DATOS IMPORTADOS'!AG308","v":0},{"$f":"'[1]HOJA GENERAL DATOS IMPORTADOS'!AH308","v":0},{"$f":"'[1]HOJA GENERAL DATOS IMPORTADOS'!AI308","v":0}]
[{"$f":"'[1]HOJA GENERAL DATOS IMPORTADOS'!A309","v":0},{"$f":"'[1]HOJA GENERAL DATOS IMPORTADOS'!B309","v":0},{"$f":"'[1]HOJA GENERAL DATOS IMPORTADOS'!C309","v":0},{"$f":"'[1]HOJA GENERAL DATOS IMPORTADOS'!D309","v":0},{"$f":"'[1]HOJA GENERAL DATOS IMPORTADOS'!E309","v":0},{"$f":"'[1]HOJA GENERAL DATOS IMPORTADOS'!F309","v":0},{"$f":"'[1]HOJA GENERAL DATOS IMPORTADOS'!G309","v":0},{"$f":"'[1]HOJA GENERAL DATOS IMPORTADOS'!H309","v":0},{"$f":"'[1]HOJA GENERAL DATOS IMPORTADOS'!I309","v":0},{"$f":"'[1]HOJA GENERAL DATOS IMPORTADOS'!J309","v":0},{"$f":"'[1]HOJA GENERAL DATOS IMPORTADOS'!K309","v":0},{"$f":"'[1]HOJA GENERAL DATOS IMPORTADOS'!L309","v":0},{"$f":"'[1]HOJA GENERAL DATOS IMPORTADOS'!M309","v":0},{"$f":"'[1]HOJA GENERAL DATOS IMPORTADOS'!N309","v":0},{"$f":"'[1]HOJA GENERAL DATOS IMPORTADOS'!O309","v":0},{"$f":"'[1]HOJA GENERAL DATOS IMPORTADOS'!P309","v":0},{"$f":"'[1]HOJA GENERAL DATOS IMPORTADOS'!Q309","v":0},{"$f":"'[1]HOJA GENERAL DATOS IMPORTADOS'!R309","v":0},{"$f":"'[1]HOJA GENERAL DATOS IMPORTADOS'!S309","v":0},{"$f":"'[1]HOJA GENERAL DATOS IMPORTADOS'!T309","v":0},{"$f":"'[1]HOJA GENERAL DATOS IMPORTADOS'!U309","v":0},{"$f":"'[1]HOJA GENERAL DATOS IMPORTADOS'!V309","v":0},{"$f":"'[1]HOJA GENERAL DATOS IMPORTADOS'!W309","v":0},{"$f":"'[1]HOJA GENERAL DATOS IMPORTADOS'!X309","v":0},{"$f":"'[1]HOJA GENERAL DATOS IMPORTADOS'!Y309","v":0},{"$f":"'[1]HOJA GENERAL DATOS IMPORTADOS'!Z309","v":0},{"$f":"'[1]HOJA GENERAL DATOS IMPORTADOS'!AA309","v":0},{"$f":"'[1]HOJA GENERAL DATOS IMPORTADOS'!AB309","v":0},{"$f":"'[1]HOJA GENERAL DATOS IMPORTADOS'!AC309","v":0},{"$f":"'[1]HOJA GENERAL DATOS IMPORTADOS'!AD309","v":0},{"$f":"'[1]HOJA GENERAL DATOS IMPORTADOS'!AE309","v":0},{"$f":"'[1]HOJA GENERAL DATOS IMPORTADOS'!AF309","v":0},{"$f":"'[1]HOJA GENERAL DATOS IMPORTADOS'!AG309","v":0},{"$f":"'[1]HOJA GENERAL DATOS IMPORTADOS'!AH309","v":0},{"$f":"'[1]HOJA GENERAL DATOS IMPORTADOS'!AI309","v":0}]
[{"$f":"'[1]HOJA GENERAL DATOS IMPORTADOS'!A310","v":0},{"$f":"'[1]HOJA GENERAL DATOS IMPORTADOS'!B310","v":0},{"$f":"'[1]HOJA GENERAL DATOS IMPORTADOS'!C310","v":0},{"$f":"'[1]HOJA GENERAL DATOS IMPORTADOS'!D310","v":0},{"$f":"'[1]HOJA GENERAL DATOS IMPORTADOS'!E310","v":0},{"$f":"'[1]HOJA GENERAL DATOS IMPORTADOS'!F310","v":0},{"$f":"'[1]HOJA GENERAL DATOS IMPORTADOS'!G310","v":0},{"$f":"'[1]HOJA GENERAL DATOS IMPORTADOS'!H310","v":0},{"$f":"'[1]HOJA GENERAL DATOS IMPORTADOS'!I310","v":0},{"$f":"'[1]HOJA GENERAL DATOS IMPORTADOS'!J310","v":0},{"$f":"'[1]HOJA GENERAL DATOS IMPORTADOS'!K310","v":0},{"$f":"'[1]HOJA GENERAL DATOS IMPORTADOS'!L310","v":0},{"$f":"'[1]HOJA GENERAL DATOS IMPORTADOS'!M310","v":0},{"$f":"'[1]HOJA GENERAL DATOS IMPORTADOS'!N310","v":0},{"$f":"'[1]HOJA GENERAL DATOS IMPORTADOS'!O310","v":0},{"$f":"'[1]HOJA GENERAL DATOS IMPORTADOS'!P310","v":0},{"$f":"'[1]HOJA GENERAL DATOS IMPORTADOS'!Q310","v":0},{"$f":"'[1]HOJA GENERAL DATOS IMPORTADOS'!R310","v":0},{"$f":"'[1]HOJA GENERAL DATOS IMPORTADOS'!S310","v":0},{"$f":"'[1]HOJA GENERAL DATOS IMPORTADOS'!T310","v":0},{"$f":"'[1]HOJA GENERAL DATOS IMPORTADOS'!U310","v":0},{"$f":"'[1]HOJA GENERAL DATOS IMPORTADOS'!V310","v":0},{"$f":"'[1]HOJA GENERAL DATOS IMPORTADOS'!W310","v":0},{"$f":"'[1]HOJA GENERAL DATOS IMPORTADOS'!X310","v":0},{"$f":"'[1]HOJA GENERAL DATOS IMPORTADOS'!Y310","v":0},{"$f":"'[1]HOJA GENERAL DATOS IMPORTADOS'!Z310","v":0},{"$f":"'[1]HOJA GENERAL DATOS IMPORTADOS'!AA310","v":0},{"$f":"'[1]HOJA GENERAL DATOS IMPORTADOS'!AB310","v":0},{"$f":"'[1]HOJA GENERAL DATOS IMPORTADOS'!AC310","v":0},{"$f":"'[1]HOJA GENERAL DATOS IMPORTADOS'!AD310","v":0},{"$f":"'[1]HOJA GENERAL DATOS IMPORTADOS'!AE310","v":0},{"$f":"'[1]HOJA GENERAL DATOS IMPORTADOS'!AF310","v":0},{"$f":"'[1]HOJA GENERAL DATOS IMPORTADOS'!AG310","v":0},{"$f":"'[1]HOJA GENERAL DATOS IMPORTADOS'!AH310","v":0},{"$f":"'[1]HOJA GENERAL DATOS IMPORTADOS'!AI310","v":0}]
[{"$f":"'[1]HOJA GENERAL DATOS IMPORTADOS'!A311","v":0},{"$f":"'[1]HOJA GENERAL DATOS IMPORTADOS'!B311","v":0},{"$f":"'[1]HOJA GENERAL DATOS IMPORTADOS'!C311","v":0},{"$f":"'[1]HOJA GENERAL DATOS IMPORTADOS'!D311","v":0},{"$f":"'[1]HOJA GENERAL DATOS IMPORTADOS'!E311","v":0},{"$f":"'[1]HOJA GENERAL DATOS IMPORTADOS'!F311","v":0},{"$f":"'[1]HOJA GENERAL DATOS IMPORTADOS'!G311","v":0},{"$f":"'[1]HOJA GENERAL DATOS IMPORTADOS'!H311","v":0},{"$f":"'[1]HOJA GENERAL DATOS IMPORTADOS'!I311","v":0},{"$f":"'[1]HOJA GENERAL DATOS IMPORTADOS'!J311","v":0},{"$f":"'[1]HOJA GENERAL DATOS IMPORTADOS'!K311","v":0},{"$f":"'[1]HOJA GENERAL DATOS IMPORTADOS'!L311","v":0},{"$f":"'[1]HOJA GENERAL DATOS IMPORTADOS'!M311","v":0},{"$f":"'[1]HOJA GENERAL DATOS IMPORTADOS'!N311","v":0},{"$f":"'[1]HOJA GENERAL DATOS IMPORTADOS'!O311","v":0},{"$f":"'[1]HOJA GENERAL DATOS IMPORTADOS'!P311","v":0},{"$f":"'[1]HOJA GENERAL DATOS IMPORTADOS'!Q311","v":0},{"$f":"'[1]HOJA GENERAL DATOS IMPORTADOS'!R311","v":0},{"$f":"'[1]HOJA GENERAL DATOS IMPORTADOS'!S311","v":0},{"$f":"'[1]HOJA GENERAL DATOS IMPORTADOS'!T311","v":0},{"$f":"'[1]HOJA GENERAL DATOS IMPORTADOS'!U311","v":0},{"$f":"'[1]HOJA GENERAL DATOS IMPORTADOS'!V311","v":0},{"$f":"'[1]HOJA GENERAL DATOS IMPORTADOS'!W311","v":0},{"$f":"'[1]HOJA GENERAL DATOS IMPORTADOS'!X311","v":0},{"$f":"'[1]HOJA GENERAL DATOS IMPORTADOS'!Y311","v":0},{"$f":"'[1]HOJA GENERAL DATOS IMPORTADOS'!Z311","v":0},{"$f":"'[1]HOJA GENERAL DATOS IMPORTADOS'!AA311","v":0},{"$f":"'[1]HOJA GENERAL DATOS IMPORTADOS'!AB311","v":0},{"$f":"'[1]HOJA GENERAL DATOS IMPORTADOS'!AC311","v":0},{"$f":"'[1]HOJA GENERAL DATOS IMPORTADOS'!AD311","v":0},{"$f":"'[1]HOJA GENERAL DATOS IMPORTADOS'!AE311","v":0},{"$f":"'[1]HOJA GENERAL DATOS IMPORTADOS'!AF311","v":0},{"$f":"'[1]HOJA GENERAL DATOS IMPORTADOS'!AG311","v":0},{"$f":"'[1]HOJA GENERAL DATOS IMPORTADOS'!AH311","v":0},{"$f":"'[1]HOJA GENERAL DATOS IMPORTADOS'!AI311","v":0}]
[{"$f":"'[1]HOJA GENERAL DATOS IMPORTADOS'!A312","v":0},{"$f":"'[1]HOJA GENERAL DATOS IMPORTADOS'!B312","v":0},{"$f":"'[1]HOJA GENERAL DATOS IMPORTADOS'!C312","v":0},{"$f":"'[1]HOJA GENERAL DATOS IMPORTADOS'!D312","v":0},{"$f":"'[1]HOJA GENERAL DATOS IMPORTADOS'!E312","v":0},{"$f":"'[1]HOJA GENERAL DATOS IMPORTADOS'!F312","v":0},{"$f":"'[1]HOJA GENERAL DATOS IMPORTADOS'!G312","v":0},{"$f":"'[1]HOJA GENERAL DATOS IMPORTADOS'!H312","v":0},{"$f":"'[1]HOJA GENERAL DATOS IMPORTADOS'!I312","v":0},{"$f":"'[1]HOJA GENERAL DATOS IMPORTADOS'!J312","v":0},{"$f":"'[1]HOJA GENERAL DATOS IMPORTADOS'!K312","v":0},{"$f":"'[1]HOJA GENERAL DATOS IMPORTADOS'!L312","v":0},{"$f":"'[1]HOJA GENERAL DATOS IMPORTADOS'!M312","v":0},{"$f":"'[1]HOJA GENERAL DATOS IMPORTADOS'!N312","v":0},{"$f":"'[1]HOJA GENERAL DATOS IMPORTADOS'!O312","v":0},{"$f":"'[1]HOJA GENERAL DATOS IMPORTADOS'!P312","v":0},{"$f":"'[1]HOJA GENERAL DATOS IMPORTADOS'!Q312","v":0},{"$f":"'[1]HOJA GENERAL DATOS IMPORTADOS'!R312","v":0},{"$f":"'[1]HOJA GENERAL DATOS IMPORTADOS'!S312","v":0},{"$f":"'[1]HOJA GENERAL DATOS IMPORTADOS'!T312","v":0},{"$f":"'[1]HOJA GENERAL DATOS IMPORTADOS'!U312","v":0},{"$f":"'[1]HOJA GENERAL DATOS IMPORTADOS'!V312","v":0},{"$f":"'[1]HOJA GENERAL DATOS IMPORTADOS'!W312","v":0},{"$f":"'[1]HOJA GENERAL DATOS IMPORTADOS'!X312","v":0},{"$f":"'[1]HOJA GENERAL DATOS IMPORTADOS'!Y312","v":0},{"$f":"'[1]HOJA GENERAL DATOS IMPORTADOS'!Z312","v":0},{"$f":"'[1]HOJA GENERAL DATOS IMPORTADOS'!AA312","v":0},{"$f":"'[1]HOJA GENERAL DATOS IMPORTADOS'!AB312","v":0},{"$f":"'[1]HOJA GENERAL DATOS IMPORTADOS'!AC312","v":0},{"$f":"'[1]HOJA GENERAL DATOS IMPORTADOS'!AD312","v":0},{"$f":"'[1]HOJA GENERAL DATOS IMPORTADOS'!AE312","v":0},{"$f":"'[1]HOJA GENERAL DATOS IMPORTADOS'!AF312","v":0},{"$f":"'[1]HOJA GENERAL DATOS IMPORTADOS'!AG312","v":0},{"$f":"'[1]HOJA GENERAL DATOS IMPORTADOS'!AH312","v":0},{"$f":"'[1]HOJA GENERAL DATOS IMPORTADOS'!AI312","v":0}]
[{"$f":"'[1]HOJA GENERAL DATOS IMPORTADOS'!A313","v":0},{"$f":"'[1]HOJA GENERAL DATOS IMPORTADOS'!B313","v":0},{"$f":"'[1]HOJA GENERAL DATOS IMPORTADOS'!C313","v":0},{"$f":"'[1]HOJA GENERAL DATOS IMPORTADOS'!D313","v":0},{"$f":"'[1]HOJA GENERAL DATOS IMPORTADOS'!E313","v":0},{"$f":"'[1]HOJA GENERAL DATOS IMPORTADOS'!F313","v":0},{"$f":"'[1]HOJA GENERAL DATOS IMPORTADOS'!G313","v":0},{"$f":"'[1]HOJA GENERAL DATOS IMPORTADOS'!H313","v":0},{"$f":"'[1]HOJA GENERAL DATOS IMPORTADOS'!I313","v":0},{"$f":"'[1]HOJA GENERAL DATOS IMPORTADOS'!J313","v":0},{"$f":"'[1]HOJA GENERAL DATOS IMPORTADOS'!K313","v":0},{"$f":"'[1]HOJA GENERAL DATOS IMPORTADOS'!L313","v":0},{"$f":"'[1]HOJA GENERAL DATOS IMPORTADOS'!M313","v":0},{"$f":"'[1]HOJA GENERAL DATOS IMPORTADOS'!N313","v":0},{"$f":"'[1]HOJA GENERAL DATOS IMPORTADOS'!O313","v":0},{"$f":"'[1]HOJA GENERAL DATOS IMPORTADOS'!P313","v":0},{"$f":"'[1]HOJA GENERAL DATOS IMPORTADOS'!Q313","v":0},{"$f":"'[1]HOJA GENERAL DATOS IMPORTADOS'!R313","v":0},{"$f":"'[1]HOJA GENERAL DATOS IMPORTADOS'!S313","v":0},{"$f":"'[1]HOJA GENERAL DATOS IMPORTADOS'!T313","v":0},{"$f":"'[1]HOJA GENERAL DATOS IMPORTADOS'!U313","v":0},{"$f":"'[1]HOJA GENERAL DATOS IMPORTADOS'!V313","v":0},{"$f":"'[1]HOJA GENERAL DATOS IMPORTADOS'!W313","v":0},{"$f":"'[1]HOJA GENERAL DATOS IMPORTADOS'!X313","v":0},{"$f":"'[1]HOJA GENERAL DATOS IMPORTADOS'!Y313","v":0},{"$f":"'[1]HOJA GENERAL DATOS IMPORTADOS'!Z313","v":0},{"$f":"'[1]HOJA GENERAL DATOS IMPORTADOS'!AA313","v":0},{"$f":"'[1]HOJA GENERAL DATOS IMPORTADOS'!AB313","v":0},{"$f":"'[1]HOJA GENERAL DATOS IMPORTADOS'!AC313","v":0},{"$f":"'[1]HOJA GENERAL DATOS IMPORTADOS'!AD313","v":0},{"$f":"'[1]HOJA GENERAL DATOS IMPORTADOS'!AE313","v":0},{"$f":"'[1]HOJA GENERAL DATOS IMPORTADOS'!AF313","v":0},{"$f":"'[1]HOJA GENERAL DATOS IMPORTADOS'!AG313","v":0},{"$f":"'[1]HOJA GENERAL DATOS IMPORTADOS'!AH313","v":0},{"$f":"'[1]HOJA GENERAL DATOS IMPORTADOS'!AI313","v":0}]
[{"$f":"'[1]HOJA GENERAL DATOS IMPORTADOS'!A314","v":0},{"$f":"'[1]HOJA GENERAL DATOS IMPORTADOS'!B314","v":0},{"$f":"'[1]HOJA GENERAL DATOS IMPORTADOS'!C314","v":0},{"$f":"'[1]HOJA GENERAL DATOS IMPORTADOS'!D314","v":0},{"$f":"'[1]HOJA GENERAL DATOS IMPORTADOS'!E314","v":0},{"$f":"'[1]HOJA GENERAL DATOS IMPORTADOS'!F314","v":0},{"$f":"'[1]HOJA GENERAL DATOS IMPORTADOS'!G314","v":0},{"$f":"'[1]HOJA GENERAL DATOS IMPORTADOS'!H314","v":0},{"$f":"'[1]HOJA GENERAL DATOS IMPORTADOS'!I314","v":0},{"$f":"'[1]HOJA GENERAL DATOS IMPORTADOS'!J314","v":0},{"$f":"'[1]HOJA GENERAL DATOS IMPORTADOS'!K314","v":0},{"$f":"'[1]HOJA GENERAL DATOS IMPORTADOS'!L314","v":0},{"$f":"'[1]HOJA GENERAL DATOS IMPORTADOS'!M314","v":0},{"$f":"'[1]HOJA GENERAL DATOS IMPORTADOS'!N314","v":0},{"$f":"'[1]HOJA GENERAL DATOS IMPORTADOS'!O314","v":0},{"$f":"'[1]HOJA GENERAL DATOS IMPORTADOS'!P314","v":0},{"$f":"'[1]HOJA GENERAL DATOS IMPORTADOS'!Q314","v":0},{"$f":"'[1]HOJA GENERAL DATOS IMPORTADOS'!R314","v":0},{"$f":"'[1]HOJA GENERAL DATOS IMPORTADOS'!S314","v":0},{"$f":"'[1]HOJA GENERAL DATOS IMPORTADOS'!T314","v":0},{"$f":"'[1]HOJA GENERAL DATOS IMPORTADOS'!U314","v":0},{"$f":"'[1]HOJA GENERAL DATOS IMPORTADOS'!V314","v":0},{"$f":"'[1]HOJA GENERAL DATOS IMPORTADOS'!W314","v":0},{"$f":"'[1]HOJA GENERAL DATOS IMPORTADOS'!X314","v":0},{"$f":"'[1]HOJA GENERAL DATOS IMPORTADOS'!Y314","v":0},{"$f":"'[1]HOJA GENERAL DATOS IMPORTADOS'!Z314","v":0},{"$f":"'[1]HOJA GENERAL DATOS IMPORTADOS'!AA314","v":0},{"$f":"'[1]HOJA GENERAL DATOS IMPORTADOS'!AB314","v":0},{"$f":"'[1]HOJA GENERAL DATOS IMPORTADOS'!AC314","v":0},{"$f":"'[1]HOJA GENERAL DATOS IMPORTADOS'!AD314","v":0},{"$f":"'[1]HOJA GENERAL DATOS IMPORTADOS'!AE314","v":0},{"$f":"'[1]HOJA GENERAL DATOS IMPORTADOS'!AF314","v":0},{"$f":"'[1]HOJA GENERAL DATOS IMPORTADOS'!AG314","v":0},{"$f":"'[1]HOJA GENERAL DATOS IMPORTADOS'!AH314","v":0},{"$f":"'[1]HOJA GENERAL DATOS IMPORTADOS'!AI314","v":0}]
[{"$f":"'[1]HOJA GENERAL DATOS IMPORTADOS'!A315","v":0},{"$f":"'[1]HOJA GENERAL DATOS IMPORTADOS'!B315","v":0},{"$f":"'[1]HOJA GENERAL DATOS IMPORTADOS'!C315","v":0},{"$f":"'[1]HOJA GENERAL DATOS IMPORTADOS'!D315","v":0},{"$f":"'[1]HOJA GENERAL DATOS IMPORTADOS'!E315","v":0},{"$f":"'[1]HOJA GENERAL DATOS IMPORTADOS'!F315","v":0},{"$f":"'[1]HOJA GENERAL DATOS IMPORTADOS'!G315","v":0},{"$f":"'[1]HOJA GENERAL DATOS IMPORTADOS'!H315","v":0},{"$f":"'[1]HOJA GENERAL DATOS IMPORTADOS'!I315","v":0},{"$f":"'[1]HOJA GENERAL DATOS IMPORTADOS'!J315","v":0},{"$f":"'[1]HOJA GENERAL DATOS IMPORTADOS'!K315","v":0},{"$f":"'[1]HOJA GENERAL DATOS IMPORTADOS'!L315","v":0},{"$f":"'[1]HOJA GENERAL DATOS IMPORTADOS'!M315","v":0},{"$f":"'[1]HOJA GENERAL DATOS IMPORTADOS'!N315","v":0},{"$f":"'[1]HOJA GENERAL DATOS IMPORTADOS'!O315","v":0},{"$f":"'[1]HOJA GENERAL DATOS IMPORTADOS'!P315","v":0},{"$f":"'[1]HOJA GENERAL DATOS IMPORTADOS'!Q315","v":0},{"$f":"'[1]HOJA GENERAL DATOS IMPORTADOS'!R315","v":0},{"$f":"'[1]HOJA GENERAL DATOS IMPORTADOS'!S315","v":0},{"$f":"'[1]HOJA GENERAL DATOS IMPORTADOS'!T315","v":0},{"$f":"'[1]HOJA GENERAL DATOS IMPORTADOS'!U315","v":0},{"$f":"'[1]HOJA GENERAL DATOS IMPORTADOS'!V315","v":0},{"$f":"'[1]HOJA GENERAL DATOS IMPORTADOS'!W315","v":0},{"$f":"'[1]HOJA GENERAL DATOS IMPORTADOS'!X315","v":0},{"$f":"'[1]HOJA GENERAL DATOS IMPORTADOS'!Y315","v":0},{"$f":"'[1]HOJA GENERAL DATOS IMPORTADOS'!Z315","v":0},{"$f":"'[1]HOJA GENERAL DATOS IMPORTADOS'!AA315","v":0},{"$f":"'[1]HOJA GENERAL DATOS IMPORTADOS'!AB315","v":0},{"$f":"'[1]HOJA GENERAL DATOS IMPORTADOS'!AC315","v":0},{"$f":"'[1]HOJA GENERAL DATOS IMPORTADOS'!AD315","v":0},{"$f":"'[1]HOJA GENERAL DATOS IMPORTADOS'!AE315","v":0},{"$f":"'[1]HOJA GENERAL DATOS IMPORTADOS'!AF315","v":0},{"$f":"'[1]HOJA GENERAL DATOS IMPORTADOS'!AG315","v":0},{"$f":"'[1]HOJA GENERAL DATOS IMPORTADOS'!AH315","v":0},{"$f":"'[1]HOJA GENERAL DATOS IMPORTADOS'!AI315","v":0}]
[{"$f":"'[1]HOJA GENERAL DATOS IMPORTADOS'!A316","v":0},{"$f":"'[1]HOJA GENERAL DATOS IMPORTADOS'!B316","v":0},{"$f":"'[1]HOJA GENERAL DATOS IMPORTADOS'!C316","v":0},{"$f":"'[1]HOJA GENERAL DATOS IMPORTADOS'!D316","v":0},{"$f":"'[1]HOJA GENERAL DATOS IMPORTADOS'!E316","v":0},{"$f":"'[1]HOJA GENERAL DATOS IMPORTADOS'!F316","v":0},{"$f":"'[1]HOJA GENERAL DATOS IMPORTADOS'!G316","v":0},{"$f":"'[1]HOJA GENERAL DATOS IMPORTADOS'!H316","v":0},{"$f":"'[1]HOJA GENERAL DATOS IMPORTADOS'!I316","v":0},{"$f":"'[1]HOJA GENERAL DATOS IMPORTADOS'!J316","v":0},{"$f":"'[1]HOJA GENERAL DATOS IMPORTADOS'!K316","v":0},{"$f":"'[1]HOJA GENERAL DATOS IMPORTADOS'!L316","v":0},{"$f":"'[1]HOJA GENERAL DATOS IMPORTADOS'!M316","v":0},{"$f":"'[1]HOJA GENERAL DATOS IMPORTADOS'!N316","v":0},{"$f":"'[1]HOJA GENERAL DATOS IMPORTADOS'!O316","v":0},{"$f":"'[1]HOJA GENERAL DATOS IMPORTADOS'!P316","v":0},{"$f":"'[1]HOJA GENERAL DATOS IMPORTADOS'!Q316","v":0},{"$f":"'[1]HOJA GENERAL DATOS IMPORTADOS'!R316","v":0},{"$f":"'[1]HOJA GENERAL DATOS IMPORTADOS'!S316","v":0},{"$f":"'[1]HOJA GENERAL DATOS IMPORTADOS'!T316","v":0},{"$f":"'[1]HOJA GENERAL DATOS IMPORTADOS'!U316","v":0},{"$f":"'[1]HOJA GENERAL DATOS IMPORTADOS'!V316","v":0},{"$f":"'[1]HOJA GENERAL DATOS IMPORTADOS'!W316","v":0},{"$f":"'[1]HOJA GENERAL DATOS IMPORTADOS'!X316","v":0},{"$f":"'[1]HOJA GENERAL DATOS IMPORTADOS'!Y316","v":0},{"$f":"'[1]HOJA GENERAL DATOS IMPORTADOS'!Z316","v":0},{"$f":"'[1]HOJA GENERAL DATOS IMPORTADOS'!AA316","v":0},{"$f":"'[1]HOJA GENERAL DATOS IMPORTADOS'!AB316","v":0},{"$f":"'[1]HOJA GENERAL DATOS IMPORTADOS'!AC316","v":0},{"$f":"'[1]HOJA GENERAL DATOS IMPORTADOS'!AD316","v":0},{"$f":"'[1]HOJA GENERAL DATOS IMPORTADOS'!AE316","v":0},{"$f":"'[1]HOJA GENERAL DATOS IMPORTADOS'!AF316","v":0},{"$f":"'[1]HOJA GENERAL DATOS IMPORTADOS'!AG316","v":0},{"$f":"'[1]HOJA GENERAL DATOS IMPORTADOS'!AH316","v":0},{"$f":"'[1]HOJA GENERAL DATOS IMPORTADOS'!AI316","v":0}]
[{"$f":"'[1]HOJA GENERAL DATOS IMPORTADOS'!A317","v":0},{"$f":"'[1]HOJA GENERAL DATOS IMPORTADOS'!B317","v":0},{"$f":"'[1]HOJA GENERAL DATOS IMPORTADOS'!C317","v":0},{"$f":"'[1]HOJA GENERAL DATOS IMPORTADOS'!D317","v":0},{"$f":"'[1]HOJA GENERAL DATOS IMPORTADOS'!E317","v":0},{"$f":"'[1]HOJA GENERAL DATOS IMPORTADOS'!F317","v":0},{"$f":"'[1]HOJA GENERAL DATOS IMPORTADOS'!G317","v":0},{"$f":"'[1]HOJA GENERAL DATOS IMPORTADOS'!H317","v":0},{"$f":"'[1]HOJA GENERAL DATOS IMPORTADOS'!I317","v":0},{"$f":"'[1]HOJA GENERAL DATOS IMPORTADOS'!J317","v":0},{"$f":"'[1]HOJA GENERAL DATOS IMPORTADOS'!K317","v":0},{"$f":"'[1]HOJA GENERAL DATOS IMPORTADOS'!L317","v":0},{"$f":"'[1]HOJA GENERAL DATOS IMPORTADOS'!M317","v":0},{"$f":"'[1]HOJA GENERAL DATOS IMPORTADOS'!N317","v":0},{"$f":"'[1]HOJA GENERAL DATOS IMPORTADOS'!O317","v":0},{"$f":"'[1]HOJA GENERAL DATOS IMPORTADOS'!P317","v":0},{"$f":"'[1]HOJA GENERAL DATOS IMPORTADOS'!Q317","v":0},{"$f":"'[1]HOJA GENERAL DATOS IMPORTADOS'!R317","v":0},{"$f":"'[1]HOJA GENERAL DATOS IMPORTADOS'!S317","v":0},{"$f":"'[1]HOJA GENERAL DATOS IMPORTADOS'!T317","v":0},{"$f":"'[1]HOJA GENERAL DATOS IMPORTADOS'!U317","v":0},{"$f":"'[1]HOJA GENERAL DATOS IMPORTADOS'!V317","v":0},{"$f":"'[1]HOJA GENERAL DATOS IMPORTADOS'!W317","v":0},{"$f":"'[1]HOJA GENERAL DATOS IMPORTADOS'!X317","v":0},{"$f":"'[1]HOJA GENERAL DATOS IMPORTADOS'!Y317","v":0},{"$f":"'[1]HOJA GENERAL DATOS IMPORTADOS'!Z317","v":0},{"$f":"'[1]HOJA GENERAL DATOS IMPORTADOS'!AA317","v":0},{"$f":"'[1]HOJA GENERAL DATOS IMPORTADOS'!AB317","v":0},{"$f":"'[1]HOJA GENERAL DATOS IMPORTADOS'!AC317","v":0},{"$f":"'[1]HOJA GENERAL DATOS IMPORTADOS'!AD317","v":0},{"$f":"'[1]HOJA GENERAL DATOS IMPORTADOS'!AE317","v":0},{"$f":"'[1]HOJA GENERAL DATOS IMPORTADOS'!AF317","v":0},{"$f":"'[1]HOJA GENERAL DATOS IMPORTADOS'!AG317","v":0},{"$f":"'[1]HOJA GENERAL DATOS IMPORTADOS'!AH317","v":0},{"$f":"'[1]HOJA GENERAL DATOS IMPORTADOS'!AI317","v":0}]
[{"$f":"'[1]HOJA GENERAL DATOS IMPORTADOS'!A318","v":0},{"$f":"'[1]HOJA GENERAL DATOS IMPORTADOS'!B318","v":0},{"$f":"'[1]HOJA GENERAL DATOS IMPORTADOS'!C318","v":0},{"$f":"'[1]HOJA GENERAL DATOS IMPORTADOS'!D318","v":0},{"$f":"'[1]HOJA GENERAL DATOS IMPORTADOS'!E318","v":0},{"$f":"'[1]HOJA GENERAL DATOS IMPORTADOS'!F318","v":0},{"$f":"'[1]HOJA GENERAL DATOS IMPORTADOS'!G318","v":0},{"$f":"'[1]HOJA GENERAL DATOS IMPORTADOS'!H318","v":0},{"$f":"'[1]HOJA GENERAL DATOS IMPORTADOS'!I318","v":0},{"$f":"'[1]HOJA GENERAL DATOS IMPORTADOS'!J318","v":0},{"$f":"'[1]HOJA GENERAL DATOS IMPORTADOS'!K318","v":0},{"$f":"'[1]HOJA GENERAL DATOS IMPORTADOS'!L318","v":0},{"$f":"'[1]HOJA GENERAL DATOS IMPORTADOS'!M318","v":0},{"$f":"'[1]HOJA GENERAL DATOS IMPORTADOS'!N318","v":0},{"$f":"'[1]HOJA GENERAL DATOS IMPORTADOS'!O318","v":0},{"$f":"'[1]HOJA GENERAL DATOS IMPORTADOS'!P318","v":0},{"$f":"'[1]HOJA GENERAL DATOS IMPORTADOS'!Q318","v":0},{"$f":"'[1]HOJA GENERAL DATOS IMPORTADOS'!R318","v":0},{"$f":"'[1]HOJA GENERAL DATOS IMPORTADOS'!S318","v":0},{"$f":"'[1]HOJA GENERAL DATOS IMPORTADOS'!T318","v":0},{"$f":"'[1]HOJA GENERAL DATOS IMPORTADOS'!U318","v":0},{"$f":"'[1]HOJA GENERAL DATOS IMPORTADOS'!V318","v":0},{"$f":"'[1]HOJA GENERAL DATOS IMPORTADOS'!W318","v":0},{"$f":"'[1]HOJA GENERAL DATOS IMPORTADOS'!X318","v":0},{"$f":"'[1]HOJA GENERAL DATOS IMPORTADOS'!Y318","v":0},{"$f":"'[1]HOJA GENERAL DATOS IMPORTADOS'!Z318","v":0},{"$f":"'[1]HOJA GENERAL DATOS IMPORTADOS'!AA318","v":0},{"$f":"'[1]HOJA GENERAL DATOS IMPORTADOS'!AB318","v":0},{"$f":"'[1]HOJA GENERAL DATOS IMPORTADOS'!AC318","v":0},{"$f":"'[1]HOJA GENERAL DATOS IMPORTADOS'!AD318","v":0},{"$f":"'[1]HOJA GENERAL DATOS IMPORTADOS'!AE318","v":0},{"$f":"'[1]HOJA GENERAL DATOS IMPORTADOS'!AF318","v":0},{"$f":"'[1]HOJA GENERAL DATOS IMPORTADOS'!AG318","v":0},{"$f":"'[1]HOJA GENERAL DATOS IMPORTADOS'!AH318","v":0},{"$f":"'[1]HOJA GENERAL DATOS IMPORTADOS'!AI318","v":0}]
[{"$f":"'[1]HOJA GENERAL DATOS IMPORTADOS'!A319","v":0},{"$f":"'[1]HOJA GENERAL DATOS IMPORTADOS'!B319","v":0},{"$f":"'[1]HOJA GENERAL DATOS IMPORTADOS'!C319","v":0},{"$f":"'[1]HOJA GENERAL DATOS IMPORTADOS'!D319","v":0},{"$f":"'[1]HOJA GENERAL DATOS IMPORTADOS'!E319","v":0},{"$f":"'[1]HOJA GENERAL DATOS IMPORTADOS'!F319","v":0},{"$f":"'[1]HOJA GENERAL DATOS IMPORTADOS'!G319","v":0},{"$f":"'[1]HOJA GENERAL DATOS IMPORTADOS'!H319","v":0},{"$f":"'[1]HOJA GENERAL DATOS IMPORTADOS'!I319","v":0},{"$f":"'[1]HOJA GENERAL DATOS IMPORTADOS'!J319","v":0},{"$f":"'[1]HOJA GENERAL DATOS IMPORTADOS'!K319","v":0},{"$f":"'[1]HOJA GENERAL DATOS IMPORTADOS'!L319","v":0},{"$f":"'[1]HOJA GENERAL DATOS IMPORTADOS'!M319","v":0},{"$f":"'[1]HOJA GENERAL DATOS IMPORTADOS'!N319","v":0},{"$f":"'[1]HOJA GENERAL DATOS IMPORTADOS'!O319","v":0},{"$f":"'[1]HOJA GENERAL DATOS IMPORTADOS'!P319","v":0},{"$f":"'[1]HOJA GENERAL DATOS IMPORTADOS'!Q319","v":0},{"$f":"'[1]HOJA GENERAL DATOS IMPORTADOS'!R319","v":0},{"$f":"'[1]HOJA GENERAL DATOS IMPORTADOS'!S319","v":0},{"$f":"'[1]HOJA GENERAL DATOS IMPORTADOS'!T319","v":0},{"$f":"'[1]HOJA GENERAL DATOS IMPORTADOS'!U319","v":0},{"$f":"'[1]HOJA GENERAL DATOS IMPORTADOS'!V319","v":0},{"$f":"'[1]HOJA GENERAL DATOS IMPORTADOS'!W319","v":0},{"$f":"'[1]HOJA GENERAL DATOS IMPORTADOS'!X319","v":0},{"$f":"'[1]HOJA GENERAL DATOS IMPORTADOS'!Y319","v":0},{"$f":"'[1]HOJA GENERAL DATOS IMPORTADOS'!Z319","v":0},{"$f":"'[1]HOJA GENERAL DATOS IMPORTADOS'!AA319","v":0},{"$f":"'[1]HOJA GENERAL DATOS IMPORTADOS'!AB319","v":0},{"$f":"'[1]HOJA GENERAL DATOS IMPORTADOS'!AC319","v":0},{"$f":"'[1]HOJA GENERAL DATOS IMPORTADOS'!AD319","v":0},{"$f":"'[1]HOJA GENERAL DATOS IMPORTADOS'!AE319","v":0},{"$f":"'[1]HOJA GENERAL DATOS IMPORTADOS'!AF319","v":0},{"$f":"'[1]HOJA GENERAL DATOS IMPORTADOS'!AG319","v":0},{"$f":"'[1]HOJA GENERAL DATOS IMPORTADOS'!AH319","v":0},{"$f":"'[1]HOJA GENERAL DATOS IMPORTADOS'!AI319","v":0}]
[{"$f":"'[1]HOJA GENERAL DATOS IMPORTADOS'!A320","v":0},{"$f":"'[1]HOJA GENERAL DATOS IMPORTADOS'!B320","v":0},{"$f":"'[1]HOJA GENERAL DATOS IMPORTADOS'!C320","v":0},{"$f":"'[1]HOJA GENERAL DATOS IMPORTADOS'!D320","v":0},{"$f":"'[1]HOJA GENERAL DATOS IMPORTADOS'!E320","v":0},{"$f":"'[1]HOJA GENERAL DATOS IMPORTADOS'!F320","v":0},{"$f":"'[1]HOJA GENERAL DATOS IMPORTADOS'!G320","v":0},{"$f":"'[1]HOJA GENERAL DATOS IMPORTADOS'!H320","v":0},{"$f":"'[1]HOJA GENERAL DATOS IMPORTADOS'!I320","v":0},{"$f":"'[1]HOJA GENERAL DATOS IMPORTADOS'!J320","v":0},{"$f":"'[1]HOJA GENERAL DATOS IMPORTADOS'!K320","v":0},{"$f":"'[1]HOJA GENERAL DATOS IMPORTADOS'!L320","v":0},{"$f":"'[1]HOJA GENERAL DATOS IMPORTADOS'!M320","v":0},{"$f":"'[1]HOJA GENERAL DATOS IMPORTADOS'!N320","v":0},{"$f":"'[1]HOJA GENERAL DATOS IMPORTADOS'!O320","v":0},{"$f":"'[1]HOJA GENERAL DATOS IMPORTADOS'!P320","v":0},{"$f":"'[1]HOJA GENERAL DATOS IMPORTADOS'!Q320","v":0},{"$f":"'[1]HOJA GENERAL DATOS IMPORTADOS'!R320","v":0},{"$f":"'[1]HOJA GENERAL DATOS IMPORTADOS'!S320","v":0},{"$f":"'[1]HOJA GENERAL DATOS IMPORTADOS'!T320","v":0},{"$f":"'[1]HOJA GENERAL DATOS IMPORTADOS'!U320","v":0},{"$f":"'[1]HOJA GENERAL DATOS IMPORTADOS'!V320","v":0},{"$f":"'[1]HOJA GENERAL DATOS IMPORTADOS'!W320","v":0},{"$f":"'[1]HOJA GENERAL DATOS IMPORTADOS'!X320","v":0},{"$f":"'[1]HOJA GENERAL DATOS IMPORTADOS'!Y320","v":0},{"$f":"'[1]HOJA GENERAL DATOS IMPORTADOS'!Z320","v":0},{"$f":"'[1]HOJA GENERAL DATOS IMPORTADOS'!AA320","v":0},{"$f":"'[1]HOJA GENERAL DATOS IMPORTADOS'!AB320","v":0},{"$f":"'[1]HOJA GENERAL DATOS IMPORTADOS'!AC320","v":0},{"$f":"'[1]HOJA GENERAL DATOS IMPORTADOS'!AD320","v":0},{"$f":"'[1]HOJA GENERAL DATOS IMPORTADOS'!AE320","v":0},{"$f":"'[1]HOJA GENERAL DATOS IMPORTADOS'!AF320","v":0},{"$f":"'[1]HOJA GENERAL DATOS IMPORTADOS'!AG320","v":0},{"$f":"'[1]HOJA GENERAL DATOS IMPORTADOS'!AH320","v":0},{"$f":"'[1]HOJA GENERAL DATOS IMPORTADOS'!AI320","v":0}]
[{"$f":"'[1]HOJA GENERAL DATOS IMPORTADOS'!A321","v":0},{"$f":"'[1]HOJA GENERAL DATOS IMPORTADOS'!B321","v":0},{"$f":"'[1]HOJA GENERAL DATOS IMPORTADOS'!C321","v":0},{"$f":"'[1]HOJA GENERAL DATOS IMPORTADOS'!D321","v":0},{"$f":"'[1]HOJA GENERAL DATOS IMPORTADOS'!E321","v":0},{"$f":"'[1]HOJA GENERAL DATOS IMPORTADOS'!F321","v":0},{"$f":"'[1]HOJA GENERAL DATOS IMPORTADOS'!G321","v":0},{"$f":"'[1]HOJA GENERAL DATOS IMPORTADOS'!H321","v":0},{"$f":"'[1]HOJA GENERAL DATOS IMPORTADOS'!I321","v":0},{"$f":"'[1]HOJA GENERAL DATOS IMPORTADOS'!J321","v":0},{"$f":"'[1]HOJA GENERAL DATOS IMPORTADOS'!K321","v":0},{"$f":"'[1]HOJA GENERAL DATOS IMPORTADOS'!L321","v":0},{"$f":"'[1]HOJA GENERAL DATOS IMPORTADOS'!M321","v":0},{"$f":"'[1]HOJA GENERAL DATOS IMPORTADOS'!N321","v":0},{"$f":"'[1]HOJA GENERAL DATOS IMPORTADOS'!O321","v":0},{"$f":"'[1]HOJA GENERAL DATOS IMPORTADOS'!P321","v":0},{"$f":"'[1]HOJA GENERAL DATOS IMPORTADOS'!Q321","v":0},{"$f":"'[1]HOJA GENERAL DATOS IMPORTADOS'!R321","v":0},{"$f":"'[1]HOJA GENERAL DATOS IMPORTADOS'!S321","v":0},{"$f":"'[1]HOJA GENERAL DATOS IMPORTADOS'!T321","v":0},{"$f":"'[1]HOJA GENERAL DATOS IMPORTADOS'!U321","v":0},{"$f":"'[1]HOJA GENERAL DATOS IMPORTADOS'!V321","v":0},{"$f":"'[1]HOJA GENERAL DATOS IMPORTADOS'!W321","v":0},{"$f":"'[1]HOJA GENERAL DATOS IMPORTADOS'!X321","v":0},{"$f":"'[1]HOJA GENERAL DATOS IMPORTADOS'!Y321","v":0},{"$f":"'[1]HOJA GENERAL DATOS IMPORTADOS'!Z321","v":0},{"$f":"'[1]HOJA GENERAL DATOS IMPORTADOS'!AA321","v":0},{"$f":"'[1]HOJA GENERAL DATOS IMPORTADOS'!AB321","v":0},{"$f":"'[1]HOJA GENERAL DATOS IMPORTADOS'!AC321","v":0},{"$f":"'[1]HOJA GENERAL DATOS IMPORTADOS'!AD321","v":0},{"$f":"'[1]HOJA GENERAL DATOS IMPORTADOS'!AE321","v":0},{"$f":"'[1]HOJA GENERAL DATOS IMPORTADOS'!AF321","v":0},{"$f":"'[1]HOJA GENERAL DATOS IMPORTADOS'!AG321","v":0},{"$f":"'[1]HOJA GENERAL DATOS IMPORTADOS'!AH321","v":0},{"$f":"'[1]HOJA GENERAL DATOS IMPORTADOS'!AI321","v":0}]
[{"$f":"'[1]HOJA GENERAL DATOS IMPORTADOS'!A322","v":0},{"$f":"'[1]HOJA GENERAL DATOS IMPORTADOS'!B322","v":0},{"$f":"'[1]HOJA GENERAL DATOS IMPORTADOS'!C322","v":0},{"$f":"'[1]HOJA GENERAL DATOS IMPORTADOS'!D322","v":0},{"$f":"'[1]HOJA GENERAL DATOS IMPORTADOS'!E322","v":0},{"$f":"'[1]HOJA GENERAL DATOS IMPORTADOS'!F322","v":0},{"$f":"'[1]HOJA GENERAL DATOS IMPORTADOS'!G322","v":0},{"$f":"'[1]HOJA GENERAL DATOS IMPORTADOS'!H322","v":0},{"$f":"'[1]HOJA GENERAL DATOS IMPORTADOS'!I322","v":0},{"$f":"'[1]HOJA GENERAL DATOS IMPORTADOS'!J322","v":0},{"$f":"'[1]HOJA GENERAL DATOS IMPORTADOS'!K322","v":0},{"$f":"'[1]HOJA GENERAL DATOS IMPORTADOS'!L322","v":0},{"$f":"'[1]HOJA GENERAL DATOS IMPORTADOS'!M322","v":0},{"$f":"'[1]HOJA GENERAL DATOS IMPORTADOS'!N322","v":0},{"$f":"'[1]HOJA GENERAL DATOS IMPORTADOS'!O322","v":0},{"$f":"'[1]HOJA GENERAL DATOS IMPORTADOS'!P322","v":0},{"$f":"'[1]HOJA GENERAL DATOS IMPORTADOS'!Q322","v":0},{"$f":"'[1]HOJA GENERAL DATOS IMPORTADOS'!R322","v":0},{"$f":"'[1]HOJA GENERAL DATOS IMPORTADOS'!S322","v":0},{"$f":"'[1]HOJA GENERAL DATOS IMPORTADOS'!T322","v":0},{"$f":"'[1]HOJA GENERAL DATOS IMPORTADOS'!U322","v":0},{"$f":"'[1]HOJA GENERAL DATOS IMPORTADOS'!V322","v":0},{"$f":"'[1]HOJA GENERAL DATOS IMPORTADOS'!W322","v":0},{"$f":"'[1]HOJA GENERAL DATOS IMPORTADOS'!X322","v":0},{"$f":"'[1]HOJA GENERAL DATOS IMPORTADOS'!Y322","v":0},{"$f":"'[1]HOJA GENERAL DATOS IMPORTADOS'!Z322","v":0},{"$f":"'[1]HOJA GENERAL DATOS IMPORTADOS'!AA322","v":0},{"$f":"'[1]HOJA GENERAL DATOS IMPORTADOS'!AB322","v":0},{"$f":"'[1]HOJA GENERAL DATOS IMPORTADOS'!AC322","v":0},{"$f":"'[1]HOJA GENERAL DATOS IMPORTADOS'!AD322","v":0},{"$f":"'[1]HOJA GENERAL DATOS IMPORTADOS'!AE322","v":0},{"$f":"'[1]HOJA GENERAL DATOS IMPORTADOS'!AF322","v":0},{"$f":"'[1]HOJA GENERAL DATOS IMPORTADOS'!AG322","v":0},{"$f":"'[1]HOJA GENERAL DATOS IMPORTADOS'!AH322","v":0},{"$f":"'[1]HOJA GENERAL DATOS IMPORTADOS'!AI322","v":0}]
[{"$f":"'[1]HOJA GENERAL DATOS IMPORTADOS'!A323","v":0},{"$f":"'[1]HOJA GENERAL DATOS IMPORTADOS'!B323","v":0},{"$f":"'[1]HOJA GENERAL DATOS IMPORTADOS'!C323","v":0},{"$f":"'[1]HOJA GENERAL DATOS IMPORTADOS'!D323","v":0},{"$f":"'[1]HOJA GENERAL DATOS IMPORTADOS'!E323","v":0},{"$f":"'[1]HOJA GENERAL DATOS IMPORTADOS'!F323","v":0},{"$f":"'[1]HOJA GENERAL DATOS IMPORTADOS'!G323","v":0},{"$f":"'[1]HOJA GENERAL DATOS IMPORTADOS'!H323","v":0},{"$f":"'[1]HOJA GENERAL DATOS IMPORTADOS'!I323","v":0},{"$f":"'[1]HOJA GENERAL DATOS IMPORTADOS'!J323","v":0},{"$f":"'[1]HOJA GENERAL DATOS IMPORTADOS'!K323","v":0},{"$f":"'[1]HOJA GENERAL DATOS IMPORTADOS'!L323","v":0},{"$f":"'[1]HOJA GENERAL DATOS IMPORTADOS'!M323","v":0},{"$f":"'[1]HOJA GENERAL DATOS IMPORTADOS'!N323","v":0},{"$f":"'[1]HOJA GENERAL DATOS IMPORTADOS'!O323","v":0},{"$f":"'[1]HOJA GENERAL DATOS IMPORTADOS'!P323","v":0},{"$f":"'[1]HOJA GENERAL DATOS IMPORTADOS'!Q323","v":0},{"$f":"'[1]HOJA GENERAL DATOS IMPORTADOS'!R323","v":0},{"$f":"'[1]HOJA GENERAL DATOS IMPORTADOS'!S323","v":0},{"$f":"'[1]HOJA GENERAL DATOS IMPORTADOS'!T323","v":0},{"$f":"'[1]HOJA GENERAL DATOS IMPORTADOS'!U323","v":0},{"$f":"'[1]HOJA GENERAL DATOS IMPORTADOS'!V323","v":0},{"$f":"'[1]HOJA GENERAL DATOS IMPORTADOS'!W323","v":0},{"$f":"'[1]HOJA GENERAL DATOS IMPORTADOS'!X323","v":0},{"$f":"'[1]HOJA GENERAL DATOS IMPORTADOS'!Y323","v":0},{"$f":"'[1]HOJA GENERAL DATOS IMPORTADOS'!Z323","v":0},{"$f":"'[1]HOJA GENERAL DATOS IMPORTADOS'!AA323","v":0},{"$f":"'[1]HOJA GENERAL DATOS IMPORTADOS'!AB323","v":0},{"$f":"'[1]HOJA GENERAL DATOS IMPORTADOS'!AC323","v":0},{"$f":"'[1]HOJA GENERAL DATOS IMPORTADOS'!AD323","v":0},{"$f":"'[1]HOJA GENERAL DATOS IMPORTADOS'!AE323","v":0},{"$f":"'[1]HOJA GENERAL DATOS IMPORTADOS'!AF323","v":0},{"$f":"'[1]HOJA GENERAL DATOS IMPORTADOS'!AG323","v":0},{"$f":"'[1]HOJA GENERAL DATOS IMPORTADOS'!AH323","v":0},{"$f":"'[1]HOJA GENERAL DATOS IMPORTADOS'!AI323","v":0}]
[{"$f":"'[1]HOJA GENERAL DATOS IMPORTADOS'!A324","v":0},{"$f":"'[1]HOJA GENERAL DATOS IMPORTADOS'!B324","v":0},{"$f":"'[1]HOJA GENERAL DATOS IMPORTADOS'!C324","v":0},{"$f":"'[1]HOJA GENERAL DATOS IMPORTADOS'!D324","v":0},{"$f":"'[1]HOJA GENERAL DATOS IMPORTADOS'!E324","v":0},{"$f":"'[1]HOJA GENERAL DATOS IMPORTADOS'!F324","v":0},{"$f":"'[1]HOJA GENERAL DATOS IMPORTADOS'!G324","v":0},{"$f":"'[1]HOJA GENERAL DATOS IMPORTADOS'!H324","v":0},{"$f":"'[1]HOJA GENERAL DATOS IMPORTADOS'!I324","v":0},{"$f":"'[1]HOJA GENERAL DATOS IMPORTADOS'!J324","v":0},{"$f":"'[1]HOJA GENERAL DATOS IMPORTADOS'!K324","v":0},{"$f":"'[1]HOJA GENERAL DATOS IMPORTADOS'!L324","v":0},{"$f":"'[1]HOJA GENERAL DATOS IMPORTADOS'!M324","v":0},{"$f":"'[1]HOJA GENERAL DATOS IMPORTADOS'!N324","v":0},{"$f":"'[1]HOJA GENERAL DATOS IMPORTADOS'!O324","v":0},{"$f":"'[1]HOJA GENERAL DATOS IMPORTADOS'!P324","v":0},{"$f":"'[1]HOJA GENERAL DATOS IMPORTADOS'!Q324","v":0},{"$f":"'[1]HOJA GENERAL DATOS IMPORTADOS'!R324","v":0},{"$f":"'[1]HOJA GENERAL DATOS IMPORTADOS'!S324","v":0},{"$f":"'[1]HOJA GENERAL DATOS IMPORTADOS'!T324","v":0},{"$f":"'[1]HOJA GENERAL DATOS IMPORTADOS'!U324","v":0},{"$f":"'[1]HOJA GENERAL DATOS IMPORTADOS'!V324","v":0},{"$f":"'[1]HOJA GENERAL DATOS IMPORTADOS'!W324","v":0},{"$f":"'[1]HOJA GENERAL DATOS IMPORTADOS'!X324","v":0},{"$f":"'[1]HOJA GENERAL DATOS IMPORTADOS'!Y324","v":0},{"$f":"'[1]HOJA GENERAL DATOS IMPORTADOS'!Z324","v":0},{"$f":"'[1]HOJA GENERAL DATOS IMPORTADOS'!AA324","v":0},{"$f":"'[1]HOJA GENERAL DATOS IMPORTADOS'!AB324","v":0},{"$f":"'[1]HOJA GENERAL DATOS IMPORTADOS'!AC324","v":0},{"$f":"'[1]HOJA GENERAL DATOS IMPORTADOS'!AD324","v":0},{"$f":"'[1]HOJA GENERAL DATOS IMPORTADOS'!AE324","v":0},{"$f":"'[1]HOJA GENERAL DATOS IMPORTADOS'!AF324","v":0},{"$f":"'[1]HOJA GENERAL DATOS IMPORTADOS'!AG324","v":0},{"$f":"'[1]HOJA GENERAL DATOS IMPORTADOS'!AH324","v":0},{"$f":"'[1]HOJA GENERAL DATOS IMPORTADOS'!AI324","v":0}]
[{"$f":"'[1]HOJA GENERAL DATOS IMPORTADOS'!A325","v":0},{"$f":"'[1]HOJA GENERAL DATOS IMPORTADOS'!B325","v":0},{"$f":"'[1]HOJA GENERAL DATOS IMPORTADOS'!C325","v":0},{"$f":"'[1]HOJA GENERAL DATOS IMPORTADOS'!D325","v":0},{"$f":"'[1]HOJA GENERAL DATOS IMPORTADOS'!E325","v":0},{"$f":"'[1]HOJA GENERAL DATOS IMPORTADOS'!F325","v":0},{"$f":"'[1]HOJA GENERAL DATOS IMPORTADOS'!G325","v":0},{"$f":"'[1]HOJA GENERAL DATOS IMPORTADOS'!H325","v":0},{"$f":"'[1]HOJA GENERAL DATOS IMPORTADOS'!I325","v":0},{"$f":"'[1]HOJA GENERAL DATOS IMPORTADOS'!J325","v":0},{"$f":"'[1]HOJA GENERAL DATOS IMPORTADOS'!K325","v":0},{"$f":"'[1]HOJA GENERAL DATOS IMPORTADOS'!L325","v":0},{"$f":"'[1]HOJA GENERAL DATOS IMPORTADOS'!M325","v":0},{"$f":"'[1]HOJA GENERAL DATOS IMPORTADOS'!N325","v":0},{"$f":"'[1]HOJA GENERAL DATOS IMPORTADOS'!O325","v":0},{"$f":"'[1]HOJA GENERAL DATOS IMPORTADOS'!P325","v":0},{"$f":"'[1]HOJA GENERAL DATOS IMPORTADOS'!Q325","v":0},{"$f":"'[1]HOJA GENERAL DATOS IMPORTADOS'!R325","v":0},{"$f":"'[1]HOJA GENERAL DATOS IMPORTADOS'!S325","v":0},{"$f":"'[1]HOJA GENERAL DATOS IMPORTADOS'!T325","v":0},{"$f":"'[1]HOJA GENERAL DATOS IMPORTADOS'!U325","v":0},{"$f":"'[1]HOJA GENERAL DATOS IMPORTADOS'!V325","v":0},{"$f":"'[1]HOJA GENERAL DATOS IMPORTADOS'!W325","v":0},{"$f":"'[1]HOJA GENERAL DATOS IMPORTADOS'!X325","v":0},{"$f":"'[1]HOJA GENERAL DATOS IMPORTADOS'!Y325","v":0},{"$f":"'[1]HOJA GENERAL DATOS IMPORTADOS'!Z325","v":0},{"$f":"'[1]HOJA GENERAL DATOS IMPORTADOS'!AA325","v":0},{"$f":"'[1]HOJA GENERAL DATOS IMPORTADOS'!AB325","v":0},{"$f":"'[1]HOJA GENERAL DATOS IMPORTADOS'!AC325","v":0},{"$f":"'[1]HOJA GENERAL DATOS IMPORTADOS'!AD325","v":0},{"$f":"'[1]HOJA GENERAL DATOS IMPORTADOS'!AE325","v":0},{"$f":"'[1]HOJA GENERAL DATOS IMPORTADOS'!AF325","v":0},{"$f":"'[1]HOJA GENERAL DATOS IMPORTADOS'!AG325","v":0},{"$f":"'[1]HOJA GENERAL DATOS IMPORTADOS'!AH325","v":0},{"$f":"'[1]HOJA GENERAL DATOS IMPORTADOS'!AI325","v":0}]
[{"$f":"'[1]HOJA GENERAL DATOS IMPORTADOS'!A326","v":0},{"$f":"'[1]HOJA GENERAL DATOS IMPORTADOS'!B326","v":0},{"$f":"'[1]HOJA GENERAL DATOS IMPORTADOS'!C326","v":0},{"$f":"'[1]HOJA GENERAL DATOS IMPORTADOS'!D326","v":0},{"$f":"'[1]HOJA GENERAL DATOS IMPORTADOS'!E326","v":0},{"$f":"'[1]HOJA GENERAL DATOS IMPORTADOS'!F326","v":0},{"$f":"'[1]HOJA GENERAL DATOS IMPORTADOS'!G326","v":0},{"$f":"'[1]HOJA GENERAL DATOS IMPORTADOS'!H326","v":0},{"$f":"'[1]HOJA GENERAL DATOS IMPORTADOS'!I326","v":0},{"$f":"'[1]HOJA GENERAL DATOS IMPORTADOS'!J326","v":0},{"$f":"'[1]HOJA GENERAL DATOS IMPORTADOS'!K326","v":0},{"$f":"'[1]HOJA GENERAL DATOS IMPORTADOS'!L326","v":0},{"$f":"'[1]HOJA GENERAL DATOS IMPORTADOS'!M326","v":0},{"$f":"'[1]HOJA GENERAL DATOS IMPORTADOS'!N326","v":0},{"$f":"'[1]HOJA GENERAL DATOS IMPORTADOS'!O326","v":0},{"$f":"'[1]HOJA GENERAL DATOS IMPORTADOS'!P326","v":0},{"$f":"'[1]HOJA GENERAL DATOS IMPORTADOS'!Q326","v":0},{"$f":"'[1]HOJA GENERAL DATOS IMPORTADOS'!R326","v":0},{"$f":"'[1]HOJA GENERAL DATOS IMPORTADOS'!S326","v":0},{"$f":"'[1]HOJA GENERAL DATOS IMPORTADOS'!T326","v":0},{"$f":"'[1]HOJA GENERAL DATOS IMPORTADOS'!U326","v":0},{"$f":"'[1]HOJA GENERAL DATOS IMPORTADOS'!V326","v":0},{"$f":"'[1]HOJA GENERAL DATOS IMPORTADOS'!W326","v":0},{"$f":"'[1]HOJA GENERAL DATOS IMPORTADOS'!X326","v":0},{"$f":"'[1]HOJA GENERAL DATOS IMPORTADOS'!Y326","v":0},{"$f":"'[1]HOJA GENERAL DATOS IMPORTADOS'!Z326","v":0},{"$f":"'[1]HOJA GENERAL DATOS IMPORTADOS'!AA326","v":0},{"$f":"'[1]HOJA GENERAL DATOS IMPORTADOS'!AB326","v":0},{"$f":"'[1]HOJA GENERAL DATOS IMPORTADOS'!AC326","v":0},{"$f":"'[1]HOJA GENERAL DATOS IMPORTADOS'!AD326","v":0},{"$f":"'[1]HOJA GENERAL DATOS IMPORTADOS'!AE326","v":0},{"$f":"'[1]HOJA GENERAL DATOS IMPORTADOS'!AF326","v":0},{"$f":"'[1]HOJA GENERAL DATOS IMPORTADOS'!AG326","v":0},{"$f":"'[1]HOJA GENERAL DATOS IMPORTADOS'!AH326","v":0},{"$f":"'[1]HOJA GENERAL DATOS IMPORTADOS'!AI326","v":0}]
[{"$f":"'[1]HOJA GENERAL DATOS IMPORTADOS'!A327","v":0},{"$f":"'[1]HOJA GENERAL DATOS IMPORTADOS'!B327","v":0},{"$f":"'[1]HOJA GENERAL DATOS IMPORTADOS'!C327","v":0},{"$f":"'[1]HOJA GENERAL DATOS IMPORTADOS'!D327","v":0},{"$f":"'[1]HOJA GENERAL DATOS IMPORTADOS'!E327","v":0},{"$f":"'[1]HOJA GENERAL DATOS IMPORTADOS'!F327","v":0},{"$f":"'[1]HOJA GENERAL DATOS IMPORTADOS'!G327","v":0},{"$f":"'[1]HOJA GENERAL DATOS IMPORTADOS'!H327","v":0},{"$f":"'[1]HOJA GENERAL DATOS IMPORTADOS'!I327","v":0},{"$f":"'[1]HOJA GENERAL DATOS IMPORTADOS'!J327","v":0},{"$f":"'[1]HOJA GENERAL DATOS IMPORTADOS'!K327","v":0},{"$f":"'[1]HOJA GENERAL DATOS IMPORTADOS'!L327","v":0},{"$f":"'[1]HOJA GENERAL DATOS IMPORTADOS'!M327","v":0},{"$f":"'[1]HOJA GENERAL DATOS IMPORTADOS'!N327","v":0},{"$f":"'[1]HOJA GENERAL DATOS IMPORTADOS'!O327","v":0},{"$f":"'[1]HOJA GENERAL DATOS IMPORTADOS'!P327","v":0},{"$f":"'[1]HOJA GENERAL DATOS IMPORTADOS'!Q327","v":0},{"$f":"'[1]HOJA GENERAL DATOS IMPORTADOS'!R327","v":0},{"$f":"'[1]HOJA GENERAL DATOS IMPORTADOS'!S327","v":0},{"$f":"'[1]HOJA GENERAL DATOS IMPORTADOS'!T327","v":0},{"$f":"'[1]HOJA GENERAL DATOS IMPORTADOS'!U327","v":0},{"$f":"'[1]HOJA GENERAL DATOS IMPORTADOS'!V327","v":0},{"$f":"'[1]HOJA GENERAL DATOS IMPORTADOS'!W327","v":0},{"$f":"'[1]HOJA GENERAL DATOS IMPORTADOS'!X327","v":0},{"$f":"'[1]HOJA GENERAL DATOS IMPORTADOS'!Y327","v":0},{"$f":"'[1]HOJA GENERAL DATOS IMPORTADOS'!Z327","v":0},{"$f":"'[1]HOJA GENERAL DATOS IMPORTADOS'!AA327","v":0},{"$f":"'[1]HOJA GENERAL DATOS IMPORTADOS'!AB327","v":0},{"$f":"'[1]HOJA GENERAL DATOS IMPORTADOS'!AC327","v":0},{"$f":"'[1]HOJA GENERAL DATOS IMPORTADOS'!AD327","v":0},{"$f":"'[1]HOJA GENERAL DATOS IMPORTADOS'!AE327","v":0},{"$f":"'[1]HOJA GENERAL DATOS IMPORTADOS'!AF327","v":0},{"$f":"'[1]HOJA GENERAL DATOS IMPORTADOS'!AG327","v":0},{"$f":"'[1]HOJA GENERAL DATOS IMPORTADOS'!AH327","v":0},{"$f":"'[1]HOJA GENERAL DATOS IMPORTADOS'!AI327","v":0}]
[{"$f":"'[1]HOJA GENERAL DATOS IMPORTADOS'!A328","v":0},{"$f":"'[1]HOJA GENERAL DATOS IMPORTADOS'!B328","v":0},{"$f":"'[1]HOJA GENERAL DATOS IMPORTADOS'!C328","v":0},{"$f":"'[1]HOJA GENERAL DATOS IMPORTADOS'!D328","v":0},{"$f":"'[1]HOJA GENERAL DATOS IMPORTADOS'!E328","v":0},{"$f":"'[1]HOJA GENERAL DATOS IMPORTADOS'!F328","v":0},{"$f":"'[1]HOJA GENERAL DATOS IMPORTADOS'!G328","v":0},{"$f":"'[1]HOJA GENERAL DATOS IMPORTADOS'!H328","v":0},{"$f":"'[1]HOJA GENERAL DATOS IMPORTADOS'!I328","v":0},{"$f":"'[1]HOJA GENERAL DATOS IMPORTADOS'!J328","v":0},{"$f":"'[1]HOJA GENERAL DATOS IMPORTADOS'!K328","v":0},{"$f":"'[1]HOJA GENERAL DATOS IMPORTADOS'!L328","v":0},{"$f":"'[1]HOJA GENERAL DATOS IMPORTADOS'!M328","v":0},{"$f":"'[1]HOJA GENERAL DATOS IMPORTADOS'!N328","v":0},{"$f":"'[1]HOJA GENERAL DATOS IMPORTADOS'!O328","v":0},{"$f":"'[1]HOJA GENERAL DATOS IMPORTADOS'!P328","v":0},{"$f":"'[1]HOJA GENERAL DATOS IMPORTADOS'!Q328","v":0},{"$f":"'[1]HOJA GENERAL DATOS IMPORTADOS'!R328","v":0},{"$f":"'[1]HOJA GENERAL DATOS IMPORTADOS'!S328","v":0},{"$f":"'[1]HOJA GENERAL DATOS IMPORTADOS'!T328","v":0},{"$f":"'[1]HOJA GENERAL DATOS IMPORTADOS'!U328","v":0},{"$f":"'[1]HOJA GENERAL DATOS IMPORTADOS'!V328","v":0},{"$f":"'[1]HOJA GENERAL DATOS IMPORTADOS'!W328","v":0},{"$f":"'[1]HOJA GENERAL DATOS IMPORTADOS'!X328","v":0},{"$f":"'[1]HOJA GENERAL DATOS IMPORTADOS'!Y328","v":0},{"$f":"'[1]HOJA GENERAL DATOS IMPORTADOS'!Z328","v":0},{"$f":"'[1]HOJA GENERAL DATOS IMPORTADOS'!AA328","v":0},{"$f":"'[1]HOJA GENERAL DATOS IMPORTADOS'!AB328","v":0},{"$f":"'[1]HOJA GENERAL DATOS IMPORTADOS'!AC328","v":0},{"$f":"'[1]HOJA GENERAL DATOS IMPORTADOS'!AD328","v":0},{"$f":"'[1]HOJA GENERAL DATOS IMPORTADOS'!AE328","v":0},{"$f":"'[1]HOJA GENERAL DATOS IMPORTADOS'!AF328","v":0},{"$f":"'[1]HOJA GENERAL DATOS IMPORTADOS'!AG328","v":0},{"$f":"'[1]HOJA GENERAL DATOS IMPORTADOS'!AH328","v":0},{"$f":"'[1]HOJA GENERAL DATOS IMPORTADOS'!AI328","v":0}]
[{"$f":"'[1]HOJA GENERAL DATOS IMPORTADOS'!A329","v":0},{"$f":"'[1]HOJA GENERAL DATOS IMPORTADOS'!B329","v":0},{"$f":"'[1]HOJA GENERAL DATOS IMPORTADOS'!C329","v":0},{"$f":"'[1]HOJA GENERAL DATOS IMPORTADOS'!D329","v":0},{"$f":"'[1]HOJA GENERAL DATOS IMPORTADOS'!E329","v":0},{"$f":"'[1]HOJA GENERAL DATOS IMPORTADOS'!F329","v":0},{"$f":"'[1]HOJA GENERAL DATOS IMPORTADOS'!G329","v":0},{"$f":"'[1]HOJA GENERAL DATOS IMPORTADOS'!H329","v":0},{"$f":"'[1]HOJA GENERAL DATOS IMPORTADOS'!I329","v":0},{"$f":"'[1]HOJA GENERAL DATOS IMPORTADOS'!J329","v":0},{"$f":"'[1]HOJA GENERAL DATOS IMPORTADOS'!K329","v":0},{"$f":"'[1]HOJA GENERAL DATOS IMPORTADOS'!L329","v":0},{"$f":"'[1]HOJA GENERAL DATOS IMPORTADOS'!M329","v":0},{"$f":"'[1]HOJA GENERAL DATOS IMPORTADOS'!N329","v":0},{"$f":"'[1]HOJA GENERAL DATOS IMPORTADOS'!O329","v":0},{"$f":"'[1]HOJA GENERAL DATOS IMPORTADOS'!P329","v":0},{"$f":"'[1]HOJA GENERAL DATOS IMPORTADOS'!Q329","v":0},{"$f":"'[1]HOJA GENERAL DATOS IMPORTADOS'!R329","v":0},{"$f":"'[1]HOJA GENERAL DATOS IMPORTADOS'!S329","v":0},{"$f":"'[1]HOJA GENERAL DATOS IMPORTADOS'!T329","v":0},{"$f":"'[1]HOJA GENERAL DATOS IMPORTADOS'!U329","v":0},{"$f":"'[1]HOJA GENERAL DATOS IMPORTADOS'!V329","v":0},{"$f":"'[1]HOJA GENERAL DATOS IMPORTADOS'!W329","v":0},{"$f":"'[1]HOJA GENERAL DATOS IMPORTADOS'!X329","v":0},{"$f":"'[1]HOJA GENERAL DATOS IMPORTADOS'!Y329","v":0},{"$f":"'[1]HOJA GENERAL DATOS IMPORTADOS'!Z329","v":0},{"$f":"'[1]HOJA GENERAL DATOS IMPORTADOS'!AA329","v":0},{"$f":"'[1]HOJA GENERAL DATOS IMPORTADOS'!AB329","v":0},{"$f":"'[1]HOJA GENERAL DATOS IMPORTADOS'!AC329","v":0},{"$f":"'[1]HOJA GENERAL DATOS IMPORTADOS'!AD329","v":0},{"$f":"'[1]HOJA GENERAL DATOS IMPORTADOS'!AE329","v":0},{"$f":"'[1]HOJA GENERAL DATOS IMPORTADOS'!AF329","v":0},{"$f":"'[1]HOJA GENERAL DATOS IMPORTADOS'!AG329","v":0},{"$f":"'[1]HOJA GENERAL DATOS IMPORTADOS'!AH329","v":0},{"$f":"'[1]HOJA GENERAL DATOS IMPORTADOS'!AI329","v":0}]
[{"$f":"'[1]HOJA GENERAL DATOS IMPORTADOS'!A330","v":0},{"$f":"'[1]HOJA GENERAL DATOS IMPORTADOS'!B330","v":0},{"$f":"'[1]HOJA GENERAL DATOS IMPORTADOS'!C330","v":0},{"$f":"'[1]HOJA GENERAL DATOS IMPORTADOS'!D330","v":0},{"$f":"'[1]HOJA GENERAL DATOS IMPORTADOS'!E330","v":0},{"$f":"'[1]HOJA GENERAL DATOS IMPORTADOS'!F330","v":0},{"$f":"'[1]HOJA GENERAL DATOS IMPORTADOS'!G330","v":0},{"$f":"'[1]HOJA GENERAL DATOS IMPORTADOS'!H330","v":0},{"$f":"'[1]HOJA GENERAL DATOS IMPORTADOS'!I330","v":0},{"$f":"'[1]HOJA GENERAL DATOS IMPORTADOS'!J330","v":0},{"$f":"'[1]HOJA GENERAL DATOS IMPORTADOS'!K330","v":0},{"$f":"'[1]HOJA GENERAL DATOS IMPORTADOS'!L330","v":0},{"$f":"'[1]HOJA GENERAL DATOS IMPORTADOS'!M330","v":0},{"$f":"'[1]HOJA GENERAL DATOS IMPORTADOS'!N330","v":0},{"$f":"'[1]HOJA GENERAL DATOS IMPORTADOS'!O330","v":0},{"$f":"'[1]HOJA GENERAL DATOS IMPORTADOS'!P330","v":0},{"$f":"'[1]HOJA GENERAL DATOS IMPORTADOS'!Q330","v":0},{"$f":"'[1]HOJA GENERAL DATOS IMPORTADOS'!R330","v":0},{"$f":"'[1]HOJA GENERAL DATOS IMPORTADOS'!S330","v":0},{"$f":"'[1]HOJA GENERAL DATOS IMPORTADOS'!T330","v":0},{"$f":"'[1]HOJA GENERAL DATOS IMPORTADOS'!U330","v":0},{"$f":"'[1]HOJA GENERAL DATOS IMPORTADOS'!V330","v":0},{"$f":"'[1]HOJA GENERAL DATOS IMPORTADOS'!W330","v":0},{"$f":"'[1]HOJA GENERAL DATOS IMPORTADOS'!X330","v":0},{"$f":"'[1]HOJA GENERAL DATOS IMPORTADOS'!Y330","v":0},{"$f":"'[1]HOJA GENERAL DATOS IMPORTADOS'!Z330","v":0},{"$f":"'[1]HOJA GENERAL DATOS IMPORTADOS'!AA330","v":0},{"$f":"'[1]HOJA GENERAL DATOS IMPORTADOS'!AB330","v":0},{"$f":"'[1]HOJA GENERAL DATOS IMPORTADOS'!AC330","v":0},{"$f":"'[1]HOJA GENERAL DATOS IMPORTADOS'!AD330","v":0},{"$f":"'[1]HOJA GENERAL DATOS IMPORTADOS'!AE330","v":0},{"$f":"'[1]HOJA GENERAL DATOS IMPORTADOS'!AF330","v":0},{"$f":"'[1]HOJA GENERAL DATOS IMPORTADOS'!AG330","v":0},{"$f":"'[1]HOJA GENERAL DATOS IMPORTADOS'!AH330","v":0},{"$f":"'[1]HOJA GENERAL DATOS IMPORTADOS'!AI330","v":0}]
[{"$f":"'[1]HOJA GENERAL DATOS IMPORTADOS'!A331","v":0},{"$f":"'[1]HOJA GENERAL DATOS IMPORTADOS'!B331","v":0},{"$f":"'[1]HOJA GENERAL DATOS IMPORTADOS'!C331","v":0},{"$f":"'[1]HOJA GENERAL DATOS IMPORTADOS'!D331","v":0},{"$f":"'[1]HOJA GENERAL DATOS IMPORTADOS'!E331","v":0},{"$f":"'[1]HOJA GENERAL DATOS IMPORTADOS'!F331","v":0},{"$f":"'[1]HOJA GENERAL DATOS IMPORTADOS'!G331","v":0},{"$f":"'[1]HOJA GENERAL DATOS IMPORTADOS'!H331","v":0},{"$f":"'[1]HOJA GENERAL DATOS IMPORTADOS'!I331","v":0},{"$f":"'[1]HOJA GENERAL DATOS IMPORTADOS'!J331","v":0},{"$f":"'[1]HOJA GENERAL DATOS IMPORTADOS'!K331","v":0},{"$f":"'[1]HOJA GENERAL DATOS IMPORTADOS'!L331","v":0},{"$f":"'[1]HOJA GENERAL DATOS IMPORTADOS'!M331","v":0},{"$f":"'[1]HOJA GENERAL DATOS IMPORTADOS'!N331","v":0},{"$f":"'[1]HOJA GENERAL DATOS IMPORTADOS'!O331","v":0},{"$f":"'[1]HOJA GENERAL DATOS IMPORTADOS'!P331","v":0},{"$f":"'[1]HOJA GENERAL DATOS IMPORTADOS'!Q331","v":0},{"$f":"'[1]HOJA GENERAL DATOS IMPORTADOS'!R331","v":0},{"$f":"'[1]HOJA GENERAL DATOS IMPORTADOS'!S331","v":0},{"$f":"'[1]HOJA GENERAL DATOS IMPORTADOS'!T331","v":0},{"$f":"'[1]HOJA GENERAL DATOS IMPORTADOS'!U331","v":0},{"$f":"'[1]HOJA GENERAL DATOS IMPORTADOS'!V331","v":0},{"$f":"'[1]HOJA GENERAL DATOS IMPORTADOS'!W331","v":0},{"$f":"'[1]HOJA GENERAL DATOS IMPORTADOS'!X331","v":0},{"$f":"'[1]HOJA GENERAL DATOS IMPORTADOS'!Y331","v":0},{"$f":"'[1]HOJA GENERAL DATOS IMPORTADOS'!Z331","v":0},{"$f":"'[1]HOJA GENERAL DATOS IMPORTADOS'!AA331","v":0},{"$f":"'[1]HOJA GENERAL DATOS IMPORTADOS'!AB331","v":0},{"$f":"'[1]HOJA GENERAL DATOS IMPORTADOS'!AC331","v":0},{"$f":"'[1]HOJA GENERAL DATOS IMPORTADOS'!AD331","v":0},{"$f":"'[1]HOJA GENERAL DATOS IMPORTADOS'!AE331","v":0},{"$f":"'[1]HOJA GENERAL DATOS IMPORTADOS'!AF331","v":0},{"$f":"'[1]HOJA GENERAL DATOS IMPORTADOS'!AG331","v":0},{"$f":"'[1]HOJA GENERAL DATOS IMPORTADOS'!AH331","v":0},{"$f":"'[1]HOJA GENERAL DATOS IMPORTADOS'!AI331","v":0}]
[{"$f":"'[1]HOJA GENERAL DATOS IMPORTADOS'!A332","v":0},{"$f":"'[1]HOJA GENERAL DATOS IMPORTADOS'!B332","v":0},{"$f":"'[1]HOJA GENERAL DATOS IMPORTADOS'!C332","v":0},{"$f":"'[1]HOJA GENERAL DATOS IMPORTADOS'!D332","v":0},{"$f":"'[1]HOJA GENERAL DATOS IMPORTADOS'!E332","v":0},{"$f":"'[1]HOJA GENERAL DATOS IMPORTADOS'!F332","v":0},{"$f":"'[1]HOJA GENERAL DATOS IMPORTADOS'!G332","v":0},{"$f":"'[1]HOJA GENERAL DATOS IMPORTADOS'!H332","v":0},{"$f":"'[1]HOJA GENERAL DATOS IMPORTADOS'!I332","v":0},{"$f":"'[1]HOJA GENERAL DATOS IMPORTADOS'!J332","v":0},{"$f":"'[1]HOJA GENERAL DATOS IMPORTADOS'!K332","v":0},{"$f":"'[1]HOJA GENERAL DATOS IMPORTADOS'!L332","v":0},{"$f":"'[1]HOJA GENERAL DATOS IMPORTADOS'!M332","v":0},{"$f":"'[1]HOJA GENERAL DATOS IMPORTADOS'!N332","v":0},{"$f":"'[1]HOJA GENERAL DATOS IMPORTADOS'!O332","v":0},{"$f":"'[1]HOJA GENERAL DATOS IMPORTADOS'!P332","v":0},{"$f":"'[1]HOJA GENERAL DATOS IMPORTADOS'!Q332","v":0},{"$f":"'[1]HOJA GENERAL DATOS IMPORTADOS'!R332","v":0},{"$f":"'[1]HOJA GENERAL DATOS IMPORTADOS'!S332","v":0},{"$f":"'[1]HOJA GENERAL DATOS IMPORTADOS'!T332","v":0},{"$f":"'[1]HOJA GENERAL DATOS IMPORTADOS'!U332","v":0},{"$f":"'[1]HOJA GENERAL DATOS IMPORTADOS'!V332","v":0},{"$f":"'[1]HOJA GENERAL DATOS IMPORTADOS'!W332","v":0},{"$f":"'[1]HOJA GENERAL DATOS IMPORTADOS'!X332","v":0},{"$f":"'[1]HOJA GENERAL DATOS IMPORTADOS'!Y332","v":0},{"$f":"'[1]HOJA GENERAL DATOS IMPORTADOS'!Z332","v":0},{"$f":"'[1]HOJA GENERAL DATOS IMPORTADOS'!AA332","v":0},{"$f":"'[1]HOJA GENERAL DATOS IMPORTADOS'!AB332","v":0},{"$f":"'[1]HOJA GENERAL DATOS IMPORTADOS'!AC332","v":0},{"$f":"'[1]HOJA GENERAL DATOS IMPORTADOS'!AD332","v":0},{"$f":"'[1]HOJA GENERAL DATOS IMPORTADOS'!AE332","v":0},{"$f":"'[1]HOJA GENERAL DATOS IMPORTADOS'!AF332","v":0},{"$f":"'[1]HOJA GENERAL DATOS IMPORTADOS'!AG332","v":0},{"$f":"'[1]HOJA GENERAL DATOS IMPORTADOS'!AH332","v":0},{"$f":"'[1]HOJA GENERAL DATOS IMPORTADOS'!AI332","v":0}]
[{"$f":"'[1]HOJA GENERAL DATOS IMPORTADOS'!A333","v":0},{"$f":"'[1]HOJA GENERAL DATOS IMPORTADOS'!B333","v":0},{"$f":"'[1]HOJA GENERAL DATOS IMPORTADOS'!C333","v":0},{"$f":"'[1]HOJA GENERAL DATOS IMPORTADOS'!D333","v":0},{"$f":"'[1]HOJA GENERAL DATOS IMPORTADOS'!E333","v":0},{"$f":"'[1]HOJA GENERAL DATOS IMPORTADOS'!F333","v":0},{"$f":"'[1]HOJA GENERAL DATOS IMPORTADOS'!G333","v":0},{"$f":"'[1]HOJA GENERAL DATOS IMPORTADOS'!H333","v":0},{"$f":"'[1]HOJA GENERAL DATOS IMPORTADOS'!I333","v":0},{"$f":"'[1]HOJA GENERAL DATOS IMPORTADOS'!J333","v":0},{"$f":"'[1]HOJA GENERAL DATOS IMPORTADOS'!K333","v":0},{"$f":"'[1]HOJA GENERAL DATOS IMPORTADOS'!L333","v":0},{"$f":"'[1]HOJA GENERAL DATOS IMPORTADOS'!M333","v":0},{"$f":"'[1]HOJA GENERAL DATOS IMPORTADOS'!N333","v":0},{"$f":"'[1]HOJA GENERAL DATOS IMPORTADOS'!O333","v":0},{"$f":"'[1]HOJA GENERAL DATOS IMPORTADOS'!P333","v":0},{"$f":"'[1]HOJA GENERAL DATOS IMPORTADOS'!Q333","v":0},{"$f":"'[1]HOJA GENERAL DATOS IMPORTADOS'!R333","v":0},{"$f":"'[1]HOJA GENERAL DATOS IMPORTADOS'!S333","v":0},{"$f":"'[1]HOJA GENERAL DATOS IMPORTADOS'!T333","v":0},{"$f":"'[1]HOJA GENERAL DATOS IMPORTADOS'!U333","v":0},{"$f":"'[1]HOJA GENERAL DATOS IMPORTADOS'!V333","v":0},{"$f":"'[1]HOJA GENERAL DATOS IMPORTADOS'!W333","v":0},{"$f":"'[1]HOJA GENERAL DATOS IMPORTADOS'!X333","v":0},{"$f":"'[1]HOJA GENERAL DATOS IMPORTADOS'!Y333","v":0},{"$f":"'[1]HOJA GENERAL DATOS IMPORTADOS'!Z333","v":0},{"$f":"'[1]HOJA GENERAL DATOS IMPORTADOS'!AA333","v":0},{"$f":"'[1]HOJA GENERAL DATOS IMPORTADOS'!AB333","v":0},{"$f":"'[1]HOJA GENERAL DATOS IMPORTADOS'!AC333","v":0},{"$f":"'[1]HOJA GENERAL DATOS IMPORTADOS'!AD333","v":0},{"$f":"'[1]HOJA GENERAL DATOS IMPORTADOS'!AE333","v":0},{"$f":"'[1]HOJA GENERAL DATOS IMPORTADOS'!AF333","v":0},{"$f":"'[1]HOJA GENERAL DATOS IMPORTADOS'!AG333","v":0},{"$f":"'[1]HOJA GENERAL DATOS IMPORTADOS'!AH333","v":0},{"$f":"'[1]HOJA GENERAL DATOS IMPORTADOS'!AI333","v":0}]
[{"$f":"'[1]HOJA GENERAL DATOS IMPORTADOS'!A334","v":0},{"$f":"'[1]HOJA GENERAL DATOS IMPORTADOS'!B334","v":0},{"$f":"'[1]HOJA GENERAL DATOS IMPORTADOS'!C334","v":0},{"$f":"'[1]HOJA GENERAL DATOS IMPORTADOS'!D334","v":0},{"$f":"'[1]HOJA GENERAL DATOS IMPORTADOS'!E334","v":0},{"$f":"'[1]HOJA GENERAL DATOS IMPORTADOS'!F334","v":0},{"$f":"'[1]HOJA GENERAL DATOS IMPORTADOS'!G334","v":0},{"$f":"'[1]HOJA GENERAL DATOS IMPORTADOS'!H334","v":0},{"$f":"'[1]HOJA GENERAL DATOS IMPORTADOS'!I334","v":0},{"$f":"'[1]HOJA GENERAL DATOS IMPORTADOS'!J334","v":0},{"$f":"'[1]HOJA GENERAL DATOS IMPORTADOS'!K334","v":0},{"$f":"'[1]HOJA GENERAL DATOS IMPORTADOS'!L334","v":0},{"$f":"'[1]HOJA GENERAL DATOS IMPORTADOS'!M334","v":0},{"$f":"'[1]HOJA GENERAL DATOS IMPORTADOS'!N334","v":0},{"$f":"'[1]HOJA GENERAL DATOS IMPORTADOS'!O334","v":0},{"$f":"'[1]HOJA GENERAL DATOS IMPORTADOS'!P334","v":0},{"$f":"'[1]HOJA GENERAL DATOS IMPORTADOS'!Q334","v":0},{"$f":"'[1]HOJA GENERAL DATOS IMPORTADOS'!R334","v":0},{"$f":"'[1]HOJA GENERAL DATOS IMPORTADOS'!S334","v":0},{"$f":"'[1]HOJA GENERAL DATOS IMPORTADOS'!T334","v":0},{"$f":"'[1]HOJA GENERAL DATOS IMPORTADOS'!U334","v":0},{"$f":"'[1]HOJA GENERAL DATOS IMPORTADOS'!V334","v":0},{"$f":"'[1]HOJA GENERAL DATOS IMPORTADOS'!W334","v":0},{"$f":"'[1]HOJA GENERAL DATOS IMPORTADOS'!X334","v":0},{"$f":"'[1]HOJA GENERAL DATOS IMPORTADOS'!Y334","v":0},{"$f":"'[1]HOJA GENERAL DATOS IMPORTADOS'!Z334","v":0},{"$f":"'[1]HOJA GENERAL DATOS IMPORTADOS'!AA334","v":0},{"$f":"'[1]HOJA GENERAL DATOS IMPORTADOS'!AB334","v":0},{"$f":"'[1]HOJA GENERAL DATOS IMPORTADOS'!AC334","v":0},{"$f":"'[1]HOJA GENERAL DATOS IMPORTADOS'!AD334","v":0},{"$f":"'[1]HOJA GENERAL DATOS IMPORTADOS'!AE334","v":0},{"$f":"'[1]HOJA GENERAL DATOS IMPORTADOS'!AF334","v":0},{"$f":"'[1]HOJA GENERAL DATOS IMPORTADOS'!AG334","v":0},{"$f":"'[1]HOJA GENERAL DATOS IMPORTADOS'!AH334","v":0},{"$f":"'[1]HOJA GENERAL DATOS IMPORTADOS'!AI334","v":0}]
[{"$f":"'[1]HOJA GENERAL DATOS IMPORTADOS'!A335","v":0},{"$f":"'[1]HOJA GENERAL DATOS IMPORTADOS'!B335","v":0},{"$f":"'[1]HOJA GENERAL DATOS IMPORTADOS'!C335","v":0},{"$f":"'[1]HOJA GENERAL DATOS IMPORTADOS'!D335","v":0},{"$f":"'[1]HOJA GENERAL DATOS IMPORTADOS'!E335","v":0},{"$f":"'[1]HOJA GENERAL DATOS IMPORTADOS'!F335","v":0},{"$f":"'[1]HOJA GENERAL DATOS IMPORTADOS'!G335","v":0},{"$f":"'[1]HOJA GENERAL DATOS IMPORTADOS'!H335","v":0},{"$f":"'[1]HOJA GENERAL DATOS IMPORTADOS'!I335","v":0},{"$f":"'[1]HOJA GENERAL DATOS IMPORTADOS'!J335","v":0},{"$f":"'[1]HOJA GENERAL DATOS IMPORTADOS'!K335","v":0},{"$f":"'[1]HOJA GENERAL DATOS IMPORTADOS'!L335","v":0},{"$f":"'[1]HOJA GENERAL DATOS IMPORTADOS'!M335","v":0},{"$f":"'[1]HOJA GENERAL DATOS IMPORTADOS'!N335","v":0},{"$f":"'[1]HOJA GENERAL DATOS IMPORTADOS'!O335","v":0},{"$f":"'[1]HOJA GENERAL DATOS IMPORTADOS'!P335","v":0},{"$f":"'[1]HOJA GENERAL DATOS IMPORTADOS'!Q335","v":0},{"$f":"'[1]HOJA GENERAL DATOS IMPORTADOS'!R335","v":0},{"$f":"'[1]HOJA GENERAL DATOS IMPORTADOS'!S335","v":0},{"$f":"'[1]HOJA GENERAL DATOS IMPORTADOS'!T335","v":0},{"$f":"'[1]HOJA GENERAL DATOS IMPORTADOS'!U335","v":0},{"$f":"'[1]HOJA GENERAL DATOS IMPORTADOS'!V335","v":0},{"$f":"'[1]HOJA GENERAL DATOS IMPORTADOS'!W335","v":0},{"$f":"'[1]HOJA GENERAL DATOS IMPORTADOS'!X335","v":0},{"$f":"'[1]HOJA GENERAL DATOS IMPORTADOS'!Y335","v":0},{"$f":"'[1]HOJA GENERAL DATOS IMPORTADOS'!Z335","v":0},{"$f":"'[1]HOJA GENERAL DATOS IMPORTADOS'!AA335","v":0},{"$f":"'[1]HOJA GENERAL DATOS IMPORTADOS'!AB335","v":0},{"$f":"'[1]HOJA GENERAL DATOS IMPORTADOS'!AC335","v":0},{"$f":"'[1]HOJA GENERAL DATOS IMPORTADOS'!AD335","v":0},{"$f":"'[1]HOJA GENERAL DATOS IMPORTADOS'!AE335","v":0},{"$f":"'[1]HOJA GENERAL DATOS IMPORTADOS'!AF335","v":0},{"$f":"'[1]HOJA GENERAL DATOS IMPORTADOS'!AG335","v":0},{"$f":"'[1]HOJA GENERAL DATOS IMPORTADOS'!AH335","v":0},{"$f":"'[1]HOJA GENERAL DATOS IMPORTADOS'!AI335","v":0}]
[{"$f":"'[1]HOJA GENERAL DATOS IMPORTADOS'!A336","v":0},{"$f":"'[1]HOJA GENERAL DATOS IMPORTADOS'!B336","v":0},{"$f":"'[1]HOJA GENERAL DATOS IMPORTADOS'!C336","v":0},{"$f":"'[1]HOJA GENERAL DATOS IMPORTADOS'!D336","v":0},{"$f":"'[1]HOJA GENERAL DATOS IMPORTADOS'!E336","v":0},{"$f":"'[1]HOJA GENERAL DATOS IMPORTADOS'!F336","v":0},{"$f":"'[1]HOJA GENERAL DATOS IMPORTADOS'!G336","v":0},{"$f":"'[1]HOJA GENERAL DATOS IMPORTADOS'!H336","v":0},{"$f":"'[1]HOJA GENERAL DATOS IMPORTADOS'!I336","v":0},{"$f":"'[1]HOJA GENERAL DATOS IMPORTADOS'!J336","v":0},{"$f":"'[1]HOJA GENERAL DATOS IMPORTADOS'!K336","v":0},{"$f":"'[1]HOJA GENERAL DATOS IMPORTADOS'!L336","v":0},{"$f":"'[1]HOJA GENERAL DATOS IMPORTADOS'!M336","v":0},{"$f":"'[1]HOJA GENERAL DATOS IMPORTADOS'!N336","v":0},{"$f":"'[1]HOJA GENERAL DATOS IMPORTADOS'!O336","v":0},{"$f":"'[1]HOJA GENERAL DATOS IMPORTADOS'!P336","v":0},{"$f":"'[1]HOJA GENERAL DATOS IMPORTADOS'!Q336","v":0},{"$f":"'[1]HOJA GENERAL DATOS IMPORTADOS'!R336","v":0},{"$f":"'[1]HOJA GENERAL DATOS IMPORTADOS'!S336","v":0},{"$f":"'[1]HOJA GENERAL DATOS IMPORTADOS'!T336","v":0},{"$f":"'[1]HOJA GENERAL DATOS IMPORTADOS'!U336","v":0},{"$f":"'[1]HOJA GENERAL DATOS IMPORTADOS'!V336","v":0},{"$f":"'[1]HOJA GENERAL DATOS IMPORTADOS'!W336","v":0},{"$f":"'[1]HOJA GENERAL DATOS IMPORTADOS'!X336","v":0},{"$f":"'[1]HOJA GENERAL DATOS IMPORTADOS'!Y336","v":0},{"$f":"'[1]HOJA GENERAL DATOS IMPORTADOS'!Z336","v":0},{"$f":"'[1]HOJA GENERAL DATOS IMPORTADOS'!AA336","v":0},{"$f":"'[1]HOJA GENERAL DATOS IMPORTADOS'!AB336","v":0},{"$f":"'[1]HOJA GENERAL DATOS IMPORTADOS'!AC336","v":0},{"$f":"'[1]HOJA GENERAL DATOS IMPORTADOS'!AD336","v":0},{"$f":"'[1]HOJA GENERAL DATOS IMPORTADOS'!AE336","v":0},{"$f":"'[1]HOJA GENERAL DATOS IMPORTADOS'!AF336","v":0},{"$f":"'[1]HOJA GENERAL DATOS IMPORTADOS'!AG336","v":0},{"$f":"'[1]HOJA GENERAL DATOS IMPORTADOS'!AH336","v":0},{"$f":"'[1]HOJA GENERAL DATOS IMPORTADOS'!AI336","v":0}]
[{"$f":"'[1]HOJA GENERAL DATOS IMPORTADOS'!A337","v":0},{"$f":"'[1]HOJA GENERAL DATOS IMPORTADOS'!B337","v":0},{"$f":"'[1]HOJA GENERAL DATOS IMPORTADOS'!C337","v":0},{"$f":"'[1]HOJA GENERAL DATOS IMPORTADOS'!D337","v":0},{"$f":"'[1]HOJA GENERAL DATOS IMPORTADOS'!E337","v":0},{"$f":"'[1]HOJA GENERAL DATOS IMPORTADOS'!F337","v":0},{"$f":"'[1]HOJA GENERAL DATOS IMPORTADOS'!G337","v":0},{"$f":"'[1]HOJA GENERAL DATOS IMPORTADOS'!H337","v":0},{"$f":"'[1]HOJA GENERAL DATOS IMPORTADOS'!I337","v":0},{"$f":"'[1]HOJA GENERAL DATOS IMPORTADOS'!J337","v":0},{"$f":"'[1]HOJA GENERAL DATOS IMPORTADOS'!K337","v":0},{"$f":"'[1]HOJA GENERAL DATOS IMPORTADOS'!L337","v":0},{"$f":"'[1]HOJA GENERAL DATOS IMPORTADOS'!M337","v":0},{"$f":"'[1]HOJA GENERAL DATOS IMPORTADOS'!N337","v":0},{"$f":"'[1]HOJA GENERAL DATOS IMPORTADOS'!O337","v":0},{"$f":"'[1]HOJA GENERAL DATOS IMPORTADOS'!P337","v":0},{"$f":"'[1]HOJA GENERAL DATOS IMPORTADOS'!Q337","v":0},{"$f":"'[1]HOJA GENERAL DATOS IMPORTADOS'!R337","v":0},{"$f":"'[1]HOJA GENERAL DATOS IMPORTADOS'!S337","v":0},{"$f":"'[1]HOJA GENERAL DATOS IMPORTADOS'!T337","v":0},{"$f":"'[1]HOJA GENERAL DATOS IMPORTADOS'!U337","v":0},{"$f":"'[1]HOJA GENERAL DATOS IMPORTADOS'!V337","v":0},{"$f":"'[1]HOJA GENERAL DATOS IMPORTADOS'!W337","v":0},{"$f":"'[1]HOJA GENERAL DATOS IMPORTADOS'!X337","v":0},{"$f":"'[1]HOJA GENERAL DATOS IMPORTADOS'!Y337","v":0},{"$f":"'[1]HOJA GENERAL DATOS IMPORTADOS'!Z337","v":0},{"$f":"'[1]HOJA GENERAL DATOS IMPORTADOS'!AA337","v":0},{"$f":"'[1]HOJA GENERAL DATOS IMPORTADOS'!AB337","v":0},{"$f":"'[1]HOJA GENERAL DATOS IMPORTADOS'!AC337","v":0},{"$f":"'[1]HOJA GENERAL DATOS IMPORTADOS'!AD337","v":0},{"$f":"'[1]HOJA GENERAL DATOS IMPORTADOS'!AE337","v":0},{"$f":"'[1]HOJA GENERAL DATOS IMPORTADOS'!AF337","v":0},{"$f":"'[1]HOJA GENERAL DATOS IMPORTADOS'!AG337","v":0},{"$f":"'[1]HOJA GENERAL DATOS IMPORTADOS'!AH337","v":0},{"$f":"'[1]HOJA GENERAL DATOS IMPORTADOS'!AI337","v":0}]
[{"$f":"'[1]HOJA GENERAL DATOS IMPORTADOS'!A338","v":0},{"$f":"'[1]HOJA GENERAL DATOS IMPORTADOS'!B338","v":0},{"$f":"'[1]HOJA GENERAL DATOS IMPORTADOS'!C338","v":0},{"$f":"'[1]HOJA GENERAL DATOS IMPORTADOS'!D338","v":0},{"$f":"'[1]HOJA GENERAL DATOS IMPORTADOS'!E338","v":0},{"$f":"'[1]HOJA GENERAL DATOS IMPORTADOS'!F338","v":0},{"$f":"'[1]HOJA GENERAL DATOS IMPORTADOS'!G338","v":0},{"$f":"'[1]HOJA GENERAL DATOS IMPORTADOS'!H338","v":0},{"$f":"'[1]HOJA GENERAL DATOS IMPORTADOS'!I338","v":0},{"$f":"'[1]HOJA GENERAL DATOS IMPORTADOS'!J338","v":0},{"$f":"'[1]HOJA GENERAL DATOS IMPORTADOS'!K338","v":0},{"$f":"'[1]HOJA GENERAL DATOS IMPORTADOS'!L338","v":0},{"$f":"'[1]HOJA GENERAL DATOS IMPORTADOS'!M338","v":0},{"$f":"'[1]HOJA GENERAL DATOS IMPORTADOS'!N338","v":0},{"$f":"'[1]HOJA GENERAL DATOS IMPORTADOS'!O338","v":0},{"$f":"'[1]HOJA GENERAL DATOS IMPORTADOS'!P338","v":0},{"$f":"'[1]HOJA GENERAL DATOS IMPORTADOS'!Q338","v":0},{"$f":"'[1]HOJA GENERAL DATOS IMPORTADOS'!R338","v":0},{"$f":"'[1]HOJA GENERAL DATOS IMPORTADOS'!S338","v":0},{"$f":"'[1]HOJA GENERAL DATOS IMPORTADOS'!T338","v":0},{"$f":"'[1]HOJA GENERAL DATOS IMPORTADOS'!U338","v":0},{"$f":"'[1]HOJA GENERAL DATOS IMPORTADOS'!V338","v":0},{"$f":"'[1]HOJA GENERAL DATOS IMPORTADOS'!W338","v":0},{"$f":"'[1]HOJA GENERAL DATOS IMPORTADOS'!X338","v":0},{"$f":"'[1]HOJA GENERAL DATOS IMPORTADOS'!Y338","v":0},{"$f":"'[1]HOJA GENERAL DATOS IMPORTADOS'!Z338","v":0},{"$f":"'[1]HOJA GENERAL DATOS IMPORTADOS'!AA338","v":0},{"$f":"'[1]HOJA GENERAL DATOS IMPORTADOS'!AB338","v":0},{"$f":"'[1]HOJA GENERAL DATOS IMPORTADOS'!AC338","v":0},{"$f":"'[1]HOJA GENERAL DATOS IMPORTADOS'!AD338","v":0},{"$f":"'[1]HOJA GENERAL DATOS IMPORTADOS'!AE338","v":0},{"$f":"'[1]HOJA GENERAL DATOS IMPORTADOS'!AF338","v":0},{"$f":"'[1]HOJA GENERAL DATOS IMPORTADOS'!AG338","v":0},{"$f":"'[1]HOJA GENERAL DATOS IMPORTADOS'!AH338","v":0},{"$f":"'[1]HOJA GENERAL DATOS IMPORTADOS'!AI338","v":0}]
[{"$f":"'[1]HOJA GENERAL DATOS IMPORTADOS'!A339","v":0},{"$f":"'[1]HOJA GENERAL DATOS IMPORTADOS'!B339","v":0},{"$f":"'[1]HOJA GENERAL DATOS IMPORTADOS'!C339","v":0},{"$f":"'[1]HOJA GENERAL DATOS IMPORTADOS'!D339","v":0},{"$f":"'[1]HOJA GENERAL DATOS IMPORTADOS'!E339","v":0},{"$f":"'[1]HOJA GENERAL DATOS IMPORTADOS'!F339","v":0},{"$f":"'[1]HOJA GENERAL DATOS IMPORTADOS'!G339","v":0},{"$f":"'[1]HOJA GENERAL DATOS IMPORTADOS'!H339","v":0},{"$f":"'[1]HOJA GENERAL DATOS IMPORTADOS'!I339","v":0},{"$f":"'[1]HOJA GENERAL DATOS IMPORTADOS'!J339","v":0},{"$f":"'[1]HOJA GENERAL DATOS IMPORTADOS'!K339","v":0},{"$f":"'[1]HOJA GENERAL DATOS IMPORTADOS'!L339","v":0},{"$f":"'[1]HOJA GENERAL DATOS IMPORTADOS'!M339","v":0},{"$f":"'[1]HOJA GENERAL DATOS IMPORTADOS'!N339","v":0},{"$f":"'[1]HOJA GENERAL DATOS IMPORTADOS'!O339","v":0},{"$f":"'[1]HOJA GENERAL DATOS IMPORTADOS'!P339","v":0},{"$f":"'[1]HOJA GENERAL DATOS IMPORTADOS'!Q339","v":0},{"$f":"'[1]HOJA GENERAL DATOS IMPORTADOS'!R339","v":0},{"$f":"'[1]HOJA GENERAL DATOS IMPORTADOS'!S339","v":0},{"$f":"'[1]HOJA GENERAL DATOS IMPORTADOS'!T339","v":0},{"$f":"'[1]HOJA GENERAL DATOS IMPORTADOS'!U339","v":0},{"$f":"'[1]HOJA GENERAL DATOS IMPORTADOS'!V339","v":0},{"$f":"'[1]HOJA GENERAL DATOS IMPORTADOS'!W339","v":0},{"$f":"'[1]HOJA GENERAL DATOS IMPORTADOS'!X339","v":0},{"$f":"'[1]HOJA GENERAL DATOS IMPORTADOS'!Y339","v":0},{"$f":"'[1]HOJA GENERAL DATOS IMPORTADOS'!Z339","v":0},{"$f":"'[1]HOJA GENERAL DATOS IMPORTADOS'!AA339","v":0},{"$f":"'[1]HOJA GENERAL DATOS IMPORTADOS'!AB339","v":0},{"$f":"'[1]HOJA GENERAL DATOS IMPORTADOS'!AC339","v":0},{"$f":"'[1]HOJA GENERAL DATOS IMPORTADOS'!AD339","v":0},{"$f":"'[1]HOJA GENERAL DATOS IMPORTADOS'!AE339","v":0},{"$f":"'[1]HOJA GENERAL DATOS IMPORTADOS'!AF339","v":0},{"$f":"'[1]HOJA GENERAL DATOS IMPORTADOS'!AG339","v":0},{"$f":"'[1]HOJA GENERAL DATOS IMPORTADOS'!AH339","v":0},{"$f":"'[1]HOJA GENERAL DATOS IMPORTADOS'!AI339","v":0}]
[{"$f":"'[1]HOJA GENERAL DATOS IMPORTADOS'!A340","v":0},{"$f":"'[1]HOJA GENERAL DATOS IMPORTADOS'!B340","v":0},{"$f":"'[1]HOJA GENERAL DATOS IMPORTADOS'!C340","v":0},{"$f":"'[1]HOJA GENERAL DATOS IMPORTADOS'!D340","v":0},{"$f":"'[1]HOJA GENERAL DATOS IMPORTADOS'!E340","v":0},{"$f":"'[1]HOJA GENERAL DATOS IMPORTADOS'!F340","v":0},{"$f":"'[1]HOJA GENERAL DATOS IMPORTADOS'!G340","v":0},{"$f":"'[1]HOJA GENERAL DATOS IMPORTADOS'!H340","v":0},{"$f":"'[1]HOJA GENERAL DATOS IMPORTADOS'!I340","v":0},{"$f":"'[1]HOJA GENERAL DATOS IMPORTADOS'!J340","v":0},{"$f":"'[1]HOJA GENERAL DATOS IMPORTADOS'!K340","v":0},{"$f":"'[1]HOJA GENERAL DATOS IMPORTADOS'!L340","v":0},{"$f":"'[1]HOJA GENERAL DATOS IMPORTADOS'!M340","v":0},{"$f":"'[1]HOJA GENERAL DATOS IMPORTADOS'!N340","v":0},{"$f":"'[1]HOJA GENERAL DATOS IMPORTADOS'!O340","v":0},{"$f":"'[1]HOJA GENERAL DATOS IMPORTADOS'!P340","v":0},{"$f":"'[1]HOJA GENERAL DATOS IMPORTADOS'!Q340","v":0},{"$f":"'[1]HOJA GENERAL DATOS IMPORTADOS'!R340","v":0},{"$f":"'[1]HOJA GENERAL DATOS IMPORTADOS'!S340","v":0},{"$f":"'[1]HOJA GENERAL DATOS IMPORTADOS'!T340","v":0},{"$f":"'[1]HOJA GENERAL DATOS IMPORTADOS'!U340","v":0},{"$f":"'[1]HOJA GENERAL DATOS IMPORTADOS'!V340","v":0},{"$f":"'[1]HOJA GENERAL DATOS IMPORTADOS'!W340","v":0},{"$f":"'[1]HOJA GENERAL DATOS IMPORTADOS'!X340","v":0},{"$f":"'[1]HOJA GENERAL DATOS IMPORTADOS'!Y340","v":0},{"$f":"'[1]HOJA GENERAL DATOS IMPORTADOS'!Z340","v":0},{"$f":"'[1]HOJA GENERAL DATOS IMPORTADOS'!AA340","v":0},{"$f":"'[1]HOJA GENERAL DATOS IMPORTADOS'!AB340","v":0},{"$f":"'[1]HOJA GENERAL DATOS IMPORTADOS'!AC340","v":0},{"$f":"'[1]HOJA GENERAL DATOS IMPORTADOS'!AD340","v":0},{"$f":"'[1]HOJA GENERAL DATOS IMPORTADOS'!AE340","v":0},{"$f":"'[1]HOJA GENERAL DATOS IMPORTADOS'!AF340","v":0},{"$f":"'[1]HOJA GENERAL DATOS IMPORTADOS'!AG340","v":0},{"$f":"'[1]HOJA GENERAL DATOS IMPORTADOS'!AH340","v":0},{"$f":"'[1]HOJA GENERAL DATOS IMPORTADOS'!AI340","v":0}]
[{"$f":"'[1]HOJA GENERAL DATOS IMPORTADOS'!A341","v":0},{"$f":"'[1]HOJA GENERAL DATOS IMPORTADOS'!B341","v":0},{"$f":"'[1]HOJA GENERAL DATOS IMPORTADOS'!C341","v":0},{"$f":"'[1]HOJA GENERAL DATOS IMPORTADOS'!D341","v":0},{"$f":"'[1]HOJA GENERAL DATOS IMPORTADOS'!E341","v":0},{"$f":"'[1]HOJA GENERAL DATOS IMPORTADOS'!F341","v":0},{"$f":"'[1]HOJA GENERAL DATOS IMPORTADOS'!G341","v":0},{"$f":"'[1]HOJA GENERAL DATOS IMPORTADOS'!H341","v":0},{"$f":"'[1]HOJA GENERAL DATOS IMPORTADOS'!I341","v":0},{"$f":"'[1]HOJA GENERAL DATOS IMPORTADOS'!J341","v":0},{"$f":"'[1]HOJA GENERAL DATOS IMPORTADOS'!K341","v":0},{"$f":"'[1]HOJA GENERAL DATOS IMPORTADOS'!L341","v":0},{"$f":"'[1]HOJA GENERAL DATOS IMPORTADOS'!M341","v":0},{"$f":"'[1]HOJA GENERAL DATOS IMPORTADOS'!N341","v":0},{"$f":"'[1]HOJA GENERAL DATOS IMPORTADOS'!O341","v":0},{"$f":"'[1]HOJA GENERAL DATOS IMPORTADOS'!P341","v":0},{"$f":"'[1]HOJA GENERAL DATOS IMPORTADOS'!Q341","v":0},{"$f":"'[1]HOJA GENERAL DATOS IMPORTADOS'!R341","v":0},{"$f":"'[1]HOJA GENERAL DATOS IMPORTADOS'!S341","v":0},{"$f":"'[1]HOJA GENERAL DATOS IMPORTADOS'!T341","v":0},{"$f":"'[1]HOJA GENERAL DATOS IMPORTADOS'!U341","v":0},{"$f":"'[1]HOJA GENERAL DATOS IMPORTADOS'!V341","v":0},{"$f":"'[1]HOJA GENERAL DATOS IMPORTADOS'!W341","v":0},{"$f":"'[1]HOJA GENERAL DATOS IMPORTADOS'!X341","v":0},{"$f":"'[1]HOJA GENERAL DATOS IMPORTADOS'!Y341","v":0},{"$f":"'[1]HOJA GENERAL DATOS IMPORTADOS'!Z341","v":0},{"$f":"'[1]HOJA GENERAL DATOS IMPORTADOS'!AA341","v":0},{"$f":"'[1]HOJA GENERAL DATOS IMPORTADOS'!AB341","v":0},{"$f":"'[1]HOJA GENERAL DATOS IMPORTADOS'!AC341","v":0},{"$f":"'[1]HOJA GENERAL DATOS IMPORTADOS'!AD341","v":0},{"$f":"'[1]HOJA GENERAL DATOS IMPORTADOS'!AE341","v":0},{"$f":"'[1]HOJA GENERAL DATOS IMPORTADOS'!AF341","v":0},{"$f":"'[1]HOJA GENERAL DATOS IMPORTADOS'!AG341","v":0},{"$f":"'[1]HOJA GENERAL DATOS IMPORTADOS'!AH341","v":0},{"$f":"'[1]HOJA GENERAL DATOS IMPORTADOS'!AI341","v":0}]
[{"$f":"'[1]HOJA GENERAL DATOS IMPORTADOS'!A342","v":0},{"$f":"'[1]HOJA GENERAL DATOS IMPORTADOS'!B342","v":0},{"$f":"'[1]HOJA GENERAL DATOS IMPORTADOS'!C342","v":0},{"$f":"'[1]HOJA GENERAL DATOS IMPORTADOS'!D342","v":0},{"$f":"'[1]HOJA GENERAL DATOS IMPORTADOS'!E342","v":0},{"$f":"'[1]HOJA GENERAL DATOS IMPORTADOS'!F342","v":0},{"$f":"'[1]HOJA GENERAL DATOS IMPORTADOS'!G342","v":0},{"$f":"'[1]HOJA GENERAL DATOS IMPORTADOS'!H342","v":0},{"$f":"'[1]HOJA GENERAL DATOS IMPORTADOS'!I342","v":0},{"$f":"'[1]HOJA GENERAL DATOS IMPORTADOS'!J342","v":0},{"$f":"'[1]HOJA GENERAL DATOS IMPORTADOS'!K342","v":0},{"$f":"'[1]HOJA GENERAL DATOS IMPORTADOS'!L342","v":0},{"$f":"'[1]HOJA GENERAL DATOS IMPORTADOS'!M342","v":0},{"$f":"'[1]HOJA GENERAL DATOS IMPORTADOS'!N342","v":0},{"$f":"'[1]HOJA GENERAL DATOS IMPORTADOS'!O342","v":0},{"$f":"'[1]HOJA GENERAL DATOS IMPORTADOS'!P342","v":0},{"$f":"'[1]HOJA GENERAL DATOS IMPORTADOS'!Q342","v":0},{"$f":"'[1]HOJA GENERAL DATOS IMPORTADOS'!R342","v":0},{"$f":"'[1]HOJA GENERAL DATOS IMPORTADOS'!S342","v":0},{"$f":"'[1]HOJA GENERAL DATOS IMPORTADOS'!T342","v":0},{"$f":"'[1]HOJA GENERAL DATOS IMPORTADOS'!U342","v":0},{"$f":"'[1]HOJA GENERAL DATOS IMPORTADOS'!V342","v":0},{"$f":"'[1]HOJA GENERAL DATOS IMPORTADOS'!W342","v":0},{"$f":"'[1]HOJA GENERAL DATOS IMPORTADOS'!X342","v":0},{"$f":"'[1]HOJA GENERAL DATOS IMPORTADOS'!Y342","v":0},{"$f":"'[1]HOJA GENERAL DATOS IMPORTADOS'!Z342","v":0},{"$f":"'[1]HOJA GENERAL DATOS IMPORTADOS'!AA342","v":0},{"$f":"'[1]HOJA GENERAL DATOS IMPORTADOS'!AB342","v":0},{"$f":"'[1]HOJA GENERAL DATOS IMPORTADOS'!AC342","v":0},{"$f":"'[1]HOJA GENERAL DATOS IMPORTADOS'!AD342","v":0},{"$f":"'[1]HOJA GENERAL DATOS IMPORTADOS'!AE342","v":0},{"$f":"'[1]HOJA GENERAL DATOS IMPORTADOS'!AF342","v":0},{"$f":"'[1]HOJA GENERAL DATOS IMPORTADOS'!AG342","v":0},{"$f":"'[1]HOJA GENERAL DATOS IMPORTADOS'!AH342","v":0},{"$f":"'[1]HOJA GENERAL DATOS IMPORTADOS'!AI342","v":0}]
[{"$f":"'[1]HOJA GENERAL DATOS IMPORTADOS'!A343","v":0},{"$f":"'[1]HOJA GENERAL DATOS IMPORTADOS'!B343","v":0},{"$f":"'[1]HOJA GENERAL DATOS IMPORTADOS'!C343","v":0},{"$f":"'[1]HOJA GENERAL DATOS IMPORTADOS'!D343","v":0},{"$f":"'[1]HOJA GENERAL DATOS IMPORTADOS'!E343","v":0},{"$f":"'[1]HOJA GENERAL DATOS IMPORTADOS'!F343","v":0},{"$f":"'[1]HOJA GENERAL DATOS IMPORTADOS'!G343","v":0},{"$f":"'[1]HOJA GENERAL DATOS IMPORTADOS'!H343","v":0},{"$f":"'[1]HOJA GENERAL DATOS IMPORTADOS'!I343","v":0},{"$f":"'[1]HOJA GENERAL DATOS IMPORTADOS'!J343","v":0},{"$f":"'[1]HOJA GENERAL DATOS IMPORTADOS'!K343","v":0},{"$f":"'[1]HOJA GENERAL DATOS IMPORTADOS'!L343","v":0},{"$f":"'[1]HOJA GENERAL DATOS IMPORTADOS'!M343","v":0},{"$f":"'[1]HOJA GENERAL DATOS IMPORTADOS'!N343","v":0},{"$f":"'[1]HOJA GENERAL DATOS IMPORTADOS'!O343","v":0},{"$f":"'[1]HOJA GENERAL DATOS IMPORTADOS'!P343","v":0},{"$f":"'[1]HOJA GENERAL DATOS IMPORTADOS'!Q343","v":0},{"$f":"'[1]HOJA GENERAL DATOS IMPORTADOS'!R343","v":0},{"$f":"'[1]HOJA GENERAL DATOS IMPORTADOS'!S343","v":0},{"$f":"'[1]HOJA GENERAL DATOS IMPORTADOS'!T343","v":0},{"$f":"'[1]HOJA GENERAL DATOS IMPORTADOS'!U343","v":0},{"$f":"'[1]HOJA GENERAL DATOS IMPORTADOS'!V343","v":0},{"$f":"'[1]HOJA GENERAL DATOS IMPORTADOS'!W343","v":0},{"$f":"'[1]HOJA GENERAL DATOS IMPORTADOS'!X343","v":0},{"$f":"'[1]HOJA GENERAL DATOS IMPORTADOS'!Y343","v":0},{"$f":"'[1]HOJA GENERAL DATOS IMPORTADOS'!Z343","v":0},{"$f":"'[1]HOJA GENERAL DATOS IMPORTADOS'!AA343","v":0},{"$f":"'[1]HOJA GENERAL DATOS IMPORTADOS'!AB343","v":0},{"$f":"'[1]HOJA GENERAL DATOS IMPORTADOS'!AC343","v":0},{"$f":"'[1]HOJA GENERAL DATOS IMPORTADOS'!AD343","v":0},{"$f":"'[1]HOJA GENERAL DATOS IMPORTADOS'!AE343","v":0},{"$f":"'[1]HOJA GENERAL DATOS IMPORTADOS'!AF343","v":0},{"$f":"'[1]HOJA GENERAL DATOS IMPORTADOS'!AG343","v":0},{"$f":"'[1]HOJA GENERAL DATOS IMPORTADOS'!AH343","v":0},{"$f":"'[1]HOJA GENERAL DATOS IMPORTADOS'!AI343","v":0}]
[{"$f":"'[1]HOJA GENERAL DATOS IMPORTADOS'!A344","v":0},{"$f":"'[1]HOJA GENERAL DATOS IMPORTADOS'!B344","v":0},{"$f":"'[1]HOJA GENERAL DATOS IMPORTADOS'!C344","v":0},{"$f":"'[1]HOJA GENERAL DATOS IMPORTADOS'!D344","v":0},{"$f":"'[1]HOJA GENERAL DATOS IMPORTADOS'!E344","v":0},{"$f":"'[1]HOJA GENERAL DATOS IMPORTADOS'!F344","v":0},{"$f":"'[1]HOJA GENERAL DATOS IMPORTADOS'!G344","v":0},{"$f":"'[1]HOJA GENERAL DATOS IMPORTADOS'!H344","v":0},{"$f":"'[1]HOJA GENERAL DATOS IMPORTADOS'!I344","v":0},{"$f":"'[1]HOJA GENERAL DATOS IMPORTADOS'!J344","v":0},{"$f":"'[1]HOJA GENERAL DATOS IMPORTADOS'!K344","v":0},{"$f":"'[1]HOJA GENERAL DATOS IMPORTADOS'!L344","v":0},{"$f":"'[1]HOJA GENERAL DATOS IMPORTADOS'!M344","v":0},{"$f":"'[1]HOJA GENERAL DATOS IMPORTADOS'!N344","v":0},{"$f":"'[1]HOJA GENERAL DATOS IMPORTADOS'!O344","v":0},{"$f":"'[1]HOJA GENERAL DATOS IMPORTADOS'!P344","v":0},{"$f":"'[1]HOJA GENERAL DATOS IMPORTADOS'!Q344","v":0},{"$f":"'[1]HOJA GENERAL DATOS IMPORTADOS'!R344","v":0},{"$f":"'[1]HOJA GENERAL DATOS IMPORTADOS'!S344","v":0},{"$f":"'[1]HOJA GENERAL DATOS IMPORTADOS'!T344","v":0},{"$f":"'[1]HOJA GENERAL DATOS IMPORTADOS'!U344","v":0},{"$f":"'[1]HOJA GENERAL DATOS IMPORTADOS'!V344","v":0},{"$f":"'[1]HOJA GENERAL DATOS IMPORTADOS'!W344","v":0},{"$f":"'[1]HOJA GENERAL DATOS IMPORTADOS'!X344","v":0},{"$f":"'[1]HOJA GENERAL DATOS IMPORTADOS'!Y344","v":0},{"$f":"'[1]HOJA GENERAL DATOS IMPORTADOS'!Z344","v":0},{"$f":"'[1]HOJA GENERAL DATOS IMPORTADOS'!AA344","v":0},{"$f":"'[1]HOJA GENERAL DATOS IMPORTADOS'!AB344","v":0},{"$f":"'[1]HOJA GENERAL DATOS IMPORTADOS'!AC344","v":0},{"$f":"'[1]HOJA GENERAL DATOS IMPORTADOS'!AD344","v":0},{"$f":"'[1]HOJA GENERAL DATOS IMPORTADOS'!AE344","v":0},{"$f":"'[1]HOJA GENERAL DATOS IMPORTADOS'!AF344","v":0},{"$f":"'[1]HOJA GENERAL DATOS IMPORTADOS'!AG344","v":0},{"$f":"'[1]HOJA GENERAL DATOS IMPORTADOS'!AH344","v":0},{"$f":"'[1]HOJA GENERAL DATOS IMPORTADOS'!AI344","v":0}]
[{"$f":"'[1]HOJA GENERAL DATOS IMPORTADOS'!A345","v":0},{"$f":"'[1]HOJA GENERAL DATOS IMPORTADOS'!B345","v":0},{"$f":"'[1]HOJA GENERAL DATOS IMPORTADOS'!C345","v":0},{"$f":"'[1]HOJA GENERAL DATOS IMPORTADOS'!D345","v":0},{"$f":"'[1]HOJA GENERAL DATOS IMPORTADOS'!E345","v":0},{"$f":"'[1]HOJA GENERAL DATOS IMPORTADOS'!F345","v":0},{"$f":"'[1]HOJA GENERAL DATOS IMPORTADOS'!G345","v":0},{"$f":"'[1]HOJA GENERAL DATOS IMPORTADOS'!H345","v":0},{"$f":"'[1]HOJA GENERAL DATOS IMPORTADOS'!I345","v":0},{"$f":"'[1]HOJA GENERAL DATOS IMPORTADOS'!J345","v":0},{"$f":"'[1]HOJA GENERAL DATOS IMPORTADOS'!K345","v":0},{"$f":"'[1]HOJA GENERAL DATOS IMPORTADOS'!L345","v":0},{"$f":"'[1]HOJA GENERAL DATOS IMPORTADOS'!M345","v":0},{"$f":"'[1]HOJA GENERAL DATOS IMPORTADOS'!N345","v":0},{"$f":"'[1]HOJA GENERAL DATOS IMPORTADOS'!O345","v":0},{"$f":"'[1]HOJA GENERAL DATOS IMPORTADOS'!P345","v":0},{"$f":"'[1]HOJA GENERAL DATOS IMPORTADOS'!Q345","v":0},{"$f":"'[1]HOJA GENERAL DATOS IMPORTADOS'!R345","v":0},{"$f":"'[1]HOJA GENERAL DATOS IMPORTADOS'!S345","v":0},{"$f":"'[1]HOJA GENERAL DATOS IMPORTADOS'!T345","v":0},{"$f":"'[1]HOJA GENERAL DATOS IMPORTADOS'!U345","v":0},{"$f":"'[1]HOJA GENERAL DATOS IMPORTADOS'!V345","v":0},{"$f":"'[1]HOJA GENERAL DATOS IMPORTADOS'!W345","v":0},{"$f":"'[1]HOJA GENERAL DATOS IMPORTADOS'!X345","v":0},{"$f":"'[1]HOJA GENERAL DATOS IMPORTADOS'!Y345","v":0},{"$f":"'[1]HOJA GENERAL DATOS IMPORTADOS'!Z345","v":0},{"$f":"'[1]HOJA GENERAL DATOS IMPORTADOS'!AA345","v":0},{"$f":"'[1]HOJA GENERAL DATOS IMPORTADOS'!AB345","v":0},{"$f":"'[1]HOJA GENERAL DATOS IMPORTADOS'!AC345","v":0},{"$f":"'[1]HOJA GENERAL DATOS IMPORTADOS'!AD345","v":0},{"$f":"'[1]HOJA GENERAL DATOS IMPORTADOS'!AE345","v":0},{"$f":"'[1]HOJA GENERAL DATOS IMPORTADOS'!AF345","v":0},{"$f":"'[1]HOJA GENERAL DATOS IMPORTADOS'!AG345","v":0},{"$f":"'[1]HOJA GENERAL DATOS IMPORTADOS'!AH345","v":0},{"$f":"'[1]HOJA GENERAL DATOS IMPORTADOS'!AI345","v":0}]
[{"$f":"'[1]HOJA GENERAL DATOS IMPORTADOS'!A346","v":0},{"$f":"'[1]HOJA GENERAL DATOS IMPORTADOS'!B346","v":0},{"$f":"'[1]HOJA GENERAL DATOS IMPORTADOS'!C346","v":0},{"$f":"'[1]HOJA GENERAL DATOS IMPORTADOS'!D346","v":0},{"$f":"'[1]HOJA GENERAL DATOS IMPORTADOS'!E346","v":0},{"$f":"'[1]HOJA GENERAL DATOS IMPORTADOS'!F346","v":0},{"$f":"'[1]HOJA GENERAL DATOS IMPORTADOS'!G346","v":0},{"$f":"'[1]HOJA GENERAL DATOS IMPORTADOS'!H346","v":0},{"$f":"'[1]HOJA GENERAL DATOS IMPORTADOS'!I346","v":0},{"$f":"'[1]HOJA GENERAL DATOS IMPORTADOS'!J346","v":0},{"$f":"'[1]HOJA GENERAL DATOS IMPORTADOS'!K346","v":0},{"$f":"'[1]HOJA GENERAL DATOS IMPORTADOS'!L346","v":0},{"$f":"'[1]HOJA GENERAL DATOS IMPORTADOS'!M346","v":0},{"$f":"'[1]HOJA GENERAL DATOS IMPORTADOS'!N346","v":0},{"$f":"'[1]HOJA GENERAL DATOS IMPORTADOS'!O346","v":0},{"$f":"'[1]HOJA GENERAL DATOS IMPORTADOS'!P346","v":0},{"$f":"'[1]HOJA GENERAL DATOS IMPORTADOS'!Q346","v":0},{"$f":"'[1]HOJA GENERAL DATOS IMPORTADOS'!R346","v":0},{"$f":"'[1]HOJA GENERAL DATOS IMPORTADOS'!S346","v":0},{"$f":"'[1]HOJA GENERAL DATOS IMPORTADOS'!T346","v":0},{"$f":"'[1]HOJA GENERAL DATOS IMPORTADOS'!U346","v":0},{"$f":"'[1]HOJA GENERAL DATOS IMPORTADOS'!V346","v":0},{"$f":"'[1]HOJA GENERAL DATOS IMPORTADOS'!W346","v":0},{"$f":"'[1]HOJA GENERAL DATOS IMPORTADOS'!X346","v":0},{"$f":"'[1]HOJA GENERAL DATOS IMPORTADOS'!Y346","v":0},{"$f":"'[1]HOJA GENERAL DATOS IMPORTADOS'!Z346","v":0},{"$f":"'[1]HOJA GENERAL DATOS IMPORTADOS'!AA346","v":0},{"$f":"'[1]HOJA GENERAL DATOS IMPORTADOS'!AB346","v":0},{"$f":"'[1]HOJA GENERAL DATOS IMPORTADOS'!AC346","v":0},{"$f":"'[1]HOJA GENERAL DATOS IMPORTADOS'!AD346","v":0},{"$f":"'[1]HOJA GENERAL DATOS IMPORTADOS'!AE346","v":0},{"$f":"'[1]HOJA GENERAL DATOS IMPORTADOS'!AF346","v":0},{"$f":"'[1]HOJA GENERAL DATOS IMPORTADOS'!AG346","v":0},{"$f":"'[1]HOJA GENERAL DATOS IMPORTADOS'!AH346","v":0},{"$f":"'[1]HOJA GENERAL DATOS IMPORTADOS'!AI346","v":0}]
[{"$f":"'[1]HOJA GENERAL DATOS IMPORTADOS'!A347","v":0},{"$f":"'[1]HOJA GENERAL DATOS IMPORTADOS'!B347","v":0},{"$f":"'[1]HOJA GENERAL DATOS IMPORTADOS'!C347","v":0},{"$f":"'[1]HOJA GENERAL DATOS IMPORTADOS'!D347","v":0},{"$f":"'[1]HOJA GENERAL DATOS IMPORTADOS'!E347","v":0},{"$f":"'[1]HOJA GENERAL DATOS IMPORTADOS'!F347","v":0},{"$f":"'[1]HOJA GENERAL DATOS IMPORTADOS'!G347","v":0},{"$f":"'[1]HOJA GENERAL DATOS IMPORTADOS'!H347","v":0},{"$f":"'[1]HOJA GENERAL DATOS IMPORTADOS'!I347","v":0},{"$f":"'[1]HOJA GENERAL DATOS IMPORTADOS'!J347","v":0},{"$f":"'[1]HOJA GENERAL DATOS IMPORTADOS'!K347","v":0},{"$f":"'[1]HOJA GENERAL DATOS IMPORTADOS'!L347","v":0},{"$f":"'[1]HOJA GENERAL DATOS IMPORTADOS'!M347","v":0},{"$f":"'[1]HOJA GENERAL DATOS IMPORTADOS'!N347","v":0},{"$f":"'[1]HOJA GENERAL DATOS IMPORTADOS'!O347","v":0},{"$f":"'[1]HOJA GENERAL DATOS IMPORTADOS'!P347","v":0},{"$f":"'[1]HOJA GENERAL DATOS IMPORTADOS'!Q347","v":0},{"$f":"'[1]HOJA GENERAL DATOS IMPORTADOS'!R347","v":0},{"$f":"'[1]HOJA GENERAL DATOS IMPORTADOS'!S347","v":0},{"$f":"'[1]HOJA GENERAL DATOS IMPORTADOS'!T347","v":0},{"$f":"'[1]HOJA GENERAL DATOS IMPORTADOS'!U347","v":0},{"$f":"'[1]HOJA GENERAL DATOS IMPORTADOS'!V347","v":0},{"$f":"'[1]HOJA GENERAL DATOS IMPORTADOS'!W347","v":0},{"$f":"'[1]HOJA GENERAL DATOS IMPORTADOS'!X347","v":0},{"$f":"'[1]HOJA GENERAL DATOS IMPORTADOS'!Y347","v":0},{"$f":"'[1]HOJA GENERAL DATOS IMPORTADOS'!Z347","v":0},{"$f":"'[1]HOJA GENERAL DATOS IMPORTADOS'!AA347","v":0},{"$f":"'[1]HOJA GENERAL DATOS IMPORTADOS'!AB347","v":0},{"$f":"'[1]HOJA GENERAL DATOS IMPORTADOS'!AC347","v":0},{"$f":"'[1]HOJA GENERAL DATOS IMPORTADOS'!AD347","v":0},{"$f":"'[1]HOJA GENERAL DATOS IMPORTADOS'!AE347","v":0},{"$f":"'[1]HOJA GENERAL DATOS IMPORTADOS'!AF347","v":0},{"$f":"'[1]HOJA GENERAL DATOS IMPORTADOS'!AG347","v":0},{"$f":"'[1]HOJA GENERAL DATOS IMPORTADOS'!AH347","v":0},{"$f":"'[1]HOJA GENERAL DATOS IMPORTADOS'!AI347","v":0}]
[{"$f":"'[1]HOJA GENERAL DATOS IMPORTADOS'!A348","v":0},{"$f":"'[1]HOJA GENERAL DATOS IMPORTADOS'!B348","v":0},{"$f":"'[1]HOJA GENERAL DATOS IMPORTADOS'!C348","v":0},{"$f":"'[1]HOJA GENERAL DATOS IMPORTADOS'!D348","v":0},{"$f":"'[1]HOJA GENERAL DATOS IMPORTADOS'!E348","v":0},{"$f":"'[1]HOJA GENERAL DATOS IMPORTADOS'!F348","v":0},{"$f":"'[1]HOJA GENERAL DATOS IMPORTADOS'!G348","v":0},{"$f":"'[1]HOJA GENERAL DATOS IMPORTADOS'!H348","v":0},{"$f":"'[1]HOJA GENERAL DATOS IMPORTADOS'!I348","v":0},{"$f":"'[1]HOJA GENERAL DATOS IMPORTADOS'!J348","v":0},{"$f":"'[1]HOJA GENERAL DATOS IMPORTADOS'!K348","v":0},{"$f":"'[1]HOJA GENERAL DATOS IMPORTADOS'!L348","v":0},{"$f":"'[1]HOJA GENERAL DATOS IMPORTADOS'!M348","v":0},{"$f":"'[1]HOJA GENERAL DATOS IMPORTADOS'!N348","v":0},{"$f":"'[1]HOJA GENERAL DATOS IMPORTADOS'!O348","v":0},{"$f":"'[1]HOJA GENERAL DATOS IMPORTADOS'!P348","v":0},{"$f":"'[1]HOJA GENERAL DATOS IMPORTADOS'!Q348","v":0},{"$f":"'[1]HOJA GENERAL DATOS IMPORTADOS'!R348","v":0},{"$f":"'[1]HOJA GENERAL DATOS IMPORTADOS'!S348","v":0},{"$f":"'[1]HOJA GENERAL DATOS IMPORTADOS'!T348","v":0},{"$f":"'[1]HOJA GENERAL DATOS IMPORTADOS'!U348","v":0},{"$f":"'[1]HOJA GENERAL DATOS IMPORTADOS'!V348","v":0},{"$f":"'[1]HOJA GENERAL DATOS IMPORTADOS'!W348","v":0},{"$f":"'[1]HOJA GENERAL DATOS IMPORTADOS'!X348","v":0},{"$f":"'[1]HOJA GENERAL DATOS IMPORTADOS'!Y348","v":0},{"$f":"'[1]HOJA GENERAL DATOS IMPORTADOS'!Z348","v":0},{"$f":"'[1]HOJA GENERAL DATOS IMPORTADOS'!AA348","v":0},{"$f":"'[1]HOJA GENERAL DATOS IMPORTADOS'!AB348","v":0},{"$f":"'[1]HOJA GENERAL DATOS IMPORTADOS'!AC348","v":0},{"$f":"'[1]HOJA GENERAL DATOS IMPORTADOS'!AD348","v":0},{"$f":"'[1]HOJA GENERAL DATOS IMPORTADOS'!AE348","v":0},{"$f":"'[1]HOJA GENERAL DATOS IMPORTADOS'!AF348","v":0},{"$f":"'[1]HOJA GENERAL DATOS IMPORTADOS'!AG348","v":0},{"$f":"'[1]HOJA GENERAL DATOS IMPORTADOS'!AH348","v":0},{"$f":"'[1]HOJA GENERAL DATOS IMPORTADOS'!AI348","v":0}]
[{"$f":"'[1]HOJA GENERAL DATOS IMPORTADOS'!A349","v":0},{"$f":"'[1]HOJA GENERAL DATOS IMPORTADOS'!B349","v":0},{"$f":"'[1]HOJA GENERAL DATOS IMPORTADOS'!C349","v":0},{"$f":"'[1]HOJA GENERAL DATOS IMPORTADOS'!D349","v":0},{"$f":"'[1]HOJA GENERAL DATOS IMPORTADOS'!E349","v":0},{"$f":"'[1]HOJA GENERAL DATOS IMPORTADOS'!F349","v":0},{"$f":"'[1]HOJA GENERAL DATOS IMPORTADOS'!G349","v":0},{"$f":"'[1]HOJA GENERAL DATOS IMPORTADOS'!H349","v":0},{"$f":"'[1]HOJA GENERAL DATOS IMPORTADOS'!I349","v":0},{"$f":"'[1]HOJA GENERAL DATOS IMPORTADOS'!J349","v":0},{"$f":"'[1]HOJA GENERAL DATOS IMPORTADOS'!K349","v":0},{"$f":"'[1]HOJA GENERAL DATOS IMPORTADOS'!L349","v":0},{"$f":"'[1]HOJA GENERAL DATOS IMPORTADOS'!M349","v":0},{"$f":"'[1]HOJA GENERAL DATOS IMPORTADOS'!N349","v":0},{"$f":"'[1]HOJA GENERAL DATOS IMPORTADOS'!O349","v":0},{"$f":"'[1]HOJA GENERAL DATOS IMPORTADOS'!P349","v":0},{"$f":"'[1]HOJA GENERAL DATOS IMPORTADOS'!Q349","v":0},{"$f":"'[1]HOJA GENERAL DATOS IMPORTADOS'!R349","v":0},{"$f":"'[1]HOJA GENERAL DATOS IMPORTADOS'!S349","v":0},{"$f":"'[1]HOJA GENERAL DATOS IMPORTADOS'!T349","v":0},{"$f":"'[1]HOJA GENERAL DATOS IMPORTADOS'!U349","v":0},{"$f":"'[1]HOJA GENERAL DATOS IMPORTADOS'!V349","v":0},{"$f":"'[1]HOJA GENERAL DATOS IMPORTADOS'!W349","v":0},{"$f":"'[1]HOJA GENERAL DATOS IMPORTADOS'!X349","v":0},{"$f":"'[1]HOJA GENERAL DATOS IMPORTADOS'!Y349","v":0},{"$f":"'[1]HOJA GENERAL DATOS IMPORTADOS'!Z349","v":0},{"$f":"'[1]HOJA GENERAL DATOS IMPORTADOS'!AA349","v":0},{"$f":"'[1]HOJA GENERAL DATOS IMPORTADOS'!AB349","v":0},{"$f":"'[1]HOJA GENERAL DATOS IMPORTADOS'!AC349","v":0},{"$f":"'[1]HOJA GENERAL DATOS IMPORTADOS'!AD349","v":0},{"$f":"'[1]HOJA GENERAL DATOS IMPORTADOS'!AE349","v":0},{"$f":"'[1]HOJA GENERAL DATOS IMPORTADOS'!AF349","v":0},{"$f":"'[1]HOJA GENERAL DATOS IMPORTADOS'!AG349","v":0},{"$f":"'[1]HOJA GENERAL DATOS IMPORTADOS'!AH349","v":0},{"$f":"'[1]HOJA GENERAL DATOS IMPORTADOS'!AI349","v":0}]
[{"$f":"'[1]HOJA GENERAL DATOS IMPORTADOS'!A350","v":0},{"$f":"'[1]HOJA GENERAL DATOS IMPORTADOS'!B350","v":0},{"$f":"'[1]HOJA GENERAL DATOS IMPORTADOS'!C350","v":0},{"$f":"'[1]HOJA GENERAL DATOS IMPORTADOS'!D350","v":0},{"$f":"'[1]HOJA GENERAL DATOS IMPORTADOS'!E350","v":0},{"$f":"'[1]HOJA GENERAL DATOS IMPORTADOS'!F350","v":0},{"$f":"'[1]HOJA GENERAL DATOS IMPORTADOS'!G350","v":0},{"$f":"'[1]HOJA GENERAL DATOS IMPORTADOS'!H350","v":0},{"$f":"'[1]HOJA GENERAL DATOS IMPORTADOS'!I350","v":0},{"$f":"'[1]HOJA GENERAL DATOS IMPORTADOS'!J350","v":0},{"$f":"'[1]HOJA GENERAL DATOS IMPORTADOS'!K350","v":0},{"$f":"'[1]HOJA GENERAL DATOS IMPORTADOS'!L350","v":0},{"$f":"'[1]HOJA GENERAL DATOS IMPORTADOS'!M350","v":0},{"$f":"'[1]HOJA GENERAL DATOS IMPORTADOS'!N350","v":0},{"$f":"'[1]HOJA GENERAL DATOS IMPORTADOS'!O350","v":0},{"$f":"'[1]HOJA GENERAL DATOS IMPORTADOS'!P350","v":0},{"$f":"'[1]HOJA GENERAL DATOS IMPORTADOS'!Q350","v":0},{"$f":"'[1]HOJA GENERAL DATOS IMPORTADOS'!R350","v":0},{"$f":"'[1]HOJA GENERAL DATOS IMPORTADOS'!S350","v":0},{"$f":"'[1]HOJA GENERAL DATOS IMPORTADOS'!T350","v":0},{"$f":"'[1]HOJA GENERAL DATOS IMPORTADOS'!U350","v":0},{"$f":"'[1]HOJA GENERAL DATOS IMPORTADOS'!V350","v":0},{"$f":"'[1]HOJA GENERAL DATOS IMPORTADOS'!W350","v":0},{"$f":"'[1]HOJA GENERAL DATOS IMPORTADOS'!X350","v":0},{"$f":"'[1]HOJA GENERAL DATOS IMPORTADOS'!Y350","v":0},{"$f":"'[1]HOJA GENERAL DATOS IMPORTADOS'!Z350","v":0},{"$f":"'[1]HOJA GENERAL DATOS IMPORTADOS'!AA350","v":0},{"$f":"'[1]HOJA GENERAL DATOS IMPORTADOS'!AB350","v":0},{"$f":"'[1]HOJA GENERAL DATOS IMPORTADOS'!AC350","v":0},{"$f":"'[1]HOJA GENERAL DATOS IMPORTADOS'!AD350","v":0},{"$f":"'[1]HOJA GENERAL DATOS IMPORTADOS'!AE350","v":0},{"$f":"'[1]HOJA GENERAL DATOS IMPORTADOS'!AF350","v":0},{"$f":"'[1]HOJA GENERAL DATOS IMPORTADOS'!AG350","v":0},{"$f":"'[1]HOJA GENERAL DATOS IMPORTADOS'!AH350","v":0},{"$f":"'[1]HOJA GENERAL DATOS IMPORTADOS'!AI350","v":0}]
[{"$f":"'[1]HOJA GENERAL DATOS IMPORTADOS'!A351","v":0},{"$f":"'[1]HOJA GENERAL DATOS IMPORTADOS'!B351","v":0},{"$f":"'[1]HOJA GENERAL DATOS IMPORTADOS'!C351","v":0},{"$f":"'[1]HOJA GENERAL DATOS IMPORTADOS'!D351","v":0},{"$f":"'[1]HOJA GENERAL DATOS IMPORTADOS'!E351","v":0},{"$f":"'[1]HOJA GENERAL DATOS IMPORTADOS'!F351","v":0},{"$f":"'[1]HOJA GENERAL DATOS IMPORTADOS'!G351","v":0},{"$f":"'[1]HOJA GENERAL DATOS IMPORTADOS'!H351","v":0},{"$f":"'[1]HOJA GENERAL DATOS IMPORTADOS'!I351","v":0},{"$f":"'[1]HOJA GENERAL DATOS IMPORTADOS'!J351","v":0},{"$f":"'[1]HOJA GENERAL DATOS IMPORTADOS'!K351","v":0},{"$f":"'[1]HOJA GENERAL DATOS IMPORTADOS'!L351","v":0},{"$f":"'[1]HOJA GENERAL DATOS IMPORTADOS'!M351","v":0},{"$f":"'[1]HOJA GENERAL DATOS IMPORTADOS'!N351","v":0},{"$f":"'[1]HOJA GENERAL DATOS IMPORTADOS'!O351","v":0},{"$f":"'[1]HOJA GENERAL DATOS IMPORTADOS'!P351","v":0},{"$f":"'[1]HOJA GENERAL DATOS IMPORTADOS'!Q351","v":0},{"$f":"'[1]HOJA GENERAL DATOS IMPORTADOS'!R351","v":0},{"$f":"'[1]HOJA GENERAL DATOS IMPORTADOS'!S351","v":0},{"$f":"'[1]HOJA GENERAL DATOS IMPORTADOS'!T351","v":0},{"$f":"'[1]HOJA GENERAL DATOS IMPORTADOS'!U351","v":0},{"$f":"'[1]HOJA GENERAL DATOS IMPORTADOS'!V351","v":0},{"$f":"'[1]HOJA GENERAL DATOS IMPORTADOS'!W351","v":0},{"$f":"'[1]HOJA GENERAL DATOS IMPORTADOS'!X351","v":0},{"$f":"'[1]HOJA GENERAL DATOS IMPORTADOS'!Y351","v":0},{"$f":"'[1]HOJA GENERAL DATOS IMPORTADOS'!Z351","v":0},{"$f":"'[1]HOJA GENERAL DATOS IMPORTADOS'!AA351","v":0},{"$f":"'[1]HOJA GENERAL DATOS IMPORTADOS'!AB351","v":0},{"$f":"'[1]HOJA GENERAL DATOS IMPORTADOS'!AC351","v":0},{"$f":"'[1]HOJA GENERAL DATOS IMPORTADOS'!AD351","v":0},{"$f":"'[1]HOJA GENERAL DATOS IMPORTADOS'!AE351","v":0},{"$f":"'[1]HOJA GENERAL DATOS IMPORTADOS'!AF351","v":0},{"$f":"'[1]HOJA GENERAL DATOS IMPORTADOS'!AG351","v":0},{"$f":"'[1]HOJA GENERAL DATOS IMPORTADOS'!AH351","v":0},{"$f":"'[1]HOJA GENERAL DATOS IMPORTADOS'!AI351","v":0}]
[{"$f":"'[1]HOJA GENERAL DATOS IMPORTADOS'!A352","v":0},{"$f":"'[1]HOJA GENERAL DATOS IMPORTADOS'!B352","v":0},{"$f":"'[1]HOJA GENERAL DATOS IMPORTADOS'!C352","v":0},{"$f":"'[1]HOJA GENERAL DATOS IMPORTADOS'!D352","v":0},{"$f":"'[1]HOJA GENERAL DATOS IMPORTADOS'!E352","v":0},{"$f":"'[1]HOJA GENERAL DATOS IMPORTADOS'!F352","v":0},{"$f":"'[1]HOJA GENERAL DATOS IMPORTADOS'!G352","v":0},{"$f":"'[1]HOJA GENERAL DATOS IMPORTADOS'!H352","v":0},{"$f":"'[1]HOJA GENERAL DATOS IMPORTADOS'!I352","v":0},{"$f":"'[1]HOJA GENERAL DATOS IMPORTADOS'!J352","v":0},{"$f":"'[1]HOJA GENERAL DATOS IMPORTADOS'!K352","v":0},{"$f":"'[1]HOJA GENERAL DATOS IMPORTADOS'!L352","v":0},{"$f":"'[1]HOJA GENERAL DATOS IMPORTADOS'!M352","v":0},{"$f":"'[1]HOJA GENERAL DATOS IMPORTADOS'!N352","v":0},{"$f":"'[1]HOJA GENERAL DATOS IMPORTADOS'!O352","v":0},{"$f":"'[1]HOJA GENERAL DATOS IMPORTADOS'!P352","v":0},{"$f":"'[1]HOJA GENERAL DATOS IMPORTADOS'!Q352","v":0},{"$f":"'[1]HOJA GENERAL DATOS IMPORTADOS'!R352","v":0},{"$f":"'[1]HOJA GENERAL DATOS IMPORTADOS'!S352","v":0},{"$f":"'[1]HOJA GENERAL DATOS IMPORTADOS'!T352","v":0},{"$f":"'[1]HOJA GENERAL DATOS IMPORTADOS'!U352","v":0},{"$f":"'[1]HOJA GENERAL DATOS IMPORTADOS'!V352","v":0},{"$f":"'[1]HOJA GENERAL DATOS IMPORTADOS'!W352","v":0},{"$f":"'[1]HOJA GENERAL DATOS IMPORTADOS'!X352","v":0},{"$f":"'[1]HOJA GENERAL DATOS IMPORTADOS'!Y352","v":0},{"$f":"'[1]HOJA GENERAL DATOS IMPORTADOS'!Z352","v":0},{"$f":"'[1]HOJA GENERAL DATOS IMPORTADOS'!AA352","v":0},{"$f":"'[1]HOJA GENERAL DATOS IMPORTADOS'!AB352","v":0},{"$f":"'[1]HOJA GENERAL DATOS IMPORTADOS'!AC352","v":0},{"$f":"'[1]HOJA GENERAL DATOS IMPORTADOS'!AD352","v":0},{"$f":"'[1]HOJA GENERAL DATOS IMPORTADOS'!AE352","v":0},{"$f":"'[1]HOJA GENERAL DATOS IMPORTADOS'!AF352","v":0},{"$f":"'[1]HOJA GENERAL DATOS IMPORTADOS'!AG352","v":0},{"$f":"'[1]HOJA GENERAL DATOS IMPORTADOS'!AH352","v":0},{"$f":"'[1]HOJA GENERAL DATOS IMPORTADOS'!AI352","v":0}]
[{"$f":"'[1]HOJA GENERAL DATOS IMPORTADOS'!A353","v":0},{"$f":"'[1]HOJA GENERAL DATOS IMPORTADOS'!B353","v":0},{"$f":"'[1]HOJA GENERAL DATOS IMPORTADOS'!C353","v":0},{"$f":"'[1]HOJA GENERAL DATOS IMPORTADOS'!D353","v":0},{"$f":"'[1]HOJA GENERAL DATOS IMPORTADOS'!E353","v":0},{"$f":"'[1]HOJA GENERAL DATOS IMPORTADOS'!F353","v":0},{"$f":"'[1]HOJA GENERAL DATOS IMPORTADOS'!G353","v":0},{"$f":"'[1]HOJA GENERAL DATOS IMPORTADOS'!H353","v":0},{"$f":"'[1]HOJA GENERAL DATOS IMPORTADOS'!I353","v":0},{"$f":"'[1]HOJA GENERAL DATOS IMPORTADOS'!J353","v":0},{"$f":"'[1]HOJA GENERAL DATOS IMPORTADOS'!K353","v":0},{"$f":"'[1]HOJA GENERAL DATOS IMPORTADOS'!L353","v":0},{"$f":"'[1]HOJA GENERAL DATOS IMPORTADOS'!M353","v":0},{"$f":"'[1]HOJA GENERAL DATOS IMPORTADOS'!N353","v":0},{"$f":"'[1]HOJA GENERAL DATOS IMPORTADOS'!O353","v":0},{"$f":"'[1]HOJA GENERAL DATOS IMPORTADOS'!P353","v":0},{"$f":"'[1]HOJA GENERAL DATOS IMPORTADOS'!Q353","v":0},{"$f":"'[1]HOJA GENERAL DATOS IMPORTADOS'!R353","v":0},{"$f":"'[1]HOJA GENERAL DATOS IMPORTADOS'!S353","v":0},{"$f":"'[1]HOJA GENERAL DATOS IMPORTADOS'!T353","v":0},{"$f":"'[1]HOJA GENERAL DATOS IMPORTADOS'!U353","v":0},{"$f":"'[1]HOJA GENERAL DATOS IMPORTADOS'!V353","v":0},{"$f":"'[1]HOJA GENERAL DATOS IMPORTADOS'!W353","v":0},{"$f":"'[1]HOJA GENERAL DATOS IMPORTADOS'!X353","v":0},{"$f":"'[1]HOJA GENERAL DATOS IMPORTADOS'!Y353","v":0},{"$f":"'[1]HOJA GENERAL DATOS IMPORTADOS'!Z353","v":0},{"$f":"'[1]HOJA GENERAL DATOS IMPORTADOS'!AA353","v":0},{"$f":"'[1]HOJA GENERAL DATOS IMPORTADOS'!AB353","v":0},{"$f":"'[1]HOJA GENERAL DATOS IMPORTADOS'!AC353","v":0},{"$f":"'[1]HOJA GENERAL DATOS IMPORTADOS'!AD353","v":0},{"$f":"'[1]HOJA GENERAL DATOS IMPORTADOS'!AE353","v":0},{"$f":"'[1]HOJA GENERAL DATOS IMPORTADOS'!AF353","v":0},{"$f":"'[1]HOJA GENERAL DATOS IMPORTADOS'!AG353","v":0},{"$f":"'[1]HOJA GENERAL DATOS IMPORTADOS'!AH353","v":0},{"$f":"'[1]HOJA GENERAL DATOS IMPORTADOS'!AI353","v":0}]
[{"$f":"'[1]HOJA GENERAL DATOS IMPORTADOS'!A354","v":0},{"$f":"'[1]HOJA GENERAL DATOS IMPORTADOS'!B354","v":0},{"$f":"'[1]HOJA GENERAL DATOS IMPORTADOS'!C354","v":0},{"$f":"'[1]HOJA GENERAL DATOS IMPORTADOS'!D354","v":0},{"$f":"'[1]HOJA GENERAL DATOS IMPORTADOS'!E354","v":0},{"$f":"'[1]HOJA GENERAL DATOS IMPORTADOS'!F354","v":0},{"$f":"'[1]HOJA GENERAL DATOS IMPORTADOS'!G354","v":0},{"$f":"'[1]HOJA GENERAL DATOS IMPORTADOS'!H354","v":0},{"$f":"'[1]HOJA GENERAL DATOS IMPORTADOS'!I354","v":0},{"$f":"'[1]HOJA GENERAL DATOS IMPORTADOS'!J354","v":0},{"$f":"'[1]HOJA GENERAL DATOS IMPORTADOS'!K354","v":0},{"$f":"'[1]HOJA GENERAL DATOS IMPORTADOS'!L354","v":0},{"$f":"'[1]HOJA GENERAL DATOS IMPORTADOS'!M354","v":0},{"$f":"'[1]HOJA GENERAL DATOS IMPORTADOS'!N354","v":0},{"$f":"'[1]HOJA GENERAL DATOS IMPORTADOS'!O354","v":0},{"$f":"'[1]HOJA GENERAL DATOS IMPORTADOS'!P354","v":0},{"$f":"'[1]HOJA GENERAL DATOS IMPORTADOS'!Q354","v":0},{"$f":"'[1]HOJA GENERAL DATOS IMPORTADOS'!R354","v":0},{"$f":"'[1]HOJA GENERAL DATOS IMPORTADOS'!S354","v":0},{"$f":"'[1]HOJA GENERAL DATOS IMPORTADOS'!T354","v":0},{"$f":"'[1]HOJA GENERAL DATOS IMPORTADOS'!U354","v":0},{"$f":"'[1]HOJA GENERAL DATOS IMPORTADOS'!V354","v":0},{"$f":"'[1]HOJA GENERAL DATOS IMPORTADOS'!W354","v":0},{"$f":"'[1]HOJA GENERAL DATOS IMPORTADOS'!X354","v":0},{"$f":"'[1]HOJA GENERAL DATOS IMPORTADOS'!Y354","v":0},{"$f":"'[1]HOJA GENERAL DATOS IMPORTADOS'!Z354","v":0},{"$f":"'[1]HOJA GENERAL DATOS IMPORTADOS'!AA354","v":0},{"$f":"'[1]HOJA GENERAL DATOS IMPORTADOS'!AB354","v":0},{"$f":"'[1]HOJA GENERAL DATOS IMPORTADOS'!AC354","v":0},{"$f":"'[1]HOJA GENERAL DATOS IMPORTADOS'!AD354","v":0},{"$f":"'[1]HOJA GENERAL DATOS IMPORTADOS'!AE354","v":0},{"$f":"'[1]HOJA GENERAL DATOS IMPORTADOS'!AF354","v":0},{"$f":"'[1]HOJA GENERAL DATOS IMPORTADOS'!AG354","v":0},{"$f":"'[1]HOJA GENERAL DATOS IMPORTADOS'!AH354","v":0},{"$f":"'[1]HOJA GENERAL DATOS IMPORTADOS'!AI354","v":0}]
[{"$f":"'[1]HOJA GENERAL DATOS IMPORTADOS'!A355","v":0},{"$f":"'[1]HOJA GENERAL DATOS IMPORTADOS'!B355","v":0},{"$f":"'[1]HOJA GENERAL DATOS IMPORTADOS'!C355","v":0},{"$f":"'[1]HOJA GENERAL DATOS IMPORTADOS'!D355","v":0},{"$f":"'[1]HOJA GENERAL DATOS IMPORTADOS'!E355","v":0},{"$f":"'[1]HOJA GENERAL DATOS IMPORTADOS'!F355","v":0},{"$f":"'[1]HOJA GENERAL DATOS IMPORTADOS'!G355","v":0},{"$f":"'[1]HOJA GENERAL DATOS IMPORTADOS'!H355","v":0},{"$f":"'[1]HOJA GENERAL DATOS IMPORTADOS'!I355","v":0},{"$f":"'[1]HOJA GENERAL DATOS IMPORTADOS'!J355","v":0},{"$f":"'[1]HOJA GENERAL DATOS IMPORTADOS'!K355","v":0},{"$f":"'[1]HOJA GENERAL DATOS IMPORTADOS'!L355","v":0},{"$f":"'[1]HOJA GENERAL DATOS IMPORTADOS'!M355","v":0},{"$f":"'[1]HOJA GENERAL DATOS IMPORTADOS'!N355","v":0},{"$f":"'[1]HOJA GENERAL DATOS IMPORTADOS'!O355","v":0},{"$f":"'[1]HOJA GENERAL DATOS IMPORTADOS'!P355","v":0},{"$f":"'[1]HOJA GENERAL DATOS IMPORTADOS'!Q355","v":0},{"$f":"'[1]HOJA GENERAL DATOS IMPORTADOS'!R355","v":0},{"$f":"'[1]HOJA GENERAL DATOS IMPORTADOS'!S355","v":0},{"$f":"'[1]HOJA GENERAL DATOS IMPORTADOS'!T355","v":0},{"$f":"'[1]HOJA GENERAL DATOS IMPORTADOS'!U355","v":0},{"$f":"'[1]HOJA GENERAL DATOS IMPORTADOS'!V355","v":0},{"$f":"'[1]HOJA GENERAL DATOS IMPORTADOS'!W355","v":0},{"$f":"'[1]HOJA GENERAL DATOS IMPORTADOS'!X355","v":0},{"$f":"'[1]HOJA GENERAL DATOS IMPORTADOS'!Y355","v":0},{"$f":"'[1]HOJA GENERAL DATOS IMPORTADOS'!Z355","v":0},{"$f":"'[1]HOJA GENERAL DATOS IMPORTADOS'!AA355","v":0},{"$f":"'[1]HOJA GENERAL DATOS IMPORTADOS'!AB355","v":0},{"$f":"'[1]HOJA GENERAL DATOS IMPORTADOS'!AC355","v":0},{"$f":"'[1]HOJA GENERAL DATOS IMPORTADOS'!AD355","v":0},{"$f":"'[1]HOJA GENERAL DATOS IMPORTADOS'!AE355","v":0},{"$f":"'[1]HOJA GENERAL DATOS IMPORTADOS'!AF355","v":0},{"$f":"'[1]HOJA GENERAL DATOS IMPORTADOS'!AG355","v":0},{"$f":"'[1]HOJA GENERAL DATOS IMPORTADOS'!AH355","v":0},{"$f":"'[1]HOJA GENERAL DATOS IMPORTADOS'!AI355","v":0}]
[{"$f":"'[1]HOJA GENERAL DATOS IMPORTADOS'!A356","v":0},{"$f":"'[1]HOJA GENERAL DATOS IMPORTADOS'!B356","v":0},{"$f":"'[1]HOJA GENERAL DATOS IMPORTADOS'!C356","v":0},{"$f":"'[1]HOJA GENERAL DATOS IMPORTADOS'!D356","v":0},{"$f":"'[1]HOJA GENERAL DATOS IMPORTADOS'!E356","v":0},{"$f":"'[1]HOJA GENERAL DATOS IMPORTADOS'!F356","v":0},{"$f":"'[1]HOJA GENERAL DATOS IMPORTADOS'!G356","v":0},{"$f":"'[1]HOJA GENERAL DATOS IMPORTADOS'!H356","v":0},{"$f":"'[1]HOJA GENERAL DATOS IMPORTADOS'!I356","v":0},{"$f":"'[1]HOJA GENERAL DATOS IMPORTADOS'!J356","v":0},{"$f":"'[1]HOJA GENERAL DATOS IMPORTADOS'!K356","v":0},{"$f":"'[1]HOJA GENERAL DATOS IMPORTADOS'!L356","v":0},{"$f":"'[1]HOJA GENERAL DATOS IMPORTADOS'!M356","v":0},{"$f":"'[1]HOJA GENERAL DATOS IMPORTADOS'!N356","v":0},{"$f":"'[1]HOJA GENERAL DATOS IMPORTADOS'!O356","v":0},{"$f":"'[1]HOJA GENERAL DATOS IMPORTADOS'!P356","v":0},{"$f":"'[1]HOJA GENERAL DATOS IMPORTADOS'!Q356","v":0},{"$f":"'[1]HOJA GENERAL DATOS IMPORTADOS'!R356","v":0},{"$f":"'[1]HOJA GENERAL DATOS IMPORTADOS'!S356","v":0},{"$f":"'[1]HOJA GENERAL DATOS IMPORTADOS'!T356","v":0},{"$f":"'[1]HOJA GENERAL DATOS IMPORTADOS'!U356","v":0},{"$f":"'[1]HOJA GENERAL DATOS IMPORTADOS'!V356","v":0},{"$f":"'[1]HOJA GENERAL DATOS IMPORTADOS'!W356","v":0},{"$f":"'[1]HOJA GENERAL DATOS IMPORTADOS'!X356","v":0},{"$f":"'[1]HOJA GENERAL DATOS IMPORTADOS'!Y356","v":0},{"$f":"'[1]HOJA GENERAL DATOS IMPORTADOS'!Z356","v":0},{"$f":"'[1]HOJA GENERAL DATOS IMPORTADOS'!AA356","v":0},{"$f":"'[1]HOJA GENERAL DATOS IMPORTADOS'!AB356","v":0},{"$f":"'[1]HOJA GENERAL DATOS IMPORTADOS'!AC356","v":0},{"$f":"'[1]HOJA GENERAL DATOS IMPORTADOS'!AD356","v":0},{"$f":"'[1]HOJA GENERAL DATOS IMPORTADOS'!AE356","v":0},{"$f":"'[1]HOJA GENERAL DATOS IMPORTADOS'!AF356","v":0},{"$f":"'[1]HOJA GENERAL DATOS IMPORTADOS'!AG356","v":0},{"$f":"'[1]HOJA GENERAL DATOS IMPORTADOS'!AH356","v":0},{"$f":"'[1]HOJA GENERAL DATOS IMPORTADOS'!AI356","v":0}]
[{"$f":"'[1]HOJA GENERAL DATOS IMPORTADOS'!A357","v":0},{"$f":"'[1]HOJA GENERAL DATOS IMPORTADOS'!B357","v":0},{"$f":"'[1]HOJA GENERAL DATOS IMPORTADOS'!C357","v":0},{"$f":"'[1]HOJA GENERAL DATOS IMPORTADOS'!D357","v":0},{"$f":"'[1]HOJA GENERAL DATOS IMPORTADOS'!E357","v":0},{"$f":"'[1]HOJA GENERAL DATOS IMPORTADOS'!F357","v":0},{"$f":"'[1]HOJA GENERAL DATOS IMPORTADOS'!G357","v":0},{"$f":"'[1]HOJA GENERAL DATOS IMPORTADOS'!H357","v":0},{"$f":"'[1]HOJA GENERAL DATOS IMPORTADOS'!I357","v":0},{"$f":"'[1]HOJA GENERAL DATOS IMPORTADOS'!J357","v":0},{"$f":"'[1]HOJA GENERAL DATOS IMPORTADOS'!K357","v":0},{"$f":"'[1]HOJA GENERAL DATOS IMPORTADOS'!L357","v":0},{"$f":"'[1]HOJA GENERAL DATOS IMPORTADOS'!M357","v":0},{"$f":"'[1]HOJA GENERAL DATOS IMPORTADOS'!N357","v":0},{"$f":"'[1]HOJA GENERAL DATOS IMPORTADOS'!O357","v":0},{"$f":"'[1]HOJA GENERAL DATOS IMPORTADOS'!P357","v":0},{"$f":"'[1]HOJA GENERAL DATOS IMPORTADOS'!Q357","v":0},{"$f":"'[1]HOJA GENERAL DATOS IMPORTADOS'!R357","v":0},{"$f":"'[1]HOJA GENERAL DATOS IMPORTADOS'!S357","v":0},{"$f":"'[1]HOJA GENERAL DATOS IMPORTADOS'!T357","v":0},{"$f":"'[1]HOJA GENERAL DATOS IMPORTADOS'!U357","v":0},{"$f":"'[1]HOJA GENERAL DATOS IMPORTADOS'!V357","v":0},{"$f":"'[1]HOJA GENERAL DATOS IMPORTADOS'!W357","v":0},{"$f":"'[1]HOJA GENERAL DATOS IMPORTADOS'!X357","v":0},{"$f":"'[1]HOJA GENERAL DATOS IMPORTADOS'!Y357","v":0},{"$f":"'[1]HOJA GENERAL DATOS IMPORTADOS'!Z357","v":0},{"$f":"'[1]HOJA GENERAL DATOS IMPORTADOS'!AA357","v":0},{"$f":"'[1]HOJA GENERAL DATOS IMPORTADOS'!AB357","v":0},{"$f":"'[1]HOJA GENERAL DATOS IMPORTADOS'!AC357","v":0},{"$f":"'[1]HOJA GENERAL DATOS IMPORTADOS'!AD357","v":0},{"$f":"'[1]HOJA GENERAL DATOS IMPORTADOS'!AE357","v":0},{"$f":"'[1]HOJA GENERAL DATOS IMPORTADOS'!AF357","v":0},{"$f":"'[1]HOJA GENERAL DATOS IMPORTADOS'!AG357","v":0},{"$f":"'[1]HOJA GENERAL DATOS IMPORTADOS'!AH357","v":0},{"$f":"'[1]HOJA GENERAL DATOS IMPORTADOS'!AI357","v":0}]
[{"$f":"'[1]HOJA GENERAL DATOS IMPORTADOS'!A358","v":0},{"$f":"'[1]HOJA GENERAL DATOS IMPORTADOS'!B358","v":0},{"$f":"'[1]HOJA GENERAL DATOS IMPORTADOS'!C358","v":0},{"$f":"'[1]HOJA GENERAL DATOS IMPORTADOS'!D358","v":0},{"$f":"'[1]HOJA GENERAL DATOS IMPORTADOS'!E358","v":0},{"$f":"'[1]HOJA GENERAL DATOS IMPORTADOS'!F358","v":0},{"$f":"'[1]HOJA GENERAL DATOS IMPORTADOS'!G358","v":0},{"$f":"'[1]HOJA GENERAL DATOS IMPORTADOS'!H358","v":0},{"$f":"'[1]HOJA GENERAL DATOS IMPORTADOS'!I358","v":0},{"$f":"'[1]HOJA GENERAL DATOS IMPORTADOS'!J358","v":0},{"$f":"'[1]HOJA GENERAL DATOS IMPORTADOS'!K358","v":0},{"$f":"'[1]HOJA GENERAL DATOS IMPORTADOS'!L358","v":0},{"$f":"'[1]HOJA GENERAL DATOS IMPORTADOS'!M358","v":0},{"$f":"'[1]HOJA GENERAL DATOS IMPORTADOS'!N358","v":0},{"$f":"'[1]HOJA GENERAL DATOS IMPORTADOS'!O358","v":0},{"$f":"'[1]HOJA GENERAL DATOS IMPORTADOS'!P358","v":0},{"$f":"'[1]HOJA GENERAL DATOS IMPORTADOS'!Q358","v":0},{"$f":"'[1]HOJA GENERAL DATOS IMPORTADOS'!R358","v":0},{"$f":"'[1]HOJA GENERAL DATOS IMPORTADOS'!S358","v":0},{"$f":"'[1]HOJA GENERAL DATOS IMPORTADOS'!T358","v":0},{"$f":"'[1]HOJA GENERAL DATOS IMPORTADOS'!U358","v":0},{"$f":"'[1]HOJA GENERAL DATOS IMPORTADOS'!V358","v":0},{"$f":"'[1]HOJA GENERAL DATOS IMPORTADOS'!W358","v":0},{"$f":"'[1]HOJA GENERAL DATOS IMPORTADOS'!X358","v":0},{"$f":"'[1]HOJA GENERAL DATOS IMPORTADOS'!Y358","v":0},{"$f":"'[1]HOJA GENERAL DATOS IMPORTADOS'!Z358","v":0},{"$f":"'[1]HOJA GENERAL DATOS IMPORTADOS'!AA358","v":0},{"$f":"'[1]HOJA GENERAL DATOS IMPORTADOS'!AB358","v":0},{"$f":"'[1]HOJA GENERAL DATOS IMPORTADOS'!AC358","v":0},{"$f":"'[1]HOJA GENERAL DATOS IMPORTADOS'!AD358","v":0},{"$f":"'[1]HOJA GENERAL DATOS IMPORTADOS'!AE358","v":0},{"$f":"'[1]HOJA GENERAL DATOS IMPORTADOS'!AF358","v":0},{"$f":"'[1]HOJA GENERAL DATOS IMPORTADOS'!AG358","v":0},{"$f":"'[1]HOJA GENERAL DATOS IMPORTADOS'!AH358","v":0},{"$f":"'[1]HOJA GENERAL DATOS IMPORTADOS'!AI358","v":0}]
[{"$f":"'[1]HOJA GENERAL DATOS IMPORTADOS'!A359","v":0},{"$f":"'[1]HOJA GENERAL DATOS IMPORTADOS'!B359","v":0},{"$f":"'[1]HOJA GENERAL DATOS IMPORTADOS'!C359","v":0},{"$f":"'[1]HOJA GENERAL DATOS IMPORTADOS'!D359","v":0},{"$f":"'[1]HOJA GENERAL DATOS IMPORTADOS'!E359","v":0},{"$f":"'[1]HOJA GENERAL DATOS IMPORTADOS'!F359","v":0},{"$f":"'[1]HOJA GENERAL DATOS IMPORTADOS'!G359","v":0},{"$f":"'[1]HOJA GENERAL DATOS IMPORTADOS'!H359","v":0},{"$f":"'[1]HOJA GENERAL DATOS IMPORTADOS'!I359","v":0},{"$f":"'[1]HOJA GENERAL DATOS IMPORTADOS'!J359","v":0},{"$f":"'[1]HOJA GENERAL DATOS IMPORTADOS'!K359","v":0},{"$f":"'[1]HOJA GENERAL DATOS IMPORTADOS'!L359","v":0},{"$f":"'[1]HOJA GENERAL DATOS IMPORTADOS'!M359","v":0},{"$f":"'[1]HOJA GENERAL DATOS IMPORTADOS'!N359","v":0},{"$f":"'[1]HOJA GENERAL DATOS IMPORTADOS'!O359","v":0},{"$f":"'[1]HOJA GENERAL DATOS IMPORTADOS'!P359","v":0},{"$f":"'[1]HOJA GENERAL DATOS IMPORTADOS'!Q359","v":0},{"$f":"'[1]HOJA GENERAL DATOS IMPORTADOS'!R359","v":0},{"$f":"'[1]HOJA GENERAL DATOS IMPORTADOS'!S359","v":0},{"$f":"'[1]HOJA GENERAL DATOS IMPORTADOS'!T359","v":0},{"$f":"'[1]HOJA GENERAL DATOS IMPORTADOS'!U359","v":0},{"$f":"'[1]HOJA GENERAL DATOS IMPORTADOS'!V359","v":0},{"$f":"'[1]HOJA GENERAL DATOS IMPORTADOS'!W359","v":0},{"$f":"'[1]HOJA GENERAL DATOS IMPORTADOS'!X359","v":0},{"$f":"'[1]HOJA GENERAL DATOS IMPORTADOS'!Y359","v":0},{"$f":"'[1]HOJA GENERAL DATOS IMPORTADOS'!Z359","v":0},{"$f":"'[1]HOJA GENERAL DATOS IMPORTADOS'!AA359","v":0},{"$f":"'[1]HOJA GENERAL DATOS IMPORTADOS'!AB359","v":0},{"$f":"'[1]HOJA GENERAL DATOS IMPORTADOS'!AC359","v":0},{"$f":"'[1]HOJA GENERAL DATOS IMPORTADOS'!AD359","v":0},{"$f":"'[1]HOJA GENERAL DATOS IMPORTADOS'!AE359","v":0},{"$f":"'[1]HOJA GENERAL DATOS IMPORTADOS'!AF359","v":0},{"$f":"'[1]HOJA GENERAL DATOS IMPORTADOS'!AG359","v":0},{"$f":"'[1]HOJA GENERAL DATOS IMPORTADOS'!AH359","v":0},{"$f":"'[1]HOJA GENERAL DATOS IMPORTADOS'!AI359","v":0}]
[{"$f":"'[1]HOJA GENERAL DATOS IMPORTADOS'!A360","v":0},{"$f":"'[1]HOJA GENERAL DATOS IMPORTADOS'!B360","v":0},{"$f":"'[1]HOJA GENERAL DATOS IMPORTADOS'!C360","v":0},{"$f":"'[1]HOJA GENERAL DATOS IMPORTADOS'!D360","v":0},{"$f":"'[1]HOJA GENERAL DATOS IMPORTADOS'!E360","v":0},{"$f":"'[1]HOJA GENERAL DATOS IMPORTADOS'!F360","v":0},{"$f":"'[1]HOJA GENERAL DATOS IMPORTADOS'!G360","v":0},{"$f":"'[1]HOJA GENERAL DATOS IMPORTADOS'!H360","v":0},{"$f":"'[1]HOJA GENERAL DATOS IMPORTADOS'!I360","v":0},{"$f":"'[1]HOJA GENERAL DATOS IMPORTADOS'!J360","v":0},{"$f":"'[1]HOJA GENERAL DATOS IMPORTADOS'!K360","v":0},{"$f":"'[1]HOJA GENERAL DATOS IMPORTADOS'!L360","v":0},{"$f":"'[1]HOJA GENERAL DATOS IMPORTADOS'!M360","v":0},{"$f":"'[1]HOJA GENERAL DATOS IMPORTADOS'!N360","v":0},{"$f":"'[1]HOJA GENERAL DATOS IMPORTADOS'!O360","v":0},{"$f":"'[1]HOJA GENERAL DATOS IMPORTADOS'!P360","v":0},{"$f":"'[1]HOJA GENERAL DATOS IMPORTADOS'!Q360","v":0},{"$f":"'[1]HOJA GENERAL DATOS IMPORTADOS'!R360","v":0},{"$f":"'[1]HOJA GENERAL DATOS IMPORTADOS'!S360","v":0},{"$f":"'[1]HOJA GENERAL DATOS IMPORTADOS'!T360","v":0},{"$f":"'[1]HOJA GENERAL DATOS IMPORTADOS'!U360","v":0},{"$f":"'[1]HOJA GENERAL DATOS IMPORTADOS'!V360","v":0},{"$f":"'[1]HOJA GENERAL DATOS IMPORTADOS'!W360","v":0},{"$f":"'[1]HOJA GENERAL DATOS IMPORTADOS'!X360","v":0},{"$f":"'[1]HOJA GENERAL DATOS IMPORTADOS'!Y360","v":0},{"$f":"'[1]HOJA GENERAL DATOS IMPORTADOS'!Z360","v":0},{"$f":"'[1]HOJA GENERAL DATOS IMPORTADOS'!AA360","v":0},{"$f":"'[1]HOJA GENERAL DATOS IMPORTADOS'!AB360","v":0},{"$f":"'[1]HOJA GENERAL DATOS IMPORTADOS'!AC360","v":0},{"$f":"'[1]HOJA GENERAL DATOS IMPORTADOS'!AD360","v":0},{"$f":"'[1]HOJA GENERAL DATOS IMPORTADOS'!AE360","v":0},{"$f":"'[1]HOJA GENERAL DATOS IMPORTADOS'!AF360","v":0},{"$f":"'[1]HOJA GENERAL DATOS IMPORTADOS'!AG360","v":0},{"$f":"'[1]HOJA GENERAL DATOS IMPORTADOS'!AH360","v":0},{"$f":"'[1]HOJA GENERAL DATOS IMPORTADOS'!AI360","v":0}]
[{"$f":"'[1]HOJA GENERAL DATOS IMPORTADOS'!A361","v":0},{"$f":"'[1]HOJA GENERAL DATOS IMPORTADOS'!B361","v":0},{"$f":"'[1]HOJA GENERAL DATOS IMPORTADOS'!C361","v":0},{"$f":"'[1]HOJA GENERAL DATOS IMPORTADOS'!D361","v":0},{"$f":"'[1]HOJA GENERAL DATOS IMPORTADOS'!E361","v":0},{"$f":"'[1]HOJA GENERAL DATOS IMPORTADOS'!F361","v":0},{"$f":"'[1]HOJA GENERAL DATOS IMPORTADOS'!G361","v":0},{"$f":"'[1]HOJA GENERAL DATOS IMPORTADOS'!H361","v":0},{"$f":"'[1]HOJA GENERAL DATOS IMPORTADOS'!I361","v":0},{"$f":"'[1]HOJA GENERAL DATOS IMPORTADOS'!J361","v":0},{"$f":"'[1]HOJA GENERAL DATOS IMPORTADOS'!K361","v":0},{"$f":"'[1]HOJA GENERAL DATOS IMPORTADOS'!L361","v":0},{"$f":"'[1]HOJA GENERAL DATOS IMPORTADOS'!M361","v":0},{"$f":"'[1]HOJA GENERAL DATOS IMPORTADOS'!N361","v":0},{"$f":"'[1]HOJA GENERAL DATOS IMPORTADOS'!O361","v":0},{"$f":"'[1]HOJA GENERAL DATOS IMPORTADOS'!P361","v":0},{"$f":"'[1]HOJA GENERAL DATOS IMPORTADOS'!Q361","v":0},{"$f":"'[1]HOJA GENERAL DATOS IMPORTADOS'!R361","v":0},{"$f":"'[1]HOJA GENERAL DATOS IMPORTADOS'!S361","v":0},{"$f":"'[1]HOJA GENERAL DATOS IMPORTADOS'!T361","v":0},{"$f":"'[1]HOJA GENERAL DATOS IMPORTADOS'!U361","v":0},{"$f":"'[1]HOJA GENERAL DATOS IMPORTADOS'!V361","v":0},{"$f":"'[1]HOJA GENERAL DATOS IMPORTADOS'!W361","v":0},{"$f":"'[1]HOJA GENERAL DATOS IMPORTADOS'!X361","v":0},{"$f":"'[1]HOJA GENERAL DATOS IMPORTADOS'!Y361","v":0},{"$f":"'[1]HOJA GENERAL DATOS IMPORTADOS'!Z361","v":0},{"$f":"'[1]HOJA GENERAL DATOS IMPORTADOS'!AA361","v":0},{"$f":"'[1]HOJA GENERAL DATOS IMPORTADOS'!AB361","v":0},{"$f":"'[1]HOJA GENERAL DATOS IMPORTADOS'!AC361","v":0},{"$f":"'[1]HOJA GENERAL DATOS IMPORTADOS'!AD361","v":0},{"$f":"'[1]HOJA GENERAL DATOS IMPORTADOS'!AE361","v":0},{"$f":"'[1]HOJA GENERAL DATOS IMPORTADOS'!AF361","v":0},{"$f":"'[1]HOJA GENERAL DATOS IMPORTADOS'!AG361","v":0},{"$f":"'[1]HOJA GENERAL DATOS IMPORTADOS'!AH361","v":0},{"$f":"'[1]HOJA GENERAL DATOS IMPORTADOS'!AI361","v":0}]
[{"$f":"'[1]HOJA GENERAL DATOS IMPORTADOS'!A362","v":0},{"$f":"'[1]HOJA GENERAL DATOS IMPORTADOS'!B362","v":0},{"$f":"'[1]HOJA GENERAL DATOS IMPORTADOS'!C362","v":0},{"$f":"'[1]HOJA GENERAL DATOS IMPORTADOS'!D362","v":0},{"$f":"'[1]HOJA GENERAL DATOS IMPORTADOS'!E362","v":0},{"$f":"'[1]HOJA GENERAL DATOS IMPORTADOS'!F362","v":0},{"$f":"'[1]HOJA GENERAL DATOS IMPORTADOS'!G362","v":0},{"$f":"'[1]HOJA GENERAL DATOS IMPORTADOS'!H362","v":0},{"$f":"'[1]HOJA GENERAL DATOS IMPORTADOS'!I362","v":0},{"$f":"'[1]HOJA GENERAL DATOS IMPORTADOS'!J362","v":0},{"$f":"'[1]HOJA GENERAL DATOS IMPORTADOS'!K362","v":0},{"$f":"'[1]HOJA GENERAL DATOS IMPORTADOS'!L362","v":0},{"$f":"'[1]HOJA GENERAL DATOS IMPORTADOS'!M362","v":0},{"$f":"'[1]HOJA GENERAL DATOS IMPORTADOS'!N362","v":0},{"$f":"'[1]HOJA GENERAL DATOS IMPORTADOS'!O362","v":0},{"$f":"'[1]HOJA GENERAL DATOS IMPORTADOS'!P362","v":0},{"$f":"'[1]HOJA GENERAL DATOS IMPORTADOS'!Q362","v":0},{"$f":"'[1]HOJA GENERAL DATOS IMPORTADOS'!R362","v":0},{"$f":"'[1]HOJA GENERAL DATOS IMPORTADOS'!S362","v":0},{"$f":"'[1]HOJA GENERAL DATOS IMPORTADOS'!T362","v":0},{"$f":"'[1]HOJA GENERAL DATOS IMPORTADOS'!U362","v":0},{"$f":"'[1]HOJA GENERAL DATOS IMPORTADOS'!V362","v":0},{"$f":"'[1]HOJA GENERAL DATOS IMPORTADOS'!W362","v":0},{"$f":"'[1]HOJA GENERAL DATOS IMPORTADOS'!X362","v":0},{"$f":"'[1]HOJA GENERAL DATOS IMPORTADOS'!Y362","v":0},{"$f":"'[1]HOJA GENERAL DATOS IMPORTADOS'!Z362","v":0},{"$f":"'[1]HOJA GENERAL DATOS IMPORTADOS'!AA362","v":0},{"$f":"'[1]HOJA GENERAL DATOS IMPORTADOS'!AB362","v":0},{"$f":"'[1]HOJA GENERAL DATOS IMPORTADOS'!AC362","v":0},{"$f":"'[1]HOJA GENERAL DATOS IMPORTADOS'!AD362","v":0},{"$f":"'[1]HOJA GENERAL DATOS IMPORTADOS'!AE362","v":0},{"$f":"'[1]HOJA GENERAL DATOS IMPORTADOS'!AF362","v":0},{"$f":"'[1]HOJA GENERAL DATOS IMPORTADOS'!AG362","v":0},{"$f":"'[1]HOJA GENERAL DATOS IMPORTADOS'!AH362","v":0},{"$f":"'[1]HOJA GENERAL DATOS IMPORTADOS'!AI362","v":0}]
[{"$f":"'[1]HOJA GENERAL DATOS IMPORTADOS'!A363","v":0},{"$f":"'[1]HOJA GENERAL DATOS IMPORTADOS'!B363","v":0},{"$f":"'[1]HOJA GENERAL DATOS IMPORTADOS'!C363","v":0},{"$f":"'[1]HOJA GENERAL DATOS IMPORTADOS'!D363","v":0},{"$f":"'[1]HOJA GENERAL DATOS IMPORTADOS'!E363","v":0},{"$f":"'[1]HOJA GENERAL DATOS IMPORTADOS'!F363","v":0},{"$f":"'[1]HOJA GENERAL DATOS IMPORTADOS'!G363","v":0},{"$f":"'[1]HOJA GENERAL DATOS IMPORTADOS'!H363","v":0},{"$f":"'[1]HOJA GENERAL DATOS IMPORTADOS'!I363","v":0},{"$f":"'[1]HOJA GENERAL DATOS IMPORTADOS'!J363","v":0},{"$f":"'[1]HOJA GENERAL DATOS IMPORTADOS'!K363","v":0},{"$f":"'[1]HOJA GENERAL DATOS IMPORTADOS'!L363","v":0},{"$f":"'[1]HOJA GENERAL DATOS IMPORTADOS'!M363","v":0},{"$f":"'[1]HOJA GENERAL DATOS IMPORTADOS'!N363","v":0},{"$f":"'[1]HOJA GENERAL DATOS IMPORTADOS'!O363","v":0},{"$f":"'[1]HOJA GENERAL DATOS IMPORTADOS'!P363","v":0},{"$f":"'[1]HOJA GENERAL DATOS IMPORTADOS'!Q363","v":0},{"$f":"'[1]HOJA GENERAL DATOS IMPORTADOS'!R363","v":0},{"$f":"'[1]HOJA GENERAL DATOS IMPORTADOS'!S363","v":0},{"$f":"'[1]HOJA GENERAL DATOS IMPORTADOS'!T363","v":0},{"$f":"'[1]HOJA GENERAL DATOS IMPORTADOS'!U363","v":0},{"$f":"'[1]HOJA GENERAL DATOS IMPORTADOS'!V363","v":0},{"$f":"'[1]HOJA GENERAL DATOS IMPORTADOS'!W363","v":0},{"$f":"'[1]HOJA GENERAL DATOS IMPORTADOS'!X363","v":0},{"$f":"'[1]HOJA GENERAL DATOS IMPORTADOS'!Y363","v":0},{"$f":"'[1]HOJA GENERAL DATOS IMPORTADOS'!Z363","v":0},{"$f":"'[1]HOJA GENERAL DATOS IMPORTADOS'!AA363","v":0},{"$f":"'[1]HOJA GENERAL DATOS IMPORTADOS'!AB363","v":0},{"$f":"'[1]HOJA GENERAL DATOS IMPORTADOS'!AC363","v":0},{"$f":"'[1]HOJA GENERAL DATOS IMPORTADOS'!AD363","v":0},{"$f":"'[1]HOJA GENERAL DATOS IMPORTADOS'!AE363","v":0},{"$f":"'[1]HOJA GENERAL DATOS IMPORTADOS'!AF363","v":0},{"$f":"'[1]HOJA GENERAL DATOS IMPORTADOS'!AG363","v":0},{"$f":"'[1]HOJA GENERAL DATOS IMPORTADOS'!AH363","v":0},{"$f":"'[1]HOJA GENERAL DATOS IMPORTADOS'!AI363","v":0}]
[{"$f":"'[1]HOJA GENERAL DATOS IMPORTADOS'!A364","v":0},{"$f":"'[1]HOJA GENERAL DATOS IMPORTADOS'!B364","v":0},{"$f":"'[1]HOJA GENERAL DATOS IMPORTADOS'!C364","v":0},{"$f":"'[1]HOJA GENERAL DATOS IMPORTADOS'!D364","v":0},{"$f":"'[1]HOJA GENERAL DATOS IMPORTADOS'!E364","v":0},{"$f":"'[1]HOJA GENERAL DATOS IMPORTADOS'!F364","v":0},{"$f":"'[1]HOJA GENERAL DATOS IMPORTADOS'!G364","v":0},{"$f":"'[1]HOJA GENERAL DATOS IMPORTADOS'!H364","v":0},{"$f":"'[1]HOJA GENERAL DATOS IMPORTADOS'!I364","v":0},{"$f":"'[1]HOJA GENERAL DATOS IMPORTADOS'!J364","v":0},{"$f":"'[1]HOJA GENERAL DATOS IMPORTADOS'!K364","v":0},{"$f":"'[1]HOJA GENERAL DATOS IMPORTADOS'!L364","v":0},{"$f":"'[1]HOJA GENERAL DATOS IMPORTADOS'!M364","v":0},{"$f":"'[1]HOJA GENERAL DATOS IMPORTADOS'!N364","v":0},{"$f":"'[1]HOJA GENERAL DATOS IMPORTADOS'!O364","v":0},{"$f":"'[1]HOJA GENERAL DATOS IMPORTADOS'!P364","v":0},{"$f":"'[1]HOJA GENERAL DATOS IMPORTADOS'!Q364","v":0},{"$f":"'[1]HOJA GENERAL DATOS IMPORTADOS'!R364","v":0},{"$f":"'[1]HOJA GENERAL DATOS IMPORTADOS'!S364","v":0},{"$f":"'[1]HOJA GENERAL DATOS IMPORTADOS'!T364","v":0},{"$f":"'[1]HOJA GENERAL DATOS IMPORTADOS'!U364","v":0},{"$f":"'[1]HOJA GENERAL DATOS IMPORTADOS'!V364","v":0},{"$f":"'[1]HOJA GENERAL DATOS IMPORTADOS'!W364","v":0},{"$f":"'[1]HOJA GENERAL DATOS IMPORTADOS'!X364","v":0},{"$f":"'[1]HOJA GENERAL DATOS IMPORTADOS'!Y364","v":0},{"$f":"'[1]HOJA GENERAL DATOS IMPORTADOS'!Z364","v":0},{"$f":"'[1]HOJA GENERAL DATOS IMPORTADOS'!AA364","v":0},{"$f":"'[1]HOJA GENERAL DATOS IMPORTADOS'!AB364","v":0},{"$f":"'[1]HOJA GENERAL DATOS IMPORTADOS'!AC364","v":0},{"$f":"'[1]HOJA GENERAL DATOS IMPORTADOS'!AD364","v":0},{"$f":"'[1]HOJA GENERAL DATOS IMPORTADOS'!AE364","v":0},{"$f":"'[1]HOJA GENERAL DATOS IMPORTADOS'!AF364","v":0},{"$f":"'[1]HOJA GENERAL DATOS IMPORTADOS'!AG364","v":0},{"$f":"'[1]HOJA GENERAL DATOS IMPORTADOS'!AH364","v":0},{"$f":"'[1]HOJA GENERAL DATOS IMPORTADOS'!AI364","v":0}]
[{"$f":"'[1]HOJA GENERAL DATOS IMPORTADOS'!A365","v":0},{"$f":"'[1]HOJA GENERAL DATOS IMPORTADOS'!B365","v":0},{"$f":"'[1]HOJA GENERAL DATOS IMPORTADOS'!C365","v":0},{"$f":"'[1]HOJA GENERAL DATOS IMPORTADOS'!D365","v":0},{"$f":"'[1]HOJA GENERAL DATOS IMPORTADOS'!E365","v":0},{"$f":"'[1]HOJA GENERAL DATOS IMPORTADOS'!F365","v":0},{"$f":"'[1]HOJA GENERAL DATOS IMPORTADOS'!G365","v":0},{"$f":"'[1]HOJA GENERAL DATOS IMPORTADOS'!H365","v":0},{"$f":"'[1]HOJA GENERAL DATOS IMPORTADOS'!I365","v":0},{"$f":"'[1]HOJA GENERAL DATOS IMPORTADOS'!J365","v":0},{"$f":"'[1]HOJA GENERAL DATOS IMPORTADOS'!K365","v":0},{"$f":"'[1]HOJA GENERAL DATOS IMPORTADOS'!L365","v":0},{"$f":"'[1]HOJA GENERAL DATOS IMPORTADOS'!M365","v":0},{"$f":"'[1]HOJA GENERAL DATOS IMPORTADOS'!N365","v":0},{"$f":"'[1]HOJA GENERAL DATOS IMPORTADOS'!O365","v":0},{"$f":"'[1]HOJA GENERAL DATOS IMPORTADOS'!P365","v":0},{"$f":"'[1]HOJA GENERAL DATOS IMPORTADOS'!Q365","v":0},{"$f":"'[1]HOJA GENERAL DATOS IMPORTADOS'!R365","v":0},{"$f":"'[1]HOJA GENERAL DATOS IMPORTADOS'!S365","v":0},{"$f":"'[1]HOJA GENERAL DATOS IMPORTADOS'!T365","v":0},{"$f":"'[1]HOJA GENERAL DATOS IMPORTADOS'!U365","v":0},{"$f":"'[1]HOJA GENERAL DATOS IMPORTADOS'!V365","v":0},{"$f":"'[1]HOJA GENERAL DATOS IMPORTADOS'!W365","v":0},{"$f":"'[1]HOJA GENERAL DATOS IMPORTADOS'!X365","v":0},{"$f":"'[1]HOJA GENERAL DATOS IMPORTADOS'!Y365","v":0},{"$f":"'[1]HOJA GENERAL DATOS IMPORTADOS'!Z365","v":0},{"$f":"'[1]HOJA GENERAL DATOS IMPORTADOS'!AA365","v":0},{"$f":"'[1]HOJA GENERAL DATOS IMPORTADOS'!AB365","v":0},{"$f":"'[1]HOJA GENERAL DATOS IMPORTADOS'!AC365","v":0},{"$f":"'[1]HOJA GENERAL DATOS IMPORTADOS'!AD365","v":0},{"$f":"'[1]HOJA GENERAL DATOS IMPORTADOS'!AE365","v":0},{"$f":"'[1]HOJA GENERAL DATOS IMPORTADOS'!AF365","v":0},{"$f":"'[1]HOJA GENERAL DATOS IMPORTADOS'!AG365","v":0},{"$f":"'[1]HOJA GENERAL DATOS IMPORTADOS'!AH365","v":0},{"$f":"'[1]HOJA GENERAL DATOS IMPORTADOS'!AI365","v":0}]
[{"$f":"'[1]HOJA GENERAL DATOS IMPORTADOS'!A366","v":0},{"$f":"'[1]HOJA GENERAL DATOS IMPORTADOS'!B366","v":0},{"$f":"'[1]HOJA GENERAL DATOS IMPORTADOS'!C366","v":0},{"$f":"'[1]HOJA GENERAL DATOS IMPORTADOS'!D366","v":0},{"$f":"'[1]HOJA GENERAL DATOS IMPORTADOS'!E366","v":0},{"$f":"'[1]HOJA GENERAL DATOS IMPORTADOS'!F366","v":0},{"$f":"'[1]HOJA GENERAL DATOS IMPORTADOS'!G366","v":0},{"$f":"'[1]HOJA GENERAL DATOS IMPORTADOS'!H366","v":0},{"$f":"'[1]HOJA GENERAL DATOS IMPORTADOS'!I366","v":0},{"$f":"'[1]HOJA GENERAL DATOS IMPORTADOS'!J366","v":0},{"$f":"'[1]HOJA GENERAL DATOS IMPORTADOS'!K366","v":0},{"$f":"'[1]HOJA GENERAL DATOS IMPORTADOS'!L366","v":0},{"$f":"'[1]HOJA GENERAL DATOS IMPORTADOS'!M366","v":0},{"$f":"'[1]HOJA GENERAL DATOS IMPORTADOS'!N366","v":0},{"$f":"'[1]HOJA GENERAL DATOS IMPORTADOS'!O366","v":0},{"$f":"'[1]HOJA GENERAL DATOS IMPORTADOS'!P366","v":0},{"$f":"'[1]HOJA GENERAL DATOS IMPORTADOS'!Q366","v":0},{"$f":"'[1]HOJA GENERAL DATOS IMPORTADOS'!R366","v":0},{"$f":"'[1]HOJA GENERAL DATOS IMPORTADOS'!S366","v":0},{"$f":"'[1]HOJA GENERAL DATOS IMPORTADOS'!T366","v":0},{"$f":"'[1]HOJA GENERAL DATOS IMPORTADOS'!U366","v":0},{"$f":"'[1]HOJA GENERAL DATOS IMPORTADOS'!V366","v":0},{"$f":"'[1]HOJA GENERAL DATOS IMPORTADOS'!W366","v":0},{"$f":"'[1]HOJA GENERAL DATOS IMPORTADOS'!X366","v":0},{"$f":"'[1]HOJA GENERAL DATOS IMPORTADOS'!Y366","v":0},{"$f":"'[1]HOJA GENERAL DATOS IMPORTADOS'!Z366","v":0},{"$f":"'[1]HOJA GENERAL DATOS IMPORTADOS'!AA366","v":0},{"$f":"'[1]HOJA GENERAL DATOS IMPORTADOS'!AB366","v":0},{"$f":"'[1]HOJA GENERAL DATOS IMPORTADOS'!AC366","v":0},{"$f":"'[1]HOJA GENERAL DATOS IMPORTADOS'!AD366","v":0},{"$f":"'[1]HOJA GENERAL DATOS IMPORTADOS'!AE366","v":0},{"$f":"'[1]HOJA GENERAL DATOS IMPORTADOS'!AF366","v":0},{"$f":"'[1]HOJA GENERAL DATOS IMPORTADOS'!AG366","v":0},{"$f":"'[1]HOJA GENERAL DATOS IMPORTADOS'!AH366","v":0},{"$f":"'[1]HOJA GENERAL DATOS IMPORTADOS'!AI366","v":0}]
[{"$f":"'[1]HOJA GENERAL DATOS IMPORTADOS'!A367","v":0},{"$f":"'[1]HOJA GENERAL DATOS IMPORTADOS'!B367","v":0},{"$f":"'[1]HOJA GENERAL DATOS IMPORTADOS'!C367","v":0},{"$f":"'[1]HOJA GENERAL DATOS IMPORTADOS'!D367","v":0},{"$f":"'[1]HOJA GENERAL DATOS IMPORTADOS'!E367","v":0},{"$f":"'[1]HOJA GENERAL DATOS IMPORTADOS'!F367","v":0},{"$f":"'[1]HOJA GENERAL DATOS IMPORTADOS'!G367","v":0},{"$f":"'[1]HOJA GENERAL DATOS IMPORTADOS'!H367","v":0},{"$f":"'[1]HOJA GENERAL DATOS IMPORTADOS'!I367","v":0},{"$f":"'[1]HOJA GENERAL DATOS IMPORTADOS'!J367","v":0},{"$f":"'[1]HOJA GENERAL DATOS IMPORTADOS'!K367","v":0},{"$f":"'[1]HOJA GENERAL DATOS IMPORTADOS'!L367","v":0},{"$f":"'[1]HOJA GENERAL DATOS IMPORTADOS'!M367","v":0},{"$f":"'[1]HOJA GENERAL DATOS IMPORTADOS'!N367","v":0},{"$f":"'[1]HOJA GENERAL DATOS IMPORTADOS'!O367","v":0},{"$f":"'[1]HOJA GENERAL DATOS IMPORTADOS'!P367","v":0},{"$f":"'[1]HOJA GENERAL DATOS IMPORTADOS'!Q367","v":0},{"$f":"'[1]HOJA GENERAL DATOS IMPORTADOS'!R367","v":0},{"$f":"'[1]HOJA GENERAL DATOS IMPORTADOS'!S367","v":0},{"$f":"'[1]HOJA GENERAL DATOS IMPORTADOS'!T367","v":0},{"$f":"'[1]HOJA GENERAL DATOS IMPORTADOS'!U367","v":0},{"$f":"'[1]HOJA GENERAL DATOS IMPORTADOS'!V367","v":0},{"$f":"'[1]HOJA GENERAL DATOS IMPORTADOS'!W367","v":0},{"$f":"'[1]HOJA GENERAL DATOS IMPORTADOS'!X367","v":0},{"$f":"'[1]HOJA GENERAL DATOS IMPORTADOS'!Y367","v":0},{"$f":"'[1]HOJA GENERAL DATOS IMPORTADOS'!Z367","v":0},{"$f":"'[1]HOJA GENERAL DATOS IMPORTADOS'!AA367","v":0},{"$f":"'[1]HOJA GENERAL DATOS IMPORTADOS'!AB367","v":0},{"$f":"'[1]HOJA GENERAL DATOS IMPORTADOS'!AC367","v":0},{"$f":"'[1]HOJA GENERAL DATOS IMPORTADOS'!AD367","v":0},{"$f":"'[1]HOJA GENERAL DATOS IMPORTADOS'!AE367","v":0},{"$f":"'[1]HOJA GENERAL DATOS IMPORTADOS'!AF367","v":0},{"$f":"'[1]HOJA GENERAL DATOS IMPORTADOS'!AG367","v":0},{"$f":"'[1]HOJA GENERAL DATOS IMPORTADOS'!AH367","v":0},{"$f":"'[1]HOJA GENERAL DATOS IMPORTADOS'!AI367","v":0}]
[{"$f":"'[1]HOJA GENERAL DATOS IMPORTADOS'!A368","v":0},{"$f":"'[1]HOJA GENERAL DATOS IMPORTADOS'!B368","v":0},{"$f":"'[1]HOJA GENERAL DATOS IMPORTADOS'!C368","v":0},{"$f":"'[1]HOJA GENERAL DATOS IMPORTADOS'!D368","v":0},{"$f":"'[1]HOJA GENERAL DATOS IMPORTADOS'!E368","v":0},{"$f":"'[1]HOJA GENERAL DATOS IMPORTADOS'!F368","v":0},{"$f":"'[1]HOJA GENERAL DATOS IMPORTADOS'!G368","v":0},{"$f":"'[1]HOJA GENERAL DATOS IMPORTADOS'!H368","v":0},{"$f":"'[1]HOJA GENERAL DATOS IMPORTADOS'!I368","v":0},{"$f":"'[1]HOJA GENERAL DATOS IMPORTADOS'!J368","v":0},{"$f":"'[1]HOJA GENERAL DATOS IMPORTADOS'!K368","v":0},{"$f":"'[1]HOJA GENERAL DATOS IMPORTADOS'!L368","v":0},{"$f":"'[1]HOJA GENERAL DATOS IMPORTADOS'!M368","v":0},{"$f":"'[1]HOJA GENERAL DATOS IMPORTADOS'!N368","v":0},{"$f":"'[1]HOJA GENERAL DATOS IMPORTADOS'!O368","v":0},{"$f":"'[1]HOJA GENERAL DATOS IMPORTADOS'!P368","v":0},{"$f":"'[1]HOJA GENERAL DATOS IMPORTADOS'!Q368","v":0},{"$f":"'[1]HOJA GENERAL DATOS IMPORTADOS'!R368","v":0},{"$f":"'[1]HOJA GENERAL DATOS IMPORTADOS'!S368","v":0},{"$f":"'[1]HOJA GENERAL DATOS IMPORTADOS'!T368","v":0},{"$f":"'[1]HOJA GENERAL DATOS IMPORTADOS'!U368","v":0},{"$f":"'[1]HOJA GENERAL DATOS IMPORTADOS'!V368","v":0},{"$f":"'[1]HOJA GENERAL DATOS IMPORTADOS'!W368","v":0},{"$f":"'[1]HOJA GENERAL DATOS IMPORTADOS'!X368","v":0},{"$f":"'[1]HOJA GENERAL DATOS IMPORTADOS'!Y368","v":0},{"$f":"'[1]HOJA GENERAL DATOS IMPORTADOS'!Z368","v":0},{"$f":"'[1]HOJA GENERAL DATOS IMPORTADOS'!AA368","v":0},{"$f":"'[1]HOJA GENERAL DATOS IMPORTADOS'!AB368","v":0},{"$f":"'[1]HOJA GENERAL DATOS IMPORTADOS'!AC368","v":0},{"$f":"'[1]HOJA GENERAL DATOS IMPORTADOS'!AD368","v":0},{"$f":"'[1]HOJA GENERAL DATOS IMPORTADOS'!AE368","v":0},{"$f":"'[1]HOJA GENERAL DATOS IMPORTADOS'!AF368","v":0},{"$f":"'[1]HOJA GENERAL DATOS IMPORTADOS'!AG368","v":0},{"$f":"'[1]HOJA GENERAL DATOS IMPORTADOS'!AH368","v":0},{"$f":"'[1]HOJA GENERAL DATOS IMPORTADOS'!AI368","v":0}]
[{"$f":"'[1]HOJA GENERAL DATOS IMPORTADOS'!A369","v":0},{"$f":"'[1]HOJA GENERAL DATOS IMPORTADOS'!B369","v":0},{"$f":"'[1]HOJA GENERAL DATOS IMPORTADOS'!C369","v":0},{"$f":"'[1]HOJA GENERAL DATOS IMPORTADOS'!D369","v":0},{"$f":"'[1]HOJA GENERAL DATOS IMPORTADOS'!E369","v":0},{"$f":"'[1]HOJA GENERAL DATOS IMPORTADOS'!F369","v":0},{"$f":"'[1]HOJA GENERAL DATOS IMPORTADOS'!G369","v":0},{"$f":"'[1]HOJA GENERAL DATOS IMPORTADOS'!H369","v":0},{"$f":"'[1]HOJA GENERAL DATOS IMPORTADOS'!I369","v":0},{"$f":"'[1]HOJA GENERAL DATOS IMPORTADOS'!J369","v":0},{"$f":"'[1]HOJA GENERAL DATOS IMPORTADOS'!K369","v":0},{"$f":"'[1]HOJA GENERAL DATOS IMPORTADOS'!L369","v":0},{"$f":"'[1]HOJA GENERAL DATOS IMPORTADOS'!M369","v":0},{"$f":"'[1]HOJA GENERAL DATOS IMPORTADOS'!N369","v":0},{"$f":"'[1]HOJA GENERAL DATOS IMPORTADOS'!O369","v":0},{"$f":"'[1]HOJA GENERAL DATOS IMPORTADOS'!P369","v":0},{"$f":"'[1]HOJA GENERAL DATOS IMPORTADOS'!Q369","v":0},{"$f":"'[1]HOJA GENERAL DATOS IMPORTADOS'!R369","v":0},{"$f":"'[1]HOJA GENERAL DATOS IMPORTADOS'!S369","v":0},{"$f":"'[1]HOJA GENERAL DATOS IMPORTADOS'!T369","v":0},{"$f":"'[1]HOJA GENERAL DATOS IMPORTADOS'!U369","v":0},{"$f":"'[1]HOJA GENERAL DATOS IMPORTADOS'!V369","v":0},{"$f":"'[1]HOJA GENERAL DATOS IMPORTADOS'!W369","v":0},{"$f":"'[1]HOJA GENERAL DATOS IMPORTADOS'!X369","v":0},{"$f":"'[1]HOJA GENERAL DATOS IMPORTADOS'!Y369","v":0},{"$f":"'[1]HOJA GENERAL DATOS IMPORTADOS'!Z369","v":0},{"$f":"'[1]HOJA GENERAL DATOS IMPORTADOS'!AA369","v":0},{"$f":"'[1]HOJA GENERAL DATOS IMPORTADOS'!AB369","v":0},{"$f":"'[1]HOJA GENERAL DATOS IMPORTADOS'!AC369","v":0},{"$f":"'[1]HOJA GENERAL DATOS IMPORTADOS'!AD369","v":0},{"$f":"'[1]HOJA GENERAL DATOS IMPORTADOS'!AE369","v":0},{"$f":"'[1]HOJA GENERAL DATOS IMPORTADOS'!AF369","v":0},{"$f":"'[1]HOJA GENERAL DATOS IMPORTADOS'!AG369","v":0},{"$f":"'[1]HOJA GENERAL DATOS IMPORTADOS'!AH369","v":0},{"$f":"'[1]HOJA GENERAL DATOS IMPORTADOS'!AI369","v":0}]
[{"$f":"'[1]HOJA GENERAL DATOS IMPORTADOS'!A370","v":0},{"$f":"'[1]HOJA GENERAL DATOS IMPORTADOS'!B370","v":0},{"$f":"'[1]HOJA GENERAL DATOS IMPORTADOS'!C370","v":0},{"$f":"'[1]HOJA GENERAL DATOS IMPORTADOS'!D370","v":0},{"$f":"'[1]HOJA GENERAL DATOS IMPORTADOS'!E370","v":0},{"$f":"'[1]HOJA GENERAL DATOS IMPORTADOS'!F370","v":0},{"$f":"'[1]HOJA GENERAL DATOS IMPORTADOS'!G370","v":0},{"$f":"'[1]HOJA GENERAL DATOS IMPORTADOS'!H370","v":0},{"$f":"'[1]HOJA GENERAL DATOS IMPORTADOS'!I370","v":0},{"$f":"'[1]HOJA GENERAL DATOS IMPORTADOS'!J370","v":0},{"$f":"'[1]HOJA GENERAL DATOS IMPORTADOS'!K370","v":0},{"$f":"'[1]HOJA GENERAL DATOS IMPORTADOS'!L370","v":0},{"$f":"'[1]HOJA GENERAL DATOS IMPORTADOS'!M370","v":0},{"$f":"'[1]HOJA GENERAL DATOS IMPORTADOS'!N370","v":0},{"$f":"'[1]HOJA GENERAL DATOS IMPORTADOS'!O370","v":0},{"$f":"'[1]HOJA GENERAL DATOS IMPORTADOS'!P370","v":0},{"$f":"'[1]HOJA GENERAL DATOS IMPORTADOS'!Q370","v":0},{"$f":"'[1]HOJA GENERAL DATOS IMPORTADOS'!R370","v":0},{"$f":"'[1]HOJA GENERAL DATOS IMPORTADOS'!S370","v":0},{"$f":"'[1]HOJA GENERAL DATOS IMPORTADOS'!T370","v":0},{"$f":"'[1]HOJA GENERAL DATOS IMPORTADOS'!U370","v":0},{"$f":"'[1]HOJA GENERAL DATOS IMPORTADOS'!V370","v":0},{"$f":"'[1]HOJA GENERAL DATOS IMPORTADOS'!W370","v":0},{"$f":"'[1]HOJA GENERAL DATOS IMPORTADOS'!X370","v":0},{"$f":"'[1]HOJA GENERAL DATOS IMPORTADOS'!Y370","v":0},{"$f":"'[1]HOJA GENERAL DATOS IMPORTADOS'!Z370","v":0},{"$f":"'[1]HOJA GENERAL DATOS IMPORTADOS'!AA370","v":0},{"$f":"'[1]HOJA GENERAL DATOS IMPORTADOS'!AB370","v":0},{"$f":"'[1]HOJA GENERAL DATOS IMPORTADOS'!AC370","v":0},{"$f":"'[1]HOJA GENERAL DATOS IMPORTADOS'!AD370","v":0},{"$f":"'[1]HOJA GENERAL DATOS IMPORTADOS'!AE370","v":0},{"$f":"'[1]HOJA GENERAL DATOS IMPORTADOS'!AF370","v":0},{"$f":"'[1]HOJA GENERAL DATOS IMPORTADOS'!AG370","v":0},{"$f":"'[1]HOJA GENERAL DATOS IMPORTADOS'!AH370","v":0},{"$f":"'[1]HOJA GENERAL DATOS IMPORTADOS'!AI370","v":0}]
[{"$f":"'[1]HOJA GENERAL DATOS IMPORTADOS'!A371","v":0},{"$f":"'[1]HOJA GENERAL DATOS IMPORTADOS'!B371","v":0},{"$f":"'[1]HOJA GENERAL DATOS IMPORTADOS'!C371","v":0},{"$f":"'[1]HOJA GENERAL DATOS IMPORTADOS'!D371","v":0},{"$f":"'[1]HOJA GENERAL DATOS IMPORTADOS'!E371","v":0},{"$f":"'[1]HOJA GENERAL DATOS IMPORTADOS'!F371","v":0},{"$f":"'[1]HOJA GENERAL DATOS IMPORTADOS'!G371","v":0},{"$f":"'[1]HOJA GENERAL DATOS IMPORTADOS'!H371","v":0},{"$f":"'[1]HOJA GENERAL DATOS IMPORTADOS'!I371","v":0},{"$f":"'[1]HOJA GENERAL DATOS IMPORTADOS'!J371","v":0},{"$f":"'[1]HOJA GENERAL DATOS IMPORTADOS'!K371","v":0},{"$f":"'[1]HOJA GENERAL DATOS IMPORTADOS'!L371","v":0},{"$f":"'[1]HOJA GENERAL DATOS IMPORTADOS'!M371","v":0},{"$f":"'[1]HOJA GENERAL DATOS IMPORTADOS'!N371","v":0},{"$f":"'[1]HOJA GENERAL DATOS IMPORTADOS'!O371","v":0},{"$f":"'[1]HOJA GENERAL DATOS IMPORTADOS'!P371","v":0},{"$f":"'[1]HOJA GENERAL DATOS IMPORTADOS'!Q371","v":0},{"$f":"'[1]HOJA GENERAL DATOS IMPORTADOS'!R371","v":0},{"$f":"'[1]HOJA GENERAL DATOS IMPORTADOS'!S371","v":0},{"$f":"'[1]HOJA GENERAL DATOS IMPORTADOS'!T371","v":0},{"$f":"'[1]HOJA GENERAL DATOS IMPORTADOS'!U371","v":0},{"$f":"'[1]HOJA GENERAL DATOS IMPORTADOS'!V371","v":0},{"$f":"'[1]HOJA GENERAL DATOS IMPORTADOS'!W371","v":0},{"$f":"'[1]HOJA GENERAL DATOS IMPORTADOS'!X371","v":0},{"$f":"'[1]HOJA GENERAL DATOS IMPORTADOS'!Y371","v":0},{"$f":"'[1]HOJA GENERAL DATOS IMPORTADOS'!Z371","v":0},{"$f":"'[1]HOJA GENERAL DATOS IMPORTADOS'!AA371","v":0},{"$f":"'[1]HOJA GENERAL DATOS IMPORTADOS'!AB371","v":0},{"$f":"'[1]HOJA GENERAL DATOS IMPORTADOS'!AC371","v":0},{"$f":"'[1]HOJA GENERAL DATOS IMPORTADOS'!AD371","v":0},{"$f":"'[1]HOJA GENERAL DATOS IMPORTADOS'!AE371","v":0},{"$f":"'[1]HOJA GENERAL DATOS IMPORTADOS'!AF371","v":0},{"$f":"'[1]HOJA GENERAL DATOS IMPORTADOS'!AG371","v":0},{"$f":"'[1]HOJA GENERAL DATOS IMPORTADOS'!AH371","v":0},{"$f":"'[1]HOJA GENERAL DATOS IMPORTADOS'!AI371","v":0}]
[{"$f":"'[1]HOJA GENERAL DATOS IMPORTADOS'!A372","v":0},{"$f":"'[1]HOJA GENERAL DATOS IMPORTADOS'!B372","v":0},{"$f":"'[1]HOJA GENERAL DATOS IMPORTADOS'!C372","v":0},{"$f":"'[1]HOJA GENERAL DATOS IMPORTADOS'!D372","v":0},{"$f":"'[1]HOJA GENERAL DATOS IMPORTADOS'!E372","v":0},{"$f":"'[1]HOJA GENERAL DATOS IMPORTADOS'!F372","v":0},{"$f":"'[1]HOJA GENERAL DATOS IMPORTADOS'!G372","v":0},{"$f":"'[1]HOJA GENERAL DATOS IMPORTADOS'!H372","v":0},{"$f":"'[1]HOJA GENERAL DATOS IMPORTADOS'!I372","v":0},{"$f":"'[1]HOJA GENERAL DATOS IMPORTADOS'!J372","v":0},{"$f":"'[1]HOJA GENERAL DATOS IMPORTADOS'!K372","v":0},{"$f":"'[1]HOJA GENERAL DATOS IMPORTADOS'!L372","v":0},{"$f":"'[1]HOJA GENERAL DATOS IMPORTADOS'!M372","v":0},{"$f":"'[1]HOJA GENERAL DATOS IMPORTADOS'!N372","v":0},{"$f":"'[1]HOJA GENERAL DATOS IMPORTADOS'!O372","v":0},{"$f":"'[1]HOJA GENERAL DATOS IMPORTADOS'!P372","v":0},{"$f":"'[1]HOJA GENERAL DATOS IMPORTADOS'!Q372","v":0},{"$f":"'[1]HOJA GENERAL DATOS IMPORTADOS'!R372","v":0},{"$f":"'[1]HOJA GENERAL DATOS IMPORTADOS'!S372","v":0},{"$f":"'[1]HOJA GENERAL DATOS IMPORTADOS'!T372","v":0},{"$f":"'[1]HOJA GENERAL DATOS IMPORTADOS'!U372","v":0},{"$f":"'[1]HOJA GENERAL DATOS IMPORTADOS'!V372","v":0},{"$f":"'[1]HOJA GENERAL DATOS IMPORTADOS'!W372","v":0},{"$f":"'[1]HOJA GENERAL DATOS IMPORTADOS'!X372","v":0},{"$f":"'[1]HOJA GENERAL DATOS IMPORTADOS'!Y372","v":0},{"$f":"'[1]HOJA GENERAL DATOS IMPORTADOS'!Z372","v":0},{"$f":"'[1]HOJA GENERAL DATOS IMPORTADOS'!AA372","v":0},{"$f":"'[1]HOJA GENERAL DATOS IMPORTADOS'!AB372","v":0},{"$f":"'[1]HOJA GENERAL DATOS IMPORTADOS'!AC372","v":0},{"$f":"'[1]HOJA GENERAL DATOS IMPORTADOS'!AD372","v":0},{"$f":"'[1]HOJA GENERAL DATOS IMPORTADOS'!AE372","v":0},{"$f":"'[1]HOJA GENERAL DATOS IMPORTADOS'!AF372","v":0},{"$f":"'[1]HOJA GENERAL DATOS IMPORTADOS'!AG372","v":0},{"$f":"'[1]HOJA GENERAL DATOS IMPORTADOS'!AH372","v":0},{"$f":"'[1]HOJA GENERAL DATOS IMPORTADOS'!AI372","v":0}]
[{"$f":"'[1]HOJA GENERAL DATOS IMPORTADOS'!A373","v":0},{"$f":"'[1]HOJA GENERAL DATOS IMPORTADOS'!B373","v":0},{"$f":"'[1]HOJA GENERAL DATOS IMPORTADOS'!C373","v":0},{"$f":"'[1]HOJA GENERAL DATOS IMPORTADOS'!D373","v":0},{"$f":"'[1]HOJA GENERAL DATOS IMPORTADOS'!E373","v":0},{"$f":"'[1]HOJA GENERAL DATOS IMPORTADOS'!F373","v":0},{"$f":"'[1]HOJA GENERAL DATOS IMPORTADOS'!G373","v":0},{"$f":"'[1]HOJA GENERAL DATOS IMPORTADOS'!H373","v":0},{"$f":"'[1]HOJA GENERAL DATOS IMPORTADOS'!I373","v":0},{"$f":"'[1]HOJA GENERAL DATOS IMPORTADOS'!J373","v":0},{"$f":"'[1]HOJA GENERAL DATOS IMPORTADOS'!K373","v":0},{"$f":"'[1]HOJA GENERAL DATOS IMPORTADOS'!L373","v":0},{"$f":"'[1]HOJA GENERAL DATOS IMPORTADOS'!M373","v":0},{"$f":"'[1]HOJA GENERAL DATOS IMPORTADOS'!N373","v":0},{"$f":"'[1]HOJA GENERAL DATOS IMPORTADOS'!O373","v":0},{"$f":"'[1]HOJA GENERAL DATOS IMPORTADOS'!P373","v":0},{"$f":"'[1]HOJA GENERAL DATOS IMPORTADOS'!Q373","v":0},{"$f":"'[1]HOJA GENERAL DATOS IMPORTADOS'!R373","v":0},{"$f":"'[1]HOJA GENERAL DATOS IMPORTADOS'!S373","v":0},{"$f":"'[1]HOJA GENERAL DATOS IMPORTADOS'!T373","v":0},{"$f":"'[1]HOJA GENERAL DATOS IMPORTADOS'!U373","v":0},{"$f":"'[1]HOJA GENERAL DATOS IMPORTADOS'!V373","v":0},{"$f":"'[1]HOJA GENERAL DATOS IMPORTADOS'!W373","v":0},{"$f":"'[1]HOJA GENERAL DATOS IMPORTADOS'!X373","v":0},{"$f":"'[1]HOJA GENERAL DATOS IMPORTADOS'!Y373","v":0},{"$f":"'[1]HOJA GENERAL DATOS IMPORTADOS'!Z373","v":0},{"$f":"'[1]HOJA GENERAL DATOS IMPORTADOS'!AA373","v":0},{"$f":"'[1]HOJA GENERAL DATOS IMPORTADOS'!AB373","v":0},{"$f":"'[1]HOJA GENERAL DATOS IMPORTADOS'!AC373","v":0},{"$f":"'[1]HOJA GENERAL DATOS IMPORTADOS'!AD373","v":0},{"$f":"'[1]HOJA GENERAL DATOS IMPORTADOS'!AE373","v":0},{"$f":"'[1]HOJA GENERAL DATOS IMPORTADOS'!AF373","v":0},{"$f":"'[1]HOJA GENERAL DATOS IMPORTADOS'!AG373","v":0},{"$f":"'[1]HOJA GENERAL DATOS IMPORTADOS'!AH373","v":0},{"$f":"'[1]HOJA GENERAL DATOS IMPORTADOS'!AI373","v":0}]
[{"$f":"'[1]HOJA GENERAL DATOS IMPORTADOS'!A374","v":0},{"$f":"'[1]HOJA GENERAL DATOS IMPORTADOS'!B374","v":0},{"$f":"'[1]HOJA GENERAL DATOS IMPORTADOS'!C374","v":0},{"$f":"'[1]HOJA GENERAL DATOS IMPORTADOS'!D374","v":0},{"$f":"'[1]HOJA GENERAL DATOS IMPORTADOS'!E374","v":0},{"$f":"'[1]HOJA GENERAL DATOS IMPORTADOS'!F374","v":0},{"$f":"'[1]HOJA GENERAL DATOS IMPORTADOS'!G374","v":0},{"$f":"'[1]HOJA GENERAL DATOS IMPORTADOS'!H374","v":0},{"$f":"'[1]HOJA GENERAL DATOS IMPORTADOS'!I374","v":0},{"$f":"'[1]HOJA GENERAL DATOS IMPORTADOS'!J374","v":0},{"$f":"'[1]HOJA GENERAL DATOS IMPORTADOS'!K374","v":0},{"$f":"'[1]HOJA GENERAL DATOS IMPORTADOS'!L374","v":0},{"$f":"'[1]HOJA GENERAL DATOS IMPORTADOS'!M374","v":0},{"$f":"'[1]HOJA GENERAL DATOS IMPORTADOS'!N374","v":0},{"$f":"'[1]HOJA GENERAL DATOS IMPORTADOS'!O374","v":0},{"$f":"'[1]HOJA GENERAL DATOS IMPORTADOS'!P374","v":0},{"$f":"'[1]HOJA GENERAL DATOS IMPORTADOS'!Q374","v":0},{"$f":"'[1]HOJA GENERAL DATOS IMPORTADOS'!R374","v":0},{"$f":"'[1]HOJA GENERAL DATOS IMPORTADOS'!S374","v":0},{"$f":"'[1]HOJA GENERAL DATOS IMPORTADOS'!T374","v":0},{"$f":"'[1]HOJA GENERAL DATOS IMPORTADOS'!U374","v":0},{"$f":"'[1]HOJA GENERAL DATOS IMPORTADOS'!V374","v":0},{"$f":"'[1]HOJA GENERAL DATOS IMPORTADOS'!W374","v":0},{"$f":"'[1]HOJA GENERAL DATOS IMPORTADOS'!X374","v":0},{"$f":"'[1]HOJA GENERAL DATOS IMPORTADOS'!Y374","v":0},{"$f":"'[1]HOJA GENERAL DATOS IMPORTADOS'!Z374","v":0},{"$f":"'[1]HOJA GENERAL DATOS IMPORTADOS'!AA374","v":0},{"$f":"'[1]HOJA GENERAL DATOS IMPORTADOS'!AB374","v":0},{"$f":"'[1]HOJA GENERAL DATOS IMPORTADOS'!AC374","v":0},{"$f":"'[1]HOJA GENERAL DATOS IMPORTADOS'!AD374","v":0},{"$f":"'[1]HOJA GENERAL DATOS IMPORTADOS'!AE374","v":0},{"$f":"'[1]HOJA GENERAL DATOS IMPORTADOS'!AF374","v":0},{"$f":"'[1]HOJA GENERAL DATOS IMPORTADOS'!AG374","v":0},{"$f":"'[1]HOJA GENERAL DATOS IMPORTADOS'!AH374","v":0},{"$f":"'[1]HOJA GENERAL DATOS IMPORTADOS'!AI374","v":0}]
[{"$f":"'[1]HOJA GENERAL DATOS IMPORTADOS'!A375","v":0},{"$f":"'[1]HOJA GENERAL DATOS IMPORTADOS'!B375","v":0},{"$f":"'[1]HOJA GENERAL DATOS IMPORTADOS'!C375","v":0},{"$f":"'[1]HOJA GENERAL DATOS IMPORTADOS'!D375","v":0},{"$f":"'[1]HOJA GENERAL DATOS IMPORTADOS'!E375","v":0},{"$f":"'[1]HOJA GENERAL DATOS IMPORTADOS'!F375","v":0},{"$f":"'[1]HOJA GENERAL DATOS IMPORTADOS'!G375","v":0},{"$f":"'[1]HOJA GENERAL DATOS IMPORTADOS'!H375","v":0},{"$f":"'[1]HOJA GENERAL DATOS IMPORTADOS'!I375","v":0},{"$f":"'[1]HOJA GENERAL DATOS IMPORTADOS'!J375","v":0},{"$f":"'[1]HOJA GENERAL DATOS IMPORTADOS'!K375","v":0},{"$f":"'[1]HOJA GENERAL DATOS IMPORTADOS'!L375","v":0},{"$f":"'[1]HOJA GENERAL DATOS IMPORTADOS'!M375","v":0},{"$f":"'[1]HOJA GENERAL DATOS IMPORTADOS'!N375","v":0},{"$f":"'[1]HOJA GENERAL DATOS IMPORTADOS'!O375","v":0},{"$f":"'[1]HOJA GENERAL DATOS IMPORTADOS'!P375","v":0},{"$f":"'[1]HOJA GENERAL DATOS IMPORTADOS'!Q375","v":0},{"$f":"'[1]HOJA GENERAL DATOS IMPORTADOS'!R375","v":0},{"$f":"'[1]HOJA GENERAL DATOS IMPORTADOS'!S375","v":0},{"$f":"'[1]HOJA GENERAL DATOS IMPORTADOS'!T375","v":0},{"$f":"'[1]HOJA GENERAL DATOS IMPORTADOS'!U375","v":0},{"$f":"'[1]HOJA GENERAL DATOS IMPORTADOS'!V375","v":0},{"$f":"'[1]HOJA GENERAL DATOS IMPORTADOS'!W375","v":0},{"$f":"'[1]HOJA GENERAL DATOS IMPORTADOS'!X375","v":0},{"$f":"'[1]HOJA GENERAL DATOS IMPORTADOS'!Y375","v":0},{"$f":"'[1]HOJA GENERAL DATOS IMPORTADOS'!Z375","v":0},{"$f":"'[1]HOJA GENERAL DATOS IMPORTADOS'!AA375","v":0},{"$f":"'[1]HOJA GENERAL DATOS IMPORTADOS'!AB375","v":0},{"$f":"'[1]HOJA GENERAL DATOS IMPORTADOS'!AC375","v":0},{"$f":"'[1]HOJA GENERAL DATOS IMPORTADOS'!AD375","v":0},{"$f":"'[1]HOJA GENERAL DATOS IMPORTADOS'!AE375","v":0},{"$f":"'[1]HOJA GENERAL DATOS IMPORTADOS'!AF375","v":0},{"$f":"'[1]HOJA GENERAL DATOS IMPORTADOS'!AG375","v":0},{"$f":"'[1]HOJA GENERAL DATOS IMPORTADOS'!AH375","v":0},{"$f":"'[1]HOJA GENERAL DATOS IMPORTADOS'!AI375","v":0}]
[{"$f":"'[1]HOJA GENERAL DATOS IMPORTADOS'!A376","v":0},{"$f":"'[1]HOJA GENERAL DATOS IMPORTADOS'!B376","v":0},{"$f":"'[1]HOJA GENERAL DATOS IMPORTADOS'!C376","v":0},{"$f":"'[1]HOJA GENERAL DATOS IMPORTADOS'!D376","v":0},{"$f":"'[1]HOJA GENERAL DATOS IMPORTADOS'!E376","v":0},{"$f":"'[1]HOJA GENERAL DATOS IMPORTADOS'!F376","v":0},{"$f":"'[1]HOJA GENERAL DATOS IMPORTADOS'!G376","v":0},{"$f":"'[1]HOJA GENERAL DATOS IMPORTADOS'!H376","v":0},{"$f":"'[1]HOJA GENERAL DATOS IMPORTADOS'!I376","v":0},{"$f":"'[1]HOJA GENERAL DATOS IMPORTADOS'!J376","v":0},{"$f":"'[1]HOJA GENERAL DATOS IMPORTADOS'!K376","v":0},{"$f":"'[1]HOJA GENERAL DATOS IMPORTADOS'!L376","v":0},{"$f":"'[1]HOJA GENERAL DATOS IMPORTADOS'!M376","v":0},{"$f":"'[1]HOJA GENERAL DATOS IMPORTADOS'!N376","v":0},{"$f":"'[1]HOJA GENERAL DATOS IMPORTADOS'!O376","v":0},{"$f":"'[1]HOJA GENERAL DATOS IMPORTADOS'!P376","v":0},{"$f":"'[1]HOJA GENERAL DATOS IMPORTADOS'!Q376","v":0},{"$f":"'[1]HOJA GENERAL DATOS IMPORTADOS'!R376","v":0},{"$f":"'[1]HOJA GENERAL DATOS IMPORTADOS'!S376","v":0},{"$f":"'[1]HOJA GENERAL DATOS IMPORTADOS'!T376","v":0},{"$f":"'[1]HOJA GENERAL DATOS IMPORTADOS'!U376","v":0},{"$f":"'[1]HOJA GENERAL DATOS IMPORTADOS'!V376","v":0},{"$f":"'[1]HOJA GENERAL DATOS IMPORTADOS'!W376","v":0},{"$f":"'[1]HOJA GENERAL DATOS IMPORTADOS'!X376","v":0},{"$f":"'[1]HOJA GENERAL DATOS IMPORTADOS'!Y376","v":0},{"$f":"'[1]HOJA GENERAL DATOS IMPORTADOS'!Z376","v":0},{"$f":"'[1]HOJA GENERAL DATOS IMPORTADOS'!AA376","v":0},{"$f":"'[1]HOJA GENERAL DATOS IMPORTADOS'!AB376","v":0},{"$f":"'[1]HOJA GENERAL DATOS IMPORTADOS'!AC376","v":0},{"$f":"'[1]HOJA GENERAL DATOS IMPORTADOS'!AD376","v":0},{"$f":"'[1]HOJA GENERAL DATOS IMPORTADOS'!AE376","v":0},{"$f":"'[1]HOJA GENERAL DATOS IMPORTADOS'!AF376","v":0},{"$f":"'[1]HOJA GENERAL DATOS IMPORTADOS'!AG376","v":0},{"$f":"'[1]HOJA GENERAL DATOS IMPORTADOS'!AH376","v":0},{"$f":"'[1]HOJA GENERAL DATOS IMPORTADOS'!AI376","v":0}]
[{"$f":"'[1]HOJA GENERAL DATOS IMPORTADOS'!A377","v":0},{"$f":"'[1]HOJA GENERAL DATOS IMPORTADOS'!B377","v":0},{"$f":"'[1]HOJA GENERAL DATOS IMPORTADOS'!C377","v":0},{"$f":"'[1]HOJA GENERAL DATOS IMPORTADOS'!D377","v":0},{"$f":"'[1]HOJA GENERAL DATOS IMPORTADOS'!E377","v":0},{"$f":"'[1]HOJA GENERAL DATOS IMPORTADOS'!F377","v":0},{"$f":"'[1]HOJA GENERAL DATOS IMPORTADOS'!G377","v":0},{"$f":"'[1]HOJA GENERAL DATOS IMPORTADOS'!H377","v":0},{"$f":"'[1]HOJA GENERAL DATOS IMPORTADOS'!I377","v":0},{"$f":"'[1]HOJA GENERAL DATOS IMPORTADOS'!J377","v":0},{"$f":"'[1]HOJA GENERAL DATOS IMPORTADOS'!K377","v":0},{"$f":"'[1]HOJA GENERAL DATOS IMPORTADOS'!L377","v":0},{"$f":"'[1]HOJA GENERAL DATOS IMPORTADOS'!M377","v":0},{"$f":"'[1]HOJA GENERAL DATOS IMPORTADOS'!N377","v":0},{"$f":"'[1]HOJA GENERAL DATOS IMPORTADOS'!O377","v":0},{"$f":"'[1]HOJA GENERAL DATOS IMPORTADOS'!P377","v":0},{"$f":"'[1]HOJA GENERAL DATOS IMPORTADOS'!Q377","v":0},{"$f":"'[1]HOJA GENERAL DATOS IMPORTADOS'!R377","v":0},{"$f":"'[1]HOJA GENERAL DATOS IMPORTADOS'!S377","v":0},{"$f":"'[1]HOJA GENERAL DATOS IMPORTADOS'!T377","v":0},{"$f":"'[1]HOJA GENERAL DATOS IMPORTADOS'!U377","v":0},{"$f":"'[1]HOJA GENERAL DATOS IMPORTADOS'!V377","v":0},{"$f":"'[1]HOJA GENERAL DATOS IMPORTADOS'!W377","v":0},{"$f":"'[1]HOJA GENERAL DATOS IMPORTADOS'!X377","v":0},{"$f":"'[1]HOJA GENERAL DATOS IMPORTADOS'!Y377","v":0},{"$f":"'[1]HOJA GENERAL DATOS IMPORTADOS'!Z377","v":0},{"$f":"'[1]HOJA GENERAL DATOS IMPORTADOS'!AA377","v":0},{"$f":"'[1]HOJA GENERAL DATOS IMPORTADOS'!AB377","v":0},{"$f":"'[1]HOJA GENERAL DATOS IMPORTADOS'!AC377","v":0},{"$f":"'[1]HOJA GENERAL DATOS IMPORTADOS'!AD377","v":0},{"$f":"'[1]HOJA GENERAL DATOS IMPORTADOS'!AE377","v":0},{"$f":"'[1]HOJA GENERAL DATOS IMPORTADOS'!AF377","v":0},{"$f":"'[1]HOJA GENERAL DATOS IMPORTADOS'!AG377","v":0},{"$f":"'[1]HOJA GENERAL DATOS IMPORTADOS'!AH377","v":0},{"$f":"'[1]HOJA GENERAL DATOS IMPORTADOS'!AI377","v":0}]
[{"$f":"'[1]HOJA GENERAL DATOS IMPORTADOS'!A378","v":0},{"$f":"'[1]HOJA GENERAL DATOS IMPORTADOS'!B378","v":0},{"$f":"'[1]HOJA GENERAL DATOS IMPORTADOS'!C378","v":0},{"$f":"'[1]HOJA GENERAL DATOS IMPORTADOS'!D378","v":0},{"$f":"'[1]HOJA GENERAL DATOS IMPORTADOS'!E378","v":0},{"$f":"'[1]HOJA GENERAL DATOS IMPORTADOS'!F378","v":0},{"$f":"'[1]HOJA GENERAL DATOS IMPORTADOS'!G378","v":0},{"$f":"'[1]HOJA GENERAL DATOS IMPORTADOS'!H378","v":0},{"$f":"'[1]HOJA GENERAL DATOS IMPORTADOS'!I378","v":0},{"$f":"'[1]HOJA GENERAL DATOS IMPORTADOS'!J378","v":0},{"$f":"'[1]HOJA GENERAL DATOS IMPORTADOS'!K378","v":0},{"$f":"'[1]HOJA GENERAL DATOS IMPORTADOS'!L378","v":0},{"$f":"'[1]HOJA GENERAL DATOS IMPORTADOS'!M378","v":0},{"$f":"'[1]HOJA GENERAL DATOS IMPORTADOS'!N378","v":0},{"$f":"'[1]HOJA GENERAL DATOS IMPORTADOS'!O378","v":0},{"$f":"'[1]HOJA GENERAL DATOS IMPORTADOS'!P378","v":0},{"$f":"'[1]HOJA GENERAL DATOS IMPORTADOS'!Q378","v":0},{"$f":"'[1]HOJA GENERAL DATOS IMPORTADOS'!R378","v":0},{"$f":"'[1]HOJA GENERAL DATOS IMPORTADOS'!S378","v":0},{"$f":"'[1]HOJA GENERAL DATOS IMPORTADOS'!T378","v":0},{"$f":"'[1]HOJA GENERAL DATOS IMPORTADOS'!U378","v":0},{"$f":"'[1]HOJA GENERAL DATOS IMPORTADOS'!V378","v":0},{"$f":"'[1]HOJA GENERAL DATOS IMPORTADOS'!W378","v":0},{"$f":"'[1]HOJA GENERAL DATOS IMPORTADOS'!X378","v":0},{"$f":"'[1]HOJA GENERAL DATOS IMPORTADOS'!Y378","v":0},{"$f":"'[1]HOJA GENERAL DATOS IMPORTADOS'!Z378","v":0},{"$f":"'[1]HOJA GENERAL DATOS IMPORTADOS'!AA378","v":0},{"$f":"'[1]HOJA GENERAL DATOS IMPORTADOS'!AB378","v":0},{"$f":"'[1]HOJA GENERAL DATOS IMPORTADOS'!AC378","v":0},{"$f":"'[1]HOJA GENERAL DATOS IMPORTADOS'!AD378","v":0},{"$f":"'[1]HOJA GENERAL DATOS IMPORTADOS'!AE378","v":0},{"$f":"'[1]HOJA GENERAL DATOS IMPORTADOS'!AF378","v":0},{"$f":"'[1]HOJA GENERAL DATOS IMPORTADOS'!AG378","v":0},{"$f":"'[1]HOJA GENERAL DATOS IMPORTADOS'!AH378","v":0},{"$f":"'[1]HOJA GENERAL DATOS IMPORTADOS'!AI378","v":0}]
[{"$f":"'[1]HOJA GENERAL DATOS IMPORTADOS'!A379","v":0},{"$f":"'[1]HOJA GENERAL DATOS IMPORTADOS'!B379","v":0},{"$f":"'[1]HOJA GENERAL DATOS IMPORTADOS'!C379","v":0},{"$f":"'[1]HOJA GENERAL DATOS IMPORTADOS'!D379","v":0},{"$f":"'[1]HOJA GENERAL DATOS IMPORTADOS'!E379","v":0},{"$f":"'[1]HOJA GENERAL DATOS IMPORTADOS'!F379","v":0},{"$f":"'[1]HOJA GENERAL DATOS IMPORTADOS'!G379","v":0},{"$f":"'[1]HOJA GENERAL DATOS IMPORTADOS'!H379","v":0},{"$f":"'[1]HOJA GENERAL DATOS IMPORTADOS'!I379","v":0},{"$f":"'[1]HOJA GENERAL DATOS IMPORTADOS'!J379","v":0},{"$f":"'[1]HOJA GENERAL DATOS IMPORTADOS'!K379","v":0},{"$f":"'[1]HOJA GENERAL DATOS IMPORTADOS'!L379","v":0},{"$f":"'[1]HOJA GENERAL DATOS IMPORTADOS'!M379","v":0},{"$f":"'[1]HOJA GENERAL DATOS IMPORTADOS'!N379","v":0},{"$f":"'[1]HOJA GENERAL DATOS IMPORTADOS'!O379","v":0},{"$f":"'[1]HOJA GENERAL DATOS IMPORTADOS'!P379","v":0},{"$f":"'[1]HOJA GENERAL DATOS IMPORTADOS'!Q379","v":0},{"$f":"'[1]HOJA GENERAL DATOS IMPORTADOS'!R379","v":0},{"$f":"'[1]HOJA GENERAL DATOS IMPORTADOS'!S379","v":0},{"$f":"'[1]HOJA GENERAL DATOS IMPORTADOS'!T379","v":0},{"$f":"'[1]HOJA GENERAL DATOS IMPORTADOS'!U379","v":0},{"$f":"'[1]HOJA GENERAL DATOS IMPORTADOS'!V379","v":0},{"$f":"'[1]HOJA GENERAL DATOS IMPORTADOS'!W379","v":0},{"$f":"'[1]HOJA GENERAL DATOS IMPORTADOS'!X379","v":0},{"$f":"'[1]HOJA GENERAL DATOS IMPORTADOS'!Y379","v":0},{"$f":"'[1]HOJA GENERAL DATOS IMPORTADOS'!Z379","v":0},{"$f":"'[1]HOJA GENERAL DATOS IMPORTADOS'!AA379","v":0},{"$f":"'[1]HOJA GENERAL DATOS IMPORTADOS'!AB379","v":0},{"$f":"'[1]HOJA GENERAL DATOS IMPORTADOS'!AC379","v":0},{"$f":"'[1]HOJA GENERAL DATOS IMPORTADOS'!AD379","v":0},{"$f":"'[1]HOJA GENERAL DATOS IMPORTADOS'!AE379","v":0},{"$f":"'[1]HOJA GENERAL DATOS IMPORTADOS'!AF379","v":0},{"$f":"'[1]HOJA GENERAL DATOS IMPORTADOS'!AG379","v":0},{"$f":"'[1]HOJA GENERAL DATOS IMPORTADOS'!AH379","v":0},{"$f":"'[1]HOJA GENERAL DATOS IMPORTADOS'!AI379","v":0}]
[{"$f":"'[1]HOJA GENERAL DATOS IMPORTADOS'!A380","v":0},{"$f":"'[1]HOJA GENERAL DATOS IMPORTADOS'!B380","v":0},{"$f":"'[1]HOJA GENERAL DATOS IMPORTADOS'!C380","v":0},{"$f":"'[1]HOJA GENERAL DATOS IMPORTADOS'!D380","v":0},{"$f":"'[1]HOJA GENERAL DATOS IMPORTADOS'!E380","v":0},{"$f":"'[1]HOJA GENERAL DATOS IMPORTADOS'!F380","v":0},{"$f":"'[1]HOJA GENERAL DATOS IMPORTADOS'!G380","v":0},{"$f":"'[1]HOJA GENERAL DATOS IMPORTADOS'!H380","v":0},{"$f":"'[1]HOJA GENERAL DATOS IMPORTADOS'!I380","v":0},{"$f":"'[1]HOJA GENERAL DATOS IMPORTADOS'!J380","v":0},{"$f":"'[1]HOJA GENERAL DATOS IMPORTADOS'!K380","v":0},{"$f":"'[1]HOJA GENERAL DATOS IMPORTADOS'!L380","v":0},{"$f":"'[1]HOJA GENERAL DATOS IMPORTADOS'!M380","v":0},{"$f":"'[1]HOJA GENERAL DATOS IMPORTADOS'!N380","v":0},{"$f":"'[1]HOJA GENERAL DATOS IMPORTADOS'!O380","v":0},{"$f":"'[1]HOJA GENERAL DATOS IMPORTADOS'!P380","v":0},{"$f":"'[1]HOJA GENERAL DATOS IMPORTADOS'!Q380","v":0},{"$f":"'[1]HOJA GENERAL DATOS IMPORTADOS'!R380","v":0},{"$f":"'[1]HOJA GENERAL DATOS IMPORTADOS'!S380","v":0},{"$f":"'[1]HOJA GENERAL DATOS IMPORTADOS'!T380","v":0},{"$f":"'[1]HOJA GENERAL DATOS IMPORTADOS'!U380","v":0},{"$f":"'[1]HOJA GENERAL DATOS IMPORTADOS'!V380","v":0},{"$f":"'[1]HOJA GENERAL DATOS IMPORTADOS'!W380","v":0},{"$f":"'[1]HOJA GENERAL DATOS IMPORTADOS'!X380","v":0},{"$f":"'[1]HOJA GENERAL DATOS IMPORTADOS'!Y380","v":0},{"$f":"'[1]HOJA GENERAL DATOS IMPORTADOS'!Z380","v":0},{"$f":"'[1]HOJA GENERAL DATOS IMPORTADOS'!AA380","v":0},{"$f":"'[1]HOJA GENERAL DATOS IMPORTADOS'!AB380","v":0},{"$f":"'[1]HOJA GENERAL DATOS IMPORTADOS'!AC380","v":0},{"$f":"'[1]HOJA GENERAL DATOS IMPORTADOS'!AD380","v":0},{"$f":"'[1]HOJA GENERAL DATOS IMPORTADOS'!AE380","v":0},{"$f":"'[1]HOJA GENERAL DATOS IMPORTADOS'!AF380","v":0},{"$f":"'[1]HOJA GENERAL DATOS IMPORTADOS'!AG380","v":0},{"$f":"'[1]HOJA GENERAL DATOS IMPORTADOS'!AH380","v":0},{"$f":"'[1]HOJA GENERAL DATOS IMPORTADOS'!AI380","v":0}]
[{"$f":"'[1]HOJA GENERAL DATOS IMPORTADOS'!A381","v":0},{"$f":"'[1]HOJA GENERAL DATOS IMPORTADOS'!B381","v":0},{"$f":"'[1]HOJA GENERAL DATOS IMPORTADOS'!C381","v":0},{"$f":"'[1]HOJA GENERAL DATOS IMPORTADOS'!D381","v":0},{"$f":"'[1]HOJA GENERAL DATOS IMPORTADOS'!E381","v":0},{"$f":"'[1]HOJA GENERAL DATOS IMPORTADOS'!F381","v":0},{"$f":"'[1]HOJA GENERAL DATOS IMPORTADOS'!G381","v":0},{"$f":"'[1]HOJA GENERAL DATOS IMPORTADOS'!H381","v":0},{"$f":"'[1]HOJA GENERAL DATOS IMPORTADOS'!I381","v":0},{"$f":"'[1]HOJA GENERAL DATOS IMPORTADOS'!J381","v":0},{"$f":"'[1]HOJA GENERAL DATOS IMPORTADOS'!K381","v":0},{"$f":"'[1]HOJA GENERAL DATOS IMPORTADOS'!L381","v":0},{"$f":"'[1]HOJA GENERAL DATOS IMPORTADOS'!M381","v":0},{"$f":"'[1]HOJA GENERAL DATOS IMPORTADOS'!N381","v":0},{"$f":"'[1]HOJA GENERAL DATOS IMPORTADOS'!O381","v":0},{"$f":"'[1]HOJA GENERAL DATOS IMPORTADOS'!P381","v":0},{"$f":"'[1]HOJA GENERAL DATOS IMPORTADOS'!Q381","v":0},{"$f":"'[1]HOJA GENERAL DATOS IMPORTADOS'!R381","v":0},{"$f":"'[1]HOJA GENERAL DATOS IMPORTADOS'!S381","v":0},{"$f":"'[1]HOJA GENERAL DATOS IMPORTADOS'!T381","v":0},{"$f":"'[1]HOJA GENERAL DATOS IMPORTADOS'!U381","v":0},{"$f":"'[1]HOJA GENERAL DATOS IMPORTADOS'!V381","v":0},{"$f":"'[1]HOJA GENERAL DATOS IMPORTADOS'!W381","v":0},{"$f":"'[1]HOJA GENERAL DATOS IMPORTADOS'!X381","v":0},{"$f":"'[1]HOJA GENERAL DATOS IMPORTADOS'!Y381","v":0},{"$f":"'[1]HOJA GENERAL DATOS IMPORTADOS'!Z381","v":0},{"$f":"'[1]HOJA GENERAL DATOS IMPORTADOS'!AA381","v":0},{"$f":"'[1]HOJA GENERAL DATOS IMPORTADOS'!AB381","v":0},{"$f":"'[1]HOJA GENERAL DATOS IMPORTADOS'!AC381","v":0},{"$f":"'[1]HOJA GENERAL DATOS IMPORTADOS'!AD381","v":0},{"$f":"'[1]HOJA GENERAL DATOS IMPORTADOS'!AE381","v":0},{"$f":"'[1]HOJA GENERAL DATOS IMPORTADOS'!AF381","v":0},{"$f":"'[1]HOJA GENERAL DATOS IMPORTADOS'!AG381","v":0},{"$f":"'[1]HOJA GENERAL DATOS IMPORTADOS'!AH381","v":0},{"$f":"'[1]HOJA GENERAL DATOS IMPORTADOS'!AI381","v":0}]
[{"$f":"'[1]HOJA GENERAL DATOS IMPORTADOS'!A382","v":0},{"$f":"'[1]HOJA GENERAL DATOS IMPORTADOS'!B382","v":0},{"$f":"'[1]HOJA GENERAL DATOS IMPORTADOS'!C382","v":0},{"$f":"'[1]HOJA GENERAL DATOS IMPORTADOS'!D382","v":0},{"$f":"'[1]HOJA GENERAL DATOS IMPORTADOS'!E382","v":0},{"$f":"'[1]HOJA GENERAL DATOS IMPORTADOS'!F382","v":0},{"$f":"'[1]HOJA GENERAL DATOS IMPORTADOS'!G382","v":0},{"$f":"'[1]HOJA GENERAL DATOS IMPORTADOS'!H382","v":0},{"$f":"'[1]HOJA GENERAL DATOS IMPORTADOS'!I382","v":0},{"$f":"'[1]HOJA GENERAL DATOS IMPORTADOS'!J382","v":0},{"$f":"'[1]HOJA GENERAL DATOS IMPORTADOS'!K382","v":0},{"$f":"'[1]HOJA GENERAL DATOS IMPORTADOS'!L382","v":0},{"$f":"'[1]HOJA GENERAL DATOS IMPORTADOS'!M382","v":0},{"$f":"'[1]HOJA GENERAL DATOS IMPORTADOS'!N382","v":0},{"$f":"'[1]HOJA GENERAL DATOS IMPORTADOS'!O382","v":0},{"$f":"'[1]HOJA GENERAL DATOS IMPORTADOS'!P382","v":0},{"$f":"'[1]HOJA GENERAL DATOS IMPORTADOS'!Q382","v":0},{"$f":"'[1]HOJA GENERAL DATOS IMPORTADOS'!R382","v":0},{"$f":"'[1]HOJA GENERAL DATOS IMPORTADOS'!S382","v":0},{"$f":"'[1]HOJA GENERAL DATOS IMPORTADOS'!T382","v":0},{"$f":"'[1]HOJA GENERAL DATOS IMPORTADOS'!U382","v":0},{"$f":"'[1]HOJA GENERAL DATOS IMPORTADOS'!V382","v":0},{"$f":"'[1]HOJA GENERAL DATOS IMPORTADOS'!W382","v":0},{"$f":"'[1]HOJA GENERAL DATOS IMPORTADOS'!X382","v":0},{"$f":"'[1]HOJA GENERAL DATOS IMPORTADOS'!Y382","v":0},{"$f":"'[1]HOJA GENERAL DATOS IMPORTADOS'!Z382","v":0},{"$f":"'[1]HOJA GENERAL DATOS IMPORTADOS'!AA382","v":0},{"$f":"'[1]HOJA GENERAL DATOS IMPORTADOS'!AB382","v":0},{"$f":"'[1]HOJA GENERAL DATOS IMPORTADOS'!AC382","v":0},{"$f":"'[1]HOJA GENERAL DATOS IMPORTADOS'!AD382","v":0},{"$f":"'[1]HOJA GENERAL DATOS IMPORTADOS'!AE382","v":0},{"$f":"'[1]HOJA GENERAL DATOS IMPORTADOS'!AF382","v":0},{"$f":"'[1]HOJA GENERAL DATOS IMPORTADOS'!AG382","v":0},{"$f":"'[1]HOJA GENERAL DATOS IMPORTADOS'!AH382","v":0},{"$f":"'[1]HOJA GENERAL DATOS IMPORTADOS'!AI382","v":0}]
[{"$f":"'[1]HOJA GENERAL DATOS IMPORTADOS'!A383","v":0},{"$f":"'[1]HOJA GENERAL DATOS IMPORTADOS'!B383","v":0},{"$f":"'[1]HOJA GENERAL DATOS IMPORTADOS'!C383","v":0},{"$f":"'[1]HOJA GENERAL DATOS IMPORTADOS'!D383","v":0},{"$f":"'[1]HOJA GENERAL DATOS IMPORTADOS'!E383","v":0},{"$f":"'[1]HOJA GENERAL DATOS IMPORTADOS'!F383","v":0},{"$f":"'[1]HOJA GENERAL DATOS IMPORTADOS'!G383","v":0},{"$f":"'[1]HOJA GENERAL DATOS IMPORTADOS'!H383","v":0},{"$f":"'[1]HOJA GENERAL DATOS IMPORTADOS'!I383","v":0},{"$f":"'[1]HOJA GENERAL DATOS IMPORTADOS'!J383","v":0},{"$f":"'[1]HOJA GENERAL DATOS IMPORTADOS'!K383","v":0},{"$f":"'[1]HOJA GENERAL DATOS IMPORTADOS'!L383","v":0},{"$f":"'[1]HOJA GENERAL DATOS IMPORTADOS'!M383","v":0},{"$f":"'[1]HOJA GENERAL DATOS IMPORTADOS'!N383","v":0},{"$f":"'[1]HOJA GENERAL DATOS IMPORTADOS'!O383","v":0},{"$f":"'[1]HOJA GENERAL DATOS IMPORTADOS'!P383","v":0},{"$f":"'[1]HOJA GENERAL DATOS IMPORTADOS'!Q383","v":0},{"$f":"'[1]HOJA GENERAL DATOS IMPORTADOS'!R383","v":0},{"$f":"'[1]HOJA GENERAL DATOS IMPORTADOS'!S383","v":0},{"$f":"'[1]HOJA GENERAL DATOS IMPORTADOS'!T383","v":0},{"$f":"'[1]HOJA GENERAL DATOS IMPORTADOS'!U383","v":0},{"$f":"'[1]HOJA GENERAL DATOS IMPORTADOS'!V383","v":0},{"$f":"'[1]HOJA GENERAL DATOS IMPORTADOS'!W383","v":0},{"$f":"'[1]HOJA GENERAL DATOS IMPORTADOS'!X383","v":0},{"$f":"'[1]HOJA GENERAL DATOS IMPORTADOS'!Y383","v":0},{"$f":"'[1]HOJA GENERAL DATOS IMPORTADOS'!Z383","v":0},{"$f":"'[1]HOJA GENERAL DATOS IMPORTADOS'!AA383","v":0},{"$f":"'[1]HOJA GENERAL DATOS IMPORTADOS'!AB383","v":0},{"$f":"'[1]HOJA GENERAL DATOS IMPORTADOS'!AC383","v":0},{"$f":"'[1]HOJA GENERAL DATOS IMPORTADOS'!AD383","v":0},{"$f":"'[1]HOJA GENERAL DATOS IMPORTADOS'!AE383","v":0},{"$f":"'[1]HOJA GENERAL DATOS IMPORTADOS'!AF383","v":0},{"$f":"'[1]HOJA GENERAL DATOS IMPORTADOS'!AG383","v":0},{"$f":"'[1]HOJA GENERAL DATOS IMPORTADOS'!AH383","v":0},{"$f":"'[1]HOJA GENERAL DATOS IMPORTADOS'!AI383","v":0}]
[{"$f":"'[1]HOJA GENERAL DATOS IMPORTADOS'!A384","v":0},{"$f":"'[1]HOJA GENERAL DATOS IMPORTADOS'!B384","v":0},{"$f":"'[1]HOJA GENERAL DATOS IMPORTADOS'!C384","v":0},{"$f":"'[1]HOJA GENERAL DATOS IMPORTADOS'!D384","v":0},{"$f":"'[1]HOJA GENERAL DATOS IMPORTADOS'!E384","v":0},{"$f":"'[1]HOJA GENERAL DATOS IMPORTADOS'!F384","v":0},{"$f":"'[1]HOJA GENERAL DATOS IMPORTADOS'!G384","v":0},{"$f":"'[1]HOJA GENERAL DATOS IMPORTADOS'!H384","v":0},{"$f":"'[1]HOJA GENERAL DATOS IMPORTADOS'!I384","v":0},{"$f":"'[1]HOJA GENERAL DATOS IMPORTADOS'!J384","v":0},{"$f":"'[1]HOJA GENERAL DATOS IMPORTADOS'!K384","v":0},{"$f":"'[1]HOJA GENERAL DATOS IMPORTADOS'!L384","v":0},{"$f":"'[1]HOJA GENERAL DATOS IMPORTADOS'!M384","v":0},{"$f":"'[1]HOJA GENERAL DATOS IMPORTADOS'!N384","v":0},{"$f":"'[1]HOJA GENERAL DATOS IMPORTADOS'!O384","v":0},{"$f":"'[1]HOJA GENERAL DATOS IMPORTADOS'!P384","v":0},{"$f":"'[1]HOJA GENERAL DATOS IMPORTADOS'!Q384","v":0},{"$f":"'[1]HOJA GENERAL DATOS IMPORTADOS'!R384","v":0},{"$f":"'[1]HOJA GENERAL DATOS IMPORTADOS'!S384","v":0},{"$f":"'[1]HOJA GENERAL DATOS IMPORTADOS'!T384","v":0},{"$f":"'[1]HOJA GENERAL DATOS IMPORTADOS'!U384","v":0},{"$f":"'[1]HOJA GENERAL DATOS IMPORTADOS'!V384","v":0},{"$f":"'[1]HOJA GENERAL DATOS IMPORTADOS'!W384","v":0},{"$f":"'[1]HOJA GENERAL DATOS IMPORTADOS'!X384","v":0},{"$f":"'[1]HOJA GENERAL DATOS IMPORTADOS'!Y384","v":0},{"$f":"'[1]HOJA GENERAL DATOS IMPORTADOS'!Z384","v":0},{"$f":"'[1]HOJA GENERAL DATOS IMPORTADOS'!AA384","v":0},{"$f":"'[1]HOJA GENERAL DATOS IMPORTADOS'!AB384","v":0},{"$f":"'[1]HOJA GENERAL DATOS IMPORTADOS'!AC384","v":0},{"$f":"'[1]HOJA GENERAL DATOS IMPORTADOS'!AD384","v":0},{"$f":"'[1]HOJA GENERAL DATOS IMPORTADOS'!AE384","v":0},{"$f":"'[1]HOJA GENERAL DATOS IMPORTADOS'!AF384","v":0},{"$f":"'[1]HOJA GENERAL DATOS IMPORTADOS'!AG384","v":0},{"$f":"'[1]HOJA GENERAL DATOS IMPORTADOS'!AH384","v":0},{"$f":"'[1]HOJA GENERAL DATOS IMPORTADOS'!AI384","v":0}]
[{"$f":"'[1]HOJA GENERAL DATOS IMPORTADOS'!A385","v":0},{"$f":"'[1]HOJA GENERAL DATOS IMPORTADOS'!B385","v":0},{"$f":"'[1]HOJA GENERAL DATOS IMPORTADOS'!C385","v":0},{"$f":"'[1]HOJA GENERAL DATOS IMPORTADOS'!D385","v":0},{"$f":"'[1]HOJA GENERAL DATOS IMPORTADOS'!E385","v":0},{"$f":"'[1]HOJA GENERAL DATOS IMPORTADOS'!F385","v":0},{"$f":"'[1]HOJA GENERAL DATOS IMPORTADOS'!G385","v":0},{"$f":"'[1]HOJA GENERAL DATOS IMPORTADOS'!H385","v":0},{"$f":"'[1]HOJA GENERAL DATOS IMPORTADOS'!I385","v":0},{"$f":"'[1]HOJA GENERAL DATOS IMPORTADOS'!J385","v":0},{"$f":"'[1]HOJA GENERAL DATOS IMPORTADOS'!K385","v":0},{"$f":"'[1]HOJA GENERAL DATOS IMPORTADOS'!L385","v":0},{"$f":"'[1]HOJA GENERAL DATOS IMPORTADOS'!M385","v":0},{"$f":"'[1]HOJA GENERAL DATOS IMPORTADOS'!N385","v":0},{"$f":"'[1]HOJA GENERAL DATOS IMPORTADOS'!O385","v":0},{"$f":"'[1]HOJA GENERAL DATOS IMPORTADOS'!P385","v":0},{"$f":"'[1]HOJA GENERAL DATOS IMPORTADOS'!Q385","v":0},{"$f":"'[1]HOJA GENERAL DATOS IMPORTADOS'!R385","v":0},{"$f":"'[1]HOJA GENERAL DATOS IMPORTADOS'!S385","v":0},{"$f":"'[1]HOJA GENERAL DATOS IMPORTADOS'!T385","v":0},{"$f":"'[1]HOJA GENERAL DATOS IMPORTADOS'!U385","v":0},{"$f":"'[1]HOJA GENERAL DATOS IMPORTADOS'!V385","v":0},{"$f":"'[1]HOJA GENERAL DATOS IMPORTADOS'!W385","v":0},{"$f":"'[1]HOJA GENERAL DATOS IMPORTADOS'!X385","v":0},{"$f":"'[1]HOJA GENERAL DATOS IMPORTADOS'!Y385","v":0},{"$f":"'[1]HOJA GENERAL DATOS IMPORTADOS'!Z385","v":0},{"$f":"'[1]HOJA GENERAL DATOS IMPORTADOS'!AA385","v":0},{"$f":"'[1]HOJA GENERAL DATOS IMPORTADOS'!AB385","v":0},{"$f":"'[1]HOJA GENERAL DATOS IMPORTADOS'!AC385","v":0},{"$f":"'[1]HOJA GENERAL DATOS IMPORTADOS'!AD385","v":0},{"$f":"'[1]HOJA GENERAL DATOS IMPORTADOS'!AE385","v":0},{"$f":"'[1]HOJA GENERAL DATOS IMPORTADOS'!AF385","v":0},{"$f":"'[1]HOJA GENERAL DATOS IMPORTADOS'!AG385","v":0},{"$f":"'[1]HOJA GENERAL DATOS IMPORTADOS'!AH385","v":0},{"$f":"'[1]HOJA GENERAL DATOS IMPORTADOS'!AI385","v":0}]
[{"$f":"'[1]HOJA GENERAL DATOS IMPORTADOS'!A386","v":0},{"$f":"'[1]HOJA GENERAL DATOS IMPORTADOS'!B386","v":0},{"$f":"'[1]HOJA GENERAL DATOS IMPORTADOS'!C386","v":0},{"$f":"'[1]HOJA GENERAL DATOS IMPORTADOS'!D386","v":0},{"$f":"'[1]HOJA GENERAL DATOS IMPORTADOS'!E386","v":0},{"$f":"'[1]HOJA GENERAL DATOS IMPORTADOS'!F386","v":0},{"$f":"'[1]HOJA GENERAL DATOS IMPORTADOS'!G386","v":0},{"$f":"'[1]HOJA GENERAL DATOS IMPORTADOS'!H386","v":0},{"$f":"'[1]HOJA GENERAL DATOS IMPORTADOS'!I386","v":0},{"$f":"'[1]HOJA GENERAL DATOS IMPORTADOS'!J386","v":0},{"$f":"'[1]HOJA GENERAL DATOS IMPORTADOS'!K386","v":0},{"$f":"'[1]HOJA GENERAL DATOS IMPORTADOS'!L386","v":0},{"$f":"'[1]HOJA GENERAL DATOS IMPORTADOS'!M386","v":0},{"$f":"'[1]HOJA GENERAL DATOS IMPORTADOS'!N386","v":0},{"$f":"'[1]HOJA GENERAL DATOS IMPORTADOS'!O386","v":0},{"$f":"'[1]HOJA GENERAL DATOS IMPORTADOS'!P386","v":0},{"$f":"'[1]HOJA GENERAL DATOS IMPORTADOS'!Q386","v":0},{"$f":"'[1]HOJA GENERAL DATOS IMPORTADOS'!R386","v":0},{"$f":"'[1]HOJA GENERAL DATOS IMPORTADOS'!S386","v":0},{"$f":"'[1]HOJA GENERAL DATOS IMPORTADOS'!T386","v":0},{"$f":"'[1]HOJA GENERAL DATOS IMPORTADOS'!U386","v":0},{"$f":"'[1]HOJA GENERAL DATOS IMPORTADOS'!V386","v":0},{"$f":"'[1]HOJA GENERAL DATOS IMPORTADOS'!W386","v":0},{"$f":"'[1]HOJA GENERAL DATOS IMPORTADOS'!X386","v":0},{"$f":"'[1]HOJA GENERAL DATOS IMPORTADOS'!Y386","v":0},{"$f":"'[1]HOJA GENERAL DATOS IMPORTADOS'!Z386","v":0},{"$f":"'[1]HOJA GENERAL DATOS IMPORTADOS'!AA386","v":0},{"$f":"'[1]HOJA GENERAL DATOS IMPORTADOS'!AB386","v":0},{"$f":"'[1]HOJA GENERAL DATOS IMPORTADOS'!AC386","v":0},{"$f":"'[1]HOJA GENERAL DATOS IMPORTADOS'!AD386","v":0},{"$f":"'[1]HOJA GENERAL DATOS IMPORTADOS'!AE386","v":0},{"$f":"'[1]HOJA GENERAL DATOS IMPORTADOS'!AF386","v":0},{"$f":"'[1]HOJA GENERAL DATOS IMPORTADOS'!AG386","v":0},{"$f":"'[1]HOJA GENERAL DATOS IMPORTADOS'!AH386","v":0},{"$f":"'[1]HOJA GENERAL DATOS IMPORTADOS'!AI386","v":0}]
[{"$f":"'[1]HOJA GENERAL DATOS IMPORTADOS'!A387","v":0},{"$f":"'[1]HOJA GENERAL DATOS IMPORTADOS'!B387","v":0},{"$f":"'[1]HOJA GENERAL DATOS IMPORTADOS'!C387","v":0},{"$f":"'[1]HOJA GENERAL DATOS IMPORTADOS'!D387","v":0},{"$f":"'[1]HOJA GENERAL DATOS IMPORTADOS'!E387","v":0},{"$f":"'[1]HOJA GENERAL DATOS IMPORTADOS'!F387","v":0},{"$f":"'[1]HOJA GENERAL DATOS IMPORTADOS'!G387","v":0},{"$f":"'[1]HOJA GENERAL DATOS IMPORTADOS'!H387","v":0},{"$f":"'[1]HOJA GENERAL DATOS IMPORTADOS'!I387","v":0},{"$f":"'[1]HOJA GENERAL DATOS IMPORTADOS'!J387","v":0},{"$f":"'[1]HOJA GENERAL DATOS IMPORTADOS'!K387","v":0},{"$f":"'[1]HOJA GENERAL DATOS IMPORTADOS'!L387","v":0},{"$f":"'[1]HOJA GENERAL DATOS IMPORTADOS'!M387","v":0},{"$f":"'[1]HOJA GENERAL DATOS IMPORTADOS'!N387","v":0},{"$f":"'[1]HOJA GENERAL DATOS IMPORTADOS'!O387","v":0},{"$f":"'[1]HOJA GENERAL DATOS IMPORTADOS'!P387","v":0},{"$f":"'[1]HOJA GENERAL DATOS IMPORTADOS'!Q387","v":0},{"$f":"'[1]HOJA GENERAL DATOS IMPORTADOS'!R387","v":0},{"$f":"'[1]HOJA GENERAL DATOS IMPORTADOS'!S387","v":0},{"$f":"'[1]HOJA GENERAL DATOS IMPORTADOS'!T387","v":0},{"$f":"'[1]HOJA GENERAL DATOS IMPORTADOS'!U387","v":0},{"$f":"'[1]HOJA GENERAL DATOS IMPORTADOS'!V387","v":0},{"$f":"'[1]HOJA GENERAL DATOS IMPORTADOS'!W387","v":0},{"$f":"'[1]HOJA GENERAL DATOS IMPORTADOS'!X387","v":0},{"$f":"'[1]HOJA GENERAL DATOS IMPORTADOS'!Y387","v":0},{"$f":"'[1]HOJA GENERAL DATOS IMPORTADOS'!Z387","v":0},{"$f":"'[1]HOJA GENERAL DATOS IMPORTADOS'!AA387","v":0},{"$f":"'[1]HOJA GENERAL DATOS IMPORTADOS'!AB387","v":0},{"$f":"'[1]HOJA GENERAL DATOS IMPORTADOS'!AC387","v":0},{"$f":"'[1]HOJA GENERAL DATOS IMPORTADOS'!AD387","v":0},{"$f":"'[1]HOJA GENERAL DATOS IMPORTADOS'!AE387","v":0},{"$f":"'[1]HOJA GENERAL DATOS IMPORTADOS'!AF387","v":0},{"$f":"'[1]HOJA GENERAL DATOS IMPORTADOS'!AG387","v":0},{"$f":"'[1]HOJA GENERAL DATOS IMPORTADOS'!AH387","v":0},{"$f":"'[1]HOJA GENERAL DATOS IMPORTADOS'!AI387","v":0}]
[{"$f":"'[1]HOJA GENERAL DATOS IMPORTADOS'!A388","v":0},{"$f":"'[1]HOJA GENERAL DATOS IMPORTADOS'!B388","v":0},{"$f":"'[1]HOJA GENERAL DATOS IMPORTADOS'!C388","v":0},{"$f":"'[1]HOJA GENERAL DATOS IMPORTADOS'!D388","v":0},{"$f":"'[1]HOJA GENERAL DATOS IMPORTADOS'!E388","v":0},{"$f":"'[1]HOJA GENERAL DATOS IMPORTADOS'!F388","v":0},{"$f":"'[1]HOJA GENERAL DATOS IMPORTADOS'!G388","v":0},{"$f":"'[1]HOJA GENERAL DATOS IMPORTADOS'!H388","v":0},{"$f":"'[1]HOJA GENERAL DATOS IMPORTADOS'!I388","v":0},{"$f":"'[1]HOJA GENERAL DATOS IMPORTADOS'!J388","v":0},{"$f":"'[1]HOJA GENERAL DATOS IMPORTADOS'!K388","v":0},{"$f":"'[1]HOJA GENERAL DATOS IMPORTADOS'!L388","v":0},{"$f":"'[1]HOJA GENERAL DATOS IMPORTADOS'!M388","v":0},{"$f":"'[1]HOJA GENERAL DATOS IMPORTADOS'!N388","v":0},{"$f":"'[1]HOJA GENERAL DATOS IMPORTADOS'!O388","v":0},{"$f":"'[1]HOJA GENERAL DATOS IMPORTADOS'!P388","v":0},{"$f":"'[1]HOJA GENERAL DATOS IMPORTADOS'!Q388","v":0},{"$f":"'[1]HOJA GENERAL DATOS IMPORTADOS'!R388","v":0},{"$f":"'[1]HOJA GENERAL DATOS IMPORTADOS'!S388","v":0},{"$f":"'[1]HOJA GENERAL DATOS IMPORTADOS'!T388","v":0},{"$f":"'[1]HOJA GENERAL DATOS IMPORTADOS'!U388","v":0},{"$f":"'[1]HOJA GENERAL DATOS IMPORTADOS'!V388","v":0},{"$f":"'[1]HOJA GENERAL DATOS IMPORTADOS'!W388","v":0},{"$f":"'[1]HOJA GENERAL DATOS IMPORTADOS'!X388","v":0},{"$f":"'[1]HOJA GENERAL DATOS IMPORTADOS'!Y388","v":0},{"$f":"'[1]HOJA GENERAL DATOS IMPORTADOS'!Z388","v":0},{"$f":"'[1]HOJA GENERAL DATOS IMPORTADOS'!AA388","v":0},{"$f":"'[1]HOJA GENERAL DATOS IMPORTADOS'!AB388","v":0},{"$f":"'[1]HOJA GENERAL DATOS IMPORTADOS'!AC388","v":0},{"$f":"'[1]HOJA GENERAL DATOS IMPORTADOS'!AD388","v":0},{"$f":"'[1]HOJA GENERAL DATOS IMPORTADOS'!AE388","v":0},{"$f":"'[1]HOJA GENERAL DATOS IMPORTADOS'!AF388","v":0},{"$f":"'[1]HOJA GENERAL DATOS IMPORTADOS'!AG388","v":0},{"$f":"'[1]HOJA GENERAL DATOS IMPORTADOS'!AH388","v":0},{"$f":"'[1]HOJA GENERAL DATOS IMPORTADOS'!AI388","v":0}]
[{"$f":"'[1]HOJA GENERAL DATOS IMPORTADOS'!A389","v":0},{"$f":"'[1]HOJA GENERAL DATOS IMPORTADOS'!B389","v":0},{"$f":"'[1]HOJA GENERAL DATOS IMPORTADOS'!C389","v":0},{"$f":"'[1]HOJA GENERAL DATOS IMPORTADOS'!D389","v":0},{"$f":"'[1]HOJA GENERAL DATOS IMPORTADOS'!E389","v":0},{"$f":"'[1]HOJA GENERAL DATOS IMPORTADOS'!F389","v":0},{"$f":"'[1]HOJA GENERAL DATOS IMPORTADOS'!G389","v":0},{"$f":"'[1]HOJA GENERAL DATOS IMPORTADOS'!H389","v":0},{"$f":"'[1]HOJA GENERAL DATOS IMPORTADOS'!I389","v":0},{"$f":"'[1]HOJA GENERAL DATOS IMPORTADOS'!J389","v":0},{"$f":"'[1]HOJA GENERAL DATOS IMPORTADOS'!K389","v":0},{"$f":"'[1]HOJA GENERAL DATOS IMPORTADOS'!L389","v":0},{"$f":"'[1]HOJA GENERAL DATOS IMPORTADOS'!M389","v":0},{"$f":"'[1]HOJA GENERAL DATOS IMPORTADOS'!N389","v":0},{"$f":"'[1]HOJA GENERAL DATOS IMPORTADOS'!O389","v":0},{"$f":"'[1]HOJA GENERAL DATOS IMPORTADOS'!P389","v":0},{"$f":"'[1]HOJA GENERAL DATOS IMPORTADOS'!Q389","v":0},{"$f":"'[1]HOJA GENERAL DATOS IMPORTADOS'!R389","v":0},{"$f":"'[1]HOJA GENERAL DATOS IMPORTADOS'!S389","v":0},{"$f":"'[1]HOJA GENERAL DATOS IMPORTADOS'!T389","v":0},{"$f":"'[1]HOJA GENERAL DATOS IMPORTADOS'!U389","v":0},{"$f":"'[1]HOJA GENERAL DATOS IMPORTADOS'!V389","v":0},{"$f":"'[1]HOJA GENERAL DATOS IMPORTADOS'!W389","v":0},{"$f":"'[1]HOJA GENERAL DATOS IMPORTADOS'!X389","v":0},{"$f":"'[1]HOJA GENERAL DATOS IMPORTADOS'!Y389","v":0},{"$f":"'[1]HOJA GENERAL DATOS IMPORTADOS'!Z389","v":0},{"$f":"'[1]HOJA GENERAL DATOS IMPORTADOS'!AA389","v":0},{"$f":"'[1]HOJA GENERAL DATOS IMPORTADOS'!AB389","v":0},{"$f":"'[1]HOJA GENERAL DATOS IMPORTADOS'!AC389","v":0},{"$f":"'[1]HOJA GENERAL DATOS IMPORTADOS'!AD389","v":0},{"$f":"'[1]HOJA GENERAL DATOS IMPORTADOS'!AE389","v":0},{"$f":"'[1]HOJA GENERAL DATOS IMPORTADOS'!AF389","v":0},{"$f":"'[1]HOJA GENERAL DATOS IMPORTADOS'!AG389","v":0},{"$f":"'[1]HOJA GENERAL DATOS IMPORTADOS'!AH389","v":0},{"$f":"'[1]HOJA GENERAL DATOS IMPORTADOS'!AI389","v":0}]
[{"$f":"'[1]HOJA GENERAL DATOS IMPORTADOS'!A390","v":0},{"$f":"'[1]HOJA GENERAL DATOS IMPORTADOS'!B390","v":0},{"$f":"'[1]HOJA GENERAL DATOS IMPORTADOS'!C390","v":0},{"$f":"'[1]HOJA GENERAL DATOS IMPORTADOS'!D390","v":0},{"$f":"'[1]HOJA GENERAL DATOS IMPORTADOS'!E390","v":0},{"$f":"'[1]HOJA GENERAL DATOS IMPORTADOS'!F390","v":0},{"$f":"'[1]HOJA GENERAL DATOS IMPORTADOS'!G390","v":0},{"$f":"'[1]HOJA GENERAL DATOS IMPORTADOS'!H390","v":0},{"$f":"'[1]HOJA GENERAL DATOS IMPORTADOS'!I390","v":0},{"$f":"'[1]HOJA GENERAL DATOS IMPORTADOS'!J390","v":0},{"$f":"'[1]HOJA GENERAL DATOS IMPORTADOS'!K390","v":0},{"$f":"'[1]HOJA GENERAL DATOS IMPORTADOS'!L390","v":0},{"$f":"'[1]HOJA GENERAL DATOS IMPORTADOS'!M390","v":0},{"$f":"'[1]HOJA GENERAL DATOS IMPORTADOS'!N390","v":0},{"$f":"'[1]HOJA GENERAL DATOS IMPORTADOS'!O390","v":0},{"$f":"'[1]HOJA GENERAL DATOS IMPORTADOS'!P390","v":0},{"$f":"'[1]HOJA GENERAL DATOS IMPORTADOS'!Q390","v":0},{"$f":"'[1]HOJA GENERAL DATOS IMPORTADOS'!R390","v":0},{"$f":"'[1]HOJA GENERAL DATOS IMPORTADOS'!S390","v":0},{"$f":"'[1]HOJA GENERAL DATOS IMPORTADOS'!T390","v":0},{"$f":"'[1]HOJA GENERAL DATOS IMPORTADOS'!U390","v":0},{"$f":"'[1]HOJA GENERAL DATOS IMPORTADOS'!V390","v":0},{"$f":"'[1]HOJA GENERAL DATOS IMPORTADOS'!W390","v":0},{"$f":"'[1]HOJA GENERAL DATOS IMPORTADOS'!X390","v":0},{"$f":"'[1]HOJA GENERAL DATOS IMPORTADOS'!Y390","v":0},{"$f":"'[1]HOJA GENERAL DATOS IMPORTADOS'!Z390","v":0},{"$f":"'[1]HOJA GENERAL DATOS IMPORTADOS'!AA390","v":0},{"$f":"'[1]HOJA GENERAL DATOS IMPORTADOS'!AB390","v":0},{"$f":"'[1]HOJA GENERAL DATOS IMPORTADOS'!AC390","v":0},{"$f":"'[1]HOJA GENERAL DATOS IMPORTADOS'!AD390","v":0},{"$f":"'[1]HOJA GENERAL DATOS IMPORTADOS'!AE390","v":0},{"$f":"'[1]HOJA GENERAL DATOS IMPORTADOS'!AF390","v":0},{"$f":"'[1]HOJA GENERAL DATOS IMPORTADOS'!AG390","v":0},{"$f":"'[1]HOJA GENERAL DATOS IMPORTADOS'!AH390","v":0},{"$f":"'[1]HOJA GENERAL DATOS IMPORTADOS'!AI390","v":0}]
[{"$f":"'[1]HOJA GENERAL DATOS IMPORTADOS'!A391","v":0},{"$f":"'[1]HOJA GENERAL DATOS IMPORTADOS'!B391","v":0},{"$f":"'[1]HOJA GENERAL DATOS IMPORTADOS'!C391","v":0},{"$f":"'[1]HOJA GENERAL DATOS IMPORTADOS'!D391","v":0},{"$f":"'[1]HOJA GENERAL DATOS IMPORTADOS'!E391","v":0},{"$f":"'[1]HOJA GENERAL DATOS IMPORTADOS'!F391","v":0},{"$f":"'[1]HOJA GENERAL DATOS IMPORTADOS'!G391","v":0},{"$f":"'[1]HOJA GENERAL DATOS IMPORTADOS'!H391","v":0},{"$f":"'[1]HOJA GENERAL DATOS IMPORTADOS'!I391","v":0},{"$f":"'[1]HOJA GENERAL DATOS IMPORTADOS'!J391","v":0},{"$f":"'[1]HOJA GENERAL DATOS IMPORTADOS'!K391","v":0},{"$f":"'[1]HOJA GENERAL DATOS IMPORTADOS'!L391","v":0},{"$f":"'[1]HOJA GENERAL DATOS IMPORTADOS'!M391","v":0},{"$f":"'[1]HOJA GENERAL DATOS IMPORTADOS'!N391","v":0},{"$f":"'[1]HOJA GENERAL DATOS IMPORTADOS'!O391","v":0},{"$f":"'[1]HOJA GENERAL DATOS IMPORTADOS'!P391","v":0},{"$f":"'[1]HOJA GENERAL DATOS IMPORTADOS'!Q391","v":0},{"$f":"'[1]HOJA GENERAL DATOS IMPORTADOS'!R391","v":0},{"$f":"'[1]HOJA GENERAL DATOS IMPORTADOS'!S391","v":0},{"$f":"'[1]HOJA GENERAL DATOS IMPORTADOS'!T391","v":0},{"$f":"'[1]HOJA GENERAL DATOS IMPORTADOS'!U391","v":0},{"$f":"'[1]HOJA GENERAL DATOS IMPORTADOS'!V391","v":0},{"$f":"'[1]HOJA GENERAL DATOS IMPORTADOS'!W391","v":0},{"$f":"'[1]HOJA GENERAL DATOS IMPORTADOS'!X391","v":0},{"$f":"'[1]HOJA GENERAL DATOS IMPORTADOS'!Y391","v":0},{"$f":"'[1]HOJA GENERAL DATOS IMPORTADOS'!Z391","v":0},{"$f":"'[1]HOJA GENERAL DATOS IMPORTADOS'!AA391","v":0},{"$f":"'[1]HOJA GENERAL DATOS IMPORTADOS'!AB391","v":0},{"$f":"'[1]HOJA GENERAL DATOS IMPORTADOS'!AC391","v":0},{"$f":"'[1]HOJA GENERAL DATOS IMPORTADOS'!AD391","v":0},{"$f":"'[1]HOJA GENERAL DATOS IMPORTADOS'!AE391","v":0},{"$f":"'[1]HOJA GENERAL DATOS IMPORTADOS'!AF391","v":0},{"$f":"'[1]HOJA GENERAL DATOS IMPORTADOS'!AG391","v":0},{"$f":"'[1]HOJA GENERAL DATOS IMPORTADOS'!AH391","v":0},{"$f":"'[1]HOJA GENERAL DATOS IMPORTADOS'!AI391","v":0}]
[{"$f":"'[1]HOJA GENERAL DATOS IMPORTADOS'!A392","v":0},{"$f":"'[1]HOJA GENERAL DATOS IMPORTADOS'!B392","v":0},{"$f":"'[1]HOJA GENERAL DATOS IMPORTADOS'!C392","v":0},{"$f":"'[1]HOJA GENERAL DATOS IMPORTADOS'!D392","v":0},{"$f":"'[1]HOJA GENERAL DATOS IMPORTADOS'!E392","v":0},{"$f":"'[1]HOJA GENERAL DATOS IMPORTADOS'!F392","v":0},{"$f":"'[1]HOJA GENERAL DATOS IMPORTADOS'!G392","v":0},{"$f":"'[1]HOJA GENERAL DATOS IMPORTADOS'!H392","v":0},{"$f":"'[1]HOJA GENERAL DATOS IMPORTADOS'!I392","v":0},{"$f":"'[1]HOJA GENERAL DATOS IMPORTADOS'!J392","v":0},{"$f":"'[1]HOJA GENERAL DATOS IMPORTADOS'!K392","v":0},{"$f":"'[1]HOJA GENERAL DATOS IMPORTADOS'!L392","v":0},{"$f":"'[1]HOJA GENERAL DATOS IMPORTADOS'!M392","v":0},{"$f":"'[1]HOJA GENERAL DATOS IMPORTADOS'!N392","v":0},{"$f":"'[1]HOJA GENERAL DATOS IMPORTADOS'!O392","v":0},{"$f":"'[1]HOJA GENERAL DATOS IMPORTADOS'!P392","v":0},{"$f":"'[1]HOJA GENERAL DATOS IMPORTADOS'!Q392","v":0},{"$f":"'[1]HOJA GENERAL DATOS IMPORTADOS'!R392","v":0},{"$f":"'[1]HOJA GENERAL DATOS IMPORTADOS'!S392","v":0},{"$f":"'[1]HOJA GENERAL DATOS IMPORTADOS'!T392","v":0},{"$f":"'[1]HOJA GENERAL DATOS IMPORTADOS'!U392","v":0},{"$f":"'[1]HOJA GENERAL DATOS IMPORTADOS'!V392","v":0},{"$f":"'[1]HOJA GENERAL DATOS IMPORTADOS'!W392","v":0},{"$f":"'[1]HOJA GENERAL DATOS IMPORTADOS'!X392","v":0},{"$f":"'[1]HOJA GENERAL DATOS IMPORTADOS'!Y392","v":0},{"$f":"'[1]HOJA GENERAL DATOS IMPORTADOS'!Z392","v":0},{"$f":"'[1]HOJA GENERAL DATOS IMPORTADOS'!AA392","v":0},{"$f":"'[1]HOJA GENERAL DATOS IMPORTADOS'!AB392","v":0},{"$f":"'[1]HOJA GENERAL DATOS IMPORTADOS'!AC392","v":0},{"$f":"'[1]HOJA GENERAL DATOS IMPORTADOS'!AD392","v":0},{"$f":"'[1]HOJA GENERAL DATOS IMPORTADOS'!AE392","v":0},{"$f":"'[1]HOJA GENERAL DATOS IMPORTADOS'!AF392","v":0},{"$f":"'[1]HOJA GENERAL DATOS IMPORTADOS'!AG392","v":0},{"$f":"'[1]HOJA GENERAL DATOS IMPORTADOS'!AH392","v":0},{"$f":"'[1]HOJA GENERAL DATOS IMPORTADOS'!AI392","v":0}]
[{"$f":"'[1]HOJA GENERAL DATOS IMPORTADOS'!A393","v":0},{"$f":"'[1]HOJA GENERAL DATOS IMPORTADOS'!B393","v":0},{"$f":"'[1]HOJA GENERAL DATOS IMPORTADOS'!C393","v":0},{"$f":"'[1]HOJA GENERAL DATOS IMPORTADOS'!D393","v":0},{"$f":"'[1]HOJA GENERAL DATOS IMPORTADOS'!E393","v":0},{"$f":"'[1]HOJA GENERAL DATOS IMPORTADOS'!F393","v":0},{"$f":"'[1]HOJA GENERAL DATOS IMPORTADOS'!G393","v":0},{"$f":"'[1]HOJA GENERAL DATOS IMPORTADOS'!H393","v":0},{"$f":"'[1]HOJA GENERAL DATOS IMPORTADOS'!I393","v":0},{"$f":"'[1]HOJA GENERAL DATOS IMPORTADOS'!J393","v":0},{"$f":"'[1]HOJA GENERAL DATOS IMPORTADOS'!K393","v":0},{"$f":"'[1]HOJA GENERAL DATOS IMPORTADOS'!L393","v":0},{"$f":"'[1]HOJA GENERAL DATOS IMPORTADOS'!M393","v":0},{"$f":"'[1]HOJA GENERAL DATOS IMPORTADOS'!N393","v":0},{"$f":"'[1]HOJA GENERAL DATOS IMPORTADOS'!O393","v":0},{"$f":"'[1]HOJA GENERAL DATOS IMPORTADOS'!P393","v":0},{"$f":"'[1]HOJA GENERAL DATOS IMPORTADOS'!Q393","v":0},{"$f":"'[1]HOJA GENERAL DATOS IMPORTADOS'!R393","v":0},{"$f":"'[1]HOJA GENERAL DATOS IMPORTADOS'!S393","v":0},{"$f":"'[1]HOJA GENERAL DATOS IMPORTADOS'!T393","v":0},{"$f":"'[1]HOJA GENERAL DATOS IMPORTADOS'!U393","v":0},{"$f":"'[1]HOJA GENERAL DATOS IMPORTADOS'!V393","v":0},{"$f":"'[1]HOJA GENERAL DATOS IMPORTADOS'!W393","v":0},{"$f":"'[1]HOJA GENERAL DATOS IMPORTADOS'!X393","v":0},{"$f":"'[1]HOJA GENERAL DATOS IMPORTADOS'!Y393","v":0},{"$f":"'[1]HOJA GENERAL DATOS IMPORTADOS'!Z393","v":0},{"$f":"'[1]HOJA GENERAL DATOS IMPORTADOS'!AA393","v":0},{"$f":"'[1]HOJA GENERAL DATOS IMPORTADOS'!AB393","v":0},{"$f":"'[1]HOJA GENERAL DATOS IMPORTADOS'!AC393","v":0},{"$f":"'[1]HOJA GENERAL DATOS IMPORTADOS'!AD393","v":0},{"$f":"'[1]HOJA GENERAL DATOS IMPORTADOS'!AE393","v":0},{"$f":"'[1]HOJA GENERAL DATOS IMPORTADOS'!AF393","v":0},{"$f":"'[1]HOJA GENERAL DATOS IMPORTADOS'!AG393","v":0},{"$f":"'[1]HOJA GENERAL DATOS IMPORTADOS'!AH393","v":0},{"$f":"'[1]HOJA GENERAL DATOS IMPORTADOS'!AI393","v":0}]
[{"$f":"'[1]HOJA GENERAL DATOS IMPORTADOS'!A394","v":0},{"$f":"'[1]HOJA GENERAL DATOS IMPORTADOS'!B394","v":0},{"$f":"'[1]HOJA GENERAL DATOS IMPORTADOS'!C394","v":0},{"$f":"'[1]HOJA GENERAL DATOS IMPORTADOS'!D394","v":0},{"$f":"'[1]HOJA GENERAL DATOS IMPORTADOS'!E394","v":0},{"$f":"'[1]HOJA GENERAL DATOS IMPORTADOS'!F394","v":0},{"$f":"'[1]HOJA GENERAL DATOS IMPORTADOS'!G394","v":0},{"$f":"'[1]HOJA GENERAL DATOS IMPORTADOS'!H394","v":0},{"$f":"'[1]HOJA GENERAL DATOS IMPORTADOS'!I394","v":0},{"$f":"'[1]HOJA GENERAL DATOS IMPORTADOS'!J394","v":0},{"$f":"'[1]HOJA GENERAL DATOS IMPORTADOS'!K394","v":0},{"$f":"'[1]HOJA GENERAL DATOS IMPORTADOS'!L394","v":0},{"$f":"'[1]HOJA GENERAL DATOS IMPORTADOS'!M394","v":0},{"$f":"'[1]HOJA GENERAL DATOS IMPORTADOS'!N394","v":0},{"$f":"'[1]HOJA GENERAL DATOS IMPORTADOS'!O394","v":0},{"$f":"'[1]HOJA GENERAL DATOS IMPORTADOS'!P394","v":0},{"$f":"'[1]HOJA GENERAL DATOS IMPORTADOS'!Q394","v":0},{"$f":"'[1]HOJA GENERAL DATOS IMPORTADOS'!R394","v":0},{"$f":"'[1]HOJA GENERAL DATOS IMPORTADOS'!S394","v":0},{"$f":"'[1]HOJA GENERAL DATOS IMPORTADOS'!T394","v":0},{"$f":"'[1]HOJA GENERAL DATOS IMPORTADOS'!U394","v":0},{"$f":"'[1]HOJA GENERAL DATOS IMPORTADOS'!V394","v":0},{"$f":"'[1]HOJA GENERAL DATOS IMPORTADOS'!W394","v":0},{"$f":"'[1]HOJA GENERAL DATOS IMPORTADOS'!X394","v":0},{"$f":"'[1]HOJA GENERAL DATOS IMPORTADOS'!Y394","v":0},{"$f":"'[1]HOJA GENERAL DATOS IMPORTADOS'!Z394","v":0},{"$f":"'[1]HOJA GENERAL DATOS IMPORTADOS'!AA394","v":0},{"$f":"'[1]HOJA GENERAL DATOS IMPORTADOS'!AB394","v":0},{"$f":"'[1]HOJA GENERAL DATOS IMPORTADOS'!AC394","v":0},{"$f":"'[1]HOJA GENERAL DATOS IMPORTADOS'!AD394","v":0},{"$f":"'[1]HOJA GENERAL DATOS IMPORTADOS'!AE394","v":0},{"$f":"'[1]HOJA GENERAL DATOS IMPORTADOS'!AF394","v":0},{"$f":"'[1]HOJA GENERAL DATOS IMPORTADOS'!AG394","v":0},{"$f":"'[1]HOJA GENERAL DATOS IMPORTADOS'!AH394","v":0},{"$f":"'[1]HOJA GENERAL DATOS IMPORTADOS'!AI394","v":0}]
[{"$f":"'[1]HOJA GENERAL DATOS IMPORTADOS'!A395","v":0},{"$f":"'[1]HOJA GENERAL DATOS IMPORTADOS'!B395","v":0},{"$f":"'[1]HOJA GENERAL DATOS IMPORTADOS'!C395","v":0},{"$f":"'[1]HOJA GENERAL DATOS IMPORTADOS'!D395","v":0},{"$f":"'[1]HOJA GENERAL DATOS IMPORTADOS'!E395","v":0},{"$f":"'[1]HOJA GENERAL DATOS IMPORTADOS'!F395","v":0},{"$f":"'[1]HOJA GENERAL DATOS IMPORTADOS'!G395","v":0},{"$f":"'[1]HOJA GENERAL DATOS IMPORTADOS'!H395","v":0},{"$f":"'[1]HOJA GENERAL DATOS IMPORTADOS'!I395","v":0},{"$f":"'[1]HOJA GENERAL DATOS IMPORTADOS'!J395","v":0},{"$f":"'[1]HOJA GENERAL DATOS IMPORTADOS'!K395","v":0},{"$f":"'[1]HOJA GENERAL DATOS IMPORTADOS'!L395","v":0},{"$f":"'[1]HOJA GENERAL DATOS IMPORTADOS'!M395","v":0},{"$f":"'[1]HOJA GENERAL DATOS IMPORTADOS'!N395","v":0},{"$f":"'[1]HOJA GENERAL DATOS IMPORTADOS'!O395","v":0},{"$f":"'[1]HOJA GENERAL DATOS IMPORTADOS'!P395","v":0},{"$f":"'[1]HOJA GENERAL DATOS IMPORTADOS'!Q395","v":0},{"$f":"'[1]HOJA GENERAL DATOS IMPORTADOS'!R395","v":0},{"$f":"'[1]HOJA GENERAL DATOS IMPORTADOS'!S395","v":0},{"$f":"'[1]HOJA GENERAL DATOS IMPORTADOS'!T395","v":0},{"$f":"'[1]HOJA GENERAL DATOS IMPORTADOS'!U395","v":0},{"$f":"'[1]HOJA GENERAL DATOS IMPORTADOS'!V395","v":0},{"$f":"'[1]HOJA GENERAL DATOS IMPORTADOS'!W395","v":0},{"$f":"'[1]HOJA GENERAL DATOS IMPORTADOS'!X395","v":0},{"$f":"'[1]HOJA GENERAL DATOS IMPORTADOS'!Y395","v":0},{"$f":"'[1]HOJA GENERAL DATOS IMPORTADOS'!Z395","v":0},{"$f":"'[1]HOJA GENERAL DATOS IMPORTADOS'!AA395","v":0},{"$f":"'[1]HOJA GENERAL DATOS IMPORTADOS'!AB395","v":0},{"$f":"'[1]HOJA GENERAL DATOS IMPORTADOS'!AC395","v":0},{"$f":"'[1]HOJA GENERAL DATOS IMPORTADOS'!AD395","v":0},{"$f":"'[1]HOJA GENERAL DATOS IMPORTADOS'!AE395","v":0},{"$f":"'[1]HOJA GENERAL DATOS IMPORTADOS'!AF395","v":0},{"$f":"'[1]HOJA GENERAL DATOS IMPORTADOS'!AG395","v":0},{"$f":"'[1]HOJA GENERAL DATOS IMPORTADOS'!AH395","v":0},{"$f":"'[1]HOJA GENERAL DATOS IMPORTADOS'!AI395","v":0}]
[{"$f":"'[1]HOJA GENERAL DATOS IMPORTADOS'!A396","v":0},{"$f":"'[1]HOJA GENERAL DATOS IMPORTADOS'!B396","v":0},{"$f":"'[1]HOJA GENERAL DATOS IMPORTADOS'!C396","v":0},{"$f":"'[1]HOJA GENERAL DATOS IMPORTADOS'!D396","v":0},{"$f":"'[1]HOJA GENERAL DATOS IMPORTADOS'!E396","v":0},{"$f":"'[1]HOJA GENERAL DATOS IMPORTADOS'!F396","v":0},{"$f":"'[1]HOJA GENERAL DATOS IMPORTADOS'!G396","v":0},{"$f":"'[1]HOJA GENERAL DATOS IMPORTADOS'!H396","v":0},{"$f":"'[1]HOJA GENERAL DATOS IMPORTADOS'!I396","v":0},{"$f":"'[1]HOJA GENERAL DATOS IMPORTADOS'!J396","v":0},{"$f":"'[1]HOJA GENERAL DATOS IMPORTADOS'!K396","v":0},{"$f":"'[1]HOJA GENERAL DATOS IMPORTADOS'!L396","v":0},{"$f":"'[1]HOJA GENERAL DATOS IMPORTADOS'!M396","v":0},{"$f":"'[1]HOJA GENERAL DATOS IMPORTADOS'!N396","v":0},{"$f":"'[1]HOJA GENERAL DATOS IMPORTADOS'!O396","v":0},{"$f":"'[1]HOJA GENERAL DATOS IMPORTADOS'!P396","v":0},{"$f":"'[1]HOJA GENERAL DATOS IMPORTADOS'!Q396","v":0},{"$f":"'[1]HOJA GENERAL DATOS IMPORTADOS'!R396","v":0},{"$f":"'[1]HOJA GENERAL DATOS IMPORTADOS'!S396","v":0},{"$f":"'[1]HOJA GENERAL DATOS IMPORTADOS'!T396","v":0},{"$f":"'[1]HOJA GENERAL DATOS IMPORTADOS'!U396","v":0},{"$f":"'[1]HOJA GENERAL DATOS IMPORTADOS'!V396","v":0},{"$f":"'[1]HOJA GENERAL DATOS IMPORTADOS'!W396","v":0},{"$f":"'[1]HOJA GENERAL DATOS IMPORTADOS'!X396","v":0},{"$f":"'[1]HOJA GENERAL DATOS IMPORTADOS'!Y396","v":0},{"$f":"'[1]HOJA GENERAL DATOS IMPORTADOS'!Z396","v":0},{"$f":"'[1]HOJA GENERAL DATOS IMPORTADOS'!AA396","v":0},{"$f":"'[1]HOJA GENERAL DATOS IMPORTADOS'!AB396","v":0},{"$f":"'[1]HOJA GENERAL DATOS IMPORTADOS'!AC396","v":0},{"$f":"'[1]HOJA GENERAL DATOS IMPORTADOS'!AD396","v":0},{"$f":"'[1]HOJA GENERAL DATOS IMPORTADOS'!AE396","v":0},{"$f":"'[1]HOJA GENERAL DATOS IMPORTADOS'!AF396","v":0},{"$f":"'[1]HOJA GENERAL DATOS IMPORTADOS'!AG396","v":0},{"$f":"'[1]HOJA GENERAL DATOS IMPORTADOS'!AH396","v":0},{"$f":"'[1]HOJA GENERAL DATOS IMPORTADOS'!AI396","v":0}]
[{"$f":"'[1]HOJA GENERAL DATOS IMPORTADOS'!A397","v":0},{"$f":"'[1]HOJA GENERAL DATOS IMPORTADOS'!B397","v":0},{"$f":"'[1]HOJA GENERAL DATOS IMPORTADOS'!C397","v":0},{"$f":"'[1]HOJA GENERAL DATOS IMPORTADOS'!D397","v":0},{"$f":"'[1]HOJA GENERAL DATOS IMPORTADOS'!E397","v":0},{"$f":"'[1]HOJA GENERAL DATOS IMPORTADOS'!F397","v":0},{"$f":"'[1]HOJA GENERAL DATOS IMPORTADOS'!G397","v":0},{"$f":"'[1]HOJA GENERAL DATOS IMPORTADOS'!H397","v":0},{"$f":"'[1]HOJA GENERAL DATOS IMPORTADOS'!I397","v":0},{"$f":"'[1]HOJA GENERAL DATOS IMPORTADOS'!J397","v":0},{"$f":"'[1]HOJA GENERAL DATOS IMPORTADOS'!K397","v":0},{"$f":"'[1]HOJA GENERAL DATOS IMPORTADOS'!L397","v":0},{"$f":"'[1]HOJA GENERAL DATOS IMPORTADOS'!M397","v":0},{"$f":"'[1]HOJA GENERAL DATOS IMPORTADOS'!N397","v":0},{"$f":"'[1]HOJA GENERAL DATOS IMPORTADOS'!O397","v":0},{"$f":"'[1]HOJA GENERAL DATOS IMPORTADOS'!P397","v":0},{"$f":"'[1]HOJA GENERAL DATOS IMPORTADOS'!Q397","v":0},{"$f":"'[1]HOJA GENERAL DATOS IMPORTADOS'!R397","v":0},{"$f":"'[1]HOJA GENERAL DATOS IMPORTADOS'!S397","v":0},{"$f":"'[1]HOJA GENERAL DATOS IMPORTADOS'!T397","v":0},{"$f":"'[1]HOJA GENERAL DATOS IMPORTADOS'!U397","v":0},{"$f":"'[1]HOJA GENERAL DATOS IMPORTADOS'!V397","v":0},{"$f":"'[1]HOJA GENERAL DATOS IMPORTADOS'!W397","v":0},{"$f":"'[1]HOJA GENERAL DATOS IMPORTADOS'!X397","v":0},{"$f":"'[1]HOJA GENERAL DATOS IMPORTADOS'!Y397","v":0},{"$f":"'[1]HOJA GENERAL DATOS IMPORTADOS'!Z397","v":0},{"$f":"'[1]HOJA GENERAL DATOS IMPORTADOS'!AA397","v":0},{"$f":"'[1]HOJA GENERAL DATOS IMPORTADOS'!AB397","v":0},{"$f":"'[1]HOJA GENERAL DATOS IMPORTADOS'!AC397","v":0},{"$f":"'[1]HOJA GENERAL DATOS IMPORTADOS'!AD397","v":0},{"$f":"'[1]HOJA GENERAL DATOS IMPORTADOS'!AE397","v":0},{"$f":"'[1]HOJA GENERAL DATOS IMPORTADOS'!AF397","v":0},{"$f":"'[1]HOJA GENERAL DATOS IMPORTADOS'!AG397","v":0},{"$f":"'[1]HOJA GENERAL DATOS IMPORTADOS'!AH397","v":0},{"$f":"'[1]HOJA GENERAL DATOS IMPORTADOS'!AI397","v":0}]
[{"$f":"'[1]HOJA GENERAL DATOS IMPORTADOS'!A398","v":0},{"$f":"'[1]HOJA GENERAL DATOS IMPORTADOS'!B398","v":0},{"$f":"'[1]HOJA GENERAL DATOS IMPORTADOS'!C398","v":0},{"$f":"'[1]HOJA GENERAL DATOS IMPORTADOS'!D398","v":0},{"$f":"'[1]HOJA GENERAL DATOS IMPORTADOS'!E398","v":0},{"$f":"'[1]HOJA GENERAL DATOS IMPORTADOS'!F398","v":0},{"$f":"'[1]HOJA GENERAL DATOS IMPORTADOS'!G398","v":0},{"$f":"'[1]HOJA GENERAL DATOS IMPORTADOS'!H398","v":0},{"$f":"'[1]HOJA GENERAL DATOS IMPORTADOS'!I398","v":0},{"$f":"'[1]HOJA GENERAL DATOS IMPORTADOS'!J398","v":0},{"$f":"'[1]HOJA GENERAL DATOS IMPORTADOS'!K398","v":0},{"$f":"'[1]HOJA GENERAL DATOS IMPORTADOS'!L398","v":0},{"$f":"'[1]HOJA GENERAL DATOS IMPORTADOS'!M398","v":0},{"$f":"'[1]HOJA GENERAL DATOS IMPORTADOS'!N398","v":0},{"$f":"'[1]HOJA GENERAL DATOS IMPORTADOS'!O398","v":0},{"$f":"'[1]HOJA GENERAL DATOS IMPORTADOS'!P398","v":0},{"$f":"'[1]HOJA GENERAL DATOS IMPORTADOS'!Q398","v":0},{"$f":"'[1]HOJA GENERAL DATOS IMPORTADOS'!R398","v":0},{"$f":"'[1]HOJA GENERAL DATOS IMPORTADOS'!S398","v":0},{"$f":"'[1]HOJA GENERAL DATOS IMPORTADOS'!T398","v":0},{"$f":"'[1]HOJA GENERAL DATOS IMPORTADOS'!U398","v":0},{"$f":"'[1]HOJA GENERAL DATOS IMPORTADOS'!V398","v":0},{"$f":"'[1]HOJA GENERAL DATOS IMPORTADOS'!W398","v":0},{"$f":"'[1]HOJA GENERAL DATOS IMPORTADOS'!X398","v":0},{"$f":"'[1]HOJA GENERAL DATOS IMPORTADOS'!Y398","v":0},{"$f":"'[1]HOJA GENERAL DATOS IMPORTADOS'!Z398","v":0},{"$f":"'[1]HOJA GENERAL DATOS IMPORTADOS'!AA398","v":0},{"$f":"'[1]HOJA GENERAL DATOS IMPORTADOS'!AB398","v":0},{"$f":"'[1]HOJA GENERAL DATOS IMPORTADOS'!AC398","v":0},{"$f":"'[1]HOJA GENERAL DATOS IMPORTADOS'!AD398","v":0},{"$f":"'[1]HOJA GENERAL DATOS IMPORTADOS'!AE398","v":0},{"$f":"'[1]HOJA GENERAL DATOS IMPORTADOS'!AF398","v":0},{"$f":"'[1]HOJA GENERAL DATOS IMPORTADOS'!AG398","v":0},{"$f":"'[1]HOJA GENERAL DATOS IMPORTADOS'!AH398","v":0},{"$f":"'[1]HOJA GENERAL DATOS IMPORTADOS'!AI398","v":0}]
[{"$f":"'[1]HOJA GENERAL DATOS IMPORTADOS'!A399","v":0},{"$f":"'[1]HOJA GENERAL DATOS IMPORTADOS'!B399","v":0},{"$f":"'[1]HOJA GENERAL DATOS IMPORTADOS'!C399","v":0},{"$f":"'[1]HOJA GENERAL DATOS IMPORTADOS'!D399","v":0},{"$f":"'[1]HOJA GENERAL DATOS IMPORTADOS'!E399","v":0},{"$f":"'[1]HOJA GENERAL DATOS IMPORTADOS'!F399","v":0},{"$f":"'[1]HOJA GENERAL DATOS IMPORTADOS'!G399","v":0},{"$f":"'[1]HOJA GENERAL DATOS IMPORTADOS'!H399","v":0},{"$f":"'[1]HOJA GENERAL DATOS IMPORTADOS'!I399","v":0},{"$f":"'[1]HOJA GENERAL DATOS IMPORTADOS'!J399","v":0},{"$f":"'[1]HOJA GENERAL DATOS IMPORTADOS'!K399","v":0},{"$f":"'[1]HOJA GENERAL DATOS IMPORTADOS'!L399","v":0},{"$f":"'[1]HOJA GENERAL DATOS IMPORTADOS'!M399","v":0},{"$f":"'[1]HOJA GENERAL DATOS IMPORTADOS'!N399","v":0},{"$f":"'[1]HOJA GENERAL DATOS IMPORTADOS'!O399","v":0},{"$f":"'[1]HOJA GENERAL DATOS IMPORTADOS'!P399","v":0},{"$f":"'[1]HOJA GENERAL DATOS IMPORTADOS'!Q399","v":0},{"$f":"'[1]HOJA GENERAL DATOS IMPORTADOS'!R399","v":0},{"$f":"'[1]HOJA GENERAL DATOS IMPORTADOS'!S399","v":0},{"$f":"'[1]HOJA GENERAL DATOS IMPORTADOS'!T399","v":0},{"$f":"'[1]HOJA GENERAL DATOS IMPORTADOS'!U399","v":0},{"$f":"'[1]HOJA GENERAL DATOS IMPORTADOS'!V399","v":0},{"$f":"'[1]HOJA GENERAL DATOS IMPORTADOS'!W399","v":0},{"$f":"'[1]HOJA GENERAL DATOS IMPORTADOS'!X399","v":0},{"$f":"'[1]HOJA GENERAL DATOS IMPORTADOS'!Y399","v":0},{"$f":"'[1]HOJA GENERAL DATOS IMPORTADOS'!Z399","v":0},{"$f":"'[1]HOJA GENERAL DATOS IMPORTADOS'!AA399","v":0},{"$f":"'[1]HOJA GENERAL DATOS IMPORTADOS'!AB399","v":0},{"$f":"'[1]HOJA GENERAL DATOS IMPORTADOS'!AC399","v":0},{"$f":"'[1]HOJA GENERAL DATOS IMPORTADOS'!AD399","v":0},{"$f":"'[1]HOJA GENERAL DATOS IMPORTADOS'!AE399","v":0},{"$f":"'[1]HOJA GENERAL DATOS IMPORTADOS'!AF399","v":0},{"$f":"'[1]HOJA GENERAL DATOS IMPORTADOS'!AG399","v":0},{"$f":"'[1]HOJA GENERAL DATOS IMPORTADOS'!AH399","v":0},{"$f":"'[1]HOJA GENERAL DATOS IMPORTADOS'!AI399","v":0}]
[{"$f":"'[1]HOJA GENERAL DATOS IMPORTADOS'!A400","v":0},{"$f":"'[1]HOJA GENERAL DATOS IMPORTADOS'!B400","v":0},{"$f":"'[1]HOJA GENERAL DATOS IMPORTADOS'!C400","v":0},{"$f":"'[1]HOJA GENERAL DATOS IMPORTADOS'!D400","v":0},{"$f":"'[1]HOJA GENERAL DATOS IMPORTADOS'!E400","v":0},{"$f":"'[1]HOJA GENERAL DATOS IMPORTADOS'!F400","v":0},{"$f":"'[1]HOJA GENERAL DATOS IMPORTADOS'!G400","v":0},{"$f":"'[1]HOJA GENERAL DATOS IMPORTADOS'!H400","v":0},{"$f":"'[1]HOJA GENERAL DATOS IMPORTADOS'!I400","v":0},{"$f":"'[1]HOJA GENERAL DATOS IMPORTADOS'!J400","v":0},{"$f":"'[1]HOJA GENERAL DATOS IMPORTADOS'!K400","v":0},{"$f":"'[1]HOJA GENERAL DATOS IMPORTADOS'!L400","v":0},{"$f":"'[1]HOJA GENERAL DATOS IMPORTADOS'!M400","v":0},{"$f":"'[1]HOJA GENERAL DATOS IMPORTADOS'!N400","v":0},{"$f":"'[1]HOJA GENERAL DATOS IMPORTADOS'!O400","v":0},{"$f":"'[1]HOJA GENERAL DATOS IMPORTADOS'!P400","v":0},{"$f":"'[1]HOJA GENERAL DATOS IMPORTADOS'!Q400","v":0},{"$f":"'[1]HOJA GENERAL DATOS IMPORTADOS'!R400","v":0},{"$f":"'[1]HOJA GENERAL DATOS IMPORTADOS'!S400","v":0},{"$f":"'[1]HOJA GENERAL DATOS IMPORTADOS'!T400","v":0},{"$f":"'[1]HOJA GENERAL DATOS IMPORTADOS'!U400","v":0},{"$f":"'[1]HOJA GENERAL DATOS IMPORTADOS'!V400","v":0},{"$f":"'[1]HOJA GENERAL DATOS IMPORTADOS'!W400","v":0},{"$f":"'[1]HOJA GENERAL DATOS IMPORTADOS'!X400","v":0},{"$f":"'[1]HOJA GENERAL DATOS IMPORTADOS'!Y400","v":0},{"$f":"'[1]HOJA GENERAL DATOS IMPORTADOS'!Z400","v":0},{"$f":"'[1]HOJA GENERAL DATOS IMPORTADOS'!AA400","v":0},{"$f":"'[1]HOJA GENERAL DATOS IMPORTADOS'!AB400","v":0},{"$f":"'[1]HOJA GENERAL DATOS IMPORTADOS'!AC400","v":0},{"$f":"'[1]HOJA GENERAL DATOS IMPORTADOS'!AD400","v":0},{"$f":"'[1]HOJA GENERAL DATOS IMPORTADOS'!AE400","v":0},{"$f":"'[1]HOJA GENERAL DATOS IMPORTADOS'!AF400","v":0},{"$f":"'[1]HOJA GENERAL DATOS IMPORTADOS'!AG400","v":0},{"$f":"'[1]HOJA GENERAL DATOS IMPORTADOS'!AH400","v":0},{"$f":"'[1]HOJA GENERAL DATOS IMPORTADOS'!AI400","v":0}]
[{"$f":"'[1]HOJA GENERAL DATOS IMPORTADOS'!A401","v":0},{"$f":"'[1]HOJA GENERAL DATOS IMPORTADOS'!B401","v":0},{"$f":"'[1]HOJA GENERAL DATOS IMPORTADOS'!C401","v":0},{"$f":"'[1]HOJA GENERAL DATOS IMPORTADOS'!D401","v":0},{"$f":"'[1]HOJA GENERAL DATOS IMPORTADOS'!E401","v":0},{"$f":"'[1]HOJA GENERAL DATOS IMPORTADOS'!F401","v":0},{"$f":"'[1]HOJA GENERAL DATOS IMPORTADOS'!G401","v":0},{"$f":"'[1]HOJA GENERAL DATOS IMPORTADOS'!H401","v":0},{"$f":"'[1]HOJA GENERAL DATOS IMPORTADOS'!I401","v":0},{"$f":"'[1]HOJA GENERAL DATOS IMPORTADOS'!J401","v":0},{"$f":"'[1]HOJA GENERAL DATOS IMPORTADOS'!K401","v":0},{"$f":"'[1]HOJA GENERAL DATOS IMPORTADOS'!L401","v":0},{"$f":"'[1]HOJA GENERAL DATOS IMPORTADOS'!M401","v":0},{"$f":"'[1]HOJA GENERAL DATOS IMPORTADOS'!N401","v":0},{"$f":"'[1]HOJA GENERAL DATOS IMPORTADOS'!O401","v":0},{"$f":"'[1]HOJA GENERAL DATOS IMPORTADOS'!P401","v":0},{"$f":"'[1]HOJA GENERAL DATOS IMPORTADOS'!Q401","v":0},{"$f":"'[1]HOJA GENERAL DATOS IMPORTADOS'!R401","v":0},{"$f":"'[1]HOJA GENERAL DATOS IMPORTADOS'!S401","v":0},{"$f":"'[1]HOJA GENERAL DATOS IMPORTADOS'!T401","v":0},{"$f":"'[1]HOJA GENERAL DATOS IMPORTADOS'!U401","v":0},{"$f":"'[1]HOJA GENERAL DATOS IMPORTADOS'!V401","v":0},{"$f":"'[1]HOJA GENERAL DATOS IMPORTADOS'!W401","v":0},{"$f":"'[1]HOJA GENERAL DATOS IMPORTADOS'!X401","v":0},{"$f":"'[1]HOJA GENERAL DATOS IMPORTADOS'!Y401","v":0},{"$f":"'[1]HOJA GENERAL DATOS IMPORTADOS'!Z401","v":0},{"$f":"'[1]HOJA GENERAL DATOS IMPORTADOS'!AA401","v":0},{"$f":"'[1]HOJA GENERAL DATOS IMPORTADOS'!AB401","v":0},{"$f":"'[1]HOJA GENERAL DATOS IMPORTADOS'!AC401","v":0},{"$f":"'[1]HOJA GENERAL DATOS IMPORTADOS'!AD401","v":0},{"$f":"'[1]HOJA GENERAL DATOS IMPORTADOS'!AE401","v":0},{"$f":"'[1]HOJA GENERAL DATOS IMPORTADOS'!AF401","v":0},{"$f":"'[1]HOJA GENERAL DATOS IMPORTADOS'!AG401","v":0},{"$f":"'[1]HOJA GENERAL DATOS IMPORTADOS'!AH401","v":0},{"$f":"'[1]HOJA GENERAL DATOS IMPORTADOS'!AI401","v":0}]
[{"$f":"'[1]HOJA GENERAL DATOS IMPORTADOS'!A402","v":0},{"$f":"'[1]HOJA GENERAL DATOS IMPORTADOS'!B402","v":0},{"$f":"'[1]HOJA GENERAL DATOS IMPORTADOS'!C402","v":0},{"$f":"'[1]HOJA GENERAL DATOS IMPORTADOS'!D402","v":0},{"$f":"'[1]HOJA GENERAL DATOS IMPORTADOS'!E402","v":0},{"$f":"'[1]HOJA GENERAL DATOS IMPORTADOS'!F402","v":0},{"$f":"'[1]HOJA GENERAL DATOS IMPORTADOS'!G402","v":0},{"$f":"'[1]HOJA GENERAL DATOS IMPORTADOS'!H402","v":0},{"$f":"'[1]HOJA GENERAL DATOS IMPORTADOS'!I402","v":0},{"$f":"'[1]HOJA GENERAL DATOS IMPORTADOS'!J402","v":0},{"$f":"'[1]HOJA GENERAL DATOS IMPORTADOS'!K402","v":0},{"$f":"'[1]HOJA GENERAL DATOS IMPORTADOS'!L402","v":0},{"$f":"'[1]HOJA GENERAL DATOS IMPORTADOS'!M402","v":0},{"$f":"'[1]HOJA GENERAL DATOS IMPORTADOS'!N402","v":0},{"$f":"'[1]HOJA GENERAL DATOS IMPORTADOS'!O402","v":0},{"$f":"'[1]HOJA GENERAL DATOS IMPORTADOS'!P402","v":0},{"$f":"'[1]HOJA GENERAL DATOS IMPORTADOS'!Q402","v":0},{"$f":"'[1]HOJA GENERAL DATOS IMPORTADOS'!R402","v":0},{"$f":"'[1]HOJA GENERAL DATOS IMPORTADOS'!S402","v":0},{"$f":"'[1]HOJA GENERAL DATOS IMPORTADOS'!T402","v":0},{"$f":"'[1]HOJA GENERAL DATOS IMPORTADOS'!U402","v":0},{"$f":"'[1]HOJA GENERAL DATOS IMPORTADOS'!V402","v":0},{"$f":"'[1]HOJA GENERAL DATOS IMPORTADOS'!W402","v":0},{"$f":"'[1]HOJA GENERAL DATOS IMPORTADOS'!X402","v":0},{"$f":"'[1]HOJA GENERAL DATOS IMPORTADOS'!Y402","v":0},{"$f":"'[1]HOJA GENERAL DATOS IMPORTADOS'!Z402","v":0},{"$f":"'[1]HOJA GENERAL DATOS IMPORTADOS'!AA402","v":0},{"$f":"'[1]HOJA GENERAL DATOS IMPORTADOS'!AB402","v":0},{"$f":"'[1]HOJA GENERAL DATOS IMPORTADOS'!AC402","v":0},{"$f":"'[1]HOJA GENERAL DATOS IMPORTADOS'!AD402","v":0},{"$f":"'[1]HOJA GENERAL DATOS IMPORTADOS'!AE402","v":0},{"$f":"'[1]HOJA GENERAL DATOS IMPORTADOS'!AF402","v":0},{"$f":"'[1]HOJA GENERAL DATOS IMPORTADOS'!AG402","v":0},{"$f":"'[1]HOJA GENERAL DATOS IMPORTADOS'!AH402","v":0},{"$f":"'[1]HOJA GENERAL DATOS IMPORTADOS'!AI402","v":0}]
[{"$f":"'[1]HOJA GENERAL DATOS IMPORTADOS'!A403","v":0},{"$f":"'[1]HOJA GENERAL DATOS IMPORTADOS'!B403","v":0},{"$f":"'[1]HOJA GENERAL DATOS IMPORTADOS'!C403","v":0},{"$f":"'[1]HOJA GENERAL DATOS IMPORTADOS'!D403","v":0},{"$f":"'[1]HOJA GENERAL DATOS IMPORTADOS'!E403","v":0},{"$f":"'[1]HOJA GENERAL DATOS IMPORTADOS'!F403","v":0},{"$f":"'[1]HOJA GENERAL DATOS IMPORTADOS'!G403","v":0},{"$f":"'[1]HOJA GENERAL DATOS IMPORTADOS'!H403","v":0},{"$f":"'[1]HOJA GENERAL DATOS IMPORTADOS'!I403","v":0},{"$f":"'[1]HOJA GENERAL DATOS IMPORTADOS'!J403","v":0},{"$f":"'[1]HOJA GENERAL DATOS IMPORTADOS'!K403","v":0},{"$f":"'[1]HOJA GENERAL DATOS IMPORTADOS'!L403","v":0},{"$f":"'[1]HOJA GENERAL DATOS IMPORTADOS'!M403","v":0},{"$f":"'[1]HOJA GENERAL DATOS IMPORTADOS'!N403","v":0},{"$f":"'[1]HOJA GENERAL DATOS IMPORTADOS'!O403","v":0},{"$f":"'[1]HOJA GENERAL DATOS IMPORTADOS'!P403","v":0},{"$f":"'[1]HOJA GENERAL DATOS IMPORTADOS'!Q403","v":0},{"$f":"'[1]HOJA GENERAL DATOS IMPORTADOS'!R403","v":0},{"$f":"'[1]HOJA GENERAL DATOS IMPORTADOS'!S403","v":0},{"$f":"'[1]HOJA GENERAL DATOS IMPORTADOS'!T403","v":0},{"$f":"'[1]HOJA GENERAL DATOS IMPORTADOS'!U403","v":0},{"$f":"'[1]HOJA GENERAL DATOS IMPORTADOS'!V403","v":0},{"$f":"'[1]HOJA GENERAL DATOS IMPORTADOS'!W403","v":0},{"$f":"'[1]HOJA GENERAL DATOS IMPORTADOS'!X403","v":0},{"$f":"'[1]HOJA GENERAL DATOS IMPORTADOS'!Y403","v":0},{"$f":"'[1]HOJA GENERAL DATOS IMPORTADOS'!Z403","v":0},{"$f":"'[1]HOJA GENERAL DATOS IMPORTADOS'!AA403","v":0},{"$f":"'[1]HOJA GENERAL DATOS IMPORTADOS'!AB403","v":0},{"$f":"'[1]HOJA GENERAL DATOS IMPORTADOS'!AC403","v":0},{"$f":"'[1]HOJA GENERAL DATOS IMPORTADOS'!AD403","v":0},{"$f":"'[1]HOJA GENERAL DATOS IMPORTADOS'!AE403","v":0},{"$f":"'[1]HOJA GENERAL DATOS IMPORTADOS'!AF403","v":0},{"$f":"'[1]HOJA GENERAL DATOS IMPORTADOS'!AG403","v":0},{"$f":"'[1]HOJA GENERAL DATOS IMPORTADOS'!AH403","v":0},{"$f":"'[1]HOJA GENERAL DATOS IMPORTADOS'!AI403","v":0}]
[{"$f":"'[1]HOJA GENERAL DATOS IMPORTADOS'!A404","v":0},{"$f":"'[1]HOJA GENERAL DATOS IMPORTADOS'!B404","v":0},{"$f":"'[1]HOJA GENERAL DATOS IMPORTADOS'!C404","v":0},{"$f":"'[1]HOJA GENERAL DATOS IMPORTADOS'!D404","v":0},{"$f":"'[1]HOJA GENERAL DATOS IMPORTADOS'!E404","v":0},{"$f":"'[1]HOJA GENERAL DATOS IMPORTADOS'!F404","v":0},{"$f":"'[1]HOJA GENERAL DATOS IMPORTADOS'!G404","v":0},{"$f":"'[1]HOJA GENERAL DATOS IMPORTADOS'!H404","v":0},{"$f":"'[1]HOJA GENERAL DATOS IMPORTADOS'!I404","v":0},{"$f":"'[1]HOJA GENERAL DATOS IMPORTADOS'!J404","v":0},{"$f":"'[1]HOJA GENERAL DATOS IMPORTADOS'!K404","v":0},{"$f":"'[1]HOJA GENERAL DATOS IMPORTADOS'!L404","v":0},{"$f":"'[1]HOJA GENERAL DATOS IMPORTADOS'!M404","v":0},{"$f":"'[1]HOJA GENERAL DATOS IMPORTADOS'!N404","v":0},{"$f":"'[1]HOJA GENERAL DATOS IMPORTADOS'!O404","v":0},{"$f":"'[1]HOJA GENERAL DATOS IMPORTADOS'!P404","v":0},{"$f":"'[1]HOJA GENERAL DATOS IMPORTADOS'!Q404","v":0},{"$f":"'[1]HOJA GENERAL DATOS IMPORTADOS'!R404","v":0},{"$f":"'[1]HOJA GENERAL DATOS IMPORTADOS'!S404","v":0},{"$f":"'[1]HOJA GENERAL DATOS IMPORTADOS'!T404","v":0},{"$f":"'[1]HOJA GENERAL DATOS IMPORTADOS'!U404","v":0},{"$f":"'[1]HOJA GENERAL DATOS IMPORTADOS'!V404","v":0},{"$f":"'[1]HOJA GENERAL DATOS IMPORTADOS'!W404","v":0},{"$f":"'[1]HOJA GENERAL DATOS IMPORTADOS'!X404","v":0},{"$f":"'[1]HOJA GENERAL DATOS IMPORTADOS'!Y404","v":0},{"$f":"'[1]HOJA GENERAL DATOS IMPORTADOS'!Z404","v":0},{"$f":"'[1]HOJA GENERAL DATOS IMPORTADOS'!AA404","v":0},{"$f":"'[1]HOJA GENERAL DATOS IMPORTADOS'!AB404","v":0},{"$f":"'[1]HOJA GENERAL DATOS IMPORTADOS'!AC404","v":0},{"$f":"'[1]HOJA GENERAL DATOS IMPORTADOS'!AD404","v":0},{"$f":"'[1]HOJA GENERAL DATOS IMPORTADOS'!AE404","v":0},{"$f":"'[1]HOJA GENERAL DATOS IMPORTADOS'!AF404","v":0},{"$f":"'[1]HOJA GENERAL DATOS IMPORTADOS'!AG404","v":0},{"$f":"'[1]HOJA GENERAL DATOS IMPORTADOS'!AH404","v":0},{"$f":"'[1]HOJA GENERAL DATOS IMPORTADOS'!AI404","v":0}]
[{"$f":"'[1]HOJA GENERAL DATOS IMPORTADOS'!A405","v":0},{"$f":"'[1]HOJA GENERAL DATOS IMPORTADOS'!B405","v":0},{"$f":"'[1]HOJA GENERAL DATOS IMPORTADOS'!C405","v":0},{"$f":"'[1]HOJA GENERAL DATOS IMPORTADOS'!D405","v":0},{"$f":"'[1]HOJA GENERAL DATOS IMPORTADOS'!E405","v":0},{"$f":"'[1]HOJA GENERAL DATOS IMPORTADOS'!F405","v":0},{"$f":"'[1]HOJA GENERAL DATOS IMPORTADOS'!G405","v":0},{"$f":"'[1]HOJA GENERAL DATOS IMPORTADOS'!H405","v":0},{"$f":"'[1]HOJA GENERAL DATOS IMPORTADOS'!I405","v":0},{"$f":"'[1]HOJA GENERAL DATOS IMPORTADOS'!J405","v":0},{"$f":"'[1]HOJA GENERAL DATOS IMPORTADOS'!K405","v":0},{"$f":"'[1]HOJA GENERAL DATOS IMPORTADOS'!L405","v":0},{"$f":"'[1]HOJA GENERAL DATOS IMPORTADOS'!M405","v":0},{"$f":"'[1]HOJA GENERAL DATOS IMPORTADOS'!N405","v":0},{"$f":"'[1]HOJA GENERAL DATOS IMPORTADOS'!O405","v":0},{"$f":"'[1]HOJA GENERAL DATOS IMPORTADOS'!P405","v":0},{"$f":"'[1]HOJA GENERAL DATOS IMPORTADOS'!Q405","v":0},{"$f":"'[1]HOJA GENERAL DATOS IMPORTADOS'!R405","v":0},{"$f":"'[1]HOJA GENERAL DATOS IMPORTADOS'!S405","v":0},{"$f":"'[1]HOJA GENERAL DATOS IMPORTADOS'!T405","v":0},{"$f":"'[1]HOJA GENERAL DATOS IMPORTADOS'!U405","v":0},{"$f":"'[1]HOJA GENERAL DATOS IMPORTADOS'!V405","v":0},{"$f":"'[1]HOJA GENERAL DATOS IMPORTADOS'!W405","v":0},{"$f":"'[1]HOJA GENERAL DATOS IMPORTADOS'!X405","v":0},{"$f":"'[1]HOJA GENERAL DATOS IMPORTADOS'!Y405","v":0},{"$f":"'[1]HOJA GENERAL DATOS IMPORTADOS'!Z405","v":0},{"$f":"'[1]HOJA GENERAL DATOS IMPORTADOS'!AA405","v":0},{"$f":"'[1]HOJA GENERAL DATOS IMPORTADOS'!AB405","v":0},{"$f":"'[1]HOJA GENERAL DATOS IMPORTADOS'!AC405","v":0},{"$f":"'[1]HOJA GENERAL DATOS IMPORTADOS'!AD405","v":0},{"$f":"'[1]HOJA GENERAL DATOS IMPORTADOS'!AE405","v":0},{"$f":"'[1]HOJA GENERAL DATOS IMPORTADOS'!AF405","v":0},{"$f":"'[1]HOJA GENERAL DATOS IMPORTADOS'!AG405","v":0},{"$f":"'[1]HOJA GENERAL DATOS IMPORTADOS'!AH405","v":0},{"$f":"'[1]HOJA GENERAL DATOS IMPORTADOS'!AI405","v":0}]
[{"$f":"'[1]HOJA GENERAL DATOS IMPORTADOS'!A406","v":0},{"$f":"'[1]HOJA GENERAL DATOS IMPORTADOS'!B406","v":0},{"$f":"'[1]HOJA GENERAL DATOS IMPORTADOS'!C406","v":0},{"$f":"'[1]HOJA GENERAL DATOS IMPORTADOS'!D406","v":0},{"$f":"'[1]HOJA GENERAL DATOS IMPORTADOS'!E406","v":0},{"$f":"'[1]HOJA GENERAL DATOS IMPORTADOS'!F406","v":0},{"$f":"'[1]HOJA GENERAL DATOS IMPORTADOS'!G406","v":0},{"$f":"'[1]HOJA GENERAL DATOS IMPORTADOS'!H406","v":0},{"$f":"'[1]HOJA GENERAL DATOS IMPORTADOS'!I406","v":0},{"$f":"'[1]HOJA GENERAL DATOS IMPORTADOS'!J406","v":0},{"$f":"'[1]HOJA GENERAL DATOS IMPORTADOS'!K406","v":0},{"$f":"'[1]HOJA GENERAL DATOS IMPORTADOS'!L406","v":0},{"$f":"'[1]HOJA GENERAL DATOS IMPORTADOS'!M406","v":0},{"$f":"'[1]HOJA GENERAL DATOS IMPORTADOS'!N406","v":0},{"$f":"'[1]HOJA GENERAL DATOS IMPORTADOS'!O406","v":0},{"$f":"'[1]HOJA GENERAL DATOS IMPORTADOS'!P406","v":0},{"$f":"'[1]HOJA GENERAL DATOS IMPORTADOS'!Q406","v":0},{"$f":"'[1]HOJA GENERAL DATOS IMPORTADOS'!R406","v":0},{"$f":"'[1]HOJA GENERAL DATOS IMPORTADOS'!S406","v":0},{"$f":"'[1]HOJA GENERAL DATOS IMPORTADOS'!T406","v":0},{"$f":"'[1]HOJA GENERAL DATOS IMPORTADOS'!U406","v":0},{"$f":"'[1]HOJA GENERAL DATOS IMPORTADOS'!V406","v":0},{"$f":"'[1]HOJA GENERAL DATOS IMPORTADOS'!W406","v":0},{"$f":"'[1]HOJA GENERAL DATOS IMPORTADOS'!X406","v":0},{"$f":"'[1]HOJA GENERAL DATOS IMPORTADOS'!Y406","v":0},{"$f":"'[1]HOJA GENERAL DATOS IMPORTADOS'!Z406","v":0},{"$f":"'[1]HOJA GENERAL DATOS IMPORTADOS'!AA406","v":0},{"$f":"'[1]HOJA GENERAL DATOS IMPORTADOS'!AB406","v":0},{"$f":"'[1]HOJA GENERAL DATOS IMPORTADOS'!AC406","v":0},{"$f":"'[1]HOJA GENERAL DATOS IMPORTADOS'!AD406","v":0},{"$f":"'[1]HOJA GENERAL DATOS IMPORTADOS'!AE406","v":0},{"$f":"'[1]HOJA GENERAL DATOS IMPORTADOS'!AF406","v":0},{"$f":"'[1]HOJA GENERAL DATOS IMPORTADOS'!AG406","v":0},{"$f":"'[1]HOJA GENERAL DATOS IMPORTADOS'!AH406","v":0},{"$f":"'[1]HOJA GENERAL DATOS IMPORTADOS'!AI406","v":0}]
[{"$f":"'[1]HOJA GENERAL DATOS IMPORTADOS'!A407","v":0},{"$f":"'[1]HOJA GENERAL DATOS IMPORTADOS'!B407","v":0},{"$f":"'[1]HOJA GENERAL DATOS IMPORTADOS'!C407","v":0},{"$f":"'[1]HOJA GENERAL DATOS IMPORTADOS'!D407","v":0},{"$f":"'[1]HOJA GENERAL DATOS IMPORTADOS'!E407","v":0},{"$f":"'[1]HOJA GENERAL DATOS IMPORTADOS'!F407","v":0},{"$f":"'[1]HOJA GENERAL DATOS IMPORTADOS'!G407","v":0},{"$f":"'[1]HOJA GENERAL DATOS IMPORTADOS'!H407","v":0},{"$f":"'[1]HOJA GENERAL DATOS IMPORTADOS'!I407","v":0},{"$f":"'[1]HOJA GENERAL DATOS IMPORTADOS'!J407","v":0},{"$f":"'[1]HOJA GENERAL DATOS IMPORTADOS'!K407","v":0},{"$f":"'[1]HOJA GENERAL DATOS IMPORTADOS'!L407","v":0},{"$f":"'[1]HOJA GENERAL DATOS IMPORTADOS'!M407","v":0},{"$f":"'[1]HOJA GENERAL DATOS IMPORTADOS'!N407","v":0},{"$f":"'[1]HOJA GENERAL DATOS IMPORTADOS'!O407","v":0},{"$f":"'[1]HOJA GENERAL DATOS IMPORTADOS'!P407","v":0},{"$f":"'[1]HOJA GENERAL DATOS IMPORTADOS'!Q407","v":0},{"$f":"'[1]HOJA GENERAL DATOS IMPORTADOS'!R407","v":0},{"$f":"'[1]HOJA GENERAL DATOS IMPORTADOS'!S407","v":0},{"$f":"'[1]HOJA GENERAL DATOS IMPORTADOS'!T407","v":0},{"$f":"'[1]HOJA GENERAL DATOS IMPORTADOS'!U407","v":0},{"$f":"'[1]HOJA GENERAL DATOS IMPORTADOS'!V407","v":0},{"$f":"'[1]HOJA GENERAL DATOS IMPORTADOS'!W407","v":0},{"$f":"'[1]HOJA GENERAL DATOS IMPORTADOS'!X407","v":0},{"$f":"'[1]HOJA GENERAL DATOS IMPORTADOS'!Y407","v":0},{"$f":"'[1]HOJA GENERAL DATOS IMPORTADOS'!Z407","v":0},{"$f":"'[1]HOJA GENERAL DATOS IMPORTADOS'!AA407","v":0},{"$f":"'[1]HOJA GENERAL DATOS IMPORTADOS'!AB407","v":0},{"$f":"'[1]HOJA GENERAL DATOS IMPORTADOS'!AC407","v":0},{"$f":"'[1]HOJA GENERAL DATOS IMPORTADOS'!AD407","v":0},{"$f":"'[1]HOJA GENERAL DATOS IMPORTADOS'!AE407","v":0},{"$f":"'[1]HOJA GENERAL DATOS IMPORTADOS'!AF407","v":0},{"$f":"'[1]HOJA GENERAL DATOS IMPORTADOS'!AG407","v":0},{"$f":"'[1]HOJA GENERAL DATOS IMPORTADOS'!AH407","v":0},{"$f":"'[1]HOJA GENERAL DATOS IMPORTADOS'!AI407","v":0}]
[{"$f":"'[1]HOJA GENERAL DATOS IMPORTADOS'!A408","v":0},{"$f":"'[1]HOJA GENERAL DATOS IMPORTADOS'!B408","v":0},{"$f":"'[1]HOJA GENERAL DATOS IMPORTADOS'!C408","v":0},{"$f":"'[1]HOJA GENERAL DATOS IMPORTADOS'!D408","v":0},{"$f":"'[1]HOJA GENERAL DATOS IMPORTADOS'!E408","v":0},{"$f":"'[1]HOJA GENERAL DATOS IMPORTADOS'!F408","v":0},{"$f":"'[1]HOJA GENERAL DATOS IMPORTADOS'!G408","v":0},{"$f":"'[1]HOJA GENERAL DATOS IMPORTADOS'!H408","v":0},{"$f":"'[1]HOJA GENERAL DATOS IMPORTADOS'!I408","v":0},{"$f":"'[1]HOJA GENERAL DATOS IMPORTADOS'!J408","v":0},{"$f":"'[1]HOJA GENERAL DATOS IMPORTADOS'!K408","v":0},{"$f":"'[1]HOJA GENERAL DATOS IMPORTADOS'!L408","v":0},{"$f":"'[1]HOJA GENERAL DATOS IMPORTADOS'!M408","v":0},{"$f":"'[1]HOJA GENERAL DATOS IMPORTADOS'!N408","v":0},{"$f":"'[1]HOJA GENERAL DATOS IMPORTADOS'!O408","v":0},{"$f":"'[1]HOJA GENERAL DATOS IMPORTADOS'!P408","v":0},{"$f":"'[1]HOJA GENERAL DATOS IMPORTADOS'!Q408","v":0},{"$f":"'[1]HOJA GENERAL DATOS IMPORTADOS'!R408","v":0},{"$f":"'[1]HOJA GENERAL DATOS IMPORTADOS'!S408","v":0},{"$f":"'[1]HOJA GENERAL DATOS IMPORTADOS'!T408","v":0},{"$f":"'[1]HOJA GENERAL DATOS IMPORTADOS'!U408","v":0},{"$f":"'[1]HOJA GENERAL DATOS IMPORTADOS'!V408","v":0},{"$f":"'[1]HOJA GENERAL DATOS IMPORTADOS'!W408","v":0},{"$f":"'[1]HOJA GENERAL DATOS IMPORTADOS'!X408","v":0},{"$f":"'[1]HOJA GENERAL DATOS IMPORTADOS'!Y408","v":0},{"$f":"'[1]HOJA GENERAL DATOS IMPORTADOS'!Z408","v":0},{"$f":"'[1]HOJA GENERAL DATOS IMPORTADOS'!AA408","v":0},{"$f":"'[1]HOJA GENERAL DATOS IMPORTADOS'!AB408","v":0},{"$f":"'[1]HOJA GENERAL DATOS IMPORTADOS'!AC408","v":0},{"$f":"'[1]HOJA GENERAL DATOS IMPORTADOS'!AD408","v":0},{"$f":"'[1]HOJA GENERAL DATOS IMPORTADOS'!AE408","v":0},{"$f":"'[1]HOJA GENERAL DATOS IMPORTADOS'!AF408","v":0},{"$f":"'[1]HOJA GENERAL DATOS IMPORTADOS'!AG408","v":0},{"$f":"'[1]HOJA GENERAL DATOS IMPORTADOS'!AH408","v":0},{"$f":"'[1]HOJA GENERAL DATOS IMPORTADOS'!AI408","v":0}]
[{"$f":"'[1]HOJA GENERAL DATOS IMPORTADOS'!A409","v":0},{"$f":"'[1]HOJA GENERAL DATOS IMPORTADOS'!B409","v":0},{"$f":"'[1]HOJA GENERAL DATOS IMPORTADOS'!C409","v":0},{"$f":"'[1]HOJA GENERAL DATOS IMPORTADOS'!D409","v":0},{"$f":"'[1]HOJA GENERAL DATOS IMPORTADOS'!E409","v":0},{"$f":"'[1]HOJA GENERAL DATOS IMPORTADOS'!F409","v":0},{"$f":"'[1]HOJA GENERAL DATOS IMPORTADOS'!G409","v":0},{"$f":"'[1]HOJA GENERAL DATOS IMPORTADOS'!H409","v":0},{"$f":"'[1]HOJA GENERAL DATOS IMPORTADOS'!I409","v":0},{"$f":"'[1]HOJA GENERAL DATOS IMPORTADOS'!J409","v":0},{"$f":"'[1]HOJA GENERAL DATOS IMPORTADOS'!K409","v":0},{"$f":"'[1]HOJA GENERAL DATOS IMPORTADOS'!L409","v":0},{"$f":"'[1]HOJA GENERAL DATOS IMPORTADOS'!M409","v":0},{"$f":"'[1]HOJA GENERAL DATOS IMPORTADOS'!N409","v":0},{"$f":"'[1]HOJA GENERAL DATOS IMPORTADOS'!O409","v":0},{"$f":"'[1]HOJA GENERAL DATOS IMPORTADOS'!P409","v":0},{"$f":"'[1]HOJA GENERAL DATOS IMPORTADOS'!Q409","v":0},{"$f":"'[1]HOJA GENERAL DATOS IMPORTADOS'!R409","v":0},{"$f":"'[1]HOJA GENERAL DATOS IMPORTADOS'!S409","v":0},{"$f":"'[1]HOJA GENERAL DATOS IMPORTADOS'!T409","v":0},{"$f":"'[1]HOJA GENERAL DATOS IMPORTADOS'!U409","v":0},{"$f":"'[1]HOJA GENERAL DATOS IMPORTADOS'!V409","v":0},{"$f":"'[1]HOJA GENERAL DATOS IMPORTADOS'!W409","v":0},{"$f":"'[1]HOJA GENERAL DATOS IMPORTADOS'!X409","v":0},{"$f":"'[1]HOJA GENERAL DATOS IMPORTADOS'!Y409","v":0},{"$f":"'[1]HOJA GENERAL DATOS IMPORTADOS'!Z409","v":0},{"$f":"'[1]HOJA GENERAL DATOS IMPORTADOS'!AA409","v":0},{"$f":"'[1]HOJA GENERAL DATOS IMPORTADOS'!AB409","v":0},{"$f":"'[1]HOJA GENERAL DATOS IMPORTADOS'!AC409","v":0},{"$f":"'[1]HOJA GENERAL DATOS IMPORTADOS'!AD409","v":0},{"$f":"'[1]HOJA GENERAL DATOS IMPORTADOS'!AE409","v":0},{"$f":"'[1]HOJA GENERAL DATOS IMPORTADOS'!AF409","v":0},{"$f":"'[1]HOJA GENERAL DATOS IMPORTADOS'!AG409","v":0},{"$f":"'[1]HOJA GENERAL DATOS IMPORTADOS'!AH409","v":0},{"$f":"'[1]HOJA GENERAL DATOS IMPORTADOS'!AI409","v":0}]
[{"$f":"'[1]HOJA GENERAL DATOS IMPORTADOS'!A410","v":0},{"$f":"'[1]HOJA GENERAL DATOS IMPORTADOS'!B410","v":0},{"$f":"'[1]HOJA GENERAL DATOS IMPORTADOS'!C410","v":0},{"$f":"'[1]HOJA GENERAL DATOS IMPORTADOS'!D410","v":0},{"$f":"'[1]HOJA GENERAL DATOS IMPORTADOS'!E410","v":0},{"$f":"'[1]HOJA GENERAL DATOS IMPORTADOS'!F410","v":0},{"$f":"'[1]HOJA GENERAL DATOS IMPORTADOS'!G410","v":0},{"$f":"'[1]HOJA GENERAL DATOS IMPORTADOS'!H410","v":0},{"$f":"'[1]HOJA GENERAL DATOS IMPORTADOS'!I410","v":0},{"$f":"'[1]HOJA GENERAL DATOS IMPORTADOS'!J410","v":0},{"$f":"'[1]HOJA GENERAL DATOS IMPORTADOS'!K410","v":0},{"$f":"'[1]HOJA GENERAL DATOS IMPORTADOS'!L410","v":0},{"$f":"'[1]HOJA GENERAL DATOS IMPORTADOS'!M410","v":0},{"$f":"'[1]HOJA GENERAL DATOS IMPORTADOS'!N410","v":0},{"$f":"'[1]HOJA GENERAL DATOS IMPORTADOS'!O410","v":0},{"$f":"'[1]HOJA GENERAL DATOS IMPORTADOS'!P410","v":0},{"$f":"'[1]HOJA GENERAL DATOS IMPORTADOS'!Q410","v":0},{"$f":"'[1]HOJA GENERAL DATOS IMPORTADOS'!R410","v":0},{"$f":"'[1]HOJA GENERAL DATOS IMPORTADOS'!S410","v":0},{"$f":"'[1]HOJA GENERAL DATOS IMPORTADOS'!T410","v":0},{"$f":"'[1]HOJA GENERAL DATOS IMPORTADOS'!U410","v":0},{"$f":"'[1]HOJA GENERAL DATOS IMPORTADOS'!V410","v":0},{"$f":"'[1]HOJA GENERAL DATOS IMPORTADOS'!W410","v":0},{"$f":"'[1]HOJA GENERAL DATOS IMPORTADOS'!X410","v":0},{"$f":"'[1]HOJA GENERAL DATOS IMPORTADOS'!Y410","v":0},{"$f":"'[1]HOJA GENERAL DATOS IMPORTADOS'!Z410","v":0},{"$f":"'[1]HOJA GENERAL DATOS IMPORTADOS'!AA410","v":0},{"$f":"'[1]HOJA GENERAL DATOS IMPORTADOS'!AB410","v":0},{"$f":"'[1]HOJA GENERAL DATOS IMPORTADOS'!AC410","v":0},{"$f":"'[1]HOJA GENERAL DATOS IMPORTADOS'!AD410","v":0},{"$f":"'[1]HOJA GENERAL DATOS IMPORTADOS'!AE410","v":0},{"$f":"'[1]HOJA GENERAL DATOS IMPORTADOS'!AF410","v":0},{"$f":"'[1]HOJA GENERAL DATOS IMPORTADOS'!AG410","v":0},{"$f":"'[1]HOJA GENERAL DATOS IMPORTADOS'!AH410","v":0},{"$f":"'[1]HOJA GENERAL DATOS IMPORTADOS'!AI410","v":0}]
[{"$f":"'[1]HOJA GENERAL DATOS IMPORTADOS'!A411","v":0},{"$f":"'[1]HOJA GENERAL DATOS IMPORTADOS'!B411","v":0},{"$f":"'[1]HOJA GENERAL DATOS IMPORTADOS'!C411","v":0},{"$f":"'[1]HOJA GENERAL DATOS IMPORTADOS'!D411","v":0},{"$f":"'[1]HOJA GENERAL DATOS IMPORTADOS'!E411","v":0},{"$f":"'[1]HOJA GENERAL DATOS IMPORTADOS'!F411","v":0},{"$f":"'[1]HOJA GENERAL DATOS IMPORTADOS'!G411","v":0},{"$f":"'[1]HOJA GENERAL DATOS IMPORTADOS'!H411","v":0},{"$f":"'[1]HOJA GENERAL DATOS IMPORTADOS'!I411","v":0},{"$f":"'[1]HOJA GENERAL DATOS IMPORTADOS'!J411","v":0},{"$f":"'[1]HOJA GENERAL DATOS IMPORTADOS'!K411","v":0},{"$f":"'[1]HOJA GENERAL DATOS IMPORTADOS'!L411","v":0},{"$f":"'[1]HOJA GENERAL DATOS IMPORTADOS'!M411","v":0},{"$f":"'[1]HOJA GENERAL DATOS IMPORTADOS'!N411","v":0},{"$f":"'[1]HOJA GENERAL DATOS IMPORTADOS'!O411","v":0},{"$f":"'[1]HOJA GENERAL DATOS IMPORTADOS'!P411","v":0},{"$f":"'[1]HOJA GENERAL DATOS IMPORTADOS'!Q411","v":0},{"$f":"'[1]HOJA GENERAL DATOS IMPORTADOS'!R411","v":0},{"$f":"'[1]HOJA GENERAL DATOS IMPORTADOS'!S411","v":0},{"$f":"'[1]HOJA GENERAL DATOS IMPORTADOS'!T411","v":0},{"$f":"'[1]HOJA GENERAL DATOS IMPORTADOS'!U411","v":0},{"$f":"'[1]HOJA GENERAL DATOS IMPORTADOS'!V411","v":0},{"$f":"'[1]HOJA GENERAL DATOS IMPORTADOS'!W411","v":0},{"$f":"'[1]HOJA GENERAL DATOS IMPORTADOS'!X411","v":0},{"$f":"'[1]HOJA GENERAL DATOS IMPORTADOS'!Y411","v":0},{"$f":"'[1]HOJA GENERAL DATOS IMPORTADOS'!Z411","v":0},{"$f":"'[1]HOJA GENERAL DATOS IMPORTADOS'!AA411","v":0},{"$f":"'[1]HOJA GENERAL DATOS IMPORTADOS'!AB411","v":0},{"$f":"'[1]HOJA GENERAL DATOS IMPORTADOS'!AC411","v":0},{"$f":"'[1]HOJA GENERAL DATOS IMPORTADOS'!AD411","v":0},{"$f":"'[1]HOJA GENERAL DATOS IMPORTADOS'!AE411","v":0},{"$f":"'[1]HOJA GENERAL DATOS IMPORTADOS'!AF411","v":0},{"$f":"'[1]HOJA GENERAL DATOS IMPORTADOS'!AG411","v":0},{"$f":"'[1]HOJA GENERAL DATOS IMPORTADOS'!AH411","v":0},{"$f":"'[1]HOJA GENERAL DATOS IMPORTADOS'!AI411","v":0}]
[{"$f":"'[1]HOJA GENERAL DATOS IMPORTADOS'!A412","v":0},{"$f":"'[1]HOJA GENERAL DATOS IMPORTADOS'!B412","v":0},{"$f":"'[1]HOJA GENERAL DATOS IMPORTADOS'!C412","v":0},{"$f":"'[1]HOJA GENERAL DATOS IMPORTADOS'!D412","v":0},{"$f":"'[1]HOJA GENERAL DATOS IMPORTADOS'!E412","v":0},{"$f":"'[1]HOJA GENERAL DATOS IMPORTADOS'!F412","v":0},{"$f":"'[1]HOJA GENERAL DATOS IMPORTADOS'!G412","v":0},{"$f":"'[1]HOJA GENERAL DATOS IMPORTADOS'!H412","v":0},{"$f":"'[1]HOJA GENERAL DATOS IMPORTADOS'!I412","v":0},{"$f":"'[1]HOJA GENERAL DATOS IMPORTADOS'!J412","v":0},{"$f":"'[1]HOJA GENERAL DATOS IMPORTADOS'!K412","v":0},{"$f":"'[1]HOJA GENERAL DATOS IMPORTADOS'!L412","v":0},{"$f":"'[1]HOJA GENERAL DATOS IMPORTADOS'!M412","v":0},{"$f":"'[1]HOJA GENERAL DATOS IMPORTADOS'!N412","v":0},{"$f":"'[1]HOJA GENERAL DATOS IMPORTADOS'!O412","v":0},{"$f":"'[1]HOJA GENERAL DATOS IMPORTADOS'!P412","v":0},{"$f":"'[1]HOJA GENERAL DATOS IMPORTADOS'!Q412","v":0},{"$f":"'[1]HOJA GENERAL DATOS IMPORTADOS'!R412","v":0},{"$f":"'[1]HOJA GENERAL DATOS IMPORTADOS'!S412","v":0},{"$f":"'[1]HOJA GENERAL DATOS IMPORTADOS'!T412","v":0},{"$f":"'[1]HOJA GENERAL DATOS IMPORTADOS'!U412","v":0},{"$f":"'[1]HOJA GENERAL DATOS IMPORTADOS'!V412","v":0},{"$f":"'[1]HOJA GENERAL DATOS IMPORTADOS'!W412","v":0},{"$f":"'[1]HOJA GENERAL DATOS IMPORTADOS'!X412","v":0},{"$f":"'[1]HOJA GENERAL DATOS IMPORTADOS'!Y412","v":0},{"$f":"'[1]HOJA GENERAL DATOS IMPORTADOS'!Z412","v":0},{"$f":"'[1]HOJA GENERAL DATOS IMPORTADOS'!AA412","v":0},{"$f":"'[1]HOJA GENERAL DATOS IMPORTADOS'!AB412","v":0},{"$f":"'[1]HOJA GENERAL DATOS IMPORTADOS'!AC412","v":0},{"$f":"'[1]HOJA GENERAL DATOS IMPORTADOS'!AD412","v":0},{"$f":"'[1]HOJA GENERAL DATOS IMPORTADOS'!AE412","v":0},{"$f":"'[1]HOJA GENERAL DATOS IMPORTADOS'!AF412","v":0},{"$f":"'[1]HOJA GENERAL DATOS IMPORTADOS'!AG412","v":0},{"$f":"'[1]HOJA GENERAL DATOS IMPORTADOS'!AH412","v":0},{"$f":"'[1]HOJA GENERAL DATOS IMPORTADOS'!AI412","v":0}]
[{"$f":"'[1]HOJA GENERAL DATOS IMPORTADOS'!A413","v":0},{"$f":"'[1]HOJA GENERAL DATOS IMPORTADOS'!B413","v":0},{"$f":"'[1]HOJA GENERAL DATOS IMPORTADOS'!C413","v":0},{"$f":"'[1]HOJA GENERAL DATOS IMPORTADOS'!D413","v":0},{"$f":"'[1]HOJA GENERAL DATOS IMPORTADOS'!E413","v":0},{"$f":"'[1]HOJA GENERAL DATOS IMPORTADOS'!F413","v":0},{"$f":"'[1]HOJA GENERAL DATOS IMPORTADOS'!G413","v":0},{"$f":"'[1]HOJA GENERAL DATOS IMPORTADOS'!H413","v":0},{"$f":"'[1]HOJA GENERAL DATOS IMPORTADOS'!I413","v":0},{"$f":"'[1]HOJA GENERAL DATOS IMPORTADOS'!J413","v":0},{"$f":"'[1]HOJA GENERAL DATOS IMPORTADOS'!K413","v":0},{"$f":"'[1]HOJA GENERAL DATOS IMPORTADOS'!L413","v":0},{"$f":"'[1]HOJA GENERAL DATOS IMPORTADOS'!M413","v":0},{"$f":"'[1]HOJA GENERAL DATOS IMPORTADOS'!N413","v":0},{"$f":"'[1]HOJA GENERAL DATOS IMPORTADOS'!O413","v":0},{"$f":"'[1]HOJA GENERAL DATOS IMPORTADOS'!P413","v":0},{"$f":"'[1]HOJA GENERAL DATOS IMPORTADOS'!Q413","v":0},{"$f":"'[1]HOJA GENERAL DATOS IMPORTADOS'!R413","v":0},{"$f":"'[1]HOJA GENERAL DATOS IMPORTADOS'!S413","v":0},{"$f":"'[1]HOJA GENERAL DATOS IMPORTADOS'!T413","v":0},{"$f":"'[1]HOJA GENERAL DATOS IMPORTADOS'!U413","v":0},{"$f":"'[1]HOJA GENERAL DATOS IMPORTADOS'!V413","v":0},{"$f":"'[1]HOJA GENERAL DATOS IMPORTADOS'!W413","v":0},{"$f":"'[1]HOJA GENERAL DATOS IMPORTADOS'!X413","v":0},{"$f":"'[1]HOJA GENERAL DATOS IMPORTADOS'!Y413","v":0},{"$f":"'[1]HOJA GENERAL DATOS IMPORTADOS'!Z413","v":0},{"$f":"'[1]HOJA GENERAL DATOS IMPORTADOS'!AA413","v":0},{"$f":"'[1]HOJA GENERAL DATOS IMPORTADOS'!AB413","v":0},{"$f":"'[1]HOJA GENERAL DATOS IMPORTADOS'!AC413","v":0},{"$f":"'[1]HOJA GENERAL DATOS IMPORTADOS'!AD413","v":0},{"$f":"'[1]HOJA GENERAL DATOS IMPORTADOS'!AE413","v":0},{"$f":"'[1]HOJA GENERAL DATOS IMPORTADOS'!AF413","v":0},{"$f":"'[1]HOJA GENERAL DATOS IMPORTADOS'!AG413","v":0},{"$f":"'[1]HOJA GENERAL DATOS IMPORTADOS'!AH413","v":0},{"$f":"'[1]HOJA GENERAL DATOS IMPORTADOS'!AI413","v":0}]
[{"$f":"'[1]HOJA GENERAL DATOS IMPORTADOS'!A414","v":0},{"$f":"'[1]HOJA GENERAL DATOS IMPORTADOS'!B414","v":0},{"$f":"'[1]HOJA GENERAL DATOS IMPORTADOS'!C414","v":0},{"$f":"'[1]HOJA GENERAL DATOS IMPORTADOS'!D414","v":0},{"$f":"'[1]HOJA GENERAL DATOS IMPORTADOS'!E414","v":0},{"$f":"'[1]HOJA GENERAL DATOS IMPORTADOS'!F414","v":0},{"$f":"'[1]HOJA GENERAL DATOS IMPORTADOS'!G414","v":0},{"$f":"'[1]HOJA GENERAL DATOS IMPORTADOS'!H414","v":0},{"$f":"'[1]HOJA GENERAL DATOS IMPORTADOS'!I414","v":0},{"$f":"'[1]HOJA GENERAL DATOS IMPORTADOS'!J414","v":0},{"$f":"'[1]HOJA GENERAL DATOS IMPORTADOS'!K414","v":0},{"$f":"'[1]HOJA GENERAL DATOS IMPORTADOS'!L414","v":0},{"$f":"'[1]HOJA GENERAL DATOS IMPORTADOS'!M414","v":0},{"$f":"'[1]HOJA GENERAL DATOS IMPORTADOS'!N414","v":0},{"$f":"'[1]HOJA GENERAL DATOS IMPORTADOS'!O414","v":0},{"$f":"'[1]HOJA GENERAL DATOS IMPORTADOS'!P414","v":0},{"$f":"'[1]HOJA GENERAL DATOS IMPORTADOS'!Q414","v":0},{"$f":"'[1]HOJA GENERAL DATOS IMPORTADOS'!R414","v":0},{"$f":"'[1]HOJA GENERAL DATOS IMPORTADOS'!S414","v":0},{"$f":"'[1]HOJA GENERAL DATOS IMPORTADOS'!T414","v":0},{"$f":"'[1]HOJA GENERAL DATOS IMPORTADOS'!U414","v":0},{"$f":"'[1]HOJA GENERAL DATOS IMPORTADOS'!V414","v":0},{"$f":"'[1]HOJA GENERAL DATOS IMPORTADOS'!W414","v":0},{"$f":"'[1]HOJA GENERAL DATOS IMPORTADOS'!X414","v":0},{"$f":"'[1]HOJA GENERAL DATOS IMPORTADOS'!Y414","v":0},{"$f":"'[1]HOJA GENERAL DATOS IMPORTADOS'!Z414","v":0},{"$f":"'[1]HOJA GENERAL DATOS IMPORTADOS'!AA414","v":0},{"$f":"'[1]HOJA GENERAL DATOS IMPORTADOS'!AB414","v":0},{"$f":"'[1]HOJA GENERAL DATOS IMPORTADOS'!AC414","v":0},{"$f":"'[1]HOJA GENERAL DATOS IMPORTADOS'!AD414","v":0},{"$f":"'[1]HOJA GENERAL DATOS IMPORTADOS'!AE414","v":0},{"$f":"'[1]HOJA GENERAL DATOS IMPORTADOS'!AF414","v":0},{"$f":"'[1]HOJA GENERAL DATOS IMPORTADOS'!AG414","v":0},{"$f":"'[1]HOJA GENERAL DATOS IMPORTADOS'!AH414","v":0},{"$f":"'[1]HOJA GENERAL DATOS IMPORTADOS'!AI414","v":0}]
[{"$f":"'[1]HOJA GENERAL DATOS IMPORTADOS'!A415","v":0},{"$f":"'[1]HOJA GENERAL DATOS IMPORTADOS'!B415","v":0},{"$f":"'[1]HOJA GENERAL DATOS IMPORTADOS'!C415","v":0},{"$f":"'[1]HOJA GENERAL DATOS IMPORTADOS'!D415","v":0},{"$f":"'[1]HOJA GENERAL DATOS IMPORTADOS'!E415","v":0},{"$f":"'[1]HOJA GENERAL DATOS IMPORTADOS'!F415","v":0},{"$f":"'[1]HOJA GENERAL DATOS IMPORTADOS'!G415","v":0},{"$f":"'[1]HOJA GENERAL DATOS IMPORTADOS'!H415","v":0},{"$f":"'[1]HOJA GENERAL DATOS IMPORTADOS'!I415","v":0},{"$f":"'[1]HOJA GENERAL DATOS IMPORTADOS'!J415","v":0},{"$f":"'[1]HOJA GENERAL DATOS IMPORTADOS'!K415","v":0},{"$f":"'[1]HOJA GENERAL DATOS IMPORTADOS'!L415","v":0},{"$f":"'[1]HOJA GENERAL DATOS IMPORTADOS'!M415","v":0},{"$f":"'[1]HOJA GENERAL DATOS IMPORTADOS'!N415","v":0},{"$f":"'[1]HOJA GENERAL DATOS IMPORTADOS'!O415","v":0},{"$f":"'[1]HOJA GENERAL DATOS IMPORTADOS'!P415","v":0},{"$f":"'[1]HOJA GENERAL DATOS IMPORTADOS'!Q415","v":0},{"$f":"'[1]HOJA GENERAL DATOS IMPORTADOS'!R415","v":0},{"$f":"'[1]HOJA GENERAL DATOS IMPORTADOS'!S415","v":0},{"$f":"'[1]HOJA GENERAL DATOS IMPORTADOS'!T415","v":0},{"$f":"'[1]HOJA GENERAL DATOS IMPORTADOS'!U415","v":0},{"$f":"'[1]HOJA GENERAL DATOS IMPORTADOS'!V415","v":0},{"$f":"'[1]HOJA GENERAL DATOS IMPORTADOS'!W415","v":0},{"$f":"'[1]HOJA GENERAL DATOS IMPORTADOS'!X415","v":0},{"$f":"'[1]HOJA GENERAL DATOS IMPORTADOS'!Y415","v":0},{"$f":"'[1]HOJA GENERAL DATOS IMPORTADOS'!Z415","v":0},{"$f":"'[1]HOJA GENERAL DATOS IMPORTADOS'!AA415","v":0},{"$f":"'[1]HOJA GENERAL DATOS IMPORTADOS'!AB415","v":0},{"$f":"'[1]HOJA GENERAL DATOS IMPORTADOS'!AC415","v":0},{"$f":"'[1]HOJA GENERAL DATOS IMPORTADOS'!AD415","v":0},{"$f":"'[1]HOJA GENERAL DATOS IMPORTADOS'!AE415","v":0},{"$f":"'[1]HOJA GENERAL DATOS IMPORTADOS'!AF415","v":0},{"$f":"'[1]HOJA GENERAL DATOS IMPORTADOS'!AG415","v":0},{"$f":"'[1]HOJA GENERAL DATOS IMPORTADOS'!AH415","v":0},{"$f":"'[1]HOJA GENERAL DATOS IMPORTADOS'!AI415","v":0}]
[{"$f":"'[1]HOJA GENERAL DATOS IMPORTADOS'!A416","v":0},{"$f":"'[1]HOJA GENERAL DATOS IMPORTADOS'!B416","v":0},{"$f":"'[1]HOJA GENERAL DATOS IMPORTADOS'!C416","v":0},{"$f":"'[1]HOJA GENERAL DATOS IMPORTADOS'!D416","v":0},{"$f":"'[1]HOJA GENERAL DATOS IMPORTADOS'!E416","v":0},{"$f":"'[1]HOJA GENERAL DATOS IMPORTADOS'!F416","v":0},{"$f":"'[1]HOJA GENERAL DATOS IMPORTADOS'!G416","v":0},{"$f":"'[1]HOJA GENERAL DATOS IMPORTADOS'!H416","v":0},{"$f":"'[1]HOJA GENERAL DATOS IMPORTADOS'!I416","v":0},{"$f":"'[1]HOJA GENERAL DATOS IMPORTADOS'!J416","v":0},{"$f":"'[1]HOJA GENERAL DATOS IMPORTADOS'!K416","v":0},{"$f":"'[1]HOJA GENERAL DATOS IMPORTADOS'!L416","v":0},{"$f":"'[1]HOJA GENERAL DATOS IMPORTADOS'!M416","v":0},{"$f":"'[1]HOJA GENERAL DATOS IMPORTADOS'!N416","v":0},{"$f":"'[1]HOJA GENERAL DATOS IMPORTADOS'!O416","v":0},{"$f":"'[1]HOJA GENERAL DATOS IMPORTADOS'!P416","v":0},{"$f":"'[1]HOJA GENERAL DATOS IMPORTADOS'!Q416","v":0},{"$f":"'[1]HOJA GENERAL DATOS IMPORTADOS'!R416","v":0},{"$f":"'[1]HOJA GENERAL DATOS IMPORTADOS'!S416","v":0},{"$f":"'[1]HOJA GENERAL DATOS IMPORTADOS'!T416","v":0},{"$f":"'[1]HOJA GENERAL DATOS IMPORTADOS'!U416","v":0},{"$f":"'[1]HOJA GENERAL DATOS IMPORTADOS'!V416","v":0},{"$f":"'[1]HOJA GENERAL DATOS IMPORTADOS'!W416","v":0},{"$f":"'[1]HOJA GENERAL DATOS IMPORTADOS'!X416","v":0},{"$f":"'[1]HOJA GENERAL DATOS IMPORTADOS'!Y416","v":0},{"$f":"'[1]HOJA GENERAL DATOS IMPORTADOS'!Z416","v":0},{"$f":"'[1]HOJA GENERAL DATOS IMPORTADOS'!AA416","v":0},{"$f":"'[1]HOJA GENERAL DATOS IMPORTADOS'!AB416","v":0},{"$f":"'[1]HOJA GENERAL DATOS IMPORTADOS'!AC416","v":0},{"$f":"'[1]HOJA GENERAL DATOS IMPORTADOS'!AD416","v":0},{"$f":"'[1]HOJA GENERAL DATOS IMPORTADOS'!AE416","v":0},{"$f":"'[1]HOJA GENERAL DATOS IMPORTADOS'!AF416","v":0},{"$f":"'[1]HOJA GENERAL DATOS IMPORTADOS'!AG416","v":0},{"$f":"'[1]HOJA GENERAL DATOS IMPORTADOS'!AH416","v":0},{"$f":"'[1]HOJA GENERAL DATOS IMPORTADOS'!AI416","v":0}]
[{"$f":"'[1]HOJA GENERAL DATOS IMPORTADOS'!A417","v":0},{"$f":"'[1]HOJA GENERAL DATOS IMPORTADOS'!B417","v":0},{"$f":"'[1]HOJA GENERAL DATOS IMPORTADOS'!C417","v":0},{"$f":"'[1]HOJA GENERAL DATOS IMPORTADOS'!D417","v":0},{"$f":"'[1]HOJA GENERAL DATOS IMPORTADOS'!E417","v":0},{"$f":"'[1]HOJA GENERAL DATOS IMPORTADOS'!F417","v":0},{"$f":"'[1]HOJA GENERAL DATOS IMPORTADOS'!G417","v":0},{"$f":"'[1]HOJA GENERAL DATOS IMPORTADOS'!H417","v":0},{"$f":"'[1]HOJA GENERAL DATOS IMPORTADOS'!I417","v":0},{"$f":"'[1]HOJA GENERAL DATOS IMPORTADOS'!J417","v":0},{"$f":"'[1]HOJA GENERAL DATOS IMPORTADOS'!K417","v":0},{"$f":"'[1]HOJA GENERAL DATOS IMPORTADOS'!L417","v":0},{"$f":"'[1]HOJA GENERAL DATOS IMPORTADOS'!M417","v":0},{"$f":"'[1]HOJA GENERAL DATOS IMPORTADOS'!N417","v":0},{"$f":"'[1]HOJA GENERAL DATOS IMPORTADOS'!O417","v":0},{"$f":"'[1]HOJA GENERAL DATOS IMPORTADOS'!P417","v":0},{"$f":"'[1]HOJA GENERAL DATOS IMPORTADOS'!Q417","v":0},{"$f":"'[1]HOJA GENERAL DATOS IMPORTADOS'!R417","v":0},{"$f":"'[1]HOJA GENERAL DATOS IMPORTADOS'!S417","v":0},{"$f":"'[1]HOJA GENERAL DATOS IMPORTADOS'!T417","v":0},{"$f":"'[1]HOJA GENERAL DATOS IMPORTADOS'!U417","v":0},{"$f":"'[1]HOJA GENERAL DATOS IMPORTADOS'!V417","v":0},{"$f":"'[1]HOJA GENERAL DATOS IMPORTADOS'!W417","v":0},{"$f":"'[1]HOJA GENERAL DATOS IMPORTADOS'!X417","v":0},{"$f":"'[1]HOJA GENERAL DATOS IMPORTADOS'!Y417","v":0},{"$f":"'[1]HOJA GENERAL DATOS IMPORTADOS'!Z417","v":0},{"$f":"'[1]HOJA GENERAL DATOS IMPORTADOS'!AA417","v":0},{"$f":"'[1]HOJA GENERAL DATOS IMPORTADOS'!AB417","v":0},{"$f":"'[1]HOJA GENERAL DATOS IMPORTADOS'!AC417","v":0},{"$f":"'[1]HOJA GENERAL DATOS IMPORTADOS'!AD417","v":0},{"$f":"'[1]HOJA GENERAL DATOS IMPORTADOS'!AE417","v":0},{"$f":"'[1]HOJA GENERAL DATOS IMPORTADOS'!AF417","v":0},{"$f":"'[1]HOJA GENERAL DATOS IMPORTADOS'!AG417","v":0},{"$f":"'[1]HOJA GENERAL DATOS IMPORTADOS'!AH417","v":0},{"$f":"'[1]HOJA GENERAL DATOS IMPORTADOS'!AI417","v":0}]
[{"$f":"'[1]HOJA GENERAL DATOS IMPORTADOS'!A418","v":0},{"$f":"'[1]HOJA GENERAL DATOS IMPORTADOS'!B418","v":0},{"$f":"'[1]HOJA GENERAL DATOS IMPORTADOS'!C418","v":0},{"$f":"'[1]HOJA GENERAL DATOS IMPORTADOS'!D418","v":0},{"$f":"'[1]HOJA GENERAL DATOS IMPORTADOS'!E418","v":0},{"$f":"'[1]HOJA GENERAL DATOS IMPORTADOS'!F418","v":0},{"$f":"'[1]HOJA GENERAL DATOS IMPORTADOS'!G418","v":0},{"$f":"'[1]HOJA GENERAL DATOS IMPORTADOS'!H418","v":0},{"$f":"'[1]HOJA GENERAL DATOS IMPORTADOS'!I418","v":0},{"$f":"'[1]HOJA GENERAL DATOS IMPORTADOS'!J418","v":0},{"$f":"'[1]HOJA GENERAL DATOS IMPORTADOS'!K418","v":0},{"$f":"'[1]HOJA GENERAL DATOS IMPORTADOS'!L418","v":0},{"$f":"'[1]HOJA GENERAL DATOS IMPORTADOS'!M418","v":0},{"$f":"'[1]HOJA GENERAL DATOS IMPORTADOS'!N418","v":0},{"$f":"'[1]HOJA GENERAL DATOS IMPORTADOS'!O418","v":0},{"$f":"'[1]HOJA GENERAL DATOS IMPORTADOS'!P418","v":0},{"$f":"'[1]HOJA GENERAL DATOS IMPORTADOS'!Q418","v":0},{"$f":"'[1]HOJA GENERAL DATOS IMPORTADOS'!R418","v":0},{"$f":"'[1]HOJA GENERAL DATOS IMPORTADOS'!S418","v":0},{"$f":"'[1]HOJA GENERAL DATOS IMPORTADOS'!T418","v":0},{"$f":"'[1]HOJA GENERAL DATOS IMPORTADOS'!U418","v":0},{"$f":"'[1]HOJA GENERAL DATOS IMPORTADOS'!V418","v":0},{"$f":"'[1]HOJA GENERAL DATOS IMPORTADOS'!W418","v":0},{"$f":"'[1]HOJA GENERAL DATOS IMPORTADOS'!X418","v":0},{"$f":"'[1]HOJA GENERAL DATOS IMPORTADOS'!Y418","v":0},{"$f":"'[1]HOJA GENERAL DATOS IMPORTADOS'!Z418","v":0},{"$f":"'[1]HOJA GENERAL DATOS IMPORTADOS'!AA418","v":0},{"$f":"'[1]HOJA GENERAL DATOS IMPORTADOS'!AB418","v":0},{"$f":"'[1]HOJA GENERAL DATOS IMPORTADOS'!AC418","v":0},{"$f":"'[1]HOJA GENERAL DATOS IMPORTADOS'!AD418","v":0},{"$f":"'[1]HOJA GENERAL DATOS IMPORTADOS'!AE418","v":0},{"$f":"'[1]HOJA GENERAL DATOS IMPORTADOS'!AF418","v":0},{"$f":"'[1]HOJA GENERAL DATOS IMPORTADOS'!AG418","v":0},{"$f":"'[1]HOJA GENERAL DATOS IMPORTADOS'!AH418","v":0},{"$f":"'[1]HOJA GENERAL DATOS IMPORTADOS'!AI418","v":0}]
[{"$f":"'[1]HOJA GENERAL DATOS IMPORTADOS'!A419","v":0},{"$f":"'[1]HOJA GENERAL DATOS IMPORTADOS'!B419","v":0},{"$f":"'[1]HOJA GENERAL DATOS IMPORTADOS'!C419","v":0},{"$f":"'[1]HOJA GENERAL DATOS IMPORTADOS'!D419","v":0},{"$f":"'[1]HOJA GENERAL DATOS IMPORTADOS'!E419","v":0},{"$f":"'[1]HOJA GENERAL DATOS IMPORTADOS'!F419","v":0},{"$f":"'[1]HOJA GENERAL DATOS IMPORTADOS'!G419","v":0},{"$f":"'[1]HOJA GENERAL DATOS IMPORTADOS'!H419","v":0},{"$f":"'[1]HOJA GENERAL DATOS IMPORTADOS'!I419","v":0},{"$f":"'[1]HOJA GENERAL DATOS IMPORTADOS'!J419","v":0},{"$f":"'[1]HOJA GENERAL DATOS IMPORTADOS'!K419","v":0},{"$f":"'[1]HOJA GENERAL DATOS IMPORTADOS'!L419","v":0},{"$f":"'[1]HOJA GENERAL DATOS IMPORTADOS'!M419","v":0},{"$f":"'[1]HOJA GENERAL DATOS IMPORTADOS'!N419","v":0},{"$f":"'[1]HOJA GENERAL DATOS IMPORTADOS'!O419","v":0},{"$f":"'[1]HOJA GENERAL DATOS IMPORTADOS'!P419","v":0},{"$f":"'[1]HOJA GENERAL DATOS IMPORTADOS'!Q419","v":0},{"$f":"'[1]HOJA GENERAL DATOS IMPORTADOS'!R419","v":0},{"$f":"'[1]HOJA GENERAL DATOS IMPORTADOS'!S419","v":0},{"$f":"'[1]HOJA GENERAL DATOS IMPORTADOS'!T419","v":0},{"$f":"'[1]HOJA GENERAL DATOS IMPORTADOS'!U419","v":0},{"$f":"'[1]HOJA GENERAL DATOS IMPORTADOS'!V419","v":0},{"$f":"'[1]HOJA GENERAL DATOS IMPORTADOS'!W419","v":0},{"$f":"'[1]HOJA GENERAL DATOS IMPORTADOS'!X419","v":0},{"$f":"'[1]HOJA GENERAL DATOS IMPORTADOS'!Y419","v":0},{"$f":"'[1]HOJA GENERAL DATOS IMPORTADOS'!Z419","v":0},{"$f":"'[1]HOJA GENERAL DATOS IMPORTADOS'!AA419","v":0},{"$f":"'[1]HOJA GENERAL DATOS IMPORTADOS'!AB419","v":0},{"$f":"'[1]HOJA GENERAL DATOS IMPORTADOS'!AC419","v":0},{"$f":"'[1]HOJA GENERAL DATOS IMPORTADOS'!AD419","v":0},{"$f":"'[1]HOJA GENERAL DATOS IMPORTADOS'!AE419","v":0},{"$f":"'[1]HOJA GENERAL DATOS IMPORTADOS'!AF419","v":0},{"$f":"'[1]HOJA GENERAL DATOS IMPORTADOS'!AG419","v":0},{"$f":"'[1]HOJA GENERAL DATOS IMPORTADOS'!AH419","v":0},{"$f":"'[1]HOJA GENERAL DATOS IMPORTADOS'!AI419","v":0}]
[{"$f":"'[1]HOJA GENERAL DATOS IMPORTADOS'!A420","v":0},{"$f":"'[1]HOJA GENERAL DATOS IMPORTADOS'!B420","v":0},{"$f":"'[1]HOJA GENERAL DATOS IMPORTADOS'!C420","v":0},{"$f":"'[1]HOJA GENERAL DATOS IMPORTADOS'!D420","v":0},{"$f":"'[1]HOJA GENERAL DATOS IMPORTADOS'!E420","v":0},{"$f":"'[1]HOJA GENERAL DATOS IMPORTADOS'!F420","v":0},{"$f":"'[1]HOJA GENERAL DATOS IMPORTADOS'!G420","v":0},{"$f":"'[1]HOJA GENERAL DATOS IMPORTADOS'!H420","v":0},{"$f":"'[1]HOJA GENERAL DATOS IMPORTADOS'!I420","v":0},{"$f":"'[1]HOJA GENERAL DATOS IMPORTADOS'!J420","v":0},{"$f":"'[1]HOJA GENERAL DATOS IMPORTADOS'!K420","v":0},{"$f":"'[1]HOJA GENERAL DATOS IMPORTADOS'!L420","v":0},{"$f":"'[1]HOJA GENERAL DATOS IMPORTADOS'!M420","v":0},{"$f":"'[1]HOJA GENERAL DATOS IMPORTADOS'!N420","v":0},{"$f":"'[1]HOJA GENERAL DATOS IMPORTADOS'!O420","v":0},{"$f":"'[1]HOJA GENERAL DATOS IMPORTADOS'!P420","v":0},{"$f":"'[1]HOJA GENERAL DATOS IMPORTADOS'!Q420","v":0},{"$f":"'[1]HOJA GENERAL DATOS IMPORTADOS'!R420","v":0},{"$f":"'[1]HOJA GENERAL DATOS IMPORTADOS'!S420","v":0},{"$f":"'[1]HOJA GENERAL DATOS IMPORTADOS'!T420","v":0},{"$f":"'[1]HOJA GENERAL DATOS IMPORTADOS'!U420","v":0},{"$f":"'[1]HOJA GENERAL DATOS IMPORTADOS'!V420","v":0},{"$f":"'[1]HOJA GENERAL DATOS IMPORTADOS'!W420","v":0},{"$f":"'[1]HOJA GENERAL DATOS IMPORTADOS'!X420","v":0},{"$f":"'[1]HOJA GENERAL DATOS IMPORTADOS'!Y420","v":0},{"$f":"'[1]HOJA GENERAL DATOS IMPORTADOS'!Z420","v":0},{"$f":"'[1]HOJA GENERAL DATOS IMPORTADOS'!AA420","v":0},{"$f":"'[1]HOJA GENERAL DATOS IMPORTADOS'!AB420","v":0},{"$f":"'[1]HOJA GENERAL DATOS IMPORTADOS'!AC420","v":0},{"$f":"'[1]HOJA GENERAL DATOS IMPORTADOS'!AD420","v":0},{"$f":"'[1]HOJA GENERAL DATOS IMPORTADOS'!AE420","v":0},{"$f":"'[1]HOJA GENERAL DATOS IMPORTADOS'!AF420","v":0},{"$f":"'[1]HOJA GENERAL DATOS IMPORTADOS'!AG420","v":0},{"$f":"'[1]HOJA GENERAL DATOS IMPORTADOS'!AH420","v":0},{"$f":"'[1]HOJA GENERAL DATOS IMPORTADOS'!AI420","v":0}]
[{"$f":"'[1]HOJA GENERAL DATOS IMPORTADOS'!A421","v":0},{"$f":"'[1]HOJA GENERAL DATOS IMPORTADOS'!B421","v":0},{"$f":"'[1]HOJA GENERAL DATOS IMPORTADOS'!C421","v":0},{"$f":"'[1]HOJA GENERAL DATOS IMPORTADOS'!D421","v":0},{"$f":"'[1]HOJA GENERAL DATOS IMPORTADOS'!E421","v":0},{"$f":"'[1]HOJA GENERAL DATOS IMPORTADOS'!F421","v":0},{"$f":"'[1]HOJA GENERAL DATOS IMPORTADOS'!G421","v":0},{"$f":"'[1]HOJA GENERAL DATOS IMPORTADOS'!H421","v":0},{"$f":"'[1]HOJA GENERAL DATOS IMPORTADOS'!I421","v":0},{"$f":"'[1]HOJA GENERAL DATOS IMPORTADOS'!J421","v":0},{"$f":"'[1]HOJA GENERAL DATOS IMPORTADOS'!K421","v":0},{"$f":"'[1]HOJA GENERAL DATOS IMPORTADOS'!L421","v":0},{"$f":"'[1]HOJA GENERAL DATOS IMPORTADOS'!M421","v":0},{"$f":"'[1]HOJA GENERAL DATOS IMPORTADOS'!N421","v":0},{"$f":"'[1]HOJA GENERAL DATOS IMPORTADOS'!O421","v":0},{"$f":"'[1]HOJA GENERAL DATOS IMPORTADOS'!P421","v":0},{"$f":"'[1]HOJA GENERAL DATOS IMPORTADOS'!Q421","v":0},{"$f":"'[1]HOJA GENERAL DATOS IMPORTADOS'!R421","v":0},{"$f":"'[1]HOJA GENERAL DATOS IMPORTADOS'!S421","v":0},{"$f":"'[1]HOJA GENERAL DATOS IMPORTADOS'!T421","v":0},{"$f":"'[1]HOJA GENERAL DATOS IMPORTADOS'!U421","v":0},{"$f":"'[1]HOJA GENERAL DATOS IMPORTADOS'!V421","v":0},{"$f":"'[1]HOJA GENERAL DATOS IMPORTADOS'!W421","v":0},{"$f":"'[1]HOJA GENERAL DATOS IMPORTADOS'!X421","v":0},{"$f":"'[1]HOJA GENERAL DATOS IMPORTADOS'!Y421","v":0},{"$f":"'[1]HOJA GENERAL DATOS IMPORTADOS'!Z421","v":0},{"$f":"'[1]HOJA GENERAL DATOS IMPORTADOS'!AA421","v":0},{"$f":"'[1]HOJA GENERAL DATOS IMPORTADOS'!AB421","v":0},{"$f":"'[1]HOJA GENERAL DATOS IMPORTADOS'!AC421","v":0},{"$f":"'[1]HOJA GENERAL DATOS IMPORTADOS'!AD421","v":0},{"$f":"'[1]HOJA GENERAL DATOS IMPORTADOS'!AE421","v":0},{"$f":"'[1]HOJA GENERAL DATOS IMPORTADOS'!AF421","v":0},{"$f":"'[1]HOJA GENERAL DATOS IMPORTADOS'!AG421","v":0},{"$f":"'[1]HOJA GENERAL DATOS IMPORTADOS'!AH421","v":0},{"$f":"'[1]HOJA GENERAL DATOS IMPORTADOS'!AI421","v":0}]
[{"$f":"'[1]HOJA GENERAL DATOS IMPORTADOS'!A422","v":0},{"$f":"'[1]HOJA GENERAL DATOS IMPORTADOS'!B422","v":0},{"$f":"'[1]HOJA GENERAL DATOS IMPORTADOS'!C422","v":0},{"$f":"'[1]HOJA GENERAL DATOS IMPORTADOS'!D422","v":0},{"$f":"'[1]HOJA GENERAL DATOS IMPORTADOS'!E422","v":0},{"$f":"'[1]HOJA GENERAL DATOS IMPORTADOS'!F422","v":0},{"$f":"'[1]HOJA GENERAL DATOS IMPORTADOS'!G422","v":0},{"$f":"'[1]HOJA GENERAL DATOS IMPORTADOS'!H422","v":0},{"$f":"'[1]HOJA GENERAL DATOS IMPORTADOS'!I422","v":0},{"$f":"'[1]HOJA GENERAL DATOS IMPORTADOS'!J422","v":0},{"$f":"'[1]HOJA GENERAL DATOS IMPORTADOS'!K422","v":0},{"$f":"'[1]HOJA GENERAL DATOS IMPORTADOS'!L422","v":0},{"$f":"'[1]HOJA GENERAL DATOS IMPORTADOS'!M422","v":0},{"$f":"'[1]HOJA GENERAL DATOS IMPORTADOS'!N422","v":0},{"$f":"'[1]HOJA GENERAL DATOS IMPORTADOS'!O422","v":0},{"$f":"'[1]HOJA GENERAL DATOS IMPORTADOS'!P422","v":0},{"$f":"'[1]HOJA GENERAL DATOS IMPORTADOS'!Q422","v":0},{"$f":"'[1]HOJA GENERAL DATOS IMPORTADOS'!R422","v":0},{"$f":"'[1]HOJA GENERAL DATOS IMPORTADOS'!S422","v":0},{"$f":"'[1]HOJA GENERAL DATOS IMPORTADOS'!T422","v":0},{"$f":"'[1]HOJA GENERAL DATOS IMPORTADOS'!U422","v":0},{"$f":"'[1]HOJA GENERAL DATOS IMPORTADOS'!V422","v":0},{"$f":"'[1]HOJA GENERAL DATOS IMPORTADOS'!W422","v":0},{"$f":"'[1]HOJA GENERAL DATOS IMPORTADOS'!X422","v":0},{"$f":"'[1]HOJA GENERAL DATOS IMPORTADOS'!Y422","v":0},{"$f":"'[1]HOJA GENERAL DATOS IMPORTADOS'!Z422","v":0},{"$f":"'[1]HOJA GENERAL DATOS IMPORTADOS'!AA422","v":0},{"$f":"'[1]HOJA GENERAL DATOS IMPORTADOS'!AB422","v":0},{"$f":"'[1]HOJA GENERAL DATOS IMPORTADOS'!AC422","v":0},{"$f":"'[1]HOJA GENERAL DATOS IMPORTADOS'!AD422","v":0},{"$f":"'[1]HOJA GENERAL DATOS IMPORTADOS'!AE422","v":0},{"$f":"'[1]HOJA GENERAL DATOS IMPORTADOS'!AF422","v":0},{"$f":"'[1]HOJA GENERAL DATOS IMPORTADOS'!AG422","v":0},{"$f":"'[1]HOJA GENERAL DATOS IMPORTADOS'!AH422","v":0},{"$f":"'[1]HOJA GENERAL DATOS IMPORTADOS'!AI422","v":0}]
[{"$f":"'[1]HOJA GENERAL DATOS IMPORTADOS'!A423","v":0},{"$f":"'[1]HOJA GENERAL DATOS IMPORTADOS'!B423","v":0},{"$f":"'[1]HOJA GENERAL DATOS IMPORTADOS'!C423","v":0},{"$f":"'[1]HOJA GENERAL DATOS IMPORTADOS'!D423","v":0},{"$f":"'[1]HOJA GENERAL DATOS IMPORTADOS'!E423","v":0},{"$f":"'[1]HOJA GENERAL DATOS IMPORTADOS'!F423","v":0},{"$f":"'[1]HOJA GENERAL DATOS IMPORTADOS'!G423","v":0},{"$f":"'[1]HOJA GENERAL DATOS IMPORTADOS'!H423","v":0},{"$f":"'[1]HOJA GENERAL DATOS IMPORTADOS'!I423","v":0},{"$f":"'[1]HOJA GENERAL DATOS IMPORTADOS'!J423","v":0},{"$f":"'[1]HOJA GENERAL DATOS IMPORTADOS'!K423","v":0},{"$f":"'[1]HOJA GENERAL DATOS IMPORTADOS'!L423","v":0},{"$f":"'[1]HOJA GENERAL DATOS IMPORTADOS'!M423","v":0},{"$f":"'[1]HOJA GENERAL DATOS IMPORTADOS'!N423","v":0},{"$f":"'[1]HOJA GENERAL DATOS IMPORTADOS'!O423","v":0},{"$f":"'[1]HOJA GENERAL DATOS IMPORTADOS'!P423","v":0},{"$f":"'[1]HOJA GENERAL DATOS IMPORTADOS'!Q423","v":0},{"$f":"'[1]HOJA GENERAL DATOS IMPORTADOS'!R423","v":0},{"$f":"'[1]HOJA GENERAL DATOS IMPORTADOS'!S423","v":0},{"$f":"'[1]HOJA GENERAL DATOS IMPORTADOS'!T423","v":0},{"$f":"'[1]HOJA GENERAL DATOS IMPORTADOS'!U423","v":0},{"$f":"'[1]HOJA GENERAL DATOS IMPORTADOS'!V423","v":0},{"$f":"'[1]HOJA GENERAL DATOS IMPORTADOS'!W423","v":0},{"$f":"'[1]HOJA GENERAL DATOS IMPORTADOS'!X423","v":0},{"$f":"'[1]HOJA GENERAL DATOS IMPORTADOS'!Y423","v":0},{"$f":"'[1]HOJA GENERAL DATOS IMPORTADOS'!Z423","v":0},{"$f":"'[1]HOJA GENERAL DATOS IMPORTADOS'!AA423","v":0},{"$f":"'[1]HOJA GENERAL DATOS IMPORTADOS'!AB423","v":0},{"$f":"'[1]HOJA GENERAL DATOS IMPORTADOS'!AC423","v":0},{"$f":"'[1]HOJA GENERAL DATOS IMPORTADOS'!AD423","v":0},{"$f":"'[1]HOJA GENERAL DATOS IMPORTADOS'!AE423","v":0},{"$f":"'[1]HOJA GENERAL DATOS IMPORTADOS'!AF423","v":0},{"$f":"'[1]HOJA GENERAL DATOS IMPORTADOS'!AG423","v":0},{"$f":"'[1]HOJA GENERAL DATOS IMPORTADOS'!AH423","v":0},{"$f":"'[1]HOJA GENERAL DATOS IMPORTADOS'!AI423","v":0}]
[{"$f":"'[1]HOJA GENERAL DATOS IMPORTADOS'!A424","v":0},{"$f":"'[1]HOJA GENERAL DATOS IMPORTADOS'!B424","v":0},{"$f":"'[1]HOJA GENERAL DATOS IMPORTADOS'!C424","v":0},{"$f":"'[1]HOJA GENERAL DATOS IMPORTADOS'!D424","v":0},{"$f":"'[1]HOJA GENERAL DATOS IMPORTADOS'!E424","v":0},{"$f":"'[1]HOJA GENERAL DATOS IMPORTADOS'!F424","v":0},{"$f":"'[1]HOJA GENERAL DATOS IMPORTADOS'!G424","v":0},{"$f":"'[1]HOJA GENERAL DATOS IMPORTADOS'!H424","v":0},{"$f":"'[1]HOJA GENERAL DATOS IMPORTADOS'!I424","v":0},{"$f":"'[1]HOJA GENERAL DATOS IMPORTADOS'!J424","v":0},{"$f":"'[1]HOJA GENERAL DATOS IMPORTADOS'!K424","v":0},{"$f":"'[1]HOJA GENERAL DATOS IMPORTADOS'!L424","v":0},{"$f":"'[1]HOJA GENERAL DATOS IMPORTADOS'!M424","v":0},{"$f":"'[1]HOJA GENERAL DATOS IMPORTADOS'!N424","v":0},{"$f":"'[1]HOJA GENERAL DATOS IMPORTADOS'!O424","v":0},{"$f":"'[1]HOJA GENERAL DATOS IMPORTADOS'!P424","v":0},{"$f":"'[1]HOJA GENERAL DATOS IMPORTADOS'!Q424","v":0},{"$f":"'[1]HOJA GENERAL DATOS IMPORTADOS'!R424","v":0},{"$f":"'[1]HOJA GENERAL DATOS IMPORTADOS'!S424","v":0},{"$f":"'[1]HOJA GENERAL DATOS IMPORTADOS'!T424","v":0},{"$f":"'[1]HOJA GENERAL DATOS IMPORTADOS'!U424","v":0},{"$f":"'[1]HOJA GENERAL DATOS IMPORTADOS'!V424","v":0},{"$f":"'[1]HOJA GENERAL DATOS IMPORTADOS'!W424","v":0},{"$f":"'[1]HOJA GENERAL DATOS IMPORTADOS'!X424","v":0},{"$f":"'[1]HOJA GENERAL DATOS IMPORTADOS'!Y424","v":0},{"$f":"'[1]HOJA GENERAL DATOS IMPORTADOS'!Z424","v":0},{"$f":"'[1]HOJA GENERAL DATOS IMPORTADOS'!AA424","v":0},{"$f":"'[1]HOJA GENERAL DATOS IMPORTADOS'!AB424","v":0},{"$f":"'[1]HOJA GENERAL DATOS IMPORTADOS'!AC424","v":0},{"$f":"'[1]HOJA GENERAL DATOS IMPORTADOS'!AD424","v":0},{"$f":"'[1]HOJA GENERAL DATOS IMPORTADOS'!AE424","v":0},{"$f":"'[1]HOJA GENERAL DATOS IMPORTADOS'!AF424","v":0},{"$f":"'[1]HOJA GENERAL DATOS IMPORTADOS'!AG424","v":0},{"$f":"'[1]HOJA GENERAL DATOS IMPORTADOS'!AH424","v":0},{"$f":"'[1]HOJA GENERAL DATOS IMPORTADOS'!AI424","v":0}]
[{"$f":"'[1]HOJA GENERAL DATOS IMPORTADOS'!A425","v":0},{"$f":"'[1]HOJA GENERAL DATOS IMPORTADOS'!B425","v":0},{"$f":"'[1]HOJA GENERAL DATOS IMPORTADOS'!C425","v":0},{"$f":"'[1]HOJA GENERAL DATOS IMPORTADOS'!D425","v":0},{"$f":"'[1]HOJA GENERAL DATOS IMPORTADOS'!E425","v":0},{"$f":"'[1]HOJA GENERAL DATOS IMPORTADOS'!F425","v":0},{"$f":"'[1]HOJA GENERAL DATOS IMPORTADOS'!G425","v":0},{"$f":"'[1]HOJA GENERAL DATOS IMPORTADOS'!H425","v":0},{"$f":"'[1]HOJA GENERAL DATOS IMPORTADOS'!I425","v":0},{"$f":"'[1]HOJA GENERAL DATOS IMPORTADOS'!J425","v":0},{"$f":"'[1]HOJA GENERAL DATOS IMPORTADOS'!K425","v":0},{"$f":"'[1]HOJA GENERAL DATOS IMPORTADOS'!L425","v":0},{"$f":"'[1]HOJA GENERAL DATOS IMPORTADOS'!M425","v":0},{"$f":"'[1]HOJA GENERAL DATOS IMPORTADOS'!N425","v":0},{"$f":"'[1]HOJA GENERAL DATOS IMPORTADOS'!O425","v":0},{"$f":"'[1]HOJA GENERAL DATOS IMPORTADOS'!P425","v":0},{"$f":"'[1]HOJA GENERAL DATOS IMPORTADOS'!Q425","v":0},{"$f":"'[1]HOJA GENERAL DATOS IMPORTADOS'!R425","v":0},{"$f":"'[1]HOJA GENERAL DATOS IMPORTADOS'!S425","v":0},{"$f":"'[1]HOJA GENERAL DATOS IMPORTADOS'!T425","v":0},{"$f":"'[1]HOJA GENERAL DATOS IMPORTADOS'!U425","v":0},{"$f":"'[1]HOJA GENERAL DATOS IMPORTADOS'!V425","v":0},{"$f":"'[1]HOJA GENERAL DATOS IMPORTADOS'!W425","v":0},{"$f":"'[1]HOJA GENERAL DATOS IMPORTADOS'!X425","v":0},{"$f":"'[1]HOJA GENERAL DATOS IMPORTADOS'!Y425","v":0},{"$f":"'[1]HOJA GENERAL DATOS IMPORTADOS'!Z425","v":0},{"$f":"'[1]HOJA GENERAL DATOS IMPORTADOS'!AA425","v":0},{"$f":"'[1]HOJA GENERAL DATOS IMPORTADOS'!AB425","v":0},{"$f":"'[1]HOJA GENERAL DATOS IMPORTADOS'!AC425","v":0},{"$f":"'[1]HOJA GENERAL DATOS IMPORTADOS'!AD425","v":0},{"$f":"'[1]HOJA GENERAL DATOS IMPORTADOS'!AE425","v":0},{"$f":"'[1]HOJA GENERAL DATOS IMPORTADOS'!AF425","v":0},{"$f":"'[1]HOJA GENERAL DATOS IMPORTADOS'!AG425","v":0},{"$f":"'[1]HOJA GENERAL DATOS IMPORTADOS'!AH425","v":0},{"$f":"'[1]HOJA GENERAL DATOS IMPORTADOS'!AI425","v":0}]
[{"$f":"'[1]HOJA GENERAL DATOS IMPORTADOS'!A426","v":0},{"$f":"'[1]HOJA GENERAL DATOS IMPORTADOS'!B426","v":0},{"$f":"'[1]HOJA GENERAL DATOS IMPORTADOS'!C426","v":0},{"$f":"'[1]HOJA GENERAL DATOS IMPORTADOS'!D426","v":0},{"$f":"'[1]HOJA GENERAL DATOS IMPORTADOS'!E426","v":0},{"$f":"'[1]HOJA GENERAL DATOS IMPORTADOS'!F426","v":0},{"$f":"'[1]HOJA GENERAL DATOS IMPORTADOS'!G426","v":0},{"$f":"'[1]HOJA GENERAL DATOS IMPORTADOS'!H426","v":0},{"$f":"'[1]HOJA GENERAL DATOS IMPORTADOS'!I426","v":0},{"$f":"'[1]HOJA GENERAL DATOS IMPORTADOS'!J426","v":0},{"$f":"'[1]HOJA GENERAL DATOS IMPORTADOS'!K426","v":0},{"$f":"'[1]HOJA GENERAL DATOS IMPORTADOS'!L426","v":0},{"$f":"'[1]HOJA GENERAL DATOS IMPORTADOS'!M426","v":0},{"$f":"'[1]HOJA GENERAL DATOS IMPORTADOS'!N426","v":0},{"$f":"'[1]HOJA GENERAL DATOS IMPORTADOS'!O426","v":0},{"$f":"'[1]HOJA GENERAL DATOS IMPORTADOS'!P426","v":0},{"$f":"'[1]HOJA GENERAL DATOS IMPORTADOS'!Q426","v":0},{"$f":"'[1]HOJA GENERAL DATOS IMPORTADOS'!R426","v":0},{"$f":"'[1]HOJA GENERAL DATOS IMPORTADOS'!S426","v":0},{"$f":"'[1]HOJA GENERAL DATOS IMPORTADOS'!T426","v":0},{"$f":"'[1]HOJA GENERAL DATOS IMPORTADOS'!U426","v":0},{"$f":"'[1]HOJA GENERAL DATOS IMPORTADOS'!V426","v":0},{"$f":"'[1]HOJA GENERAL DATOS IMPORTADOS'!W426","v":0},{"$f":"'[1]HOJA GENERAL DATOS IMPORTADOS'!X426","v":0},{"$f":"'[1]HOJA GENERAL DATOS IMPORTADOS'!Y426","v":0},{"$f":"'[1]HOJA GENERAL DATOS IMPORTADOS'!Z426","v":0},{"$f":"'[1]HOJA GENERAL DATOS IMPORTADOS'!AA426","v":0},{"$f":"'[1]HOJA GENERAL DATOS IMPORTADOS'!AB426","v":0},{"$f":"'[1]HOJA GENERAL DATOS IMPORTADOS'!AC426","v":0},{"$f":"'[1]HOJA GENERAL DATOS IMPORTADOS'!AD426","v":0},{"$f":"'[1]HOJA GENERAL DATOS IMPORTADOS'!AE426","v":0},{"$f":"'[1]HOJA GENERAL DATOS IMPORTADOS'!AF426","v":0},{"$f":"'[1]HOJA GENERAL DATOS IMPORTADOS'!AG426","v":0},{"$f":"'[1]HOJA GENERAL DATOS IMPORTADOS'!AH426","v":0},{"$f":"'[1]HOJA GENERAL DATOS IMPORTADOS'!AI426","v":0}]
[{"$f":"'[1]HOJA GENERAL DATOS IMPORTADOS'!A427","v":0},{"$f":"'[1]HOJA GENERAL DATOS IMPORTADOS'!B427","v":0},{"$f":"'[1]HOJA GENERAL DATOS IMPORTADOS'!C427","v":0},{"$f":"'[1]HOJA GENERAL DATOS IMPORTADOS'!D427","v":0},{"$f":"'[1]HOJA GENERAL DATOS IMPORTADOS'!E427","v":0},{"$f":"'[1]HOJA GENERAL DATOS IMPORTADOS'!F427","v":0},{"$f":"'[1]HOJA GENERAL DATOS IMPORTADOS'!G427","v":0},{"$f":"'[1]HOJA GENERAL DATOS IMPORTADOS'!H427","v":0},{"$f":"'[1]HOJA GENERAL DATOS IMPORTADOS'!I427","v":0},{"$f":"'[1]HOJA GENERAL DATOS IMPORTADOS'!J427","v":0},{"$f":"'[1]HOJA GENERAL DATOS IMPORTADOS'!K427","v":0},{"$f":"'[1]HOJA GENERAL DATOS IMPORTADOS'!L427","v":0},{"$f":"'[1]HOJA GENERAL DATOS IMPORTADOS'!M427","v":0},{"$f":"'[1]HOJA GENERAL DATOS IMPORTADOS'!N427","v":0},{"$f":"'[1]HOJA GENERAL DATOS IMPORTADOS'!O427","v":0},{"$f":"'[1]HOJA GENERAL DATOS IMPORTADOS'!P427","v":0},{"$f":"'[1]HOJA GENERAL DATOS IMPORTADOS'!Q427","v":0},{"$f":"'[1]HOJA GENERAL DATOS IMPORTADOS'!R427","v":0},{"$f":"'[1]HOJA GENERAL DATOS IMPORTADOS'!S427","v":0},{"$f":"'[1]HOJA GENERAL DATOS IMPORTADOS'!T427","v":0},{"$f":"'[1]HOJA GENERAL DATOS IMPORTADOS'!U427","v":0},{"$f":"'[1]HOJA GENERAL DATOS IMPORTADOS'!V427","v":0},{"$f":"'[1]HOJA GENERAL DATOS IMPORTADOS'!W427","v":0},{"$f":"'[1]HOJA GENERAL DATOS IMPORTADOS'!X427","v":0},{"$f":"'[1]HOJA GENERAL DATOS IMPORTADOS'!Y427","v":0},{"$f":"'[1]HOJA GENERAL DATOS IMPORTADOS'!Z427","v":0},{"$f":"'[1]HOJA GENERAL DATOS IMPORTADOS'!AA427","v":0},{"$f":"'[1]HOJA GENERAL DATOS IMPORTADOS'!AB427","v":0},{"$f":"'[1]HOJA GENERAL DATOS IMPORTADOS'!AC427","v":0},{"$f":"'[1]HOJA GENERAL DATOS IMPORTADOS'!AD427","v":0},{"$f":"'[1]HOJA GENERAL DATOS IMPORTADOS'!AE427","v":0},{"$f":"'[1]HOJA GENERAL DATOS IMPORTADOS'!AF427","v":0},{"$f":"'[1]HOJA GENERAL DATOS IMPORTADOS'!AG427","v":0},{"$f":"'[1]HOJA GENERAL DATOS IMPORTADOS'!AH427","v":0},{"$f":"'[1]HOJA GENERAL DATOS IMPORTADOS'!AI427","v":0}]
[{"$f":"'[1]HOJA GENERAL DATOS IMPORTADOS'!A428","v":0},{"$f":"'[1]HOJA GENERAL DATOS IMPORTADOS'!B428","v":0},{"$f":"'[1]HOJA GENERAL DATOS IMPORTADOS'!C428","v":0},{"$f":"'[1]HOJA GENERAL DATOS IMPORTADOS'!D428","v":0},{"$f":"'[1]HOJA GENERAL DATOS IMPORTADOS'!E428","v":0},{"$f":"'[1]HOJA GENERAL DATOS IMPORTADOS'!F428","v":0},{"$f":"'[1]HOJA GENERAL DATOS IMPORTADOS'!G428","v":0},{"$f":"'[1]HOJA GENERAL DATOS IMPORTADOS'!H428","v":0},{"$f":"'[1]HOJA GENERAL DATOS IMPORTADOS'!I428","v":0},{"$f":"'[1]HOJA GENERAL DATOS IMPORTADOS'!J428","v":0},{"$f":"'[1]HOJA GENERAL DATOS IMPORTADOS'!K428","v":0},{"$f":"'[1]HOJA GENERAL DATOS IMPORTADOS'!L428","v":0},{"$f":"'[1]HOJA GENERAL DATOS IMPORTADOS'!M428","v":0},{"$f":"'[1]HOJA GENERAL DATOS IMPORTADOS'!N428","v":0},{"$f":"'[1]HOJA GENERAL DATOS IMPORTADOS'!O428","v":0},{"$f":"'[1]HOJA GENERAL DATOS IMPORTADOS'!P428","v":0},{"$f":"'[1]HOJA GENERAL DATOS IMPORTADOS'!Q428","v":0},{"$f":"'[1]HOJA GENERAL DATOS IMPORTADOS'!R428","v":0},{"$f":"'[1]HOJA GENERAL DATOS IMPORTADOS'!S428","v":0},{"$f":"'[1]HOJA GENERAL DATOS IMPORTADOS'!T428","v":0},{"$f":"'[1]HOJA GENERAL DATOS IMPORTADOS'!U428","v":0},{"$f":"'[1]HOJA GENERAL DATOS IMPORTADOS'!V428","v":0},{"$f":"'[1]HOJA GENERAL DATOS IMPORTADOS'!W428","v":0},{"$f":"'[1]HOJA GENERAL DATOS IMPORTADOS'!X428","v":0},{"$f":"'[1]HOJA GENERAL DATOS IMPORTADOS'!Y428","v":0},{"$f":"'[1]HOJA GENERAL DATOS IMPORTADOS'!Z428","v":0},{"$f":"'[1]HOJA GENERAL DATOS IMPORTADOS'!AA428","v":0},{"$f":"'[1]HOJA GENERAL DATOS IMPORTADOS'!AB428","v":0},{"$f":"'[1]HOJA GENERAL DATOS IMPORTADOS'!AC428","v":0},{"$f":"'[1]HOJA GENERAL DATOS IMPORTADOS'!AD428","v":0},{"$f":"'[1]HOJA GENERAL DATOS IMPORTADOS'!AE428","v":0},{"$f":"'[1]HOJA GENERAL DATOS IMPORTADOS'!AF428","v":0},{"$f":"'[1]HOJA GENERAL DATOS IMPORTADOS'!AG428","v":0},{"$f":"'[1]HOJA GENERAL DATOS IMPORTADOS'!AH428","v":0},{"$f":"'[1]HOJA GENERAL DATOS IMPORTADOS'!AI428","v":0}]
[{"$f":"'[1]HOJA GENERAL DATOS IMPORTADOS'!A429","v":0},{"$f":"'[1]HOJA GENERAL DATOS IMPORTADOS'!B429","v":0},{"$f":"'[1]HOJA GENERAL DATOS IMPORTADOS'!C429","v":0},{"$f":"'[1]HOJA GENERAL DATOS IMPORTADOS'!D429","v":0},{"$f":"'[1]HOJA GENERAL DATOS IMPORTADOS'!E429","v":0},{"$f":"'[1]HOJA GENERAL DATOS IMPORTADOS'!F429","v":0},{"$f":"'[1]HOJA GENERAL DATOS IMPORTADOS'!G429","v":0},{"$f":"'[1]HOJA GENERAL DATOS IMPORTADOS'!H429","v":0},{"$f":"'[1]HOJA GENERAL DATOS IMPORTADOS'!I429","v":0},{"$f":"'[1]HOJA GENERAL DATOS IMPORTADOS'!J429","v":0},{"$f":"'[1]HOJA GENERAL DATOS IMPORTADOS'!K429","v":0},{"$f":"'[1]HOJA GENERAL DATOS IMPORTADOS'!L429","v":0},{"$f":"'[1]HOJA GENERAL DATOS IMPORTADOS'!M429","v":0},{"$f":"'[1]HOJA GENERAL DATOS IMPORTADOS'!N429","v":0},{"$f":"'[1]HOJA GENERAL DATOS IMPORTADOS'!O429","v":0},{"$f":"'[1]HOJA GENERAL DATOS IMPORTADOS'!P429","v":0},{"$f":"'[1]HOJA GENERAL DATOS IMPORTADOS'!Q429","v":0},{"$f":"'[1]HOJA GENERAL DATOS IMPORTADOS'!R429","v":0},{"$f":"'[1]HOJA GENERAL DATOS IMPORTADOS'!S429","v":0},{"$f":"'[1]HOJA GENERAL DATOS IMPORTADOS'!T429","v":0},{"$f":"'[1]HOJA GENERAL DATOS IMPORTADOS'!U429","v":0},{"$f":"'[1]HOJA GENERAL DATOS IMPORTADOS'!V429","v":0},{"$f":"'[1]HOJA GENERAL DATOS IMPORTADOS'!W429","v":0},{"$f":"'[1]HOJA GENERAL DATOS IMPORTADOS'!X429","v":0},{"$f":"'[1]HOJA GENERAL DATOS IMPORTADOS'!Y429","v":0},{"$f":"'[1]HOJA GENERAL DATOS IMPORTADOS'!Z429","v":0},{"$f":"'[1]HOJA GENERAL DATOS IMPORTADOS'!AA429","v":0},{"$f":"'[1]HOJA GENERAL DATOS IMPORTADOS'!AB429","v":0},{"$f":"'[1]HOJA GENERAL DATOS IMPORTADOS'!AC429","v":0},{"$f":"'[1]HOJA GENERAL DATOS IMPORTADOS'!AD429","v":0},{"$f":"'[1]HOJA GENERAL DATOS IMPORTADOS'!AE429","v":0},{"$f":"'[1]HOJA GENERAL DATOS IMPORTADOS'!AF429","v":0},{"$f":"'[1]HOJA GENERAL DATOS IMPORTADOS'!AG429","v":0},{"$f":"'[1]HOJA GENERAL DATOS IMPORTADOS'!AH429","v":0},{"$f":"'[1]HOJA GENERAL DATOS IMPORTADOS'!AI429","v":0}]
[{"$f":"'[1]HOJA GENERAL DATOS IMPORTADOS'!A430","v":0},{"$f":"'[1]HOJA GENERAL DATOS IMPORTADOS'!B430","v":0},{"$f":"'[1]HOJA GENERAL DATOS IMPORTADOS'!C430","v":0},{"$f":"'[1]HOJA GENERAL DATOS IMPORTADOS'!D430","v":0},{"$f":"'[1]HOJA GENERAL DATOS IMPORTADOS'!E430","v":0},{"$f":"'[1]HOJA GENERAL DATOS IMPORTADOS'!F430","v":0},{"$f":"'[1]HOJA GENERAL DATOS IMPORTADOS'!G430","v":0},{"$f":"'[1]HOJA GENERAL DATOS IMPORTADOS'!H430","v":0},{"$f":"'[1]HOJA GENERAL DATOS IMPORTADOS'!I430","v":0},{"$f":"'[1]HOJA GENERAL DATOS IMPORTADOS'!J430","v":0},{"$f":"'[1]HOJA GENERAL DATOS IMPORTADOS'!K430","v":0},{"$f":"'[1]HOJA GENERAL DATOS IMPORTADOS'!L430","v":0},{"$f":"'[1]HOJA GENERAL DATOS IMPORTADOS'!M430","v":0},{"$f":"'[1]HOJA GENERAL DATOS IMPORTADOS'!N430","v":0},{"$f":"'[1]HOJA GENERAL DATOS IMPORTADOS'!O430","v":0},{"$f":"'[1]HOJA GENERAL DATOS IMPORTADOS'!P430","v":0},{"$f":"'[1]HOJA GENERAL DATOS IMPORTADOS'!Q430","v":0},{"$f":"'[1]HOJA GENERAL DATOS IMPORTADOS'!R430","v":0},{"$f":"'[1]HOJA GENERAL DATOS IMPORTADOS'!S430","v":0},{"$f":"'[1]HOJA GENERAL DATOS IMPORTADOS'!T430","v":0},{"$f":"'[1]HOJA GENERAL DATOS IMPORTADOS'!U430","v":0},{"$f":"'[1]HOJA GENERAL DATOS IMPORTADOS'!V430","v":0},{"$f":"'[1]HOJA GENERAL DATOS IMPORTADOS'!W430","v":0},{"$f":"'[1]HOJA GENERAL DATOS IMPORTADOS'!X430","v":0},{"$f":"'[1]HOJA GENERAL DATOS IMPORTADOS'!Y430","v":0},{"$f":"'[1]HOJA GENERAL DATOS IMPORTADOS'!Z430","v":0},{"$f":"'[1]HOJA GENERAL DATOS IMPORTADOS'!AA430","v":0},{"$f":"'[1]HOJA GENERAL DATOS IMPORTADOS'!AB430","v":0},{"$f":"'[1]HOJA GENERAL DATOS IMPORTADOS'!AC430","v":0},{"$f":"'[1]HOJA GENERAL DATOS IMPORTADOS'!AD430","v":0},{"$f":"'[1]HOJA GENERAL DATOS IMPORTADOS'!AE430","v":0},{"$f":"'[1]HOJA GENERAL DATOS IMPORTADOS'!AF430","v":0},{"$f":"'[1]HOJA GENERAL DATOS IMPORTADOS'!AG430","v":0},{"$f":"'[1]HOJA GENERAL DATOS IMPORTADOS'!AH430","v":0},{"$f":"'[1]HOJA GENERAL DATOS IMPORTADOS'!AI430","v":0}]
[{"$f":"'[1]HOJA GENERAL DATOS IMPORTADOS'!A431","v":0},{"$f":"'[1]HOJA GENERAL DATOS IMPORTADOS'!B431","v":0},{"$f":"'[1]HOJA GENERAL DATOS IMPORTADOS'!C431","v":0},{"$f":"'[1]HOJA GENERAL DATOS IMPORTADOS'!D431","v":0},{"$f":"'[1]HOJA GENERAL DATOS IMPORTADOS'!E431","v":0},{"$f":"'[1]HOJA GENERAL DATOS IMPORTADOS'!F431","v":0},{"$f":"'[1]HOJA GENERAL DATOS IMPORTADOS'!G431","v":0},{"$f":"'[1]HOJA GENERAL DATOS IMPORTADOS'!H431","v":0},{"$f":"'[1]HOJA GENERAL DATOS IMPORTADOS'!I431","v":0},{"$f":"'[1]HOJA GENERAL DATOS IMPORTADOS'!J431","v":0},{"$f":"'[1]HOJA GENERAL DATOS IMPORTADOS'!K431","v":0},{"$f":"'[1]HOJA GENERAL DATOS IMPORTADOS'!L431","v":0},{"$f":"'[1]HOJA GENERAL DATOS IMPORTADOS'!M431","v":0},{"$f":"'[1]HOJA GENERAL DATOS IMPORTADOS'!N431","v":0},{"$f":"'[1]HOJA GENERAL DATOS IMPORTADOS'!O431","v":0},{"$f":"'[1]HOJA GENERAL DATOS IMPORTADOS'!P431","v":0},{"$f":"'[1]HOJA GENERAL DATOS IMPORTADOS'!Q431","v":0},{"$f":"'[1]HOJA GENERAL DATOS IMPORTADOS'!R431","v":0},{"$f":"'[1]HOJA GENERAL DATOS IMPORTADOS'!S431","v":0},{"$f":"'[1]HOJA GENERAL DATOS IMPORTADOS'!T431","v":0},{"$f":"'[1]HOJA GENERAL DATOS IMPORTADOS'!U431","v":0},{"$f":"'[1]HOJA GENERAL DATOS IMPORTADOS'!V431","v":0},{"$f":"'[1]HOJA GENERAL DATOS IMPORTADOS'!W431","v":0},{"$f":"'[1]HOJA GENERAL DATOS IMPORTADOS'!X431","v":0},{"$f":"'[1]HOJA GENERAL DATOS IMPORTADOS'!Y431","v":0},{"$f":"'[1]HOJA GENERAL DATOS IMPORTADOS'!Z431","v":0},{"$f":"'[1]HOJA GENERAL DATOS IMPORTADOS'!AA431","v":0},{"$f":"'[1]HOJA GENERAL DATOS IMPORTADOS'!AB431","v":0},{"$f":"'[1]HOJA GENERAL DATOS IMPORTADOS'!AC431","v":0},{"$f":"'[1]HOJA GENERAL DATOS IMPORTADOS'!AD431","v":0},{"$f":"'[1]HOJA GENERAL DATOS IMPORTADOS'!AE431","v":0},{"$f":"'[1]HOJA GENERAL DATOS IMPORTADOS'!AF431","v":0},{"$f":"'[1]HOJA GENERAL DATOS IMPORTADOS'!AG431","v":0},{"$f":"'[1]HOJA GENERAL DATOS IMPORTADOS'!AH431","v":0},{"$f":"'[1]HOJA GENERAL DATOS IMPORTADOS'!AI431","v":0}]
[{"$f":"'[1]HOJA GENERAL DATOS IMPORTADOS'!A432","v":0},{"$f":"'[1]HOJA GENERAL DATOS IMPORTADOS'!B432","v":0},{"$f":"'[1]HOJA GENERAL DATOS IMPORTADOS'!C432","v":0},{"$f":"'[1]HOJA GENERAL DATOS IMPORTADOS'!D432","v":0},{"$f":"'[1]HOJA GENERAL DATOS IMPORTADOS'!E432","v":0},{"$f":"'[1]HOJA GENERAL DATOS IMPORTADOS'!F432","v":0},{"$f":"'[1]HOJA GENERAL DATOS IMPORTADOS'!G432","v":0},{"$f":"'[1]HOJA GENERAL DATOS IMPORTADOS'!H432","v":0},{"$f":"'[1]HOJA GENERAL DATOS IMPORTADOS'!I432","v":0},{"$f":"'[1]HOJA GENERAL DATOS IMPORTADOS'!J432","v":0},{"$f":"'[1]HOJA GENERAL DATOS IMPORTADOS'!K432","v":0},{"$f":"'[1]HOJA GENERAL DATOS IMPORTADOS'!L432","v":0},{"$f":"'[1]HOJA GENERAL DATOS IMPORTADOS'!M432","v":0},{"$f":"'[1]HOJA GENERAL DATOS IMPORTADOS'!N432","v":0},{"$f":"'[1]HOJA GENERAL DATOS IMPORTADOS'!O432","v":0},{"$f":"'[1]HOJA GENERAL DATOS IMPORTADOS'!P432","v":0},{"$f":"'[1]HOJA GENERAL DATOS IMPORTADOS'!Q432","v":0},{"$f":"'[1]HOJA GENERAL DATOS IMPORTADOS'!R432","v":0},{"$f":"'[1]HOJA GENERAL DATOS IMPORTADOS'!S432","v":0},{"$f":"'[1]HOJA GENERAL DATOS IMPORTADOS'!T432","v":0},{"$f":"'[1]HOJA GENERAL DATOS IMPORTADOS'!U432","v":0},{"$f":"'[1]HOJA GENERAL DATOS IMPORTADOS'!V432","v":0},{"$f":"'[1]HOJA GENERAL DATOS IMPORTADOS'!W432","v":0},{"$f":"'[1]HOJA GENERAL DATOS IMPORTADOS'!X432","v":0},{"$f":"'[1]HOJA GENERAL DATOS IMPORTADOS'!Y432","v":0},{"$f":"'[1]HOJA GENERAL DATOS IMPORTADOS'!Z432","v":0},{"$f":"'[1]HOJA GENERAL DATOS IMPORTADOS'!AA432","v":0},{"$f":"'[1]HOJA GENERAL DATOS IMPORTADOS'!AB432","v":0},{"$f":"'[1]HOJA GENERAL DATOS IMPORTADOS'!AC432","v":0},{"$f":"'[1]HOJA GENERAL DATOS IMPORTADOS'!AD432","v":0},{"$f":"'[1]HOJA GENERAL DATOS IMPORTADOS'!AE432","v":0},{"$f":"'[1]HOJA GENERAL DATOS IMPORTADOS'!AF432","v":0},{"$f":"'[1]HOJA GENERAL DATOS IMPORTADOS'!AG432","v":0},{"$f":"'[1]HOJA GENERAL DATOS IMPORTADOS'!AH432","v":0},{"$f":"'[1]HOJA GENERAL DATOS IMPORTADOS'!AI432","v":0}]
[{"$f":"'[1]HOJA GENERAL DATOS IMPORTADOS'!A433","v":0},{"$f":"'[1]HOJA GENERAL DATOS IMPORTADOS'!B433","v":0},{"$f":"'[1]HOJA GENERAL DATOS IMPORTADOS'!C433","v":0},{"$f":"'[1]HOJA GENERAL DATOS IMPORTADOS'!D433","v":0},{"$f":"'[1]HOJA GENERAL DATOS IMPORTADOS'!E433","v":0},{"$f":"'[1]HOJA GENERAL DATOS IMPORTADOS'!F433","v":0},{"$f":"'[1]HOJA GENERAL DATOS IMPORTADOS'!G433","v":0},{"$f":"'[1]HOJA GENERAL DATOS IMPORTADOS'!H433","v":0},{"$f":"'[1]HOJA GENERAL DATOS IMPORTADOS'!I433","v":0},{"$f":"'[1]HOJA GENERAL DATOS IMPORTADOS'!J433","v":0},{"$f":"'[1]HOJA GENERAL DATOS IMPORTADOS'!K433","v":0},{"$f":"'[1]HOJA GENERAL DATOS IMPORTADOS'!L433","v":0},{"$f":"'[1]HOJA GENERAL DATOS IMPORTADOS'!M433","v":0},{"$f":"'[1]HOJA GENERAL DATOS IMPORTADOS'!N433","v":0},{"$f":"'[1]HOJA GENERAL DATOS IMPORTADOS'!O433","v":0},{"$f":"'[1]HOJA GENERAL DATOS IMPORTADOS'!P433","v":0},{"$f":"'[1]HOJA GENERAL DATOS IMPORTADOS'!Q433","v":0},{"$f":"'[1]HOJA GENERAL DATOS IMPORTADOS'!R433","v":0},{"$f":"'[1]HOJA GENERAL DATOS IMPORTADOS'!S433","v":0},{"$f":"'[1]HOJA GENERAL DATOS IMPORTADOS'!T433","v":0},{"$f":"'[1]HOJA GENERAL DATOS IMPORTADOS'!U433","v":0},{"$f":"'[1]HOJA GENERAL DATOS IMPORTADOS'!V433","v":0},{"$f":"'[1]HOJA GENERAL DATOS IMPORTADOS'!W433","v":0},{"$f":"'[1]HOJA GENERAL DATOS IMPORTADOS'!X433","v":0},{"$f":"'[1]HOJA GENERAL DATOS IMPORTADOS'!Y433","v":0},{"$f":"'[1]HOJA GENERAL DATOS IMPORTADOS'!Z433","v":0},{"$f":"'[1]HOJA GENERAL DATOS IMPORTADOS'!AA433","v":0},{"$f":"'[1]HOJA GENERAL DATOS IMPORTADOS'!AB433","v":0},{"$f":"'[1]HOJA GENERAL DATOS IMPORTADOS'!AC433","v":0},{"$f":"'[1]HOJA GENERAL DATOS IMPORTADOS'!AD433","v":0},{"$f":"'[1]HOJA GENERAL DATOS IMPORTADOS'!AE433","v":0},{"$f":"'[1]HOJA GENERAL DATOS IMPORTADOS'!AF433","v":0},{"$f":"'[1]HOJA GENERAL DATOS IMPORTADOS'!AG433","v":0},{"$f":"'[1]HOJA GENERAL DATOS IMPORTADOS'!AH433","v":0},{"$f":"'[1]HOJA GENERAL DATOS IMPORTADOS'!AI433","v":0}]
[{"$f":"'[1]HOJA GENERAL DATOS IMPORTADOS'!A434","v":0},{"$f":"'[1]HOJA GENERAL DATOS IMPORTADOS'!B434","v":0},{"$f":"'[1]HOJA GENERAL DATOS IMPORTADOS'!C434","v":0},{"$f":"'[1]HOJA GENERAL DATOS IMPORTADOS'!D434","v":0},{"$f":"'[1]HOJA GENERAL DATOS IMPORTADOS'!E434","v":0},{"$f":"'[1]HOJA GENERAL DATOS IMPORTADOS'!F434","v":0},{"$f":"'[1]HOJA GENERAL DATOS IMPORTADOS'!G434","v":0},{"$f":"'[1]HOJA GENERAL DATOS IMPORTADOS'!H434","v":0},{"$f":"'[1]HOJA GENERAL DATOS IMPORTADOS'!I434","v":0},{"$f":"'[1]HOJA GENERAL DATOS IMPORTADOS'!J434","v":0},{"$f":"'[1]HOJA GENERAL DATOS IMPORTADOS'!K434","v":0},{"$f":"'[1]HOJA GENERAL DATOS IMPORTADOS'!L434","v":0},{"$f":"'[1]HOJA GENERAL DATOS IMPORTADOS'!M434","v":0},{"$f":"'[1]HOJA GENERAL DATOS IMPORTADOS'!N434","v":0},{"$f":"'[1]HOJA GENERAL DATOS IMPORTADOS'!O434","v":0},{"$f":"'[1]HOJA GENERAL DATOS IMPORTADOS'!P434","v":0},{"$f":"'[1]HOJA GENERAL DATOS IMPORTADOS'!Q434","v":0},{"$f":"'[1]HOJA GENERAL DATOS IMPORTADOS'!R434","v":0},{"$f":"'[1]HOJA GENERAL DATOS IMPORTADOS'!S434","v":0},{"$f":"'[1]HOJA GENERAL DATOS IMPORTADOS'!T434","v":0},{"$f":"'[1]HOJA GENERAL DATOS IMPORTADOS'!U434","v":0},{"$f":"'[1]HOJA GENERAL DATOS IMPORTADOS'!V434","v":0},{"$f":"'[1]HOJA GENERAL DATOS IMPORTADOS'!W434","v":0},{"$f":"'[1]HOJA GENERAL DATOS IMPORTADOS'!X434","v":0},{"$f":"'[1]HOJA GENERAL DATOS IMPORTADOS'!Y434","v":0},{"$f":"'[1]HOJA GENERAL DATOS IMPORTADOS'!Z434","v":0},{"$f":"'[1]HOJA GENERAL DATOS IMPORTADOS'!AA434","v":0},{"$f":"'[1]HOJA GENERAL DATOS IMPORTADOS'!AB434","v":0},{"$f":"'[1]HOJA GENERAL DATOS IMPORTADOS'!AC434","v":0},{"$f":"'[1]HOJA GENERAL DATOS IMPORTADOS'!AD434","v":0},{"$f":"'[1]HOJA GENERAL DATOS IMPORTADOS'!AE434","v":0},{"$f":"'[1]HOJA GENERAL DATOS IMPORTADOS'!AF434","v":0},{"$f":"'[1]HOJA GENERAL DATOS IMPORTADOS'!AG434","v":0},{"$f":"'[1]HOJA GENERAL DATOS IMPORTADOS'!AH434","v":0},{"$f":"'[1]HOJA GENERAL DATOS IMPORTADOS'!AI434","v":0}]
[{"$f":"'[1]HOJA GENERAL DATOS IMPORTADOS'!A435","v":0},{"$f":"'[1]HOJA GENERAL DATOS IMPORTADOS'!B435","v":0},{"$f":"'[1]HOJA GENERAL DATOS IMPORTADOS'!C435","v":0},{"$f":"'[1]HOJA GENERAL DATOS IMPORTADOS'!D435","v":0},{"$f":"'[1]HOJA GENERAL DATOS IMPORTADOS'!E435","v":0},{"$f":"'[1]HOJA GENERAL DATOS IMPORTADOS'!F435","v":0},{"$f":"'[1]HOJA GENERAL DATOS IMPORTADOS'!G435","v":0},{"$f":"'[1]HOJA GENERAL DATOS IMPORTADOS'!H435","v":0},{"$f":"'[1]HOJA GENERAL DATOS IMPORTADOS'!I435","v":0},{"$f":"'[1]HOJA GENERAL DATOS IMPORTADOS'!J435","v":0},{"$f":"'[1]HOJA GENERAL DATOS IMPORTADOS'!K435","v":0},{"$f":"'[1]HOJA GENERAL DATOS IMPORTADOS'!L435","v":0},{"$f":"'[1]HOJA GENERAL DATOS IMPORTADOS'!M435","v":0},{"$f":"'[1]HOJA GENERAL DATOS IMPORTADOS'!N435","v":0},{"$f":"'[1]HOJA GENERAL DATOS IMPORTADOS'!O435","v":0},{"$f":"'[1]HOJA GENERAL DATOS IMPORTADOS'!P435","v":0},{"$f":"'[1]HOJA GENERAL DATOS IMPORTADOS'!Q435","v":0},{"$f":"'[1]HOJA GENERAL DATOS IMPORTADOS'!R435","v":0},{"$f":"'[1]HOJA GENERAL DATOS IMPORTADOS'!S435","v":0},{"$f":"'[1]HOJA GENERAL DATOS IMPORTADOS'!T435","v":0},{"$f":"'[1]HOJA GENERAL DATOS IMPORTADOS'!U435","v":0},{"$f":"'[1]HOJA GENERAL DATOS IMPORTADOS'!V435","v":0},{"$f":"'[1]HOJA GENERAL DATOS IMPORTADOS'!W435","v":0},{"$f":"'[1]HOJA GENERAL DATOS IMPORTADOS'!X435","v":0},{"$f":"'[1]HOJA GENERAL DATOS IMPORTADOS'!Y435","v":0},{"$f":"'[1]HOJA GENERAL DATOS IMPORTADOS'!Z435","v":0},{"$f":"'[1]HOJA GENERAL DATOS IMPORTADOS'!AA435","v":0},{"$f":"'[1]HOJA GENERAL DATOS IMPORTADOS'!AB435","v":0},{"$f":"'[1]HOJA GENERAL DATOS IMPORTADOS'!AC435","v":0},{"$f":"'[1]HOJA GENERAL DATOS IMPORTADOS'!AD435","v":0},{"$f":"'[1]HOJA GENERAL DATOS IMPORTADOS'!AE435","v":0},{"$f":"'[1]HOJA GENERAL DATOS IMPORTADOS'!AF435","v":0},{"$f":"'[1]HOJA GENERAL DATOS IMPORTADOS'!AG435","v":0},{"$f":"'[1]HOJA GENERAL DATOS IMPORTADOS'!AH435","v":0},{"$f":"'[1]HOJA GENERAL DATOS IMPORTADOS'!AI435","v":0}]
[{"$f":"'[1]HOJA GENERAL DATOS IMPORTADOS'!A436","v":0},{"$f":"'[1]HOJA GENERAL DATOS IMPORTADOS'!B436","v":0},{"$f":"'[1]HOJA GENERAL DATOS IMPORTADOS'!C436","v":0},{"$f":"'[1]HOJA GENERAL DATOS IMPORTADOS'!D436","v":0},{"$f":"'[1]HOJA GENERAL DATOS IMPORTADOS'!E436","v":0},{"$f":"'[1]HOJA GENERAL DATOS IMPORTADOS'!F436","v":0},{"$f":"'[1]HOJA GENERAL DATOS IMPORTADOS'!G436","v":0},{"$f":"'[1]HOJA GENERAL DATOS IMPORTADOS'!H436","v":0},{"$f":"'[1]HOJA GENERAL DATOS IMPORTADOS'!I436","v":0},{"$f":"'[1]HOJA GENERAL DATOS IMPORTADOS'!J436","v":0},{"$f":"'[1]HOJA GENERAL DATOS IMPORTADOS'!K436","v":0},{"$f":"'[1]HOJA GENERAL DATOS IMPORTADOS'!L436","v":0},{"$f":"'[1]HOJA GENERAL DATOS IMPORTADOS'!M436","v":0},{"$f":"'[1]HOJA GENERAL DATOS IMPORTADOS'!N436","v":0},{"$f":"'[1]HOJA GENERAL DATOS IMPORTADOS'!O436","v":0},{"$f":"'[1]HOJA GENERAL DATOS IMPORTADOS'!P436","v":0},{"$f":"'[1]HOJA GENERAL DATOS IMPORTADOS'!Q436","v":0},{"$f":"'[1]HOJA GENERAL DATOS IMPORTADOS'!R436","v":0},{"$f":"'[1]HOJA GENERAL DATOS IMPORTADOS'!S436","v":0},{"$f":"'[1]HOJA GENERAL DATOS IMPORTADOS'!T436","v":0},{"$f":"'[1]HOJA GENERAL DATOS IMPORTADOS'!U436","v":0},{"$f":"'[1]HOJA GENERAL DATOS IMPORTADOS'!V436","v":0},{"$f":"'[1]HOJA GENERAL DATOS IMPORTADOS'!W436","v":0},{"$f":"'[1]HOJA GENERAL DATOS IMPORTADOS'!X436","v":0},{"$f":"'[1]HOJA GENERAL DATOS IMPORTADOS'!Y436","v":0},{"$f":"'[1]HOJA GENERAL DATOS IMPORTADOS'!Z436","v":0},{"$f":"'[1]HOJA GENERAL DATOS IMPORTADOS'!AA436","v":0},{"$f":"'[1]HOJA GENERAL DATOS IMPORTADOS'!AB436","v":0},{"$f":"'[1]HOJA GENERAL DATOS IMPORTADOS'!AC436","v":0},{"$f":"'[1]HOJA GENERAL DATOS IMPORTADOS'!AD436","v":0},{"$f":"'[1]HOJA GENERAL DATOS IMPORTADOS'!AE436","v":0},{"$f":"'[1]HOJA GENERAL DATOS IMPORTADOS'!AF436","v":0},{"$f":"'[1]HOJA GENERAL DATOS IMPORTADOS'!AG436","v":0},{"$f":"'[1]HOJA GENERAL DATOS IMPORTADOS'!AH436","v":0},{"$f":"'[1]HOJA GENERAL DATOS IMPORTADOS'!AI436","v":0}]
[{"$f":"'[1]HOJA GENERAL DATOS IMPORTADOS'!A437","v":0},{"$f":"'[1]HOJA GENERAL DATOS IMPORTADOS'!B437","v":0},{"$f":"'[1]HOJA GENERAL DATOS IMPORTADOS'!C437","v":0},{"$f":"'[1]HOJA GENERAL DATOS IMPORTADOS'!D437","v":0},{"$f":"'[1]HOJA GENERAL DATOS IMPORTADOS'!E437","v":0},{"$f":"'[1]HOJA GENERAL DATOS IMPORTADOS'!F437","v":0},{"$f":"'[1]HOJA GENERAL DATOS IMPORTADOS'!G437","v":0},{"$f":"'[1]HOJA GENERAL DATOS IMPORTADOS'!H437","v":0},{"$f":"'[1]HOJA GENERAL DATOS IMPORTADOS'!I437","v":0},{"$f":"'[1]HOJA GENERAL DATOS IMPORTADOS'!J437","v":0},{"$f":"'[1]HOJA GENERAL DATOS IMPORTADOS'!K437","v":0},{"$f":"'[1]HOJA GENERAL DATOS IMPORTADOS'!L437","v":0},{"$f":"'[1]HOJA GENERAL DATOS IMPORTADOS'!M437","v":0},{"$f":"'[1]HOJA GENERAL DATOS IMPORTADOS'!N437","v":0},{"$f":"'[1]HOJA GENERAL DATOS IMPORTADOS'!O437","v":0},{"$f":"'[1]HOJA GENERAL DATOS IMPORTADOS'!P437","v":0},{"$f":"'[1]HOJA GENERAL DATOS IMPORTADOS'!Q437","v":0},{"$f":"'[1]HOJA GENERAL DATOS IMPORTADOS'!R437","v":0},{"$f":"'[1]HOJA GENERAL DATOS IMPORTADOS'!S437","v":0},{"$f":"'[1]HOJA GENERAL DATOS IMPORTADOS'!T437","v":0},{"$f":"'[1]HOJA GENERAL DATOS IMPORTADOS'!U437","v":0},{"$f":"'[1]HOJA GENERAL DATOS IMPORTADOS'!V437","v":0},{"$f":"'[1]HOJA GENERAL DATOS IMPORTADOS'!W437","v":0},{"$f":"'[1]HOJA GENERAL DATOS IMPORTADOS'!X437","v":0},{"$f":"'[1]HOJA GENERAL DATOS IMPORTADOS'!Y437","v":0},{"$f":"'[1]HOJA GENERAL DATOS IMPORTADOS'!Z437","v":0},{"$f":"'[1]HOJA GENERAL DATOS IMPORTADOS'!AA437","v":0},{"$f":"'[1]HOJA GENERAL DATOS IMPORTADOS'!AB437","v":0},{"$f":"'[1]HOJA GENERAL DATOS IMPORTADOS'!AC437","v":0},{"$f":"'[1]HOJA GENERAL DATOS IMPORTADOS'!AD437","v":0},{"$f":"'[1]HOJA GENERAL DATOS IMPORTADOS'!AE437","v":0},{"$f":"'[1]HOJA GENERAL DATOS IMPORTADOS'!AF437","v":0},{"$f":"'[1]HOJA GENERAL DATOS IMPORTADOS'!AG437","v":0},{"$f":"'[1]HOJA GENERAL DATOS IMPORTADOS'!AH437","v":0},{"$f":"'[1]HOJA GENERAL DATOS IMPORTADOS'!AI437","v":0}]
[{"$f":"'[1]HOJA GENERAL DATOS IMPORTADOS'!A438","v":0},{"$f":"'[1]HOJA GENERAL DATOS IMPORTADOS'!B438","v":0},{"$f":"'[1]HOJA GENERAL DATOS IMPORTADOS'!C438","v":0},{"$f":"'[1]HOJA GENERAL DATOS IMPORTADOS'!D438","v":0},{"$f":"'[1]HOJA GENERAL DATOS IMPORTADOS'!E438","v":0},{"$f":"'[1]HOJA GENERAL DATOS IMPORTADOS'!F438","v":0},{"$f":"'[1]HOJA GENERAL DATOS IMPORTADOS'!G438","v":0},{"$f":"'[1]HOJA GENERAL DATOS IMPORTADOS'!H438","v":0},{"$f":"'[1]HOJA GENERAL DATOS IMPORTADOS'!I438","v":0},{"$f":"'[1]HOJA GENERAL DATOS IMPORTADOS'!J438","v":0},{"$f":"'[1]HOJA GENERAL DATOS IMPORTADOS'!K438","v":0},{"$f":"'[1]HOJA GENERAL DATOS IMPORTADOS'!L438","v":0},{"$f":"'[1]HOJA GENERAL DATOS IMPORTADOS'!M438","v":0},{"$f":"'[1]HOJA GENERAL DATOS IMPORTADOS'!N438","v":0},{"$f":"'[1]HOJA GENERAL DATOS IMPORTADOS'!O438","v":0},{"$f":"'[1]HOJA GENERAL DATOS IMPORTADOS'!P438","v":0},{"$f":"'[1]HOJA GENERAL DATOS IMPORTADOS'!Q438","v":0},{"$f":"'[1]HOJA GENERAL DATOS IMPORTADOS'!R438","v":0},{"$f":"'[1]HOJA GENERAL DATOS IMPORTADOS'!S438","v":0},{"$f":"'[1]HOJA GENERAL DATOS IMPORTADOS'!T438","v":0},{"$f":"'[1]HOJA GENERAL DATOS IMPORTADOS'!U438","v":0},{"$f":"'[1]HOJA GENERAL DATOS IMPORTADOS'!V438","v":0},{"$f":"'[1]HOJA GENERAL DATOS IMPORTADOS'!W438","v":0},{"$f":"'[1]HOJA GENERAL DATOS IMPORTADOS'!X438","v":0},{"$f":"'[1]HOJA GENERAL DATOS IMPORTADOS'!Y438","v":0},{"$f":"'[1]HOJA GENERAL DATOS IMPORTADOS'!Z438","v":0},{"$f":"'[1]HOJA GENERAL DATOS IMPORTADOS'!AA438","v":0},{"$f":"'[1]HOJA GENERAL DATOS IMPORTADOS'!AB438","v":0},{"$f":"'[1]HOJA GENERAL DATOS IMPORTADOS'!AC438","v":0},{"$f":"'[1]HOJA GENERAL DATOS IMPORTADOS'!AD438","v":0},{"$f":"'[1]HOJA GENERAL DATOS IMPORTADOS'!AE438","v":0},{"$f":"'[1]HOJA GENERAL DATOS IMPORTADOS'!AF438","v":0},{"$f":"'[1]HOJA GENERAL DATOS IMPORTADOS'!AG438","v":0},{"$f":"'[1]HOJA GENERAL DATOS IMPORTADOS'!AH438","v":0},{"$f":"'[1]HOJA GENERAL DATOS IMPORTADOS'!AI438","v":0}]
[{"$f":"'[1]HOJA GENERAL DATOS IMPORTADOS'!A439","v":0},{"$f":"'[1]HOJA GENERAL DATOS IMPORTADOS'!B439","v":0},{"$f":"'[1]HOJA GENERAL DATOS IMPORTADOS'!C439","v":0},{"$f":"'[1]HOJA GENERAL DATOS IMPORTADOS'!D439","v":0},{"$f":"'[1]HOJA GENERAL DATOS IMPORTADOS'!E439","v":0},{"$f":"'[1]HOJA GENERAL DATOS IMPORTADOS'!F439","v":0},{"$f":"'[1]HOJA GENERAL DATOS IMPORTADOS'!G439","v":0},{"$f":"'[1]HOJA GENERAL DATOS IMPORTADOS'!H439","v":0},{"$f":"'[1]HOJA GENERAL DATOS IMPORTADOS'!I439","v":0},{"$f":"'[1]HOJA GENERAL DATOS IMPORTADOS'!J439","v":0},{"$f":"'[1]HOJA GENERAL DATOS IMPORTADOS'!K439","v":0},{"$f":"'[1]HOJA GENERAL DATOS IMPORTADOS'!L439","v":0},{"$f":"'[1]HOJA GENERAL DATOS IMPORTADOS'!M439","v":0},{"$f":"'[1]HOJA GENERAL DATOS IMPORTADOS'!N439","v":0},{"$f":"'[1]HOJA GENERAL DATOS IMPORTADOS'!O439","v":0},{"$f":"'[1]HOJA GENERAL DATOS IMPORTADOS'!P439","v":0},{"$f":"'[1]HOJA GENERAL DATOS IMPORTADOS'!Q439","v":0},{"$f":"'[1]HOJA GENERAL DATOS IMPORTADOS'!R439","v":0},{"$f":"'[1]HOJA GENERAL DATOS IMPORTADOS'!S439","v":0},{"$f":"'[1]HOJA GENERAL DATOS IMPORTADOS'!T439","v":0},{"$f":"'[1]HOJA GENERAL DATOS IMPORTADOS'!U439","v":0},{"$f":"'[1]HOJA GENERAL DATOS IMPORTADOS'!V439","v":0},{"$f":"'[1]HOJA GENERAL DATOS IMPORTADOS'!W439","v":0},{"$f":"'[1]HOJA GENERAL DATOS IMPORTADOS'!X439","v":0},{"$f":"'[1]HOJA GENERAL DATOS IMPORTADOS'!Y439","v":0},{"$f":"'[1]HOJA GENERAL DATOS IMPORTADOS'!Z439","v":0},{"$f":"'[1]HOJA GENERAL DATOS IMPORTADOS'!AA439","v":0},{"$f":"'[1]HOJA GENERAL DATOS IMPORTADOS'!AB439","v":0},{"$f":"'[1]HOJA GENERAL DATOS IMPORTADOS'!AC439","v":0},{"$f":"'[1]HOJA GENERAL DATOS IMPORTADOS'!AD439","v":0},{"$f":"'[1]HOJA GENERAL DATOS IMPORTADOS'!AE439","v":0},{"$f":"'[1]HOJA GENERAL DATOS IMPORTADOS'!AF439","v":0},{"$f":"'[1]HOJA GENERAL DATOS IMPORTADOS'!AG439","v":0},{"$f":"'[1]HOJA GENERAL DATOS IMPORTADOS'!AH439","v":0},{"$f":"'[1]HOJA GENERAL DATOS IMPORTADOS'!AI439","v":0}]
[{"$f":"'[1]HOJA GENERAL DATOS IMPORTADOS'!A440","v":0},{"$f":"'[1]HOJA GENERAL DATOS IMPORTADOS'!B440","v":0},{"$f":"'[1]HOJA GENERAL DATOS IMPORTADOS'!C440","v":0},{"$f":"'[1]HOJA GENERAL DATOS IMPORTADOS'!D440","v":0},{"$f":"'[1]HOJA GENERAL DATOS IMPORTADOS'!E440","v":0},{"$f":"'[1]HOJA GENERAL DATOS IMPORTADOS'!F440","v":0},{"$f":"'[1]HOJA GENERAL DATOS IMPORTADOS'!G440","v":0},{"$f":"'[1]HOJA GENERAL DATOS IMPORTADOS'!H440","v":0},{"$f":"'[1]HOJA GENERAL DATOS IMPORTADOS'!I440","v":0},{"$f":"'[1]HOJA GENERAL DATOS IMPORTADOS'!J440","v":0},{"$f":"'[1]HOJA GENERAL DATOS IMPORTADOS'!K440","v":0},{"$f":"'[1]HOJA GENERAL DATOS IMPORTADOS'!L440","v":0},{"$f":"'[1]HOJA GENERAL DATOS IMPORTADOS'!M440","v":0},{"$f":"'[1]HOJA GENERAL DATOS IMPORTADOS'!N440","v":0},{"$f":"'[1]HOJA GENERAL DATOS IMPORTADOS'!O440","v":0},{"$f":"'[1]HOJA GENERAL DATOS IMPORTADOS'!P440","v":0},{"$f":"'[1]HOJA GENERAL DATOS IMPORTADOS'!Q440","v":0},{"$f":"'[1]HOJA GENERAL DATOS IMPORTADOS'!R440","v":0},{"$f":"'[1]HOJA GENERAL DATOS IMPORTADOS'!S440","v":0},{"$f":"'[1]HOJA GENERAL DATOS IMPORTADOS'!T440","v":0},{"$f":"'[1]HOJA GENERAL DATOS IMPORTADOS'!U440","v":0},{"$f":"'[1]HOJA GENERAL DATOS IMPORTADOS'!V440","v":0},{"$f":"'[1]HOJA GENERAL DATOS IMPORTADOS'!W440","v":0},{"$f":"'[1]HOJA GENERAL DATOS IMPORTADOS'!X440","v":0},{"$f":"'[1]HOJA GENERAL DATOS IMPORTADOS'!Y440","v":0},{"$f":"'[1]HOJA GENERAL DATOS IMPORTADOS'!Z440","v":0},{"$f":"'[1]HOJA GENERAL DATOS IMPORTADOS'!AA440","v":0},{"$f":"'[1]HOJA GENERAL DATOS IMPORTADOS'!AB440","v":0},{"$f":"'[1]HOJA GENERAL DATOS IMPORTADOS'!AC440","v":0},{"$f":"'[1]HOJA GENERAL DATOS IMPORTADOS'!AD440","v":0},{"$f":"'[1]HOJA GENERAL DATOS IMPORTADOS'!AE440","v":0},{"$f":"'[1]HOJA GENERAL DATOS IMPORTADOS'!AF440","v":0},{"$f":"'[1]HOJA GENERAL DATOS IMPORTADOS'!AG440","v":0},{"$f":"'[1]HOJA GENERAL DATOS IMPORTADOS'!AH440","v":0},{"$f":"'[1]HOJA GENERAL DATOS IMPORTADOS'!AI440","v":0}]
[{"$f":"'[1]HOJA GENERAL DATOS IMPORTADOS'!A441","v":0},{"$f":"'[1]HOJA GENERAL DATOS IMPORTADOS'!B441","v":0},{"$f":"'[1]HOJA GENERAL DATOS IMPORTADOS'!C441","v":0},{"$f":"'[1]HOJA GENERAL DATOS IMPORTADOS'!D441","v":0},{"$f":"'[1]HOJA GENERAL DATOS IMPORTADOS'!E441","v":0},{"$f":"'[1]HOJA GENERAL DATOS IMPORTADOS'!F441","v":0},{"$f":"'[1]HOJA GENERAL DATOS IMPORTADOS'!G441","v":0},{"$f":"'[1]HOJA GENERAL DATOS IMPORTADOS'!H441","v":0},{"$f":"'[1]HOJA GENERAL DATOS IMPORTADOS'!I441","v":0},{"$f":"'[1]HOJA GENERAL DATOS IMPORTADOS'!J441","v":0},{"$f":"'[1]HOJA GENERAL DATOS IMPORTADOS'!K441","v":0},{"$f":"'[1]HOJA GENERAL DATOS IMPORTADOS'!L441","v":0},{"$f":"'[1]HOJA GENERAL DATOS IMPORTADOS'!M441","v":0},{"$f":"'[1]HOJA GENERAL DATOS IMPORTADOS'!N441","v":0},{"$f":"'[1]HOJA GENERAL DATOS IMPORTADOS'!O441","v":0},{"$f":"'[1]HOJA GENERAL DATOS IMPORTADOS'!P441","v":0},{"$f":"'[1]HOJA GENERAL DATOS IMPORTADOS'!Q441","v":0},{"$f":"'[1]HOJA GENERAL DATOS IMPORTADOS'!R441","v":0},{"$f":"'[1]HOJA GENERAL DATOS IMPORTADOS'!S441","v":0},{"$f":"'[1]HOJA GENERAL DATOS IMPORTADOS'!T441","v":0},{"$f":"'[1]HOJA GENERAL DATOS IMPORTADOS'!U441","v":0},{"$f":"'[1]HOJA GENERAL DATOS IMPORTADOS'!V441","v":0},{"$f":"'[1]HOJA GENERAL DATOS IMPORTADOS'!W441","v":0},{"$f":"'[1]HOJA GENERAL DATOS IMPORTADOS'!X441","v":0},{"$f":"'[1]HOJA GENERAL DATOS IMPORTADOS'!Y441","v":0},{"$f":"'[1]HOJA GENERAL DATOS IMPORTADOS'!Z441","v":0},{"$f":"'[1]HOJA GENERAL DATOS IMPORTADOS'!AA441","v":0},{"$f":"'[1]HOJA GENERAL DATOS IMPORTADOS'!AB441","v":0},{"$f":"'[1]HOJA GENERAL DATOS IMPORTADOS'!AC441","v":0},{"$f":"'[1]HOJA GENERAL DATOS IMPORTADOS'!AD441","v":0},{"$f":"'[1]HOJA GENERAL DATOS IMPORTADOS'!AE441","v":0},{"$f":"'[1]HOJA GENERAL DATOS IMPORTADOS'!AF441","v":0},{"$f":"'[1]HOJA GENERAL DATOS IMPORTADOS'!AG441","v":0},{"$f":"'[1]HOJA GENERAL DATOS IMPORTADOS'!AH441","v":0},{"$f":"'[1]HOJA GENERAL DATOS IMPORTADOS'!AI441","v":0}]
[{"$f":"'[1]HOJA GENERAL DATOS IMPORTADOS'!A442","v":0},{"$f":"'[1]HOJA GENERAL DATOS IMPORTADOS'!B442","v":0},{"$f":"'[1]HOJA GENERAL DATOS IMPORTADOS'!C442","v":0},{"$f":"'[1]HOJA GENERAL DATOS IMPORTADOS'!D442","v":0},{"$f":"'[1]HOJA GENERAL DATOS IMPORTADOS'!E442","v":0},{"$f":"'[1]HOJA GENERAL DATOS IMPORTADOS'!F442","v":0},{"$f":"'[1]HOJA GENERAL DATOS IMPORTADOS'!G442","v":0},{"$f":"'[1]HOJA GENERAL DATOS IMPORTADOS'!H442","v":0},{"$f":"'[1]HOJA GENERAL DATOS IMPORTADOS'!I442","v":0},{"$f":"'[1]HOJA GENERAL DATOS IMPORTADOS'!J442","v":0},{"$f":"'[1]HOJA GENERAL DATOS IMPORTADOS'!K442","v":0},{"$f":"'[1]HOJA GENERAL DATOS IMPORTADOS'!L442","v":0},{"$f":"'[1]HOJA GENERAL DATOS IMPORTADOS'!M442","v":0},{"$f":"'[1]HOJA GENERAL DATOS IMPORTADOS'!N442","v":0},{"$f":"'[1]HOJA GENERAL DATOS IMPORTADOS'!O442","v":0},{"$f":"'[1]HOJA GENERAL DATOS IMPORTADOS'!P442","v":0},{"$f":"'[1]HOJA GENERAL DATOS IMPORTADOS'!Q442","v":0},{"$f":"'[1]HOJA GENERAL DATOS IMPORTADOS'!R442","v":0},{"$f":"'[1]HOJA GENERAL DATOS IMPORTADOS'!S442","v":0},{"$f":"'[1]HOJA GENERAL DATOS IMPORTADOS'!T442","v":0},{"$f":"'[1]HOJA GENERAL DATOS IMPORTADOS'!U442","v":0},{"$f":"'[1]HOJA GENERAL DATOS IMPORTADOS'!V442","v":0},{"$f":"'[1]HOJA GENERAL DATOS IMPORTADOS'!W442","v":0},{"$f":"'[1]HOJA GENERAL DATOS IMPORTADOS'!X442","v":0},{"$f":"'[1]HOJA GENERAL DATOS IMPORTADOS'!Y442","v":0},{"$f":"'[1]HOJA GENERAL DATOS IMPORTADOS'!Z442","v":0},{"$f":"'[1]HOJA GENERAL DATOS IMPORTADOS'!AA442","v":0},{"$f":"'[1]HOJA GENERAL DATOS IMPORTADOS'!AB442","v":0},{"$f":"'[1]HOJA GENERAL DATOS IMPORTADOS'!AC442","v":0},{"$f":"'[1]HOJA GENERAL DATOS IMPORTADOS'!AD442","v":0},{"$f":"'[1]HOJA GENERAL DATOS IMPORTADOS'!AE442","v":0},{"$f":"'[1]HOJA GENERAL DATOS IMPORTADOS'!AF442","v":0},{"$f":"'[1]HOJA GENERAL DATOS IMPORTADOS'!AG442","v":0},{"$f":"'[1]HOJA GENERAL DATOS IMPORTADOS'!AH442","v":0},{"$f":"'[1]HOJA GENERAL DATOS IMPORTADOS'!AI442","v":0}]
[{"$f":"'[1]HOJA GENERAL DATOS IMPORTADOS'!A443","v":0},{"$f":"'[1]HOJA GENERAL DATOS IMPORTADOS'!B443","v":0},{"$f":"'[1]HOJA GENERAL DATOS IMPORTADOS'!C443","v":0},{"$f":"'[1]HOJA GENERAL DATOS IMPORTADOS'!D443","v":0},{"$f":"'[1]HOJA GENERAL DATOS IMPORTADOS'!E443","v":0},{"$f":"'[1]HOJA GENERAL DATOS IMPORTADOS'!F443","v":0},{"$f":"'[1]HOJA GENERAL DATOS IMPORTADOS'!G443","v":0},{"$f":"'[1]HOJA GENERAL DATOS IMPORTADOS'!H443","v":0},{"$f":"'[1]HOJA GENERAL DATOS IMPORTADOS'!I443","v":0},{"$f":"'[1]HOJA GENERAL DATOS IMPORTADOS'!J443","v":0},{"$f":"'[1]HOJA GENERAL DATOS IMPORTADOS'!K443","v":0},{"$f":"'[1]HOJA GENERAL DATOS IMPORTADOS'!L443","v":0},{"$f":"'[1]HOJA GENERAL DATOS IMPORTADOS'!M443","v":0},{"$f":"'[1]HOJA GENERAL DATOS IMPORTADOS'!N443","v":0},{"$f":"'[1]HOJA GENERAL DATOS IMPORTADOS'!O443","v":0},{"$f":"'[1]HOJA GENERAL DATOS IMPORTADOS'!P443","v":0},{"$f":"'[1]HOJA GENERAL DATOS IMPORTADOS'!Q443","v":0},{"$f":"'[1]HOJA GENERAL DATOS IMPORTADOS'!R443","v":0},{"$f":"'[1]HOJA GENERAL DATOS IMPORTADOS'!S443","v":0},{"$f":"'[1]HOJA GENERAL DATOS IMPORTADOS'!T443","v":0},{"$f":"'[1]HOJA GENERAL DATOS IMPORTADOS'!U443","v":0},{"$f":"'[1]HOJA GENERAL DATOS IMPORTADOS'!V443","v":0},{"$f":"'[1]HOJA GENERAL DATOS IMPORTADOS'!W443","v":0},{"$f":"'[1]HOJA GENERAL DATOS IMPORTADOS'!X443","v":0},{"$f":"'[1]HOJA GENERAL DATOS IMPORTADOS'!Y443","v":0},{"$f":"'[1]HOJA GENERAL DATOS IMPORTADOS'!Z443","v":0},{"$f":"'[1]HOJA GENERAL DATOS IMPORTADOS'!AA443","v":0},{"$f":"'[1]HOJA GENERAL DATOS IMPORTADOS'!AB443","v":0},{"$f":"'[1]HOJA GENERAL DATOS IMPORTADOS'!AC443","v":0},{"$f":"'[1]HOJA GENERAL DATOS IMPORTADOS'!AD443","v":0},{"$f":"'[1]HOJA GENERAL DATOS IMPORTADOS'!AE443","v":0},{"$f":"'[1]HOJA GENERAL DATOS IMPORTADOS'!AF443","v":0},{"$f":"'[1]HOJA GENERAL DATOS IMPORTADOS'!AG443","v":0},{"$f":"'[1]HOJA GENERAL DATOS IMPORTADOS'!AH443","v":0},{"$f":"'[1]HOJA GENERAL DATOS IMPORTADOS'!AI443","v":0}]
[{"$f":"'[1]HOJA GENERAL DATOS IMPORTADOS'!A444","v":0},{"$f":"'[1]HOJA GENERAL DATOS IMPORTADOS'!B444","v":0},{"$f":"'[1]HOJA GENERAL DATOS IMPORTADOS'!C444","v":0},{"$f":"'[1]HOJA GENERAL DATOS IMPORTADOS'!D444","v":0},{"$f":"'[1]HOJA GENERAL DATOS IMPORTADOS'!E444","v":0},{"$f":"'[1]HOJA GENERAL DATOS IMPORTADOS'!F444","v":0},{"$f":"'[1]HOJA GENERAL DATOS IMPORTADOS'!G444","v":0},{"$f":"'[1]HOJA GENERAL DATOS IMPORTADOS'!H444","v":0},{"$f":"'[1]HOJA GENERAL DATOS IMPORTADOS'!I444","v":0},{"$f":"'[1]HOJA GENERAL DATOS IMPORTADOS'!J444","v":0},{"$f":"'[1]HOJA GENERAL DATOS IMPORTADOS'!K444","v":0},{"$f":"'[1]HOJA GENERAL DATOS IMPORTADOS'!L444","v":0},{"$f":"'[1]HOJA GENERAL DATOS IMPORTADOS'!M444","v":0},{"$f":"'[1]HOJA GENERAL DATOS IMPORTADOS'!N444","v":0},{"$f":"'[1]HOJA GENERAL DATOS IMPORTADOS'!O444","v":0},{"$f":"'[1]HOJA GENERAL DATOS IMPORTADOS'!P444","v":0},{"$f":"'[1]HOJA GENERAL DATOS IMPORTADOS'!Q444","v":0},{"$f":"'[1]HOJA GENERAL DATOS IMPORTADOS'!R444","v":0},{"$f":"'[1]HOJA GENERAL DATOS IMPORTADOS'!S444","v":0},{"$f":"'[1]HOJA GENERAL DATOS IMPORTADOS'!T444","v":0},{"$f":"'[1]HOJA GENERAL DATOS IMPORTADOS'!U444","v":0},{"$f":"'[1]HOJA GENERAL DATOS IMPORTADOS'!V444","v":0},{"$f":"'[1]HOJA GENERAL DATOS IMPORTADOS'!W444","v":0},{"$f":"'[1]HOJA GENERAL DATOS IMPORTADOS'!X444","v":0},{"$f":"'[1]HOJA GENERAL DATOS IMPORTADOS'!Y444","v":0},{"$f":"'[1]HOJA GENERAL DATOS IMPORTADOS'!Z444","v":0},{"$f":"'[1]HOJA GENERAL DATOS IMPORTADOS'!AA444","v":0},{"$f":"'[1]HOJA GENERAL DATOS IMPORTADOS'!AB444","v":0},{"$f":"'[1]HOJA GENERAL DATOS IMPORTADOS'!AC444","v":0},{"$f":"'[1]HOJA GENERAL DATOS IMPORTADOS'!AD444","v":0},{"$f":"'[1]HOJA GENERAL DATOS IMPORTADOS'!AE444","v":0},{"$f":"'[1]HOJA GENERAL DATOS IMPORTADOS'!AF444","v":0},{"$f":"'[1]HOJA GENERAL DATOS IMPORTADOS'!AG444","v":0},{"$f":"'[1]HOJA GENERAL DATOS IMPORTADOS'!AH444","v":0},{"$f":"'[1]HOJA GENERAL DATOS IMPORTADOS'!AI444","v":0}]
[{"$f":"'[1]HOJA GENERAL DATOS IMPORTADOS'!A445","v":0},{"$f":"'[1]HOJA GENERAL DATOS IMPORTADOS'!B445","v":0},{"$f":"'[1]HOJA GENERAL DATOS IMPORTADOS'!C445","v":0},{"$f":"'[1]HOJA GENERAL DATOS IMPORTADOS'!D445","v":0},{"$f":"'[1]HOJA GENERAL DATOS IMPORTADOS'!E445","v":0},{"$f":"'[1]HOJA GENERAL DATOS IMPORTADOS'!F445","v":0},{"$f":"'[1]HOJA GENERAL DATOS IMPORTADOS'!G445","v":0},{"$f":"'[1]HOJA GENERAL DATOS IMPORTADOS'!H445","v":0},{"$f":"'[1]HOJA GENERAL DATOS IMPORTADOS'!I445","v":0},{"$f":"'[1]HOJA GENERAL DATOS IMPORTADOS'!J445","v":0},{"$f":"'[1]HOJA GENERAL DATOS IMPORTADOS'!K445","v":0},{"$f":"'[1]HOJA GENERAL DATOS IMPORTADOS'!L445","v":0},{"$f":"'[1]HOJA GENERAL DATOS IMPORTADOS'!M445","v":0},{"$f":"'[1]HOJA GENERAL DATOS IMPORTADOS'!N445","v":0},{"$f":"'[1]HOJA GENERAL DATOS IMPORTADOS'!O445","v":0},{"$f":"'[1]HOJA GENERAL DATOS IMPORTADOS'!P445","v":0},{"$f":"'[1]HOJA GENERAL DATOS IMPORTADOS'!Q445","v":0},{"$f":"'[1]HOJA GENERAL DATOS IMPORTADOS'!R445","v":0},{"$f":"'[1]HOJA GENERAL DATOS IMPORTADOS'!S445","v":0},{"$f":"'[1]HOJA GENERAL DATOS IMPORTADOS'!T445","v":0},{"$f":"'[1]HOJA GENERAL DATOS IMPORTADOS'!U445","v":0},{"$f":"'[1]HOJA GENERAL DATOS IMPORTADOS'!V445","v":0},{"$f":"'[1]HOJA GENERAL DATOS IMPORTADOS'!W445","v":0},{"$f":"'[1]HOJA GENERAL DATOS IMPORTADOS'!X445","v":0},{"$f":"'[1]HOJA GENERAL DATOS IMPORTADOS'!Y445","v":0},{"$f":"'[1]HOJA GENERAL DATOS IMPORTADOS'!Z445","v":0},{"$f":"'[1]HOJA GENERAL DATOS IMPORTADOS'!AA445","v":0},{"$f":"'[1]HOJA GENERAL DATOS IMPORTADOS'!AB445","v":0},{"$f":"'[1]HOJA GENERAL DATOS IMPORTADOS'!AC445","v":0},{"$f":"'[1]HOJA GENERAL DATOS IMPORTADOS'!AD445","v":0},{"$f":"'[1]HOJA GENERAL DATOS IMPORTADOS'!AE445","v":0},{"$f":"'[1]HOJA GENERAL DATOS IMPORTADOS'!AF445","v":0},{"$f":"'[1]HOJA GENERAL DATOS IMPORTADOS'!AG445","v":0},{"$f":"'[1]HOJA GENERAL DATOS IMPORTADOS'!AH445","v":0},{"$f":"'[1]HOJA GENERAL DATOS IMPORTADOS'!AI445","v":0}]
[{"$f":"'[1]HOJA GENERAL DATOS IMPORTADOS'!A446","v":0},{"$f":"'[1]HOJA GENERAL DATOS IMPORTADOS'!B446","v":0},{"$f":"'[1]HOJA GENERAL DATOS IMPORTADOS'!C446","v":0},{"$f":"'[1]HOJA GENERAL DATOS IMPORTADOS'!D446","v":0},{"$f":"'[1]HOJA GENERAL DATOS IMPORTADOS'!E446","v":0},{"$f":"'[1]HOJA GENERAL DATOS IMPORTADOS'!F446","v":0},{"$f":"'[1]HOJA GENERAL DATOS IMPORTADOS'!G446","v":0},{"$f":"'[1]HOJA GENERAL DATOS IMPORTADOS'!H446","v":0},{"$f":"'[1]HOJA GENERAL DATOS IMPORTADOS'!I446","v":0},{"$f":"'[1]HOJA GENERAL DATOS IMPORTADOS'!J446","v":0},{"$f":"'[1]HOJA GENERAL DATOS IMPORTADOS'!K446","v":0},{"$f":"'[1]HOJA GENERAL DATOS IMPORTADOS'!L446","v":0},{"$f":"'[1]HOJA GENERAL DATOS IMPORTADOS'!M446","v":0},{"$f":"'[1]HOJA GENERAL DATOS IMPORTADOS'!N446","v":0},{"$f":"'[1]HOJA GENERAL DATOS IMPORTADOS'!O446","v":0},{"$f":"'[1]HOJA GENERAL DATOS IMPORTADOS'!P446","v":0},{"$f":"'[1]HOJA GENERAL DATOS IMPORTADOS'!Q446","v":0},{"$f":"'[1]HOJA GENERAL DATOS IMPORTADOS'!R446","v":0},{"$f":"'[1]HOJA GENERAL DATOS IMPORTADOS'!S446","v":0},{"$f":"'[1]HOJA GENERAL DATOS IMPORTADOS'!T446","v":0},{"$f":"'[1]HOJA GENERAL DATOS IMPORTADOS'!U446","v":0},{"$f":"'[1]HOJA GENERAL DATOS IMPORTADOS'!V446","v":0},{"$f":"'[1]HOJA GENERAL DATOS IMPORTADOS'!W446","v":0},{"$f":"'[1]HOJA GENERAL DATOS IMPORTADOS'!X446","v":0},{"$f":"'[1]HOJA GENERAL DATOS IMPORTADOS'!Y446","v":0},{"$f":"'[1]HOJA GENERAL DATOS IMPORTADOS'!Z446","v":0},{"$f":"'[1]HOJA GENERAL DATOS IMPORTADOS'!AA446","v":0},{"$f":"'[1]HOJA GENERAL DATOS IMPORTADOS'!AB446","v":0},{"$f":"'[1]HOJA GENERAL DATOS IMPORTADOS'!AC446","v":0},{"$f":"'[1]HOJA GENERAL DATOS IMPORTADOS'!AD446","v":0},{"$f":"'[1]HOJA GENERAL DATOS IMPORTADOS'!AE446","v":0},{"$f":"'[1]HOJA GENERAL DATOS IMPORTADOS'!AF446","v":0},{"$f":"'[1]HOJA GENERAL DATOS IMPORTADOS'!AG446","v":0},{"$f":"'[1]HOJA GENERAL DATOS IMPORTADOS'!AH446","v":0},{"$f":"'[1]HOJA GENERAL DATOS IMPORTADOS'!AI446","v":0}]
[{"$f":"'[1]HOJA GENERAL DATOS IMPORTADOS'!A447","v":0},{"$f":"'[1]HOJA GENERAL DATOS IMPORTADOS'!B447","v":0},{"$f":"'[1]HOJA GENERAL DATOS IMPORTADOS'!C447","v":0},{"$f":"'[1]HOJA GENERAL DATOS IMPORTADOS'!D447","v":0},{"$f":"'[1]HOJA GENERAL DATOS IMPORTADOS'!E447","v":0},{"$f":"'[1]HOJA GENERAL DATOS IMPORTADOS'!F447","v":0},{"$f":"'[1]HOJA GENERAL DATOS IMPORTADOS'!G447","v":0},{"$f":"'[1]HOJA GENERAL DATOS IMPORTADOS'!H447","v":0},{"$f":"'[1]HOJA GENERAL DATOS IMPORTADOS'!I447","v":0},{"$f":"'[1]HOJA GENERAL DATOS IMPORTADOS'!J447","v":0},{"$f":"'[1]HOJA GENERAL DATOS IMPORTADOS'!K447","v":0},{"$f":"'[1]HOJA GENERAL DATOS IMPORTADOS'!L447","v":0},{"$f":"'[1]HOJA GENERAL DATOS IMPORTADOS'!M447","v":0},{"$f":"'[1]HOJA GENERAL DATOS IMPORTADOS'!N447","v":0},{"$f":"'[1]HOJA GENERAL DATOS IMPORTADOS'!O447","v":0},{"$f":"'[1]HOJA GENERAL DATOS IMPORTADOS'!P447","v":0},{"$f":"'[1]HOJA GENERAL DATOS IMPORTADOS'!Q447","v":0},{"$f":"'[1]HOJA GENERAL DATOS IMPORTADOS'!R447","v":0},{"$f":"'[1]HOJA GENERAL DATOS IMPORTADOS'!S447","v":0},{"$f":"'[1]HOJA GENERAL DATOS IMPORTADOS'!T447","v":0},{"$f":"'[1]HOJA GENERAL DATOS IMPORTADOS'!U447","v":0},{"$f":"'[1]HOJA GENERAL DATOS IMPORTADOS'!V447","v":0},{"$f":"'[1]HOJA GENERAL DATOS IMPORTADOS'!W447","v":0},{"$f":"'[1]HOJA GENERAL DATOS IMPORTADOS'!X447","v":0},{"$f":"'[1]HOJA GENERAL DATOS IMPORTADOS'!Y447","v":0},{"$f":"'[1]HOJA GENERAL DATOS IMPORTADOS'!Z447","v":0},{"$f":"'[1]HOJA GENERAL DATOS IMPORTADOS'!AA447","v":0},{"$f":"'[1]HOJA GENERAL DATOS IMPORTADOS'!AB447","v":0},{"$f":"'[1]HOJA GENERAL DATOS IMPORTADOS'!AC447","v":0},{"$f":"'[1]HOJA GENERAL DATOS IMPORTADOS'!AD447","v":0},{"$f":"'[1]HOJA GENERAL DATOS IMPORTADOS'!AE447","v":0},{"$f":"'[1]HOJA GENERAL DATOS IMPORTADOS'!AF447","v":0},{"$f":"'[1]HOJA GENERAL DATOS IMPORTADOS'!AG447","v":0},{"$f":"'[1]HOJA GENERAL DATOS IMPORTADOS'!AH447","v":0},{"$f":"'[1]HOJA GENERAL DATOS IMPORTADOS'!AI447","v":0}]
[{"$f":"'[1]HOJA GENERAL DATOS IMPORTADOS'!A448","v":0},{"$f":"'[1]HOJA GENERAL DATOS IMPORTADOS'!B448","v":0},{"$f":"'[1]HOJA GENERAL DATOS IMPORTADOS'!C448","v":0},{"$f":"'[1]HOJA GENERAL DATOS IMPORTADOS'!D448","v":0},{"$f":"'[1]HOJA GENERAL DATOS IMPORTADOS'!E448","v":0},{"$f":"'[1]HOJA GENERAL DATOS IMPORTADOS'!F448","v":0},{"$f":"'[1]HOJA GENERAL DATOS IMPORTADOS'!G448","v":0},{"$f":"'[1]HOJA GENERAL DATOS IMPORTADOS'!H448","v":0},{"$f":"'[1]HOJA GENERAL DATOS IMPORTADOS'!I448","v":0},{"$f":"'[1]HOJA GENERAL DATOS IMPORTADOS'!J448","v":0},{"$f":"'[1]HOJA GENERAL DATOS IMPORTADOS'!K448","v":0},{"$f":"'[1]HOJA GENERAL DATOS IMPORTADOS'!L448","v":0},{"$f":"'[1]HOJA GENERAL DATOS IMPORTADOS'!M448","v":0},{"$f":"'[1]HOJA GENERAL DATOS IMPORTADOS'!N448","v":0},{"$f":"'[1]HOJA GENERAL DATOS IMPORTADOS'!O448","v":0},{"$f":"'[1]HOJA GENERAL DATOS IMPORTADOS'!P448","v":0},{"$f":"'[1]HOJA GENERAL DATOS IMPORTADOS'!Q448","v":0},{"$f":"'[1]HOJA GENERAL DATOS IMPORTADOS'!R448","v":0},{"$f":"'[1]HOJA GENERAL DATOS IMPORTADOS'!S448","v":0},{"$f":"'[1]HOJA GENERAL DATOS IMPORTADOS'!T448","v":0},{"$f":"'[1]HOJA GENERAL DATOS IMPORTADOS'!U448","v":0},{"$f":"'[1]HOJA GENERAL DATOS IMPORTADOS'!V448","v":0},{"$f":"'[1]HOJA GENERAL DATOS IMPORTADOS'!W448","v":0},{"$f":"'[1]HOJA GENERAL DATOS IMPORTADOS'!X448","v":0},{"$f":"'[1]HOJA GENERAL DATOS IMPORTADOS'!Y448","v":0},{"$f":"'[1]HOJA GENERAL DATOS IMPORTADOS'!Z448","v":0},{"$f":"'[1]HOJA GENERAL DATOS IMPORTADOS'!AA448","v":0},{"$f":"'[1]HOJA GENERAL DATOS IMPORTADOS'!AB448","v":0},{"$f":"'[1]HOJA GENERAL DATOS IMPORTADOS'!AC448","v":0},{"$f":"'[1]HOJA GENERAL DATOS IMPORTADOS'!AD448","v":0},{"$f":"'[1]HOJA GENERAL DATOS IMPORTADOS'!AE448","v":0},{"$f":"'[1]HOJA GENERAL DATOS IMPORTADOS'!AF448","v":0},{"$f":"'[1]HOJA GENERAL DATOS IMPORTADOS'!AG448","v":0},{"$f":"'[1]HOJA GENERAL DATOS IMPORTADOS'!AH448","v":0},{"$f":"'[1]HOJA GENERAL DATOS IMPORTADOS'!AI448","v":0}]
[{"$f":"'[1]HOJA GENERAL DATOS IMPORTADOS'!A449","v":0},{"$f":"'[1]HOJA GENERAL DATOS IMPORTADOS'!B449","v":0},{"$f":"'[1]HOJA GENERAL DATOS IMPORTADOS'!C449","v":0},{"$f":"'[1]HOJA GENERAL DATOS IMPORTADOS'!D449","v":0},{"$f":"'[1]HOJA GENERAL DATOS IMPORTADOS'!E449","v":0},{"$f":"'[1]HOJA GENERAL DATOS IMPORTADOS'!F449","v":0},{"$f":"'[1]HOJA GENERAL DATOS IMPORTADOS'!G449","v":0},{"$f":"'[1]HOJA GENERAL DATOS IMPORTADOS'!H449","v":0},{"$f":"'[1]HOJA GENERAL DATOS IMPORTADOS'!I449","v":0},{"$f":"'[1]HOJA GENERAL DATOS IMPORTADOS'!J449","v":0},{"$f":"'[1]HOJA GENERAL DATOS IMPORTADOS'!K449","v":0},{"$f":"'[1]HOJA GENERAL DATOS IMPORTADOS'!L449","v":0},{"$f":"'[1]HOJA GENERAL DATOS IMPORTADOS'!M449","v":0},{"$f":"'[1]HOJA GENERAL DATOS IMPORTADOS'!N449","v":0},{"$f":"'[1]HOJA GENERAL DATOS IMPORTADOS'!O449","v":0},{"$f":"'[1]HOJA GENERAL DATOS IMPORTADOS'!P449","v":0},{"$f":"'[1]HOJA GENERAL DATOS IMPORTADOS'!Q449","v":0},{"$f":"'[1]HOJA GENERAL DATOS IMPORTADOS'!R449","v":0},{"$f":"'[1]HOJA GENERAL DATOS IMPORTADOS'!S449","v":0},{"$f":"'[1]HOJA GENERAL DATOS IMPORTADOS'!T449","v":0},{"$f":"'[1]HOJA GENERAL DATOS IMPORTADOS'!U449","v":0},{"$f":"'[1]HOJA GENERAL DATOS IMPORTADOS'!V449","v":0},{"$f":"'[1]HOJA GENERAL DATOS IMPORTADOS'!W449","v":0},{"$f":"'[1]HOJA GENERAL DATOS IMPORTADOS'!X449","v":0},{"$f":"'[1]HOJA GENERAL DATOS IMPORTADOS'!Y449","v":0},{"$f":"'[1]HOJA GENERAL DATOS IMPORTADOS'!Z449","v":0},{"$f":"'[1]HOJA GENERAL DATOS IMPORTADOS'!AA449","v":0},{"$f":"'[1]HOJA GENERAL DATOS IMPORTADOS'!AB449","v":0},{"$f":"'[1]HOJA GENERAL DATOS IMPORTADOS'!AC449","v":0},{"$f":"'[1]HOJA GENERAL DATOS IMPORTADOS'!AD449","v":0},{"$f":"'[1]HOJA GENERAL DATOS IMPORTADOS'!AE449","v":0},{"$f":"'[1]HOJA GENERAL DATOS IMPORTADOS'!AF449","v":0},{"$f":"'[1]HOJA GENERAL DATOS IMPORTADOS'!AG449","v":0},{"$f":"'[1]HOJA GENERAL DATOS IMPORTADOS'!AH449","v":0},{"$f":"'[1]HOJA GENERAL DATOS IMPORTADOS'!AI449","v":0}]
[{"$f":"'[1]HOJA GENERAL DATOS IMPORTADOS'!A450","v":0},{"$f":"'[1]HOJA GENERAL DATOS IMPORTADOS'!B450","v":0},{"$f":"'[1]HOJA GENERAL DATOS IMPORTADOS'!C450","v":0},{"$f":"'[1]HOJA GENERAL DATOS IMPORTADOS'!D450","v":0},{"$f":"'[1]HOJA GENERAL DATOS IMPORTADOS'!E450","v":0},{"$f":"'[1]HOJA GENERAL DATOS IMPORTADOS'!F450","v":0},{"$f":"'[1]HOJA GENERAL DATOS IMPORTADOS'!G450","v":0},{"$f":"'[1]HOJA GENERAL DATOS IMPORTADOS'!H450","v":0},{"$f":"'[1]HOJA GENERAL DATOS IMPORTADOS'!I450","v":0},{"$f":"'[1]HOJA GENERAL DATOS IMPORTADOS'!J450","v":0},{"$f":"'[1]HOJA GENERAL DATOS IMPORTADOS'!K450","v":0},{"$f":"'[1]HOJA GENERAL DATOS IMPORTADOS'!L450","v":0},{"$f":"'[1]HOJA GENERAL DATOS IMPORTADOS'!M450","v":0},{"$f":"'[1]HOJA GENERAL DATOS IMPORTADOS'!N450","v":0},{"$f":"'[1]HOJA GENERAL DATOS IMPORTADOS'!O450","v":0},{"$f":"'[1]HOJA GENERAL DATOS IMPORTADOS'!P450","v":0},{"$f":"'[1]HOJA GENERAL DATOS IMPORTADOS'!Q450","v":0},{"$f":"'[1]HOJA GENERAL DATOS IMPORTADOS'!R450","v":0},{"$f":"'[1]HOJA GENERAL DATOS IMPORTADOS'!S450","v":0},{"$f":"'[1]HOJA GENERAL DATOS IMPORTADOS'!T450","v":0},{"$f":"'[1]HOJA GENERAL DATOS IMPORTADOS'!U450","v":0},{"$f":"'[1]HOJA GENERAL DATOS IMPORTADOS'!V450","v":0},{"$f":"'[1]HOJA GENERAL DATOS IMPORTADOS'!W450","v":0},{"$f":"'[1]HOJA GENERAL DATOS IMPORTADOS'!X450","v":0},{"$f":"'[1]HOJA GENERAL DATOS IMPORTADOS'!Y450","v":0},{"$f":"'[1]HOJA GENERAL DATOS IMPORTADOS'!Z450","v":0},{"$f":"'[1]HOJA GENERAL DATOS IMPORTADOS'!AA450","v":0},{"$f":"'[1]HOJA GENERAL DATOS IMPORTADOS'!AB450","v":0},{"$f":"'[1]HOJA GENERAL DATOS IMPORTADOS'!AC450","v":0},{"$f":"'[1]HOJA GENERAL DATOS IMPORTADOS'!AD450","v":0},{"$f":"'[1]HOJA GENERAL DATOS IMPORTADOS'!AE450","v":0},{"$f":"'[1]HOJA GENERAL DATOS IMPORTADOS'!AF450","v":0},{"$f":"'[1]HOJA GENERAL DATOS IMPORTADOS'!AG450","v":0},{"$f":"'[1]HOJA GENERAL DATOS IMPORTADOS'!AH450","v":0},{"$f":"'[1]HOJA GENERAL DATOS IMPORTADOS'!AI450","v":0}]
[{"$f":"'[1]HOJA GENERAL DATOS IMPORTADOS'!A451","v":0},{"$f":"'[1]HOJA GENERAL DATOS IMPORTADOS'!B451","v":0},{"$f":"'[1]HOJA GENERAL DATOS IMPORTADOS'!C451","v":0},{"$f":"'[1]HOJA GENERAL DATOS IMPORTADOS'!D451","v":0},{"$f":"'[1]HOJA GENERAL DATOS IMPORTADOS'!E451","v":0},{"$f":"'[1]HOJA GENERAL DATOS IMPORTADOS'!F451","v":0},{"$f":"'[1]HOJA GENERAL DATOS IMPORTADOS'!G451","v":0},{"$f":"'[1]HOJA GENERAL DATOS IMPORTADOS'!H451","v":0},{"$f":"'[1]HOJA GENERAL DATOS IMPORTADOS'!I451","v":0},{"$f":"'[1]HOJA GENERAL DATOS IMPORTADOS'!J451","v":0},{"$f":"'[1]HOJA GENERAL DATOS IMPORTADOS'!K451","v":0},{"$f":"'[1]HOJA GENERAL DATOS IMPORTADOS'!L451","v":0},{"$f":"'[1]HOJA GENERAL DATOS IMPORTADOS'!M451","v":0},{"$f":"'[1]HOJA GENERAL DATOS IMPORTADOS'!N451","v":0},{"$f":"'[1]HOJA GENERAL DATOS IMPORTADOS'!O451","v":0},{"$f":"'[1]HOJA GENERAL DATOS IMPORTADOS'!P451","v":0},{"$f":"'[1]HOJA GENERAL DATOS IMPORTADOS'!Q451","v":0},{"$f":"'[1]HOJA GENERAL DATOS IMPORTADOS'!R451","v":0},{"$f":"'[1]HOJA GENERAL DATOS IMPORTADOS'!S451","v":0},{"$f":"'[1]HOJA GENERAL DATOS IMPORTADOS'!T451","v":0},{"$f":"'[1]HOJA GENERAL DATOS IMPORTADOS'!U451","v":0},{"$f":"'[1]HOJA GENERAL DATOS IMPORTADOS'!V451","v":0},{"$f":"'[1]HOJA GENERAL DATOS IMPORTADOS'!W451","v":0},{"$f":"'[1]HOJA GENERAL DATOS IMPORTADOS'!X451","v":0},{"$f":"'[1]HOJA GENERAL DATOS IMPORTADOS'!Y451","v":0},{"$f":"'[1]HOJA GENERAL DATOS IMPORTADOS'!Z451","v":0},{"$f":"'[1]HOJA GENERAL DATOS IMPORTADOS'!AA451","v":0},{"$f":"'[1]HOJA GENERAL DATOS IMPORTADOS'!AB451","v":0},{"$f":"'[1]HOJA GENERAL DATOS IMPORTADOS'!AC451","v":0},{"$f":"'[1]HOJA GENERAL DATOS IMPORTADOS'!AD451","v":0},{"$f":"'[1]HOJA GENERAL DATOS IMPORTADOS'!AE451","v":0},{"$f":"'[1]HOJA GENERAL DATOS IMPORTADOS'!AF451","v":0},{"$f":"'[1]HOJA GENERAL DATOS IMPORTADOS'!AG451","v":0},{"$f":"'[1]HOJA GENERAL DATOS IMPORTADOS'!AH451","v":0},{"$f":"'[1]HOJA GENERAL DATOS IMPORTADOS'!AI451","v":0}]
[{"$f":"'[1]HOJA GENERAL DATOS IMPORTADOS'!A452","v":0},{"$f":"'[1]HOJA GENERAL DATOS IMPORTADOS'!B452","v":0},{"$f":"'[1]HOJA GENERAL DATOS IMPORTADOS'!C452","v":0},{"$f":"'[1]HOJA GENERAL DATOS IMPORTADOS'!D452","v":0},{"$f":"'[1]HOJA GENERAL DATOS IMPORTADOS'!E452","v":0},{"$f":"'[1]HOJA GENERAL DATOS IMPORTADOS'!F452","v":0},{"$f":"'[1]HOJA GENERAL DATOS IMPORTADOS'!G452","v":0},{"$f":"'[1]HOJA GENERAL DATOS IMPORTADOS'!H452","v":0},{"$f":"'[1]HOJA GENERAL DATOS IMPORTADOS'!I452","v":0},{"$f":"'[1]HOJA GENERAL DATOS IMPORTADOS'!J452","v":0},{"$f":"'[1]HOJA GENERAL DATOS IMPORTADOS'!K452","v":0},{"$f":"'[1]HOJA GENERAL DATOS IMPORTADOS'!L452","v":0},{"$f":"'[1]HOJA GENERAL DATOS IMPORTADOS'!M452","v":0},{"$f":"'[1]HOJA GENERAL DATOS IMPORTADOS'!N452","v":0},{"$f":"'[1]HOJA GENERAL DATOS IMPORTADOS'!O452","v":0},{"$f":"'[1]HOJA GENERAL DATOS IMPORTADOS'!P452","v":0},{"$f":"'[1]HOJA GENERAL DATOS IMPORTADOS'!Q452","v":0},{"$f":"'[1]HOJA GENERAL DATOS IMPORTADOS'!R452","v":0},{"$f":"'[1]HOJA GENERAL DATOS IMPORTADOS'!S452","v":0},{"$f":"'[1]HOJA GENERAL DATOS IMPORTADOS'!T452","v":0},{"$f":"'[1]HOJA GENERAL DATOS IMPORTADOS'!U452","v":0},{"$f":"'[1]HOJA GENERAL DATOS IMPORTADOS'!V452","v":0},{"$f":"'[1]HOJA GENERAL DATOS IMPORTADOS'!W452","v":0},{"$f":"'[1]HOJA GENERAL DATOS IMPORTADOS'!X452","v":0},{"$f":"'[1]HOJA GENERAL DATOS IMPORTADOS'!Y452","v":0},{"$f":"'[1]HOJA GENERAL DATOS IMPORTADOS'!Z452","v":0},{"$f":"'[1]HOJA GENERAL DATOS IMPORTADOS'!AA452","v":0},{"$f":"'[1]HOJA GENERAL DATOS IMPORTADOS'!AB452","v":0},{"$f":"'[1]HOJA GENERAL DATOS IMPORTADOS'!AC452","v":0},{"$f":"'[1]HOJA GENERAL DATOS IMPORTADOS'!AD452","v":0},{"$f":"'[1]HOJA GENERAL DATOS IMPORTADOS'!AE452","v":0},{"$f":"'[1]HOJA GENERAL DATOS IMPORTADOS'!AF452","v":0},{"$f":"'[1]HOJA GENERAL DATOS IMPORTADOS'!AG452","v":0},{"$f":"'[1]HOJA GENERAL DATOS IMPORTADOS'!AH452","v":0},{"$f":"'[1]HOJA GENERAL DATOS IMPORTADOS'!AI452","v":0}]
[{"$f":"'[1]HOJA GENERAL DATOS IMPORTADOS'!A453","v":0},{"$f":"'[1]HOJA GENERAL DATOS IMPORTADOS'!B453","v":0},{"$f":"'[1]HOJA GENERAL DATOS IMPORTADOS'!C453","v":0},{"$f":"'[1]HOJA GENERAL DATOS IMPORTADOS'!D453","v":0},{"$f":"'[1]HOJA GENERAL DATOS IMPORTADOS'!E453","v":0},{"$f":"'[1]HOJA GENERAL DATOS IMPORTADOS'!F453","v":0},{"$f":"'[1]HOJA GENERAL DATOS IMPORTADOS'!G453","v":0},{"$f":"'[1]HOJA GENERAL DATOS IMPORTADOS'!H453","v":0},{"$f":"'[1]HOJA GENERAL DATOS IMPORTADOS'!I453","v":0},{"$f":"'[1]HOJA GENERAL DATOS IMPORTADOS'!J453","v":0},{"$f":"'[1]HOJA GENERAL DATOS IMPORTADOS'!K453","v":0},{"$f":"'[1]HOJA GENERAL DATOS IMPORTADOS'!L453","v":0},{"$f":"'[1]HOJA GENERAL DATOS IMPORTADOS'!M453","v":0},{"$f":"'[1]HOJA GENERAL DATOS IMPORTADOS'!N453","v":0},{"$f":"'[1]HOJA GENERAL DATOS IMPORTADOS'!O453","v":0},{"$f":"'[1]HOJA GENERAL DATOS IMPORTADOS'!P453","v":0},{"$f":"'[1]HOJA GENERAL DATOS IMPORTADOS'!Q453","v":0},{"$f":"'[1]HOJA GENERAL DATOS IMPORTADOS'!R453","v":0},{"$f":"'[1]HOJA GENERAL DATOS IMPORTADOS'!S453","v":0},{"$f":"'[1]HOJA GENERAL DATOS IMPORTADOS'!T453","v":0},{"$f":"'[1]HOJA GENERAL DATOS IMPORTADOS'!U453","v":0},{"$f":"'[1]HOJA GENERAL DATOS IMPORTADOS'!V453","v":0},{"$f":"'[1]HOJA GENERAL DATOS IMPORTADOS'!W453","v":0},{"$f":"'[1]HOJA GENERAL DATOS IMPORTADOS'!X453","v":0},{"$f":"'[1]HOJA GENERAL DATOS IMPORTADOS'!Y453","v":0},{"$f":"'[1]HOJA GENERAL DATOS IMPORTADOS'!Z453","v":0},{"$f":"'[1]HOJA GENERAL DATOS IMPORTADOS'!AA453","v":0},{"$f":"'[1]HOJA GENERAL DATOS IMPORTADOS'!AB453","v":0},{"$f":"'[1]HOJA GENERAL DATOS IMPORTADOS'!AC453","v":0},{"$f":"'[1]HOJA GENERAL DATOS IMPORTADOS'!AD453","v":0},{"$f":"'[1]HOJA GENERAL DATOS IMPORTADOS'!AE453","v":0},{"$f":"'[1]HOJA GENERAL DATOS IMPORTADOS'!AF453","v":0},{"$f":"'[1]HOJA GENERAL DATOS IMPORTADOS'!AG453","v":0},{"$f":"'[1]HOJA GENERAL DATOS IMPORTADOS'!AH453","v":0},{"$f":"'[1]HOJA GENERAL DATOS IMPORTADOS'!AI453","v":0}]
[{"$f":"'[1]HOJA GENERAL DATOS IMPORTADOS'!A454","v":0},{"$f":"'[1]HOJA GENERAL DATOS IMPORTADOS'!B454","v":0},{"$f":"'[1]HOJA GENERAL DATOS IMPORTADOS'!C454","v":0},{"$f":"'[1]HOJA GENERAL DATOS IMPORTADOS'!D454","v":0},{"$f":"'[1]HOJA GENERAL DATOS IMPORTADOS'!E454","v":0},{"$f":"'[1]HOJA GENERAL DATOS IMPORTADOS'!F454","v":0},{"$f":"'[1]HOJA GENERAL DATOS IMPORTADOS'!G454","v":0},{"$f":"'[1]HOJA GENERAL DATOS IMPORTADOS'!H454","v":0},{"$f":"'[1]HOJA GENERAL DATOS IMPORTADOS'!I454","v":0},{"$f":"'[1]HOJA GENERAL DATOS IMPORTADOS'!J454","v":0},{"$f":"'[1]HOJA GENERAL DATOS IMPORTADOS'!K454","v":0},{"$f":"'[1]HOJA GENERAL DATOS IMPORTADOS'!L454","v":0},{"$f":"'[1]HOJA GENERAL DATOS IMPORTADOS'!M454","v":0},{"$f":"'[1]HOJA GENERAL DATOS IMPORTADOS'!N454","v":0},{"$f":"'[1]HOJA GENERAL DATOS IMPORTADOS'!O454","v":0},{"$f":"'[1]HOJA GENERAL DATOS IMPORTADOS'!P454","v":0},{"$f":"'[1]HOJA GENERAL DATOS IMPORTADOS'!Q454","v":0},{"$f":"'[1]HOJA GENERAL DATOS IMPORTADOS'!R454","v":0},{"$f":"'[1]HOJA GENERAL DATOS IMPORTADOS'!S454","v":0},{"$f":"'[1]HOJA GENERAL DATOS IMPORTADOS'!T454","v":0},{"$f":"'[1]HOJA GENERAL DATOS IMPORTADOS'!U454","v":0},{"$f":"'[1]HOJA GENERAL DATOS IMPORTADOS'!V454","v":0},{"$f":"'[1]HOJA GENERAL DATOS IMPORTADOS'!W454","v":0},{"$f":"'[1]HOJA GENERAL DATOS IMPORTADOS'!X454","v":0},{"$f":"'[1]HOJA GENERAL DATOS IMPORTADOS'!Y454","v":0},{"$f":"'[1]HOJA GENERAL DATOS IMPORTADOS'!Z454","v":0},{"$f":"'[1]HOJA GENERAL DATOS IMPORTADOS'!AA454","v":0},{"$f":"'[1]HOJA GENERAL DATOS IMPORTADOS'!AB454","v":0},{"$f":"'[1]HOJA GENERAL DATOS IMPORTADOS'!AC454","v":0},{"$f":"'[1]HOJA GENERAL DATOS IMPORTADOS'!AD454","v":0},{"$f":"'[1]HOJA GENERAL DATOS IMPORTADOS'!AE454","v":0},{"$f":"'[1]HOJA GENERAL DATOS IMPORTADOS'!AF454","v":0},{"$f":"'[1]HOJA GENERAL DATOS IMPORTADOS'!AG454","v":0},{"$f":"'[1]HOJA GENERAL DATOS IMPORTADOS'!AH454","v":0},{"$f":"'[1]HOJA GENERAL DATOS IMPORTADOS'!AI454","v":0}]
[{"$f":"'[1]HOJA GENERAL DATOS IMPORTADOS'!A455","v":0},{"$f":"'[1]HOJA GENERAL DATOS IMPORTADOS'!B455","v":0},{"$f":"'[1]HOJA GENERAL DATOS IMPORTADOS'!C455","v":0},{"$f":"'[1]HOJA GENERAL DATOS IMPORTADOS'!D455","v":0},{"$f":"'[1]HOJA GENERAL DATOS IMPORTADOS'!E455","v":0},{"$f":"'[1]HOJA GENERAL DATOS IMPORTADOS'!F455","v":0},{"$f":"'[1]HOJA GENERAL DATOS IMPORTADOS'!G455","v":0},{"$f":"'[1]HOJA GENERAL DATOS IMPORTADOS'!H455","v":0},{"$f":"'[1]HOJA GENERAL DATOS IMPORTADOS'!I455","v":0},{"$f":"'[1]HOJA GENERAL DATOS IMPORTADOS'!J455","v":0},{"$f":"'[1]HOJA GENERAL DATOS IMPORTADOS'!K455","v":0},{"$f":"'[1]HOJA GENERAL DATOS IMPORTADOS'!L455","v":0},{"$f":"'[1]HOJA GENERAL DATOS IMPORTADOS'!M455","v":0},{"$f":"'[1]HOJA GENERAL DATOS IMPORTADOS'!N455","v":0},{"$f":"'[1]HOJA GENERAL DATOS IMPORTADOS'!O455","v":0},{"$f":"'[1]HOJA GENERAL DATOS IMPORTADOS'!P455","v":0},{"$f":"'[1]HOJA GENERAL DATOS IMPORTADOS'!Q455","v":0},{"$f":"'[1]HOJA GENERAL DATOS IMPORTADOS'!R455","v":0},{"$f":"'[1]HOJA GENERAL DATOS IMPORTADOS'!S455","v":0},{"$f":"'[1]HOJA GENERAL DATOS IMPORTADOS'!T455","v":0},{"$f":"'[1]HOJA GENERAL DATOS IMPORTADOS'!U455","v":0},{"$f":"'[1]HOJA GENERAL DATOS IMPORTADOS'!V455","v":0},{"$f":"'[1]HOJA GENERAL DATOS IMPORTADOS'!W455","v":0},{"$f":"'[1]HOJA GENERAL DATOS IMPORTADOS'!X455","v":0},{"$f":"'[1]HOJA GENERAL DATOS IMPORTADOS'!Y455","v":0},{"$f":"'[1]HOJA GENERAL DATOS IMPORTADOS'!Z455","v":0},{"$f":"'[1]HOJA GENERAL DATOS IMPORTADOS'!AA455","v":0},{"$f":"'[1]HOJA GENERAL DATOS IMPORTADOS'!AB455","v":0},{"$f":"'[1]HOJA GENERAL DATOS IMPORTADOS'!AC455","v":0},{"$f":"'[1]HOJA GENERAL DATOS IMPORTADOS'!AD455","v":0},{"$f":"'[1]HOJA GENERAL DATOS IMPORTADOS'!AE455","v":0},{"$f":"'[1]HOJA GENERAL DATOS IMPORTADOS'!AF455","v":0},{"$f":"'[1]HOJA GENERAL DATOS IMPORTADOS'!AG455","v":0},{"$f":"'[1]HOJA GENERAL DATOS IMPORTADOS'!AH455","v":0},{"$f":"'[1]HOJA GENERAL DATOS IMPORTADOS'!AI455","v":0}]
[{"$f":"'[1]HOJA GENERAL DATOS IMPORTADOS'!A456","v":0},{"$f":"'[1]HOJA GENERAL DATOS IMPORTADOS'!B456","v":0},{"$f":"'[1]HOJA GENERAL DATOS IMPORTADOS'!C456","v":0},{"$f":"'[1]HOJA GENERAL DATOS IMPORTADOS'!D456","v":0},{"$f":"'[1]HOJA GENERAL DATOS IMPORTADOS'!E456","v":0},{"$f":"'[1]HOJA GENERAL DATOS IMPORTADOS'!F456","v":0},{"$f":"'[1]HOJA GENERAL DATOS IMPORTADOS'!G456","v":0},{"$f":"'[1]HOJA GENERAL DATOS IMPORTADOS'!H456","v":0},{"$f":"'[1]HOJA GENERAL DATOS IMPORTADOS'!I456","v":0},{"$f":"'[1]HOJA GENERAL DATOS IMPORTADOS'!J456","v":0},{"$f":"'[1]HOJA GENERAL DATOS IMPORTADOS'!K456","v":0},{"$f":"'[1]HOJA GENERAL DATOS IMPORTADOS'!L456","v":0},{"$f":"'[1]HOJA GENERAL DATOS IMPORTADOS'!M456","v":0},{"$f":"'[1]HOJA GENERAL DATOS IMPORTADOS'!N456","v":0},{"$f":"'[1]HOJA GENERAL DATOS IMPORTADOS'!O456","v":0},{"$f":"'[1]HOJA GENERAL DATOS IMPORTADOS'!P456","v":0},{"$f":"'[1]HOJA GENERAL DATOS IMPORTADOS'!Q456","v":0},{"$f":"'[1]HOJA GENERAL DATOS IMPORTADOS'!R456","v":0},{"$f":"'[1]HOJA GENERAL DATOS IMPORTADOS'!S456","v":0},{"$f":"'[1]HOJA GENERAL DATOS IMPORTADOS'!T456","v":0},{"$f":"'[1]HOJA GENERAL DATOS IMPORTADOS'!U456","v":0},{"$f":"'[1]HOJA GENERAL DATOS IMPORTADOS'!V456","v":0},{"$f":"'[1]HOJA GENERAL DATOS IMPORTADOS'!W456","v":0},{"$f":"'[1]HOJA GENERAL DATOS IMPORTADOS'!X456","v":0},{"$f":"'[1]HOJA GENERAL DATOS IMPORTADOS'!Y456","v":0},{"$f":"'[1]HOJA GENERAL DATOS IMPORTADOS'!Z456","v":0},{"$f":"'[1]HOJA GENERAL DATOS IMPORTADOS'!AA456","v":0},{"$f":"'[1]HOJA GENERAL DATOS IMPORTADOS'!AB456","v":0},{"$f":"'[1]HOJA GENERAL DATOS IMPORTADOS'!AC456","v":0},{"$f":"'[1]HOJA GENERAL DATOS IMPORTADOS'!AD456","v":0},{"$f":"'[1]HOJA GENERAL DATOS IMPORTADOS'!AE456","v":0},{"$f":"'[1]HOJA GENERAL DATOS IMPORTADOS'!AF456","v":0},{"$f":"'[1]HOJA GENERAL DATOS IMPORTADOS'!AG456","v":0},{"$f":"'[1]HOJA GENERAL DATOS IMPORTADOS'!AH456","v":0},{"$f":"'[1]HOJA GENERAL DATOS IMPORTADOS'!AI456","v":0}]
[{"$f":"'[1]HOJA GENERAL DATOS IMPORTADOS'!A457","v":0},{"$f":"'[1]HOJA GENERAL DATOS IMPORTADOS'!B457","v":0},{"$f":"'[1]HOJA GENERAL DATOS IMPORTADOS'!C457","v":0},{"$f":"'[1]HOJA GENERAL DATOS IMPORTADOS'!D457","v":0},{"$f":"'[1]HOJA GENERAL DATOS IMPORTADOS'!E457","v":0},{"$f":"'[1]HOJA GENERAL DATOS IMPORTADOS'!F457","v":0},{"$f":"'[1]HOJA GENERAL DATOS IMPORTADOS'!G457","v":0},{"$f":"'[1]HOJA GENERAL DATOS IMPORTADOS'!H457","v":0},{"$f":"'[1]HOJA GENERAL DATOS IMPORTADOS'!I457","v":0},{"$f":"'[1]HOJA GENERAL DATOS IMPORTADOS'!J457","v":0},{"$f":"'[1]HOJA GENERAL DATOS IMPORTADOS'!K457","v":0},{"$f":"'[1]HOJA GENERAL DATOS IMPORTADOS'!L457","v":0},{"$f":"'[1]HOJA GENERAL DATOS IMPORTADOS'!M457","v":0},{"$f":"'[1]HOJA GENERAL DATOS IMPORTADOS'!N457","v":0},{"$f":"'[1]HOJA GENERAL DATOS IMPORTADOS'!O457","v":0},{"$f":"'[1]HOJA GENERAL DATOS IMPORTADOS'!P457","v":0},{"$f":"'[1]HOJA GENERAL DATOS IMPORTADOS'!Q457","v":0},{"$f":"'[1]HOJA GENERAL DATOS IMPORTADOS'!R457","v":0},{"$f":"'[1]HOJA GENERAL DATOS IMPORTADOS'!S457","v":0},{"$f":"'[1]HOJA GENERAL DATOS IMPORTADOS'!T457","v":0},{"$f":"'[1]HOJA GENERAL DATOS IMPORTADOS'!U457","v":0},{"$f":"'[1]HOJA GENERAL DATOS IMPORTADOS'!V457","v":0},{"$f":"'[1]HOJA GENERAL DATOS IMPORTADOS'!W457","v":0},{"$f":"'[1]HOJA GENERAL DATOS IMPORTADOS'!X457","v":0},{"$f":"'[1]HOJA GENERAL DATOS IMPORTADOS'!Y457","v":0},{"$f":"'[1]HOJA GENERAL DATOS IMPORTADOS'!Z457","v":0},{"$f":"'[1]HOJA GENERAL DATOS IMPORTADOS'!AA457","v":0},{"$f":"'[1]HOJA GENERAL DATOS IMPORTADOS'!AB457","v":0},{"$f":"'[1]HOJA GENERAL DATOS IMPORTADOS'!AC457","v":0},{"$f":"'[1]HOJA GENERAL DATOS IMPORTADOS'!AD457","v":0},{"$f":"'[1]HOJA GENERAL DATOS IMPORTADOS'!AE457","v":0},{"$f":"'[1]HOJA GENERAL DATOS IMPORTADOS'!AF457","v":0},{"$f":"'[1]HOJA GENERAL DATOS IMPORTADOS'!AG457","v":0},{"$f":"'[1]HOJA GENERAL DATOS IMPORTADOS'!AH457","v":0},{"$f":"'[1]HOJA GENERAL DATOS IMPORTADOS'!AI457","v":0}]
[{"$f":"'[1]HOJA GENERAL DATOS IMPORTADOS'!A458","v":0},{"$f":"'[1]HOJA GENERAL DATOS IMPORTADOS'!B458","v":0},{"$f":"'[1]HOJA GENERAL DATOS IMPORTADOS'!C458","v":0},{"$f":"'[1]HOJA GENERAL DATOS IMPORTADOS'!D458","v":0},{"$f":"'[1]HOJA GENERAL DATOS IMPORTADOS'!E458","v":0},{"$f":"'[1]HOJA GENERAL DATOS IMPORTADOS'!F458","v":0},{"$f":"'[1]HOJA GENERAL DATOS IMPORTADOS'!G458","v":0},{"$f":"'[1]HOJA GENERAL DATOS IMPORTADOS'!H458","v":0},{"$f":"'[1]HOJA GENERAL DATOS IMPORTADOS'!I458","v":0},{"$f":"'[1]HOJA GENERAL DATOS IMPORTADOS'!J458","v":0},{"$f":"'[1]HOJA GENERAL DATOS IMPORTADOS'!K458","v":0},{"$f":"'[1]HOJA GENERAL DATOS IMPORTADOS'!L458","v":0},{"$f":"'[1]HOJA GENERAL DATOS IMPORTADOS'!M458","v":0},{"$f":"'[1]HOJA GENERAL DATOS IMPORTADOS'!N458","v":0},{"$f":"'[1]HOJA GENERAL DATOS IMPORTADOS'!O458","v":0},{"$f":"'[1]HOJA GENERAL DATOS IMPORTADOS'!P458","v":0},{"$f":"'[1]HOJA GENERAL DATOS IMPORTADOS'!Q458","v":0},{"$f":"'[1]HOJA GENERAL DATOS IMPORTADOS'!R458","v":0},{"$f":"'[1]HOJA GENERAL DATOS IMPORTADOS'!S458","v":0},{"$f":"'[1]HOJA GENERAL DATOS IMPORTADOS'!T458","v":0},{"$f":"'[1]HOJA GENERAL DATOS IMPORTADOS'!U458","v":0},{"$f":"'[1]HOJA GENERAL DATOS IMPORTADOS'!V458","v":0},{"$f":"'[1]HOJA GENERAL DATOS IMPORTADOS'!W458","v":0},{"$f":"'[1]HOJA GENERAL DATOS IMPORTADOS'!X458","v":0},{"$f":"'[1]HOJA GENERAL DATOS IMPORTADOS'!Y458","v":0},{"$f":"'[1]HOJA GENERAL DATOS IMPORTADOS'!Z458","v":0},{"$f":"'[1]HOJA GENERAL DATOS IMPORTADOS'!AA458","v":0},{"$f":"'[1]HOJA GENERAL DATOS IMPORTADOS'!AB458","v":0},{"$f":"'[1]HOJA GENERAL DATOS IMPORTADOS'!AC458","v":0},{"$f":"'[1]HOJA GENERAL DATOS IMPORTADOS'!AD458","v":0},{"$f":"'[1]HOJA GENERAL DATOS IMPORTADOS'!AE458","v":0},{"$f":"'[1]HOJA GENERAL DATOS IMPORTADOS'!AF458","v":0},{"$f":"'[1]HOJA GENERAL DATOS IMPORTADOS'!AG458","v":0},{"$f":"'[1]HOJA GENERAL DATOS IMPORTADOS'!AH458","v":0},{"$f":"'[1]HOJA GENERAL DATOS IMPORTADOS'!AI458","v":0}]
[{"$f":"'[1]HOJA GENERAL DATOS IMPORTADOS'!A459","v":0},{"$f":"'[1]HOJA GENERAL DATOS IMPORTADOS'!B459","v":0},{"$f":"'[1]HOJA GENERAL DATOS IMPORTADOS'!C459","v":0},{"$f":"'[1]HOJA GENERAL DATOS IMPORTADOS'!D459","v":0},{"$f":"'[1]HOJA GENERAL DATOS IMPORTADOS'!E459","v":0},{"$f":"'[1]HOJA GENERAL DATOS IMPORTADOS'!F459","v":0},{"$f":"'[1]HOJA GENERAL DATOS IMPORTADOS'!G459","v":0},{"$f":"'[1]HOJA GENERAL DATOS IMPORTADOS'!H459","v":0},{"$f":"'[1]HOJA GENERAL DATOS IMPORTADOS'!I459","v":0},{"$f":"'[1]HOJA GENERAL DATOS IMPORTADOS'!J459","v":0},{"$f":"'[1]HOJA GENERAL DATOS IMPORTADOS'!K459","v":0},{"$f":"'[1]HOJA GENERAL DATOS IMPORTADOS'!L459","v":0},{"$f":"'[1]HOJA GENERAL DATOS IMPORTADOS'!M459","v":0},{"$f":"'[1]HOJA GENERAL DATOS IMPORTADOS'!N459","v":0},{"$f":"'[1]HOJA GENERAL DATOS IMPORTADOS'!O459","v":0},{"$f":"'[1]HOJA GENERAL DATOS IMPORTADOS'!P459","v":0},{"$f":"'[1]HOJA GENERAL DATOS IMPORTADOS'!Q459","v":0},{"$f":"'[1]HOJA GENERAL DATOS IMPORTADOS'!R459","v":0},{"$f":"'[1]HOJA GENERAL DATOS IMPORTADOS'!S459","v":0},{"$f":"'[1]HOJA GENERAL DATOS IMPORTADOS'!T459","v":0},{"$f":"'[1]HOJA GENERAL DATOS IMPORTADOS'!U459","v":0},{"$f":"'[1]HOJA GENERAL DATOS IMPORTADOS'!V459","v":0},{"$f":"'[1]HOJA GENERAL DATOS IMPORTADOS'!W459","v":0},{"$f":"'[1]HOJA GENERAL DATOS IMPORTADOS'!X459","v":0},{"$f":"'[1]HOJA GENERAL DATOS IMPORTADOS'!Y459","v":0},{"$f":"'[1]HOJA GENERAL DATOS IMPORTADOS'!Z459","v":0},{"$f":"'[1]HOJA GENERAL DATOS IMPORTADOS'!AA459","v":0},{"$f":"'[1]HOJA GENERAL DATOS IMPORTADOS'!AB459","v":0},{"$f":"'[1]HOJA GENERAL DATOS IMPORTADOS'!AC459","v":0},{"$f":"'[1]HOJA GENERAL DATOS IMPORTADOS'!AD459","v":0},{"$f":"'[1]HOJA GENERAL DATOS IMPORTADOS'!AE459","v":0},{"$f":"'[1]HOJA GENERAL DATOS IMPORTADOS'!AF459","v":0},{"$f":"'[1]HOJA GENERAL DATOS IMPORTADOS'!AG459","v":0},{"$f":"'[1]HOJA GENERAL DATOS IMPORTADOS'!AH459","v":0},{"$f":"'[1]HOJA GENERAL DATOS IMPORTADOS'!AI459","v":0}]
[{"$f":"'[1]HOJA GENERAL DATOS IMPORTADOS'!A460","v":0},{"$f":"'[1]HOJA GENERAL DATOS IMPORTADOS'!B460","v":0},{"$f":"'[1]HOJA GENERAL DATOS IMPORTADOS'!C460","v":0},{"$f":"'[1]HOJA GENERAL DATOS IMPORTADOS'!D460","v":0},{"$f":"'[1]HOJA GENERAL DATOS IMPORTADOS'!E460","v":0},{"$f":"'[1]HOJA GENERAL DATOS IMPORTADOS'!F460","v":0},{"$f":"'[1]HOJA GENERAL DATOS IMPORTADOS'!G460","v":0},{"$f":"'[1]HOJA GENERAL DATOS IMPORTADOS'!H460","v":0},{"$f":"'[1]HOJA GENERAL DATOS IMPORTADOS'!I460","v":0},{"$f":"'[1]HOJA GENERAL DATOS IMPORTADOS'!J460","v":0},{"$f":"'[1]HOJA GENERAL DATOS IMPORTADOS'!K460","v":0},{"$f":"'[1]HOJA GENERAL DATOS IMPORTADOS'!L460","v":0},{"$f":"'[1]HOJA GENERAL DATOS IMPORTADOS'!M460","v":0},{"$f":"'[1]HOJA GENERAL DATOS IMPORTADOS'!N460","v":0},{"$f":"'[1]HOJA GENERAL DATOS IMPORTADOS'!O460","v":0},{"$f":"'[1]HOJA GENERAL DATOS IMPORTADOS'!P460","v":0},{"$f":"'[1]HOJA GENERAL DATOS IMPORTADOS'!Q460","v":0},{"$f":"'[1]HOJA GENERAL DATOS IMPORTADOS'!R460","v":0},{"$f":"'[1]HOJA GENERAL DATOS IMPORTADOS'!S460","v":0},{"$f":"'[1]HOJA GENERAL DATOS IMPORTADOS'!T460","v":0},{"$f":"'[1]HOJA GENERAL DATOS IMPORTADOS'!U460","v":0},{"$f":"'[1]HOJA GENERAL DATOS IMPORTADOS'!V460","v":0},{"$f":"'[1]HOJA GENERAL DATOS IMPORTADOS'!W460","v":0},{"$f":"'[1]HOJA GENERAL DATOS IMPORTADOS'!X460","v":0},{"$f":"'[1]HOJA GENERAL DATOS IMPORTADOS'!Y460","v":0},{"$f":"'[1]HOJA GENERAL DATOS IMPORTADOS'!Z460","v":0},{"$f":"'[1]HOJA GENERAL DATOS IMPORTADOS'!AA460","v":0},{"$f":"'[1]HOJA GENERAL DATOS IMPORTADOS'!AB460","v":0},{"$f":"'[1]HOJA GENERAL DATOS IMPORTADOS'!AC460","v":0},{"$f":"'[1]HOJA GENERAL DATOS IMPORTADOS'!AD460","v":0},{"$f":"'[1]HOJA GENERAL DATOS IMPORTADOS'!AE460","v":0},{"$f":"'[1]HOJA GENERAL DATOS IMPORTADOS'!AF460","v":0},{"$f":"'[1]HOJA GENERAL DATOS IMPORTADOS'!AG460","v":0},{"$f":"'[1]HOJA GENERAL DATOS IMPORTADOS'!AH460","v":0},{"$f":"'[1]HOJA GENERAL DATOS IMPORTADOS'!AI460","v":0}]
[{"$f":"'[1]HOJA GENERAL DATOS IMPORTADOS'!A461","v":0},{"$f":"'[1]HOJA GENERAL DATOS IMPORTADOS'!B461","v":0},{"$f":"'[1]HOJA GENERAL DATOS IMPORTADOS'!C461","v":0},{"$f":"'[1]HOJA GENERAL DATOS IMPORTADOS'!D461","v":0},{"$f":"'[1]HOJA GENERAL DATOS IMPORTADOS'!E461","v":0},{"$f":"'[1]HOJA GENERAL DATOS IMPORTADOS'!F461","v":0},{"$f":"'[1]HOJA GENERAL DATOS IMPORTADOS'!G461","v":0},{"$f":"'[1]HOJA GENERAL DATOS IMPORTADOS'!H461","v":0},{"$f":"'[1]HOJA GENERAL DATOS IMPORTADOS'!I461","v":0},{"$f":"'[1]HOJA GENERAL DATOS IMPORTADOS'!J461","v":0},{"$f":"'[1]HOJA GENERAL DATOS IMPORTADOS'!K461","v":0},{"$f":"'[1]HOJA GENERAL DATOS IMPORTADOS'!L461","v":0},{"$f":"'[1]HOJA GENERAL DATOS IMPORTADOS'!M461","v":0},{"$f":"'[1]HOJA GENERAL DATOS IMPORTADOS'!N461","v":0},{"$f":"'[1]HOJA GENERAL DATOS IMPORTADOS'!O461","v":0},{"$f":"'[1]HOJA GENERAL DATOS IMPORTADOS'!P461","v":0},{"$f":"'[1]HOJA GENERAL DATOS IMPORTADOS'!Q461","v":0},{"$f":"'[1]HOJA GENERAL DATOS IMPORTADOS'!R461","v":0},{"$f":"'[1]HOJA GENERAL DATOS IMPORTADOS'!S461","v":0},{"$f":"'[1]HOJA GENERAL DATOS IMPORTADOS'!T461","v":0},{"$f":"'[1]HOJA GENERAL DATOS IMPORTADOS'!U461","v":0},{"$f":"'[1]HOJA GENERAL DATOS IMPORTADOS'!V461","v":0},{"$f":"'[1]HOJA GENERAL DATOS IMPORTADOS'!W461","v":0},{"$f":"'[1]HOJA GENERAL DATOS IMPORTADOS'!X461","v":0},{"$f":"'[1]HOJA GENERAL DATOS IMPORTADOS'!Y461","v":0},{"$f":"'[1]HOJA GENERAL DATOS IMPORTADOS'!Z461","v":0},{"$f":"'[1]HOJA GENERAL DATOS IMPORTADOS'!AA461","v":0},{"$f":"'[1]HOJA GENERAL DATOS IMPORTADOS'!AB461","v":0},{"$f":"'[1]HOJA GENERAL DATOS IMPORTADOS'!AC461","v":0},{"$f":"'[1]HOJA GENERAL DATOS IMPORTADOS'!AD461","v":0},{"$f":"'[1]HOJA GENERAL DATOS IMPORTADOS'!AE461","v":0},{"$f":"'[1]HOJA GENERAL DATOS IMPORTADOS'!AF461","v":0},{"$f":"'[1]HOJA GENERAL DATOS IMPORTADOS'!AG461","v":0},{"$f":"'[1]HOJA GENERAL DATOS IMPORTADOS'!AH461","v":0},{"$f":"'[1]HOJA GENERAL DATOS IMPORTADOS'!AI461","v":0}]
[{"$f":"'[1]HOJA GENERAL DATOS IMPORTADOS'!A462","v":0},{"$f":"'[1]HOJA GENERAL DATOS IMPORTADOS'!B462","v":0},{"$f":"'[1]HOJA GENERAL DATOS IMPORTADOS'!C462","v":0},{"$f":"'[1]HOJA GENERAL DATOS IMPORTADOS'!D462","v":0},{"$f":"'[1]HOJA GENERAL DATOS IMPORTADOS'!E462","v":0},{"$f":"'[1]HOJA GENERAL DATOS IMPORTADOS'!F462","v":0},{"$f":"'[1]HOJA GENERAL DATOS IMPORTADOS'!G462","v":0},{"$f":"'[1]HOJA GENERAL DATOS IMPORTADOS'!H462","v":0},{"$f":"'[1]HOJA GENERAL DATOS IMPORTADOS'!I462","v":0},{"$f":"'[1]HOJA GENERAL DATOS IMPORTADOS'!J462","v":0},{"$f":"'[1]HOJA GENERAL DATOS IMPORTADOS'!K462","v":0},{"$f":"'[1]HOJA GENERAL DATOS IMPORTADOS'!L462","v":0},{"$f":"'[1]HOJA GENERAL DATOS IMPORTADOS'!M462","v":0},{"$f":"'[1]HOJA GENERAL DATOS IMPORTADOS'!N462","v":0},{"$f":"'[1]HOJA GENERAL DATOS IMPORTADOS'!O462","v":0},{"$f":"'[1]HOJA GENERAL DATOS IMPORTADOS'!P462","v":0},{"$f":"'[1]HOJA GENERAL DATOS IMPORTADOS'!Q462","v":0},{"$f":"'[1]HOJA GENERAL DATOS IMPORTADOS'!R462","v":0},{"$f":"'[1]HOJA GENERAL DATOS IMPORTADOS'!S462","v":0},{"$f":"'[1]HOJA GENERAL DATOS IMPORTADOS'!T462","v":0},{"$f":"'[1]HOJA GENERAL DATOS IMPORTADOS'!U462","v":0},{"$f":"'[1]HOJA GENERAL DATOS IMPORTADOS'!V462","v":0},{"$f":"'[1]HOJA GENERAL DATOS IMPORTADOS'!W462","v":0},{"$f":"'[1]HOJA GENERAL DATOS IMPORTADOS'!X462","v":0},{"$f":"'[1]HOJA GENERAL DATOS IMPORTADOS'!Y462","v":0},{"$f":"'[1]HOJA GENERAL DATOS IMPORTADOS'!Z462","v":0},{"$f":"'[1]HOJA GENERAL DATOS IMPORTADOS'!AA462","v":0},{"$f":"'[1]HOJA GENERAL DATOS IMPORTADOS'!AB462","v":0},{"$f":"'[1]HOJA GENERAL DATOS IMPORTADOS'!AC462","v":0},{"$f":"'[1]HOJA GENERAL DATOS IMPORTADOS'!AD462","v":0},{"$f":"'[1]HOJA GENERAL DATOS IMPORTADOS'!AE462","v":0},{"$f":"'[1]HOJA GENERAL DATOS IMPORTADOS'!AF462","v":0},{"$f":"'[1]HOJA GENERAL DATOS IMPORTADOS'!AG462","v":0},{"$f":"'[1]HOJA GENERAL DATOS IMPORTADOS'!AH462","v":0},{"$f":"'[1]HOJA GENERAL DATOS IMPORTADOS'!AI462","v":0}]
[{"$f":"'[1]HOJA GENERAL DATOS IMPORTADOS'!A463","v":0},{"$f":"'[1]HOJA GENERAL DATOS IMPORTADOS'!B463","v":0},{"$f":"'[1]HOJA GENERAL DATOS IMPORTADOS'!C463","v":0},{"$f":"'[1]HOJA GENERAL DATOS IMPORTADOS'!D463","v":0},{"$f":"'[1]HOJA GENERAL DATOS IMPORTADOS'!E463","v":0},{"$f":"'[1]HOJA GENERAL DATOS IMPORTADOS'!F463","v":0},{"$f":"'[1]HOJA GENERAL DATOS IMPORTADOS'!G463","v":0},{"$f":"'[1]HOJA GENERAL DATOS IMPORTADOS'!H463","v":0},{"$f":"'[1]HOJA GENERAL DATOS IMPORTADOS'!I463","v":0},{"$f":"'[1]HOJA GENERAL DATOS IMPORTADOS'!J463","v":0},{"$f":"'[1]HOJA GENERAL DATOS IMPORTADOS'!K463","v":0},{"$f":"'[1]HOJA GENERAL DATOS IMPORTADOS'!L463","v":0},{"$f":"'[1]HOJA GENERAL DATOS IMPORTADOS'!M463","v":0},{"$f":"'[1]HOJA GENERAL DATOS IMPORTADOS'!N463","v":0},{"$f":"'[1]HOJA GENERAL DATOS IMPORTADOS'!O463","v":0},{"$f":"'[1]HOJA GENERAL DATOS IMPORTADOS'!P463","v":0},{"$f":"'[1]HOJA GENERAL DATOS IMPORTADOS'!Q463","v":0},{"$f":"'[1]HOJA GENERAL DATOS IMPORTADOS'!R463","v":0},{"$f":"'[1]HOJA GENERAL DATOS IMPORTADOS'!S463","v":0},{"$f":"'[1]HOJA GENERAL DATOS IMPORTADOS'!T463","v":0},{"$f":"'[1]HOJA GENERAL DATOS IMPORTADOS'!U463","v":0},{"$f":"'[1]HOJA GENERAL DATOS IMPORTADOS'!V463","v":0},{"$f":"'[1]HOJA GENERAL DATOS IMPORTADOS'!W463","v":0},{"$f":"'[1]HOJA GENERAL DATOS IMPORTADOS'!X463","v":0},{"$f":"'[1]HOJA GENERAL DATOS IMPORTADOS'!Y463","v":0},{"$f":"'[1]HOJA GENERAL DATOS IMPORTADOS'!Z463","v":0},{"$f":"'[1]HOJA GENERAL DATOS IMPORTADOS'!AA463","v":0},{"$f":"'[1]HOJA GENERAL DATOS IMPORTADOS'!AB463","v":0},{"$f":"'[1]HOJA GENERAL DATOS IMPORTADOS'!AC463","v":0},{"$f":"'[1]HOJA GENERAL DATOS IMPORTADOS'!AD463","v":0},{"$f":"'[1]HOJA GENERAL DATOS IMPORTADOS'!AE463","v":0},{"$f":"'[1]HOJA GENERAL DATOS IMPORTADOS'!AF463","v":0},{"$f":"'[1]HOJA GENERAL DATOS IMPORTADOS'!AG463","v":0},{"$f":"'[1]HOJA GENERAL DATOS IMPORTADOS'!AH463","v":0},{"$f":"'[1]HOJA GENERAL DATOS IMPORTADOS'!AI463","v":0}]
[{"$f":"'[1]HOJA GENERAL DATOS IMPORTADOS'!A464","v":0},{"$f":"'[1]HOJA GENERAL DATOS IMPORTADOS'!B464","v":0},{"$f":"'[1]HOJA GENERAL DATOS IMPORTADOS'!C464","v":0},{"$f":"'[1]HOJA GENERAL DATOS IMPORTADOS'!D464","v":0},{"$f":"'[1]HOJA GENERAL DATOS IMPORTADOS'!E464","v":0},{"$f":"'[1]HOJA GENERAL DATOS IMPORTADOS'!F464","v":0},{"$f":"'[1]HOJA GENERAL DATOS IMPORTADOS'!G464","v":0},{"$f":"'[1]HOJA GENERAL DATOS IMPORTADOS'!H464","v":0},{"$f":"'[1]HOJA GENERAL DATOS IMPORTADOS'!I464","v":0},{"$f":"'[1]HOJA GENERAL DATOS IMPORTADOS'!J464","v":0},{"$f":"'[1]HOJA GENERAL DATOS IMPORTADOS'!K464","v":0},{"$f":"'[1]HOJA GENERAL DATOS IMPORTADOS'!L464","v":0},{"$f":"'[1]HOJA GENERAL DATOS IMPORTADOS'!M464","v":0},{"$f":"'[1]HOJA GENERAL DATOS IMPORTADOS'!N464","v":0},{"$f":"'[1]HOJA GENERAL DATOS IMPORTADOS'!O464","v":0},{"$f":"'[1]HOJA GENERAL DATOS IMPORTADOS'!P464","v":0},{"$f":"'[1]HOJA GENERAL DATOS IMPORTADOS'!Q464","v":0},{"$f":"'[1]HOJA GENERAL DATOS IMPORTADOS'!R464","v":0},{"$f":"'[1]HOJA GENERAL DATOS IMPORTADOS'!S464","v":0},{"$f":"'[1]HOJA GENERAL DATOS IMPORTADOS'!T464","v":0},{"$f":"'[1]HOJA GENERAL DATOS IMPORTADOS'!U464","v":0},{"$f":"'[1]HOJA GENERAL DATOS IMPORTADOS'!V464","v":0},{"$f":"'[1]HOJA GENERAL DATOS IMPORTADOS'!W464","v":0},{"$f":"'[1]HOJA GENERAL DATOS IMPORTADOS'!X464","v":0},{"$f":"'[1]HOJA GENERAL DATOS IMPORTADOS'!Y464","v":0},{"$f":"'[1]HOJA GENERAL DATOS IMPORTADOS'!Z464","v":0},{"$f":"'[1]HOJA GENERAL DATOS IMPORTADOS'!AA464","v":0},{"$f":"'[1]HOJA GENERAL DATOS IMPORTADOS'!AB464","v":0},{"$f":"'[1]HOJA GENERAL DATOS IMPORTADOS'!AC464","v":0},{"$f":"'[1]HOJA GENERAL DATOS IMPORTADOS'!AD464","v":0},{"$f":"'[1]HOJA GENERAL DATOS IMPORTADOS'!AE464","v":0},{"$f":"'[1]HOJA GENERAL DATOS IMPORTADOS'!AF464","v":0},{"$f":"'[1]HOJA GENERAL DATOS IMPORTADOS'!AG464","v":0},{"$f":"'[1]HOJA GENERAL DATOS IMPORTADOS'!AH464","v":0},{"$f":"'[1]HOJA GENERAL DATOS IMPORTADOS'!AI464","v":0}]
[{"$f":"'[1]HOJA GENERAL DATOS IMPORTADOS'!A465","v":0},{"$f":"'[1]HOJA GENERAL DATOS IMPORTADOS'!B465","v":0},{"$f":"'[1]HOJA GENERAL DATOS IMPORTADOS'!C465","v":0},{"$f":"'[1]HOJA GENERAL DATOS IMPORTADOS'!D465","v":0},{"$f":"'[1]HOJA GENERAL DATOS IMPORTADOS'!E465","v":0},{"$f":"'[1]HOJA GENERAL DATOS IMPORTADOS'!F465","v":0},{"$f":"'[1]HOJA GENERAL DATOS IMPORTADOS'!G465","v":0},{"$f":"'[1]HOJA GENERAL DATOS IMPORTADOS'!H465","v":0},{"$f":"'[1]HOJA GENERAL DATOS IMPORTADOS'!I465","v":0},{"$f":"'[1]HOJA GENERAL DATOS IMPORTADOS'!J465","v":0},{"$f":"'[1]HOJA GENERAL DATOS IMPORTADOS'!K465","v":0},{"$f":"'[1]HOJA GENERAL DATOS IMPORTADOS'!L465","v":0},{"$f":"'[1]HOJA GENERAL DATOS IMPORTADOS'!M465","v":0},{"$f":"'[1]HOJA GENERAL DATOS IMPORTADOS'!N465","v":0},{"$f":"'[1]HOJA GENERAL DATOS IMPORTADOS'!O465","v":0},{"$f":"'[1]HOJA GENERAL DATOS IMPORTADOS'!P465","v":0},{"$f":"'[1]HOJA GENERAL DATOS IMPORTADOS'!Q465","v":0},{"$f":"'[1]HOJA GENERAL DATOS IMPORTADOS'!R465","v":0},{"$f":"'[1]HOJA GENERAL DATOS IMPORTADOS'!S465","v":0},{"$f":"'[1]HOJA GENERAL DATOS IMPORTADOS'!T465","v":0},{"$f":"'[1]HOJA GENERAL DATOS IMPORTADOS'!U465","v":0},{"$f":"'[1]HOJA GENERAL DATOS IMPORTADOS'!V465","v":0},{"$f":"'[1]HOJA GENERAL DATOS IMPORTADOS'!W465","v":0},{"$f":"'[1]HOJA GENERAL DATOS IMPORTADOS'!X465","v":0},{"$f":"'[1]HOJA GENERAL DATOS IMPORTADOS'!Y465","v":0},{"$f":"'[1]HOJA GENERAL DATOS IMPORTADOS'!Z465","v":0},{"$f":"'[1]HOJA GENERAL DATOS IMPORTADOS'!AA465","v":0},{"$f":"'[1]HOJA GENERAL DATOS IMPORTADOS'!AB465","v":0},{"$f":"'[1]HOJA GENERAL DATOS IMPORTADOS'!AC465","v":0},{"$f":"'[1]HOJA GENERAL DATOS IMPORTADOS'!AD465","v":0},{"$f":"'[1]HOJA GENERAL DATOS IMPORTADOS'!AE465","v":0},{"$f":"'[1]HOJA GENERAL DATOS IMPORTADOS'!AF465","v":0},{"$f":"'[1]HOJA GENERAL DATOS IMPORTADOS'!AG465","v":0},{"$f":"'[1]HOJA GENERAL DATOS IMPORTADOS'!AH465","v":0},{"$f":"'[1]HOJA GENERAL DATOS IMPORTADOS'!AI465","v":0}]
[{"$f":"'[1]HOJA GENERAL DATOS IMPORTADOS'!A466","v":0},{"$f":"'[1]HOJA GENERAL DATOS IMPORTADOS'!B466","v":0},{"$f":"'[1]HOJA GENERAL DATOS IMPORTADOS'!C466","v":0},{"$f":"'[1]HOJA GENERAL DATOS IMPORTADOS'!D466","v":0},{"$f":"'[1]HOJA GENERAL DATOS IMPORTADOS'!E466","v":0},{"$f":"'[1]HOJA GENERAL DATOS IMPORTADOS'!F466","v":0},{"$f":"'[1]HOJA GENERAL DATOS IMPORTADOS'!G466","v":0},{"$f":"'[1]HOJA GENERAL DATOS IMPORTADOS'!H466","v":0},{"$f":"'[1]HOJA GENERAL DATOS IMPORTADOS'!I466","v":0},{"$f":"'[1]HOJA GENERAL DATOS IMPORTADOS'!J466","v":0},{"$f":"'[1]HOJA GENERAL DATOS IMPORTADOS'!K466","v":0},{"$f":"'[1]HOJA GENERAL DATOS IMPORTADOS'!L466","v":0},{"$f":"'[1]HOJA GENERAL DATOS IMPORTADOS'!M466","v":0},{"$f":"'[1]HOJA GENERAL DATOS IMPORTADOS'!N466","v":0},{"$f":"'[1]HOJA GENERAL DATOS IMPORTADOS'!O466","v":0},{"$f":"'[1]HOJA GENERAL DATOS IMPORTADOS'!P466","v":0},{"$f":"'[1]HOJA GENERAL DATOS IMPORTADOS'!Q466","v":0},{"$f":"'[1]HOJA GENERAL DATOS IMPORTADOS'!R466","v":0},{"$f":"'[1]HOJA GENERAL DATOS IMPORTADOS'!S466","v":0},{"$f":"'[1]HOJA GENERAL DATOS IMPORTADOS'!T466","v":0},{"$f":"'[1]HOJA GENERAL DATOS IMPORTADOS'!U466","v":0},{"$f":"'[1]HOJA GENERAL DATOS IMPORTADOS'!V466","v":0},{"$f":"'[1]HOJA GENERAL DATOS IMPORTADOS'!W466","v":0},{"$f":"'[1]HOJA GENERAL DATOS IMPORTADOS'!X466","v":0},{"$f":"'[1]HOJA GENERAL DATOS IMPORTADOS'!Y466","v":0},{"$f":"'[1]HOJA GENERAL DATOS IMPORTADOS'!Z466","v":0},{"$f":"'[1]HOJA GENERAL DATOS IMPORTADOS'!AA466","v":0},{"$f":"'[1]HOJA GENERAL DATOS IMPORTADOS'!AB466","v":0},{"$f":"'[1]HOJA GENERAL DATOS IMPORTADOS'!AC466","v":0},{"$f":"'[1]HOJA GENERAL DATOS IMPORTADOS'!AD466","v":0},{"$f":"'[1]HOJA GENERAL DATOS IMPORTADOS'!AE466","v":0},{"$f":"'[1]HOJA GENERAL DATOS IMPORTADOS'!AF466","v":0},{"$f":"'[1]HOJA GENERAL DATOS IMPORTADOS'!AG466","v":0},{"$f":"'[1]HOJA GENERAL DATOS IMPORTADOS'!AH466","v":0},{"$f":"'[1]HOJA GENERAL DATOS IMPORTADOS'!AI466","v":0}]
[{"$f":"'[1]HOJA GENERAL DATOS IMPORTADOS'!A467","v":0},{"$f":"'[1]HOJA GENERAL DATOS IMPORTADOS'!B467","v":0},{"$f":"'[1]HOJA GENERAL DATOS IMPORTADOS'!C467","v":0},{"$f":"'[1]HOJA GENERAL DATOS IMPORTADOS'!D467","v":0},{"$f":"'[1]HOJA GENERAL DATOS IMPORTADOS'!E467","v":0},{"$f":"'[1]HOJA GENERAL DATOS IMPORTADOS'!F467","v":0},{"$f":"'[1]HOJA GENERAL DATOS IMPORTADOS'!G467","v":0},{"$f":"'[1]HOJA GENERAL DATOS IMPORTADOS'!H467","v":0},{"$f":"'[1]HOJA GENERAL DATOS IMPORTADOS'!I467","v":0},{"$f":"'[1]HOJA GENERAL DATOS IMPORTADOS'!J467","v":0},{"$f":"'[1]HOJA GENERAL DATOS IMPORTADOS'!K467","v":0},{"$f":"'[1]HOJA GENERAL DATOS IMPORTADOS'!L467","v":0},{"$f":"'[1]HOJA GENERAL DATOS IMPORTADOS'!M467","v":0},{"$f":"'[1]HOJA GENERAL DATOS IMPORTADOS'!N467","v":0},{"$f":"'[1]HOJA GENERAL DATOS IMPORTADOS'!O467","v":0},{"$f":"'[1]HOJA GENERAL DATOS IMPORTADOS'!P467","v":0},{"$f":"'[1]HOJA GENERAL DATOS IMPORTADOS'!Q467","v":0},{"$f":"'[1]HOJA GENERAL DATOS IMPORTADOS'!R467","v":0},{"$f":"'[1]HOJA GENERAL DATOS IMPORTADOS'!S467","v":0},{"$f":"'[1]HOJA GENERAL DATOS IMPORTADOS'!T467","v":0},{"$f":"'[1]HOJA GENERAL DATOS IMPORTADOS'!U467","v":0},{"$f":"'[1]HOJA GENERAL DATOS IMPORTADOS'!V467","v":0},{"$f":"'[1]HOJA GENERAL DATOS IMPORTADOS'!W467","v":0},{"$f":"'[1]HOJA GENERAL DATOS IMPORTADOS'!X467","v":0},{"$f":"'[1]HOJA GENERAL DATOS IMPORTADOS'!Y467","v":0},{"$f":"'[1]HOJA GENERAL DATOS IMPORTADOS'!Z467","v":0},{"$f":"'[1]HOJA GENERAL DATOS IMPORTADOS'!AA467","v":0},{"$f":"'[1]HOJA GENERAL DATOS IMPORTADOS'!AB467","v":0},{"$f":"'[1]HOJA GENERAL DATOS IMPORTADOS'!AC467","v":0},{"$f":"'[1]HOJA GENERAL DATOS IMPORTADOS'!AD467","v":0},{"$f":"'[1]HOJA GENERAL DATOS IMPORTADOS'!AE467","v":0},{"$f":"'[1]HOJA GENERAL DATOS IMPORTADOS'!AF467","v":0},{"$f":"'[1]HOJA GENERAL DATOS IMPORTADOS'!AG467","v":0},{"$f":"'[1]HOJA GENERAL DATOS IMPORTADOS'!AH467","v":0},{"$f":"'[1]HOJA GENERAL DATOS IMPORTADOS'!AI467","v":0}]
[{"$f":"'[1]HOJA GENERAL DATOS IMPORTADOS'!A468","v":0},{"$f":"'[1]HOJA GENERAL DATOS IMPORTADOS'!B468","v":0},{"$f":"'[1]HOJA GENERAL DATOS IMPORTADOS'!C468","v":0},{"$f":"'[1]HOJA GENERAL DATOS IMPORTADOS'!D468","v":0},{"$f":"'[1]HOJA GENERAL DATOS IMPORTADOS'!E468","v":0},{"$f":"'[1]HOJA GENERAL DATOS IMPORTADOS'!F468","v":0},{"$f":"'[1]HOJA GENERAL DATOS IMPORTADOS'!G468","v":0},{"$f":"'[1]HOJA GENERAL DATOS IMPORTADOS'!H468","v":0},{"$f":"'[1]HOJA GENERAL DATOS IMPORTADOS'!I468","v":0},{"$f":"'[1]HOJA GENERAL DATOS IMPORTADOS'!J468","v":0},{"$f":"'[1]HOJA GENERAL DATOS IMPORTADOS'!K468","v":0},{"$f":"'[1]HOJA GENERAL DATOS IMPORTADOS'!L468","v":0},{"$f":"'[1]HOJA GENERAL DATOS IMPORTADOS'!M468","v":0},{"$f":"'[1]HOJA GENERAL DATOS IMPORTADOS'!N468","v":0},{"$f":"'[1]HOJA GENERAL DATOS IMPORTADOS'!O468","v":0},{"$f":"'[1]HOJA GENERAL DATOS IMPORTADOS'!P468","v":0},{"$f":"'[1]HOJA GENERAL DATOS IMPORTADOS'!Q468","v":0},{"$f":"'[1]HOJA GENERAL DATOS IMPORTADOS'!R468","v":0},{"$f":"'[1]HOJA GENERAL DATOS IMPORTADOS'!S468","v":0},{"$f":"'[1]HOJA GENERAL DATOS IMPORTADOS'!T468","v":0},{"$f":"'[1]HOJA GENERAL DATOS IMPORTADOS'!U468","v":0},{"$f":"'[1]HOJA GENERAL DATOS IMPORTADOS'!V468","v":0},{"$f":"'[1]HOJA GENERAL DATOS IMPORTADOS'!W468","v":0},{"$f":"'[1]HOJA GENERAL DATOS IMPORTADOS'!X468","v":0},{"$f":"'[1]HOJA GENERAL DATOS IMPORTADOS'!Y468","v":0},{"$f":"'[1]HOJA GENERAL DATOS IMPORTADOS'!Z468","v":0},{"$f":"'[1]HOJA GENERAL DATOS IMPORTADOS'!AA468","v":0},{"$f":"'[1]HOJA GENERAL DATOS IMPORTADOS'!AB468","v":0},{"$f":"'[1]HOJA GENERAL DATOS IMPORTADOS'!AC468","v":0},{"$f":"'[1]HOJA GENERAL DATOS IMPORTADOS'!AD468","v":0},{"$f":"'[1]HOJA GENERAL DATOS IMPORTADOS'!AE468","v":0},{"$f":"'[1]HOJA GENERAL DATOS IMPORTADOS'!AF468","v":0},{"$f":"'[1]HOJA GENERAL DATOS IMPORTADOS'!AG468","v":0},{"$f":"'[1]HOJA GENERAL DATOS IMPORTADOS'!AH468","v":0},{"$f":"'[1]HOJA GENERAL DATOS IMPORTADOS'!AI468","v":0}]
[{"$f":"'[1]HOJA GENERAL DATOS IMPORTADOS'!A469","v":0},{"$f":"'[1]HOJA GENERAL DATOS IMPORTADOS'!B469","v":0},{"$f":"'[1]HOJA GENERAL DATOS IMPORTADOS'!C469","v":0},{"$f":"'[1]HOJA GENERAL DATOS IMPORTADOS'!D469","v":0},{"$f":"'[1]HOJA GENERAL DATOS IMPORTADOS'!E469","v":0},{"$f":"'[1]HOJA GENERAL DATOS IMPORTADOS'!F469","v":0},{"$f":"'[1]HOJA GENERAL DATOS IMPORTADOS'!G469","v":0},{"$f":"'[1]HOJA GENERAL DATOS IMPORTADOS'!H469","v":0},{"$f":"'[1]HOJA GENERAL DATOS IMPORTADOS'!I469","v":0},{"$f":"'[1]HOJA GENERAL DATOS IMPORTADOS'!J469","v":0},{"$f":"'[1]HOJA GENERAL DATOS IMPORTADOS'!K469","v":0},{"$f":"'[1]HOJA GENERAL DATOS IMPORTADOS'!L469","v":0},{"$f":"'[1]HOJA GENERAL DATOS IMPORTADOS'!M469","v":0},{"$f":"'[1]HOJA GENERAL DATOS IMPORTADOS'!N469","v":0},{"$f":"'[1]HOJA GENERAL DATOS IMPORTADOS'!O469","v":0},{"$f":"'[1]HOJA GENERAL DATOS IMPORTADOS'!P469","v":0},{"$f":"'[1]HOJA GENERAL DATOS IMPORTADOS'!Q469","v":0},{"$f":"'[1]HOJA GENERAL DATOS IMPORTADOS'!R469","v":0},{"$f":"'[1]HOJA GENERAL DATOS IMPORTADOS'!S469","v":0},{"$f":"'[1]HOJA GENERAL DATOS IMPORTADOS'!T469","v":0},{"$f":"'[1]HOJA GENERAL DATOS IMPORTADOS'!U469","v":0},{"$f":"'[1]HOJA GENERAL DATOS IMPORTADOS'!V469","v":0},{"$f":"'[1]HOJA GENERAL DATOS IMPORTADOS'!W469","v":0},{"$f":"'[1]HOJA GENERAL DATOS IMPORTADOS'!X469","v":0},{"$f":"'[1]HOJA GENERAL DATOS IMPORTADOS'!Y469","v":0},{"$f":"'[1]HOJA GENERAL DATOS IMPORTADOS'!Z469","v":0},{"$f":"'[1]HOJA GENERAL DATOS IMPORTADOS'!AA469","v":0},{"$f":"'[1]HOJA GENERAL DATOS IMPORTADOS'!AB469","v":0},{"$f":"'[1]HOJA GENERAL DATOS IMPORTADOS'!AC469","v":0},{"$f":"'[1]HOJA GENERAL DATOS IMPORTADOS'!AD469","v":0},{"$f":"'[1]HOJA GENERAL DATOS IMPORTADOS'!AE469","v":0},{"$f":"'[1]HOJA GENERAL DATOS IMPORTADOS'!AF469","v":0},{"$f":"'[1]HOJA GENERAL DATOS IMPORTADOS'!AG469","v":0},{"$f":"'[1]HOJA GENERAL DATOS IMPORTADOS'!AH469","v":0},{"$f":"'[1]HOJA GENERAL DATOS IMPORTADOS'!AI469","v":0}]
[{"$f":"'[1]HOJA GENERAL DATOS IMPORTADOS'!A470","v":0},{"$f":"'[1]HOJA GENERAL DATOS IMPORTADOS'!B470","v":0},{"$f":"'[1]HOJA GENERAL DATOS IMPORTADOS'!C470","v":0},{"$f":"'[1]HOJA GENERAL DATOS IMPORTADOS'!D470","v":0},{"$f":"'[1]HOJA GENERAL DATOS IMPORTADOS'!E470","v":0},{"$f":"'[1]HOJA GENERAL DATOS IMPORTADOS'!F470","v":0},{"$f":"'[1]HOJA GENERAL DATOS IMPORTADOS'!G470","v":0},{"$f":"'[1]HOJA GENERAL DATOS IMPORTADOS'!H470","v":0},{"$f":"'[1]HOJA GENERAL DATOS IMPORTADOS'!I470","v":0},{"$f":"'[1]HOJA GENERAL DATOS IMPORTADOS'!J470","v":0},{"$f":"'[1]HOJA GENERAL DATOS IMPORTADOS'!K470","v":0},{"$f":"'[1]HOJA GENERAL DATOS IMPORTADOS'!L470","v":0},{"$f":"'[1]HOJA GENERAL DATOS IMPORTADOS'!M470","v":0},{"$f":"'[1]HOJA GENERAL DATOS IMPORTADOS'!N470","v":0},{"$f":"'[1]HOJA GENERAL DATOS IMPORTADOS'!O470","v":0},{"$f":"'[1]HOJA GENERAL DATOS IMPORTADOS'!P470","v":0},{"$f":"'[1]HOJA GENERAL DATOS IMPORTADOS'!Q470","v":0},{"$f":"'[1]HOJA GENERAL DATOS IMPORTADOS'!R470","v":0},{"$f":"'[1]HOJA GENERAL DATOS IMPORTADOS'!S470","v":0},{"$f":"'[1]HOJA GENERAL DATOS IMPORTADOS'!T470","v":0},{"$f":"'[1]HOJA GENERAL DATOS IMPORTADOS'!U470","v":0},{"$f":"'[1]HOJA GENERAL DATOS IMPORTADOS'!V470","v":0},{"$f":"'[1]HOJA GENERAL DATOS IMPORTADOS'!W470","v":0},{"$f":"'[1]HOJA GENERAL DATOS IMPORTADOS'!X470","v":0},{"$f":"'[1]HOJA GENERAL DATOS IMPORTADOS'!Y470","v":0},{"$f":"'[1]HOJA GENERAL DATOS IMPORTADOS'!Z470","v":0},{"$f":"'[1]HOJA GENERAL DATOS IMPORTADOS'!AA470","v":0},{"$f":"'[1]HOJA GENERAL DATOS IMPORTADOS'!AB470","v":0},{"$f":"'[1]HOJA GENERAL DATOS IMPORTADOS'!AC470","v":0},{"$f":"'[1]HOJA GENERAL DATOS IMPORTADOS'!AD470","v":0},{"$f":"'[1]HOJA GENERAL DATOS IMPORTADOS'!AE470","v":0},{"$f":"'[1]HOJA GENERAL DATOS IMPORTADOS'!AF470","v":0},{"$f":"'[1]HOJA GENERAL DATOS IMPORTADOS'!AG470","v":0},{"$f":"'[1]HOJA GENERAL DATOS IMPORTADOS'!AH470","v":0},{"$f":"'[1]HOJA GENERAL DATOS IMPORTADOS'!AI470","v":0}]
[{"$f":"'[1]HOJA GENERAL DATOS IMPORTADOS'!A471","v":0},{"$f":"'[1]HOJA GENERAL DATOS IMPORTADOS'!B471","v":0},{"$f":"'[1]HOJA GENERAL DATOS IMPORTADOS'!C471","v":0},{"$f":"'[1]HOJA GENERAL DATOS IMPORTADOS'!D471","v":0},{"$f":"'[1]HOJA GENERAL DATOS IMPORTADOS'!E471","v":0},{"$f":"'[1]HOJA GENERAL DATOS IMPORTADOS'!F471","v":0},{"$f":"'[1]HOJA GENERAL DATOS IMPORTADOS'!G471","v":0},{"$f":"'[1]HOJA GENERAL DATOS IMPORTADOS'!H471","v":0},{"$f":"'[1]HOJA GENERAL DATOS IMPORTADOS'!I471","v":0},{"$f":"'[1]HOJA GENERAL DATOS IMPORTADOS'!J471","v":0},{"$f":"'[1]HOJA GENERAL DATOS IMPORTADOS'!K471","v":0},{"$f":"'[1]HOJA GENERAL DATOS IMPORTADOS'!L471","v":0},{"$f":"'[1]HOJA GENERAL DATOS IMPORTADOS'!M471","v":0},{"$f":"'[1]HOJA GENERAL DATOS IMPORTADOS'!N471","v":0},{"$f":"'[1]HOJA GENERAL DATOS IMPORTADOS'!O471","v":0},{"$f":"'[1]HOJA GENERAL DATOS IMPORTADOS'!P471","v":0},{"$f":"'[1]HOJA GENERAL DATOS IMPORTADOS'!Q471","v":0},{"$f":"'[1]HOJA GENERAL DATOS IMPORTADOS'!R471","v":0},{"$f":"'[1]HOJA GENERAL DATOS IMPORTADOS'!S471","v":0},{"$f":"'[1]HOJA GENERAL DATOS IMPORTADOS'!T471","v":0},{"$f":"'[1]HOJA GENERAL DATOS IMPORTADOS'!U471","v":0},{"$f":"'[1]HOJA GENERAL DATOS IMPORTADOS'!V471","v":0},{"$f":"'[1]HOJA GENERAL DATOS IMPORTADOS'!W471","v":0},{"$f":"'[1]HOJA GENERAL DATOS IMPORTADOS'!X471","v":0},{"$f":"'[1]HOJA GENERAL DATOS IMPORTADOS'!Y471","v":0},{"$f":"'[1]HOJA GENERAL DATOS IMPORTADOS'!Z471","v":0},{"$f":"'[1]HOJA GENERAL DATOS IMPORTADOS'!AA471","v":0},{"$f":"'[1]HOJA GENERAL DATOS IMPORTADOS'!AB471","v":0},{"$f":"'[1]HOJA GENERAL DATOS IMPORTADOS'!AC471","v":0},{"$f":"'[1]HOJA GENERAL DATOS IMPORTADOS'!AD471","v":0},{"$f":"'[1]HOJA GENERAL DATOS IMPORTADOS'!AE471","v":0},{"$f":"'[1]HOJA GENERAL DATOS IMPORTADOS'!AF471","v":0},{"$f":"'[1]HOJA GENERAL DATOS IMPORTADOS'!AG471","v":0},{"$f":"'[1]HOJA GENERAL DATOS IMPORTADOS'!AH471","v":0},{"$f":"'[1]HOJA GENERAL DATOS IMPORTADOS'!AI471","v":0}]
[{"$f":"'[1]HOJA GENERAL DATOS IMPORTADOS'!A472","v":0},{"$f":"'[1]HOJA GENERAL DATOS IMPORTADOS'!B472","v":0},{"$f":"'[1]HOJA GENERAL DATOS IMPORTADOS'!C472","v":0},{"$f":"'[1]HOJA GENERAL DATOS IMPORTADOS'!D472","v":0},{"$f":"'[1]HOJA GENERAL DATOS IMPORTADOS'!E472","v":0},{"$f":"'[1]HOJA GENERAL DATOS IMPORTADOS'!F472","v":0},{"$f":"'[1]HOJA GENERAL DATOS IMPORTADOS'!G472","v":0},{"$f":"'[1]HOJA GENERAL DATOS IMPORTADOS'!H472","v":0},{"$f":"'[1]HOJA GENERAL DATOS IMPORTADOS'!I472","v":0},{"$f":"'[1]HOJA GENERAL DATOS IMPORTADOS'!J472","v":0},{"$f":"'[1]HOJA GENERAL DATOS IMPORTADOS'!K472","v":0},{"$f":"'[1]HOJA GENERAL DATOS IMPORTADOS'!L472","v":0},{"$f":"'[1]HOJA GENERAL DATOS IMPORTADOS'!M472","v":0},{"$f":"'[1]HOJA GENERAL DATOS IMPORTADOS'!N472","v":0},{"$f":"'[1]HOJA GENERAL DATOS IMPORTADOS'!O472","v":0},{"$f":"'[1]HOJA GENERAL DATOS IMPORTADOS'!P472","v":0},{"$f":"'[1]HOJA GENERAL DATOS IMPORTADOS'!Q472","v":0},{"$f":"'[1]HOJA GENERAL DATOS IMPORTADOS'!R472","v":0},{"$f":"'[1]HOJA GENERAL DATOS IMPORTADOS'!S472","v":0},{"$f":"'[1]HOJA GENERAL DATOS IMPORTADOS'!T472","v":0},{"$f":"'[1]HOJA GENERAL DATOS IMPORTADOS'!U472","v":0},{"$f":"'[1]HOJA GENERAL DATOS IMPORTADOS'!V472","v":0},{"$f":"'[1]HOJA GENERAL DATOS IMPORTADOS'!W472","v":0},{"$f":"'[1]HOJA GENERAL DATOS IMPORTADOS'!X472","v":0},{"$f":"'[1]HOJA GENERAL DATOS IMPORTADOS'!Y472","v":0},{"$f":"'[1]HOJA GENERAL DATOS IMPORTADOS'!Z472","v":0},{"$f":"'[1]HOJA GENERAL DATOS IMPORTADOS'!AA472","v":0},{"$f":"'[1]HOJA GENERAL DATOS IMPORTADOS'!AB472","v":0},{"$f":"'[1]HOJA GENERAL DATOS IMPORTADOS'!AC472","v":0},{"$f":"'[1]HOJA GENERAL DATOS IMPORTADOS'!AD472","v":0},{"$f":"'[1]HOJA GENERAL DATOS IMPORTADOS'!AE472","v":0},{"$f":"'[1]HOJA GENERAL DATOS IMPORTADOS'!AF472","v":0},{"$f":"'[1]HOJA GENERAL DATOS IMPORTADOS'!AG472","v":0},{"$f":"'[1]HOJA GENERAL DATOS IMPORTADOS'!AH472","v":0},{"$f":"'[1]HOJA GENERAL DATOS IMPORTADOS'!AI472","v":0}]
[{"$f":"'[1]HOJA GENERAL DATOS IMPORTADOS'!A473","v":0},{"$f":"'[1]HOJA GENERAL DATOS IMPORTADOS'!B473","v":0},{"$f":"'[1]HOJA GENERAL DATOS IMPORTADOS'!C473","v":0},{"$f":"'[1]HOJA GENERAL DATOS IMPORTADOS'!D473","v":0},{"$f":"'[1]HOJA GENERAL DATOS IMPORTADOS'!E473","v":0},{"$f":"'[1]HOJA GENERAL DATOS IMPORTADOS'!F473","v":0},{"$f":"'[1]HOJA GENERAL DATOS IMPORTADOS'!G473","v":0},{"$f":"'[1]HOJA GENERAL DATOS IMPORTADOS'!H473","v":0},{"$f":"'[1]HOJA GENERAL DATOS IMPORTADOS'!I473","v":0},{"$f":"'[1]HOJA GENERAL DATOS IMPORTADOS'!J473","v":0},{"$f":"'[1]HOJA GENERAL DATOS IMPORTADOS'!K473","v":0},{"$f":"'[1]HOJA GENERAL DATOS IMPORTADOS'!L473","v":0},{"$f":"'[1]HOJA GENERAL DATOS IMPORTADOS'!M473","v":0},{"$f":"'[1]HOJA GENERAL DATOS IMPORTADOS'!N473","v":0},{"$f":"'[1]HOJA GENERAL DATOS IMPORTADOS'!O473","v":0},{"$f":"'[1]HOJA GENERAL DATOS IMPORTADOS'!P473","v":0},{"$f":"'[1]HOJA GENERAL DATOS IMPORTADOS'!Q473","v":0},{"$f":"'[1]HOJA GENERAL DATOS IMPORTADOS'!R473","v":0},{"$f":"'[1]HOJA GENERAL DATOS IMPORTADOS'!S473","v":0},{"$f":"'[1]HOJA GENERAL DATOS IMPORTADOS'!T473","v":0},{"$f":"'[1]HOJA GENERAL DATOS IMPORTADOS'!U473","v":0},{"$f":"'[1]HOJA GENERAL DATOS IMPORTADOS'!V473","v":0},{"$f":"'[1]HOJA GENERAL DATOS IMPORTADOS'!W473","v":0},{"$f":"'[1]HOJA GENERAL DATOS IMPORTADOS'!X473","v":0},{"$f":"'[1]HOJA GENERAL DATOS IMPORTADOS'!Y473","v":0},{"$f":"'[1]HOJA GENERAL DATOS IMPORTADOS'!Z473","v":0},{"$f":"'[1]HOJA GENERAL DATOS IMPORTADOS'!AA473","v":0},{"$f":"'[1]HOJA GENERAL DATOS IMPORTADOS'!AB473","v":0},{"$f":"'[1]HOJA GENERAL DATOS IMPORTADOS'!AC473","v":0},{"$f":"'[1]HOJA GENERAL DATOS IMPORTADOS'!AD473","v":0},{"$f":"'[1]HOJA GENERAL DATOS IMPORTADOS'!AE473","v":0},{"$f":"'[1]HOJA GENERAL DATOS IMPORTADOS'!AF473","v":0},{"$f":"'[1]HOJA GENERAL DATOS IMPORTADOS'!AG473","v":0},{"$f":"'[1]HOJA GENERAL DATOS IMPORTADOS'!AH473","v":0},{"$f":"'[1]HOJA GENERAL DATOS IMPORTADOS'!AI473","v":0}]
[{"$f":"'[1]HOJA GENERAL DATOS IMPORTADOS'!A474","v":0},{"$f":"'[1]HOJA GENERAL DATOS IMPORTADOS'!B474","v":0},{"$f":"'[1]HOJA GENERAL DATOS IMPORTADOS'!C474","v":0},{"$f":"'[1]HOJA GENERAL DATOS IMPORTADOS'!D474","v":0},{"$f":"'[1]HOJA GENERAL DATOS IMPORTADOS'!E474","v":0},{"$f":"'[1]HOJA GENERAL DATOS IMPORTADOS'!F474","v":0},{"$f":"'[1]HOJA GENERAL DATOS IMPORTADOS'!G474","v":0},{"$f":"'[1]HOJA GENERAL DATOS IMPORTADOS'!H474","v":0},{"$f":"'[1]HOJA GENERAL DATOS IMPORTADOS'!I474","v":0},{"$f":"'[1]HOJA GENERAL DATOS IMPORTADOS'!J474","v":0},{"$f":"'[1]HOJA GENERAL DATOS IMPORTADOS'!K474","v":0},{"$f":"'[1]HOJA GENERAL DATOS IMPORTADOS'!L474","v":0},{"$f":"'[1]HOJA GENERAL DATOS IMPORTADOS'!M474","v":0},{"$f":"'[1]HOJA GENERAL DATOS IMPORTADOS'!N474","v":0},{"$f":"'[1]HOJA GENERAL DATOS IMPORTADOS'!O474","v":0},{"$f":"'[1]HOJA GENERAL DATOS IMPORTADOS'!P474","v":0},{"$f":"'[1]HOJA GENERAL DATOS IMPORTADOS'!Q474","v":0},{"$f":"'[1]HOJA GENERAL DATOS IMPORTADOS'!R474","v":0},{"$f":"'[1]HOJA GENERAL DATOS IMPORTADOS'!S474","v":0},{"$f":"'[1]HOJA GENERAL DATOS IMPORTADOS'!T474","v":0},{"$f":"'[1]HOJA GENERAL DATOS IMPORTADOS'!U474","v":0},{"$f":"'[1]HOJA GENERAL DATOS IMPORTADOS'!V474","v":0},{"$f":"'[1]HOJA GENERAL DATOS IMPORTADOS'!W474","v":0},{"$f":"'[1]HOJA GENERAL DATOS IMPORTADOS'!X474","v":0},{"$f":"'[1]HOJA GENERAL DATOS IMPORTADOS'!Y474","v":0},{"$f":"'[1]HOJA GENERAL DATOS IMPORTADOS'!Z474","v":0},{"$f":"'[1]HOJA GENERAL DATOS IMPORTADOS'!AA474","v":0},{"$f":"'[1]HOJA GENERAL DATOS IMPORTADOS'!AB474","v":0},{"$f":"'[1]HOJA GENERAL DATOS IMPORTADOS'!AC474","v":0},{"$f":"'[1]HOJA GENERAL DATOS IMPORTADOS'!AD474","v":0},{"$f":"'[1]HOJA GENERAL DATOS IMPORTADOS'!AE474","v":0},{"$f":"'[1]HOJA GENERAL DATOS IMPORTADOS'!AF474","v":0},{"$f":"'[1]HOJA GENERAL DATOS IMPORTADOS'!AG474","v":0},{"$f":"'[1]HOJA GENERAL DATOS IMPORTADOS'!AH474","v":0},{"$f":"'[1]HOJA GENERAL DATOS IMPORTADOS'!AI474","v":0}]
[{"$f":"'[1]HOJA GENERAL DATOS IMPORTADOS'!A475","v":0},{"$f":"'[1]HOJA GENERAL DATOS IMPORTADOS'!B475","v":0},{"$f":"'[1]HOJA GENERAL DATOS IMPORTADOS'!C475","v":0},{"$f":"'[1]HOJA GENERAL DATOS IMPORTADOS'!D475","v":0},{"$f":"'[1]HOJA GENERAL DATOS IMPORTADOS'!E475","v":0},{"$f":"'[1]HOJA GENERAL DATOS IMPORTADOS'!F475","v":0},{"$f":"'[1]HOJA GENERAL DATOS IMPORTADOS'!G475","v":0},{"$f":"'[1]HOJA GENERAL DATOS IMPORTADOS'!H475","v":0},{"$f":"'[1]HOJA GENERAL DATOS IMPORTADOS'!I475","v":0},{"$f":"'[1]HOJA GENERAL DATOS IMPORTADOS'!J475","v":0},{"$f":"'[1]HOJA GENERAL DATOS IMPORTADOS'!K475","v":0},{"$f":"'[1]HOJA GENERAL DATOS IMPORTADOS'!L475","v":0},{"$f":"'[1]HOJA GENERAL DATOS IMPORTADOS'!M475","v":0},{"$f":"'[1]HOJA GENERAL DATOS IMPORTADOS'!N475","v":0},{"$f":"'[1]HOJA GENERAL DATOS IMPORTADOS'!O475","v":0},{"$f":"'[1]HOJA GENERAL DATOS IMPORTADOS'!P475","v":0},{"$f":"'[1]HOJA GENERAL DATOS IMPORTADOS'!Q475","v":0},{"$f":"'[1]HOJA GENERAL DATOS IMPORTADOS'!R475","v":0},{"$f":"'[1]HOJA GENERAL DATOS IMPORTADOS'!S475","v":0},{"$f":"'[1]HOJA GENERAL DATOS IMPORTADOS'!T475","v":0},{"$f":"'[1]HOJA GENERAL DATOS IMPORTADOS'!U475","v":0},{"$f":"'[1]HOJA GENERAL DATOS IMPORTADOS'!V475","v":0},{"$f":"'[1]HOJA GENERAL DATOS IMPORTADOS'!W475","v":0},{"$f":"'[1]HOJA GENERAL DATOS IMPORTADOS'!X475","v":0},{"$f":"'[1]HOJA GENERAL DATOS IMPORTADOS'!Y475","v":0},{"$f":"'[1]HOJA GENERAL DATOS IMPORTADOS'!Z475","v":0},{"$f":"'[1]HOJA GENERAL DATOS IMPORTADOS'!AA475","v":0},{"$f":"'[1]HOJA GENERAL DATOS IMPORTADOS'!AB475","v":0},{"$f":"'[1]HOJA GENERAL DATOS IMPORTADOS'!AC475","v":0},{"$f":"'[1]HOJA GENERAL DATOS IMPORTADOS'!AD475","v":0},{"$f":"'[1]HOJA GENERAL DATOS IMPORTADOS'!AE475","v":0},{"$f":"'[1]HOJA GENERAL DATOS IMPORTADOS'!AF475","v":0},{"$f":"'[1]HOJA GENERAL DATOS IMPORTADOS'!AG475","v":0},{"$f":"'[1]HOJA GENERAL DATOS IMPORTADOS'!AH475","v":0},{"$f":"'[1]HOJA GENERAL DATOS IMPORTADOS'!AI475","v":0}]
[{"$f":"'[1]HOJA GENERAL DATOS IMPORTADOS'!A476","v":0},{"$f":"'[1]HOJA GENERAL DATOS IMPORTADOS'!B476","v":0},{"$f":"'[1]HOJA GENERAL DATOS IMPORTADOS'!C476","v":0},{"$f":"'[1]HOJA GENERAL DATOS IMPORTADOS'!D476","v":0},{"$f":"'[1]HOJA GENERAL DATOS IMPORTADOS'!E476","v":0},{"$f":"'[1]HOJA GENERAL DATOS IMPORTADOS'!F476","v":0},{"$f":"'[1]HOJA GENERAL DATOS IMPORTADOS'!G476","v":0},{"$f":"'[1]HOJA GENERAL DATOS IMPORTADOS'!H476","v":0},{"$f":"'[1]HOJA GENERAL DATOS IMPORTADOS'!I476","v":0},{"$f":"'[1]HOJA GENERAL DATOS IMPORTADOS'!J476","v":0},{"$f":"'[1]HOJA GENERAL DATOS IMPORTADOS'!K476","v":0},{"$f":"'[1]HOJA GENERAL DATOS IMPORTADOS'!L476","v":0},{"$f":"'[1]HOJA GENERAL DATOS IMPORTADOS'!M476","v":0},{"$f":"'[1]HOJA GENERAL DATOS IMPORTADOS'!N476","v":0},{"$f":"'[1]HOJA GENERAL DATOS IMPORTADOS'!O476","v":0},{"$f":"'[1]HOJA GENERAL DATOS IMPORTADOS'!P476","v":0},{"$f":"'[1]HOJA GENERAL DATOS IMPORTADOS'!Q476","v":0},{"$f":"'[1]HOJA GENERAL DATOS IMPORTADOS'!R476","v":0},{"$f":"'[1]HOJA GENERAL DATOS IMPORTADOS'!S476","v":0},{"$f":"'[1]HOJA GENERAL DATOS IMPORTADOS'!T476","v":0},{"$f":"'[1]HOJA GENERAL DATOS IMPORTADOS'!U476","v":0},{"$f":"'[1]HOJA GENERAL DATOS IMPORTADOS'!V476","v":0},{"$f":"'[1]HOJA GENERAL DATOS IMPORTADOS'!W476","v":0},{"$f":"'[1]HOJA GENERAL DATOS IMPORTADOS'!X476","v":0},{"$f":"'[1]HOJA GENERAL DATOS IMPORTADOS'!Y476","v":0},{"$f":"'[1]HOJA GENERAL DATOS IMPORTADOS'!Z476","v":0},{"$f":"'[1]HOJA GENERAL DATOS IMPORTADOS'!AA476","v":0},{"$f":"'[1]HOJA GENERAL DATOS IMPORTADOS'!AB476","v":0},{"$f":"'[1]HOJA GENERAL DATOS IMPORTADOS'!AC476","v":0},{"$f":"'[1]HOJA GENERAL DATOS IMPORTADOS'!AD476","v":0},{"$f":"'[1]HOJA GENERAL DATOS IMPORTADOS'!AE476","v":0},{"$f":"'[1]HOJA GENERAL DATOS IMPORTADOS'!AF476","v":0},{"$f":"'[1]HOJA GENERAL DATOS IMPORTADOS'!AG476","v":0},{"$f":"'[1]HOJA GENERAL DATOS IMPORTADOS'!AH476","v":0},{"$f":"'[1]HOJA GENERAL DATOS IMPORTADOS'!AI476","v":0}]
[{"$f":"'[1]HOJA GENERAL DATOS IMPORTADOS'!A477","v":0},{"$f":"'[1]HOJA GENERAL DATOS IMPORTADOS'!B477","v":0},{"$f":"'[1]HOJA GENERAL DATOS IMPORTADOS'!C477","v":0},{"$f":"'[1]HOJA GENERAL DATOS IMPORTADOS'!D477","v":0},{"$f":"'[1]HOJA GENERAL DATOS IMPORTADOS'!E477","v":0},{"$f":"'[1]HOJA GENERAL DATOS IMPORTADOS'!F477","v":0},{"$f":"'[1]HOJA GENERAL DATOS IMPORTADOS'!G477","v":0},{"$f":"'[1]HOJA GENERAL DATOS IMPORTADOS'!H477","v":0},{"$f":"'[1]HOJA GENERAL DATOS IMPORTADOS'!I477","v":0},{"$f":"'[1]HOJA GENERAL DATOS IMPORTADOS'!J477","v":0},{"$f":"'[1]HOJA GENERAL DATOS IMPORTADOS'!K477","v":0},{"$f":"'[1]HOJA GENERAL DATOS IMPORTADOS'!L477","v":0},{"$f":"'[1]HOJA GENERAL DATOS IMPORTADOS'!M477","v":0},{"$f":"'[1]HOJA GENERAL DATOS IMPORTADOS'!N477","v":0},{"$f":"'[1]HOJA GENERAL DATOS IMPORTADOS'!O477","v":0},{"$f":"'[1]HOJA GENERAL DATOS IMPORTADOS'!P477","v":0},{"$f":"'[1]HOJA GENERAL DATOS IMPORTADOS'!Q477","v":0},{"$f":"'[1]HOJA GENERAL DATOS IMPORTADOS'!R477","v":0},{"$f":"'[1]HOJA GENERAL DATOS IMPORTADOS'!S477","v":0},{"$f":"'[1]HOJA GENERAL DATOS IMPORTADOS'!T477","v":0},{"$f":"'[1]HOJA GENERAL DATOS IMPORTADOS'!U477","v":0},{"$f":"'[1]HOJA GENERAL DATOS IMPORTADOS'!V477","v":0},{"$f":"'[1]HOJA GENERAL DATOS IMPORTADOS'!W477","v":0},{"$f":"'[1]HOJA GENERAL DATOS IMPORTADOS'!X477","v":0},{"$f":"'[1]HOJA GENERAL DATOS IMPORTADOS'!Y477","v":0},{"$f":"'[1]HOJA GENERAL DATOS IMPORTADOS'!Z477","v":0},{"$f":"'[1]HOJA GENERAL DATOS IMPORTADOS'!AA477","v":0},{"$f":"'[1]HOJA GENERAL DATOS IMPORTADOS'!AB477","v":0},{"$f":"'[1]HOJA GENERAL DATOS IMPORTADOS'!AC477","v":0},{"$f":"'[1]HOJA GENERAL DATOS IMPORTADOS'!AD477","v":0},{"$f":"'[1]HOJA GENERAL DATOS IMPORTADOS'!AE477","v":0},{"$f":"'[1]HOJA GENERAL DATOS IMPORTADOS'!AF477","v":0},{"$f":"'[1]HOJA GENERAL DATOS IMPORTADOS'!AG477","v":0},{"$f":"'[1]HOJA GENERAL DATOS IMPORTADOS'!AH477","v":0},{"$f":"'[1]HOJA GENERAL DATOS IMPORTADOS'!AI477","v":0}]
[{"$f":"'[1]HOJA GENERAL DATOS IMPORTADOS'!A478","v":0},{"$f":"'[1]HOJA GENERAL DATOS IMPORTADOS'!B478","v":0},{"$f":"'[1]HOJA GENERAL DATOS IMPORTADOS'!C478","v":0},{"$f":"'[1]HOJA GENERAL DATOS IMPORTADOS'!D478","v":0},{"$f":"'[1]HOJA GENERAL DATOS IMPORTADOS'!E478","v":0},{"$f":"'[1]HOJA GENERAL DATOS IMPORTADOS'!F478","v":0},{"$f":"'[1]HOJA GENERAL DATOS IMPORTADOS'!G478","v":0},{"$f":"'[1]HOJA GENERAL DATOS IMPORTADOS'!H478","v":0},{"$f":"'[1]HOJA GENERAL DATOS IMPORTADOS'!I478","v":0},{"$f":"'[1]HOJA GENERAL DATOS IMPORTADOS'!J478","v":0},{"$f":"'[1]HOJA GENERAL DATOS IMPORTADOS'!K478","v":0},{"$f":"'[1]HOJA GENERAL DATOS IMPORTADOS'!L478","v":0},{"$f":"'[1]HOJA GENERAL DATOS IMPORTADOS'!M478","v":0},{"$f":"'[1]HOJA GENERAL DATOS IMPORTADOS'!N478","v":0},{"$f":"'[1]HOJA GENERAL DATOS IMPORTADOS'!O478","v":0},{"$f":"'[1]HOJA GENERAL DATOS IMPORTADOS'!P478","v":0},{"$f":"'[1]HOJA GENERAL DATOS IMPORTADOS'!Q478","v":0},{"$f":"'[1]HOJA GENERAL DATOS IMPORTADOS'!R478","v":0},{"$f":"'[1]HOJA GENERAL DATOS IMPORTADOS'!S478","v":0},{"$f":"'[1]HOJA GENERAL DATOS IMPORTADOS'!T478","v":0},{"$f":"'[1]HOJA GENERAL DATOS IMPORTADOS'!U478","v":0},{"$f":"'[1]HOJA GENERAL DATOS IMPORTADOS'!V478","v":0},{"$f":"'[1]HOJA GENERAL DATOS IMPORTADOS'!W478","v":0},{"$f":"'[1]HOJA GENERAL DATOS IMPORTADOS'!X478","v":0},{"$f":"'[1]HOJA GENERAL DATOS IMPORTADOS'!Y478","v":0},{"$f":"'[1]HOJA GENERAL DATOS IMPORTADOS'!Z478","v":0},{"$f":"'[1]HOJA GENERAL DATOS IMPORTADOS'!AA478","v":0},{"$f":"'[1]HOJA GENERAL DATOS IMPORTADOS'!AB478","v":0},{"$f":"'[1]HOJA GENERAL DATOS IMPORTADOS'!AC478","v":0},{"$f":"'[1]HOJA GENERAL DATOS IMPORTADOS'!AD478","v":0},{"$f":"'[1]HOJA GENERAL DATOS IMPORTADOS'!AE478","v":0},{"$f":"'[1]HOJA GENERAL DATOS IMPORTADOS'!AF478","v":0},{"$f":"'[1]HOJA GENERAL DATOS IMPORTADOS'!AG478","v":0},{"$f":"'[1]HOJA GENERAL DATOS IMPORTADOS'!AH478","v":0},{"$f":"'[1]HOJA GENERAL DATOS IMPORTADOS'!AI478","v":0}]
[{"$f":"'[1]HOJA GENERAL DATOS IMPORTADOS'!A479","v":0},{"$f":"'[1]HOJA GENERAL DATOS IMPORTADOS'!B479","v":0},{"$f":"'[1]HOJA GENERAL DATOS IMPORTADOS'!C479","v":0},{"$f":"'[1]HOJA GENERAL DATOS IMPORTADOS'!D479","v":0},{"$f":"'[1]HOJA GENERAL DATOS IMPORTADOS'!E479","v":0},{"$f":"'[1]HOJA GENERAL DATOS IMPORTADOS'!F479","v":0},{"$f":"'[1]HOJA GENERAL DATOS IMPORTADOS'!G479","v":0},{"$f":"'[1]HOJA GENERAL DATOS IMPORTADOS'!H479","v":0},{"$f":"'[1]HOJA GENERAL DATOS IMPORTADOS'!I479","v":0},{"$f":"'[1]HOJA GENERAL DATOS IMPORTADOS'!J479","v":0},{"$f":"'[1]HOJA GENERAL DATOS IMPORTADOS'!K479","v":0},{"$f":"'[1]HOJA GENERAL DATOS IMPORTADOS'!L479","v":0},{"$f":"'[1]HOJA GENERAL DATOS IMPORTADOS'!M479","v":0},{"$f":"'[1]HOJA GENERAL DATOS IMPORTADOS'!N479","v":0},{"$f":"'[1]HOJA GENERAL DATOS IMPORTADOS'!O479","v":0},{"$f":"'[1]HOJA GENERAL DATOS IMPORTADOS'!P479","v":0},{"$f":"'[1]HOJA GENERAL DATOS IMPORTADOS'!Q479","v":0},{"$f":"'[1]HOJA GENERAL DATOS IMPORTADOS'!R479","v":0},{"$f":"'[1]HOJA GENERAL DATOS IMPORTADOS'!S479","v":0},{"$f":"'[1]HOJA GENERAL DATOS IMPORTADOS'!T479","v":0},{"$f":"'[1]HOJA GENERAL DATOS IMPORTADOS'!U479","v":0},{"$f":"'[1]HOJA GENERAL DATOS IMPORTADOS'!V479","v":0},{"$f":"'[1]HOJA GENERAL DATOS IMPORTADOS'!W479","v":0},{"$f":"'[1]HOJA GENERAL DATOS IMPORTADOS'!X479","v":0},{"$f":"'[1]HOJA GENERAL DATOS IMPORTADOS'!Y479","v":0},{"$f":"'[1]HOJA GENERAL DATOS IMPORTADOS'!Z479","v":0},{"$f":"'[1]HOJA GENERAL DATOS IMPORTADOS'!AA479","v":0},{"$f":"'[1]HOJA GENERAL DATOS IMPORTADOS'!AB479","v":0},{"$f":"'[1]HOJA GENERAL DATOS IMPORTADOS'!AC479","v":0},{"$f":"'[1]HOJA GENERAL DATOS IMPORTADOS'!AD479","v":0},{"$f":"'[1]HOJA GENERAL DATOS IMPORTADOS'!AE479","v":0},{"$f":"'[1]HOJA GENERAL DATOS IMPORTADOS'!AF479","v":0},{"$f":"'[1]HOJA GENERAL DATOS IMPORTADOS'!AG479","v":0},{"$f":"'[1]HOJA GENERAL DATOS IMPORTADOS'!AH479","v":0},{"$f":"'[1]HOJA GENERAL DATOS IMPORTADOS'!AI479","v":0}]
[{"$f":"'[1]HOJA GENERAL DATOS IMPORTADOS'!A480","v":0},{"$f":"'[1]HOJA GENERAL DATOS IMPORTADOS'!B480","v":0},{"$f":"'[1]HOJA GENERAL DATOS IMPORTADOS'!C480","v":0},{"$f":"'[1]HOJA GENERAL DATOS IMPORTADOS'!D480","v":0},{"$f":"'[1]HOJA GENERAL DATOS IMPORTADOS'!E480","v":0},{"$f":"'[1]HOJA GENERAL DATOS IMPORTADOS'!F480","v":0},{"$f":"'[1]HOJA GENERAL DATOS IMPORTADOS'!G480","v":0},{"$f":"'[1]HOJA GENERAL DATOS IMPORTADOS'!H480","v":0},{"$f":"'[1]HOJA GENERAL DATOS IMPORTADOS'!I480","v":0},{"$f":"'[1]HOJA GENERAL DATOS IMPORTADOS'!J480","v":0},{"$f":"'[1]HOJA GENERAL DATOS IMPORTADOS'!K480","v":0},{"$f":"'[1]HOJA GENERAL DATOS IMPORTADOS'!L480","v":0},{"$f":"'[1]HOJA GENERAL DATOS IMPORTADOS'!M480","v":0},{"$f":"'[1]HOJA GENERAL DATOS IMPORTADOS'!N480","v":0},{"$f":"'[1]HOJA GENERAL DATOS IMPORTADOS'!O480","v":0},{"$f":"'[1]HOJA GENERAL DATOS IMPORTADOS'!P480","v":0},{"$f":"'[1]HOJA GENERAL DATOS IMPORTADOS'!Q480","v":0},{"$f":"'[1]HOJA GENERAL DATOS IMPORTADOS'!R480","v":0},{"$f":"'[1]HOJA GENERAL DATOS IMPORTADOS'!S480","v":0},{"$f":"'[1]HOJA GENERAL DATOS IMPORTADOS'!T480","v":0},{"$f":"'[1]HOJA GENERAL DATOS IMPORTADOS'!U480","v":0},{"$f":"'[1]HOJA GENERAL DATOS IMPORTADOS'!V480","v":0},{"$f":"'[1]HOJA GENERAL DATOS IMPORTADOS'!W480","v":0},{"$f":"'[1]HOJA GENERAL DATOS IMPORTADOS'!X480","v":0},{"$f":"'[1]HOJA GENERAL DATOS IMPORTADOS'!Y480","v":0},{"$f":"'[1]HOJA GENERAL DATOS IMPORTADOS'!Z480","v":0},{"$f":"'[1]HOJA GENERAL DATOS IMPORTADOS'!AA480","v":0},{"$f":"'[1]HOJA GENERAL DATOS IMPORTADOS'!AB480","v":0},{"$f":"'[1]HOJA GENERAL DATOS IMPORTADOS'!AC480","v":0},{"$f":"'[1]HOJA GENERAL DATOS IMPORTADOS'!AD480","v":0},{"$f":"'[1]HOJA GENERAL DATOS IMPORTADOS'!AE480","v":0},{"$f":"'[1]HOJA GENERAL DATOS IMPORTADOS'!AF480","v":0},{"$f":"'[1]HOJA GENERAL DATOS IMPORTADOS'!AG480","v":0},{"$f":"'[1]HOJA GENERAL DATOS IMPORTADOS'!AH480","v":0},{"$f":"'[1]HOJA GENERAL DATOS IMPORTADOS'!AI480","v":0}]
[{"$f":"'[1]HOJA GENERAL DATOS IMPORTADOS'!A481","v":0},{"$f":"'[1]HOJA GENERAL DATOS IMPORTADOS'!B481","v":0},{"$f":"'[1]HOJA GENERAL DATOS IMPORTADOS'!C481","v":0},{"$f":"'[1]HOJA GENERAL DATOS IMPORTADOS'!D481","v":0},{"$f":"'[1]HOJA GENERAL DATOS IMPORTADOS'!E481","v":0},{"$f":"'[1]HOJA GENERAL DATOS IMPORTADOS'!F481","v":0},{"$f":"'[1]HOJA GENERAL DATOS IMPORTADOS'!G481","v":0},{"$f":"'[1]HOJA GENERAL DATOS IMPORTADOS'!H481","v":0},{"$f":"'[1]HOJA GENERAL DATOS IMPORTADOS'!I481","v":0},{"$f":"'[1]HOJA GENERAL DATOS IMPORTADOS'!J481","v":0},{"$f":"'[1]HOJA GENERAL DATOS IMPORTADOS'!K481","v":0},{"$f":"'[1]HOJA GENERAL DATOS IMPORTADOS'!L481","v":0},{"$f":"'[1]HOJA GENERAL DATOS IMPORTADOS'!M481","v":0},{"$f":"'[1]HOJA GENERAL DATOS IMPORTADOS'!N481","v":0},{"$f":"'[1]HOJA GENERAL DATOS IMPORTADOS'!O481","v":0},{"$f":"'[1]HOJA GENERAL DATOS IMPORTADOS'!P481","v":0},{"$f":"'[1]HOJA GENERAL DATOS IMPORTADOS'!Q481","v":0},{"$f":"'[1]HOJA GENERAL DATOS IMPORTADOS'!R481","v":0},{"$f":"'[1]HOJA GENERAL DATOS IMPORTADOS'!S481","v":0},{"$f":"'[1]HOJA GENERAL DATOS IMPORTADOS'!T481","v":0},{"$f":"'[1]HOJA GENERAL DATOS IMPORTADOS'!U481","v":0},{"$f":"'[1]HOJA GENERAL DATOS IMPORTADOS'!V481","v":0},{"$f":"'[1]HOJA GENERAL DATOS IMPORTADOS'!W481","v":0},{"$f":"'[1]HOJA GENERAL DATOS IMPORTADOS'!X481","v":0},{"$f":"'[1]HOJA GENERAL DATOS IMPORTADOS'!Y481","v":0},{"$f":"'[1]HOJA GENERAL DATOS IMPORTADOS'!Z481","v":0},{"$f":"'[1]HOJA GENERAL DATOS IMPORTADOS'!AA481","v":0},{"$f":"'[1]HOJA GENERAL DATOS IMPORTADOS'!AB481","v":0},{"$f":"'[1]HOJA GENERAL DATOS IMPORTADOS'!AC481","v":0},{"$f":"'[1]HOJA GENERAL DATOS IMPORTADOS'!AD481","v":0},{"$f":"'[1]HOJA GENERAL DATOS IMPORTADOS'!AE481","v":0},{"$f":"'[1]HOJA GENERAL DATOS IMPORTADOS'!AF481","v":0},{"$f":"'[1]HOJA GENERAL DATOS IMPORTADOS'!AG481","v":0},{"$f":"'[1]HOJA GENERAL DATOS IMPORTADOS'!AH481","v":0},{"$f":"'[1]HOJA GENERAL DATOS IMPORTADOS'!AI481","v":0}]
[{"$f":"'[1]HOJA GENERAL DATOS IMPORTADOS'!A482","v":0},{"$f":"'[1]HOJA GENERAL DATOS IMPORTADOS'!B482","v":0},{"$f":"'[1]HOJA GENERAL DATOS IMPORTADOS'!C482","v":0},{"$f":"'[1]HOJA GENERAL DATOS IMPORTADOS'!D482","v":0},{"$f":"'[1]HOJA GENERAL DATOS IMPORTADOS'!E482","v":0},{"$f":"'[1]HOJA GENERAL DATOS IMPORTADOS'!F482","v":0},{"$f":"'[1]HOJA GENERAL DATOS IMPORTADOS'!G482","v":0},{"$f":"'[1]HOJA GENERAL DATOS IMPORTADOS'!H482","v":0},{"$f":"'[1]HOJA GENERAL DATOS IMPORTADOS'!I482","v":0},{"$f":"'[1]HOJA GENERAL DATOS IMPORTADOS'!J482","v":0},{"$f":"'[1]HOJA GENERAL DATOS IMPORTADOS'!K482","v":0},{"$f":"'[1]HOJA GENERAL DATOS IMPORTADOS'!L482","v":0},{"$f":"'[1]HOJA GENERAL DATOS IMPORTADOS'!M482","v":0},{"$f":"'[1]HOJA GENERAL DATOS IMPORTADOS'!N482","v":0},{"$f":"'[1]HOJA GENERAL DATOS IMPORTADOS'!O482","v":0},{"$f":"'[1]HOJA GENERAL DATOS IMPORTADOS'!P482","v":0},{"$f":"'[1]HOJA GENERAL DATOS IMPORTADOS'!Q482","v":0},{"$f":"'[1]HOJA GENERAL DATOS IMPORTADOS'!R482","v":0},{"$f":"'[1]HOJA GENERAL DATOS IMPORTADOS'!S482","v":0},{"$f":"'[1]HOJA GENERAL DATOS IMPORTADOS'!T482","v":0},{"$f":"'[1]HOJA GENERAL DATOS IMPORTADOS'!U482","v":0},{"$f":"'[1]HOJA GENERAL DATOS IMPORTADOS'!V482","v":0},{"$f":"'[1]HOJA GENERAL DATOS IMPORTADOS'!W482","v":0},{"$f":"'[1]HOJA GENERAL DATOS IMPORTADOS'!X482","v":0},{"$f":"'[1]HOJA GENERAL DATOS IMPORTADOS'!Y482","v":0},{"$f":"'[1]HOJA GENERAL DATOS IMPORTADOS'!Z482","v":0},{"$f":"'[1]HOJA GENERAL DATOS IMPORTADOS'!AA482","v":0},{"$f":"'[1]HOJA GENERAL DATOS IMPORTADOS'!AB482","v":0},{"$f":"'[1]HOJA GENERAL DATOS IMPORTADOS'!AC482","v":0},{"$f":"'[1]HOJA GENERAL DATOS IMPORTADOS'!AD482","v":0},{"$f":"'[1]HOJA GENERAL DATOS IMPORTADOS'!AE482","v":0},{"$f":"'[1]HOJA GENERAL DATOS IMPORTADOS'!AF482","v":0},{"$f":"'[1]HOJA GENERAL DATOS IMPORTADOS'!AG482","v":0},{"$f":"'[1]HOJA GENERAL DATOS IMPORTADOS'!AH482","v":0},{"$f":"'[1]HOJA GENERAL DATOS IMPORTADOS'!AI482","v":0}]
[{"$f":"'[1]HOJA GENERAL DATOS IMPORTADOS'!A483","v":0},{"$f":"'[1]HOJA GENERAL DATOS IMPORTADOS'!B483","v":0},{"$f":"'[1]HOJA GENERAL DATOS IMPORTADOS'!C483","v":0},{"$f":"'[1]HOJA GENERAL DATOS IMPORTADOS'!D483","v":0},{"$f":"'[1]HOJA GENERAL DATOS IMPORTADOS'!E483","v":0},{"$f":"'[1]HOJA GENERAL DATOS IMPORTADOS'!F483","v":0},{"$f":"'[1]HOJA GENERAL DATOS IMPORTADOS'!G483","v":0},{"$f":"'[1]HOJA GENERAL DATOS IMPORTADOS'!H483","v":0},{"$f":"'[1]HOJA GENERAL DATOS IMPORTADOS'!I483","v":0},{"$f":"'[1]HOJA GENERAL DATOS IMPORTADOS'!J483","v":0},{"$f":"'[1]HOJA GENERAL DATOS IMPORTADOS'!K483","v":0},{"$f":"'[1]HOJA GENERAL DATOS IMPORTADOS'!L483","v":0},{"$f":"'[1]HOJA GENERAL DATOS IMPORTADOS'!M483","v":0},{"$f":"'[1]HOJA GENERAL DATOS IMPORTADOS'!N483","v":0},{"$f":"'[1]HOJA GENERAL DATOS IMPORTADOS'!O483","v":0},{"$f":"'[1]HOJA GENERAL DATOS IMPORTADOS'!P483","v":0},{"$f":"'[1]HOJA GENERAL DATOS IMPORTADOS'!Q483","v":0},{"$f":"'[1]HOJA GENERAL DATOS IMPORTADOS'!R483","v":0},{"$f":"'[1]HOJA GENERAL DATOS IMPORTADOS'!S483","v":0},{"$f":"'[1]HOJA GENERAL DATOS IMPORTADOS'!T483","v":0},{"$f":"'[1]HOJA GENERAL DATOS IMPORTADOS'!U483","v":0},{"$f":"'[1]HOJA GENERAL DATOS IMPORTADOS'!V483","v":0},{"$f":"'[1]HOJA GENERAL DATOS IMPORTADOS'!W483","v":0},{"$f":"'[1]HOJA GENERAL DATOS IMPORTADOS'!X483","v":0},{"$f":"'[1]HOJA GENERAL DATOS IMPORTADOS'!Y483","v":0},{"$f":"'[1]HOJA GENERAL DATOS IMPORTADOS'!Z483","v":0},{"$f":"'[1]HOJA GENERAL DATOS IMPORTADOS'!AA483","v":0},{"$f":"'[1]HOJA GENERAL DATOS IMPORTADOS'!AB483","v":0},{"$f":"'[1]HOJA GENERAL DATOS IMPORTADOS'!AC483","v":0},{"$f":"'[1]HOJA GENERAL DATOS IMPORTADOS'!AD483","v":0},{"$f":"'[1]HOJA GENERAL DATOS IMPORTADOS'!AE483","v":0},{"$f":"'[1]HOJA GENERAL DATOS IMPORTADOS'!AF483","v":0},{"$f":"'[1]HOJA GENERAL DATOS IMPORTADOS'!AG483","v":0},{"$f":"'[1]HOJA GENERAL DATOS IMPORTADOS'!AH483","v":0},{"$f":"'[1]HOJA GENERAL DATOS IMPORTADOS'!AI483","v":0}]
[{"$f":"'[1]HOJA GENERAL DATOS IMPORTADOS'!A484","v":0},{"$f":"'[1]HOJA GENERAL DATOS IMPORTADOS'!B484","v":0},{"$f":"'[1]HOJA GENERAL DATOS IMPORTADOS'!C484","v":0},{"$f":"'[1]HOJA GENERAL DATOS IMPORTADOS'!D484","v":0},{"$f":"'[1]HOJA GENERAL DATOS IMPORTADOS'!E484","v":0},{"$f":"'[1]HOJA GENERAL DATOS IMPORTADOS'!F484","v":0},{"$f":"'[1]HOJA GENERAL DATOS IMPORTADOS'!G484","v":0},{"$f":"'[1]HOJA GENERAL DATOS IMPORTADOS'!H484","v":0},{"$f":"'[1]HOJA GENERAL DATOS IMPORTADOS'!I484","v":0},{"$f":"'[1]HOJA GENERAL DATOS IMPORTADOS'!J484","v":0},{"$f":"'[1]HOJA GENERAL DATOS IMPORTADOS'!K484","v":0},{"$f":"'[1]HOJA GENERAL DATOS IMPORTADOS'!L484","v":0},{"$f":"'[1]HOJA GENERAL DATOS IMPORTADOS'!M484","v":0},{"$f":"'[1]HOJA GENERAL DATOS IMPORTADOS'!N484","v":0},{"$f":"'[1]HOJA GENERAL DATOS IMPORTADOS'!O484","v":0},{"$f":"'[1]HOJA GENERAL DATOS IMPORTADOS'!P484","v":0},{"$f":"'[1]HOJA GENERAL DATOS IMPORTADOS'!Q484","v":0},{"$f":"'[1]HOJA GENERAL DATOS IMPORTADOS'!R484","v":0},{"$f":"'[1]HOJA GENERAL DATOS IMPORTADOS'!S484","v":0},{"$f":"'[1]HOJA GENERAL DATOS IMPORTADOS'!T484","v":0},{"$f":"'[1]HOJA GENERAL DATOS IMPORTADOS'!U484","v":0},{"$f":"'[1]HOJA GENERAL DATOS IMPORTADOS'!V484","v":0},{"$f":"'[1]HOJA GENERAL DATOS IMPORTADOS'!W484","v":0},{"$f":"'[1]HOJA GENERAL DATOS IMPORTADOS'!X484","v":0},{"$f":"'[1]HOJA GENERAL DATOS IMPORTADOS'!Y484","v":0},{"$f":"'[1]HOJA GENERAL DATOS IMPORTADOS'!Z484","v":0},{"$f":"'[1]HOJA GENERAL DATOS IMPORTADOS'!AA484","v":0},{"$f":"'[1]HOJA GENERAL DATOS IMPORTADOS'!AB484","v":0},{"$f":"'[1]HOJA GENERAL DATOS IMPORTADOS'!AC484","v":0},{"$f":"'[1]HOJA GENERAL DATOS IMPORTADOS'!AD484","v":0},{"$f":"'[1]HOJA GENERAL DATOS IMPORTADOS'!AE484","v":0},{"$f":"'[1]HOJA GENERAL DATOS IMPORTADOS'!AF484","v":0},{"$f":"'[1]HOJA GENERAL DATOS IMPORTADOS'!AG484","v":0},{"$f":"'[1]HOJA GENERAL DATOS IMPORTADOS'!AH484","v":0},{"$f":"'[1]HOJA GENERAL DATOS IMPORTADOS'!AI484","v":0}]
[{"$f":"'[1]HOJA GENERAL DATOS IMPORTADOS'!A485","v":0},{"$f":"'[1]HOJA GENERAL DATOS IMPORTADOS'!B485","v":0},{"$f":"'[1]HOJA GENERAL DATOS IMPORTADOS'!C485","v":0},{"$f":"'[1]HOJA GENERAL DATOS IMPORTADOS'!D485","v":0},{"$f":"'[1]HOJA GENERAL DATOS IMPORTADOS'!E485","v":0},{"$f":"'[1]HOJA GENERAL DATOS IMPORTADOS'!F485","v":0},{"$f":"'[1]HOJA GENERAL DATOS IMPORTADOS'!G485","v":0},{"$f":"'[1]HOJA GENERAL DATOS IMPORTADOS'!H485","v":0},{"$f":"'[1]HOJA GENERAL DATOS IMPORTADOS'!I485","v":0},{"$f":"'[1]HOJA GENERAL DATOS IMPORTADOS'!J485","v":0},{"$f":"'[1]HOJA GENERAL DATOS IMPORTADOS'!K485","v":0},{"$f":"'[1]HOJA GENERAL DATOS IMPORTADOS'!L485","v":0},{"$f":"'[1]HOJA GENERAL DATOS IMPORTADOS'!M485","v":0},{"$f":"'[1]HOJA GENERAL DATOS IMPORTADOS'!N485","v":0},{"$f":"'[1]HOJA GENERAL DATOS IMPORTADOS'!O485","v":0},{"$f":"'[1]HOJA GENERAL DATOS IMPORTADOS'!P485","v":0},{"$f":"'[1]HOJA GENERAL DATOS IMPORTADOS'!Q485","v":0},{"$f":"'[1]HOJA GENERAL DATOS IMPORTADOS'!R485","v":0},{"$f":"'[1]HOJA GENERAL DATOS IMPORTADOS'!S485","v":0},{"$f":"'[1]HOJA GENERAL DATOS IMPORTADOS'!T485","v":0},{"$f":"'[1]HOJA GENERAL DATOS IMPORTADOS'!U485","v":0},{"$f":"'[1]HOJA GENERAL DATOS IMPORTADOS'!V485","v":0},{"$f":"'[1]HOJA GENERAL DATOS IMPORTADOS'!W485","v":0},{"$f":"'[1]HOJA GENERAL DATOS IMPORTADOS'!X485","v":0},{"$f":"'[1]HOJA GENERAL DATOS IMPORTADOS'!Y485","v":0},{"$f":"'[1]HOJA GENERAL DATOS IMPORTADOS'!Z485","v":0},{"$f":"'[1]HOJA GENERAL DATOS IMPORTADOS'!AA485","v":0},{"$f":"'[1]HOJA GENERAL DATOS IMPORTADOS'!AB485","v":0},{"$f":"'[1]HOJA GENERAL DATOS IMPORTADOS'!AC485","v":0},{"$f":"'[1]HOJA GENERAL DATOS IMPORTADOS'!AD485","v":0},{"$f":"'[1]HOJA GENERAL DATOS IMPORTADOS'!AE485","v":0},{"$f":"'[1]HOJA GENERAL DATOS IMPORTADOS'!AF485","v":0},{"$f":"'[1]HOJA GENERAL DATOS IMPORTADOS'!AG485","v":0},{"$f":"'[1]HOJA GENERAL DATOS IMPORTADOS'!AH485","v":0},{"$f":"'[1]HOJA GENERAL DATOS IMPORTADOS'!AI485","v":0}]
[{"$f":"'[1]HOJA GENERAL DATOS IMPORTADOS'!A486","v":0},{"$f":"'[1]HOJA GENERAL DATOS IMPORTADOS'!B486","v":0},{"$f":"'[1]HOJA GENERAL DATOS IMPORTADOS'!C486","v":0},{"$f":"'[1]HOJA GENERAL DATOS IMPORTADOS'!D486","v":0},{"$f":"'[1]HOJA GENERAL DATOS IMPORTADOS'!E486","v":0},{"$f":"'[1]HOJA GENERAL DATOS IMPORTADOS'!F486","v":0},{"$f":"'[1]HOJA GENERAL DATOS IMPORTADOS'!G486","v":0},{"$f":"'[1]HOJA GENERAL DATOS IMPORTADOS'!H486","v":0},{"$f":"'[1]HOJA GENERAL DATOS IMPORTADOS'!I486","v":0},{"$f":"'[1]HOJA GENERAL DATOS IMPORTADOS'!J486","v":0},{"$f":"'[1]HOJA GENERAL DATOS IMPORTADOS'!K486","v":0},{"$f":"'[1]HOJA GENERAL DATOS IMPORTADOS'!L486","v":0},{"$f":"'[1]HOJA GENERAL DATOS IMPORTADOS'!M486","v":0},{"$f":"'[1]HOJA GENERAL DATOS IMPORTADOS'!N486","v":0},{"$f":"'[1]HOJA GENERAL DATOS IMPORTADOS'!O486","v":0},{"$f":"'[1]HOJA GENERAL DATOS IMPORTADOS'!P486","v":0},{"$f":"'[1]HOJA GENERAL DATOS IMPORTADOS'!Q486","v":0},{"$f":"'[1]HOJA GENERAL DATOS IMPORTADOS'!R486","v":0},{"$f":"'[1]HOJA GENERAL DATOS IMPORTADOS'!S486","v":0},{"$f":"'[1]HOJA GENERAL DATOS IMPORTADOS'!T486","v":0},{"$f":"'[1]HOJA GENERAL DATOS IMPORTADOS'!U486","v":0},{"$f":"'[1]HOJA GENERAL DATOS IMPORTADOS'!V486","v":0},{"$f":"'[1]HOJA GENERAL DATOS IMPORTADOS'!W486","v":0},{"$f":"'[1]HOJA GENERAL DATOS IMPORTADOS'!X486","v":0},{"$f":"'[1]HOJA GENERAL DATOS IMPORTADOS'!Y486","v":0},{"$f":"'[1]HOJA GENERAL DATOS IMPORTADOS'!Z486","v":0},{"$f":"'[1]HOJA GENERAL DATOS IMPORTADOS'!AA486","v":0},{"$f":"'[1]HOJA GENERAL DATOS IMPORTADOS'!AB486","v":0},{"$f":"'[1]HOJA GENERAL DATOS IMPORTADOS'!AC486","v":0},{"$f":"'[1]HOJA GENERAL DATOS IMPORTADOS'!AD486","v":0},{"$f":"'[1]HOJA GENERAL DATOS IMPORTADOS'!AE486","v":0},{"$f":"'[1]HOJA GENERAL DATOS IMPORTADOS'!AF486","v":0},{"$f":"'[1]HOJA GENERAL DATOS IMPORTADOS'!AG486","v":0},{"$f":"'[1]HOJA GENERAL DATOS IMPORTADOS'!AH486","v":0},{"$f":"'[1]HOJA GENERAL DATOS IMPORTADOS'!AI486","v":0}]
[{"$f":"'[1]HOJA GENERAL DATOS IMPORTADOS'!A487","v":0},{"$f":"'[1]HOJA GENERAL DATOS IMPORTADOS'!B487","v":0},{"$f":"'[1]HOJA GENERAL DATOS IMPORTADOS'!C487","v":0},{"$f":"'[1]HOJA GENERAL DATOS IMPORTADOS'!D487","v":0},{"$f":"'[1]HOJA GENERAL DATOS IMPORTADOS'!E487","v":0},{"$f":"'[1]HOJA GENERAL DATOS IMPORTADOS'!F487","v":0},{"$f":"'[1]HOJA GENERAL DATOS IMPORTADOS'!G487","v":0},{"$f":"'[1]HOJA GENERAL DATOS IMPORTADOS'!H487","v":0},{"$f":"'[1]HOJA GENERAL DATOS IMPORTADOS'!I487","v":0},{"$f":"'[1]HOJA GENERAL DATOS IMPORTADOS'!J487","v":0},{"$f":"'[1]HOJA GENERAL DATOS IMPORTADOS'!K487","v":0},{"$f":"'[1]HOJA GENERAL DATOS IMPORTADOS'!L487","v":0},{"$f":"'[1]HOJA GENERAL DATOS IMPORTADOS'!M487","v":0},{"$f":"'[1]HOJA GENERAL DATOS IMPORTADOS'!N487","v":0},{"$f":"'[1]HOJA GENERAL DATOS IMPORTADOS'!O487","v":0},{"$f":"'[1]HOJA GENERAL DATOS IMPORTADOS'!P487","v":0},{"$f":"'[1]HOJA GENERAL DATOS IMPORTADOS'!Q487","v":0},{"$f":"'[1]HOJA GENERAL DATOS IMPORTADOS'!R487","v":0},{"$f":"'[1]HOJA GENERAL DATOS IMPORTADOS'!S487","v":0},{"$f":"'[1]HOJA GENERAL DATOS IMPORTADOS'!T487","v":0},{"$f":"'[1]HOJA GENERAL DATOS IMPORTADOS'!U487","v":0},{"$f":"'[1]HOJA GENERAL DATOS IMPORTADOS'!V487","v":0},{"$f":"'[1]HOJA GENERAL DATOS IMPORTADOS'!W487","v":0},{"$f":"'[1]HOJA GENERAL DATOS IMPORTADOS'!X487","v":0},{"$f":"'[1]HOJA GENERAL DATOS IMPORTADOS'!Y487","v":0},{"$f":"'[1]HOJA GENERAL DATOS IMPORTADOS'!Z487","v":0},{"$f":"'[1]HOJA GENERAL DATOS IMPORTADOS'!AA487","v":0},{"$f":"'[1]HOJA GENERAL DATOS IMPORTADOS'!AB487","v":0},{"$f":"'[1]HOJA GENERAL DATOS IMPORTADOS'!AC487","v":0},{"$f":"'[1]HOJA GENERAL DATOS IMPORTADOS'!AD487","v":0},{"$f":"'[1]HOJA GENERAL DATOS IMPORTADOS'!AE487","v":0},{"$f":"'[1]HOJA GENERAL DATOS IMPORTADOS'!AF487","v":0},{"$f":"'[1]HOJA GENERAL DATOS IMPORTADOS'!AG487","v":0},{"$f":"'[1]HOJA GENERAL DATOS IMPORTADOS'!AH487","v":0},{"$f":"'[1]HOJA GENERAL DATOS IMPORTADOS'!AI487","v":0}]
[{"$f":"'[1]HOJA GENERAL DATOS IMPORTADOS'!A488","v":0},{"$f":"'[1]HOJA GENERAL DATOS IMPORTADOS'!B488","v":0},{"$f":"'[1]HOJA GENERAL DATOS IMPORTADOS'!C488","v":0},{"$f":"'[1]HOJA GENERAL DATOS IMPORTADOS'!D488","v":0},{"$f":"'[1]HOJA GENERAL DATOS IMPORTADOS'!E488","v":0},{"$f":"'[1]HOJA GENERAL DATOS IMPORTADOS'!F488","v":0},{"$f":"'[1]HOJA GENERAL DATOS IMPORTADOS'!G488","v":0},{"$f":"'[1]HOJA GENERAL DATOS IMPORTADOS'!H488","v":0},{"$f":"'[1]HOJA GENERAL DATOS IMPORTADOS'!I488","v":0},{"$f":"'[1]HOJA GENERAL DATOS IMPORTADOS'!J488","v":0},{"$f":"'[1]HOJA GENERAL DATOS IMPORTADOS'!K488","v":0},{"$f":"'[1]HOJA GENERAL DATOS IMPORTADOS'!L488","v":0},{"$f":"'[1]HOJA GENERAL DATOS IMPORTADOS'!M488","v":0},{"$f":"'[1]HOJA GENERAL DATOS IMPORTADOS'!N488","v":0},{"$f":"'[1]HOJA GENERAL DATOS IMPORTADOS'!O488","v":0},{"$f":"'[1]HOJA GENERAL DATOS IMPORTADOS'!P488","v":0},{"$f":"'[1]HOJA GENERAL DATOS IMPORTADOS'!Q488","v":0},{"$f":"'[1]HOJA GENERAL DATOS IMPORTADOS'!R488","v":0},{"$f":"'[1]HOJA GENERAL DATOS IMPORTADOS'!S488","v":0},{"$f":"'[1]HOJA GENERAL DATOS IMPORTADOS'!T488","v":0},{"$f":"'[1]HOJA GENERAL DATOS IMPORTADOS'!U488","v":0},{"$f":"'[1]HOJA GENERAL DATOS IMPORTADOS'!V488","v":0},{"$f":"'[1]HOJA GENERAL DATOS IMPORTADOS'!W488","v":0},{"$f":"'[1]HOJA GENERAL DATOS IMPORTADOS'!X488","v":0},{"$f":"'[1]HOJA GENERAL DATOS IMPORTADOS'!Y488","v":0},{"$f":"'[1]HOJA GENERAL DATOS IMPORTADOS'!Z488","v":0},{"$f":"'[1]HOJA GENERAL DATOS IMPORTADOS'!AA488","v":0},{"$f":"'[1]HOJA GENERAL DATOS IMPORTADOS'!AB488","v":0},{"$f":"'[1]HOJA GENERAL DATOS IMPORTADOS'!AC488","v":0},{"$f":"'[1]HOJA GENERAL DATOS IMPORTADOS'!AD488","v":0},{"$f":"'[1]HOJA GENERAL DATOS IMPORTADOS'!AE488","v":0},{"$f":"'[1]HOJA GENERAL DATOS IMPORTADOS'!AF488","v":0},{"$f":"'[1]HOJA GENERAL DATOS IMPORTADOS'!AG488","v":0},{"$f":"'[1]HOJA GENERAL DATOS IMPORTADOS'!AH488","v":0},{"$f":"'[1]HOJA GENERAL DATOS IMPORTADOS'!AI488","v":0}]
[{"$f":"'[1]HOJA GENERAL DATOS IMPORTADOS'!A489","v":0},{"$f":"'[1]HOJA GENERAL DATOS IMPORTADOS'!B489","v":0},{"$f":"'[1]HOJA GENERAL DATOS IMPORTADOS'!C489","v":0},{"$f":"'[1]HOJA GENERAL DATOS IMPORTADOS'!D489","v":0},{"$f":"'[1]HOJA GENERAL DATOS IMPORTADOS'!E489","v":0},{"$f":"'[1]HOJA GENERAL DATOS IMPORTADOS'!F489","v":0},{"$f":"'[1]HOJA GENERAL DATOS IMPORTADOS'!G489","v":0},{"$f":"'[1]HOJA GENERAL DATOS IMPORTADOS'!H489","v":0},{"$f":"'[1]HOJA GENERAL DATOS IMPORTADOS'!I489","v":0},{"$f":"'[1]HOJA GENERAL DATOS IMPORTADOS'!J489","v":0},{"$f":"'[1]HOJA GENERAL DATOS IMPORTADOS'!K489","v":0},{"$f":"'[1]HOJA GENERAL DATOS IMPORTADOS'!L489","v":0},{"$f":"'[1]HOJA GENERAL DATOS IMPORTADOS'!M489","v":0},{"$f":"'[1]HOJA GENERAL DATOS IMPORTADOS'!N489","v":0},{"$f":"'[1]HOJA GENERAL DATOS IMPORTADOS'!O489","v":0},{"$f":"'[1]HOJA GENERAL DATOS IMPORTADOS'!P489","v":0},{"$f":"'[1]HOJA GENERAL DATOS IMPORTADOS'!Q489","v":0},{"$f":"'[1]HOJA GENERAL DATOS IMPORTADOS'!R489","v":0},{"$f":"'[1]HOJA GENERAL DATOS IMPORTADOS'!S489","v":0},{"$f":"'[1]HOJA GENERAL DATOS IMPORTADOS'!T489","v":0},{"$f":"'[1]HOJA GENERAL DATOS IMPORTADOS'!U489","v":0},{"$f":"'[1]HOJA GENERAL DATOS IMPORTADOS'!V489","v":0},{"$f":"'[1]HOJA GENERAL DATOS IMPORTADOS'!W489","v":0},{"$f":"'[1]HOJA GENERAL DATOS IMPORTADOS'!X489","v":0},{"$f":"'[1]HOJA GENERAL DATOS IMPORTADOS'!Y489","v":0},{"$f":"'[1]HOJA GENERAL DATOS IMPORTADOS'!Z489","v":0},{"$f":"'[1]HOJA GENERAL DATOS IMPORTADOS'!AA489","v":0},{"$f":"'[1]HOJA GENERAL DATOS IMPORTADOS'!AB489","v":0},{"$f":"'[1]HOJA GENERAL DATOS IMPORTADOS'!AC489","v":0},{"$f":"'[1]HOJA GENERAL DATOS IMPORTADOS'!AD489","v":0},{"$f":"'[1]HOJA GENERAL DATOS IMPORTADOS'!AE489","v":0},{"$f":"'[1]HOJA GENERAL DATOS IMPORTADOS'!AF489","v":0},{"$f":"'[1]HOJA GENERAL DATOS IMPORTADOS'!AG489","v":0},{"$f":"'[1]HOJA GENERAL DATOS IMPORTADOS'!AH489","v":0},{"$f":"'[1]HOJA GENERAL DATOS IMPORTADOS'!AI489","v":0}]
[{"$f":"'[1]HOJA GENERAL DATOS IMPORTADOS'!A490","v":0},{"$f":"'[1]HOJA GENERAL DATOS IMPORTADOS'!B490","v":0},{"$f":"'[1]HOJA GENERAL DATOS IMPORTADOS'!C490","v":0},{"$f":"'[1]HOJA GENERAL DATOS IMPORTADOS'!D490","v":0},{"$f":"'[1]HOJA GENERAL DATOS IMPORTADOS'!E490","v":0},{"$f":"'[1]HOJA GENERAL DATOS IMPORTADOS'!F490","v":0},{"$f":"'[1]HOJA GENERAL DATOS IMPORTADOS'!G490","v":0},{"$f":"'[1]HOJA GENERAL DATOS IMPORTADOS'!H490","v":0},{"$f":"'[1]HOJA GENERAL DATOS IMPORTADOS'!I490","v":0},{"$f":"'[1]HOJA GENERAL DATOS IMPORTADOS'!J490","v":0},{"$f":"'[1]HOJA GENERAL DATOS IMPORTADOS'!K490","v":0},{"$f":"'[1]HOJA GENERAL DATOS IMPORTADOS'!L490","v":0},{"$f":"'[1]HOJA GENERAL DATOS IMPORTADOS'!M490","v":0},{"$f":"'[1]HOJA GENERAL DATOS IMPORTADOS'!N490","v":0},{"$f":"'[1]HOJA GENERAL DATOS IMPORTADOS'!O490","v":0},{"$f":"'[1]HOJA GENERAL DATOS IMPORTADOS'!P490","v":0},{"$f":"'[1]HOJA GENERAL DATOS IMPORTADOS'!Q490","v":0},{"$f":"'[1]HOJA GENERAL DATOS IMPORTADOS'!R490","v":0},{"$f":"'[1]HOJA GENERAL DATOS IMPORTADOS'!S490","v":0},{"$f":"'[1]HOJA GENERAL DATOS IMPORTADOS'!T490","v":0},{"$f":"'[1]HOJA GENERAL DATOS IMPORTADOS'!U490","v":0},{"$f":"'[1]HOJA GENERAL DATOS IMPORTADOS'!V490","v":0},{"$f":"'[1]HOJA GENERAL DATOS IMPORTADOS'!W490","v":0},{"$f":"'[1]HOJA GENERAL DATOS IMPORTADOS'!X490","v":0},{"$f":"'[1]HOJA GENERAL DATOS IMPORTADOS'!Y490","v":0},{"$f":"'[1]HOJA GENERAL DATOS IMPORTADOS'!Z490","v":0},{"$f":"'[1]HOJA GENERAL DATOS IMPORTADOS'!AA490","v":0},{"$f":"'[1]HOJA GENERAL DATOS IMPORTADOS'!AB490","v":0},{"$f":"'[1]HOJA GENERAL DATOS IMPORTADOS'!AC490","v":0},{"$f":"'[1]HOJA GENERAL DATOS IMPORTADOS'!AD490","v":0},{"$f":"'[1]HOJA GENERAL DATOS IMPORTADOS'!AE490","v":0},{"$f":"'[1]HOJA GENERAL DATOS IMPORTADOS'!AF490","v":0},{"$f":"'[1]HOJA GENERAL DATOS IMPORTADOS'!AG490","v":0},{"$f":"'[1]HOJA GENERAL DATOS IMPORTADOS'!AH490","v":0},{"$f":"'[1]HOJA GENERAL DATOS IMPORTADOS'!AI490","v":0}]
[{"$f":"'[1]HOJA GENERAL DATOS IMPORTADOS'!A491","v":0},{"$f":"'[1]HOJA GENERAL DATOS IMPORTADOS'!B491","v":0},{"$f":"'[1]HOJA GENERAL DATOS IMPORTADOS'!C491","v":0},{"$f":"'[1]HOJA GENERAL DATOS IMPORTADOS'!D491","v":0},{"$f":"'[1]HOJA GENERAL DATOS IMPORTADOS'!E491","v":0},{"$f":"'[1]HOJA GENERAL DATOS IMPORTADOS'!F491","v":0},{"$f":"'[1]HOJA GENERAL DATOS IMPORTADOS'!G491","v":0},{"$f":"'[1]HOJA GENERAL DATOS IMPORTADOS'!H491","v":0},{"$f":"'[1]HOJA GENERAL DATOS IMPORTADOS'!I491","v":0},{"$f":"'[1]HOJA GENERAL DATOS IMPORTADOS'!J491","v":0},{"$f":"'[1]HOJA GENERAL DATOS IMPORTADOS'!K491","v":0},{"$f":"'[1]HOJA GENERAL DATOS IMPORTADOS'!L491","v":0},{"$f":"'[1]HOJA GENERAL DATOS IMPORTADOS'!M491","v":0},{"$f":"'[1]HOJA GENERAL DATOS IMPORTADOS'!N491","v":0},{"$f":"'[1]HOJA GENERAL DATOS IMPORTADOS'!O491","v":0},{"$f":"'[1]HOJA GENERAL DATOS IMPORTADOS'!P491","v":0},{"$f":"'[1]HOJA GENERAL DATOS IMPORTADOS'!Q491","v":0},{"$f":"'[1]HOJA GENERAL DATOS IMPORTADOS'!R491","v":0},{"$f":"'[1]HOJA GENERAL DATOS IMPORTADOS'!S491","v":0},{"$f":"'[1]HOJA GENERAL DATOS IMPORTADOS'!T491","v":0},{"$f":"'[1]HOJA GENERAL DATOS IMPORTADOS'!U491","v":0},{"$f":"'[1]HOJA GENERAL DATOS IMPORTADOS'!V491","v":0},{"$f":"'[1]HOJA GENERAL DATOS IMPORTADOS'!W491","v":0},{"$f":"'[1]HOJA GENERAL DATOS IMPORTADOS'!X491","v":0},{"$f":"'[1]HOJA GENERAL DATOS IMPORTADOS'!Y491","v":0},{"$f":"'[1]HOJA GENERAL DATOS IMPORTADOS'!Z491","v":0},{"$f":"'[1]HOJA GENERAL DATOS IMPORTADOS'!AA491","v":0},{"$f":"'[1]HOJA GENERAL DATOS IMPORTADOS'!AB491","v":0},{"$f":"'[1]HOJA GENERAL DATOS IMPORTADOS'!AC491","v":0},{"$f":"'[1]HOJA GENERAL DATOS IMPORTADOS'!AD491","v":0},{"$f":"'[1]HOJA GENERAL DATOS IMPORTADOS'!AE491","v":0},{"$f":"'[1]HOJA GENERAL DATOS IMPORTADOS'!AF491","v":0},{"$f":"'[1]HOJA GENERAL DATOS IMPORTADOS'!AG491","v":0},{"$f":"'[1]HOJA GENERAL DATOS IMPORTADOS'!AH491","v":0},{"$f":"'[1]HOJA GENERAL DATOS IMPORTADOS'!AI491","v":0}]
[{"$f":"'[1]HOJA GENERAL DATOS IMPORTADOS'!A492","v":0},{"$f":"'[1]HOJA GENERAL DATOS IMPORTADOS'!B492","v":0},{"$f":"'[1]HOJA GENERAL DATOS IMPORTADOS'!C492","v":0},{"$f":"'[1]HOJA GENERAL DATOS IMPORTADOS'!D492","v":0},{"$f":"'[1]HOJA GENERAL DATOS IMPORTADOS'!E492","v":0},{"$f":"'[1]HOJA GENERAL DATOS IMPORTADOS'!F492","v":0},{"$f":"'[1]HOJA GENERAL DATOS IMPORTADOS'!G492","v":0},{"$f":"'[1]HOJA GENERAL DATOS IMPORTADOS'!H492","v":0},{"$f":"'[1]HOJA GENERAL DATOS IMPORTADOS'!I492","v":0},{"$f":"'[1]HOJA GENERAL DATOS IMPORTADOS'!J492","v":0},{"$f":"'[1]HOJA GENERAL DATOS IMPORTADOS'!K492","v":0},{"$f":"'[1]HOJA GENERAL DATOS IMPORTADOS'!L492","v":0},{"$f":"'[1]HOJA GENERAL DATOS IMPORTADOS'!M492","v":0},{"$f":"'[1]HOJA GENERAL DATOS IMPORTADOS'!N492","v":0},{"$f":"'[1]HOJA GENERAL DATOS IMPORTADOS'!O492","v":0},{"$f":"'[1]HOJA GENERAL DATOS IMPORTADOS'!P492","v":0},{"$f":"'[1]HOJA GENERAL DATOS IMPORTADOS'!Q492","v":0},{"$f":"'[1]HOJA GENERAL DATOS IMPORTADOS'!R492","v":0},{"$f":"'[1]HOJA GENERAL DATOS IMPORTADOS'!S492","v":0},{"$f":"'[1]HOJA GENERAL DATOS IMPORTADOS'!T492","v":0},{"$f":"'[1]HOJA GENERAL DATOS IMPORTADOS'!U492","v":0},{"$f":"'[1]HOJA GENERAL DATOS IMPORTADOS'!V492","v":0},{"$f":"'[1]HOJA GENERAL DATOS IMPORTADOS'!W492","v":0},{"$f":"'[1]HOJA GENERAL DATOS IMPORTADOS'!X492","v":0},{"$f":"'[1]HOJA GENERAL DATOS IMPORTADOS'!Y492","v":0},{"$f":"'[1]HOJA GENERAL DATOS IMPORTADOS'!Z492","v":0},{"$f":"'[1]HOJA GENERAL DATOS IMPORTADOS'!AA492","v":0},{"$f":"'[1]HOJA GENERAL DATOS IMPORTADOS'!AB492","v":0},{"$f":"'[1]HOJA GENERAL DATOS IMPORTADOS'!AC492","v":0},{"$f":"'[1]HOJA GENERAL DATOS IMPORTADOS'!AD492","v":0},{"$f":"'[1]HOJA GENERAL DATOS IMPORTADOS'!AE492","v":0},{"$f":"'[1]HOJA GENERAL DATOS IMPORTADOS'!AF492","v":0},{"$f":"'[1]HOJA GENERAL DATOS IMPORTADOS'!AG492","v":0},{"$f":"'[1]HOJA GENERAL DATOS IMPORTADOS'!AH492","v":0},{"$f":"'[1]HOJA GENERAL DATOS IMPORTADOS'!AI492","v":0}]
[{"$f":"'[1]HOJA GENERAL DATOS IMPORTADOS'!A493","v":0},{"$f":"'[1]HOJA GENERAL DATOS IMPORTADOS'!B493","v":0},{"$f":"'[1]HOJA GENERAL DATOS IMPORTADOS'!C493","v":0},{"$f":"'[1]HOJA GENERAL DATOS IMPORTADOS'!D493","v":0},{"$f":"'[1]HOJA GENERAL DATOS IMPORTADOS'!E493","v":0},{"$f":"'[1]HOJA GENERAL DATOS IMPORTADOS'!F493","v":0},{"$f":"'[1]HOJA GENERAL DATOS IMPORTADOS'!G493","v":0},{"$f":"'[1]HOJA GENERAL DATOS IMPORTADOS'!H493","v":0},{"$f":"'[1]HOJA GENERAL DATOS IMPORTADOS'!I493","v":0},{"$f":"'[1]HOJA GENERAL DATOS IMPORTADOS'!J493","v":0},{"$f":"'[1]HOJA GENERAL DATOS IMPORTADOS'!K493","v":0},{"$f":"'[1]HOJA GENERAL DATOS IMPORTADOS'!L493","v":0},{"$f":"'[1]HOJA GENERAL DATOS IMPORTADOS'!M493","v":0},{"$f":"'[1]HOJA GENERAL DATOS IMPORTADOS'!N493","v":0},{"$f":"'[1]HOJA GENERAL DATOS IMPORTADOS'!O493","v":0},{"$f":"'[1]HOJA GENERAL DATOS IMPORTADOS'!P493","v":0},{"$f":"'[1]HOJA GENERAL DATOS IMPORTADOS'!Q493","v":0},{"$f":"'[1]HOJA GENERAL DATOS IMPORTADOS'!R493","v":0},{"$f":"'[1]HOJA GENERAL DATOS IMPORTADOS'!S493","v":0},{"$f":"'[1]HOJA GENERAL DATOS IMPORTADOS'!T493","v":0},{"$f":"'[1]HOJA GENERAL DATOS IMPORTADOS'!U493","v":0},{"$f":"'[1]HOJA GENERAL DATOS IMPORTADOS'!V493","v":0},{"$f":"'[1]HOJA GENERAL DATOS IMPORTADOS'!W493","v":0},{"$f":"'[1]HOJA GENERAL DATOS IMPORTADOS'!X493","v":0},{"$f":"'[1]HOJA GENERAL DATOS IMPORTADOS'!Y493","v":0},{"$f":"'[1]HOJA GENERAL DATOS IMPORTADOS'!Z493","v":0},{"$f":"'[1]HOJA GENERAL DATOS IMPORTADOS'!AA493","v":0},{"$f":"'[1]HOJA GENERAL DATOS IMPORTADOS'!AB493","v":0},{"$f":"'[1]HOJA GENERAL DATOS IMPORTADOS'!AC493","v":0},{"$f":"'[1]HOJA GENERAL DATOS IMPORTADOS'!AD493","v":0},{"$f":"'[1]HOJA GENERAL DATOS IMPORTADOS'!AE493","v":0},{"$f":"'[1]HOJA GENERAL DATOS IMPORTADOS'!AF493","v":0},{"$f":"'[1]HOJA GENERAL DATOS IMPORTADOS'!AG493","v":0},{"$f":"'[1]HOJA GENERAL DATOS IMPORTADOS'!AH493","v":0},{"$f":"'[1]HOJA GENERAL DATOS IMPORTADOS'!AI493","v":0}]
[{"$f":"'[1]HOJA GENERAL DATOS IMPORTADOS'!A494","v":0},{"$f":"'[1]HOJA GENERAL DATOS IMPORTADOS'!B494","v":0},{"$f":"'[1]HOJA GENERAL DATOS IMPORTADOS'!C494","v":0},{"$f":"'[1]HOJA GENERAL DATOS IMPORTADOS'!D494","v":0},{"$f":"'[1]HOJA GENERAL DATOS IMPORTADOS'!E494","v":0},{"$f":"'[1]HOJA GENERAL DATOS IMPORTADOS'!F494","v":0},{"$f":"'[1]HOJA GENERAL DATOS IMPORTADOS'!G494","v":0},{"$f":"'[1]HOJA GENERAL DATOS IMPORTADOS'!H494","v":0},{"$f":"'[1]HOJA GENERAL DATOS IMPORTADOS'!I494","v":0},{"$f":"'[1]HOJA GENERAL DATOS IMPORTADOS'!J494","v":0},{"$f":"'[1]HOJA GENERAL DATOS IMPORTADOS'!K494","v":0},{"$f":"'[1]HOJA GENERAL DATOS IMPORTADOS'!L494","v":0},{"$f":"'[1]HOJA GENERAL DATOS IMPORTADOS'!M494","v":0},{"$f":"'[1]HOJA GENERAL DATOS IMPORTADOS'!N494","v":0},{"$f":"'[1]HOJA GENERAL DATOS IMPORTADOS'!O494","v":0},{"$f":"'[1]HOJA GENERAL DATOS IMPORTADOS'!P494","v":0},{"$f":"'[1]HOJA GENERAL DATOS IMPORTADOS'!Q494","v":0},{"$f":"'[1]HOJA GENERAL DATOS IMPORTADOS'!R494","v":0},{"$f":"'[1]HOJA GENERAL DATOS IMPORTADOS'!S494","v":0},{"$f":"'[1]HOJA GENERAL DATOS IMPORTADOS'!T494","v":0},{"$f":"'[1]HOJA GENERAL DATOS IMPORTADOS'!U494","v":0},{"$f":"'[1]HOJA GENERAL DATOS IMPORTADOS'!V494","v":0},{"$f":"'[1]HOJA GENERAL DATOS IMPORTADOS'!W494","v":0},{"$f":"'[1]HOJA GENERAL DATOS IMPORTADOS'!X494","v":0},{"$f":"'[1]HOJA GENERAL DATOS IMPORTADOS'!Y494","v":0},{"$f":"'[1]HOJA GENERAL DATOS IMPORTADOS'!Z494","v":0},{"$f":"'[1]HOJA GENERAL DATOS IMPORTADOS'!AA494","v":0},{"$f":"'[1]HOJA GENERAL DATOS IMPORTADOS'!AB494","v":0},{"$f":"'[1]HOJA GENERAL DATOS IMPORTADOS'!AC494","v":0},{"$f":"'[1]HOJA GENERAL DATOS IMPORTADOS'!AD494","v":0},{"$f":"'[1]HOJA GENERAL DATOS IMPORTADOS'!AE494","v":0},{"$f":"'[1]HOJA GENERAL DATOS IMPORTADOS'!AF494","v":0},{"$f":"'[1]HOJA GENERAL DATOS IMPORTADOS'!AG494","v":0},{"$f":"'[1]HOJA GENERAL DATOS IMPORTADOS'!AH494","v":0},{"$f":"'[1]HOJA GENERAL DATOS IMPORTADOS'!AI494","v":0}]
[{"$f":"'[1]HOJA GENERAL DATOS IMPORTADOS'!A495","v":0},{"$f":"'[1]HOJA GENERAL DATOS IMPORTADOS'!B495","v":0},{"$f":"'[1]HOJA GENERAL DATOS IMPORTADOS'!C495","v":0},{"$f":"'[1]HOJA GENERAL DATOS IMPORTADOS'!D495","v":0},{"$f":"'[1]HOJA GENERAL DATOS IMPORTADOS'!E495","v":0},{"$f":"'[1]HOJA GENERAL DATOS IMPORTADOS'!F495","v":0},{"$f":"'[1]HOJA GENERAL DATOS IMPORTADOS'!G495","v":0},{"$f":"'[1]HOJA GENERAL DATOS IMPORTADOS'!H495","v":0},{"$f":"'[1]HOJA GENERAL DATOS IMPORTADOS'!I495","v":0},{"$f":"'[1]HOJA GENERAL DATOS IMPORTADOS'!J495","v":0},{"$f":"'[1]HOJA GENERAL DATOS IMPORTADOS'!K495","v":0},{"$f":"'[1]HOJA GENERAL DATOS IMPORTADOS'!L495","v":0},{"$f":"'[1]HOJA GENERAL DATOS IMPORTADOS'!M495","v":0},{"$f":"'[1]HOJA GENERAL DATOS IMPORTADOS'!N495","v":0},{"$f":"'[1]HOJA GENERAL DATOS IMPORTADOS'!O495","v":0},{"$f":"'[1]HOJA GENERAL DATOS IMPORTADOS'!P495","v":0},{"$f":"'[1]HOJA GENERAL DATOS IMPORTADOS'!Q495","v":0},{"$f":"'[1]HOJA GENERAL DATOS IMPORTADOS'!R495","v":0},{"$f":"'[1]HOJA GENERAL DATOS IMPORTADOS'!S495","v":0},{"$f":"'[1]HOJA GENERAL DATOS IMPORTADOS'!T495","v":0},{"$f":"'[1]HOJA GENERAL DATOS IMPORTADOS'!U495","v":0},{"$f":"'[1]HOJA GENERAL DATOS IMPORTADOS'!V495","v":0},{"$f":"'[1]HOJA GENERAL DATOS IMPORTADOS'!W495","v":0},{"$f":"'[1]HOJA GENERAL DATOS IMPORTADOS'!X495","v":0},{"$f":"'[1]HOJA GENERAL DATOS IMPORTADOS'!Y495","v":0},{"$f":"'[1]HOJA GENERAL DATOS IMPORTADOS'!Z495","v":0},{"$f":"'[1]HOJA GENERAL DATOS IMPORTADOS'!AA495","v":0},{"$f":"'[1]HOJA GENERAL DATOS IMPORTADOS'!AB495","v":0},{"$f":"'[1]HOJA GENERAL DATOS IMPORTADOS'!AC495","v":0},{"$f":"'[1]HOJA GENERAL DATOS IMPORTADOS'!AD495","v":0},{"$f":"'[1]HOJA GENERAL DATOS IMPORTADOS'!AE495","v":0},{"$f":"'[1]HOJA GENERAL DATOS IMPORTADOS'!AF495","v":0},{"$f":"'[1]HOJA GENERAL DATOS IMPORTADOS'!AG495","v":0},{"$f":"'[1]HOJA GENERAL DATOS IMPORTADOS'!AH495","v":0},{"$f":"'[1]HOJA GENERAL DATOS IMPORTADOS'!AI495","v":0}]
[{"$f":"'[1]HOJA GENERAL DATOS IMPORTADOS'!A496","v":0},{"$f":"'[1]HOJA GENERAL DATOS IMPORTADOS'!B496","v":0},{"$f":"'[1]HOJA GENERAL DATOS IMPORTADOS'!C496","v":0},{"$f":"'[1]HOJA GENERAL DATOS IMPORTADOS'!D496","v":0},{"$f":"'[1]HOJA GENERAL DATOS IMPORTADOS'!E496","v":0},{"$f":"'[1]HOJA GENERAL DATOS IMPORTADOS'!F496","v":0},{"$f":"'[1]HOJA GENERAL DATOS IMPORTADOS'!G496","v":0},{"$f":"'[1]HOJA GENERAL DATOS IMPORTADOS'!H496","v":0},{"$f":"'[1]HOJA GENERAL DATOS IMPORTADOS'!I496","v":0},{"$f":"'[1]HOJA GENERAL DATOS IMPORTADOS'!J496","v":0},{"$f":"'[1]HOJA GENERAL DATOS IMPORTADOS'!K496","v":0},{"$f":"'[1]HOJA GENERAL DATOS IMPORTADOS'!L496","v":0},{"$f":"'[1]HOJA GENERAL DATOS IMPORTADOS'!M496","v":0},{"$f":"'[1]HOJA GENERAL DATOS IMPORTADOS'!N496","v":0},{"$f":"'[1]HOJA GENERAL DATOS IMPORTADOS'!O496","v":0},{"$f":"'[1]HOJA GENERAL DATOS IMPORTADOS'!P496","v":0},{"$f":"'[1]HOJA GENERAL DATOS IMPORTADOS'!Q496","v":0},{"$f":"'[1]HOJA GENERAL DATOS IMPORTADOS'!R496","v":0},{"$f":"'[1]HOJA GENERAL DATOS IMPORTADOS'!S496","v":0},{"$f":"'[1]HOJA GENERAL DATOS IMPORTADOS'!T496","v":0},{"$f":"'[1]HOJA GENERAL DATOS IMPORTADOS'!U496","v":0},{"$f":"'[1]HOJA GENERAL DATOS IMPORTADOS'!V496","v":0},{"$f":"'[1]HOJA GENERAL DATOS IMPORTADOS'!W496","v":0},{"$f":"'[1]HOJA GENERAL DATOS IMPORTADOS'!X496","v":0},{"$f":"'[1]HOJA GENERAL DATOS IMPORTADOS'!Y496","v":0},{"$f":"'[1]HOJA GENERAL DATOS IMPORTADOS'!Z496","v":0},{"$f":"'[1]HOJA GENERAL DATOS IMPORTADOS'!AA496","v":0},{"$f":"'[1]HOJA GENERAL DATOS IMPORTADOS'!AB496","v":0},{"$f":"'[1]HOJA GENERAL DATOS IMPORTADOS'!AC496","v":0},{"$f":"'[1]HOJA GENERAL DATOS IMPORTADOS'!AD496","v":0},{"$f":"'[1]HOJA GENERAL DATOS IMPORTADOS'!AE496","v":0},{"$f":"'[1]HOJA GENERAL DATOS IMPORTADOS'!AF496","v":0},{"$f":"'[1]HOJA GENERAL DATOS IMPORTADOS'!AG496","v":0},{"$f":"'[1]HOJA GENERAL DATOS IMPORTADOS'!AH496","v":0},{"$f":"'[1]HOJA GENERAL DATOS IMPORTADOS'!AI496","v":0}]
[{"$f":"'[1]HOJA GENERAL DATOS IMPORTADOS'!A497","v":0},{"$f":"'[1]HOJA GENERAL DATOS IMPORTADOS'!B497","v":0},{"$f":"'[1]HOJA GENERAL DATOS IMPORTADOS'!C497","v":0},{"$f":"'[1]HOJA GENERAL DATOS IMPORTADOS'!D497","v":0},{"$f":"'[1]HOJA GENERAL DATOS IMPORTADOS'!E497","v":0},{"$f":"'[1]HOJA GENERAL DATOS IMPORTADOS'!F497","v":0},{"$f":"'[1]HOJA GENERAL DATOS IMPORTADOS'!G497","v":0},{"$f":"'[1]HOJA GENERAL DATOS IMPORTADOS'!H497","v":0},{"$f":"'[1]HOJA GENERAL DATOS IMPORTADOS'!I497","v":0},{"$f":"'[1]HOJA GENERAL DATOS IMPORTADOS'!J497","v":0},{"$f":"'[1]HOJA GENERAL DATOS IMPORTADOS'!K497","v":0},{"$f":"'[1]HOJA GENERAL DATOS IMPORTADOS'!L497","v":0},{"$f":"'[1]HOJA GENERAL DATOS IMPORTADOS'!M497","v":0},{"$f":"'[1]HOJA GENERAL DATOS IMPORTADOS'!N497","v":0},{"$f":"'[1]HOJA GENERAL DATOS IMPORTADOS'!O497","v":0},{"$f":"'[1]HOJA GENERAL DATOS IMPORTADOS'!P497","v":0},{"$f":"'[1]HOJA GENERAL DATOS IMPORTADOS'!Q497","v":0},{"$f":"'[1]HOJA GENERAL DATOS IMPORTADOS'!R497","v":0},{"$f":"'[1]HOJA GENERAL DATOS IMPORTADOS'!S497","v":0},{"$f":"'[1]HOJA GENERAL DATOS IMPORTADOS'!T497","v":0},{"$f":"'[1]HOJA GENERAL DATOS IMPORTADOS'!U497","v":0},{"$f":"'[1]HOJA GENERAL DATOS IMPORTADOS'!V497","v":0},{"$f":"'[1]HOJA GENERAL DATOS IMPORTADOS'!W497","v":0},{"$f":"'[1]HOJA GENERAL DATOS IMPORTADOS'!X497","v":0},{"$f":"'[1]HOJA GENERAL DATOS IMPORTADOS'!Y497","v":0},{"$f":"'[1]HOJA GENERAL DATOS IMPORTADOS'!Z497","v":0},{"$f":"'[1]HOJA GENERAL DATOS IMPORTADOS'!AA497","v":0},{"$f":"'[1]HOJA GENERAL DATOS IMPORTADOS'!AB497","v":0},{"$f":"'[1]HOJA GENERAL DATOS IMPORTADOS'!AC497","v":0},{"$f":"'[1]HOJA GENERAL DATOS IMPORTADOS'!AD497","v":0},{"$f":"'[1]HOJA GENERAL DATOS IMPORTADOS'!AE497","v":0},{"$f":"'[1]HOJA GENERAL DATOS IMPORTADOS'!AF497","v":0},{"$f":"'[1]HOJA GENERAL DATOS IMPORTADOS'!AG497","v":0},{"$f":"'[1]HOJA GENERAL DATOS IMPORTADOS'!AH497","v":0},{"$f":"'[1]HOJA GENERAL DATOS IMPORTADOS'!AI497","v":0}]
[{"$f":"'[1]HOJA GENERAL DATOS IMPORTADOS'!A498","v":0},{"$f":"'[1]HOJA GENERAL DATOS IMPORTADOS'!B498","v":0},{"$f":"'[1]HOJA GENERAL DATOS IMPORTADOS'!C498","v":0},{"$f":"'[1]HOJA GENERAL DATOS IMPORTADOS'!D498","v":0},{"$f":"'[1]HOJA GENERAL DATOS IMPORTADOS'!E498","v":0},{"$f":"'[1]HOJA GENERAL DATOS IMPORTADOS'!F498","v":0},{"$f":"'[1]HOJA GENERAL DATOS IMPORTADOS'!G498","v":0},{"$f":"'[1]HOJA GENERAL DATOS IMPORTADOS'!H498","v":0},{"$f":"'[1]HOJA GENERAL DATOS IMPORTADOS'!I498","v":0},{"$f":"'[1]HOJA GENERAL DATOS IMPORTADOS'!J498","v":0},{"$f":"'[1]HOJA GENERAL DATOS IMPORTADOS'!K498","v":0},{"$f":"'[1]HOJA GENERAL DATOS IMPORTADOS'!L498","v":0},{"$f":"'[1]HOJA GENERAL DATOS IMPORTADOS'!M498","v":0},{"$f":"'[1]HOJA GENERAL DATOS IMPORTADOS'!N498","v":0},{"$f":"'[1]HOJA GENERAL DATOS IMPORTADOS'!O498","v":0},{"$f":"'[1]HOJA GENERAL DATOS IMPORTADOS'!P498","v":0},{"$f":"'[1]HOJA GENERAL DATOS IMPORTADOS'!Q498","v":0},{"$f":"'[1]HOJA GENERAL DATOS IMPORTADOS'!R498","v":0},{"$f":"'[1]HOJA GENERAL DATOS IMPORTADOS'!S498","v":0},{"$f":"'[1]HOJA GENERAL DATOS IMPORTADOS'!T498","v":0},{"$f":"'[1]HOJA GENERAL DATOS IMPORTADOS'!U498","v":0},{"$f":"'[1]HOJA GENERAL DATOS IMPORTADOS'!V498","v":0},{"$f":"'[1]HOJA GENERAL DATOS IMPORTADOS'!W498","v":0},{"$f":"'[1]HOJA GENERAL DATOS IMPORTADOS'!X498","v":0},{"$f":"'[1]HOJA GENERAL DATOS IMPORTADOS'!Y498","v":0},{"$f":"'[1]HOJA GENERAL DATOS IMPORTADOS'!Z498","v":0},{"$f":"'[1]HOJA GENERAL DATOS IMPORTADOS'!AA498","v":0},{"$f":"'[1]HOJA GENERAL DATOS IMPORTADOS'!AB498","v":0},{"$f":"'[1]HOJA GENERAL DATOS IMPORTADOS'!AC498","v":0},{"$f":"'[1]HOJA GENERAL DATOS IMPORTADOS'!AD498","v":0},{"$f":"'[1]HOJA GENERAL DATOS IMPORTADOS'!AE498","v":0},{"$f":"'[1]HOJA GENERAL DATOS IMPORTADOS'!AF498","v":0},{"$f":"'[1]HOJA GENERAL DATOS IMPORTADOS'!AG498","v":0},{"$f":"'[1]HOJA GENERAL DATOS IMPORTADOS'!AH498","v":0},{"$f":"'[1]HOJA GENERAL DATOS IMPORTADOS'!AI498","v":0}]
[{"$f":"'[1]HOJA GENERAL DATOS IMPORTADOS'!A499","v":0},{"$f":"'[1]HOJA GENERAL DATOS IMPORTADOS'!B499","v":0},{"$f":"'[1]HOJA GENERAL DATOS IMPORTADOS'!C499","v":0},{"$f":"'[1]HOJA GENERAL DATOS IMPORTADOS'!D499","v":0},{"$f":"'[1]HOJA GENERAL DATOS IMPORTADOS'!E499","v":0},{"$f":"'[1]HOJA GENERAL DATOS IMPORTADOS'!F499","v":0},{"$f":"'[1]HOJA GENERAL DATOS IMPORTADOS'!G499","v":0},{"$f":"'[1]HOJA GENERAL DATOS IMPORTADOS'!H499","v":0},{"$f":"'[1]HOJA GENERAL DATOS IMPORTADOS'!I499","v":0},{"$f":"'[1]HOJA GENERAL DATOS IMPORTADOS'!J499","v":0},{"$f":"'[1]HOJA GENERAL DATOS IMPORTADOS'!K499","v":0},{"$f":"'[1]HOJA GENERAL DATOS IMPORTADOS'!L499","v":0},{"$f":"'[1]HOJA GENERAL DATOS IMPORTADOS'!M499","v":0},{"$f":"'[1]HOJA GENERAL DATOS IMPORTADOS'!N499","v":0},{"$f":"'[1]HOJA GENERAL DATOS IMPORTADOS'!O499","v":0},{"$f":"'[1]HOJA GENERAL DATOS IMPORTADOS'!P499","v":0},{"$f":"'[1]HOJA GENERAL DATOS IMPORTADOS'!Q499","v":0},{"$f":"'[1]HOJA GENERAL DATOS IMPORTADOS'!R499","v":0},{"$f":"'[1]HOJA GENERAL DATOS IMPORTADOS'!S499","v":0},{"$f":"'[1]HOJA GENERAL DATOS IMPORTADOS'!T499","v":0},{"$f":"'[1]HOJA GENERAL DATOS IMPORTADOS'!U499","v":0},{"$f":"'[1]HOJA GENERAL DATOS IMPORTADOS'!V499","v":0},{"$f":"'[1]HOJA GENERAL DATOS IMPORTADOS'!W499","v":0},{"$f":"'[1]HOJA GENERAL DATOS IMPORTADOS'!X499","v":0},{"$f":"'[1]HOJA GENERAL DATOS IMPORTADOS'!Y499","v":0},{"$f":"'[1]HOJA GENERAL DATOS IMPORTADOS'!Z499","v":0},{"$f":"'[1]HOJA GENERAL DATOS IMPORTADOS'!AA499","v":0},{"$f":"'[1]HOJA GENERAL DATOS IMPORTADOS'!AB499","v":0},{"$f":"'[1]HOJA GENERAL DATOS IMPORTADOS'!AC499","v":0},{"$f":"'[1]HOJA GENERAL DATOS IMPORTADOS'!AD499","v":0},{"$f":"'[1]HOJA GENERAL DATOS IMPORTADOS'!AE499","v":0},{"$f":"'[1]HOJA GENERAL DATOS IMPORTADOS'!AF499","v":0},{"$f":"'[1]HOJA GENERAL DATOS IMPORTADOS'!AG499","v":0},{"$f":"'[1]HOJA GENERAL DATOS IMPORTADOS'!AH499","v":0},{"$f":"'[1]HOJA GENERAL DATOS IMPORTADOS'!AI499","v":0}]
[{"$f":"'[1]HOJA GENERAL DATOS IMPORTADOS'!A500","v":0},{"$f":"'[1]HOJA GENERAL DATOS IMPORTADOS'!B500","v":0},{"$f":"'[1]HOJA GENERAL DATOS IMPORTADOS'!C500","v":0},{"$f":"'[1]HOJA GENERAL DATOS IMPORTADOS'!D500","v":0},{"$f":"'[1]HOJA GENERAL DATOS IMPORTADOS'!E500","v":0},{"$f":"'[1]HOJA GENERAL DATOS IMPORTADOS'!F500","v":0},{"$f":"'[1]HOJA GENERAL DATOS IMPORTADOS'!G500","v":0},{"$f":"'[1]HOJA GENERAL DATOS IMPORTADOS'!H500","v":0},{"$f":"'[1]HOJA GENERAL DATOS IMPORTADOS'!I500","v":0},{"$f":"'[1]HOJA GENERAL DATOS IMPORTADOS'!J500","v":0},{"$f":"'[1]HOJA GENERAL DATOS IMPORTADOS'!K500","v":0},{"$f":"'[1]HOJA GENERAL DATOS IMPORTADOS'!L500","v":0},{"$f":"'[1]HOJA GENERAL DATOS IMPORTADOS'!M500","v":0},{"$f":"'[1]HOJA GENERAL DATOS IMPORTADOS'!N500","v":0},{"$f":"'[1]HOJA GENERAL DATOS IMPORTADOS'!O500","v":0},{"$f":"'[1]HOJA GENERAL DATOS IMPORTADOS'!P500","v":0},{"$f":"'[1]HOJA GENERAL DATOS IMPORTADOS'!Q500","v":0},{"$f":"'[1]HOJA GENERAL DATOS IMPORTADOS'!R500","v":0},{"$f":"'[1]HOJA GENERAL DATOS IMPORTADOS'!S500","v":0},{"$f":"'[1]HOJA GENERAL DATOS IMPORTADOS'!T500","v":0},{"$f":"'[1]HOJA GENERAL DATOS IMPORTADOS'!U500","v":0},{"$f":"'[1]HOJA GENERAL DATOS IMPORTADOS'!V500","v":0},{"$f":"'[1]HOJA GENERAL DATOS IMPORTADOS'!W500","v":0},{"$f":"'[1]HOJA GENERAL DATOS IMPORTADOS'!X500","v":0},{"$f":"'[1]HOJA GENERAL DATOS IMPORTADOS'!Y500","v":0},{"$f":"'[1]HOJA GENERAL DATOS IMPORTADOS'!Z500","v":0},{"$f":"'[1]HOJA GENERAL DATOS IMPORTADOS'!AA500","v":0},{"$f":"'[1]HOJA GENERAL DATOS IMPORTADOS'!AB500","v":0},{"$f":"'[1]HOJA GENERAL DATOS IMPORTADOS'!AC500","v":0},{"$f":"'[1]HOJA GENERAL DATOS IMPORTADOS'!AD500","v":0},{"$f":"'[1]HOJA GENERAL DATOS IMPORTADOS'!AE500","v":0},{"$f":"'[1]HOJA GENERAL DATOS IMPORTADOS'!AF500","v":0},{"$f":"'[1]HOJA GENERAL DATOS IMPORTADOS'!AG500","v":0},{"$f":"'[1]HOJA GENERAL DATOS IMPORTADOS'!AH500","v":0},{"$f":"'[1]HOJA GENERAL DATOS IMPORTADOS'!AI500","v":0}]

{"sheet":"ENLACES DATOS","index":2,"n_rows":1599,"n_cols":24,"rows_kept":1599,"cut":false,"hidden":false,"merged":[[285,2,286,2],[281,9,282,9],[278,12,279,12]]}
["SIMULACION PRODUCCION EQ Y %EQ POR ECUACIONES",null,null,null,null,"CAPRINO",null,"FLORIDA","INVIERNO",{"$f":"#REF!","v":{"$error":"#REF!"}},{"$f":"#REF!","v":{"$error":"#REF!"}},{"$f":"#REF!","v":{"$error":"#REF!"}},{"$f":"CONCATENATE(J1,K1,L1)","v":{"$error":"#REF!"}}]
[null,null,null,"REFERENCIA",null,"OVINO",null,"MALAGUEÑA","TEMPLADO"]
[null,null,null,{"$f":"CONCATENATE(A3,B3,C3)","v":""},null,null,null,"MURCIANA","VERANO"]
[null,null,null,"",null,null,null,"ASSAF"]
[null,null,null,"",null,null,null,"LACAUNE"]
[null,null,null,"",null,null,null,"MANCHEGA"]
[null,null,null,"",null,null,null,"SAANEN"]
[null,null,null,"",null,null,null,"ALPINA"]
[null,null,null,""]
[null,null,null,""]
[null,null,null,""]
[null,null,null,""]
[null,null,null,""]
[null,null,null,""]
[null,null,null,""]
[null,null,null,""]
[null,null,null,""]
[null,null,null,""]
[null,null,null,""]
[null,null,null,"",1,2,null,3,4,5,6]
[null,null,null,null,"REFERENCIA","A",null,"B","FC RAZA","FC EPOCA","R2","LITROS","PROD EQ","EQ(%)","EQ(%)","PROD EQ"]
[null,null,null,"CALCULO PROD EQ ESPERADO",{"$f":"M1","v":{"$error":"#REF!"}},{"$f":"VLOOKUP($E$22,ECUACIONES!$A$3:$F$20,F20,FALSE)","v":{"$error":"#REF!"}},null,{"$f":"VLOOKUP($E$22,ECUACIONES!$A$3:$F$20,H20,FALSE)","v":{"$error":"#REF!"}},{"$f":"VLOOKUP($E$22,ECUACIONES!$A$3:$F$20,I20,FALSE)","v":{"$error":"#REF!"}},{"$f":"VLOOKUP($E$22,ECUACIONES!$A$3:$F$20,J20,FALSE)","v":{"$error":"#REF!"}},{"$f":"VLOOKUP($E$22,ECUACIONES!$A$3:$F$20,K20,FALSE)","v":{"$error":"#REF!"}},{"$f":"IF(#REF!=\"\",\"\",#REF!)","v":{"$error":"#REF!"}},{"$f":"IF(L22=\"\",\"\",((F22*L22)+H22)*I22*J22)","v":{"$error":"#REF!"}},{"$f":"IF(L22=\"\",\"\",(M22/L22)/10)","v":{"$error":"#REF!"}},{"$f":"IF(#REF!=\"\",\"\",#REF!)","v":{"$error":"#REF!"}},{"$f":"IF(O22=\"\",\"\",M22/(O22*10))","v":{"$error":"#REF!"}}]
[]
[]
["SIMULACION PRODUCCION EQ Y %EQ POR BBDD"]
[{"$f":"'HOJA DE DATOS'!A2","v":0},{"$f":"'HOJA DE DATOS'!B2","v":0},{"$f":"'HOJA DE DATOS'!C2","v":0},"REFERENCIA",{"$f":"'HOJA DE DATOS'!D2","v":0},{"$f":"'HOJA DE DATOS'!E2","v":0},{"$f":"'HOJA DE DATOS'!F2","v":0},{"$f":"'HOJA DE DATOS'!G2","v":0},{"$f":"'HOJA DE DATOS'!H2","v":0},null,null,null,"GRAFICO","grEQ/dia"]
[{"$f":"'HOJA DE DATOS'!A3","v":0},{"$f":"'HOJA DE DATOS'!B3","v":0},{"$f":"'HOJA DE DATOS'!C3","v":0},{"$f":"CONCATENATE(A27,B27,C27)","v":"000"},{"$f":"'HOJA DE DATOS'!D3","v":0},{"$f":"'HOJA DE DATOS'!E3","v":0},{"$f":"'HOJA DE DATOS'!F3","v":0},{"$f":"'HOJA DE DATOS'!G3","v":0},{"$f":"'HOJA DE DATOS'!H3","v":0},null,null,null,"REAL",{"$f":"IF(#REF!=\"\",\"\",'ENLACES DATOS'!K54)","v":{"$error":"#REF!"}}]
[{"$f":"'HOJA DE DATOS'!A4","v":0},{"$f":"'HOJA DE DATOS'!B4","v":0},{"$f":"'HOJA DE DATOS'!C4","v":0},{"$f":"CONCATENATE(A28,B28,C28)","v":"000"},{"$f":"'HOJA DE DATOS'!D4","v":0},{"$f":"'HOJA DE DATOS'!E4","v":0},{"$f":"'HOJA DE DATOS'!F4","v":0},{"$f":"'HOJA DE DATOS'!G4","v":0},{"$f":"'HOJA DE DATOS'!H4","v":0},null,null,null,"OBTENIDO",{"$f":"IF(#REF!=\"\",\"\",'ENLACES DATOS'!H54)","v":{"$error":"#REF!"}}]
[{"$f":"'HOJA DE DATOS'!A5","v":0},{"$f":"'HOJA DE DATOS'!B5","v":0},{"$f":"'HOJA DE DATOS'!C5","v":0},"000",{"$f":"'HOJA DE DATOS'!D5","v":0},{"$f":"'HOJA DE DATOS'!E5","v":0},{"$f":"'HOJA DE DATOS'!F5","v":0},{"$f":"'HOJA DE DATOS'!G5","v":0},{"$f":"'HOJA DE DATOS'!H5","v":0},null,null,null,"CALCULADO",{"$f":"IF(#REF!=\"\",\"\",'ENLACES DATOS'!M22)","v":{"$error":"#REF!"}}]
[{"$f":"'HOJA DE DATOS'!A6","v":0},{"$f":"'HOJA DE DATOS'!B6","v":0},{"$f":"'HOJA DE DATOS'!C6","v":0},"000",{"$f":"'HOJA DE DATOS'!D6","v":0},{"$f":"'HOJA DE DATOS'!E6","v":0},{"$f":"'HOJA DE DATOS'!F6","v":0},{"$f":"'HOJA DE DATOS'!G6","v":0},{"$f":"'HOJA DE DATOS'!H6","v":0}]
[{"$f":"'HOJA DE DATOS'!A7","v":0},{"$f":"'HOJA DE DATOS'!B7","v":0},{"$f":"'HOJA DE DATOS'!C7","v":0},"000",{"$f":"'HOJA DE DATOS'!D7","v":0},{"$f":"'HOJA DE DATOS'!E7","v":0},{"$f":"'HOJA DE DATOS'!F7","v":0},{"$f":"'HOJA DE DATOS'!G7","v":0},{"$f":"'HOJA DE DATOS'!H7","v":0}]
[{"$f":"'HOJA DE DATOS'!A8","v":0},{"$f":"'HOJA DE DATOS'!B8","v":0},{"$f":"'HOJA DE DATOS'!C8","v":0},"000",{"$f":"'HOJA DE DATOS'!D8","v":0},{"$f":"'HOJA DE DATOS'!E8","v":0},{"$f":"'HOJA DE DATOS'!F8","v":0},{"$f":"'HOJA DE DATOS'!G8","v":0},{"$f":"'HOJA DE DATOS'!H8","v":0}]
[{"$f":"'HOJA DE DATOS'!A9","v":0},{"$f":"'HOJA DE DATOS'!B9","v":0},{"$f":"'HOJA DE DATOS'!C9","v":0},"000",{"$f":"'HOJA DE DATOS'!D9","v":0},{"$f":"'HOJA DE DATOS'!E9","v":0},{"$f":"'HOJA DE DATOS'!F9","v":0},{"$f":"'HOJA DE DATOS'!G9","v":0},{"$f":"'HOJA DE DATOS'!H9","v":0}]
[{"$f":"'HOJA DE DATOS'!A10","v":0},{"$f":"'HOJA DE DATOS'!B10","v":0},{"$f":"'HOJA DE DATOS'!C10","v":0},"000",{"$f":"'HOJA DE DATOS'!D10","v":0},{"$f":"'HOJA DE DATOS'!E10","v":0},{"$f":"'HOJA DE DATOS'!F10","v":0},{"$f":"'HOJA DE DATOS'!G10","v":0},{"$f":"'HOJA DE DATOS'!H10","v":0}]
[{"$f":"'HOJA DE DATOS'!A11","v":0},{"$f":"'HOJA DE DATOS'!B11","v":0},{"$f":"'HOJA DE DATOS'!C11","v":0},"000",{"$f":"'HOJA DE DATOS'!D11","v":0},{"$f":"'HOJA DE DATOS'!E11","v":0},{"$f":"'HOJA DE DATOS'!F11","v":0},{"$f":"'HOJA DE DATOS'!G11","v":0},{"$f":"'HOJA DE DATOS'!H11","v":0}]
[{"$f":"'HOJA DE DATOS'!A12","v":0},{"$f":"'HOJA DE DATOS'!B12","v":0},{"$f":"'HOJA DE DATOS'!C12","v":0},"000",{"$f":"'HOJA DE DATOS'!D12","v":0},{"$f":"'HOJA DE DATOS'!E12","v":0},{"$f":"'HOJA DE DATOS'!F12","v":0},{"$f":"'HOJA DE DATOS'!G12","v":0},{"$f":"'HOJA DE DATOS'!H12","v":0}]
[{"$f":"'HOJA DE DATOS'!A13","v":0},{"$f":"'HOJA DE DATOS'!B13","v":0},{"$f":"'HOJA DE DATOS'!C13","v":0},"000",{"$f":"'HOJA DE DATOS'!D13","v":0},{"$f":"'HOJA DE DATOS'!E13","v":0},{"$f":"'HOJA DE DATOS'!F13","v":0},{"$f":"'HOJA DE DATOS'!G13","v":0},{"$f":"'HOJA DE DATOS'!H13","v":0}]
[{"$f":"'HOJA DE DATOS'!A14","v":0},{"$f":"'HOJA DE DATOS'!B14","v":0},{"$f":"'HOJA DE DATOS'!C14","v":0},"000",{"$f":"'HOJA DE DATOS'!D14","v":0},{"$f":"'HOJA DE DATOS'!E14","v":0},{"$f":"'HOJA DE DATOS'!F14","v":0},{"$f":"'HOJA DE DATOS'!G14","v":0},{"$f":"'HOJA DE DATOS'!H14","v":0}]
[{"$f":"'HOJA DE DATOS'!A15","v":0},{"$f":"'HOJA DE DATOS'!B15","v":0},{"$f":"'HOJA DE DATOS'!C15","v":0},"000",{"$f":"'HOJA DE DATOS'!D15","v":0},{"$f":"'HOJA DE DATOS'!E15","v":0},{"$f":"'HOJA DE DATOS'!F15","v":0},{"$f":"'HOJA DE DATOS'!G15","v":0},{"$f":"'HOJA DE DATOS'!H15","v":0}]
[{"$f":"'HOJA DE DATOS'!A16","v":0},{"$f":"'HOJA DE DATOS'!B16","v":0},{"$f":"'HOJA DE DATOS'!C16","v":0},"000",{"$f":"'HOJA DE DATOS'!D16","v":0},{"$f":"'HOJA DE DATOS'!E16","v":0},{"$f":"'HOJA DE DATOS'!F16","v":0},{"$f":"'HOJA DE DATOS'!G16","v":0},{"$f":"'HOJA DE DATOS'!H16","v":0}]
[{"$f":"'HOJA DE DATOS'!A17","v":0},{"$f":"'HOJA DE DATOS'!B17","v":0},{"$f":"'HOJA DE DATOS'!C17","v":0},"000",{"$f":"'HOJA DE DATOS'!D17","v":0},{"$f":"'HOJA DE DATOS'!E17","v":0},{"$f":"'HOJA DE DATOS'!F17","v":0},{"$f":"'HOJA DE DATOS'!G17","v":0},{"$f":"'HOJA DE DATOS'!H17","v":0}]
[{"$f":"'HOJA DE DATOS'!A18","v":0},{"$f":"'HOJA DE DATOS'!B18","v":0},{"$f":"'HOJA DE DATOS'!C18","v":0},"000",{"$f":"'HOJA DE DATOS'!D18","v":0},{"$f":"'HOJA DE DATOS'!E18","v":0},{"$f":"'HOJA DE DATOS'!F18","v":0},{"$f":"'HOJA DE DATOS'!G18","v":0},{"$f":"'HOJA DE DATOS'!H18","v":0}]
[{"$f":"'HOJA DE DATOS'!A19","v":0},{"$f":"'HOJA DE DATOS'!B19","v":0},{"$f":"'HOJA DE DATOS'!C19","v":0},"000",{"$f":"'HOJA DE DATOS'!D19","v":0},{"$f":"'HOJA DE DATOS'!E19","v":0},{"$f":"'HOJA DE DATOS'!F19","v":0},{"$f":"'HOJA DE DATOS'!G19","v":0},{"$f":"'HOJA DE DATOS'!H19","v":0}]
[{"$f":"'HOJA DE DATOS'!A20","v":0},{"$f":"'HOJA DE DATOS'!B20","v":0},{"$f":"'HOJA DE DATOS'!C20","v":0},"000",{"$f":"'HOJA DE DATOS'!D20","v":0},{"$f":"'HOJA DE DATOS'!E20","v":0},{"$f":"'HOJA DE DATOS'!F20","v":0},{"$f":"'HOJA DE DATOS'!G20","v":0},{"$f":"'HOJA DE DATOS'!H20","v":0}]
[{"$f":"'HOJA DE DATOS'!A21","v":0},{"$f":"'HOJA DE DATOS'!B21","v":0},{"$f":"'HOJA DE DATOS'!C21","v":0},"000",{"$f":"'HOJA DE DATOS'!D21","v":0},{"$f":"'HOJA DE DATOS'!E21","v":0},{"$f":"'HOJA DE DATOS'!F21","v":0},{"$f":"'HOJA DE DATOS'!G21","v":0},{"$f":"'HOJA DE DATOS'!H21","v":0}]
[{"$f":"'HOJA DE DATOS'!A22","v":0},{"$f":"'HOJA DE DATOS'!B22","v":0},{"$f":"'HOJA DE DATOS'!C22","v":0},"000",{"$f":"'HOJA DE DATOS'!D22","v":0},{"$f":"'HOJA DE DATOS'!E22","v":0},{"$f":"'HOJA DE DATOS'!F22","v":0},{"$f":"'HOJA DE DATOS'!G22","v":0},{"$f":"'HOJA DE DATOS'!H22","v":0}]
[{"$f":"'HOJA DE DATOS'!A23","v":"ESPECIE"},{"$f":"'HOJA DE DATOS'!B23","v":"MES CONTROL"},{"$f":"'HOJA DE DATOS'!C23","v":"PromedioDeANIMALES  EN ORDEÑO"},"ESPECIEMES CONTROLPromedioDeANIMALES  EN ORDEÑO",{"$f":"'HOJA DE DATOS'!D23","v":"PromedioDeLITROS TOTAL MES"},{"$f":"'HOJA DE DATOS'!E23","v":"PromedioDeGRAMOS GRASA"},{"$f":"'HOJA DE DATOS'!F23","v":"PromedioDeGRAMOS PROTEINA"},{"$f":"'HOJA DE DATOS'!G23","v":"LITROS/ANIMAL DIA"},{"$f":"'HOJA DE DATOS'!H23","v":"EQ"}]
[{"$f":"'HOJA DE DATOS'!A24","v":"CAPRINO"},{"$f":"'HOJA DE DATOS'!B24","v":1},{"$f":"'HOJA DE DATOS'!C24","v":296.30303030303003},"CAPRINO1296.30303030303",{"$f":"'HOJA DE DATOS'!D24","v":16367.529411764701},{"$f":"'HOJA DE DATOS'!E24","v":54.735294117647101},{"$f":"'HOJA DE DATOS'!F24","v":37.147058823529399},{"$f":"'HOJA DE DATOS'!G24","v":1.8413052109778301},{"$f":"'HOJA DE DATOS'!H24","v":9.1882352941176499}]
[{"$f":"'HOJA DE DATOS'!A25","v":"CAPRINO"},{"$f":"'HOJA DE DATOS'!B25","v":2},{"$f":"'HOJA DE DATOS'!C25","v":316.59259259259301},"CAPRINO2316.592592592593",{"$f":"'HOJA DE DATOS'!D25","v":15683.25},{"$f":"'HOJA DE DATOS'!E25","v":53.642857142857103},{"$f":"'HOJA DE DATOS'!F25","v":37.321428571428598},{"$f":"'HOJA DE DATOS'!G25","v":1.6512546794571801},{"$f":"'HOJA DE DATOS'!H25","v":9.0964285714285698}]
[{"$f":"'HOJA DE DATOS'!A26","v":"CAPRINO"},{"$f":"'HOJA DE DATOS'!B26","v":3},{"$f":"'HOJA DE DATOS'!C26","v":332.96},"CAPRINO3332.96",{"$f":"'HOJA DE DATOS'!D26","v":18221.2},{"$f":"'HOJA DE DATOS'!E26","v":53.2083333333333},{"$f":"'HOJA DE DATOS'!F26","v":37.1666666666667},{"$f":"'HOJA DE DATOS'!G26","v":1.8241630626301499},{"$f":"'HOJA DE DATOS'!H26","v":9.0374999999999996}]
[]
[null,null,null,1,2,3,4,5,6]
[null,"CALCULO PROD EQ OBTENIDO",null,"REFERENCIA","CuentaDeNºREGISTRO","PromedioDeLECHE/ANIMALDIA","PromedioDe%EQ","PromedioDegrEQ/ANIMALDIA","DesvEstDegrEQ/ANIMALDIA","DesvST %EQ","PROD. REAL EQ"]
[null,null,null,{"$f":"M1","v":{"$error":"#REF!"}},{"$f":"VLOOKUP($D$54,$D$27:$I$50,E52,FALSE)","v":{"$error":"#REF!"}},{"$f":"VLOOKUP($D$54,$D$27:$I$50,F52,FALSE)","v":{"$error":"#REF!"}},{"$f":"VLOOKUP($D$54,$D$27:$I$50,G52,FALSE)","v":{"$error":"#REF!"}},{"$f":"VLOOKUP($D$54,$D$27:$I$50,H52,FALSE)","v":{"$error":"#REF!"}},{"$f":"VLOOKUP($D$54,$D$27:$I$50,I52,FALSE)","v":{"$error":"#REF!"}},{"$f":"(I54/F54)/10","v":{"$error":"#REF!"}},{"$f":"(#REF!*#REF!)*10","v":{"$error":"#REF!"}}]
[]
[]
["EVOLUCION PRODUCCION POR MESES BBDD (ESPECIES)",null,null,null,null,null,null,"GRAFICOS",null,null,null,null,null,null,null,null,null,null,{"$f":"IF(#REF!=\"\",\"\",#REF!)","v":{"$error":"#REF!"}}]
[null,null,null,"PROD LECHE","%EQ",null,null,"MES","LITROS/DIA","EQ","%SECOS","%PREPARTO","%ORDEÑO","% ABORTOS","% BAJAS + ELIMINACION","% MAMITIS","PARTOS/ANIMAL",null,{"$f":"IF(S57=\"\",\"\",HLOOKUP($S$57,$N$58:$P$70,H59,FALSE))","v":{"$error":"#REF!"}}]
[{"$f":"'HOJA DE DATOS'!A24","v":"CAPRINO"},{"$f":"'HOJA DE DATOS'!B24","v":1},{"$f":"CONCATENATE(,A59,B59)","v":"CAPRINO1"},{"$f":"'HOJA DE DATOS'!G24","v":1.8413052109778301},{"$f":"'HOJA DE DATOS'!H24","v":9.1882352941176499},null,null,1,{"$f":"IF($A$84=\"CAPRINO\",D59,IF($A$84=\"OVINO\",D71,\"\"))","v":{"$error":"#REF!"}},{"$f":"IF($A$84=\"CAPRINO\",E59,IF($A$84=\"OVINO\",E71,\"\"))","v":{"$error":"#REF!"}},{"$f":"IF($A$84=\"CAPRINO\",'HOJA DE DATOS'!G58,IF($A$84=\"OVINO\",'HOJA DE DATOS'!G70,\"\"))","v":{"$error":"#REF!"}},{"$f":"IF($A$84=\"CAPRINO\",'HOJA DE DATOS'!H58,IF($A$84=\"OVINO\",'HOJA DE DATOS'!H70,\"\"))","v":{"$error":"#REF!"}},{"$f":"IF($A$84=\"CAPRINO\",'HOJA DE DATOS'!I58,IF($A$84=\"OVINO\",'HOJA DE DATOS'!I70,\"\"))","v":{"$error":"#REF!"}},{"$f":"IF($A$84=\"CAPRINO\",'HOJA DE DATOS'!M92,IF($A$84=\"OVINO\",'HOJA DE DATOS'!M104,\"\"))","v":{"$error":"#REF!"}},{"$f":"IF($A$84=\"CAPRINO\",'HOJA DE DATOS'!N92,IF($A$84=\"OVINO\",'HOJA DE DATOS'!N104,\"\"))","v":{"$error":"#REF!"}},{"$f":"IF($A$84=\"CAPRINO\",'HOJA DE DATOS'!O92,IF($A$84=\"OVINO\",'HOJA DE DATOS'!O104,\"\"))","v":{"$error":"#REF!"}},{"$f":"IF($A$84=\"CAPRINO\",'HOJA DE DATOS'!L92,IF($A$84=\"OVINO\",'HOJA DE DATOS'!L104,\"\"))","v":{"$error":"#REF!"}},null,{"$f":"IF(S58=\"\",\"\",HLOOKUP($S$57,$N$58:$P$70,H60,FALSE))","v":{"$error":"#REF!"}}]
[{"$f":"'HOJA DE DATOS'!A25","v":"CAPRINO"},{"$f":"'HOJA DE DATOS'!B25","v":2},{"$f":"CONCATENATE(,A60,B60)","v":"CAPRINO2"},{"$f":"'HOJA DE DATOS'!G25","v":1.6512546794571801},{"$f":"'HOJA DE DATOS'!H25","v":9.0964285714285698},null,null,2,{"$f":"IF($A$84=\"CAPRINO\",D60,IF($A$84=\"OVINO\",D72,\"\"))","v":{"$error":"#REF!"}},{"$f":"IF($A$84=\"CAPRINO\",E60,IF($A$84=\"OVINO\",E72,\"\"))","v":{"$error":"#REF!"}},{"$f":"IF($A$84=\"CAPRINO\",'HOJA DE DATOS'!G59,IF($A$84=\"OVINO\",'HOJA DE DATOS'!G71,\"\"))","v":{"$error":"#REF!"}},{"$f":"IF($A$84=\"CAPRINO\",'HOJA DE DATOS'!H59,IF($A$84=\"OVINO\",'HOJA DE DATOS'!H71,\"\"))","v":{"$error":"#REF!"}},{"$f":"IF($A$84=\"CAPRINO\",'HOJA DE DATOS'!I59,IF($A$84=\"OVINO\",'HOJA DE DATOS'!I71,\"\"))","v":{"$error":"#REF!"}},{"$f":"IF($A$84=\"CAPRINO\",'HOJA DE DATOS'!M93,IF($A$84=\"OVINO\",'HOJA DE DATOS'!M105,\"\"))","v":{"$error":"#REF!"}},{"$f":"IF($A$84=\"CAPRINO\",'HOJA DE DATOS'!N93,IF($A$84=\"OVINO\",'HOJA DE DATOS'!N105,\"\"))","v":{"$error":"#REF!"}},{"$f":"IF($A$84=\"CAPRINO\",'HOJA DE DATOS'!O93,IF($A$84=\"OVINO\",'HOJA DE DATOS'!O105,\"\"))","v":{"$error":"#REF!"}},{"$f":"IF($A$84=\"CAPRINO\",'HOJA DE DATOS'!L93,IF($A$84=\"OVINO\",'HOJA DE DATOS'!L105,\"\"))","v":{"$error":"#REF!"}},null,{"$error":"#REF!"}]
[{"$f":"'HOJA DE DATOS'!A26","v":"CAPRINO"},{"$f":"'HOJA DE DATOS'!B26","v":3},"CAPRINO3",{"$f":"'HOJA DE DATOS'!G26","v":1.8241630626301499},{"$f":"'HOJA DE DATOS'!H26","v":9.0374999999999996},null,null,3,{"$error":"#REF!"},{"$error":"#REF!"},{"$f":"IF($A$84=\"CAPRINO\",'HOJA DE DATOS'!G60,IF($A$84=\"OVINO\",'HOJA DE DATOS'!G72,\"\"))","v":{"$error":"#REF!"}},{"$f":"IF($A$84=\"CAPRINO\",'HOJA DE DATOS'!H60,IF($A$84=\"OVINO\",'HOJA DE DATOS'!H72,\"\"))","v":{"$error":"#REF!"}},{"$f":"IF($A$84=\"CAPRINO\",'HOJA DE DATOS'!I60,IF($A$84=\"OVINO\",'HOJA DE DATOS'!I72,\"\"))","v":{"$error":"#REF!"}},{"$f":"IF($A$84=\"CAPRINO\",'HOJA DE DATOS'!M94,IF($A$84=\"OVINO\",'HOJA DE DATOS'!M106,\"\"))","v":{"$error":"#REF!"}},{"$f":"IF($A$84=\"CAPRINO\",'HOJA DE DATOS'!N94,IF($A$84=\"OVINO\",'HOJA DE DATOS'!N106,\"\"))","v":{"$error":"#REF!"}},{"$f":"IF($A$84=\"CAPRINO\",'HOJA DE DATOS'!O94,IF($A$84=\"OVINO\",'HOJA DE DATOS'!O106,\"\"))","v":{"$error":"#REF!"}},{"$f":"IF($A$84=\"CAPRINO\",'HOJA DE DATOS'!L94,IF($A$84=\"OVINO\",'HOJA DE DATOS'!L106,\"\"))","v":{"$error":"#REF!"}},null,{"$error":"#REF!"}]
[{"$f":"'HOJA DE DATOS'!A27","v":"CAPRINO"},{"$f":"'HOJA DE DATOS'!B27","v":4},"CAPRINO4",{"$f":"'HOJA DE DATOS'!G27","v":1.9669876800277599},{"$f":"'HOJA DE DATOS'!H27","v":8.62916666666667},null,null,4,{"$error":"#REF!"},{"$error":"#REF!"},{"$f":"IF($A$84=\"CAPRINO\",'HOJA DE DATOS'!G61,IF($A$84=\"OVINO\",'HOJA DE DATOS'!G73,\"\"))","v":{"$error":"#REF!"}},{"$f":"IF($A$84=\"CAPRINO\",'HOJA DE DATOS'!H61,IF($A$84=\"OVINO\",'HOJA DE DATOS'!H73,\"\"))","v":{"$error":"#REF!"}},{"$f":"IF($A$84=\"CAPRINO\",'HOJA DE DATOS'!I61,IF($A$84=\"OVINO\",'HOJA DE DATOS'!I73,\"\"))","v":{"$error":"#REF!"}},{"$f":"IF($A$84=\"CAPRINO\",'HOJA DE DATOS'!M95,IF($A$84=\"OVINO\",'HOJA DE DATOS'!M107,\"\"))","v":{"$error":"#REF!"}},{"$f":"IF($A$84=\"CAPRINO\",'HOJA DE DATOS'!N95,IF($A$84=\"OVINO\",'HOJA DE DATOS'!N107,\"\"))","v":{"$error":"#REF!"}},{"$f":"IF($A$84=\"CAPRINO\",'HOJA DE DATOS'!O95,IF($A$84=\"OVINO\",'HOJA DE DATOS'!O107,\"\"))","v":{"$error":"#REF!"}},{"$f":"IF($A$84=\"CAPRINO\",'HOJA DE DATOS'!L95,IF($A$84=\"OVINO\",'HOJA DE DATOS'!L107,\"\"))","v":{"$error":"#REF!"}},null,{"$error":"#REF!"}]
[{"$f":"'HOJA DE DATOS'!A28","v":"CAPRINO"},{"$f":"'HOJA DE DATOS'!B28","v":5},"CAPRINO5",{"$f":"'HOJA DE DATOS'!G28","v":1.96010477351759},{"$f":"'HOJA DE DATOS'!H28","v":8.4681818181818205},null,null,5,{"$error":"#REF!"},{"$error":"#REF!"},{"$f":"IF($A$84=\"CAPRINO\",'HOJA DE DATOS'!G62,IF($A$84=\"OVINO\",'HOJA DE DATOS'!G74,\"\"))","v":{"$error":"#REF!"}},{"$f":"IF($A$84=\"CAPRINO\",'HOJA DE DATOS'!H62,IF($A$84=\"OVINO\",'HOJA DE DATOS'!H74,\"\"))","v":{"$error":"#REF!"}},{"$f":"IF($A$84=\"CAPRINO\",'HOJA DE DATOS'!I62,IF($A$84=\"OVINO\",'HOJA DE DATOS'!I74,\"\"))","v":{"$error":"#REF!"}},{"$f":"IF($A$84=\"CAPRINO\",'HOJA DE DATOS'!M96,IF($A$84=\"OVINO\",'HOJA DE DATOS'!M108,\"\"))","v":{"$error":"#REF!"}},{"$f":"IF($A$84=\"CAPRINO\",'HOJA DE DATOS'!N96,IF($A$84=\"OVINO\",'HOJA DE DATOS'!N108,\"\"))","v":{"$error":"#REF!"}},{"$f":"IF($A$84=\"CAPRINO\",'HOJA DE DATOS'!O96,IF($A$84=\"OVINO\",'HOJA DE DATOS'!O108,\"\"))","v":{"$error":"#REF!"}},{"$f":"IF($A$84=\"CAPRINO\",'HOJA DE DATOS'!L96,IF($A$84=\"OVINO\",'HOJA DE DATOS'!L108,\"\"))","v":{"$error":"#REF!"}},null,{"$error":"#REF!"}]
[{"$f":"'HOJA DE DATOS'!A29","v":"CAPRINO"},{"$f":"'HOJA DE DATOS'!B29","v":6},"CAPRINO6",{"$f":"'HOJA DE DATOS'!G29","v":1.8540404040403999},{"$f":"'HOJA DE DATOS'!H29","v":8.2571428571428598},null,null,6,{"$error":"#REF!"},{"$error":"#REF!"},{"$f":"IF($A$84=\"CAPRINO\",'HOJA DE DATOS'!G63,IF($A$84=\"OVINO\",'HOJA DE DATOS'!G75,\"\"))","v":{"$error":"#REF!"}},{"$f":"IF($A$84=\"CAPRINO\",'HOJA DE DATOS'!H63,IF($A$84=\"OVINO\",'HOJA DE DATOS'!H75,\"\"))","v":{"$error":"#REF!"}},{"$f":"IF($A$84=\"CAPRINO\",'HOJA DE DATOS'!I63,IF($A$84=\"OVINO\",'HOJA DE DATOS'!I75,\"\"))","v":{"$error":"#REF!"}},{"$f":"IF($A$84=\"CAPRINO\",'HOJA DE DATOS'!M97,IF($A$84=\"OVINO\",'HOJA DE DATOS'!M109,\"\"))","v":{"$error":"#REF!"}},{"$f":"IF($A$84=\"CAPRINO\",'HOJA DE DATOS'!N97,IF($A$84=\"OVINO\",'HOJA DE DATOS'!N109,\"\"))","v":{"$error":"#REF!"}},{"$f":"IF($A$84=\"CAPRINO\",'HOJA DE DATOS'!O97,IF($A$84=\"OVINO\",'HOJA DE DATOS'!O109,\"\"))","v":{"$error":"#REF!"}},{"$f":"IF($A$84=\"CAPRINO\",'HOJA DE DATOS'!L97,IF($A$84=\"OVINO\",'HOJA DE DATOS'!L109,\"\"))","v":{"$error":"#REF!"}},null,{"$error":"#REF!"}]
[{"$f":"'HOJA DE DATOS'!A30","v":"CAPRINO"},{"$f":"'HOJA DE DATOS'!B30","v":7},"CAPRINO7",{"$f":"'HOJA DE DATOS'!G30","v":1.88471740948739},{"$f":"'HOJA DE DATOS'!H30","v":8.2363636363636399},null,null,7,{"$error":"#REF!"},{"$error":"#REF!"},{"$f":"IF($A$84=\"CAPRINO\",'HOJA DE DATOS'!G64,IF($A$84=\"OVINO\",'HOJA DE DATOS'!G76,\"\"))","v":{"$error":"#REF!"}},{"$f":"IF($A$84=\"CAPRINO\",'HOJA DE DATOS'!H64,IF($A$84=\"OVINO\",'HOJA DE DATOS'!H76,\"\"))","v":{"$error":"#REF!"}},{"$f":"IF($A$84=\"CAPRINO\",'HOJA DE DATOS'!I64,IF($A$84=\"OVINO\",'HOJA DE DATOS'!I76,\"\"))","v":{"$error":"#REF!"}},{"$f":"IF($A$84=\"CAPRINO\",'HOJA DE DATOS'!M98,IF($A$84=\"OVINO\",'HOJA DE DATOS'!M110,\"\"))","v":{"$error":"#REF!"}},{"$f":"IF($A$84=\"CAPRINO\",'HOJA DE DATOS'!N98,IF($A$84=\"OVINO\",'HOJA DE DATOS'!N110,\"\"))","v":{"$error":"#REF!"}},{"$f":"IF($A$84=\"CAPRINO\",'HOJA DE DATOS'!O98,IF($A$84=\"OVINO\",'HOJA DE DATOS'!O110,\"\"))","v":{"$error":"#REF!"}},{"$f":"IF($A$84=\"CAPRINO\",'HOJA DE DATOS'!L98,IF($A$84=\"OVINO\",'HOJA DE DATOS'!L110,\"\"))","v":{"$error":"#REF!"}},null,{"$error":"#REF!"}]
[{"$f":"'HOJA DE DATOS'!A31","v":"CAPRINO"},{"$f":"'HOJA DE DATOS'!B31","v":8},"CAPRINO8",{"$f":"'HOJA DE DATOS'!G31","v":1.7622032738565201},{"$f":"'HOJA DE DATOS'!H31","v":8.2047619047619005},null,null,8,{"$error":"#REF!"},{"$error":"#REF!"},{"$f":"IF($A$84=\"CAPRINO\",'HOJA DE DATOS'!G65,IF($A$84=\"OVINO\",'HOJA DE DATOS'!G77,\"\"))","v":{"$error":"#REF!"}},{"$f":"IF($A$84=\"CAPRINO\",'HOJA DE DATOS'!H65,IF($A$84=\"OVINO\",'HOJA DE DATOS'!H77,\"\"))","v":{"$error":"#REF!"}},{"$f":"IF($A$84=\"CAPRINO\",'HOJA DE DATOS'!I65,IF($A$84=\"OVINO\",'HOJA DE DATOS'!I77,\"\"))","v":{"$error":"#REF!"}},{"$f":"IF($A$84=\"CAPRINO\",'HOJA DE DATOS'!M99,IF($A$84=\"OVINO\",'HOJA DE DATOS'!M111,\"\"))","v":{"$error":"#REF!"}},{"$f":"IF($A$84=\"CAPRINO\",'HOJA DE DATOS'!N99,IF($A$84=\"OVINO\",'HOJA DE DATOS'!N111,\"\"))","v":{"$error":"#REF!"}},{"$f":"IF($A$84=\"CAPRINO\",'HOJA DE DATOS'!O99,IF($A$84=\"OVINO\",'HOJA DE DATOS'!O111,\"\"))","v":{"$error":"#REF!"}},{"$f":"IF($A$84=\"CAPRINO\",'HOJA DE DATOS'!L99,IF($A$84=\"OVINO\",'HOJA DE DATOS'!L111,\"\"))","v":{"$error":"#REF!"}},null,{"$error":"#REF!"}]
[{"$f":"'HOJA DE DATOS'!A32","v":"CAPRINO"},{"$f":"'HOJA DE DATOS'!B32","v":9},"CAPRINO9",{"$f":"'HOJA DE DATOS'!G32","v":1.3393591672937},{"$f":"'HOJA DE DATOS'!H32","v":8.7157894736842092},null,null,9,{"$error":"#REF!"},{"$error":"#REF!"},{"$f":"IF($A$84=\"CAPRINO\",'HOJA DE DATOS'!G66,IF($A$84=\"OVINO\",'HOJA DE DATOS'!G78,\"\"))","v":{"$error":"#REF!"}},{"$f":"IF($A$84=\"CAPRINO\",'HOJA DE DATOS'!H66,IF($A$84=\"OVINO\",'HOJA DE DATOS'!H78,\"\"))","v":{"$error":"#REF!"}},{"$f":"IF($A$84=\"CAPRINO\",'HOJA DE DATOS'!I66,IF($A$84=\"OVINO\",'HOJA DE DATOS'!I78,\"\"))","v":{"$error":"#REF!"}},{"$f":"IF($A$84=\"CAPRINO\",'HOJA DE DATOS'!M100,IF($A$84=\"OVINO\",'HOJA DE DATOS'!M112,\"\"))","v":{"$error":"#REF!"}},{"$f":"IF($A$84=\"CAPRINO\",'HOJA DE DATOS'!N100,IF($A$84=\"OVINO\",'HOJA DE DATOS'!N112,\"\"))","v":{"$error":"#REF!"}},{"$f":"IF($A$84=\"CAPRINO\",'HOJA DE DATOS'!O100,IF($A$84=\"OVINO\",'HOJA DE DATOS'!O112,\"\"))","v":{"$error":"#REF!"}},{"$f":"IF($A$84=\"CAPRINO\",'HOJA DE DATOS'!L100,IF($A$84=\"OVINO\",'HOJA DE DATOS'!L112,\"\"))","v":{"$error":"#REF!"}},null,{"$error":"#REF!"}]
[{"$f":"'HOJA DE DATOS'!A33","v":"CAPRINO"},{"$f":"'HOJA DE DATOS'!B33","v":10},"CAPRINO10",{"$f":"'HOJA DE DATOS'!G33","v":1.4599156118143499},{"$f":"'HOJA DE DATOS'!H33","v":9.6},null,null,10,{"$error":"#REF!"},{"$error":"#REF!"},{"$f":"IF($A$84=\"CAPRINO\",'HOJA DE DATOS'!G67,IF($A$84=\"OVINO\",'HOJA DE DATOS'!G79,\"\"))","v":{"$error":"#REF!"}},{"$f":"IF($A$84=\"CAPRINO\",'HOJA DE DATOS'!H67,IF($A$84=\"OVINO\",'HOJA DE DATOS'!H79,\"\"))","v":{"$error":"#REF!"}},{"$f":"IF($A$84=\"CAPRINO\",'HOJA DE DATOS'!I67,IF($A$84=\"OVINO\",'HOJA DE DATOS'!I79,\"\"))","v":{"$error":"#REF!"}},{"$f":"IF($A$84=\"CAPRINO\",'HOJA DE DATOS'!M101,IF($A$84=\"OVINO\",'HOJA DE DATOS'!M113,\"\"))","v":{"$error":"#REF!"}},{"$f":"IF($A$84=\"CAPRINO\",'HOJA DE DATOS'!N101,IF($A$84=\"OVINO\",'HOJA DE DATOS'!N113,\"\"))","v":{"$error":"#REF!"}},{"$f":"IF($A$84=\"CAPRINO\",'HOJA DE DATOS'!O101,IF($A$84=\"OVINO\",'HOJA DE DATOS'!O113,\"\"))","v":{"$error":"#REF!"}},{"$f":"IF($A$84=\"CAPRINO\",'HOJA DE DATOS'!L101,IF($A$84=\"OVINO\",'HOJA DE DATOS'!L113,\"\"))","v":{"$error":"#REF!"}},null,{"$error":"#REF!"}]
[{"$f":"'HOJA DE DATOS'!A34","v":"CAPRINO"},{"$f":"'HOJA DE DATOS'!B34","v":11},"CAPRINO11",{"$f":"'HOJA DE DATOS'!G34","v":1.5884535685027199},{"$f":"'HOJA DE DATOS'!H34","v":9.6818181818181799},null,null,11,{"$error":"#REF!"},{"$error":"#REF!"},{"$f":"IF($A$84=\"CAPRINO\",'HOJA DE DATOS'!G68,IF($A$84=\"OVINO\",'HOJA DE DATOS'!G80,\"\"))","v":{"$error":"#REF!"}},{"$f":"IF($A$84=\"CAPRINO\",'HOJA DE DATOS'!H68,IF($A$84=\"OVINO\",'HOJA DE DATOS'!H80,\"\"))","v":{"$error":"#REF!"}},{"$f":"IF($A$84=\"CAPRINO\",'HOJA DE DATOS'!I68,IF($A$84=\"OVINO\",'HOJA DE DATOS'!I80,\"\"))","v":{"$error":"#REF!"}},{"$f":"IF($A$84=\"CAPRINO\",'HOJA DE DATOS'!M102,IF($A$84=\"OVINO\",'HOJA DE DATOS'!M114,\"\"))","v":{"$error":"#REF!"}},{"$f":"IF($A$84=\"CAPRINO\",'HOJA DE DATOS'!N102,IF($A$84=\"OVINO\",'HOJA DE DATOS'!N114,\"\"))","v":{"$error":"#REF!"}},{"$f":"IF($A$84=\"CAPRINO\",'HOJA DE DATOS'!O102,IF($A$84=\"OVINO\",'HOJA DE DATOS'!O114,\"\"))","v":{"$error":"#REF!"}},{"$f":"IF($A$84=\"CAPRINO\",'HOJA DE DATOS'!L102,IF($A$84=\"OVINO\",'HOJA DE DATOS'!L114,\"\"))","v":{"$error":"#REF!"}},null,{"$error":"#REF!"}]
[{"$f":"'HOJA DE DATOS'!A35","v":"CAPRINO"},{"$f":"'HOJA DE DATOS'!B35","v":12},"CAPRINO12",{"$f":"'HOJA DE DATOS'!G35","v":1.9596129462796099},{"$f":"'HOJA DE DATOS'!H35","v":9.5210526315789501},null,null,12,{"$error":"#REF!"},{"$error":"#REF!"},{"$f":"IF($A$84=\"CAPRINO\",'HOJA DE DATOS'!G69,IF($A$84=\"OVINO\",'HOJA DE DATOS'!G81,\"\"))","v":{"$error":"#REF!"}},{"$f":"IF($A$84=\"CAPRINO\",'HOJA DE DATOS'!H69,IF($A$84=\"OVINO\",'HOJA DE DATOS'!H81,\"\"))","v":{"$error":"#REF!"}},{"$f":"IF($A$84=\"CAPRINO\",'HOJA DE DATOS'!I69,IF($A$84=\"OVINO\",'HOJA DE DATOS'!I81,\"\"))","v":{"$error":"#REF!"}},{"$f":"IF($A$84=\"CAPRINO\",'HOJA DE DATOS'!M103,IF($A$84=\"OVINO\",'HOJA DE DATOS'!M115,\"\"))","v":{"$error":"#REF!"}},{"$f":"IF($A$84=\"CAPRINO\",'HOJA DE DATOS'!N103,IF($A$84=\"OVINO\",'HOJA DE DATOS'!N115,\"\"))","v":{"$error":"#REF!"}},{"$f":"IF($A$84=\"CAPRINO\",'HOJA DE DATOS'!O103,IF($A$84=\"OVINO\",'HOJA DE DATOS'!O115,\"\"))","v":{"$error":"#REF!"}},{"$f":"IF($A$84=\"CAPRINO\",'HOJA DE DATOS'!L103,IF($A$84=\"OVINO\",'HOJA DE DATOS'!L115,\"\"))","v":{"$error":"#REF!"}},null,{"$error":"#REF!"}]
[{"$f":"'HOJA DE DATOS'!A36","v":"OVINO"},{"$f":"'HOJA DE DATOS'!B36","v":1},"OVINO1",{"$f":"'HOJA DE DATOS'!G36","v":1.4957892089142699},{"$f":"'HOJA DE DATOS'!H36","v":12.439534883720899},null,null,13]
[{"$f":"'HOJA DE DATOS'!A37","v":"OVINO"},{"$f":"'HOJA DE DATOS'!B37","v":2},"OVINO2",{"$f":"'HOJA DE DATOS'!G37","v":1.6495011756757101},{"$f":"'HOJA DE DATOS'!H37","v":12.361538461538499}]
[{"$f":"'HOJA DE DATOS'!A38","v":"OVINO"},{"$f":"'HOJA DE DATOS'!B38","v":3},"OVINO3",{"$f":"'HOJA DE DATOS'!G38","v":1.73343095930233},{"$f":"'HOJA DE DATOS'!H38","v":11.5897435897436}]
[{"$f":"'HOJA DE DATOS'!A39","v":"OVINO"},{"$f":"'HOJA DE DATOS'!B39","v":4},"OVINO4",{"$f":"'HOJA DE DATOS'!G39","v":1.88767293797133},{"$f":"'HOJA DE DATOS'!H39","v":11.4179487179487}]
[{"$f":"'HOJA DE DATOS'!A40","v":"OVINO"},{"$f":"'HOJA DE DATOS'!B40","v":5},"OVINO5",{"$f":"'HOJA DE DATOS'!G40","v":2.01929405985755},{"$f":"'HOJA DE DATOS'!H40","v":11.255263157894699}]
[{"$f":"'HOJA DE DATOS'!A41","v":"OVINO"},{"$f":"'HOJA DE DATOS'!B41","v":6},"OVINO6",{"$f":"'HOJA DE DATOS'!G41","v":1.8686146509018799},{"$f":"'HOJA DE DATOS'!H41","v":11.2947368421053}]
[{"$f":"'HOJA DE DATOS'!A42","v":"OVINO"},{"$f":"'HOJA DE DATOS'!B42","v":7},"OVINO7",{"$f":"'HOJA DE DATOS'!G42","v":1.8223287671232899},{"$f":"'HOJA DE DATOS'!H42","v":11.35}]
[{"$f":"'HOJA DE DATOS'!A43","v":"OVINO"},{"$f":"'HOJA DE DATOS'!B43","v":8},"OVINO8",{"$f":"'HOJA DE DATOS'!G43","v":1.6173021811813399},{"$f":"'HOJA DE DATOS'!H43","v":11.5142857142857}]
[{"$f":"'HOJA DE DATOS'!A44","v":"OVINO"},{"$f":"'HOJA DE DATOS'!B44","v":9},"OVINO9",{"$f":"'HOJA DE DATOS'!G44","v":1.4732011176402799},{"$f":"'HOJA DE DATOS'!H44","v":12.1378378378378}]
[{"$f":"'HOJA DE DATOS'!A45","v":"OVINO"},{"$f":"'HOJA DE DATOS'!B45","v":10},"OVINO10",{"$f":"'HOJA DE DATOS'!G45","v":1.4550732515057001},{"$f":"'HOJA DE DATOS'!H45","v":12.8378378378378}]
[{"$f":"'HOJA DE DATOS'!A46","v":"OVINO"},{"$f":"'HOJA DE DATOS'!B46","v":11},"OVINO11",{"$f":"'HOJA DE DATOS'!G46","v":1.2880910524485401},{"$f":"'HOJA DE DATOS'!H46","v":13.5444444444444}]
[{"$f":"'HOJA DE DATOS'!A47","v":"OVINO"},{"$f":"'HOJA DE DATOS'!B47","v":12},"OVINO12",{"$f":"'HOJA DE DATOS'!G47","v":1.4549806406195001},{"$f":"'HOJA DE DATOS'!H47","v":12.852941176470599}]
[]
[{"$f":"IF(#REF!=\"\",\"\",#REF!)","v":{"$error":"#REF!"}},{"$f":"'BUSCAR FECHA'!F3","v":{"$error":"#REF!"}},{"$f":"CONCATENATE(,A84,B84)","v":{"$error":"#REF!"}},{"$f":"VLOOKUP($C$84,$C$59:$E$82,2,FALSE)","v":{"$error":"#REF!"}},{"$f":"VLOOKUP($C$84,$C$59:$E$82,3,FALSE)","v":{"$error":"#REF!"}}]
[]
[]
["ESTADO DE LOS ANIMALES & INCIDENCIAS"]
[]
[null,"SECOS","PREPARTO","ORDEÑO","%ABORTOS","%BAJAS",null,"%MAMITIS","PARTOS/ANIMAL"]
[null,{"$f":"VLOOKUP($A$84,'HOJA DE DATOS'!$A$52:$I$53,7,FALSE)","v":{"$error":"#REF!"}},{"$f":"VLOOKUP($A$84,'HOJA DE DATOS'!$A$52:$I$53,8,FALSE)","v":{"$error":"#REF!"}},{"$f":"VLOOKUP($A$84,'HOJA DE DATOS'!$A$52:$I$53,9,FALSE)","v":{"$error":"#REF!"}},{"$f":"VLOOKUP($A$84,'HOJA DE DATOS'!$A$86:$O$87,13,FALSE)","v":{"$error":"#REF!"}},{"$f":"VLOOKUP($A$84,'HOJA DE DATOS'!$A$86:$O$87,14,FALSE)","v":{"$error":"#REF!"}},null,{"$f":"VLOOKUP($A$84,'HOJA DE DATOS'!$A$86:$O$87,15,FALSE)","v":{"$error":"#REF!"}},{"$f":"VLOOKUP($A$84,'HOJA DE DATOS'!$A$86:$O$87,12,FALSE)","v":{"$error":"#REF!"}}]
[]
[]
[]
["BIENESTAR"]
[]
[null,null,null,null,null,null,null,null,"PROMEDIO","MAXIMO","MINIMO"]
["ESPECIE","INDICADOR","PROMEDIO","MAX","MIN","CAPRINO",null,"BA AMBIENTE",{"$f":"AVERAGE(C98:C101)","v":5.89247311827957},{"$f":"AVERAGE(D98:D101)","v":6.8190584700622567},{"$f":"AVERAGE(E98:E101)","v":4.9658877664968841}]
[{"$f":"'HOJA DE DATOS'!B124","v":"CAPRINO"},"TEMPERATURE",{"$f":"'HOJA DE DATOS'!D119","v":6.1505376344086002},{"$f":"C98+'HOJA DE DATOS'!D124","v":7.1167745816643802},{"$f":"C98-'HOJA DE DATOS'!D124","v":5.1843006871528203},"CAPRINO",null,"BA MANEJO",{"$f":"AVERAGE(C102:C106,C112)","v":6.1587813620071685},{"$f":"AVERAGE(D102:D106,D112)","v":7.0633611906447245},{"$f":"AVERAGE(E102:E106,E112)","v":5.2542015333696126}]
["CAPRINO","AIRFLOW",{"$f":"'HOJA DE DATOS'!E119","v":6.2473118279569899},{"$f":"C99+'HOJA DE DATOS'!E124","v":7.0365865910822309},{"$f":"C99-'HOJA DE DATOS'!E124","v":5.4580370648317489},"CAPRINO",null,"BA INSTALACIONES",{"$f":"AVERAGE(C107:C109)","v":6.010752688172043},{"$f":"AVERAGE(D107:D109)","v":6.9889607541156771},{"$f":"AVERAGE(E107:E109)","v":5.0325446222284098}]
["CAPRINO","VENTILATION",{"$f":"'HOJA DE DATOS'!F119","v":5.5913978494623704},{"$f":"C100+'HOJA DE DATOS'!F124","v":6.5496181102877165},{"$f":"C100-'HOJA DE DATOS'!F124","v":4.6331775886370243},"CAPRINO",null,"BA GLOBAL",{"$f":"AVERAGE(I97:I99)","v":6.0206690561529266},{"$f":"AVERAGE(J97:J99)","v":6.957126804940887},5.0842113073649697]
["CAPRINO","AMMONIA LOAD",{"$f":"'HOJA DE DATOS'!G119","v":5.5806451612903203},{"$f":"C101+'HOJA DE DATOS'!G124","v":6.5732545972147003},{"$f":"C101-'HOJA DE DATOS'!G124","v":4.5880357253659403}]
["CAPRINO","ANIMAL LOAD",{"$f":"'HOJA DE DATOS'!H119","v":6.2795698924731198},{"$f":"C102+'HOJA DE DATOS'!H124","v":7.1928248380416742},{"$f":"C102-'HOJA DE DATOS'!H124","v":5.3663149469045655},"OVINO",null,"BA AMBIENTE",{"$f":"AVERAGE(C114:C117)","v":6.0272277227722775},{"$f":"AVERAGE(D114:D117)","v":6.9143675590159202},{"$f":"AVERAGE(E114:E117)","v":5.1400878865286348}]
["CAPRINO","BEDDING",{"$f":"'HOJA DE DATOS'!I119","v":6.1182795698924703},{"$f":"C103+'HOJA DE DATOS'!I124","v":7.1696705984371105},{"$f":"C103-'HOJA DE DATOS'!I124","v":5.0668885413478302},"OVINO",null,"BA MANEJO",{"$f":"AVERAGE(C118:C122,C128)","v":5.8624538924480687},{"$f":"AVERAGE(D118:D122,D128)","v":6.9475640977770396},4.777343687119096]
["CAPRINO","CONFORT",{"$f":"'HOJA DE DATOS'!J119","v":6},{"$f":"C104+'HOJA DE DATOS'!J124","v":6.8340576562282989},{"$f":"C104-'HOJA DE DATOS'!J124","v":5.1659423437717011},"OVINO",null,"BA INSTALACIONES",{"$f":"AVERAGE(C123:C125)","v":5.9009900990099},{"$f":"AVERAGE(D123:D125)","v":6.8490349441644973},{"$f":"AVERAGE(E123:E125)","v":4.9529452538553036}]
["CAPRINO","STRESS",{"$f":"'HOJA DE DATOS'!K119","v":5.8279569892473102},{"$f":"C105+'HOJA DE DATOS'!K124","v":6.695533021675022},{"$f":"C105-'HOJA DE DATOS'!K124","v":4.9603809568195985},"OVINO",null,"BA GLOBAL",{"$f":"AVERAGE(I102:I104)","v":5.9302239047434151},{"$f":"AVERAGE(J102:J104)","v":6.9036555336524854},4.9567922758343448]
["CAPRINO","CLEANNLESS",{"$f":"'HOJA DE DATOS'!Q119","v":6.8602150537634401},{"$f":"C106+'HOJA DE DATOS'!Q124","v":7.495951495077291},{"$f":"C106-'HOJA DE DATOS'!Q124","v":6.2244786124495892}]
["CAPRINO","COMPOUND FEEDERS",{"$f":"'HOJA DE DATOS'!L119","v":5.9247311827956999},{"$f":"C107+'HOJA DE DATOS'!L124","v":6.9697666423541094},{"$f":"C107-'HOJA DE DATOS'!L124","v":4.8796957232372904},"GRAFICOS",null,null,"REAL","BBDD","MAXIMO","MINIMO"]
["CAPRINO","STRAW FEEDERS",{"$f":"'HOJA DE DATOS'!M119","v":6.3440860215053796},{"$f":"C108+'HOJA DE DATOS'!M124","v":7.1973995585595327},{"$f":"C108-'HOJA DE DATOS'!M124","v":5.4907724844512265},null,null,{"$f":"B98","v":"TEMPERATURE"},{"$f":"IF(#REF!=\"\",\"\",#REF!)","v":{"$error":"#REF!"}},{"$f":"IF($A$131=\"OVINO\",C114,IF($A$131=\"CAPRINO\",C98,\"\"))","v":{"$error":"#REF!"}},{"$error":"#REF!"},{"$error":"#REF!"}]
["CAPRINO","WATERING",{"$f":"'HOJA DE DATOS'!N119","v":5.7634408602150504},{"$f":"C109+'HOJA DE DATOS'!N124","v":6.79971606143339},{"$f":"C109-'HOJA DE DATOS'!N124","v":4.7271656589967108},null,null,{"$f":"B99","v":"AIRFLOW"},{"$f":"IF(#REF!=\"\",\"\",#REF!)","v":{"$error":"#REF!"}},{"$error":"#REF!"},{"$error":"#REF!"},{"$error":"#REF!"}]
["CAPRINO","BODY COND.SCORE",{"$f":"'HOJA DE DATOS'!A119","v":2.9043010752688199},{"$f":"C110+'HOJA DE DATOS'!A124","v":3.2558238429446611},{"$f":"C110-'HOJA DE DATOS'!A124","v":2.5527783075929786},null,null,"VENTILATION",{"$f":"IF(#REF!=\"\",\"\",#REF!)","v":{"$error":"#REF!"}},{"$error":"#REF!"},{"$error":"#REF!"},{"$error":"#REF!"}]
["CAPRINO","FECES CONSISTENCY",{"$f":"'HOJA DE DATOS'!O119","v":3.3333333333333299},{"$f":"C111+'HOJA DE DATOS'!O124","v":3.8915395702194391},{"$f":"C111-'HOJA DE DATOS'!O124","v":2.7751270964472208},null,null,"AMMONIA LOAD",{"$f":"IF(#REF!=\"\",\"\",#REF!)","v":{"$error":"#REF!"}},{"$error":"#REF!"},{"$error":"#REF!"},{"$error":"#REF!"}]
["CAPRINO","HOOK",{"$f":"'HOJA DE DATOS'!S119","v":5.8666666666666698},{"$f":"C112+'HOJA DE DATOS'!R124","v":6.9921295344089494},{"$f":"C112-'HOJA DE DATOS'!R124","v":4.7412037989243903},null,null,"ESTADO PEZUÑAS",{"$f":"IF(#REF!=\"\",\"\",#REF!)","v":{"$error":"#REF!"}},{"$f":"IF($A$131=\"OVINO\",C128,IF($A$131=\"CAPRINO\",C112,\"\"))","v":{"$error":"#REF!"}},{"$f":"IF($A$131=\"OVINO\",D128,IF($A$131=\"CAPRINO\",D112,\"\"))","v":{"$error":"#REF!"}},{"$error":"#REF!"}]
["CAPRINO","Nº EVALUATIONS",{"$f":"'HOJA DE DATOS'!R119","v":93},null,null,null,null,{"$f":"B102","v":"ANIMAL LOAD"},{"$f":"IF(#REF!=\"\",\"\",#REF!)","v":{"$error":"#REF!"}},{"$f":"IF($A$131=\"OVINO\",C118,IF($A$131=\"CAPRINO\",C102,\"\"))","v":{"$error":"#REF!"}},{"$f":"IF($A$131=\"OVINO\",D118,IF($A$131=\"CAPRINO\",D102,\"\"))","v":{"$error":"#REF!"}},{"$f":"IF($A$131=\"OVINO\",E118,IF($A$131=\"CAPRINO\",E102,\"\"))","v":{"$error":"#REF!"}}]
[{"$f":"'HOJA DE DATOS'!B120","v":"OVINO"},"TEMPERATURE",{"$f":"'HOJA DE DATOS'!D120","v":6.2277227722772297},{"$f":"C114+'HOJA DE DATOS'!D125","v":7.1645385291772925},{"$f":"C114-'HOJA DE DATOS'!D125","v":5.2909070153771669},null,null,"BEDDING",{"$f":"IF(#REF!=\"\",\"\",#REF!)","v":{"$error":"#REF!"}},{"$error":"#REF!"},{"$error":"#REF!"},{"$error":"#REF!"}]
["OVINO","AIRFLOW",{"$f":"'HOJA DE DATOS'!E120","v":6.28712871287129},{"$f":"C115+'HOJA DE DATOS'!E125","v":7.1278026527952809},{"$f":"C115-'HOJA DE DATOS'!E125","v":5.4464547729472992},null,null,"CONFORT",{"$f":"IF(#REF!=\"\",\"\",#REF!)","v":{"$error":"#REF!"}},{"$error":"#REF!"},{"$error":"#REF!"},{"$error":"#REF!"}]
["OVINO","VENTILATION",{"$f":"'HOJA DE DATOS'!F120","v":5.8811881188118802},{"$f":"C116+'HOJA DE DATOS'!F125","v":6.7212729801547244},{"$f":"C116-'HOJA DE DATOS'!F125","v":5.041103257469036},null,null,"STRESS",{"$f":"IF(#REF!=\"\",\"\",#REF!)","v":{"$error":"#REF!"}},{"$error":"#REF!"},{"$error":"#REF!"},{"$error":"#REF!"}]
["OVINO","AMMONIA LOAD",{"$f":"'HOJA DE DATOS'!G120","v":5.71287128712871},{"$f":"C117+'HOJA DE DATOS'!G125","v":6.6438560739363819},{"$f":"C117-'HOJA DE DATOS'!G125","v":4.781886500321038},null,null,"CLEANNLESS",{"$f":"IF(#REF!=\"\",\"\",#REF!)","v":{"$error":"#REF!"}},{"$error":"#REF!"},{"$error":"#REF!"},{"$error":"#REF!"}]
["OVINO","ANIMAL LOAD",{"$f":"'HOJA DE DATOS'!H120","v":6.0594059405940603},{"$f":"C118+'HOJA DE DATOS'!H125","v":7.18920045446123},{"$f":"C118-'HOJA DE DATOS'!H125","v":4.9296114267268907},null,null,"COMPOUND FEEDERS",{"$f":"IF(#REF!=\"\",\"\",#REF!)","v":{"$error":"#REF!"}},{"$error":"#REF!"},{"$error":"#REF!"},{"$error":"#REF!"}]
["OVINO","BEDDING",{"$f":"'HOJA DE DATOS'!I120","v":6},{"$f":"C119+'HOJA DE DATOS'!I125","v":7.0392304845413296},{"$f":"C119-'HOJA DE DATOS'!I125","v":4.9607695154586704},null,null,"STRAW FEEDERS",{"$f":"IF(#REF!=\"\",\"\",#REF!)","v":{"$error":"#REF!"}},{"$error":"#REF!"},{"$error":"#REF!"},{"$error":"#REF!"}]
["OVINO","CONFORT",{"$f":"'HOJA DE DATOS'!J120","v":5.9405940594059397},{"$f":"C120+'HOJA DE DATOS'!J125","v":6.8330264902175708},{"$f":"C120-'HOJA DE DATOS'!J125","v":5.0481616285943085},null,null,"WATERING",{"$f":"IF(#REF!=\"\",\"\",#REF!)","v":{"$error":"#REF!"}},{"$error":"#REF!"},{"$error":"#REF!"},{"$error":"#REF!"}]
["OVINO","STRESS",{"$f":"'HOJA DE DATOS'!K120","v":5.6633663366336604},{"$f":"C121+'HOJA DE DATOS'!K125","v":6.6357574896453713},{"$f":"C121-'HOJA DE DATOS'!K125","v":4.6909751836219495},null,null,"BODY COND.SCORE",{"$f":"IF(#REF!=\"\",\"\",#REF!)","v":{"$error":"#REF!"}},{"$error":"#REF!"},{"$error":"#REF!"},{"$error":"#REF!"}]
["OVINO","CLEANNLESS",{"$f":"'HOJA DE DATOS'!Q120","v":6.1584158415841603},{"$f":"C122+'HOJA DE DATOS'!Q125","v":7.2236169800301004},{"$f":"C122-'HOJA DE DATOS'!Q125","v":5.0932147031382202},null,null,"FECES CONSISTENCY",{"$f":"IF(#REF!=\"\",\"\",#REF!)","v":{"$error":"#REF!"}},{"$error":"#REF!"},{"$error":"#REF!"},{"$error":"#REF!"}]
["OVINO","COMPOUND FEEDERS",{"$f":"'HOJA DE DATOS'!L120","v":6.0099009900990099},{"$f":"C123+'HOJA DE DATOS'!L125","v":6.9425858190198042},{"$f":"C123-'HOJA DE DATOS'!L125","v":5.0772161611782156},null,null,"Nº EVALUATIONS",null,{"$f":"IF($A$131=\"OVINO\",C129,IF($A$131=\"CAPRINO\",C113,\"\"))","v":{"$error":"#REF!"}}]
["OVINO","STRAW FEEDERS",{"$f":"'HOJA DE DATOS'!M120","v":6.0099009900990099},{"$f":"C124+'HOJA DE DATOS'!M125","v":6.9947365043342602},{"$f":"C124-'HOJA DE DATOS'!M125","v":5.0250654758637596}]
["OVINO","WATERING",{"$f":"'HOJA DE DATOS'!N120","v":5.6831683168316802},{"$f":"C125+'HOJA DE DATOS'!N125","v":6.6097825091394276},{"$f":"C125-'HOJA DE DATOS'!N125","v":4.7565541245239329},null,null,null,"REAL","BBDD","MAXIMO","MINIMO"]
["OVINO","BODY COND.SCORE",{"$f":"'HOJA DE DATOS'!A120","v":3.0792079207920802},{"$f":"C126+'HOJA DE DATOS'!A125","v":3.403111249482345},{"$f":"C126-'HOJA DE DATOS'!A125","v":2.7553045921018153},null,null,{"$f":"H97","v":"BA AMBIENTE"},{"$f":"IF(#REF!=\"\",\"\",#REF!)","v":{"$error":"#REF!"}},{"$f":"IF($A$131=\"OVINO\",I102,IF($A$131=\"CAPRINO\",I97,\"\"))","v":{"$error":"#REF!"}},{"$error":"#REF!"},{"$error":"#REF!"}]
["OVINO","FECES CONSISTENCY",{"$f":"'HOJA DE DATOS'!O120","v":3.4653465346534702},{"$f":"C127+'HOJA DE DATOS'!O125","v":4.1066632494776441},{"$f":"C127-'HOJA DE DATOS'!O125","v":2.8240298198292964},null,null,{"$f":"H98","v":"BA MANEJO"},{"$f":"IF(#REF!=\"\",\"\",#REF!)","v":{"$error":"#REF!"}},{"$error":"#REF!"},{"$error":"#REF!"},{"$error":"#REF!"}]
["OVINO","HOOK",{"$f":"'HOJA DE DATOS'!S120","v":5.3529411764705896},{"$f":"C128+'HOJA DE DATOS'!R125","v":6.7645526877666393},{"$f":"C128-'HOJA DE DATOS'!R125","v":3.94132966517454},null,null,{"$f":"H99","v":"BA INSTALACIONES"},{"$f":"IF(#REF!=\"\",\"\",#REF!)","v":{"$error":"#REF!"}},{"$error":"#REF!"},{"$error":"#REF!"},{"$error":"#REF!"}]
["OVINO","Nº EVALUATIONS",{"$f":"'HOJA DE DATOS'!R120","v":101}," ",null,null,null,{"$f":"H100","v":"BA GLOBAL"},{"$f":"IF(#REF!=\"\",\"\",#REF!)","v":{"$error":"#REF!"}},{"$error":"#REF!"},{"$error":"#REF!"},{"$error":"#REF!"}]
[]
[{"$f":"IF(#REF!=\"\",\"\",#REF!)","v":{"$error":"#REF!"}}]
[]
[]
[]
["PPCC OVINO"]
[]
["COMPETENCIAS","PONDERACION","VALORACION GRANJA","REAL","PROMEDIO","MAXIMO",null,"MINIMO","AVERAGE","MAXIMUM","MIN POND"]
["Feeding system",3,{"$f":"IF(#REF!=\"\",\"\",#REF!)","v":{"$error":"#REF!"}},{"$f":"IF(C138=\"\",\"\",B138*C138)","v":{"$error":"#REF!"}},{"$f":"'HOJA DE DATOS'!A129","v":3},{"$f":"E138+'HOJA DE DATOS'!A132","v":3.742781352708207},null,{"$f":"E138-'HOJA DE DATOS'!A132","v":2.257218647291793},{"$f":"E138*B138","v":9},{"$f":"F138*B138","v":11.228344058124621},{"$f":"H138*B138","v":6.7716559418753786}]
["Forages availability&quality",3,{"$f":"IF(#REF!=\"\",\"\",#REF!)","v":{"$error":"#REF!"}},{"$f":"IF(C139=\"\",\"\",B139*C139)","v":{"$error":"#REF!"}},{"$f":"'HOJA DE DATOS'!B129","v":2.8333333333333299},{"$f":"E139+'HOJA DE DATOS'!B132","v":3.707614647380447},null,{"$f":"E139-'HOJA DE DATOS'!B132","v":1.9590520192862129},{"$f":"E139*B139","v":8.4999999999999893},{"$f":"F139*B139","v":11.122843942141341},{"$f":"H139*B139","v":5.8771560578586381}]
["Feeding groups",6,{"$f":"IF(#REF!=\"\",\"\",#REF!)","v":{"$error":"#REF!"}},{"$error":"#REF!"},{"$f":"'HOJA DE DATOS'!C129","v":2.93333333333333},{"$f":"E140+'HOJA DE DATOS'!C132","v":3.8016783042439393},null,{"$f":"E140-'HOJA DE DATOS'!C132","v":2.0649883624227208},17.59999999999998,22.810069825463636,12.389930174536325]
["Natural resources profitability",5,{"$f":"IF(#REF!=\"\",\"\",#REF!)","v":{"$error":"#REF!"}},{"$error":"#REF!"},{"$f":"'HOJA DE DATOS'!D129","v":2.4666666666666699},{"$f":"E141+'HOJA DE DATOS'!D132","v":3.8244877745153998},null,{"$f":"E141-'HOJA DE DATOS'!D132","v":1.10884555881794},12.33333333333335,19.122438872577,5.5442277940897]
["Automazitation",3,{"$f":"IF(#REF!=\"\",\"\",#REF!)","v":{"$error":"#REF!"}},{"$error":"#REF!"},{"$f":"'HOJA DE DATOS'!E129","v":2.93333333333333},{"$f":"E142+'HOJA DE DATOS'!E132","v":4.0139887325952905},null,{"$f":"E142-'HOJA DE DATOS'!E132","v":1.8526779340713699},8.7999999999999901,12.041966197785872,5.5580338022141103]
["Health planification",5,{"$f":"IF(#REF!=\"\",\"\",#REF!)","v":{"$error":"#REF!"}},{"$error":"#REF!"},{"$f":"'HOJA DE DATOS'!F129","v":3.1},{"$f":"E143+'HOJA DE DATOS'!F132","v":4.19387006730138},null,{"$f":"E143-'HOJA DE DATOS'!F132","v":2.0061299326986202},15.5,20.969350336506899,10.030649663493101]
["Young mortality rate",5,{"$f":"IF(#REF!=\"\",\"\",#REF!)","v":{"$error":"#REF!"}},{"$error":"#REF!"},{"$f":"'HOJA DE DATOS'!G129","v":2.8666666666666698},{"$f":"E144+'HOJA DE DATOS'!G132","v":3.7270328009708229},null,{"$f":"E144-'HOJA DE DATOS'!G132","v":2.0063005323625167},14.33333333333335,18.635164004854115,10.031502661812583]
["Adult mortality rate",5,{"$f":"IF(#REF!=\"\",\"\",#REF!)","v":{"$error":"#REF!"}},{"$error":"#REF!"},{"$f":"'HOJA DE DATOS'!H129","v":3.1333333333333302},{"$f":"E145+'HOJA DE DATOS'!H132","v":4.2699748876452004},null,{"$f":"E145-'HOJA DE DATOS'!H132","v":1.9966917790214602},15.66666666666665,21.349874438226003,9.9834588951073009]
["More often pathologie",2,{"$f":"IF(#REF!=\"\",\"\",#REF!)","v":{"$error":"#REF!"}},{"$error":"#REF!"},{"$f":"'HOJA DE DATOS'!I129","v":2.8},{"$f":"E146+'HOJA DE DATOS'!I132","v":3.6469010445797929},null,{"$f":"E146-'HOJA DE DATOS'!I132","v":1.9530989554202067},5.6,7.2938020891595858,3.9061979108404135]
["mamtis incidence",3,{"$f":"IF(#REF!=\"\",\"\",#REF!)","v":{"$error":"#REF!"}},{"$error":"#REF!"},{"$f":"'HOJA DE DATOS'!J129","v":2.6333333333333302},{"$f":"E147+'HOJA DE DATOS'!J132","v":3.7623650617086501},null,{"$f":"E147-'HOJA DE DATOS'!J132","v":1.5043016049580102},7.8999999999999906,11.287095185125951,4.5129048148740303]
["Artificial lactancy",2,{"$f":"IF(#REF!=\"\",\"\",#REF!)","v":{"$error":"#REF!"}},{"$error":"#REF!"},{"$f":"'HOJA DE DATOS'!K129","v":1.43333333333333},{"$f":"E148+'HOJA DE DATOS'!K132","v":1.8333333333333299},null,{"$f":"E148-'HOJA DE DATOS'!K132","v":1.0333333333333301},2.86666666666666,3.6666666666666599,2.0666666666666602]
["Parlor",3,{"$f":"IF(#REF!=\"\",\"\",#REF!)","v":{"$error":"#REF!"}},{"$error":"#REF!"},{"$f":"'HOJA DE DATOS'!L129","v":2.9},{"$f":"E149+'HOJA DE DATOS'!L132","v":3.7030115728972381},null,{"$f":"E149-'HOJA DE DATOS'!L132","v":2.0969884271027617},8.6999999999999993,11.109034718691714,6.290965281308285]
["Enironment control in buildings",3,{"$f":"IF(#REF!=\"\",\"\",#REF!)","v":{"$error":"#REF!"}},{"$error":"#REF!"},{"$f":"'HOJA DE DATOS'!M129","v":2.5},{"$f":"E150+'HOJA DE DATOS'!M132","v":3.3610338613230191},null,{"$f":"E150-'HOJA DE DATOS'!M132","v":1.6389661386769809},7.5,10.083101583969057,4.9168984160309428]
["Pens",2,{"$f":"IF(#REF!=\"\",\"\",#REF!)","v":{"$error":"#REF!"}},{"$error":"#REF!"},{"$f":"'HOJA DE DATOS'!N129","v":2.1666666666666701},{"$f":"E151+'HOJA DE DATOS'!N132","v":3.1865832735799398},null,{"$f":"E151-'HOJA DE DATOS'!N132","v":1.1467500597534002},4.3333333333333401,6.3731665471598795,2.2935001195068003]
["Feeder/Watering",2,{"$f":"IF(#REF!=\"\",\"\",#REF!)","v":{"$error":"#REF!"}},{"$error":"#REF!"},{"$f":"'HOJA DE DATOS'!O129","v":2.8},{"$f":"E152+'HOJA DE DATOS'!O132","v":3.9861267013789599},null,{"$f":"E152-'HOJA DE DATOS'!O132","v":1.6138732986210398},5.6,7.9722534027579197,3.2277465972420796]
["Milk yield",7,{"$f":"IF(#REF!=\"\",\"\",#REF!)","v":{"$error":"#REF!"}},{"$error":"#REF!"},{"$f":"'HOJA DE DATOS'!P129","v":2.43333333333333},{"$f":"E153+'HOJA DE DATOS'!P132","v":3.59843902140108},null,{"$f":"E153-'HOJA DE DATOS'!P132","v":1.2682276452655801},17.03333333333331,25.189073149807559,8.8775935168590614]
["Sales of lambs",3,{"$f":"IF(#REF!=\"\",\"\",#REF!)","v":{"$error":"#REF!"}},{"$error":"#REF!"},{"$f":"'HOJA DE DATOS'!Q129","v":2.3666666666666698},{"$f":"E154+'HOJA DE DATOS'!Q132","v":3.4328662770564895},null,{"$f":"E154-'HOJA DE DATOS'!Q132","v":1.3004670562768499},7.1000000000000094,10.298598831169468,3.9014011688305494]
["Sheep/Labour",4,{"$f":"IF(#REF!=\"\",\"\",#REF!)","v":{"$error":"#REF!"}},{"$error":"#REF!"},{"$f":"'HOJA DE DATOS'!R129","v":2.6666666666666701},{"$f":"E155+'HOJA DE DATOS'!R132","v":3.8796235363929199},null,{"$f":"E155-'HOJA DE DATOS'!R132","v":1.45370979694042},10.66666666666668,15.51849414557168,5.8148391877616801]
["Milk quality",5,{"$f":"IF(#REF!=\"\",\"\",#REF!)","v":{"$error":"#REF!"}},{"$error":"#REF!"},{"$f":"'HOJA DE DATOS'!S129","v":2.2666666666666702},{"$f":"E156+'HOJA DE DATOS'!S132","v":3.3787735002017403},null,{"$f":"E156-'HOJA DE DATOS'!S132","v":1.1545598331316003},11.33333333333335,16.8938675010087,5.7727991656580011]
["Repalcement Rate",3,{"$f":"IF(#REF!=\"\",\"\",#REF!)","v":{"$error":"#REF!"}},{"$error":"#REF!"},{"$f":"'HOJA DE DATOS'!T129","v":2.5333333333333301},{"$f":"E157+'HOJA DE DATOS'!T132","v":3.72911134679204},null,{"$f":"E157-'HOJA DE DATOS'!T132","v":1.3375553198746202},7.5999999999999908,11.18733404037612,4.0126659596238605]
["Milk sales income",8,{"$f":"IF(#REF!=\"\",\"\",#REF!)","v":{"$error":"#REF!"}},{"$error":"#REF!"},{"$f":"'HOJA DE DATOS'!U129","v":3.1333333333333302},{"$f":"E158+'HOJA DE DATOS'!U132","v":3.8636300766735512},null,{"$f":"E158-'HOJA DE DATOS'!U132","v":2.4030365899931092},25.066666666666642,30.909040613388409,19.224292719944874]
["Animal sales income",4,{"$f":"IF(#REF!=\"\",\"\",#REF!)","v":{"$error":"#REF!"}},{"$error":"#REF!"},{"$f":"'HOJA DE DATOS'!V129","v":3.1333333333333302},{"$f":"E159+'HOJA DE DATOS'!V132","v":3.81477872079439},null,{"$f":"E159-'HOJA DE DATOS'!V132","v":2.4518879458722704},12.533333333333321,15.25911488317756,9.8075517834890817]
["Feed Expenses",6,{"$f":"IF(#REF!=\"\",\"\",#REF!)","v":{"$error":"#REF!"}},{"$error":"#REF!"},{"$f":"'HOJA DE DATOS'!W129","v":3.1666666666666701},{"$f":"E160+'HOJA DE DATOS'!W132","v":4.2198501275598099},null,{"$f":"E160-'HOJA DE DATOS'!W132","v":2.1134832057735302},19.000000000000021,25.319100765358861,12.680899234641181]
["Mortages",4,{"$f":"IF(#REF!=\"\",\"\",#REF!)","v":{"$error":"#REF!"}},{"$error":"#REF!"},{"$f":"'HOJA DE DATOS'!X129","v":3.06666666666667},{"$f":"E161+'HOJA DE DATOS'!X132","v":4.1149274046095901},null,{"$f":"E161-'HOJA DE DATOS'!X132","v":2.0184059287237499},12.26666666666668,16.45970961843836,8.0736237148949996]
["Labour expenses",4,{"$f":"IF(#REF!=\"\",\"\",#REF!)","v":{"$error":"#REF!"}},{"$error":"#REF!"},{"$f":"'HOJA DE DATOS'!Y129","v":2.9666666666666699},{"$f":"E162+'HOJA DE DATOS'!Y132","v":4.03286627705649},null,{"$f":"E162-'HOJA DE DATOS'!Y132","v":1.90046705627685},11.86666666666668,16.13146510822596,7.6018682251073999]
["TOTAL CHEQUEOS",{"$f":"SUM(B138:B162)","v":100},{"$f":"SUM(C138:C162)","v":{"$error":"#REF!"}},{"$f":"SUM(D138:D162)","v":{"$error":"#REF!"}},{"$f":"'HOJA DE DATOS'!Z129","v":30},null,null,null,{"$f":"SUM(I138:I162)","v":278.7},{"$f":"SUM(J138:J162)","v":378.23097052573297},{"$f":"SUM(K138:K162)","v":179.16902947426706}]
[]
[]
[null,"REAL","DATABASE AVERAGE","MAXIMUN","MINIMUM"]
["FEEDING",{"$f":"AVERAGE(D138:D142)","v":{"$error":"#REF!"}},{"$f":"AVERAGE(I138:I142)","v":11.246666666666661},{"$f":"AVERAGE(J138:J142)","v":15.265132579218493},{"$f":"AVERAGE(K138:K142)","v":7.2282007541148303},null,null,"REAL",{"$f":"IF(C138=\"\",\"\",D163)","v":{"$error":"#REF!"}}]
["HEALTH",{"$f":"AVERAGE(D143:D147)","v":{"$error":"#REF!"}},{"$f":"AVERAGE(I143:I147)","v":11.799999999999999},{"$f":"AVERAGE(J143:J147)","v":15.907057210774511},{"$f":"AVERAGE(K143:K147)","v":7.6929427892254862},null,null,"DATABASE AVERAGE",{"$f":"IF(C138=\"\",\"\",I163)","v":{"$error":"#REF!"}}]
["WELFARE&FACILITIES",{"$f":"AVERAGE(D148:D152)","v":{"$error":"#REF!"}},{"$f":"AVERAGE(I148:I152)","v":5.8},{"$f":"AVERAGE(J148:J152)","v":7.8408445838490461},{"$f":"AVERAGE(K148:K152)","v":3.7591554161509535},null,null,"MAXIMUM",{"$f":"IF(C138=\"\",\"\",J163)","v":{"$error":"#REF!"}}]
["PERFORMANCES",{"$f":"AVERAGE(D153:D157)","v":{"$error":"#REF!"}},{"$f":"AVERAGE(I153:I157)","v":10.746666666666666},{"$f":"AVERAGE(J153:J157)","v":15.817473533586703},{"$f":"AVERAGE(K153:K157)","v":5.6758597997466307},null,null,"MINIMUM",{"$f":"IF(C138=\"\",\"\",K163)","v":{"$error":"#REF!"}}]
["FEASIBILITY",{"$f":"AVERAGE(D158:D162)","v":{"$error":"#REF!"}},{"$f":"AVERAGE(I158:I162)","v":16.146666666666668},{"$f":"AVERAGE(J158:J162)","v":20.815686197717831},{"$f":"AVERAGE(K158:K162)","v":11.477647135615507}]
["GLOBAL SCORE"]
[]
[]
[]
["PPCC CAPRINO"]
[]
["COMPETENCIAS","PONDERACION","VALORACION GRANJA","REAL PONDERADA","PROMEDIO","MAXIMO",null,"MINIMO","MEDIA PONDERADA","MAX POND","MIN POND"]
["Sistemas de alimentación",4,{"$f":"IF('[2]PPCC CAPRINO'!C13=\"\",\"\",'[2]PPCC CAPRINO'!C13)","v":{"$error":"#REF!"}},{"$f":"IF(C179=\"\",\"\",B179*C179)","v":{"$error":"#REF!"}},{"$f":"'HOJA DE DATOS'!A135","v":3.25},{"$f":"E179+'HOJA DE DATOS'!A138","v":4.1779607271383368},null,{"$f":"E179-'HOJA DE DATOS'!A138","v":2.3220392728616632},{"$f":"E179*B179","v":13},{"$f":"F179*B179","v":16.711842908553347},{"$f":"H179*B179","v":9.2881570914466529}]
["Calidad y disponibilidad e forrajes",5,{"$f":"IF(#REF!=\"\",\"\",#REF!)","v":{"$error":"#REF!"}},{"$f":"IF(C180=\"\",\"\",B180*C180)","v":{"$error":"#REF!"}},{"$f":"'HOJA DE DATOS'!B135","v":3.1785714285714302},{"$f":"E180+'HOJA DE DATOS'!B138","v":3.9509449434985324},null,{"$f":"E180-'HOJA DE DATOS'!B138","v":2.4061979136443279},{"$f":"E180*B180","v":15.892857142857151},{"$f":"F180*B180","v":19.754724717492664},{"$f":"H180*B180","v":12.030989568221639}]
["Lotes de alimentacion",6,{"$f":"IF(#REF!=\"\",\"\",#REF!)","v":{"$error":"#REF!"}},{"$error":"#REF!"},{"$f":"'HOJA DE DATOS'!C135","v":2.9285714285714302},{"$f":"E181+'HOJA DE DATOS'!C138","v":3.6449704188188434},null,{"$f":"E181-'HOJA DE DATOS'!C138","v":2.2121724383240169},17.57142857142858,21.869822512913061,13.273034629944101]
["Aprovechamiento recursos naturales",4,{"$f":"IF(#REF!=\"\",\"\",#REF!)","v":{"$error":"#REF!"}},{"$error":"#REF!"},{"$f":"'HOJA DE DATOS'!D135","v":1.6428571428571399},{"$f":"E182+'HOJA DE DATOS'!D138","v":3.2113970563810099},null,{"$f":"E182-'HOJA DE DATOS'!D138","v":7.4317229333269896E-2},6.5714285714285596,12.84558822552404,0.29726891733307959]
["Automatización",3,{"$f":"IF(#REF!=\"\",\"\",#REF!)","v":{"$error":"#REF!"}},{"$error":"#REF!"},{"$f":"'HOJA DE DATOS'!E135","v":2.21428571428571},{"$f":"E183+'HOJA DE DATOS'!E138","v":2.782397783116608},null,{"$f":"E183-'HOJA DE DATOS'!E138","v":1.6461736454548119},6.6428571428571299,8.3471933493498245,4.9385209363644353]
["Existencia de protocolo sanitario",5,{"$f":"IF(#REF!=\"\",\"\",#REF!)","v":{"$error":"#REF!"}},{"$error":"#REF!"},{"$f":"'HOJA DE DATOS'!F135","v":3.4285714285714302},{"$f":"E184+'HOJA DE DATOS'!F138","v":4.4976163962211304},null,{"$f":"E184-'HOJA DE DATOS'!F138","v":2.3595264609217299},17.142857142857149,22.488081981105651,11.79763230460865]
["Mortalidad en chivos",5,{"$f":"IF(#REF!=\"\",\"\",#REF!)","v":{"$error":"#REF!"}},{"$error":"#REF!"},{"$f":"'HOJA DE DATOS'!G135","v":2.8214285714285698},{"$f":"E185+'HOJA DE DATOS'!G138","v":4.0094418968486396},null,{"$f":"E185-'HOJA DE DATOS'!G138","v":1.6334152460084999},14.107142857142849,20.047209484243197,8.1670762300424986]
["Mortalidad en adultos",5,{"$f":"IF(#REF!=\"\",\"\",#REF!)","v":{"$error":"#REF!"}},{"$error":"#REF!"},{"$f":"'HOJA DE DATOS'!H135","v":2.8571428571428599},{"$f":"E186+'HOJA DE DATOS'!H138","v":3.9360409820931102},null,{"$f":"E186-'HOJA DE DATOS'!H138","v":1.7782447321926098},14.285714285714299,19.680204910465552,8.8912236609630497]
["Incidencia patologia más frecuente",2,{"$f":"IF(#REF!=\"\",\"\",#REF!)","v":{"$error":"#REF!"}},{"$error":"#REF!"},{"$f":"'HOJA DE DATOS'!I135","v":2.1785714285714302},{"$f":"E187+'HOJA DE DATOS'!I138","v":3.0834377550435059},null,{"$f":"E187-'HOJA DE DATOS'!I138","v":1.2737051020993542},4.3571428571428603,6.1668755100870118,2.5474102041987083]
["Porcentaje de mamitis",3,{"$f":"IF(#REF!=\"\",\"\",#REF!)","v":{"$error":"#REF!"}},{"$error":"#REF!"},{"$f":"'HOJA DE DATOS'!J135","v":2.46428571428571},{"$f":"E188+'HOJA DE DATOS'!J138","v":3.5692289123277998},null,{"$f":"E188-'HOJA DE DATOS'!J138","v":1.3593425162436199},7.3928571428571299,10.707686736983399,4.0780275487308595]
["Lactancia Artificial",3,{"$f":"IF(#REF!=\"\",\"\",#REF!)","v":{"$error":"#REF!"}},{"$error":"#REF!"},{"$f":"'HOJA DE DATOS'!K135","v":2.0714285714285698},{"$f":"E189+'HOJA DE DATOS'!K138","v":3.2555385334322695},null,{"$f":"E189-'HOJA DE DATOS'!K138","v":0.88731860942486995},6.21428571428571,9.7666156002968094,2.6619558282746096]
["Tipo sala de ordeño",3,{"$f":"IF(#REF!=\"\",\"\",#REF!)","v":{"$error":"#REF!"}},{"$error":"#REF!"},{"$f":"'HOJA DE DATOS'!L135","v":2.78571428571429},{"$f":"E190+'HOJA DE DATOS'!L138","v":3.523937520903718},null,{"$f":"E190-'HOJA DE DATOS'!L138","v":2.047491050524862},8.3571428571428701,10.571812562711154,6.1424731515745865]
["Control ambiental en naves",3,{"$f":"IF(#REF!=\"\",\"\",#REF!)","v":{"$error":"#REF!"}},{"$error":"#REF!"},{"$f":"'HOJA DE DATOS'!M135","v":2.28571428571429},{"$f":"E191+'HOJA DE DATOS'!M138","v":3.0486104660760622},null,{"$f":"E191-'HOJA DE DATOS'!M138","v":1.522818105352518},6.8571428571428701,9.1458313982281858,4.5684543160575544]
["Parques por lotes",2,{"$f":"IF(#REF!=\"\",\"\",#REF!)","v":{"$error":"#REF!"}},{"$error":"#REF!"},{"$f":"'HOJA DE DATOS'!N135","v":2.21428571428571},{"$f":"E192+'HOJA DE DATOS'!N138","v":2.9005068673402272},null,{"$f":"E192-'HOJA DE DATOS'!N138","v":1.5280645612311929},4.4285714285714199,5.8010137346804544,3.0561291224623859]
["Comederos/Bebederos",2,{"$f":"IF(#REF!=\"\",\"\",#REF!)","v":{"$error":"#REF!"}},{"$error":"#REF!"},{"$f":"'HOJA DE DATOS'!O135","v":2.4285714285714302},{"$f":"E193+'HOJA DE DATOS'!O138","v":3.3486588410279019},null,{"$f":"E193-'HOJA DE DATOS'!O138","v":1.5084840161149582},4.8571428571428603,6.6973176820558038,3.0169680322299164]
["Porcentaje de reposición",3,{"$f":"IF(#REF!=\"\",\"\",#REF!)","v":{"$error":"#REF!"}},{"$error":"#REF!"},{"$f":"'HOJA DE DATOS'!P135","v":3.6071428571428599},{"$f":"E194+'HOJA DE DATOS'!P138","v":4.236032867798655},null,{"$f":"E194-'HOJA DE DATOS'!P138","v":2.9782528464870648},10.82142857142858,12.708098603395964,8.9347585394611944]
["Producción media",8,{"$f":"IF(#REF!=\"\",\"\",#REF!)","v":{"$error":"#REF!"}},{"$error":"#REF!"},{"$f":"'HOJA DE DATOS'!Q135","v":2.0714285714285698},{"$f":"E195+'HOJA DE DATOS'!Q138","v":3.2555385334322695},null,{"$f":"E195-'HOJA DE DATOS'!Q138","v":0.88731860942486995},16.571428571428559,26.044308267458156,7.0985488753989596]
["Calidad Media",7,{"$f":"IF(#REF!=\"\",\"\",#REF!)","v":{"$error":"#REF!"}},{"$error":"#REF!"},{"$f":"'HOJA DE DATOS'!R135","v":2.8214285714285698},{"$f":"E196+'HOJA DE DATOS'!R138","v":3.8047551788847178},null,{"$f":"E196-'HOJA DE DATOS'!R138","v":1.8381019639724219},19.749999999999989,26.633286252193024,12.866713747806953]
["Cabritos vendidos",3,{"$f":"IF(#REF!=\"\",\"\",#REF!)","v":{"$error":"#REF!"}},{"$error":"#REF!"},{"$f":"'HOJA DE DATOS'!S135","v":1.8571428571428601},{"$f":"E197+'HOJA DE DATOS'!S138","v":2.96984013767123},null,{"$f":"E197-'HOJA DE DATOS'!S138","v":0.74444557661449018},5.5714285714285801,8.9095204130136896,2.2333367298434705]
["Cabras por UTH",3,{"$f":"IF(#REF!=\"\",\"\",#REF!)","v":{"$error":"#REF!"}},{"$error":"#REF!"},{"$f":"'HOJA DE DATOS'!T135","v":1.78571428571429},{"$f":"E198+'HOJA DE DATOS'!T138","v":2.8864595839737097},null,{"$f":"E198-'HOJA DE DATOS'!T138","v":0.68496898745487012},5.3571428571428701,8.6593787519211283,2.0549069623646101]
["Ingresos por leche",6,{"$f":"IF(#REF!=\"\",\"\",#REF!)","v":{"$error":"#REF!"}},{"$error":"#REF!"},{"$f":"'HOJA DE DATOS'!U135","v":2.9285714285714302},{"$f":"E199+'HOJA DE DATOS'!U138","v":3.7418214893618744},null,{"$f":"E199-'HOJA DE DATOS'!U138","v":2.1153213677809859},17.57142857142858,22.450928936171245,12.691928206685915]
["Ingresos por animales vendidos",3,{"$f":"IF(#REF!=\"\",\"\",#REF!)","v":{"$error":"#REF!"}},{"$error":"#REF!"},{"$f":"'HOJA DE DATOS'!V135","v":2.25},{"$f":"E200+'HOJA DE DATOS'!V138","v":3.0943713418650369},null,{"$f":"E200-'HOJA DE DATOS'!V138","v":1.4056286581349631},6.75,9.2831140255951112,4.2168859744048888]
["Coste mano de obra",3,{"$f":"IF(#REF!=\"\",\"\",#REF!)","v":{"$error":"#REF!"}},{"$error":"#REF!"},{"$f":"'HOJA DE DATOS'!W135","v":2.6428571428571401},{"$f":"E201+'HOJA DE DATOS'!W138","v":3.66897119739009},null,{"$f":"E201-'HOJA DE DATOS'!W138","v":1.6167430883241902},7.9285714285714199,11.006913592170271,4.8502292649725707]
["Coste alimentación",5,{"$f":"IF(#REF!=\"\",\"\",#REF!)","v":{"$error":"#REF!"}},{"$error":"#REF!"},{"$f":"'HOJA DE DATOS'!X135","v":3.21428571428571},{"$f":"E202+'HOJA DE DATOS'!X138","v":3.9005068673402272},null,{"$f":"E202-'HOJA DE DATOS'!X138","v":2.5280645612311927},16.071428571428548,19.502534336701135,12.640322806155964]
["Amortizaciones /Subvenciones",4,{"$f":"IF(#REF!=\"\",\"\",#REF!)","v":{"$error":"#REF!"}},{"$error":"#REF!"},{"$f":"'HOJA DE DATOS'!Y135","v":2.4285714285714302},{"$f":"E203+'HOJA DE DATOS'!Y138","v":3.6587045568252403},null,{"$f":"E203-'HOJA DE DATOS'!Y138","v":1.1984383003176202},9.7142857142857206,14.634818227300961,4.7937532012704809]
["TOTAL CHEQUEOS",{"$f":"SUM(B179:B203)","v":100},{"$f":"SUM(C179:C203)","v":{"$error":"#REF!"}},{"$f":"SUM(D179:D203)","v":{"$error":"#REF!"}},{"$f":"'HOJA DE DATOS'!Z135","v":28},null,null,null,{"$f":"SUM(I179:I203)","v":263.78571428571428},{"$f":"SUM(J179:J203)","v":360.43472272061086},{"$f":"SUM(K179:K203)","v":167.13670585081775}]
[]
[]
[null,"REAL","MEDIA BBDD","MAXIMO","MINIMO"]
["ALIMENTACION",{"$f":"AVERAGE(D179:D183)","v":{"$error":"#REF!"}},{"$f":"AVERAGE(I179:I183)","v":11.935714285714287},{"$f":"AVERAGE(J179:J183)","v":15.905834342766587},{"$f":"AVERAGE(K179:K183)","v":7.9655942286619803},null,null,"REAL",{"$f":"D204","v":{"$error":"#REF!"}}]
["SANIDAD",{"$f":"AVERAGE(D184:D188)","v":{"$error":"#REF!"}},{"$f":"AVERAGE(I184:I188)","v":11.457142857142859},{"$f":"AVERAGE(J184:J188)","v":15.818011724576962},{"$f":"AVERAGE(K184:K188)","v":7.0962739897087532},null,null,"PROMEDIO BBDD",{"$f":"I204","v":263.78571428571428}]
["INSTALACIONES Y B.A.",{"$f":"AVERAGE(D189:D193)","v":{"$error":"#REF!"}},{"$f":"AVERAGE(I189:I193)","v":6.1428571428571468},{"$f":"AVERAGE(J189:J193)","v":8.3965181955944814},{"$f":"AVERAGE(K189:K193)","v":3.8891960901198104},null,null,"MAXIMO",{"$f":"J204","v":360.43472272061086}]
["PRODUCCIONES-INDICES",{"$f":"AVERAGE(D194:D198)","v":{"$error":"#REF!"}},{"$f":"AVERAGE(I194:I198)","v":11.614285714285716},{"$f":"AVERAGE(J194:J198)","v":16.590918457596391},{"$f":"AVERAGE(K194:K198)","v":6.6376529709750383},null,null,"MINIMO",{"$f":"K204","v":167.13670585081775}]
["CONDICIONES ECONOMICAS",{"$f":"AVERAGE(D199:D203)","v":{"$error":"#REF!"}},{"$f":"AVERAGE(I199:I203)","v":11.607142857142854},{"$f":"AVERAGE(J199:J203)","v":15.375661823587745},{"$f":"AVERAGE(K199:K203)","v":7.8386238906979644}]
[]
[]
["PLAN EXPLOTACION",null,null,"TIEMPO ENTRE PARIDERAS","Nº BANDAS","M2 NAVE",{"$f":"IF(#REF!=\"\",\"\",#REF!)","v":{"$error":"#REF!"}}]
[null,1," 1 paridera/año",365,null,"OVEJAS TOTAL",{"$f":"IF(#REF!=\"\",\"\",#REF!)","v":{"$error":"#REF!"}}]
["NATURAL LACTANCY",2,"2 parideras/año",{"$f":"$D$216/B217","v":182.5},null,"Ovejas /paridera",{"$f":"IF(#REF!=\"\",\"\",#REF!)","v":{"$error":"#REF!"}}]
["ARTIFICIAL LACTANCY",3,"3 parideras/año",{"$f":"$D$216/B218","v":121.66666666666667}]
[{"$f":"IF(#REF!=\"\",\"\",#REF!)","v":{"$error":"#REF!"}},4,"4 paridera/año",{"$f":"$D$216/B219","v":91.25},null,"m2 nevesarios tot",{"$f":"G216*1.5","v":{"$error":"#REF!"}}]
[null,5,"Sistema STAR",{"$f":"$D$216/B220","v":73},null,"m2 disp LN",{"$f":"IF(G215=\"\",\"\",G215-((G216-G217)*1.5))","v":{"$error":"#REF!"}}]
[null,6,"Sisitema CAMAL",{"$f":"$D$216/B221","v":60.833333333333336},null,null,{"$f":"IF(#REF!=\"\",\"\",#REF!)","v":{"$error":"#REF!"}}]
[]
[null,"PARIDERAS MIN",{"$f":"IF(#REF!=\"\",\"\",(#REF!*#REF!)/(#REF!/#REF!))","v":{"$error":"#REF!"}},{"$f":"C223+0.25","v":{"$error":"#REF!"}}]
[]
[null,"TIPO","TIEMPO","FECHA PARTO PLANIF."]
[null,{"$f":"#REF!","v":{"$error":"#REF!"}},{"$f":"VLOOKUP(B226,C216:D221,2,FALSE)","v":{"$error":"#REF!"}},{"$f":"#REF!","v":{"$error":"#REF!"}}]
[]
[null,"BANDA 1",{"$f":"D226","v":{"$error":"#REF!"}}]
[null,"BANDA 2",{"$f":"C228+$C$226","v":{"$error":"#REF!"}}]
[null,"BANDA 3",{"$f":"C229+$C$226","v":{"$error":"#REF!"}}]
[null,"BANDA 4",{"$f":"C230+$C$226","v":{"$error":"#REF!"}}]
[]
[null,"BANDA ELEGIDA"]
[null,{"$f":"#REF!","v":{"$error":"#REF!"}},{"$f":"VLOOKUP(B234,B228:C231,2,FALSE)","v":{"$error":"#REF!"}}]
[]
[]
["CALENDARIO REPRODUCTIVO"]
[]
[]
[]
["Cría",{"$f":"'CALENDARIO REPRODUCTIVO'!C12","v":0},"d"]
["Gestación",148,"d"]
[null,"Duraciuon","Colocar","Retirar/Soltar machos","Cubrición","d100 gestac","Parto","Destete","d1 ordeño","d90 ordeño","d150 ordeño","d240 ordeño"]
["PROGESTAGENUS SPONGES",12,{"$f":"'CALENDARIO REPRODUCTIVO'!C13","v":"00:00:00"},{"$f":"C244+B$244-1","v":"1900-01-11"},{"$f":"D244+2","v":"1900-01-13"},{"$f":"E244+100","v":"1900-04-22"},{"$f":"E244+B$242","v":"1900-06-09"},{"$f":"G244+B$241","v":"1900-06-09"},{"$f":"H244+1","v":"1900-06-10"},{"$f":"I244+89","v":"1900-09-07"},{"$f":"I244+149","v":"1900-11-06"},{"$f":"I244+239","v":"1901-02-04"}]
["MALES EFFECT",45,{"$f":"C244","v":"00:00:00"},{"$f":"C245+B245","v":"1900-02-14"},{"$f":"D245+2","v":"1900-02-16"},{"$f":"E245+100","v":"1900-05-26"},{"$f":"E245+B$242","v":"1900-07-13"},{"$f":"G245+B$241","v":"1900-07-13"},{"$f":"H245+1","v":"1900-07-14"},{"$f":"I245+89","v":"1900-10-11"},{"$f":"I245+149","v":"1900-12-10"},{"$f":"I245+239","v":"1901-03-10"}]
["MELATONINE IMPLANTS",45,{"$f":"C244","v":"00:00:00"},{"$f":"C246+B246","v":"1900-02-14"},{"$f":"D246+2","v":"1900-02-16"},{"$f":"E246+100","v":"1900-05-26"},{"$f":"E246+B$242","v":"1900-07-13"},{"$f":"G246+B$241","v":"1900-07-13"},{"$f":"H246+1","v":"1900-07-14"},{"$f":"I246+89","v":"1900-10-11"},{"$f":"I246+149","v":"1900-12-10"},{"$f":"I246+239","v":"1901-03-10"}]
[]
[]
[null,2,3,4,5,6,7,8,9,10,11,12]
[]
[{"$f":"'CALENDARIO REPRODUCTIVO'!C11","v":0},{"$f":"VLOOKUP($A$251,$A$244:$L$246,B249,FALSE)","v":{"$error":"#N/A"}},{"$error":"#N/A"},{"$error":"#N/A"},{"$error":"#N/A"},{"$error":"#N/A"},{"$error":"#N/A"},{"$error":"#N/A"},{"$error":"#N/A"},{"$error":"#N/A"},{"$error":"#N/A"},{"$error":"#N/A"}]
[]
[]
[]
[]
["MOMENTO DE SECADO"]
[]
["PRECIO LECHE",{"$f":"#REF!","v":{"$error":"#REF!"}}]
["DIAS",{"$f":"#REF!-#REF!","v":{"$error":"#REF!"}}]
["PRODUCCION CONTROL",{"$f":"(#REF!/2)*1000","v":{"$error":"#REF!"}}]
["EQ",{"$f":"#REF!","v":{"$error":"#REF!"}}]
["COSTE",{"$f":"#REF!","v":{"$error":"#REF!"}}]
["ECUACION 1",{"$f":"(ECUACIONES!B25*'ENLACES DATOS'!B260)+(ECUACIONES!C25*'ENLACES DATOS'!B259)","v":{"$error":"#REF!"}}]
["ECUACION 2",{"$f":"(ECUACIONES!B26*'ENLACES DATOS'!B260)+(ECUACIONES!C26*'ENLACES DATOS'!B259)","v":{"$error":"#REF!"}}]
["LITROS /DIA",{"$f":"(B260*2)/1000","v":{"$error":"#REF!"}}]
["PRODUCCION EQ (GR)",{"$f":"(B261*1000)*B265","v":{"$error":"#REF!"}}]
["PRECIO LITRO LECHE",{"$f":"B268/B265","v":{"$error":"#REF!"}}]
["INGRESOS",{"$f":"(B258*B266)/10000","v":{"$error":"#REF!"}}]
["UMBRAL",{"$f":"B262/B267","v":{"$error":"#REF!"}}]
["CONTROL UNBRAL",{"$f":"B269/2","v":{"$error":"#REF!"}}]
["DIAS HASTA SECADO",{"$f":"(B264-((ECUACIONES!B26)*('ENLACES DATOS'!B270*1000)))/ECUACIONES!C26","v":{"$error":"#REF!"}}]
["DIAS HASTA CUBRICION",{"$f":"B271-90","v":{"$error":"#REF!"}}]
[]
[]
["CURVA DE LACTACION OVEJA",null,null,null,null,null,null,"CURVA DE LACTACION OVEJA CSIC"]
[]
["DIAS LACTACION","FECHA","OVEJA","DIAS SIMULACION","PRODUCCION SIMULACION",null,null,"FECHA PARTO",{"$f":"IF(#REF!=\"\",\"\",#REF!)","v":{"$error":"#REF!"}},null,"FECHA SIMULACION",{"$f":"IF(#REF!=\"\",\"\",#REF!)","v":{"$error":"#REF!"}}]
[null,null,null,{"$f":"#REF!-#REF!","v":{"$error":"#REF!"}},{"$f":"VLOOKUP(D278,A289:C463,3,FALSE)","v":{"$error":"#REF!"}},null,null,"FECHA CONTROL",{"$f":"IF(#REF!=\"\",\"\",#REF!)","v":{"$error":"#REF!"}},null,"DML",{"$f":"IF(L277=\"\",\"\",L277-I277)","v":{"$error":"#REF!"}}]
[null,null,null,null,null,null,null,"PRODUCCION CONTROL (dia)",{"$f":"IF(#REF!=\"\",\"\",#REF!)","v":{"$error":"#REF!"}},null,"PRODUCCION 1",{"$f":"IF(L278=\"\",\"\",((I290-(J290*L278))*2)/1000)","v":{"$error":"#REF!"}},{"$f":"IF(L279=\"\",\"\",AVERAGE(L279:L280))","v":{"$error":"#REF!"}}]
[null,null,null,null,null,null,null,"DML",{"$f":"IF(I278=\"\",\"\",I278-I277)","v":{"$error":"#REF!"}},null,"PRODUCCION 2",{"$f":"IF(L278=\"\",\"\",((I291-(J291*L278))*2)/1000)","v":{"$error":"#REF!"}}]
[]
[null,null,null,null,null,null,null,"PROD.LACTACION1",{"$f":"IF(I279=\"\",\"\",(ECUACIONES!B26*(('ENLACES DATOS'!I279/2)*1000))+(ECUACIONES!C26*'ENLACES DATOS'!I280))","v":{"$error":"#REF!"}},{"$f":"IF(I282=\"\",\"\",AVERAGE(I282:I283))","v":{"$error":"#REF!"}}]
[null,null,null,null,null,null,null,"PROD LACTACION 2",{"$f":"IF(I279=\"\",\"\",(ECUACIONES!B25*(('ENLACES DATOS'!I279/2)*1000))+(ECUACIONES!C25*'ENLACES DATOS'!I280))","v":{"$error":"#REF!"}}]
[]
[]
["PRODUCCION EC2",{"$f":"(ECUACIONES!B26*(('ENLACES DATOS'!C278/2)*1000))+(ECUACIONES!C26*'ENLACES DATOS'!A278)","v":0},{"$f":"AVERAGE(B286:B287)","v":0}]
["PRODUCCION EC 1",{"$f":"(ECUACIONES!B25*(('ENLACES DATOS'!C278/2)*1000))+(ECUACIONES!C25*'ENLACES DATOS'!A278)","v":0},null,null,null,null,null,"codigo",{"$f":"IF(J282=\"\",\"\",IF(J282<200,2,IF(J282<350,3,IF(J282<500,4,IF(J282<700,5,6)))))","v":{"$error":"#REF!"}}]
[]
[null,null,null,null,null,null,null,null,"A","B","n"]
[null,null,null,null,null,null,null,"ecuacion1",{"$f":"IF(I287=\"\",\"\",VLOOKUP(I287,ECUACIONES!B40:D45,2,FALSE))","v":{"$error":"#REF!"}},{"$f":"IF(I287=\"\",\"\",VLOOKUP($I$287,ECUACIONES!$B$40:$E$45,3,FALSE))","v":{"$error":"#REF!"}},{"$f":"IF(I287=\"\",\"\",VLOOKUP($I$287,ECUACIONES!$B$40:$E$45,4,FALSE))","v":{"$error":"#REF!"}}]
[null,null,null,null,null,null,null,1,{"$f":"IF(I279=\"\",\"\",VLOOKUP(H291,ECUACIONES!B40:D45,2,FALSE))","v":{"$error":"#REF!"}},{"$f":"IF(I279=\"\",\"\",VLOOKUP($H$291,ECUACIONES!B40:E45,3,FALSE))","v":{"$error":"#REF!"}},{"$f":"IF(I279=\"\",\"\",VLOOKUP($H$291,ECUACIONES!B40:E45,4,FALSE))","v":{"$error":"#REF!"}},"global"]
[]
[null,null,null,null,null,null,null,"CURVA LACTACION"]
[null,null,null,null,null,null,null,"dias"]
[null,null,null,null,null,null,null,{"$f":"IF(I280=\"\",\"\",I280)","v":{"$error":"#REF!"}},{"$f":"IF(H295=\"\",\"\",(($I$290-$J$290*H295)*2)/1000)","v":{"$error":"#REF!"}}]
[null,null,null,null,null,null,null,{"$f":"IF(H295=\"\",\"\",H295+30)","v":{"$error":"#REF!"}},{"$error":"#REF!"}]
[null,null,null,null,null,null,null,{"$f":"IF(H296=\"\",\"\",H296+30)","v":{"$error":"#REF!"}},{"$error":"#REF!"}]
[null,null,null,null,null,null,null,{"$error":"#REF!"},{"$error":"#REF!"}]
[null,null,null,null,null,null,null,{"$error":"#REF!"},{"$error":"#REF!"}]
[null,null,null,null,null,null,null,{"$error":"#REF!"},{"$error":"#REF!"}]
[null,null,null,null,null,null,null,{"$error":"#REF!"},{"$error":"#REF!"}]
[null,null,null,null,null,null,null,{"$error":"#REF!"},{"$error":"#REF!"}]
[]
[]
[]
[]
[]
[]
[]
[]
[]
[]
[]
[]
[]
[]
[]
[]
[]
[]
[]
[]
[]
[]
[]
[]
[]
[]
[]
[]
[]
[]
[]
[]
[]
[]
[]
[]
[]
[]
[]
[]
[]
[]
[]
[]
[]
[]
[]
[]
[]
[]
[]
[]
[]
[]
[]
[]
[]
[]
[]
[]
[]
[]
[]
[]
[]
[]
[]
[]
[]
[]
[]
[]
[]
[]
[]
[]
[]
[]
[]
[]
[]
[]
[]
[]
[]
[]
[]
[]
[]
[]
[]
[]
[]
[]
[]
[]
[]
[]
[]
[]
[]
[]
[]
[]
[]
[]
[]
[]
[]
[]
[]
[]
[]
[]
[]
[]
[]
[]
[]
[]
[]
[]
[]
[]
[]
[]
[]
[]
[]
[]
[]
[]
[]
[]
[]
[]
[]
[]
[]
[]
[]
[]
[]
[]
[]
[]
[]
[]
[]
[]
[]
[]
[]
[]
[]
[]
[]
[]
[]
[]
[]
[]
[]
[null,null,{"$f":"SUM(C289:C463)","v":0}]
[]
[]
[]
[]
[]
[]
["CURVA DE LACTACION CABRA"]
[]
["DIAS LACTACION","FECHA","CABRA","DIAS SIMULACION","PRODUCCION SIMULACION"]
[null,null,null,{"$f":"#REF!-#REF!","v":{"$error":"#REF!"}},{"$f":"VLOOKUP(D476,A487:C767,3,FALSE)","v":{"$error":"#REF!"}}]
[]
[]
[]
[]
[]
[]
[]
["PRODUCCION"]
[]
[]
[]
[]
[]
[]
[]
[]
[]
[]
[]
[]
[]
[]
[]
[]
[]
[]
[]
[]
[]
[]
[]
[]
[]
[]
[]
[]
[]
[]
[]
[]
[]
[]
[]
[]
[]
[]
[]
[]
[]
[]
[]
[]
[]
[]
[]
[]
[]
[]
[]
[]
[]
[]
[]
[]
[]
[]
[]
[]
[]
[]
[]
[]
[]
[]
[]
[]
[]
[]
[]
[]
[]
[]
[]
[]
[]
[]
[]
[]
[]
[]
[]
[]
[]
[]
[]
[]
[]
[]
[]
[]
[]
[]
[]
[]
[]
[]
[]
[]
[]
[]
[]
[]
[]
[]
[]
[]
[]
[]
[]
[]
[]
[]
[]
[]
[]
[]
[]
[]
[]
[]
[]
[]
[]
[]
[]
[]
[]
[]
[]
[]
[]
[]
[]
[]
[]
[]
[]
[]
[]
[]
[]
[]
[]
[]
[]
[]
[]
[]
[]
[]
[]
[]
[]
[]
[]
[]
[]
[]
[]
[]
[]
[]
[]
[]
[]
[]
[]
[]
[]
[]
[]
[]
[]
[]
[]
[]
[]
[]
[]
[]
[]
[]
[]
[]
[]
[]
[]
[]
[]
[]
[]
[]
[]
[]
[]
[]
[]
[]
[]
[]
[]
[]
[]
[]
[]
[]
[]
[]
[]
[]
[]
[]
[]
[]
[]
[]
[]
[]
[]
[]
[]
[]
[]
[]
[]
[]
[]
[]
[]
[]
[]
[]
[]
[]
[]
[]
[]
[]
[]
[]
[]
[]
[]
[]
[]
[]
[]
[]
[]
[]
[]
[]
[]
[]
[]
[]
[]
[]
[]
[]
[]
[]
[]
[]
[]
[]
[]
[]
[]
[]
[]
[]
[]
[]
[]
[]
[]
[]
[]
[]
[]
[]
[]
[null,null,{"$f":"SUM(C487:C767)","v":0}]
[]
[]
[]
[]
["VALORACION ALIMENTOS INRA 2007"]
[]
[]
["VALORES ENERGIA"]
[]
[]
[]
[null,"ALIMENTO A VALORAR"]
[null,{"$f":"IF('VALORACION ALIMENTOS INRA'!C18=\"\",\"\",'VALORACION ALIMENTOS INRA'!C18)","v":"WET LEGUME"}]
[]
[]
[null,"MATERIA SECA",{"$f":"'VALORACION ALIMENTOS INRA'!D19","v":0.2}]
[null,null,"SSS","SSF"]
[null,"FIBRA BRUTA",{"$f":"IF($C$786=\"\",\"\",D788/$C$786)","v":0.22},{"$f":"'VALORACION ALIMENTOS INRA'!D21","v":4.4000000000000004E-2},"%"]
[null,"PROTEINA BRUTA",{"$f":"IF($C$786=\"\",\"\",D789/$C$786)","v":9.9999999999999992E-2},{"$f":"'VALORACION ALIMENTOS INRA'!D22","v":0.02},"%"]
[null,"GRASA BRUTA",{"$f":"IF($C$786=\"\",\"\",D790/$C$786)","v":1.6E-2},{"$f":"'VALORACION ALIMENTOS INRA'!D23","v":3.2000000000000002E-3},"%"]
[null,"CENIZAS",{"$f":"IF($C$786=\"\",\"\",D791/$C$786)","v":0.08},{"$f":"'VALORACION ALIMENTOS INRA'!D24","v":1.6E-2},"%"]
[]
[]
[null,null,"SSS","SSF"]
[null,"ENERGIA BRUTA",{"$f":"IF($B$783=\"\",\"\",(VLOOKUP($B$783,$B$818:$O$838,5,FALSE)))","v":4403.58},{"$f":"IF($B$783=\"\",\"\",C795*$C$786)","v":880.71600000000001},"Kcal"]
[null,"ENERGIA DIGESTIBLE",{"$f":"IF($B$783=\"\",\"\",(VLOOKUP($B$783,$B$818:$O$838,6,FALSE)))","v":3085.1904223679999},{"$f":"IF($B$783=\"\",\"\",C796*$C$786)","v":617.03808447360007},"Kcal"]
[null,"ENERGIA METABOLIZABLE",{"$f":"IF($B$783=\"\",\"\",(VLOOKUP($B$783,$B$818:$O$838,9,FALSE)))","v":2573.4244006541571},514.6848801308314,"Kcal"]
[null,"ENERGIA NETA LACTACION",{"$f":"IF($B$783=\"\",\"\",$C$797*C806)","v":1563.9269684877343},312.78539369754685,"Kcal"]
[null,"ENERGIA NETA MANT Y CEBO",{"$f":"IF($B$783=\"\",\"\",$C$797*C807)","v":1552.9445028703658},310.58890057407319,"Kcal"]
[null,"UFL",{"$f":"IF($B$783=\"\",\"\",C798/1700)","v":0.91995704028690251},0.18399140805738051]
[null,"UFC",{"$f":"IF($B$783=\"\",\"\",C799/1820)","v":0.85326621036833283},0.17065324207366658]
[]
[]
[null,"dE",{"$f":"IF($B$783=\"\",\"\",(VLOOKUP($B$783,$B$818:$O$838,3,FALSE)))","v":0.70060959999999994}]
[null,"NA",{"$f":"IF($B$783=\"\",\"\",(VLOOKUP($B$783,$B$818:$O$838,7,FALSE)))","v":1.7}]
[null,"kl",{"$f":"IF($B$783=\"\",\"\",(VLOOKUP($B$783,$B$818:$O$838,14,FALSE)))","v":0.60772213401341357}]
[null,"kmf",{"$f":"IF($B$783=\"\",\"\",(VLOOKUP($B$783,$B$818:$O$838,11,FALSE)))","v":0.60345448752083475}]
[null,"q",{"$f":"IF($B$783=\"\",\"\",(VLOOKUP($B$783,$B$818:$O$838,10,FALSE)))","v":0.58439369800347829}]
[]
[null,null,"gr/KgMS","gr/KgMO"]
[null,"fb",{"$f":"C788*1000","v":220},{"$f":"IF(C811=\"\",\"\",C811/(1-($C$814/1000)))","v":239.13043478260869}]
[null,"pb",{"$f":"C789*1000","v":99.999999999999986},{"$f":"IF(C812=\"\",\"\",C812/(1-($C$814/1000)))","v":108.69565217391302}]
[null,"gb",{"$f":"C790*1000","v":16},{"$f":"IF(C813=\"\",\"\",C813/(1-($C$814/1000)))","v":17.391304347826086}]
[null,"mm",{"$f":"C791*1000","v":80},{"$f":"IF(C814=\"\",\"\",C814/(1-($C$814/1000)))","v":86.956521739130437}]
[]
[]
[null,null,"dMO","dE","EB(smo)","EB(sss)","ED (sss)","NA","EM/ED","EM","q","kl","km","kf","kmf"]
[null,"PRAIRIE",{"$f":"IF(B783=\"\",\"\",90.1-(0.095*C811)+(0.044*C812))","v":73.599999999999994},{"$f":"IF(B783=\"\",\"\",(0.957*C818)-0.068)/100","v":0.70367199999999996},{"$f":"IF(B783=\"\",\"\",4531+(1.735*$C$812)-11)","v":4693.5},{"$f":"IF($B$783=\"\",\"\",(E818*(1000-$C$814))/1000)","v":4318.0200000000004},{"$f":"IF($B$783=\"\",\"\",F818*D818)","v":3038.4697694400002},1.7,{"$f":"IF($B$783=\"\",\"\",(84.17-(0.0099*$D$811)-(0.0196*$D$812)+(2.2*H818))/100)","v":0.83412173913043486},{"$f":"IF($B$783=\"\",\"\",G818*I818)","v":2534.4536883805445},{"$f":"IF($B$783=\"\",\"\",J818/F818)","v":0.58694811241739131},{"$f":"IF($B$783=\"\",\"\",0.6+(0.24*(K818-0.57)))","v":0.60406754698017395},{"$f":"IF($B$783=\"\",\"\",(0.287*K818)+0.554)","v":0.72245410826379131},{"$f":"IF($B$783=\"\",\"\",(0.78*K818)+0.006)","v":0.46381952768556522},{"$f":"IF($B$783=\"\",\"\",(M818*N818*1.5)/(N818+(0.5*M818)))","v":0.60921709874475649}]
[null,"GRASS WET",{"$f":"IF(B783=\"\",\"\",90.8-(0.091*C811)+(0.035*C812))","v":74.28},{"$f":"IF(B783=\"\",\"\",(0.957*C819)-0.068)/100","v":0.71017960000000002},{"$f":"IF(B783=\"\",\"\",4531+(1.735*$C$812)-71)","v":4633.5},4262.82,3027.3678024719998,1.7,0.83412173913043486,{"$f":"IF($B$783=\"\",\"\",G819*I819)","v":2525.1932963854274},0.59237624304695657,{"$f":"IF($B$783=\"\",\"\",0.6+(0.24*(K819-0.57)))","v":0.60537029833126954},{"$f":"IF($B$783=\"\",\"\",(0.287*K819)+0.554)","v":0.72401198175447656},{"$f":"IF($B$783=\"\",\"\",(0.78*K819)+0.006)","v":0.46805346957662614},{"$f":"IF($B$783=\"\",\"\",(M819*N819*1.5)/(N819+(0.5*M819)))","v":0.61238321389037442}]
[null,"WET LEGUME",{"$f":"IF(B783=\"\",\"\",95.5-(0.101*$C$811))","v":73.28},{"$f":"IF(B783=\"\",\"\",(0.957*C820)-0.068)/100","v":0.70060959999999994},{"$f":"IF(B783=\"\",\"\",4531+(1.735*$C$812)+82)","v":4786.5},4403.58,3085.1904223679999,1.7,0.83412173913043486,2573.4244006541571,0.58439369800347829,0.60345448752083475,0.7217209913269983,0.46182708444271309,0.60772213401341357]
[null,"GREEN CORN",{"$f":"IF(B783=\"\",\"\",90.8-(0.091*$C$811)+(0.035*$C$812))","v":74.28},{"$f":"IF(B783=\"\",\"\",(0.997*C821)-2.35)/100","v":0.71707160000000003},{"$f":"IF(B783=\"\",\"\",4487+(2.019*$C$812))","v":4688.8999999999996},4313.7879999999996,3093.2948632207999,1.2,0.82312173913043496,2546.1582474575457,0.59023722247304367,0.60485693339353042,0.72339808284976359,0.46638503352897409,0.61113729148241902]
[null,"PRAIRIE SILAGE",{"$f":"IF(B783=\"\",\"\",105.1-(0.123*$C$811))","v":78.039999999999992},{"$f":"IF(B783=\"\",\"\",(1.0263*C822)-5.723)/100","v":0.74369451999999991},{"$f":"IF(B783=\"\",\"\",3910+(2.45*$C$812)+(169*3.5))","v":4746.5},4366.78,3247.5503560455995,1.5,0.8297217391304349,2694.5631293318179,0.61705951051617391,0.61129428252388174,0.73109607951814193,0.48730641820261567,0.62660365179441668]
[null,"GRASS SILAGE",{"$f":"IF(B783=\"\",\"\",114.51-(0.153*$C$811))","v":80.850000000000009},{"$f":"IF(B783=\"\",\"\",(1.0263*C823)-5.723)/100","v":0.77253355000000012},{"$f":"IF(B783=\"\",\"\",3910+(2.45*$C$812)+(169*3.5))","v":4746.5},4366.78,3373.4840554690004,1.5,0.8297217391304349,2799.0530574325317,0.64098788064260892,0.61703709135422613,0.73796352174442881,0.505970546901235,0.64012827334619316]
[null,"LEGUME SILAGE",{"$f":"IF(B783=\"\",\"\",96.2-(0.102*$C$811))","v":73.760000000000005},{"$f":"IF(B783=\"\",\"\",(1.0263*C824)-5.723)/100","v":0.69976888000000004},{"$f":"IF(B783=\"\",\"\",3910+(2.45*$C$812)+(169*3.5))","v":4746.5},4366.78,3055.7367498064,1.5,0.8297217391304349,2535.4112103741486,0.58061345210295656,0.60254722850470954,0.72063606075354858,0.45887849264030611,0.60550377109072817]
[null,"CORN SILAGE",{"$f":"IF(B783=\"\",\"\",114.51-(0.153*$C$811))","v":80.850000000000009},{"$f":"IF(B783=\"\",\"\",((1.01*C825)-2.86)/100)","v":0.78798500000000005},{"$f":"IF(B783=\"\",\"\",IF(C786<30,1.02*(4487+(2.019*C812)),(4487+(2.019*$C$812))+25))","v":4782.6779999999999},4400.06376,3467.1842419236,1.2,0.82312173913043496,2853.9147230977924,0.64860758360869575,0.61886582006608692,0.74015037649569571,0.51191391521478269,0.6443842825134074]
[null,"PRAIRIE HAY",{"$f":"IF(B783=\"\",\"\",56.5-(0.022*$C$811)+(0.104*$C$812))","v":62.059999999999995},{"$f":"IF(B783=\"\",\"\",((0.985*C826)-2.556)/100)","v":0.585731},{"$f":"IF(B783=\"\",\"\",4531+(1.735*$C$812)+82)","v":4786.5},4403.58,2579.3133169799999,1.35,0.82642173913043493,2131.6005971809022,0.48406083168260877,0.57937459960382609,0.69292545869290878,0.38356744871243487,0.54610821235932405]
[null,"GRASS HAY",{"$f":"IF(B783=\"\",\"\",93.2-(0.104*$C$811)+(0.025*$C$812))","v":72.820000000000007},{"$f":"IF(B783=\"\",\"\",((0.985*C827)-2.556)/100)","v":0.69171700000000014},{"$f":"IF(B783=\"\",\"\",4531+(1.735*$C$812)+82)","v":4786.5},4403.58,3046.0311468600007,1.35,0.82642173913043493,2517.306357833515,0.57164996612608721,0.60039599187026094,0.71806354027818708,0.45188697357834806,0.60021468716906601]
[null,"LEGUME HAY",{"$f":"IF(B783=\"\",\"\",78.9-(0.059*$C$811))","v":65.92},{"$f":"IF(B783=\"\",\"\",((0.985*C828)-2.556)/100)","v":0.62375200000000008},{"$f":"IF(B783=\"\",\"\",4531+(1.735*$C$812)+82)","v":4786.5},4403.58,2746.7418321600003,1.35,0.82642173913043493,2269.9671618759849,0.51548221262608718,0.58691573103026096,0.70194339502368708,0.40807612584834801,0.56606382178539327]
[null,"DEHIDRYAED ALPHALFA",{"$f":"IF(B783=\"\",\"\",78.9-(0.059*$C811))","v":65.92},{"$f":"IF(B783=\"\",\"\",((1.003*C829)-3)/100)","v":0.63117759999999989},{"$f":"IF(B783=\"\",\"\",4618+(2.051*$C$812))","v":4823.1000000000004},4437.2520000000004,2800.6940679551999,1.35,0.82642173913043493,2314.5544624118288,0.52161888989217398,0.5883885335741218,0.70370462139905399,0.41286273411589575,0.56988563773633483]
[null,"STRAW",{"$f":"IF(B783=\"\",\"\",93.2-(0.104*$C$811)+(0.025*$C$812))","v":72.820000000000007},{"$f":"IF(B783=\"\",\"\",((0.985*C830)-2.949)/100)","v":0.68778700000000015},{"$f":"IF(B783=\"\",\"\",4531+(1.735*$C$812+82))","v":4786.5},4403.58,3028.7250774600006,0.75,0.81322173913043505,2463.0250748399835,0.5593233402913047,0.59743760166991311,0.71452579866360444,0.44227220542721768,0.59287246850438802]
[null,"CEREALS AND BYPRODUCTS",{"$f":"IF(B783=\"\",\"\",95.8-(0.191*$C$811)-2.54)","v":51.239999999999995},{"$f":"IF(B783=\"\",\"\",((C831-3.5+(0.0046*$C$812)+(0.0155*$C$813))/100))","v":0.48447999999999991},{"$f":"IF(B783=\"\",\"\",4134+(1.473*$C$812)+(5.239*$C$813)+(0.925*$C811)-(4.44*$C$814))","v":4213.424},3876.3500800000002,1878.0140867583998,1,0.818721739130435,1537.5709592222927,0.39665430817391306,0.55839703396173912,0.66783978644591313,0.31539036037565221,0.48658610368391647]
[null,"CORN AND BYPRODUCTS",{"$f":"IF(B783=\"\",\"\",95.8-(0.191*$C$811)+2.54)","v":56.319999999999993},{"$f":"IF(B783=\"\",\"\",((C832-3.5+(0.0046*$C$812)+(0.0155*$C$813))/100))","v":0.53527999999999987},{"$f":"IF(B783=\"\",\"\",4134+(1.473*$C$812)+(5.239*$C$813)+(0.925*$C$811)-(4.44*$C$814))","v":4213.424},3876.3500800000002,2074.9326708223994,1,0.818721739130435,1698.7924848342732,0.43824537252173906,0.56837888940521741,0.67977642191373921,0.3478313905669565,0.5157208931917312]
[null,"SUNFLOYER, RAPESSED MEAL",{"$f":"IF(B783=\"\",\"\",97.51-(0.14981*$C$811))","v":64.551800000000014},{"$f":"IF(B783=\"\",\"\",((C833-2.9+(0.0051*$C$812))/100))","v":0.62161800000000011},{"$f":"IF(B783=\"\",\"\",4134+(1.473*$C$812)+(5.239*$C$813)+(0.925*$C$811)-(4.44*$C$814))","v":4213.424},3876.3500800000002,2409.6089840294408,1,0.818721739130435,1972.7992580289042,0.50893217003478286,0.58534372080834784,0.70006353279998268,0.40296709262713065,0.56195815521785397]
[null,"COTTON SEED",{"$f":"IF(B783=\"\",\"\",97.51-(0.14981*$C$811))","v":64.551800000000014},{"$f":"IF(B783=\"\",\"\",((C834-3.5+(0.0046*$C$812)+(0.0155*$C$813))/100))","v":0.61759800000000009},{"$f":"IF(B783=\"\",\"\",4134+(1.473*$C$812)+(5.239*$C$813)+(0.925*$C$811)-(4.44*$C$814))","v":4213.424},3876.3500800000002,2394.0260567078403,1,0.818721739130435,1960.0411766714205,0.50564090864347844,0.58455381807443485,0.69911894078067838,0.40039990874191322,0.55988464417676664]
[null,"SOYABEEN MEAL",{"$f":"IF(B783=\"\",\"\",87.75-(0.03114*$C$811)+6.22)","v":87.119199999999992},{"$f":"IF(B783=\"\",\"\",((C835-2.9+(0.0051*$C$812))/100))","v":0.84729199999999993},{"$f":"IF(B783=\"\",\"\",4134+(1.473*$C$812)+(5.239*$C$813)+(0.925*$C$811)-(4.44*$C$814))","v":4213.424},3876.3500800000002,3284.4004119833598,1,0.818721739130435,2689.0100172997336,0.6936963797913045,0.62968713114991304,0.75309086100010436,0.54708317623721758,0.66910553207078316]
[null,"LEGUME SEED",{"$f":"IF(B783=\"\",\"\",87.75-(0.03114*$C$811)+6.22)","v":87.119199999999992},{"$f":"IF(B783=\"\",\"\",((C836-3.5+(0.0046*$C$812)+(0.0155*$C$813))/100))","v":0.84327199999999991},{"$f":"IF(B783=\"\",\"\",4134+(1.473*$C$812)+(5.239*$C$813)+(0.925*$C$811)-(4.44*$C$814))","v":4213.424},3876.3500800000002,3268.8174846617599,1,0.818721739130435,2676.2519359422499,0.69040511840000007,0.62889722841600004,0.75214626898080006,0.5445159923520001,0.66732648709316411]
[null,"BETTERAVE PULP",{"$f":"IF(B783=\"\",\"\",87.2-(0.0951*($C$811-166.9)))","v":82.150190000000009},{"$f":"IF(B783=\"\",\"\",((C837-3.5+(0.0046*$C$812)+(0.0155*$C$813))/100))","v":0.79358190000000006},{"$f":"IF(B783=\"\",\"\",4134+(1.473*$C$812)+(5.239*$C$813)+(0.925*$C$811)-(4.44*$C$814))","v":4213.424},3876.3500800000002,3076.2012615515523,1,0.818721739130435,2518.5528467727249,0.64972275331043494,0.61913346079450438,0.74047043020009484,0.51278374758213929,0.64500517806279145]
[null,"COMPOUND FEED",{"$f":"IF(B783=\"\",\"\",95.8-(0.191*$C$811)-2.54)","v":51.239999999999995},{"$f":"IF(B783=\"\",\"\",((C838-3.5+(0.0046*$C$812)+(0.0155*$C$813))/100))","v":0.48447999999999991},{"$f":"IF(B783=\"\",\"\",4134+(1.473*$C$812)+(5.239*$C$812)+(0.925*$C$813)-(4.44*$C$814))","v":4464.8},4107.616,1990.0577996799996,1,0.818721739130435,1629.303582724096,0.39665430817391306,0.55839703396173912,0.66783978644591313,0.31539036037565221,0.48658610368391647]
[]
[]
[]
["PROTEINA (PDI)"]
[]
[null,"ALIMENTO A VALORAR"]
[null,{"$f":"'ENLACES DATOS'!B783","v":"WET LEGUME"}]
[]
[]
[null,"MATERIA SECA",{"$f":"C786","v":0.2}]
[null,null,"SSS","SSF"]
[null,"FIBRA BRUTA",{"$f":"IF(B845=\"\",\"\",D850/$C$848)","v":0.22},{"$f":"'VALORACION ALIMENTOS INRA'!D21","v":4.4000000000000004E-2},"%"]
[null,"PROTEINA BRUTA",{"$f":"IF(B845=\"\",\"\",D851/$C$848)","v":9.9999999999999992E-2},{"$f":"'VALORACION ALIMENTOS INRA'!D22","v":0.02},"%"]
[null,"GRASA BRUTA",{"$f":"IF(B845=\"\",\"\",D852/$C$848)","v":1.6E-2},{"$f":"'VALORACION ALIMENTOS INRA'!D23","v":3.2000000000000002E-3},"%"]
[null,"CENIZAS",{"$f":"IF(B845=\"\",\"\",D853/$C$848)","v":0.08},{"$f":"'VALORACION ALIMENTOS INRA'!D24","v":1.6E-2},"%"]
[]
[null,null,"SSS","SSF"]
[]
[null,"PDIE",{"$f":"IF($B$845=\"\",\"\",C861+C859)","v":88.244779465603202},{"$f":"IF($B$845=\"\",\"\",C857*$C$848)","v":17.64895589312064}]
[null,"PDIN",{"$f":"IF(B845=\"\",\"\",C862+C859)","v":68.407519465603187},{"$f":"IF($B$845=\"\",\"\",C858*$C$848)","v":13.681503893120638}]
[null,"PDIA",{"$f":"IF(B845=\"\",\"\",(C873*(1.11*(1-C867)))*C866)","v":29.796511465603203},5.9593022931206407]
[]
[null,"PDIME",{"$f":"IF(B845=\"\",\"\",C865*0.093)","v":58.448267999999999}]
[null,"PDIMN",{"$f":"IF(B845=\"\",\"\",(C873*(1-(1.11*(1-C867)))*0.576))","v":38.611007999999984}]
[]
[]
[null,"MATRIA ORGANICA FERMENCESTIBLE (MOF)",{"$f":"IF(B845=\"\",\"\",((1000-C875)*C868))-(C874)-((C873)*(1-C867))","v":628.476},"SSS"]
[null,"DIGESTIBILIDAD REAL (dr)",{"$f":"IF($B$845=\"\",\"\",(VLOOKUP($B$845,$B$878:$G$912,6,FALSE)/100))","v":0.90382841828504856}]
[null,"DEGRADABILIDAD TEORICA (DT)",{"$f":"IF($B$845=\"\",\"\",(VLOOKUP($B$845,$B$878:$G$912,2,FALSE)/100))","v":0.70299999999999996}]
[null,"DIGESTIBILIDAD M.O. (dMO)",{"$f":"IF($B$845=\"\",\"\",(VLOOKUP($B$845,$B$878:$G$912,4,FALSE)/100))","v":0.73280000000000001}]
[]
[]
[null,"PB)2",{"$f":"POWER((C851*1000),2)","v":9999.9999999999964}]
[null,"FB",{"$f":"IF(B845=\"\",\"\",C850*1000)","v":220}]
[null,"PB",{"$f":"IF(B845=\"\",\"\",C851*1000)","v":99.999999999999986}]
[null,"gb",{"$f":"IF(B845=\"\",\"\",C852*1000)","v":16}]
[null,"mm",{"$f":"IF(B845=\"\",\"\",C853*1000)","v":80}]
[]
[null,null,"DT","INC","dMO","PANDI","dr"]
[null,"GREEN CORN",{"$f":"IF($B$845=\"\",\"\",(51.2+(0.14*$C$873)-(0.00017*$C$871)+D878))","v":72.3},8.8000000000000007,{"$f":"IF($B$845=\"\",\"\",90.8-(0.091*$C$872+(0.035*$C$873)))","v":67.28},{"$f":"7.9+(0.08*$C$873)-(0.00033*$C$871)-1.9-2.3-2","v":6.3999999999999986},{"$f":"100*(1.11*(1-(C878/100)/100)*$C$873-F878)/(1.11*(1-(C878/100)/100)*(($C$873)))","v":94.192244159507482}]
[null,"GRASS WET",{"$f":"IF($B$845=\"\",\"\",(51.2+(0.14*$C$873)-(0.00017*$C$871)+D879))","v":68.099999999999994},4.5999999999999996,{"$f":"IF($B$845=\"\",\"\",90.8-(0.091*$C$872+(0.035*$C$873)))","v":67.28},{"$f":"7.9+(0.08*$C$873)-(0.00033*$C$871)-2.3-2","v":8.3000000000000007},92.471251746919037]
[null,"WET LEGUME",{"$f":"IF($B$845=\"\",\"\",(51.2+(0.14*$C$873)-(0.00017*$C$871)+D880))","v":70.3},6.8,{"$f":"IF($B$845=\"\",\"\",95.5-(0.101*$C$872))","v":73.28},{"$f":"7.9+(0.08*$C$873)-(0.00033*$C$871)-2","v":10.6},90.382841828504851]
[null,"PRADERA PERMANENTE VERDE",{"$f":"IF($B$845=\"\",\"\",(51.2+(0.14*$C$873)-(0.00017*$C$871)+D881))","v":67.900000000000006},4.4000000000000004,{"$f":"IF($B$845=\"\",\"\",90.1-(0.095*$C$872)+(0.044*$C$873))","v":73.599999999999994},{"$f":"7.9+(0.08*$C$873)-(0.00033*$C$871)-1.9-2.3-2","v":6.3999999999999986},94.194817041949065]
[null,"PRAIRIE",{"$f":"IF($B$845=\"\",\"\",(51.2+(0.14*$C$873)-(0.00017*$C$871)+D882))","v":63.5},0,{"$f":"IF($B$845=\"\",\"\",90.1-(0.095*$C$872)+(0.044*$C$873))","v":73.599999999999994},{"$f":"7.9+(0.08*$C$873)-(0.00033*$C$871)-2.3-2","v":8.3000000000000007},92.474737103127381]
[null,"GRAMINEA 1º CICLO SILO",{"$f":"IF($B$845=\"\",\"\",(73.7+(0.088*$C$873)-(0.00011*$C$871)-(0.25*$C$848)+D883))","v":86.250000000000014},4.9000000000000004,{"$f":"IF($B$813=\"\",\"\",114.51-(0.153*$C$872))","v":80.850000000000009},{"$f":"7.9+(0.08*$C$873)-(0.00033*$C$871)-1.9-2.3","v":8.3999999999999986},92.366594308341888]
[null,"GRASS SILAGE",{"$f":"IF($B$845=\"\",\"\",(73.7+(0.088*$C$873)-(0.00011*$C$871)-(0.25*$C$848)+D884))","v":83.850000000000009},2.5,{"$f":"IF($B$813=\"\",\"\",114.51-(0.153*$C$872))","v":80.850000000000009},{"$f":"7.9+(0.08*$C$873)-(0.00033*$C$871)-2.3","v":10.3},90.64225603759597]
[null,"LEGUME SILAGE",{"$f":"IF($B$845=\"\",\"\",(73.7+(0.088*$C$873)-(0.00011*$C$871)-(0.25*$C$848)+D885))","v":85.550000000000011},4.2,{"$f":"IF($B$845=\"\",\"\",96.2-(0.102*$C$872))","v":73.760000000000005},{"$f":"7.9+(0.08*$C$873)-(0.00033*$C$871)","v":12.6},88.550699886174868]
[null,"PRADERA PERMANENTE 1º CICLO SILO",{"$f":"IF($B$845=\"\",\"\",(73.7+(0.088*$C$873)-(0.00011*$C$871)-(0.25*$C$848)+D886))","v":83.850000000000009},2.5,{"$f":"IF($B$845=\"\",\"\",105.1-(0.123*$C$872))","v":78.039999999999992},{"$f":"7.9+(0.08*$C$873)-(0.00033*$C$871)-1.9-2.3","v":8.3999999999999986},92.368441817068557]
[null,"PRAIRIE SILAGE",{"$f":"IF($B$845=\"\",\"\",(73.7+(0.088*$C$873)-(0.00011*$C$871)-(0.25*$C$848)+D887))","v":81.350000000000009},0,{"$f":"IF($B$845=\"\",\"\",105.1-(0.123*$C$872))","v":78.039999999999992},{"$f":"7.9+(0.08*$C$873)-(0.00033*$C$871)-2.3","v":10.3},90.64461466098787]
[null,"GRAMINEA 1º CICLO HENO",{"$f":"IF($B$845=\"\",\"\",(50.8+(0.12*$C$873)-(0.00018*$C$871)+D888))","v":67.2},6.2,{"$f":"IF($B$845=\"\",\"\",93.2-(0.104*$C$872)+(0.025*$C$873))","v":72.820000000000007},{"$f":"7.9+(0.08*$C$873)-(0.00033*$C$871)-1.9-2.3","v":8.3999999999999986},92.381234327110604]
[null,"GRASS HAY",{"$f":"IF($B$845=\"\",\"\",(50.8+(0.12*$C$873)-(0.00018*$C$871)+D889))","v":64.2},3.2,{"$f":"IF($B$845=\"\",\"\",93.2-(0.104*$C$872)+(0.025*$C$873))","v":72.820000000000007},{"$f":"7.9+(0.08*$C$873)-(0.00033*$C$871)-2.3","v":10.3},90.660762818012373]
[null,"LEGUME HAY",{"$f":"IF($B$845=\"\",\"\",(50.8+(0.12*$C$873)-(0.00018*$C$871)+D890))","v":66},5,{"$f":"IF($B$845=\"\",\"\",78.9-(0.059*$C$872))","v":65.92},{"$f":"7.9+(0.08*$C$873)-(0.00033*$C$871)","v":12.6},88.573231979714762]
[null,"PRAIRIE HAY",{"$f":"IF($B$845=\"\",\"\",(50.8+(0.12*$C$873)-(0.00018*$C$871)+D891))","v":62.9},1.9,{"$f":"IF($B$845=\"\",\"\",56.5-(0.022*$C$872)+(0.104*$C$873))","v":62.059999999999995},{"$f":"7.9+(0.08*$C$873)-(0.00033*$C$871)-1.9-2.3","v":8.3999999999999986},92.384531133260637]
[null,"PRADERAS OPERMANENTES OTROS CICLOS HENO",{"$f":"IF($B$845=\"\",\"\",(50.8+(0.12*$C$873)-(0.00018*$C$871)+D892))","v":61},0,{"$f":"IF($B$845=\"\",\"\",56.5-(0.022*$C$872)+(0.104*$C$873))","v":62.059999999999995},{"$f":"7.9+(0.08*$C$873)-(0.00033*$C$871)-2.3","v":10.3},90.663769715988252]
[null,"STRAW",60,null,{"$f":"IF($B$845=\"\",\"\",56.5-(0.022*$C$872)+(0.104*$C$873))","v":62.059999999999995},null,70]
[null,"CORN SILAGE",72,null,{"$f":"IF($B$845=\"\",\"\",114.51-(0.153*$C$872))","v":80.850000000000009},null,70]
[null,"SILO DE MAIZ CAÑAS",78,null,{"$f":"IF($B$845=\"\",\"\",114.51-(0.153*$C$872))","v":80.850000000000009},null,60]
[null,"SILO TRIGO INMADURO",72,null,{"$f":"IF($B$845=\"\",\"\",114.51-(0.153*$C$872))","v":80.850000000000009},null,70]
[null,"SILO GUISANTE",70,null,{"$f":"IF($B$845=\"\",\"\",96.2-(0.102*$C$872))","v":73.760000000000005},null,70]
[null,"REMOLACHA",85,null,{"$f":"IF($B$845=\"\",\"\",87.2-(0.0951*($C$872-166.9)))","v":82.150190000000009},null,85]
[null,"ZANAHORIAS",85,null,82.150190000000009,null,80]
[null,"PATATAS",65,null,82.150190000000009,null,85]
[null,"PULPA REMOLACHA SILO",60,null,82.150190000000009,null,80]
[null,"HOJAS Y CUELLOS REMOLACHA",75,null,82.150190000000009,null,80]
[null,"PULPA PATATA",65,null,82.150190000000009,null,95]
[null,"CEREALS AND BYPRODUCTS",75,null,{"$f":"IF($B$845=\"\",\"\",95.8-(0.191*$C$872)-2.54)","v":51.239999999999995},null,90]
[null,"CORN AND BYPRODUCTS",56,null,{"$f":"IF($B$845=\"\",\"\",95.8-(0.191*$C$872)-2.54)","v":51.239999999999995},null,93]
[null,"SUNFLOYER, RAPESSED MEAL",60,null,{"$f":"IF($B$845=\"\",\"\",97.51-(0.14981*$C$872))","v":64.551800000000014},null,85]
[null,"COTTON SEED",37,null,{"$f":"IF($B$845=\"\",\"\",97.51-(0.14981*$C$872))","v":64.551800000000014},null,85]
[null,"SOYABEEN MEAL",67,null,{"$f":"IF($B$845=\"\",\"\",87.75-(0.03114*$C$872)+6.22)","v":87.119199999999992},null,95]
[null,"LEGUME SEED",76,null,{"$f":"IF($B$845=\"\",\"\",87.75-(0.03114*$C$872)+6.22)","v":87.119199999999992},null,85]
[null,"BETTERAVE PULP",59,null,{"$f":"IF($B$845=\"\",\"\",87.2-(0.0951*($C$872-166.9)))","v":82.150190000000009},null,85]
[null,"COMPOUND FEED",72,null,{"$f":"IF($B$845=\"\",\"\",((95.8-(0.191*$C$872)-2.54)*0.77)+(87.75-(0.03114*$C$872)+6.22)*0.23)","v":59.492215999999999},null,92]
[null,"DEHIDRYAED ALPHALFA",{"$f":"IF($C$33=\"\",\"\",(50.8+(0.12*$C$131)-(0.00018*$C$129)+D912))","v":55.781819999999996},5,{"$f":"IF($B$845=\"\",\"\",78.9-(0.059*$C$872))","v":65.92},{"$f":"7.9+(0.08*$C$131)-(0.00033*$C$129)","v":7.8666700000000001},92]
[]
[]
[]
[]
[]
[]
["COMPARATIVA KOMPLET"]
[]
[{"$f":"#REF!","v":{"$error":"#REF!"}},{"$f":"#REF!","v":{"$error":"#REF!"}},null,"COSTE","BENEFICIO"]
[{"$f":"#REF!","v":{"$error":"#REF!"}},{"$f":"#REF!","v":{"$error":"#REF!"}},"TRADICIONAL",{"$f":"F930","v":{"$error":"#REF!"}},{"$f":"C937-D922","v":{"$error":"#REF!"}}]
[{"$f":"#REF!","v":{"$error":"#REF!"}},{"$f":"#REF!","v":{"$error":"#REF!"}},"KOMPLET",{"$f":"F933","v":{"$error":"#REF!"}},{"$f":"C938-D923","v":{"$error":"#REF!"}}]
[{"$f":"#REF!","v":{"$error":"#REF!"}},{"$f":"#REF!","v":{"$error":"#REF!"}}]
[{"$f":"#REF!","v":{"$error":"#REF!"}},{"$f":"#REF!","v":{"$error":"#REF!"}}]
[]
[null,"TRADICIONAL",{"$f":"#REF!","v":{"$error":"#REF!"}},{"$f":"#REF!","v":{"$error":"#REF!"}},{"$f":"#REF!","v":{"$error":"#REF!"}},{"$f":"((D927/1000)*E927)","v":{"$error":"#REF!"}}]
[null,null,{"$f":"#REF!","v":{"$error":"#REF!"}},{"$f":"#REF!","v":{"$error":"#REF!"}},{"$f":"#REF!","v":{"$error":"#REF!"}},{"$f":"((D928/1000)*E928)","v":{"$error":"#REF!"}}]
[null,null,{"$f":"#REF!","v":{"$error":"#REF!"}},{"$f":"#REF!","v":{"$error":"#REF!"}},{"$f":"#REF!","v":{"$error":"#REF!"}},{"$f":"((D929/1000)*E929)","v":{"$error":"#REF!"}}]
[null,null,null,null,null,{"$f":"SUM(F927:F929)","v":{"$error":"#REF!"}}]
[null,"KOMPLET",{"$f":"#REF!","v":{"$error":"#REF!"}},{"$f":"#REF!","v":{"$error":"#REF!"}},{"$f":"#REF!","v":{"$error":"#REF!"}},{"$f":"((D931/1000)*E931)","v":{"$error":"#REF!"}}]
[null,null,{"$f":"#REF!","v":{"$error":"#REF!"}},{"$f":"#REF!","v":{"$error":"#REF!"}},{"$f":"#REF!","v":{"$error":"#REF!"}},{"$f":"((D932/1000)*E932)","v":{"$error":"#REF!"}}]
[null,null,null,null,null,{"$f":"SUM(F931:F932)","v":{"$error":"#REF!"}}]
[]
[null,"PRODUCCION EQ TRADICIONAL",{"$f":"((B922*(B923+B924)*1000))","v":{"$error":"#REF!"}}]
[null,"PRODUCCION EQ KOMPLET",{"$f":"C935*(1+B925)","v":{"$error":"#REF!"}}]
[null,"INGRESOS TRADICIONAL",{"$f":"C935*(B921/1000)","v":{"$error":"#REF!"}}]
[null,"INGRESOS KOMPLET",{"$f":"C936*(B921/1000)","v":{"$error":"#REF!"}}]
[null,"BENEFICIO KOMPLET",{"$f":"E923-E922","v":{"$error":"#REF!"}}]
[]
[null,"PRECIO KOMPLET + BENEFICIO",{"$f":"F932+C939","v":{"$error":"#REF!"}}]
[null,"PRECIO ALFALFA - BENEFICIO",{"$f":"F928-C939","v":{"$error":"#REF!"}}]
[]
[null,"PRECIO UMBRAL KOMPLET",{"$f":"(C941/E932)*1000","v":{"$error":"#REF!"}}]
[null,"PRECIO UMBRAL ALFALFA",{"$f":"(C942/E928)*1000","v":{"$error":"#REF!"}}]
[]
[null,"MARGEN KOMPLET",{"$f":"IF(#REF!=\"\",\"\",C944-D932)","v":{"$error":"#REF!"}}]
[]
["ELECCION  PRODUCTO KOMPLET"]
[]
[null,"DATOS ANIMALES"]
["OBJETIVOS PRODUCTIVOS",{"$f":"#REF!","v":{"$error":"#REF!"}}]
[null,{"$f":"#REF!","v":{"$error":"#REF!"}}]
["PREPARTO",{"$f":"#REF!","v":{"$error":"#REF!"}}]
["PRODUCCION EFICAZ",{"$f":"#REF!","v":{"$error":"#REF!"}}]
["MEJORA CALIDAD"]
["ESTADO CORPORAL"]
["RECRIA"]
[]
[]
["PAJA"]
["HENO"]
["SILO"]
[]
["ESPECIE","RAZA","OBJETIVO","FORRAJE","CONCATENAR","PIENSO"]
["CAPRINO","FLORIDA","PREPARTO","PAJA",{"$f":"CONCATENATE(A966,B966,C966,D966)","v":"CAPRINOFLORIDAPREPARTOPAJA"},413]
["CAPRINO","FLORIDA","PREPARTO","HENO",{"$f":"CONCATENATE(A967,B967,C967,D967)","v":"CAPRINOFLORIDAPREPARTOHENO"},374]
["CAPRINO","FLORIDA","PREPARTO","SILO","CAPRINOFLORIDAPREPARTOSILO",374]
["CAPRINO","FLORIDA","PRODUCCION EFICAZ","PAJA","CAPRINOFLORIDAPRODUCCION EFICAZPAJA",299]
["CAPRINO","FLORIDA","PRODUCCION EFICAZ","HENO","CAPRINOFLORIDAPRODUCCION EFICAZHENO",397]
["CAPRINO","FLORIDA","PRODUCCION EFICAZ","SILO","CAPRINOFLORIDAPRODUCCION EFICAZSILO",397]
["CAPRINO","FLORIDA","MEJORA CALIDAD","PAJA","CAPRINOFLORIDAMEJORA CALIDADPAJA",298]
["CAPRINO","FLORIDA","MEJORA CALIDAD","HENO","CAPRINOFLORIDAMEJORA CALIDADHENO",397]
["CAPRINO","FLORIDA","MEJORA CALIDAD","SILO","CAPRINOFLORIDAMEJORA CALIDADSILO",397]
["CAPRINO","FLORIDA","ESTADO CORPORAL","PAJA","CAPRINOFLORIDAESTADO CORPORALPAJA",999]
["CAPRINO","FLORIDA","ESTADO CORPORAL","HENO","CAPRINOFLORIDAESTADO CORPORALHENO",397]
["CAPRINO","FLORIDA","ESTADO CORPORAL","SILO","CAPRINOFLORIDAESTADO CORPORALSILO",397]
["CAPRINO","FLORIDA","RECRIA","PAJA","CAPRINOFLORIDARECRIAPAJA",414]
["CAPRINO","FLORIDA","RECRIA","HENO","CAPRINOFLORIDARECRIAHENO",285]
["CAPRINO","FLORIDA","RECRIA","SILO","CAPRINOFLORIDARECRIASILO",285]
["CAPRINO","MALAGUEÑA","PREPARTO","PAJA","CAPRINOMALAGUEÑAPREPARTOPAJA",413]
["CAPRINO","MALAGUEÑA","PREPARTO","HENO","CAPRINOMALAGUEÑAPREPARTOHENO",374]
["CAPRINO","MALAGUEÑA","PREPARTO","SILO","CAPRINOMALAGUEÑAPREPARTOSILO",374]
["CAPRINO","MALAGUEÑA","PRODUCCION EFICAZ","PAJA","CAPRINOMALAGUEÑAPRODUCCION EFICAZPAJA",299]
["CAPRINO","MALAGUEÑA","PRODUCCION EFICAZ","HENO","CAPRINOMALAGUEÑAPRODUCCION EFICAZHENO",397]
["CAPRINO","MALAGUEÑA","PRODUCCION EFICAZ","SILO","CAPRINOMALAGUEÑAPRODUCCION EFICAZSILO",397]
["CAPRINO","MALAGUEÑA","MEJORA CALIDAD","PAJA","CAPRINOMALAGUEÑAMEJORA CALIDADPAJA",298]
["CAPRINO","MALAGUEÑA","MEJORA CALIDAD","HENO","CAPRINOMALAGUEÑAMEJORA CALIDADHENO",397]
["CAPRINO","MALAGUEÑA","MEJORA CALIDAD","SILO","CAPRINOMALAGUEÑAMEJORA CALIDADSILO",397]
["CAPRINO","MALAGUEÑA","ESTADO CORPORAL","PAJA","CAPRINOMALAGUEÑAESTADO CORPORALPAJA",999]
["CAPRINO","MALAGUEÑA","ESTADO CORPORAL","HENO","CAPRINOMALAGUEÑAESTADO CORPORALHENO",397]
["CAPRINO","MALAGUEÑA","ESTADO CORPORAL","SILO","CAPRINOMALAGUEÑAESTADO CORPORALSILO",397]
["CAPRINO","MALAGUEÑA","RECRIA","PAJA","CAPRINOMALAGUEÑARECRIAPAJA",414]
["CAPRINO","MALAGUEÑA","RECRIA","HENO","CAPRINOMALAGUEÑARECRIAHENO",285]
["CAPRINO","MALAGUEÑA","RECRIA","SILO","CAPRINOMALAGUEÑARECRIASILO",285]
["CAPRINO","MURCIANA","PREPARTO","PAJA","CAPRINOMURCIANAPREPARTOPAJA",413]
["CAPRINO","MURCIANA","PREPARTO","HENO","CAPRINOMURCIANAPREPARTOHENO",374]
["CAPRINO","MURCIANA","PREPARTO","SILO","CAPRINOMURCIANAPREPARTOSILO",374]
["CAPRINO","MURCIANA","PRODUCCION EFICAZ","PAJA","CAPRINOMURCIANAPRODUCCION EFICAZPAJA",299]
["CAPRINO","MURCIANA","PRODUCCION EFICAZ","HENO","CAPRINOMURCIANAPRODUCCION EFICAZHENO",397]
["CAPRINO","MURCIANA","PRODUCCION EFICAZ","SILO","CAPRINOMURCIANAPRODUCCION EFICAZSILO",397]
["CAPRINO","MURCIANA","MEJORA CALIDAD","PAJA","CAPRINOMURCIANAMEJORA CALIDADPAJA",298]
["CAPRINO","MURCIANA","MEJORA CALIDAD","HENO","CAPRINOMURCIANAMEJORA CALIDADHENO",397]
["CAPRINO","MURCIANA","MEJORA CALIDAD","SILO","CAPRINOMURCIANAMEJORA CALIDADSILO",397]
["CAPRINO","MURCIANA","ESTADO CORPORAL","PAJA","CAPRINOMURCIANAESTADO CORPORALPAJA",999]
["CAPRINO","MURCIANA","ESTADO CORPORAL","HENO","CAPRINOMURCIANAESTADO CORPORALHENO",397]
["CAPRINO","MURCIANA","ESTADO CORPORAL","SILO","CAPRINOMURCIANAESTADO CORPORALSILO",397]
["CAPRINO","MURCIANA","RECRIA","PAJA","CAPRINOMURCIANARECRIAPAJA",414]
["CAPRINO","MURCIANA","RECRIA","HENO","CAPRINOMURCIANARECRIAHENO",285]
["CAPRINO","MURCIANA","RECRIA","SILO","CAPRINOMURCIANARECRIASILO",285]
["OVINO","ASSAF","PREPARTO","PAJA","OVINOASSAFPREPARTOPAJA",413]
["OVINO","ASSAF","PREPARTO","HENO","OVINOASSAFPREPARTOHENO",374]
["OVINO","ASSAF","PREPARTO","SILO","OVINOASSAFPREPARTOSILO",374]
["OVINO","ASSAF","PRODUCCION EFICAZ","PAJA","OVINOASSAFPRODUCCION EFICAZPAJA",383]
["OVINO","ASSAF","PRODUCCION EFICAZ","HENO","OVINOASSAFPRODUCCION EFICAZHENO",420]
["OVINO","ASSAF","PRODUCCION EFICAZ","SILO","OVINOASSAFPRODUCCION EFICAZSILO",420]
["OVINO","ASSAF","MEJORA CALIDAD","PAJA","OVINOASSAFMEJORA CALIDADPAJA",396]
["OVINO","ASSAF","MEJORA CALIDAD","HENO","OVINOASSAFMEJORA CALIDADHENO",420]
["OVINO","ASSAF","MEJORA CALIDAD","SILO","OVINOASSAFMEJORA CALIDADSILO",420]
["OVINO","ASSAF","ESTADO CORPORAL","PAJA","OVINOASSAFESTADO CORPORALPAJA",391]
["OVINO","ASSAF","ESTADO CORPORAL","HENO","OVINOASSAFESTADO CORPORALHENO",391]
["OVINO","ASSAF","ESTADO CORPORAL","SILO","OVINOASSAFESTADO CORPORALSILO",391]
["OVINO","ASSAF","RECRIA","PAJA","OVINOASSAFRECRIAPAJA",414]
["OVINO","ASSAF","RECRIA","HENO","OVINOASSAFRECRIAHENO",278]
["OVINO","ASSAF","RECRIA","SILO","OVINOASSAFRECRIASILO",278]
["OVINO","LACAUNE","PREPARTO","PAJA","OVINOLACAUNEPREPARTOPAJA",413]
["OVINO","LACAUNE","PREPARTO","HENO","OVINOLACAUNEPREPARTOHENO",374]
["OVINO","LACAUNE","PREPARTO","SILO","OVINOLACAUNEPREPARTOSILO",374]
["OVINO","LACAUNE","PRODUCCION EFICAZ","PAJA","OVINOLACAUNEPRODUCCION EFICAZPAJA",383]
["OVINO","LACAUNE","PRODUCCION EFICAZ","HENO","OVINOLACAUNEPRODUCCION EFICAZHENO",420]
["OVINO","LACAUNE","PRODUCCION EFICAZ","SILO","OVINOLACAUNEPRODUCCION EFICAZSILO",420]
["OVINO","LACAUNE","MEJORA CALIDAD","PAJA","OVINOLACAUNEMEJORA CALIDADPAJA",396]
["OVINO","LACAUNE","MEJORA CALIDAD","HENO","OVINOLACAUNEMEJORA CALIDADHENO",420]
["OVINO","LACAUNE","MEJORA CALIDAD","SILO","OVINOLACAUNEMEJORA CALIDADSILO",420]
["OVINO","LACAUNE","ESTADO CORPORAL","PAJA","OVINOLACAUNEESTADO CORPORALPAJA",391]
["OVINO","LACAUNE","ESTADO CORPORAL","HENO","OVINOLACAUNEESTADO CORPORALHENO",391]
["OVINO","LACAUNE","ESTADO CORPORAL","SILO","OVINOLACAUNEESTADO CORPORALSILO",391]
["OVINO","LACAUNE","RECRIA","PAJA","OVINOLACAUNERECRIAPAJA",414]
["OVINO","LACAUNE","RECRIA","HENO","OVINOLACAUNERECRIAHENO",278]
["OVINO","LACAUNE","RECRIA","SILO","OVINOLACAUNERECRIASILO",278]
["OVINO","MANCHEGA","PREPARTO","PAJA","OVINOMANCHEGAPREPARTOPAJA",413]
["OVINO","MANCHEGA","PREPARTO","HENO","OVINOMANCHEGAPREPARTOHENO",374]
["OVINO","MANCHEGA","PREPARTO","SILO","OVINOMANCHEGAPREPARTOSILO",374]
["OVINO","MANCHEGA","PRODUCCION EFICAZ","PAJA","OVINOMANCHEGAPRODUCCION EFICAZPAJA",396]
["OVINO","MANCHEGA","PRODUCCION EFICAZ","HENO","OVINOMANCHEGAPRODUCCION EFICAZHENO",396]
["OVINO","MANCHEGA","PRODUCCION EFICAZ","SILO","OVINOMANCHEGAPRODUCCION EFICAZSILO",396]
["OVINO","MANCHEGA","MEJORA CALIDAD","PAJA","OVINOMANCHEGAMEJORA CALIDADPAJA",396]
["OVINO","MANCHEGA","MEJORA CALIDAD","HENO","OVINOMANCHEGAMEJORA CALIDADHENO",396]
["OVINO","MANCHEGA","MEJORA CALIDAD","SILO","OVINOMANCHEGAMEJORA CALIDADSILO",396]
["OVINO","MANCHEGA","ESTADO CORPORAL","PAJA","OVINOMANCHEGAESTADO CORPORALPAJA",391]
["OVINO","MANCHEGA","ESTADO CORPORAL","HENO","OVINOMANCHEGAESTADO CORPORALHENO",391]
["OVINO","MANCHEGA","ESTADO CORPORAL","SILO","OVINOMANCHEGAESTADO CORPORALSILO",391]
["OVINO","MANCHEGA","RECRIA","PAJA","OVINOMANCHEGARECRIAPAJA",414]
["OVINO","MANCHEGA","RECRIA","HENO","OVINOMANCHEGARECRIAHENO",278]
["OVINO","MANCHEGA","RECRIA","SILO","OVINOMANCHEGARECRIASILO",278]
["CAPRINO","SAANEN","PREPARTO","PAJA","CAPRINOSAANENPREPARTOPAJA",413]
["CAPRINO","SAANEN","PREPARTO","HENO","CAPRINOSAANENPREPARTOHENO",374]
["CAPRINO","SAANEN","PREPARTO","SILO","CAPRINOSAANENPREPARTOSILO",374]
["CAPRINO","SAANEN","PRODUCCION EFICAZ","PAJA","CAPRINOSAANENPRODUCCION EFICAZPAJA",299]
["CAPRINO","SAANEN","PRODUCCION EFICAZ","HENO","CAPRINOSAANENPRODUCCION EFICAZHENO",397]
["CAPRINO","SAANEN","PRODUCCION EFICAZ","SILO","CAPRINOSAANENPRODUCCION EFICAZSILO",397]
["CAPRINO","SAANEN","MEJORA CALIDAD","PAJA","CAPRINOSAANENMEJORA CALIDADPAJA",298]
["CAPRINO","SAANEN","MEJORA CALIDAD","HENO","CAPRINOSAANENMEJORA CALIDADHENO",397]
["CAPRINO","SAANEN","MEJORA CALIDAD","SILO","CAPRINOSAANENMEJORA CALIDADSILO",397]
["CAPRINO","SAANEN","ESTADO CORPORAL","PAJA","CAPRINOSAANENESTADO CORPORALPAJA",999]
["CAPRINO","SAANEN","ESTADO CORPORAL","HENO","CAPRINOSAANENESTADO CORPORALHENO",397]
["CAPRINO","SAANEN","ESTADO CORPORAL","SILO","CAPRINOSAANENESTADO CORPORALSILO",397]
["CAPRINO","SAANEN","RECRIA","PAJA","CAPRINOSAANENRECRIAPAJA",414]
["CAPRINO","SAANEN","RECRIA","HENO","CAPRINOSAANENRECRIAHENO",285]
["CAPRINO","SAANEN","RECRIA","SILO","CAPRINOSAANENRECRIASILO",285]
["CAPRINO","ALPINA","PREPARTO","PAJA","CAPRINOALPINAPREPARTOPAJA",413]
["CAPRINO","ALPINA","PREPARTO","HENO","CAPRINOALPINAPREPARTOHENO",374]
["CAPRINO","ALPINA","PREPARTO","SILO","CAPRINOALPINAPREPARTOSILO",374]
["CAPRINO","ALPINA","PRODUCCION EFICAZ","PAJA","CAPRINOALPINAPRODUCCION EFICAZPAJA",299]
["CAPRINO","ALPINA","PRODUCCION EFICAZ","HENO","CAPRINOALPINAPRODUCCION EFICAZHENO",397]
["CAPRINO","ALPINA","PRODUCCION EFICAZ","SILO","CAPRINOALPINAPRODUCCION EFICAZSILO",397]
["CAPRINO","ALPINA","MEJORA CALIDAD","PAJA","CAPRINOALPINAMEJORA CALIDADPAJA",298]
["CAPRINO","ALPINA","MEJORA CALIDAD","HENO","CAPRINOALPINAMEJORA CALIDADHENO",397]
["CAPRINO","ALPINA","MEJORA CALIDAD","SILO","CAPRINOALPINAMEJORA CALIDADSILO",397]
["CAPRINO","ALPINA","ESTADO CORPORAL","PAJA","CAPRINOALPINAESTADO CORPORALPAJA",999]
["CAPRINO","ALPINA","ESTADO CORPORAL","HENO","CAPRINOALPINAESTADO CORPORALHENO",397]
["CAPRINO","ALPINA","ESTADO CORPORAL","SILO","CAPRINOALPINAESTADO CORPORALSILO",397]
["CAPRINO","ALPINA","RECRIA","PAJA","CAPRINOALPINARECRIAPAJA",414]
["CAPRINO","ALPINA","RECRIA","HENO",{"$f":"CONCATENATE(A1084,B1084,C1084,D1084)","v":"CAPRINOALPINARECRIAHENO"},285]
["CAPRINO","ALPINA","RECRIA","SILO","CAPRINOALPINARECRIASILO",285]
[]
[]
[]
[{"$f":"B952","v":{"$error":"#REF!"}},{"$f":"B953","v":{"$error":"#REF!"}},{"$f":"B954","v":{"$error":"#REF!"}},{"$f":"B955","v":{"$error":"#REF!"}},{"$f":"CONCATENATE(A1089,B1089,C1089,D1089)","v":{"$error":"#REF!"}},{"$f":"VLOOKUP(E1089,$E$966:$F$1085,2,FALSE)","v":{"$error":"#REF!"}}]
[]
[1,2,3,4,5,6,7,8,9,10,11,12]
[{"$f":"'HOJA DE DATOS'!A141","v":"NUMEROREGISTRO"},{"$f":"'HOJA DE DATOS'!B141","v":"GANADO"},{"$f":"'HOJA DE DATOS'!C141","v":"CODIGO IRIS"},{"$f":"'HOJA DE DATOS'!D141","v":"NOMBRE PRODUCTO"},{"$f":"'HOJA DE DATOS'!E141","v":"PRESENTACION"},{"$f":"'HOJA DE DATOS'!F141","v":"UFL/UFV"},{"$f":"'HOJA DE DATOS'!G141","v":"PROTEINA BRUTA"},{"$f":"'HOJA DE DATOS'!H141","v":"FIBRA BRUTA"},{"$f":"'HOJA DE DATOS'!I141","v":"GRASA BRUTA"},{"$f":"'HOJA DE DATOS'!J141","v":"CENIZAS"},{"$f":"'HOJA DE DATOS'!K141","v":"MODO DE EMPLEO"},{"$f":"'HOJA DE DATOS'!L141","v":"OBSERVACIONES"}]
[{"$f":"'HOJA DE DATOS'!A142","v":278},{"$f":"'HOJA DE DATOS'!B142","v":"OVINO"},{"$f":"'HOJA DE DATOS'!C142","v":"1808 GGR"},{"$f":"'HOJA DE DATOS'!D142","v":"OVIRECRIA"},{"$f":"'HOJA DE DATOS'!E142","v":"GRANULADO 3,5"},{"$f":"'HOJA DE DATOS'!F142","v":88},{"$f":"'HOJA DE DATOS'!G142","v":165},{"$f":"'HOJA DE DATOS'!H142","v":82},{"$f":"'HOJA DE DATOS'!I142","v":35},{"$f":"'HOJA DE DATOS'!J142","v":78},{"$f":"'HOJA DE DATOS'!K142","v":"Pienso complementario destinados a corderas de reposición desde los 3 a los 6-7 meses. Se puede suministar a voluntad con paja ad libitumn pero es aconsejable el aporte de forrajes"},{"$f":"'HOJA DE DATOS'!L142","v":"Los animales dispondrán en todo momento de agua limpia y fresca a libre servicio. Consultar a los servicios técnicos."}]
[{"$f":"'HOJA DE DATOS'!A143","v":285},{"$f":"'HOJA DE DATOS'!B143","v":"CAPRINO"},{"$f":"'HOJA DE DATOS'!C143","v":"1610 GGR"},{"$f":"'HOJA DE DATOS'!D143","v":"CAPRIRECRIA"},{"$f":"'HOJA DE DATOS'!E143","v":"GRANULADO 3,5"},{"$f":"'HOJA DE DATOS'!F143","v":89},{"$f":"'HOJA DE DATOS'!G143","v":165},{"$f":"'HOJA DE DATOS'!H143","v":82},{"$f":"'HOJA DE DATOS'!I143","v":35},{"$f":"'HOJA DE DATOS'!J143","v":78},{"$f":"'HOJA DE DATOS'!K143","v":"Pienso complementario destinados a chivas de reposición desde los 3 a los 6-7 meses. Se puede suministar a voluntad con paja ad libitumn pero es aconsejable el aporte de forrajes"},{"$f":"'HOJA DE DATOS'!L143","v":"Los animales dispondrán en todo momento de agua limpia y fresca a libre servicio. Consultar a los servicios técnicos."}]
[{"$f":"'HOJA DE DATOS'!A144","v":298},{"$f":"'HOJA DE DATOS'!B144","v":"CAPRINO"},{"$f":"'HOJA DE DATOS'!C144","v":"1512 GGR"},{"$f":"'HOJA DE DATOS'!D144","v":"CAPRI KOMPLET ESTANDAR"},{"$f":"'HOJA DE DATOS'!E144","v":"GRANULADO 3,5"},{"$f":"'HOJA DE DATOS'!F144","v":90},{"$f":"'HOJA DE DATOS'!G144","v":170},{"$f":"'HOJA DE DATOS'!H144","v":120},{"$f":"'HOJA DE DATOS'!I144","v":35},{"$f":"'HOJA DE DATOS'!J144","v":75},{"$f":"'HOJA DE DATOS'!K144","v":"Pienso complementario destinado a cabras de leche para ser suministrado con paja a voluntad. La paja deberá ser limpia y seca y se administrará ad libitum. Los animales dispondrán de agua limpia y fresca."},{"$f":"'HOJA DE DATOS'!L144","v":"Preferiblemente administrar varias veces al día pero que siempre lo tengan disponible. La transición a este alñimento debe ser lenta (15 días mínimo) y paulatina. Recomendamos tener a los animales desparasitados y vacunados de Enterotoxemia."}]
[{"$f":"'HOJA DE DATOS'!A145","v":299},{"$f":"'HOJA DE DATOS'!B145","v":"CAPRINO"},{"$f":"'HOJA DE DATOS'!C145","v":"1515 GGR"},{"$f":"'HOJA DE DATOS'!D145","v":"CAPRI KOMPLET ESPECIAL"},{"$f":"'HOJA DE DATOS'!E145","v":"GRANULADO 10"},{"$f":"'HOJA DE DATOS'!F145","v":92},{"$f":"'HOJA DE DATOS'!G145","v":170},{"$f":"'HOJA DE DATOS'!H145","v":120},{"$f":"'HOJA DE DATOS'!I145","v":40},{"$f":"'HOJA DE DATOS'!J145","v":83},{"$f":"'HOJA DE DATOS'!K145","v":"Pienso complementario  de paja para cabras en ordeño. Los animales dispondrán en todo momento de paja de cereales limpia y agua limpia y fresca. Puede emplearse racionado o a voluntad. Diseñado especialmente para cabras tipo murciano."},{"$f":"'HOJA DE DATOS'!L145","v":"Preferiblemente administrar varias veces al día pero que siempre lo tengan disponible. La transición a este alimento debe ser lenta (15 días mínimo) y paulatina. Recomendamos tener a los animales desparasitados y vacunados de Enterotoxemia."}]
[{"$f":"'HOJA DE DATOS'!A146","v":374},{"$f":"'HOJA DE DATOS'!B146","v":"OVINO/CAPRINO"},{"$f":"'HOJA DE DATOS'!C146","v":"1669 GGR"},{"$f":"'HOJA DE DATOS'!D146","v":"INOGEST"},{"$f":"'HOJA DE DATOS'!E146","v":"GRANULADO 3,5"},{"$f":"'HOJA DE DATOS'!F146","v":92},{"$f":"'HOJA DE DATOS'!G146","v":143},{"$f":"'HOJA DE DATOS'!H146","v":71},{"$f":"'HOJA DE DATOS'!I146","v":28},{"$f":"'HOJA DE DATOS'!J146","v":67},{"$f":"'HOJA DE DATOS'!K146","v":"Pienso complementario especial para el preparto de ovejas y cabras de ordeño . Utilizar como complementario de forrajes los últimos 45 días de antes del parto."},{"$f":"'HOJA DE DATOS'!L146","v":"No se recomienda la utilización de paja en esta fase sobre todo en razas muy lecheras y prolíficas.Los animales dispondrán de agua limpia y fresca a libre disposición."}]
[{"$f":"'HOJA DE DATOS'!A147","v":383},{"$f":"'HOJA DE DATOS'!B147","v":"OVINO"},{"$f":"'HOJA DE DATOS'!C147","v":"1705 GGR"},{"$f":"'HOJA DE DATOS'!D147","v":"OVIKOMPLET"},{"$f":"'HOJA DE DATOS'!E147","v":"GRANULADO 10"},{"$f":"'HOJA DE DATOS'!F147","v":88},{"$f":"'HOJA DE DATOS'!G147","v":180},{"$f":"'HOJA DE DATOS'!H147","v":120},{"$f":"'HOJA DE DATOS'!I147","v":40},{"$f":"'HOJA DE DATOS'!J147","v":80},{"$f":"'HOJA DE DATOS'!K147","v":"Pienso complementario de paja para ovejas en ordeño. Los animales dispondrán en todo momento de paja de cereales limpia y agua limpia y fresca. Puede emplearse racionado o a voluntad. Consultar cada caso con los servicios técnicos."},{"$f":"'HOJA DE DATOS'!L147","v":"Preferiblemente administrar varias veces al día pero que siempre lo tengan disponible.La transición a este alimento debe ser lenta (15 días mínimo) y paulatina. Necesaria vacunacion Enterotoxemia."}]
[{"$f":"'HOJA DE DATOS'!A148","v":391},{"$f":"'HOJA DE DATOS'!B148","v":"OVINO"},{"$f":"'HOJA DE DATOS'!C148","v":"1777 GGR"},{"$f":"'HOJA DE DATOS'!D148","v":"OVIKOMPLET BASIC"},{"$f":"'HOJA DE DATOS'!E148","v":"GRANULADO 10"},{"$f":"'HOJA DE DATOS'!F148","v":81},{"$f":"'HOJA DE DATOS'!G148","v":165},{"$f":"'HOJA DE DATOS'!H148","v":135},{"$f":"'HOJA DE DATOS'!I148","v":30},{"$f":"'HOJA DE DATOS'!J148","v":87},{"$f":"'HOJA DE DATOS'!K148","v":"Pienso complementario de paja para ovejas en ordeño. Los animales dispondrán en todo momento de paja de cereales limpia y agua limpia y fresca. Puede emplearse racionado. Consultar cada caso con los servicios técnicos."},{"$f":"'HOJA DE DATOS'!L148","v":"Preferiblemente administrar varias veces al día pero que siempre lo tengan disponible.La transición a este alimento debe ser lenta (15 días mínimo) y paulatina. Necesaria vacunacion Enterotoxemia."}]
[{"$f":"'HOJA DE DATOS'!A149","v":396},{"$f":"'HOJA DE DATOS'!B149","v":"OVINO"},{"$f":"'HOJA DE DATOS'!C149","v":"1797 GGR"},{"$f":"'HOJA DE DATOS'!D149","v":"OVIKOMPLET EQ"},{"$f":"'HOJA DE DATOS'!E149","v":"GRANULADO 10"},{"$f":"'HOJA DE DATOS'!F149","v":86},{"$f":"'HOJA DE DATOS'!G149","v":180},{"$f":"'HOJA DE DATOS'!H149","v":155},{"$f":"'HOJA DE DATOS'!I149","v":40},{"$f":"'HOJA DE DATOS'!J149","v":90},{"$f":"'HOJA DE DATOS'!K149","v":"Pienso complementario de paja para ovejas en ordeño. Los animales dispondrán en todo momento de paja de cereales limpia y agua limpia y fresca. Puede emplearse racionado o a voluntad. Consultar cada caso con los servicios técnicos."},{"$f":"'HOJA DE DATOS'!L149","v":"Preferiblemente administrar varias veces al día pero que siempre lo tengan disponible.La transición a este alimento debe ser lenta (15 días mínimo) y paulatina. Necesaria vacunacion Enterotoxemia."}]
[{"$f":"'HOJA DE DATOS'!A150","v":397},{"$f":"'HOJA DE DATOS'!B150","v":"CAPRINO"},{"$f":"'HOJA DE DATOS'!C150","v":""},{"$f":"'HOJA DE DATOS'!D150","v":"CAPRIKOMPLET PLUS"},{"$f":"'HOJA DE DATOS'!E150","v":"GRANULADO 3,5"},{"$f":"'HOJA DE DATOS'!F150","v":94},{"$f":"'HOJA DE DATOS'!G150","v":180},{"$f":"'HOJA DE DATOS'!H150","v":100},{"$f":"'HOJA DE DATOS'!I150","v":38},{"$f":"'HOJA DE DATOS'!J150","v":74},{"$f":"'HOJA DE DATOS'!K150","v":"Pienso complementario  de paja para cabras en ordeño. Los animales dispondrán en todo momento de paja de cereales y algo de forraje y agua limpia y fresca . Puede emplearse racionado o a voluntad. Diseñado especialmente para cabras tipo murciano."},{"$f":"'HOJA DE DATOS'!L150","v":"Preferiblemente administrar varias veces al día pero que siempre lo tengan disponible. La transición a este alimento debe ser lenta (15 días mínimo) y paulatina. Recomendamos tener a los animales desparasitados y vacunados de Enterotoxemia."}]
[{"$f":"'HOJA DE DATOS'!A151","v":413},{"$f":"'HOJA DE DATOS'!B151","v":"OVINO/CAPRINO"},{"$f":"'HOJA DE DATOS'!C151","v":"1818 GGR"},{"$f":"'HOJA DE DATOS'!D151","v":"KOMPLET GESTACION"},{"$f":"'HOJA DE DATOS'!E151","v":"GRANULADO 3,5"},{"$f":"'HOJA DE DATOS'!F151","v":90},{"$f":"'HOJA DE DATOS'!G151","v":175},{"$f":"'HOJA DE DATOS'!H151","v":90},{"$f":"'HOJA DE DATOS'!I151","v":25},{"$f":"'HOJA DE DATOS'!J151","v":83},{"$f":"'HOJA DE DATOS'!K151","v":"Pienso complementario especial para el preparto de ovejas y cabras de ordeño . Utilizar como complementario de forrajes (incluido paja) los últimos 45 días de antes del parto."},{"$f":"'HOJA DE DATOS'!L151","v":"racionar adecuadamente según peso vivo y prolificidad. .Los animales dispondrán de agua limpia y fresca a libre disposición."}]
[{"$f":"'HOJA DE DATOS'!A152","v":414},{"$f":"'HOJA DE DATOS'!B152","v":"OVINO/CAPRINO"},{"$f":"'HOJA DE DATOS'!C152","v":"1819 GGR"},{"$f":"'HOJA DE DATOS'!D152","v":"KOMPLET RECRIA"},{"$f":"'HOJA DE DATOS'!E152","v":"GRANULADO 3,5"},{"$f":"'HOJA DE DATOS'!F152","v":91},{"$f":"'HOJA DE DATOS'!G152","v":170},{"$f":"'HOJA DE DATOS'!H152","v":100},{"$f":"'HOJA DE DATOS'!I152","v":38},{"$f":"'HOJA DE DATOS'!J152","v":74},{"$f":"'HOJA DE DATOS'!K152","v":"Pienso complementario destinados a corderas y chivas de reposición desde los 3 hasta el preparto. Se puede suministar a voluntad con paja ad libitumn en la primera fase- Despues racionado.  El aporte de forrajes es siempre preferible."},{"$f":"'HOJA DE DATOS'!L152","v":"Los animales dispondrán en todo momento de agua limpia y fresca a libre servicio. Consultar a los servicios técnicos."}]
[{"$f":"'HOJA DE DATOS'!A153","v":420},{"$f":"'HOJA DE DATOS'!B153","v":"OVINO"},{"$f":"'HOJA DE DATOS'!C153","v":"1856 GGR"},{"$f":"'HOJA DE DATOS'!D153","v":"OVIKOMPLET PLUS"},{"$f":"'HOJA DE DATOS'!E153","v":"GRANULADO 10"},{"$f":"'HOJA DE DATOS'!F153","v":90},{"$f":"'HOJA DE DATOS'!G153","v":185},{"$f":"'HOJA DE DATOS'!H153","v":110},{"$f":"'HOJA DE DATOS'!I153","v":38},{"$f":"'HOJA DE DATOS'!J153","v":81},{"$f":"'HOJA DE DATOS'!K153","v":"Pienso complementario de paja y forrajes para ovejas en ordeño. Los animales dispondrán en todo momento de paja de cereales limpia y agua limpia y fresca. Puede emplearse racionado o a voluntad. Consultar cada caso con los servicios técnicos."},{"$f":"'HOJA DE DATOS'!L153","v":"Preferiblemente administrar varias veces al día pero que siempre lo tengan disponible.La transición a este alimento debe ser lenta (15 días mínimo) y paulatina. Necesaria vacunacion Enterotoxemia."}]
[{"$f":"'HOJA DE DATOS'!A154","v":0},{"$f":"'HOJA DE DATOS'!B154","v":0},{"$f":"'HOJA DE DATOS'!C154","v":0},{"$f":"'HOJA DE DATOS'!D154","v":0},{"$f":"'HOJA DE DATOS'!E154","v":0},{"$f":"'HOJA DE DATOS'!F154","v":0},{"$f":"'HOJA DE DATOS'!G154","v":0},{"$f":"'HOJA DE DATOS'!H154","v":0},{"$f":"'HOJA DE DATOS'!I154","v":0},{"$f":"'HOJA DE DATOS'!J154","v":0},{"$f":"'HOJA DE DATOS'!K154","v":0},{"$f":"'HOJA DE DATOS'!L154","v":0}]
[{"$f":"'HOJA DE DATOS'!A155","v":0},{"$f":"'HOJA DE DATOS'!B155","v":0},{"$f":"'HOJA DE DATOS'!C155","v":0},{"$f":"'HOJA DE DATOS'!D155","v":0},{"$f":"'HOJA DE DATOS'!E155","v":0},{"$f":"'HOJA DE DATOS'!F155","v":0},{"$f":"'HOJA DE DATOS'!G155","v":0},{"$f":"'HOJA DE DATOS'!H155","v":0},{"$f":"'HOJA DE DATOS'!I155","v":0},{"$f":"'HOJA DE DATOS'!J155","v":0},{"$f":"'HOJA DE DATOS'!K155","v":0},{"$f":"'HOJA DE DATOS'!L155","v":0}]
[999,{"$f":"'HOJA DE DATOS'!B156","v":0},{"$f":"'HOJA DE DATOS'!C156","v":0},"NO EXISTE PIENSO",{"$f":"'HOJA DE DATOS'!E156","v":0},{"$f":"'HOJA DE DATOS'!F156","v":0},{"$f":"'HOJA DE DATOS'!G156","v":0},{"$f":"'HOJA DE DATOS'!H156","v":0},{"$f":"'HOJA DE DATOS'!I156","v":0},{"$f":"'HOJA DE DATOS'!J156","v":0},{"$f":"'HOJA DE DATOS'!K156","v":0},{"$f":"'HOJA DE DATOS'!L156","v":0}]
[]
[{"$f":"F1089","v":{"$error":"#REF!"}},{"$f":"VLOOKUP($A$1109,$A$1093:$L$1107,B1091,FALSE)","v":{"$error":"#REF!"}},{"$f":"VLOOKUP($A$1109,$A$1093:$L$1107,C1091,FALSE)","v":{"$error":"#REF!"}},{"$f":"VLOOKUP($A$1109,$A$1093:$L$1107,D1091,FALSE)","v":{"$error":"#REF!"}},{"$f":"VLOOKUP($A$1109,$A$1093:$L$1107,E1091,FALSE)","v":{"$error":"#REF!"}},{"$error":"#REF!"},{"$error":"#REF!"},{"$error":"#REF!"},{"$error":"#REF!"},{"$error":"#REF!"},{"$error":"#REF!"},{"$error":"#REF!"}]
[]
[]
[]
[]
["RACIONAMIENTO KOMPLET",null,null,"PMET"]
[null,"PESO VIVO (MANTENIMIENTO)",{"$f":"#REF!","v":{"$error":"#REF!"}},{"$f":"POWER(C1115,0.75)","v":{"$error":"#REF!"}}]
[null,"PRODUCCION LECHE",{"$f":"#REF!","v":{"$error":"#REF!"}}]
[null,"GRASA",{"$f":"#REF!","v":{"$error":"#REF!"}},{"$f":"C1117*1000","v":{"$error":"#REF!"}}]
[null,"PROTEINA",{"$f":"#REF!","v":{"$error":"#REF!"}},{"$f":"C1118*1000","v":{"$error":"#REF!"}}]
[]
["OVINO","UFL  MANT",{"$f":"ECUACIONES!B29*'ENLACES DATOS'!D1115","v":{"$error":"#REF!"}}]
["OVINO","LECHE ESTANDARIZADA",{"$f":"C1116*((ECUACIONES!D29*'ENLACES DATOS'!D1117)+(ECUACIONES!E29*'ENLACES DATOS'!D1118)+ECUACIONES!F29)","v":{"$error":"#REF!"}}]
["OVINO","UFL/LITRO",{"$f":"ECUACIONES!G29*'ENLACES DATOS'!C1121","v":{"$error":"#REF!"}}]
["OVINO","UFL TOTAL",{"$f":"(C1120+C1122)*1.12","v":{"$error":"#REF!"}}]
["CAPRINO","UFL MANT",{"$f":"ECUACIONES!B31+((ECUACIONES!C31*('ENLACES DATOS'!C1115-ECUACIONES!D31)))","v":{"$error":"#REF!"}}]
["CAPRINO","UFL LECHE REAL",{"$f":"ECUACIONES!E31+((ECUACIONES!F31*(D1117-ECUACIONES!G31))+(ECUACIONES!H31*('ENLACES DATOS'!D1118-ECUACIONES!I31)))","v":{"$error":"#REF!"}}]
["CAPRINO","UFL LECHE REAL",{"$f":"C1116*C1125","v":{"$error":"#REF!"}}]
["CAPRINO","UFL TOTAL",{"$f":"(C1124+C1126)*1.12","v":{"$error":"#REF!"}}]
[]
[{"$f":"#REF!","v":{"$error":"#REF!"}},"NEC TOTALES",{"$f":"IF(A1129=\"\",\"\",IF(A1129=\"CAPRINO\",C1127,C1123))","v":{"$error":"#REF!"}}]
[]
["OVINO",null,"PIENSO","KILOS","UFL/KG PIENSO","UFL TOTALES","PIENSO NECESARIO"]
["CAPRINO",null,{"$f":"#REF!","v":{"$error":"#REF!"}},{"$f":"#REF!","v":{"$error":"#REF!"}},{"$f":"VLOOKUP(C1132,D1093:F1104,3,FALSE)","v":{"$error":"#REF!"}},{"$f":"(E1132/100)*D1132","v":{"$error":"#REF!"}},{"$f":"(C1129-F1135)/(E1132/100)","v":{"$error":"#REF!"}}]
[null,null,{"$f":"IF(#REF!=\"\",\"\",#REF!)","v":{"$error":"#REF!"}},{"$f":"IF(#REF!=\"\",\"\",#REF!)","v":{"$error":"#REF!"}},{"$f":"IF(C1133=\"\",\"\",VLOOKUP(C1133,A1146:B1147,2,FALSE))","v":{"$error":"#REF!"}},{"$f":"IF(E1133=\"\",0,(E1133)*D1133)","v":{"$error":"#REF!"}}]
["CAPRI KOMPLET ESTANDAR",null,{"$f":"IF(#REF!=\"\",\"\",#REF!)","v":{"$error":"#REF!"}},{"$f":"IF(#REF!=\"\",\"\",#REF!)","v":{"$error":"#REF!"}},{"$f":"IF(C1134=\"\",\"\",VLOOKUP(C1134,A1143:B1144,2,FALSE))","v":{"$error":"#REF!"}},{"$f":"IF(E1134=\"\",0,(E1134)*D1134)","v":{"$error":"#REF!"}}]
["CAPRI KOMPLET ESPECIAL",null,null,null,"SUMA UFL FORRAJE",{"$f":"SUM(F1133:F1134)","v":{"$error":"#REF!"}}]
["OVIKOMPLET",null,null,null,"SUMA UFL",{"$f":"SUM(F1132:F1134)","v":{"$error":"#REF!"}}]
["OVIKOMPLET BASIC"]
["OVIKOMPLET EQ"]
["CAPRIKOMPLET PLUS"]
["OVIKOMPLET PLUS"]
[]
[]
["HENO GRAMINEAS",0.52]
["HENO LEGUMINOSAS",0.56999999999999995]
[]
["PAJA CEBADA",0.3]
["PAJA TRIGO",0.27]
[]
[]
[]
["CUENTA EXPLOTACION"]
[]
["nº REPRODUCTORAS",{"$f":"#REF!","v":{"$error":"#REF!"}}]
["Nº MACHOS",{"$f":"B1153*0.05","v":{"$error":"#REF!"}}]
["RECRIA",{"$f":"B1153*#REF!","v":{"$error":"#REF!"}}]
[]
["CORDEROS NACIDOS",{"$f":"B1153*#REF!*#REF!*#REF!","v":{"$error":"#REF!"}}]
["CORDEROS VIABLES",{"$f":"B1157-(B1157*#REF!)","v":{"$error":"#REF!"}}]
["MACHOS VIABLES",{"$f":"B1158/2","v":{"$error":"#REF!"}}]
["HEMBRAS VIABLES",{"$f":"B1158/2","v":{"$error":"#REF!"}}]
["HEMBRAS A CEBO",{"$f":"(B1160-((B1160*#REF!)+#REF!)-B1155)","v":{"$error":"#REF!"}}]
["MACHOS A CEBO",{"$f":"B1159-((B1159*#REF!)+#REF!)","v":{"$error":"#REF!"}}]
[]
["RECRIA A VENTA",{"$f":"#REF!","v":{"$error":"#REF!"}}]
[]
[]
["DIAS LACTACION",{"$f":"365-(B1169+B1168)","v":{"$error":"#REF!"}}]
["DIAS PREPARTO",{"$f":"45*#REF!","v":{"$error":"#REF!"}}]
["DIAS MANTENIMIENTO",{"$f":"30*#REF!","v":{"$error":"#REF!"}}]
["DIAS LACT AP",{"$f":"B1167/2","v":{"$error":"#REF!"}}]
["DIAS LACT BP",{"$f":"B1167-B1170","v":{"$error":"#REF!"}}]
["DIAS LR",35]
["DIAS CREC",60]
["DIAS RECRIA",{"$f":"360-(B1172+B1173+B1175)","v":211}]
["DIAS PREPARTO",54]
[]
["DIAS LR MACHOS Y HEMBRAS CEBO",{"$f":"28","v":28}]
["DIAS CEBO",{"$f":"90-B1177","v":62}]
[null,"POR DIA","POR ANIMAL","TOTAL"]
["COSTO DIA AP",{"$f":"((#REF!*#REF!)+(#REF!*#REF!)+(#REF!*#REF!))/1000","v":{"$error":"#REF!"}},{"$f":"B1180*B1170","v":{"$error":"#REF!"}},{"$f":"C1180*$B$1153","v":{"$error":"#REF!"}}]
["COSTO DIABP",{"$f":"((#REF!*#REF!)+(#REF!*#REF!)+(#REF!*#REF!))/1000","v":{"$error":"#REF!"}},{"$f":"B1181*B1171","v":{"$error":"#REF!"}},{"$f":"C1181*$B$1153","v":{"$error":"#REF!"}}]
["COSTO DIA PREPARTO",{"$f":"((#REF!*#REF!)+(#REF!*#REF!)+(#REF!*#REF!))/1000","v":{"$error":"#REF!"}},{"$f":"B1182*B1175","v":{"$error":"#REF!"}},{"$f":"(C1182*$B$1153)+(B1182*45*B1155)","v":{"$error":"#REF!"}}]
["COSTO DIA MANT",{"$f":"((#REF!*#REF!)+(#REF!*#REF!)+(#REF!*#REF!))/1000","v":{"$error":"#REF!"}},{"$f":"B1183*B1169","v":{"$error":"#REF!"}},{"$error":"#REF!"}]
["COSTO DIA LACTORRE",null,{"$f":"(#REF!*#REF!)/1000","v":{"$error":"#REF!"}},{"$f":"C1184*B1155","v":{"$error":"#REF!"}}]
["COSTO DIA RECRIA",{"$f":"((#REF!*#REF!)+(#REF!*#REF!)+(#REF!*#REF!))/1000","v":{"$error":"#REF!"}},{"$f":"B1185*B1174","v":{"$error":"#REF!"}},{"$f":"C1185*B1155","v":{"$error":"#REF!"}}]
["COSTO DIA RECRIA CREC",null,{"$f":"(#REF!*#REF!)/1000","v":{"$error":"#REF!"}},{"$f":"C1186*B1155","v":{"$error":"#REF!"}}]
[]
["COSTE CEBO LR",null,{"$f":"C1184*0.9","v":{"$error":"#REF!"}},{"$f":"C1188*(B1161+B1162)","v":{"$error":"#REF!"}}]
["COSTE CEBO PIENSO",null,{"$f":"(#REF!*#REF!)/1000","v":{"$error":"#REF!"}},{"$f":"C1189*(B1161+B1162)","v":{"$error":"#REF!"}}]
[]
["ALIMENTACION"]
["ORDEÑO",{"$f":"IF(B1180=0,\"\",D1180+D1181)","v":{"$error":"#REF!"}}]
["PREPARTO",{"$f":"IF(B1182=0,\"\",D1182)","v":{"$error":"#REF!"}}]
["MANTENIMIENTO",{"$f":"IF(B1183=0,\"\",D1183)","v":{"$error":"#REF!"}}]
["CRIA Y RECRIA",{"$f":"IF(B1185=0,\"\",D1184+D1185+D1186)","v":{"$error":"#REF!"}}]
["CEBO",{"$f":"IF(D1189=0,\"\",D1188+D1189)","v":{"$error":"#REF!"}}]
["TOTAL",{"$f":"SUM(B1192:B1196)","v":{"$error":"#REF!"}}]
[]
["MANO DE OBRA",{"$f":"#REF!","v":{"$error":"#REF!"}}]
[]
["SANITARIOS",{"$f":"SUM(#REF!)","v":{"$error":"#REF!"}}]
[]
["AMORTIZACION"]
["NAVE",{"$f":"((#REF!*#REF!)+#REF!)/#REF!","v":{"$error":"#REF!"}}]
["SALA",{"$f":"(#REF!+(#REF!*#REF!))/#REF!","v":{"$error":"#REF!"}}]
["MAQUINARIA",{"$f":"(#REF!+(#REF!*#REF!))/#REF!","v":{"$error":"#REF!"}}]
["TOTAL",{"$f":"SUM(B1204:B1206)","v":{"$error":"#REF!"}}]
[]
["COMPRA ANIMALES"]
["MACHOS",{"$f":"#REF!*#REF!","v":{"$error":"#REF!"}}]
["HEMBRAS/RECRIA",{"$f":"#REF!*#REF!","v":{"$error":"#REF!"}}]
["TOTAL",{"$f":"SUM(B1210:B1211)","v":{"$error":"#REF!"}}]
[]
["COSTE OPORTUNIDAD"]
["INSTALACIONES",{"$f":"(#REF!+#REF!+#REF!)*#REF!","v":{"$error":"#REF!"}}]
["ANIMALES",{"$f":"((#REF!*'ENLACES DATOS'!B1153)+(#REF!*'ENLACES DATOS'!B1154)+(#REF!*'ENLACES DATOS'!B1155)+(#REF!*('ENLACES DATOS'!B1161+'ENLACES DATOS'!B1162)))*#REF!","v":{"$error":"#REF!"}}]
["TOTAL",{"$f":"SUM(B1215:B1216)","v":{"$error":"#REF!"}}]
[]
["VENTA ANIMALES"]
["MACHOS",{"$f":"(#REF!*#REF!)","v":{"$error":"#REF!"}}]
["HEMBRAS/RECRIA",{"$f":"#REF!*#REF!","v":{"$error":"#REF!"}}]
["TPTAL",{"$f":"SUM(B1220:B1221)","v":{"$error":"#REF!"}}]
[]
[]
["VENTAS CEBO",{"$f":"(B1161+B1162)*#REF!","v":{"$error":"#REF!"}}]
[]
[]
["EVOLUCION PRODUCCION"]
[null,{"$f":"IF('EVOLUCION PRODUCCION'!B10=\"\",\"\",'EVOLUCION PRODUCCION'!B10)","v":""},"ANIMALES","PRODUCCION","DIAS","% ANIMALES","DIAS x %ANIMALES","PRODUCCION x % ANIMALES","LITROS TOTAL LOTE"]
["LOTE 1",{"$f":"IF('EVOLUCION PRODUCCION'!C13=\"\",\"\",'EVOLUCION PRODUCCION'!C13)","v":""},{"$f":"IF('EVOLUCION PRODUCCION'!D13=\"\",\"\",'EVOLUCION PRODUCCION'!D13)","v":""},{"$f":"IF('EVOLUCION PRODUCCION'!E13=\"\",\"\",'EVOLUCION PRODUCCION'!E13)","v":""},{"$f":"IF(B1230=\"\",\"\",$B$1229-B1230)","v":""},{"$f":"IF(C1230=\"\",\"\",C1230/$C$1234)","v":""},{"$f":"IF(E1230=\"\",\"\",E1230*F1230)","v":""},{"$f":"IF(F1230=\"\",\"\",F1230*D1230)","v":""},{"$f":"IF(C1230=\"\",\"\",C1230*D1230)","v":""}]
["LOTE 2",{"$f":"IF('EVOLUCION PRODUCCION'!C14=\"\",\"\",'EVOLUCION PRODUCCION'!C14)","v":""},{"$f":"IF('EVOLUCION PRODUCCION'!D14=\"\",\"\",'EVOLUCION PRODUCCION'!D14)","v":""},{"$f":"IF('EVOLUCION PRODUCCION'!E14=\"\",\"\",'EVOLUCION PRODUCCION'!E14)","v":""},{"$f":"IF(B1231=\"\",\"\",$B$1229-B1231)","v":""},{"$f":"IF(C1231=\"\",\"\",C1231/$C$1234)","v":""},{"$f":"IF(E1231=\"\",\"\",E1231*F1231)","v":""},{"$f":"IF(F1231=\"\",\"\",F1231*D1231)","v":""},{"$f":"IF(C1231=\"\",\"\",C1231*D1231)","v":""}]
["LOTE 3",{"$f":"IF('EVOLUCION PRODUCCION'!C15=\"\",\"\",'EVOLUCION PRODUCCION'!C15)","v":""},{"$f":"IF('EVOLUCION PRODUCCION'!D15=\"\",\"\",'EVOLUCION PRODUCCION'!D15)","v":""},{"$f":"IF('EVOLUCION PRODUCCION'!E15=\"\",\"\",'EVOLUCION PRODUCCION'!E15)","v":""},"","","","",""]
["LOTE 4",{"$f":"IF('EVOLUCION PRODUCCION'!C16=\"\",\"\",'EVOLUCION PRODUCCION'!C16)","v":""},{"$f":"IF('EVOLUCION PRODUCCION'!D16=\"\",\"\",'EVOLUCION PRODUCCION'!D16)","v":""},{"$f":"IF('EVOLUCION PRODUCCION'!E16=\"\",\"\",'EVOLUCION PRODUCCION'!E16)","v":""},"","","","",{"$f":"IF(C1233=\"\",\"\",C1233*D1233)","v":""}]
[null,null,{"$f":"IF(C1230=\"\",\"\",SUM(C1230:C1233))","v":""},{"$f":"IF(D1230=\"\",\"\",SUM(D1230:D1233))","v":""},null,null,{"$f":"SUM(G1230:G1233)","v":0},{"$f":"SUM(H1230:H1233)","v":0},{"$f":"SUM(I1230:I1233)","v":0}]
[]
[null,"DML",{"$f":"G1234","v":0}]
[null,"PRODUCCION",{"$f":"IF(D1234=\"\",\"\",D1234/C1234)","v":""}]
[null,"LITROS TOTAL",{"$f":"I1234","v":0}]
[]
[null,null,null,null,null,"PROD DIA","DML"]
["ENTREGAS LECHE",{"$f":"IF('EVOLUCION PRODUCCION'!B21=\"\",\"\",'EVOLUCION PRODUCCION'!B21)","v":""},{"$f":"IF('EVOLUCION PRODUCCION'!C21=\"\",\"\",'EVOLUCION PRODUCCION'!C21)","v":""},{"$f":"IF('EVOLUCION PRODUCCION'!D21=\"\",\"\",'EVOLUCION PRODUCCION'!D21)","v":""},{"$f":"IF('EVOLUCION PRODUCCION'!E21=\"\",\"\",'EVOLUCION PRODUCCION'!E21)","v":""},{"$f":"IF(B1241=\"\",\"\",(C1241/D1241))","v":""},{"$f":"IF(E1241=\"\",\"\",E1241)","v":""}]
[null,{"$f":"IF('EVOLUCION PRODUCCION'!B22=\"\",B1241,'EVOLUCION PRODUCCION'!B22)","v":""},{"$f":"IF('EVOLUCION PRODUCCION'!C22=\"\",C1241,'EVOLUCION PRODUCCION'!C22)","v":""},{"$f":"IF('EVOLUCION PRODUCCION'!D22=\"\",D1241,'EVOLUCION PRODUCCION'!D22)","v":""},null,{"$f":"IF(B1242=\"\",\"\",(C1242/D1242))","v":""},{"$f":"IF(B1242=\"\",\"\",G1241+(B1242-B1241))","v":""}]
[null,{"$f":"IF('EVOLUCION PRODUCCION'!B23=\"\",B1242,'EVOLUCION PRODUCCION'!B23)","v":""},{"$f":"IF('EVOLUCION PRODUCCION'!C23=\"\",C1242,'EVOLUCION PRODUCCION'!C23)","v":""},{"$f":"IF('EVOLUCION PRODUCCION'!D23=\"\",D1242,'EVOLUCION PRODUCCION'!D23)","v":""},null,"",{"$f":"IF(B1243=\"\",\"\",G1242+(B1243-B1242))","v":""}]
[null,{"$f":"IF('EVOLUCION PRODUCCION'!B24=\"\",B1243,'EVOLUCION PRODUCCION'!B24)","v":""},{"$f":"IF('EVOLUCION PRODUCCION'!C24=\"\",C1243,'EVOLUCION PRODUCCION'!C24)","v":""},{"$f":"IF('EVOLUCION PRODUCCION'!D24=\"\",D1243,'EVOLUCION PRODUCCION'!D24)","v":""},null,"",""]
[null,{"$f":"IF('EVOLUCION PRODUCCION'!B25=\"\",B1244,'EVOLUCION PRODUCCION'!B25)","v":""},{"$f":"IF('EVOLUCION PRODUCCION'!C25=\"\",C1244,'EVOLUCION PRODUCCION'!C25)","v":""},{"$f":"IF('EVOLUCION PRODUCCION'!D25=\"\",D1244,'EVOLUCION PRODUCCION'!D25)","v":""},null,"",""]
[null,{"$f":"IF('EVOLUCION PRODUCCION'!B26=\"\",B1245,'EVOLUCION PRODUCCION'!B26)","v":""},{"$f":"IF('EVOLUCION PRODUCCION'!C26=\"\",C1245,'EVOLUCION PRODUCCION'!C26)","v":""},{"$f":"IF('EVOLUCION PRODUCCION'!D26=\"\",D1245,'EVOLUCION PRODUCCION'!D26)","v":""},null,"",""]
[null,{"$f":"IF('EVOLUCION PRODUCCION'!B27=\"\",B1246,'EVOLUCION PRODUCCION'!B27)","v":""},{"$f":"IF('EVOLUCION PRODUCCION'!C27=\"\",C1246,'EVOLUCION PRODUCCION'!C27)","v":""},{"$f":"IF('EVOLUCION PRODUCCION'!D27=\"\",D1246,'EVOLUCION PRODUCCION'!D27)","v":""},null,"",""]
[null,{"$f":"IF('EVOLUCION PRODUCCION'!B28=\"\",B1247,'EVOLUCION PRODUCCION'!B28)","v":""},{"$f":"IF('EVOLUCION PRODUCCION'!C28=\"\",C1247,'EVOLUCION PRODUCCION'!C28)","v":""},{"$f":"IF('EVOLUCION PRODUCCION'!D28=\"\",D1247,'EVOLUCION PRODUCCION'!D28)","v":""},null,"",""]
[null,{"$f":"IF('EVOLUCION PRODUCCION'!B29=\"\",B1248,'EVOLUCION PRODUCCION'!B29)","v":""},{"$f":"IF('EVOLUCION PRODUCCION'!C29=\"\",C1248,'EVOLUCION PRODUCCION'!C29)","v":""},{"$f":"IF('EVOLUCION PRODUCCION'!D29=\"\",D1248,'EVOLUCION PRODUCCION'!D29)","v":""},null,"",""]
[null,{"$f":"IF('EVOLUCION PRODUCCION'!B30=\"\",B1249,'EVOLUCION PRODUCCION'!B30)","v":""},{"$f":"IF('EVOLUCION PRODUCCION'!C30=\"\",C1249,'EVOLUCION PRODUCCION'!C30)","v":""},{"$f":"IF('EVOLUCION PRODUCCION'!D30=\"\",D1249,'EVOLUCION PRODUCCION'!D30)","v":""},null,"",""]
[null,{"$f":"IF('EVOLUCION PRODUCCION'!B31=\"\",B1250,'EVOLUCION PRODUCCION'!B31)","v":""},{"$f":"IF('EVOLUCION PRODUCCION'!C31=\"\",C1250,'EVOLUCION PRODUCCION'!C31)","v":""},{"$f":"IF('EVOLUCION PRODUCCION'!D31=\"\",D1250,'EVOLUCION PRODUCCION'!D31)","v":""},null,"",""]
[null,{"$f":"IF('EVOLUCION PRODUCCION'!B32=\"\",B1251,'EVOLUCION PRODUCCION'!B32)","v":""},{"$f":"IF('EVOLUCION PRODUCCION'!C32=\"\",C1251,'EVOLUCION PRODUCCION'!C32)","v":""},{"$f":"IF('EVOLUCION PRODUCCION'!D32=\"\",D1251,'EVOLUCION PRODUCCION'!D32)","v":""},null,"",""]
[null,{"$f":"IF('EVOLUCION PRODUCCION'!B33=\"\",B1252,'EVOLUCION PRODUCCION'!B33)","v":""},{"$f":"IF('EVOLUCION PRODUCCION'!C33=\"\",C1252,'EVOLUCION PRODUCCION'!C33)","v":""},{"$f":"IF('EVOLUCION PRODUCCION'!D33=\"\",D1252,'EVOLUCION PRODUCCION'!D33)","v":""},null,"",""]
[null,{"$f":"IF('EVOLUCION PRODUCCION'!B34=\"\",B1253,'EVOLUCION PRODUCCION'!B34)","v":""},{"$f":"IF('EVOLUCION PRODUCCION'!C34=\"\",C1253,'EVOLUCION PRODUCCION'!C34)","v":""},{"$f":"IF('EVOLUCION PRODUCCION'!D34=\"\",D1253,'EVOLUCION PRODUCCION'!D34)","v":""},null,"",""]
[null,{"$f":"IF('EVOLUCION PRODUCCION'!B35=\"\",B1254,'EVOLUCION PRODUCCION'!B35)","v":""},{"$f":"IF('EVOLUCION PRODUCCION'!C35=\"\",C1254,'EVOLUCION PRODUCCION'!C35)","v":""},{"$f":"IF('EVOLUCION PRODUCCION'!D35=\"\",D1254,'EVOLUCION PRODUCCION'!D35)","v":""},null,"",""]
[null,{"$f":"IF('EVOLUCION PRODUCCION'!B36=\"\",B1255,'EVOLUCION PRODUCCION'!B36)","v":""},{"$f":"IF('EVOLUCION PRODUCCION'!C36=\"\",C1255,'EVOLUCION PRODUCCION'!C36)","v":""},{"$f":"IF('EVOLUCION PRODUCCION'!D36=\"\",D1255,'EVOLUCION PRODUCCION'!D36)","v":""},null,"",""]
[null,{"$f":"IF('EVOLUCION PRODUCCION'!B37=\"\",B1256,'EVOLUCION PRODUCCION'!B37)","v":""},{"$f":"IF('EVOLUCION PRODUCCION'!C37=\"\",C1256,'EVOLUCION PRODUCCION'!C37)","v":""},{"$f":"IF('EVOLUCION PRODUCCION'!D37=\"\",D1256,'EVOLUCION PRODUCCION'!D37)","v":""},null,"",""]
[null,{"$f":"IF('EVOLUCION PRODUCCION'!B38=\"\",B1257,'EVOLUCION PRODUCCION'!B38)","v":""},{"$f":"IF('EVOLUCION PRODUCCION'!C38=\"\",C1257,'EVOLUCION PRODUCCION'!C38)","v":""},{"$f":"IF('EVOLUCION PRODUCCION'!D38=\"\",D1257,'EVOLUCION PRODUCCION'!D38)","v":""},null,"",""]
[null,{"$f":"IF('EVOLUCION PRODUCCION'!B39=\"\",B1258,'EVOLUCION PRODUCCION'!B39)","v":""},{"$f":"IF('EVOLUCION PRODUCCION'!C39=\"\",C1258,'EVOLUCION PRODUCCION'!C39)","v":""},{"$f":"IF('EVOLUCION PRODUCCION'!D39=\"\",D1258,'EVOLUCION PRODUCCION'!D39)","v":""},null,"",""]
[null,{"$f":"IF('EVOLUCION PRODUCCION'!B40=\"\",B1259,'EVOLUCION PRODUCCION'!B40)","v":""},{"$f":"IF('EVOLUCION PRODUCCION'!C40=\"\",C1259,'EVOLUCION PRODUCCION'!C40)","v":""},{"$f":"IF('EVOLUCION PRODUCCION'!D40=\"\",D1259,'EVOLUCION PRODUCCION'!D40)","v":""},null,"",""]
[]
[]
[]
["CHEQUEO DIMENSIONADO NAVES"]
[]
["Nº ANIMALES",{"$f":"IF('CHEQUEO DIMENSIONADO NAVE'!C11=\"\",\"\",'CHEQUEO DIMENSIONADO NAVE'!C11)","v":715}]
["M2 ANIMAL",{"$f":"IF('CHEQUEO DIMENSIONADO NAVE'!C23=\"\",\"\",'CHEQUEO DIMENSIONADO NAVE'!C23)","v":1.25}]
["LONGITUD",{"$f":"IF('CHEQUEO DIMENSIONADO NAVE'!C12=\"\",\"\",'CHEQUEO DIMENSIONADO NAVE'!C12)","v":50}]
["ANCHURA",{"$f":"IF('CHEQUEO DIMENSIONADO NAVE'!C13=\"\",\"\",'CHEQUEO DIMENSIONADO NAVE'!C13)","v":15}]
["ALTURA LATERAL",{"$f":"IF('CHEQUEO DIMENSIONADO NAVE'!C14=\"\",\"\",'CHEQUEO DIMENSIONADO NAVE'!C14)","v":8}]
["ALTURA CENTRAL",{"$f":"IF('CHEQUEO DIMENSIONADO NAVE'!C15=\"\",\"\",'CHEQUEO DIMENSIONADO NAVE'!C15)","v":9}]
["Nº PASILLOS",{"$f":"IF('CHEQUEO DIMENSIONADO NAVE'!C16=\"\",\"\",'CHEQUEO DIMENSIONADO NAVE'!C16)","v":1}]
["ANCHURA CADA PASILLO",{"$f":"IF('CHEQUEO DIMENSIONADO NAVE'!C17=\"\",\"\",'CHEQUEO DIMENSIONADO NAVE'!C17)","v":4}]
["ENTRADAS DE AIRE",{"$f":"IF('CHEQUEO DIMENSIONADO NAVE'!C20=\"\",\"\",'CHEQUEO DIMENSIONADO NAVE'!C20)","v":0.06}]
["SALIDAS DE AIRE",{"$f":"IF('CHEQUEO DIMENSIONADO NAVE'!C21=\"\",\"\",'CHEQUEO DIMENSIONADO NAVE'!C21)","v":0.03}]
["VOLUMEN ESTATICO ANIMAL",{"$f":"IF('CHEQUEO DIMENSIONADO NAVE'!C22=\"\",\"\",'CHEQUEO DIMENSIONADO NAVE'!C22)","v":8}]
[]
["SUPERFICIE TOTAL",{"$f":"IF(B1268=\"\",\"\",B1268*B1269)","v":750}]
["SUPERFICE PASILLOS",{"$f":"IF(B1273=\"\",\"\",(B1272*B1273)*B1268)","v":200}]
["SUPERFICIE ANIMALES",{"$f":"IF(B1268=\"\",\"\",B1278-B1279)","v":550}]
["Nº ANIMALES MAXIMO (SUPERF)",{"$f":"IF(B1267=\"\",\"\",B1280/B1267)","v":440}]
["VOLUMEN  PRISMA NAVE",{"$f":"IF(B1270=\"\",\"\",(B1278*B1270))","v":6000}]
["VOLUMEN CUPULA",{"$f":"IF(B1271=\"\",\"\",((B1269*(B1271-B1270))/2)*B1268)","v":375}]
["VOLUMEN ESTATICO",{"$f":"IF(B1282=\"\",\"\",(B1282+B1283))","v":6375}]
["Nº ANIMALES MAXIMO (VOL)",{"$f":"IF(B1284=\"\",\"\",B1284/B1276)","v":796.875}]
["%PENDIENTE",{"$f":"IF(B1271=\"\",\"\",(B1271-B1270)/(B1269/2))","v":0.13333333333333333}]
["SUPERFICIE MIN ENTRADA AIRE",{"$f":"IF(B1274=\"\",\"\",(B1274)*B1266)","v":42.9}]
["SUPERF MAX SALIDA AIR",{"$f":"IF(B1275=\"\",\"\",(B1275)*B1266)","v":21.45}]
["ANCHURA MINIMA DE VENTANA",{"$f":"IF(B1287=\"\",\"\",((B1287/2)/(0.7*B1268)))","v":0.61285714285714288}]
["ANCHURA MINIMA CABALLETE",{"$f":"IF(B1288=\"\",\"\",(B1288/(0.95*B1268)))","v":0.45157894736842102}]
[]
[]
[]
["CHEQUEO DIMENSIONADO NAVES"]
["ALTURA",{"$f":"IF('CALCULO DISTANCIA ENTRE NAVES'!C11=\"\",\"\",'CALCULO DISTANCIA ENTRE NAVES'!C11)","v":""}]
["LONGITUD",{"$f":"IF('CALCULO DISTANCIA ENTRE NAVES'!C12=\"\",\"\",'CALCULO DISTANCIA ENTRE NAVES'!C12)","v":""}]
[]
["RAIZ CUADRADA LONG",{"$f":"IF(B1296=\"\",\"\",SQRT(B1296))","v":""}]
["DISTANCIA",{"$f":"IF(B1295=\"\",\"\",(ECUACIONES!B35*'ENLACES DATOS'!B1295)*'ENLACES DATOS'!B1298)","v":""}]
[]
[]
["PRODUCTOS OVINO&CAPRINO LECHE",1,2,3,4,5,6,7,8,9,10,11,12,13,14,15,16,17]
[null,"NOMBRE PRODUCTO","GANADO","CLASE","TIPO","PRESENTACION","TIPO DE PIENSO","DESTINO PIENSO","MODO DE EMPLEO","OBSERVACIONES","MODO EMPLEO ETIQUETA","%HUM","%PB","%FB","GB","%MM","%A+A","UFL"]
[null,{"$f":"IF('HOJA DE DATOS'!C160=0,\"\",'HOJA DE DATOS'!C160)","v":""},{"$f":"IF('HOJA DE DATOS'!D160=0,\"\",'HOJA DE DATOS'!D160)","v":""},{"$f":"IF('HOJA DE DATOS'!E160=0,\"\",'HOJA DE DATOS'!E160)","v":""},{"$f":"IF('HOJA DE DATOS'!F160=0,\"\",'HOJA DE DATOS'!F160)","v":""},{"$f":"IF('HOJA DE DATOS'!G160=0,\"\",'HOJA DE DATOS'!G160)","v":""},{"$f":"IF('HOJA DE DATOS'!H160=0,\"\",'HOJA DE DATOS'!H160)","v":""},{"$f":"IF('HOJA DE DATOS'!I160=0,\"\",'HOJA DE DATOS'!I160)","v":""},{"$f":"IF('HOJA DE DATOS'!Q160=0,\"\",'HOJA DE DATOS'!Q160)","v":""},{"$f":"IF('HOJA DE DATOS'!R160=0,\"\",'HOJA DE DATOS'!R160)","v":""},{"$f":"IF('HOJA DE DATOS'!S160=0,\"\",'HOJA DE DATOS'!S160)","v":""},{"$f":"IF('HOJA DE DATOS'!T160=0,\"\",'HOJA DE DATOS'!T160)","v":""},{"$f":"IF('HOJA DE DATOS'!U160=0,\"\",'HOJA DE DATOS'!U160)","v":""},{"$f":"IF('HOJA DE DATOS'!V160=0,\"\",'HOJA DE DATOS'!V160)","v":""},{"$f":"IF('HOJA DE DATOS'!W160=0,\"\",'HOJA DE DATOS'!W160)","v":""},{"$f":"IF('HOJA DE DATOS'!X160=0,\"\",'HOJA DE DATOS'!X160)","v":""},{"$f":"IF('HOJA DE DATOS'!Y160=0,\"\",'HOJA DE DATOS'!Y160)","v":""},{"$f":"IF('HOJA DE DATOS'!P160=0,\"\",'HOJA DE DATOS'!P160)","v":""}]
[null,{"$f":"IF('HOJA DE DATOS'!C161=0,\"\",'HOJA DE DATOS'!C161)","v":""},{"$f":"IF('HOJA DE DATOS'!D161=0,\"\",'HOJA DE DATOS'!D161)","v":""},{"$f":"IF('HOJA DE DATOS'!E161=0,\"\",'HOJA DE DATOS'!E161)","v":""},{"$f":"IF('HOJA DE DATOS'!F161=0,\"\",'HOJA DE DATOS'!F161)","v":""},{"$f":"IF('HOJA DE DATOS'!G161=0,\"\",'HOJA DE DATOS'!G161)","v":""},{"$f":"IF('HOJA DE DATOS'!H161=0,\"\",'HOJA DE DATOS'!H161)","v":""},{"$f":"IF('HOJA DE DATOS'!I161=0,\"\",'HOJA DE DATOS'!I161)","v":""},{"$f":"IF('HOJA DE DATOS'!Q161=0,\"\",'HOJA DE DATOS'!Q161)","v":""},{"$f":"IF('HOJA DE DATOS'!R161=0,\"\",'HOJA DE DATOS'!R161)","v":""},{"$f":"IF('HOJA DE DATOS'!S161=0,\"\",'HOJA DE DATOS'!S161)","v":""},{"$f":"IF('HOJA DE DATOS'!T161=0,\"\",'HOJA DE DATOS'!T161)","v":""},{"$f":"IF('HOJA DE DATOS'!U161=0,\"\",'HOJA DE DATOS'!U161)","v":""},{"$f":"IF('HOJA DE DATOS'!V161=0,\"\",'HOJA DE DATOS'!V161)","v":""},{"$f":"IF('HOJA DE DATOS'!W161=0,\"\",'HOJA DE DATOS'!W161)","v":""},{"$f":"IF('HOJA DE DATOS'!X161=0,\"\",'HOJA DE DATOS'!X161)","v":""},{"$f":"IF('HOJA DE DATOS'!Y161=0,\"\",'HOJA DE DATOS'!Y161)","v":""},{"$f":"IF('HOJA DE DATOS'!P161=0,\"\",'HOJA DE DATOS'!P161)","v":""}]
[null,{"$f":"IF('HOJA DE DATOS'!C162=0,\"\",'HOJA DE DATOS'!C162)","v":""},{"$f":"IF('HOJA DE DATOS'!D162=0,\"\",'HOJA DE DATOS'!D162)","v":""},{"$f":"IF('HOJA DE DATOS'!E162=0,\"\",'HOJA DE DATOS'!E162)","v":""},{"$f":"IF('HOJA DE DATOS'!F162=0,\"\",'HOJA DE DATOS'!F162)","v":""},{"$f":"IF('HOJA DE DATOS'!G162=0,\"\",'HOJA DE DATOS'!G162)","v":""},{"$f":"IF('HOJA DE DATOS'!H162=0,\"\",'HOJA DE DATOS'!H162)","v":""},{"$f":"IF('HOJA DE DATOS'!I162=0,\"\",'HOJA DE DATOS'!I162)","v":""},{"$f":"IF('HOJA DE DATOS'!Q162=0,\"\",'HOJA DE DATOS'!Q162)","v":""},{"$f":"IF('HOJA DE DATOS'!R162=0,\"\",'HOJA DE DATOS'!R162)","v":""},{"$f":"IF('HOJA DE DATOS'!S162=0,\"\",'HOJA DE DATOS'!S162)","v":""},{"$f":"IF('HOJA DE DATOS'!T162=0,\"\",'HOJA DE DATOS'!T162)","v":""},{"$f":"IF('HOJA DE DATOS'!U162=0,\"\",'HOJA DE DATOS'!U162)","v":""},{"$f":"IF('HOJA DE DATOS'!V162=0,\"\",'HOJA DE DATOS'!V162)","v":""},{"$f":"IF('HOJA DE DATOS'!W162=0,\"\",'HOJA DE DATOS'!W162)","v":""},{"$f":"IF('HOJA DE DATOS'!X162=0,\"\",'HOJA DE DATOS'!X162)","v":""},{"$f":"IF('HOJA DE DATOS'!Y162=0,\"\",'HOJA DE DATOS'!Y162)","v":""},{"$f":"IF('HOJA DE DATOS'!P162=0,\"\",'HOJA DE DATOS'!P162)","v":""}]
[null,{"$f":"IF('HOJA DE DATOS'!C163=0,\"\",'HOJA DE DATOS'!C163)","v":""},{"$f":"IF('HOJA DE DATOS'!D163=0,\"\",'HOJA DE DATOS'!D163)","v":""},{"$f":"IF('HOJA DE DATOS'!E163=0,\"\",'HOJA DE DATOS'!E163)","v":""},{"$f":"IF('HOJA DE DATOS'!F163=0,\"\",'HOJA DE DATOS'!F163)","v":""},{"$f":"IF('HOJA DE DATOS'!G163=0,\"\",'HOJA DE DATOS'!G163)","v":""},{"$f":"IF('HOJA DE DATOS'!H163=0,\"\",'HOJA DE DATOS'!H163)","v":""},{"$f":"IF('HOJA DE DATOS'!I163=0,\"\",'HOJA DE DATOS'!I163)","v":""},{"$f":"IF('HOJA DE DATOS'!Q163=0,\"\",'HOJA DE DATOS'!Q163)","v":""},{"$f":"IF('HOJA DE DATOS'!R163=0,\"\",'HOJA DE DATOS'!R163)","v":""},{"$f":"IF('HOJA DE DATOS'!S163=0,\"\",'HOJA DE DATOS'!S163)","v":""},{"$f":"IF('HOJA DE DATOS'!T163=0,\"\",'HOJA DE DATOS'!T163)","v":""},{"$f":"IF('HOJA DE DATOS'!U163=0,\"\",'HOJA DE DATOS'!U163)","v":""},{"$f":"IF('HOJA DE DATOS'!V163=0,\"\",'HOJA DE DATOS'!V163)","v":""},{"$f":"IF('HOJA DE DATOS'!W163=0,\"\",'HOJA DE DATOS'!W163)","v":""},{"$f":"IF('HOJA DE DATOS'!X163=0,\"\",'HOJA DE DATOS'!X163)","v":""},{"$f":"IF('HOJA DE DATOS'!Y163=0,\"\",'HOJA DE DATOS'!Y163)","v":""},{"$f":"IF('HOJA DE DATOS'!P163=0,\"\",'HOJA DE DATOS'!P163)","v":""}]
[null,{"$f":"IF('HOJA DE DATOS'!C164=0,\"\",'HOJA DE DATOS'!C164)","v":""},{"$f":"IF('HOJA DE DATOS'!D164=0,\"\",'HOJA DE DATOS'!D164)","v":""},{"$f":"IF('HOJA DE DATOS'!E164=0,\"\",'HOJA DE DATOS'!E164)","v":""},{"$f":"IF('HOJA DE DATOS'!F164=0,\"\",'HOJA DE DATOS'!F164)","v":""},{"$f":"IF('HOJA DE DATOS'!G164=0,\"\",'HOJA DE DATOS'!G164)","v":""},{"$f":"IF('HOJA DE DATOS'!H164=0,\"\",'HOJA DE DATOS'!H164)","v":""},{"$f":"IF('HOJA DE DATOS'!I164=0,\"\",'HOJA DE DATOS'!I164)","v":""},{"$f":"IF('HOJA DE DATOS'!Q164=0,\"\",'HOJA DE DATOS'!Q164)","v":""},{"$f":"IF('HOJA DE DATOS'!R164=0,\"\",'HOJA DE DATOS'!R164)","v":""},{"$f":"IF('HOJA DE DATOS'!S164=0,\"\",'HOJA DE DATOS'!S164)","v":""},{"$f":"IF('HOJA DE DATOS'!T164=0,\"\",'HOJA DE DATOS'!T164)","v":""},{"$f":"IF('HOJA DE DATOS'!U164=0,\"\",'HOJA DE DATOS'!U164)","v":""},{"$f":"IF('HOJA DE DATOS'!V164=0,\"\",'HOJA DE DATOS'!V164)","v":""},{"$f":"IF('HOJA DE DATOS'!W164=0,\"\",'HOJA DE DATOS'!W164)","v":""},{"$f":"IF('HOJA DE DATOS'!X164=0,\"\",'HOJA DE DATOS'!X164)","v":""},{"$f":"IF('HOJA DE DATOS'!Y164=0,\"\",'HOJA DE DATOS'!Y164)","v":""},{"$f":"IF('HOJA DE DATOS'!P164=0,\"\",'HOJA DE DATOS'!P164)","v":""}]
[null,{"$f":"IF('HOJA DE DATOS'!C165=0,\"\",'HOJA DE DATOS'!C165)","v":""},{"$f":"IF('HOJA DE DATOS'!D165=0,\"\",'HOJA DE DATOS'!D165)","v":""},{"$f":"IF('HOJA DE DATOS'!E165=0,\"\",'HOJA DE DATOS'!E165)","v":""},{"$f":"IF('HOJA DE DATOS'!F165=0,\"\",'HOJA DE DATOS'!F165)","v":""},{"$f":"IF('HOJA DE DATOS'!G165=0,\"\",'HOJA DE DATOS'!G165)","v":""},{"$f":"IF('HOJA DE DATOS'!H165=0,\"\",'HOJA DE DATOS'!H165)","v":""},{"$f":"IF('HOJA DE DATOS'!I165=0,\"\",'HOJA DE DATOS'!I165)","v":""},{"$f":"IF('HOJA DE DATOS'!Q165=0,\"\",'HOJA DE DATOS'!Q165)","v":""},{"$f":"IF('HOJA DE DATOS'!R165=0,\"\",'HOJA DE DATOS'!R165)","v":""},{"$f":"IF('HOJA DE DATOS'!S165=0,\"\",'HOJA DE DATOS'!S165)","v":""},{"$f":"IF('HOJA DE DATOS'!T165=0,\"\",'HOJA DE DATOS'!T165)","v":""},{"$f":"IF('HOJA DE DATOS'!U165=0,\"\",'HOJA DE DATOS'!U165)","v":""},{"$f":"IF('HOJA DE DATOS'!V165=0,\"\",'HOJA DE DATOS'!V165)","v":""},{"$f":"IF('HOJA DE DATOS'!W165=0,\"\",'HOJA DE DATOS'!W165)","v":""},{"$f":"IF('HOJA DE DATOS'!X165=0,\"\",'HOJA DE DATOS'!X165)","v":""},{"$f":"IF('HOJA DE DATOS'!Y165=0,\"\",'HOJA DE DATOS'!Y165)","v":""},{"$f":"IF('HOJA DE DATOS'!P165=0,\"\",'HOJA DE DATOS'!P165)","v":""}]
[null,{"$f":"IF('HOJA DE DATOS'!C166=0,\"\",'HOJA DE DATOS'!C166)","v":""},{"$f":"IF('HOJA DE DATOS'!D166=0,\"\",'HOJA DE DATOS'!D166)","v":""},{"$f":"IF('HOJA DE DATOS'!E166=0,\"\",'HOJA DE DATOS'!E166)","v":""},{"$f":"IF('HOJA DE DATOS'!F166=0,\"\",'HOJA DE DATOS'!F166)","v":""},{"$f":"IF('HOJA DE DATOS'!G166=0,\"\",'HOJA DE DATOS'!G166)","v":""},{"$f":"IF('HOJA DE DATOS'!H166=0,\"\",'HOJA DE DATOS'!H166)","v":""},{"$f":"IF('HOJA DE DATOS'!I166=0,\"\",'HOJA DE DATOS'!I166)","v":""},{"$f":"IF('HOJA DE DATOS'!Q166=0,\"\",'HOJA DE DATOS'!Q166)","v":""},{"$f":"IF('HOJA DE DATOS'!R166=0,\"\",'HOJA DE DATOS'!R166)","v":""},{"$f":"IF('HOJA DE DATOS'!S166=0,\"\",'HOJA DE DATOS'!S166)","v":""},{"$f":"IF('HOJA DE DATOS'!T166=0,\"\",'HOJA DE DATOS'!T166)","v":""},{"$f":"IF('HOJA DE DATOS'!U166=0,\"\",'HOJA DE DATOS'!U166)","v":""},{"$f":"IF('HOJA DE DATOS'!V166=0,\"\",'HOJA DE DATOS'!V166)","v":""},{"$f":"IF('HOJA DE DATOS'!W166=0,\"\",'HOJA DE DATOS'!W166)","v":""},{"$f":"IF('HOJA DE DATOS'!X166=0,\"\",'HOJA DE DATOS'!X166)","v":""},{"$f":"IF('HOJA DE DATOS'!Y166=0,\"\",'HOJA DE DATOS'!Y166)","v":""},{"$f":"IF('HOJA DE DATOS'!P166=0,\"\",'HOJA DE DATOS'!P166)","v":""}]
[null,{"$f":"IF('HOJA DE DATOS'!C167=0,\"\",'HOJA DE DATOS'!C167)","v":""},{"$f":"IF('HOJA DE DATOS'!D167=0,\"\",'HOJA DE DATOS'!D167)","v":""},{"$f":"IF('HOJA DE DATOS'!E167=0,\"\",'HOJA DE DATOS'!E167)","v":""},{"$f":"IF('HOJA DE DATOS'!F167=0,\"\",'HOJA DE DATOS'!F167)","v":""},{"$f":"IF('HOJA DE DATOS'!G167=0,\"\",'HOJA DE DATOS'!G167)","v":""},{"$f":"IF('HOJA DE DATOS'!H167=0,\"\",'HOJA DE DATOS'!H167)","v":""},{"$f":"IF('HOJA DE DATOS'!I167=0,\"\",'HOJA DE DATOS'!I167)","v":""},{"$f":"IF('HOJA DE DATOS'!Q167=0,\"\",'HOJA DE DATOS'!Q167)","v":""},{"$f":"IF('HOJA DE DATOS'!R167=0,\"\",'HOJA DE DATOS'!R167)","v":""},{"$f":"IF('HOJA DE DATOS'!S167=0,\"\",'HOJA DE DATOS'!S167)","v":""},{"$f":"IF('HOJA DE DATOS'!T167=0,\"\",'HOJA DE DATOS'!T167)","v":""},{"$f":"IF('HOJA DE DATOS'!U167=0,\"\",'HOJA DE DATOS'!U167)","v":""},{"$f":"IF('HOJA DE DATOS'!V167=0,\"\",'HOJA DE DATOS'!V167)","v":""},{"$f":"IF('HOJA DE DATOS'!W167=0,\"\",'HOJA DE DATOS'!W167)","v":""},{"$f":"IF('HOJA DE DATOS'!X167=0,\"\",'HOJA DE DATOS'!X167)","v":""},{"$f":"IF('HOJA DE DATOS'!Y167=0,\"\",'HOJA DE DATOS'!Y167)","v":""},{"$f":"IF('HOJA DE DATOS'!P167=0,\"\",'HOJA DE DATOS'!P167)","v":""}]
[null,{"$f":"IF('HOJA DE DATOS'!C168=0,\"\",'HOJA DE DATOS'!C168)","v":""},{"$f":"IF('HOJA DE DATOS'!D168=0,\"\",'HOJA DE DATOS'!D168)","v":""},{"$f":"IF('HOJA DE DATOS'!E168=0,\"\",'HOJA DE DATOS'!E168)","v":""},{"$f":"IF('HOJA DE DATOS'!F168=0,\"\",'HOJA DE DATOS'!F168)","v":""},{"$f":"IF('HOJA DE DATOS'!G168=0,\"\",'HOJA DE DATOS'!G168)","v":""},{"$f":"IF('HOJA DE DATOS'!H168=0,\"\",'HOJA DE DATOS'!H168)","v":""},{"$f":"IF('HOJA DE DATOS'!I168=0,\"\",'HOJA DE DATOS'!I168)","v":""},{"$f":"IF('HOJA DE DATOS'!Q168=0,\"\",'HOJA DE DATOS'!Q168)","v":""},{"$f":"IF('HOJA DE DATOS'!R168=0,\"\",'HOJA DE DATOS'!R168)","v":""},{"$f":"IF('HOJA DE DATOS'!S168=0,\"\",'HOJA DE DATOS'!S168)","v":""},{"$f":"IF('HOJA DE DATOS'!T168=0,\"\",'HOJA DE DATOS'!T168)","v":""},{"$f":"IF('HOJA DE DATOS'!U168=0,\"\",'HOJA DE DATOS'!U168)","v":""},{"$f":"IF('HOJA DE DATOS'!V168=0,\"\",'HOJA DE DATOS'!V168)","v":""},{"$f":"IF('HOJA DE DATOS'!W168=0,\"\",'HOJA DE DATOS'!W168)","v":""},{"$f":"IF('HOJA DE DATOS'!X168=0,\"\",'HOJA DE DATOS'!X168)","v":""},{"$f":"IF('HOJA DE DATOS'!Y168=0,\"\",'HOJA DE DATOS'!Y168)","v":""},{"$f":"IF('HOJA DE DATOS'!P168=0,\"\",'HOJA DE DATOS'!P168)","v":""}]
[null,{"$f":"IF('HOJA DE DATOS'!C169=0,\"\",'HOJA DE DATOS'!C169)","v":""},{"$f":"IF('HOJA DE DATOS'!D169=0,\"\",'HOJA DE DATOS'!D169)","v":""},{"$f":"IF('HOJA DE DATOS'!E169=0,\"\",'HOJA DE DATOS'!E169)","v":""},{"$f":"IF('HOJA DE DATOS'!F169=0,\"\",'HOJA DE DATOS'!F169)","v":""},{"$f":"IF('HOJA DE DATOS'!G169=0,\"\",'HOJA DE DATOS'!G169)","v":""},{"$f":"IF('HOJA DE DATOS'!H169=0,\"\",'HOJA DE DATOS'!H169)","v":""},{"$f":"IF('HOJA DE DATOS'!I169=0,\"\",'HOJA DE DATOS'!I169)","v":""},{"$f":"IF('HOJA DE DATOS'!Q169=0,\"\",'HOJA DE DATOS'!Q169)","v":""},{"$f":"IF('HOJA DE DATOS'!R169=0,\"\",'HOJA DE DATOS'!R169)","v":""},{"$f":"IF('HOJA DE DATOS'!S169=0,\"\",'HOJA DE DATOS'!S169)","v":""},{"$f":"IF('HOJA DE DATOS'!T169=0,\"\",'HOJA DE DATOS'!T169)","v":""},{"$f":"IF('HOJA DE DATOS'!U169=0,\"\",'HOJA DE DATOS'!U169)","v":""},{"$f":"IF('HOJA DE DATOS'!V169=0,\"\",'HOJA DE DATOS'!V169)","v":""},{"$f":"IF('HOJA DE DATOS'!W169=0,\"\",'HOJA DE DATOS'!W169)","v":""},{"$f":"IF('HOJA DE DATOS'!X169=0,\"\",'HOJA DE DATOS'!X169)","v":""},{"$f":"IF('HOJA DE DATOS'!Y169=0,\"\",'HOJA DE DATOS'!Y169)","v":""},{"$f":"IF('HOJA DE DATOS'!P169=0,\"\",'HOJA DE DATOS'!P169)","v":""}]
[null,{"$f":"IF('HOJA DE DATOS'!C170=0,\"\",'HOJA DE DATOS'!C170)","v":""},{"$f":"IF('HOJA DE DATOS'!D170=0,\"\",'HOJA DE DATOS'!D170)","v":""},{"$f":"IF('HOJA DE DATOS'!E170=0,\"\",'HOJA DE DATOS'!E170)","v":""},{"$f":"IF('HOJA DE DATOS'!F170=0,\"\",'HOJA DE DATOS'!F170)","v":""},{"$f":"IF('HOJA DE DATOS'!G170=0,\"\",'HOJA DE DATOS'!G170)","v":""},{"$f":"IF('HOJA DE DATOS'!H170=0,\"\",'HOJA DE DATOS'!H170)","v":""},{"$f":"IF('HOJA DE DATOS'!I170=0,\"\",'HOJA DE DATOS'!I170)","v":""},{"$f":"IF('HOJA DE DATOS'!Q170=0,\"\",'HOJA DE DATOS'!Q170)","v":""},{"$f":"IF('HOJA DE DATOS'!R170=0,\"\",'HOJA DE DATOS'!R170)","v":""},{"$f":"IF('HOJA DE DATOS'!S170=0,\"\",'HOJA DE DATOS'!S170)","v":""},{"$f":"IF('HOJA DE DATOS'!T170=0,\"\",'HOJA DE DATOS'!T170)","v":""},{"$f":"IF('HOJA DE DATOS'!U170=0,\"\",'HOJA DE DATOS'!U170)","v":""},{"$f":"IF('HOJA DE DATOS'!V170=0,\"\",'HOJA DE DATOS'!V170)","v":""},{"$f":"IF('HOJA DE DATOS'!W170=0,\"\",'HOJA DE DATOS'!W170)","v":""},{"$f":"IF('HOJA DE DATOS'!X170=0,\"\",'HOJA DE DATOS'!X170)","v":""},{"$f":"IF('HOJA DE DATOS'!Y170=0,\"\",'HOJA DE DATOS'!Y170)","v":""},{"$f":"IF('HOJA DE DATOS'!P170=0,\"\",'HOJA DE DATOS'!P170)","v":""}]
[null,{"$f":"IF('HOJA DE DATOS'!C171=0,\"\",'HOJA DE DATOS'!C171)","v":""},{"$f":"IF('HOJA DE DATOS'!D171=0,\"\",'HOJA DE DATOS'!D171)","v":""},{"$f":"IF('HOJA DE DATOS'!E171=0,\"\",'HOJA DE DATOS'!E171)","v":""},{"$f":"IF('HOJA DE DATOS'!F171=0,\"\",'HOJA DE DATOS'!F171)","v":""},{"$f":"IF('HOJA DE DATOS'!G171=0,\"\",'HOJA DE DATOS'!G171)","v":""},{"$f":"IF('HOJA DE DATOS'!H171=0,\"\",'HOJA DE DATOS'!H171)","v":""},{"$f":"IF('HOJA DE DATOS'!I171=0,\"\",'HOJA DE DATOS'!I171)","v":""},{"$f":"IF('HOJA DE DATOS'!Q171=0,\"\",'HOJA DE DATOS'!Q171)","v":""},{"$f":"IF('HOJA DE DATOS'!R171=0,\"\",'HOJA DE DATOS'!R171)","v":""},{"$f":"IF('HOJA DE DATOS'!S171=0,\"\",'HOJA DE DATOS'!S171)","v":""},{"$f":"IF('HOJA DE DATOS'!T171=0,\"\",'HOJA DE DATOS'!T171)","v":""},{"$f":"IF('HOJA DE DATOS'!U171=0,\"\",'HOJA DE DATOS'!U171)","v":""},{"$f":"IF('HOJA DE DATOS'!V171=0,\"\",'HOJA DE DATOS'!V171)","v":""},{"$f":"IF('HOJA DE DATOS'!W171=0,\"\",'HOJA DE DATOS'!W171)","v":""},{"$f":"IF('HOJA DE DATOS'!X171=0,\"\",'HOJA DE DATOS'!X171)","v":""},{"$f":"IF('HOJA DE DATOS'!Y171=0,\"\",'HOJA DE DATOS'!Y171)","v":""},{"$f":"IF('HOJA DE DATOS'!P171=0,\"\",'HOJA DE DATOS'!P171)","v":""}]
[null,{"$f":"IF('HOJA DE DATOS'!C172=0,\"\",'HOJA DE DATOS'!C172)","v":""},{"$f":"IF('HOJA DE DATOS'!D172=0,\"\",'HOJA DE DATOS'!D172)","v":""},{"$f":"IF('HOJA DE DATOS'!E172=0,\"\",'HOJA DE DATOS'!E172)","v":""},{"$f":"IF('HOJA DE DATOS'!F172=0,\"\",'HOJA DE DATOS'!F172)","v":""},{"$f":"IF('HOJA DE DATOS'!G172=0,\"\",'HOJA DE DATOS'!G172)","v":""},{"$f":"IF('HOJA DE DATOS'!H172=0,\"\",'HOJA DE DATOS'!H172)","v":""},{"$f":"IF('HOJA DE DATOS'!I172=0,\"\",'HOJA DE DATOS'!I172)","v":""},{"$f":"IF('HOJA DE DATOS'!Q172=0,\"\",'HOJA DE DATOS'!Q172)","v":""},{"$f":"IF('HOJA DE DATOS'!R172=0,\"\",'HOJA DE DATOS'!R172)","v":""},{"$f":"IF('HOJA DE DATOS'!S172=0,\"\",'HOJA DE DATOS'!S172)","v":""},{"$f":"IF('HOJA DE DATOS'!T172=0,\"\",'HOJA DE DATOS'!T172)","v":""},{"$f":"IF('HOJA DE DATOS'!U172=0,\"\",'HOJA DE DATOS'!U172)","v":""},{"$f":"IF('HOJA DE DATOS'!V172=0,\"\",'HOJA DE DATOS'!V172)","v":""},{"$f":"IF('HOJA DE DATOS'!W172=0,\"\",'HOJA DE DATOS'!W172)","v":""},{"$f":"IF('HOJA DE DATOS'!X172=0,\"\",'HOJA DE DATOS'!X172)","v":""},{"$f":"IF('HOJA DE DATOS'!Y172=0,\"\",'HOJA DE DATOS'!Y172)","v":""},{"$f":"IF('HOJA DE DATOS'!P172=0,\"\",'HOJA DE DATOS'!P172)","v":""}]
[null,{"$f":"IF('HOJA DE DATOS'!C173=0,\"\",'HOJA DE DATOS'!C173)","v":""},{"$f":"IF('HOJA DE DATOS'!D173=0,\"\",'HOJA DE DATOS'!D173)","v":""},{"$f":"IF('HOJA DE DATOS'!E173=0,\"\",'HOJA DE DATOS'!E173)","v":""},{"$f":"IF('HOJA DE DATOS'!F173=0,\"\",'HOJA DE DATOS'!F173)","v":""},{"$f":"IF('HOJA DE DATOS'!G173=0,\"\",'HOJA DE DATOS'!G173)","v":""},{"$f":"IF('HOJA DE DATOS'!H173=0,\"\",'HOJA DE DATOS'!H173)","v":""},{"$f":"IF('HOJA DE DATOS'!I173=0,\"\",'HOJA DE DATOS'!I173)","v":""},{"$f":"IF('HOJA DE DATOS'!Q173=0,\"\",'HOJA DE DATOS'!Q173)","v":""},{"$f":"IF('HOJA DE DATOS'!R173=0,\"\",'HOJA DE DATOS'!R173)","v":""},{"$f":"IF('HOJA DE DATOS'!S173=0,\"\",'HOJA DE DATOS'!S173)","v":""},{"$f":"IF('HOJA DE DATOS'!T173=0,\"\",'HOJA DE DATOS'!T173)","v":""},{"$f":"IF('HOJA DE DATOS'!U173=0,\"\",'HOJA DE DATOS'!U173)","v":""},{"$f":"IF('HOJA DE DATOS'!V173=0,\"\",'HOJA DE DATOS'!V173)","v":""},{"$f":"IF('HOJA DE DATOS'!W173=0,\"\",'HOJA DE DATOS'!W173)","v":""},{"$f":"IF('HOJA DE DATOS'!X173=0,\"\",'HOJA DE DATOS'!X173)","v":""},{"$f":"IF('HOJA DE DATOS'!Y173=0,\"\",'HOJA DE DATOS'!Y173)","v":""},{"$f":"IF('HOJA DE DATOS'!P173=0,\"\",'HOJA DE DATOS'!P173)","v":""}]
[null,{"$f":"IF('HOJA DE DATOS'!C174=0,\"\",'HOJA DE DATOS'!C174)","v":""},{"$f":"IF('HOJA DE DATOS'!D174=0,\"\",'HOJA DE DATOS'!D174)","v":""},{"$f":"IF('HOJA DE DATOS'!E174=0,\"\",'HOJA DE DATOS'!E174)","v":""},{"$f":"IF('HOJA DE DATOS'!F174=0,\"\",'HOJA DE DATOS'!F174)","v":""},{"$f":"IF('HOJA DE DATOS'!G174=0,\"\",'HOJA DE DATOS'!G174)","v":""},{"$f":"IF('HOJA DE DATOS'!H174=0,\"\",'HOJA DE DATOS'!H174)","v":""},{"$f":"IF('HOJA DE DATOS'!I174=0,\"\",'HOJA DE DATOS'!I174)","v":""},{"$f":"IF('HOJA DE DATOS'!Q174=0,\"\",'HOJA DE DATOS'!Q174)","v":""},{"$f":"IF('HOJA DE DATOS'!R174=0,\"\",'HOJA DE DATOS'!R174)","v":""},{"$f":"IF('HOJA DE DATOS'!S174=0,\"\",'HOJA DE DATOS'!S174)","v":""},{"$f":"IF('HOJA DE DATOS'!T174=0,\"\",'HOJA DE DATOS'!T174)","v":""},{"$f":"IF('HOJA DE DATOS'!U174=0,\"\",'HOJA DE DATOS'!U174)","v":""},{"$f":"IF('HOJA DE DATOS'!V174=0,\"\",'HOJA DE DATOS'!V174)","v":""},{"$f":"IF('HOJA DE DATOS'!W174=0,\"\",'HOJA DE DATOS'!W174)","v":""},{"$f":"IF('HOJA DE DATOS'!X174=0,\"\",'HOJA DE DATOS'!X174)","v":""},{"$f":"IF('HOJA DE DATOS'!Y174=0,\"\",'HOJA DE DATOS'!Y174)","v":""},{"$f":"IF('HOJA DE DATOS'!P174=0,\"\",'HOJA DE DATOS'!P174)","v":""}]
[null,{"$f":"IF('HOJA DE DATOS'!C175=0,\"\",'HOJA DE DATOS'!C175)","v":""},{"$f":"IF('HOJA DE DATOS'!D175=0,\"\",'HOJA DE DATOS'!D175)","v":""},{"$f":"IF('HOJA DE DATOS'!E175=0,\"\",'HOJA DE DATOS'!E175)","v":""},{"$f":"IF('HOJA DE DATOS'!F175=0,\"\",'HOJA DE DATOS'!F175)","v":""},{"$f":"IF('HOJA DE DATOS'!G175=0,\"\",'HOJA DE DATOS'!G175)","v":""},{"$f":"IF('HOJA DE DATOS'!H175=0,\"\",'HOJA DE DATOS'!H175)","v":""},{"$f":"IF('HOJA DE DATOS'!I175=0,\"\",'HOJA DE DATOS'!I175)","v":""},{"$f":"IF('HOJA DE DATOS'!Q175=0,\"\",'HOJA DE DATOS'!Q175)","v":""},{"$f":"IF('HOJA DE DATOS'!R175=0,\"\",'HOJA DE DATOS'!R175)","v":""},{"$f":"IF('HOJA DE DATOS'!S175=0,\"\",'HOJA DE DATOS'!S175)","v":""},{"$f":"IF('HOJA DE DATOS'!T175=0,\"\",'HOJA DE DATOS'!T175)","v":""},{"$f":"IF('HOJA DE DATOS'!U175=0,\"\",'HOJA DE DATOS'!U175)","v":""},{"$f":"IF('HOJA DE DATOS'!V175=0,\"\",'HOJA DE DATOS'!V175)","v":""},{"$f":"IF('HOJA DE DATOS'!W175=0,\"\",'HOJA DE DATOS'!W175)","v":""},{"$f":"IF('HOJA DE DATOS'!X175=0,\"\",'HOJA DE DATOS'!X175)","v":""},{"$f":"IF('HOJA DE DATOS'!Y175=0,\"\",'HOJA DE DATOS'!Y175)","v":""},{"$f":"IF('HOJA DE DATOS'!P175=0,\"\",'HOJA DE DATOS'!P175)","v":""}]
[null,{"$f":"IF('HOJA DE DATOS'!C176=0,\"\",'HOJA DE DATOS'!C176)","v":""},{"$f":"IF('HOJA DE DATOS'!D176=0,\"\",'HOJA DE DATOS'!D176)","v":""},{"$f":"IF('HOJA DE DATOS'!E176=0,\"\",'HOJA DE DATOS'!E176)","v":""},{"$f":"IF('HOJA DE DATOS'!F176=0,\"\",'HOJA DE DATOS'!F176)","v":""},{"$f":"IF('HOJA DE DATOS'!G176=0,\"\",'HOJA DE DATOS'!G176)","v":""},{"$f":"IF('HOJA DE DATOS'!H176=0,\"\",'HOJA DE DATOS'!H176)","v":""},{"$f":"IF('HOJA DE DATOS'!I176=0,\"\",'HOJA DE DATOS'!I176)","v":""},{"$f":"IF('HOJA DE DATOS'!Q176=0,\"\",'HOJA DE DATOS'!Q176)","v":""},{"$f":"IF('HOJA DE DATOS'!R176=0,\"\",'HOJA DE DATOS'!R176)","v":""},{"$f":"IF('HOJA DE DATOS'!S176=0,\"\",'HOJA DE DATOS'!S176)","v":""},{"$f":"IF('HOJA DE DATOS'!T176=0,\"\",'HOJA DE DATOS'!T176)","v":""},{"$f":"IF('HOJA DE DATOS'!U176=0,\"\",'HOJA DE DATOS'!U176)","v":""},{"$f":"IF('HOJA DE DATOS'!V176=0,\"\",'HOJA DE DATOS'!V176)","v":""},{"$f":"IF('HOJA DE DATOS'!W176=0,\"\",'HOJA DE DATOS'!W176)","v":""},{"$f":"IF('HOJA DE DATOS'!X176=0,\"\",'HOJA DE DATOS'!X176)","v":""},{"$f":"IF('HOJA DE DATOS'!Y176=0,\"\",'HOJA DE DATOS'!Y176)","v":""},{"$f":"IF('HOJA DE DATOS'!P176=0,\"\",'HOJA DE DATOS'!P176)","v":""}]
[null,{"$f":"IF('HOJA DE DATOS'!C177=0,\"\",'HOJA DE DATOS'!C177)","v":""},{"$f":"IF('HOJA DE DATOS'!D177=0,\"\",'HOJA DE DATOS'!D177)","v":""},{"$f":"IF('HOJA DE DATOS'!E177=0,\"\",'HOJA DE DATOS'!E177)","v":""},{"$f":"IF('HOJA DE DATOS'!F177=0,\"\",'HOJA DE DATOS'!F177)","v":""},{"$f":"IF('HOJA DE DATOS'!G177=0,\"\",'HOJA DE DATOS'!G177)","v":""},{"$f":"IF('HOJA DE DATOS'!H177=0,\"\",'HOJA DE DATOS'!H177)","v":""},{"$f":"IF('HOJA DE DATOS'!I177=0,\"\",'HOJA DE DATOS'!I177)","v":""},{"$f":"IF('HOJA DE DATOS'!Q177=0,\"\",'HOJA DE DATOS'!Q177)","v":""},{"$f":"IF('HOJA DE DATOS'!R177=0,\"\",'HOJA DE DATOS'!R177)","v":""},{"$f":"IF('HOJA DE DATOS'!S177=0,\"\",'HOJA DE DATOS'!S177)","v":""},{"$f":"IF('HOJA DE DATOS'!T177=0,\"\",'HOJA DE DATOS'!T177)","v":""},{"$f":"IF('HOJA DE DATOS'!U177=0,\"\",'HOJA DE DATOS'!U177)","v":""},{"$f":"IF('HOJA DE DATOS'!V177=0,\"\",'HOJA DE DATOS'!V177)","v":""},{"$f":"IF('HOJA DE DATOS'!W177=0,\"\",'HOJA DE DATOS'!W177)","v":""},{"$f":"IF('HOJA DE DATOS'!X177=0,\"\",'HOJA DE DATOS'!X177)","v":""},{"$f":"IF('HOJA DE DATOS'!Y177=0,\"\",'HOJA DE DATOS'!Y177)","v":""},{"$f":"IF('HOJA DE DATOS'!P177=0,\"\",'HOJA DE DATOS'!P177)","v":""}]
[null,{"$f":"IF('HOJA DE DATOS'!C178=0,\"\",'HOJA DE DATOS'!C178)","v":""},{"$f":"IF('HOJA DE DATOS'!D178=0,\"\",'HOJA DE DATOS'!D178)","v":""},{"$f":"IF('HOJA DE DATOS'!E178=0,\"\",'HOJA DE DATOS'!E178)","v":""},{"$f":"IF('HOJA DE DATOS'!F178=0,\"\",'HOJA DE DATOS'!F178)","v":""},{"$f":"IF('HOJA DE DATOS'!G178=0,\"\",'HOJA DE DATOS'!G178)","v":""},{"$f":"IF('HOJA DE DATOS'!H178=0,\"\",'HOJA DE DATOS'!H178)","v":""},{"$f":"IF('HOJA DE DATOS'!I178=0,\"\",'HOJA DE DATOS'!I178)","v":""},{"$f":"IF('HOJA DE DATOS'!Q178=0,\"\",'HOJA DE DATOS'!Q178)","v":""},{"$f":"IF('HOJA DE DATOS'!R178=0,\"\",'HOJA DE DATOS'!R178)","v":""},{"$f":"IF('HOJA DE DATOS'!S178=0,\"\",'HOJA DE DATOS'!S178)","v":""},{"$f":"IF('HOJA DE DATOS'!T178=0,\"\",'HOJA DE DATOS'!T178)","v":""},{"$f":"IF('HOJA DE DATOS'!U178=0,\"\",'HOJA DE DATOS'!U178)","v":""},{"$f":"IF('HOJA DE DATOS'!V178=0,\"\",'HOJA DE DATOS'!V178)","v":""},{"$f":"IF('HOJA DE DATOS'!W178=0,\"\",'HOJA DE DATOS'!W178)","v":""},{"$f":"IF('HOJA DE DATOS'!X178=0,\"\",'HOJA DE DATOS'!X178)","v":""},{"$f":"IF('HOJA DE DATOS'!Y178=0,\"\",'HOJA DE DATOS'!Y178)","v":""},{"$f":"IF('HOJA DE DATOS'!P178=0,\"\",'HOJA DE DATOS'!P178)","v":""}]
[null,{"$f":"IF('HOJA DE DATOS'!C179=0,\"\",'HOJA DE DATOS'!C179)","v":""},{"$f":"IF('HOJA DE DATOS'!D179=0,\"\",'HOJA DE DATOS'!D179)","v":""},{"$f":"IF('HOJA DE DATOS'!E179=0,\"\",'HOJA DE DATOS'!E179)","v":""},{"$f":"IF('HOJA DE DATOS'!F179=0,\"\",'HOJA DE DATOS'!F179)","v":""},{"$f":"IF('HOJA DE DATOS'!G179=0,\"\",'HOJA DE DATOS'!G179)","v":""},{"$f":"IF('HOJA DE DATOS'!H179=0,\"\",'HOJA DE DATOS'!H179)","v":""},{"$f":"IF('HOJA DE DATOS'!I179=0,\"\",'HOJA DE DATOS'!I179)","v":""},{"$f":"IF('HOJA DE DATOS'!Q179=0,\"\",'HOJA DE DATOS'!Q179)","v":""},{"$f":"IF('HOJA DE DATOS'!R179=0,\"\",'HOJA DE DATOS'!R179)","v":""},{"$f":"IF('HOJA DE DATOS'!S179=0,\"\",'HOJA DE DATOS'!S179)","v":""},{"$f":"IF('HOJA DE DATOS'!T179=0,\"\",'HOJA DE DATOS'!T179)","v":""},{"$f":"IF('HOJA DE DATOS'!U179=0,\"\",'HOJA DE DATOS'!U179)","v":""},{"$f":"IF('HOJA DE DATOS'!V179=0,\"\",'HOJA DE DATOS'!V179)","v":""},{"$f":"IF('HOJA DE DATOS'!W179=0,\"\",'HOJA DE DATOS'!W179)","v":""},{"$f":"IF('HOJA DE DATOS'!X179=0,\"\",'HOJA DE DATOS'!X179)","v":""},{"$f":"IF('HOJA DE DATOS'!Y179=0,\"\",'HOJA DE DATOS'!Y179)","v":""},{"$f":"IF('HOJA DE DATOS'!P179=0,\"\",'HOJA DE DATOS'!P179)","v":""}]
[null,{"$f":"IF('HOJA DE DATOS'!C180=0,\"\",'HOJA DE DATOS'!C180)","v":""},{"$f":"IF('HOJA DE DATOS'!D180=0,\"\",'HOJA DE DATOS'!D180)","v":""},{"$f":"IF('HOJA DE DATOS'!E180=0,\"\",'HOJA DE DATOS'!E180)","v":""},{"$f":"IF('HOJA DE DATOS'!F180=0,\"\",'HOJA DE DATOS'!F180)","v":""},{"$f":"IF('HOJA DE DATOS'!G180=0,\"\",'HOJA DE DATOS'!G180)","v":""},{"$f":"IF('HOJA DE DATOS'!H180=0,\"\",'HOJA DE DATOS'!H180)","v":""},{"$f":"IF('HOJA DE DATOS'!I180=0,\"\",'HOJA DE DATOS'!I180)","v":""},{"$f":"IF('HOJA DE DATOS'!Q180=0,\"\",'HOJA DE DATOS'!Q180)","v":""},{"$f":"IF('HOJA DE DATOS'!R180=0,\"\",'HOJA DE DATOS'!R180)","v":""},{"$f":"IF('HOJA DE DATOS'!S180=0,\"\",'HOJA DE DATOS'!S180)","v":""},{"$f":"IF('HOJA DE DATOS'!T180=0,\"\",'HOJA DE DATOS'!T180)","v":""},{"$f":"IF('HOJA DE DATOS'!U180=0,\"\",'HOJA DE DATOS'!U180)","v":""},{"$f":"IF('HOJA DE DATOS'!V180=0,\"\",'HOJA DE DATOS'!V180)","v":""},{"$f":"IF('HOJA DE DATOS'!W180=0,\"\",'HOJA DE DATOS'!W180)","v":""},{"$f":"IF('HOJA DE DATOS'!X180=0,\"\",'HOJA DE DATOS'!X180)","v":""},{"$f":"IF('HOJA DE DATOS'!Y180=0,\"\",'HOJA DE DATOS'!Y180)","v":""},{"$f":"IF('HOJA DE DATOS'!P180=0,\"\",'HOJA DE DATOS'!P180)","v":""}]
[null,{"$f":"IF('HOJA DE DATOS'!C181=0,\"\",'HOJA DE DATOS'!C181)","v":""},{"$f":"IF('HOJA DE DATOS'!D181=0,\"\",'HOJA DE DATOS'!D181)","v":""},{"$f":"IF('HOJA DE DATOS'!E181=0,\"\",'HOJA DE DATOS'!E181)","v":""},{"$f":"IF('HOJA DE DATOS'!F181=0,\"\",'HOJA DE DATOS'!F181)","v":""},{"$f":"IF('HOJA DE DATOS'!G181=0,\"\",'HOJA DE DATOS'!G181)","v":""},{"$f":"IF('HOJA DE DATOS'!H181=0,\"\",'HOJA DE DATOS'!H181)","v":""},{"$f":"IF('HOJA DE DATOS'!I181=0,\"\",'HOJA DE DATOS'!I181)","v":""},{"$f":"IF('HOJA DE DATOS'!Q181=0,\"\",'HOJA DE DATOS'!Q181)","v":""},{"$f":"IF('HOJA DE DATOS'!R181=0,\"\",'HOJA DE DATOS'!R181)","v":""},{"$f":"IF('HOJA DE DATOS'!S181=0,\"\",'HOJA DE DATOS'!S181)","v":""},{"$f":"IF('HOJA DE DATOS'!T181=0,\"\",'HOJA DE DATOS'!T181)","v":""},{"$f":"IF('HOJA DE DATOS'!U181=0,\"\",'HOJA DE DATOS'!U181)","v":""},{"$f":"IF('HOJA DE DATOS'!V181=0,\"\",'HOJA DE DATOS'!V181)","v":""},{"$f":"IF('HOJA DE DATOS'!W181=0,\"\",'HOJA DE DATOS'!W181)","v":""},{"$f":"IF('HOJA DE DATOS'!X181=0,\"\",'HOJA DE DATOS'!X181)","v":""},{"$f":"IF('HOJA DE DATOS'!Y181=0,\"\",'HOJA DE DATOS'!Y181)","v":""},{"$f":"IF('HOJA DE DATOS'!P181=0,\"\",'HOJA DE DATOS'!P181)","v":""}]
[null,{"$f":"IF('HOJA DE DATOS'!C182=0,\"\",'HOJA DE DATOS'!C182)","v":""},{"$f":"IF('HOJA DE DATOS'!D182=0,\"\",'HOJA DE DATOS'!D182)","v":""},{"$f":"IF('HOJA DE DATOS'!E182=0,\"\",'HOJA DE DATOS'!E182)","v":""},{"$f":"IF('HOJA DE DATOS'!F182=0,\"\",'HOJA DE DATOS'!F182)","v":""},{"$f":"IF('HOJA DE DATOS'!G182=0,\"\",'HOJA DE DATOS'!G182)","v":""},{"$f":"IF('HOJA DE DATOS'!H182=0,\"\",'HOJA DE DATOS'!H182)","v":""},{"$f":"IF('HOJA DE DATOS'!I182=0,\"\",'HOJA DE DATOS'!I182)","v":""},{"$f":"IF('HOJA DE DATOS'!Q182=0,\"\",'HOJA DE DATOS'!Q182)","v":""},{"$f":"IF('HOJA DE DATOS'!R182=0,\"\",'HOJA DE DATOS'!R182)","v":""},{"$f":"IF('HOJA DE DATOS'!S182=0,\"\",'HOJA DE DATOS'!S182)","v":""},{"$f":"IF('HOJA DE DATOS'!T182=0,\"\",'HOJA DE DATOS'!T182)","v":""},{"$f":"IF('HOJA DE DATOS'!U182=0,\"\",'HOJA DE DATOS'!U182)","v":""},{"$f":"IF('HOJA DE DATOS'!V182=0,\"\",'HOJA DE DATOS'!V182)","v":""},{"$f":"IF('HOJA DE DATOS'!W182=0,\"\",'HOJA DE DATOS'!W182)","v":""},{"$f":"IF('HOJA DE DATOS'!X182=0,\"\",'HOJA DE DATOS'!X182)","v":""},{"$f":"IF('HOJA DE DATOS'!Y182=0,\"\",'HOJA DE DATOS'!Y182)","v":""},{"$f":"IF('HOJA DE DATOS'!P182=0,\"\",'HOJA DE DATOS'!P182)","v":""}]
[null,{"$f":"IF('HOJA DE DATOS'!C183=0,\"\",'HOJA DE DATOS'!C183)","v":""},{"$f":"IF('HOJA DE DATOS'!D183=0,\"\",'HOJA DE DATOS'!D183)","v":""},{"$f":"IF('HOJA DE DATOS'!E183=0,\"\",'HOJA DE DATOS'!E183)","v":""},{"$f":"IF('HOJA DE DATOS'!F183=0,\"\",'HOJA DE DATOS'!F183)","v":""},{"$f":"IF('HOJA DE DATOS'!G183=0,\"\",'HOJA DE DATOS'!G183)","v":""},{"$f":"IF('HOJA DE DATOS'!H183=0,\"\",'HOJA DE DATOS'!H183)","v":""},{"$f":"IF('HOJA DE DATOS'!I183=0,\"\",'HOJA DE DATOS'!I183)","v":""},{"$f":"IF('HOJA DE DATOS'!Q183=0,\"\",'HOJA DE DATOS'!Q183)","v":""},{"$f":"IF('HOJA DE DATOS'!R183=0,\"\",'HOJA DE DATOS'!R183)","v":""},{"$f":"IF('HOJA DE DATOS'!S183=0,\"\",'HOJA DE DATOS'!S183)","v":""},{"$f":"IF('HOJA DE DATOS'!T183=0,\"\",'HOJA DE DATOS'!T183)","v":""},{"$f":"IF('HOJA DE DATOS'!U183=0,\"\",'HOJA DE DATOS'!U183)","v":""},{"$f":"IF('HOJA DE DATOS'!V183=0,\"\",'HOJA DE DATOS'!V183)","v":""},{"$f":"IF('HOJA DE DATOS'!W183=0,\"\",'HOJA DE DATOS'!W183)","v":""},{"$f":"IF('HOJA DE DATOS'!X183=0,\"\",'HOJA DE DATOS'!X183)","v":""},{"$f":"IF('HOJA DE DATOS'!Y183=0,\"\",'HOJA DE DATOS'!Y183)","v":""},{"$f":"IF('HOJA DE DATOS'!P183=0,\"\",'HOJA DE DATOS'!P183)","v":""}]
[null,{"$f":"IF('HOJA DE DATOS'!C184=0,\"\",'HOJA DE DATOS'!C184)","v":""},{"$f":"IF('HOJA DE DATOS'!D184=0,\"\",'HOJA DE DATOS'!D184)","v":""},{"$f":"IF('HOJA DE DATOS'!E184=0,\"\",'HOJA DE DATOS'!E184)","v":""},{"$f":"IF('HOJA DE DATOS'!F184=0,\"\",'HOJA DE DATOS'!F184)","v":""},{"$f":"IF('HOJA DE DATOS'!G184=0,\"\",'HOJA DE DATOS'!G184)","v":""},{"$f":"IF('HOJA DE DATOS'!H184=0,\"\",'HOJA DE DATOS'!H184)","v":""},{"$f":"IF('HOJA DE DATOS'!I184=0,\"\",'HOJA DE DATOS'!I184)","v":""},{"$f":"IF('HOJA DE DATOS'!Q184=0,\"\",'HOJA DE DATOS'!Q184)","v":""},{"$f":"IF('HOJA DE DATOS'!R184=0,\"\",'HOJA DE DATOS'!R184)","v":""},{"$f":"IF('HOJA DE DATOS'!S184=0,\"\",'HOJA DE DATOS'!S184)","v":""},{"$f":"IF('HOJA DE DATOS'!T184=0,\"\",'HOJA DE DATOS'!T184)","v":""},{"$f":"IF('HOJA DE DATOS'!U184=0,\"\",'HOJA DE DATOS'!U184)","v":""},{"$f":"IF('HOJA DE DATOS'!V184=0,\"\",'HOJA DE DATOS'!V184)","v":""},{"$f":"IF('HOJA DE DATOS'!W184=0,\"\",'HOJA DE DATOS'!W184)","v":""},{"$f":"IF('HOJA DE DATOS'!X184=0,\"\",'HOJA DE DATOS'!X184)","v":""},{"$f":"IF('HOJA DE DATOS'!Y184=0,\"\",'HOJA DE DATOS'!Y184)","v":""},{"$f":"IF('HOJA DE DATOS'!P184=0,\"\",'HOJA DE DATOS'!P184)","v":""}]
[null,{"$f":"IF('HOJA DE DATOS'!C185=0,\"\",'HOJA DE DATOS'!C185)","v":""},{"$f":"IF('HOJA DE DATOS'!D185=0,\"\",'HOJA DE DATOS'!D185)","v":""},{"$f":"IF('HOJA DE DATOS'!E185=0,\"\",'HOJA DE DATOS'!E185)","v":""},{"$f":"IF('HOJA DE DATOS'!F185=0,\"\",'HOJA DE DATOS'!F185)","v":""},{"$f":"IF('HOJA DE DATOS'!G185=0,\"\",'HOJA DE DATOS'!G185)","v":""},{"$f":"IF('HOJA DE DATOS'!H185=0,\"\",'HOJA DE DATOS'!H185)","v":""},{"$f":"IF('HOJA DE DATOS'!I185=0,\"\",'HOJA DE DATOS'!I185)","v":""},{"$f":"IF('HOJA DE DATOS'!Q185=0,\"\",'HOJA DE DATOS'!Q185)","v":""},{"$f":"IF('HOJA DE DATOS'!R185=0,\"\",'HOJA DE DATOS'!R185)","v":""},{"$f":"IF('HOJA DE DATOS'!S185=0,\"\",'HOJA DE DATOS'!S185)","v":""},{"$f":"IF('HOJA DE DATOS'!T185=0,\"\",'HOJA DE DATOS'!T185)","v":""},{"$f":"IF('HOJA DE DATOS'!U185=0,\"\",'HOJA DE DATOS'!U185)","v":""},{"$f":"IF('HOJA DE DATOS'!V185=0,\"\",'HOJA DE DATOS'!V185)","v":""},{"$f":"IF('HOJA DE DATOS'!W185=0,\"\",'HOJA DE DATOS'!W185)","v":""},{"$f":"IF('HOJA DE DATOS'!X185=0,\"\",'HOJA DE DATOS'!X185)","v":""},{"$f":"IF('HOJA DE DATOS'!Y185=0,\"\",'HOJA DE DATOS'!Y185)","v":""},{"$f":"IF('HOJA DE DATOS'!P185=0,\"\",'HOJA DE DATOS'!P185)","v":""}]
[null,{"$f":"IF('HOJA DE DATOS'!C186=0,\"\",'HOJA DE DATOS'!C186)","v":""},{"$f":"IF('HOJA DE DATOS'!D186=0,\"\",'HOJA DE DATOS'!D186)","v":""},{"$f":"IF('HOJA DE DATOS'!E186=0,\"\",'HOJA DE DATOS'!E186)","v":""},{"$f":"IF('HOJA DE DATOS'!F186=0,\"\",'HOJA DE DATOS'!F186)","v":""},{"$f":"IF('HOJA DE DATOS'!G186=0,\"\",'HOJA DE DATOS'!G186)","v":""},{"$f":"IF('HOJA DE DATOS'!H186=0,\"\",'HOJA DE DATOS'!H186)","v":""},{"$f":"IF('HOJA DE DATOS'!I186=0,\"\",'HOJA DE DATOS'!I186)","v":""},{"$f":"IF('HOJA DE DATOS'!Q186=0,\"\",'HOJA DE DATOS'!Q186)","v":""},{"$f":"IF('HOJA DE DATOS'!R186=0,\"\",'HOJA DE DATOS'!R186)","v":""},{"$f":"IF('HOJA DE DATOS'!S186=0,\"\",'HOJA DE DATOS'!S186)","v":""},{"$f":"IF('HOJA DE DATOS'!T186=0,\"\",'HOJA DE DATOS'!T186)","v":""},{"$f":"IF('HOJA DE DATOS'!U186=0,\"\",'HOJA DE DATOS'!U186)","v":""},{"$f":"IF('HOJA DE DATOS'!V186=0,\"\",'HOJA DE DATOS'!V186)","v":""},{"$f":"IF('HOJA DE DATOS'!W186=0,\"\",'HOJA DE DATOS'!W186)","v":""},{"$f":"IF('HOJA DE DATOS'!X186=0,\"\",'HOJA DE DATOS'!X186)","v":""},{"$f":"IF('HOJA DE DATOS'!Y186=0,\"\",'HOJA DE DATOS'!Y186)","v":""},{"$f":"IF('HOJA DE DATOS'!P186=0,\"\",'HOJA DE DATOS'!P186)","v":""}]
[null,{"$f":"IF('HOJA DE DATOS'!C187=0,\"\",'HOJA DE DATOS'!C187)","v":""},{"$f":"IF('HOJA DE DATOS'!D187=0,\"\",'HOJA DE DATOS'!D187)","v":""},{"$f":"IF('HOJA DE DATOS'!E187=0,\"\",'HOJA DE DATOS'!E187)","v":""},{"$f":"IF('HOJA DE DATOS'!F187=0,\"\",'HOJA DE DATOS'!F187)","v":""},{"$f":"IF('HOJA DE DATOS'!G187=0,\"\",'HOJA DE DATOS'!G187)","v":""},{"$f":"IF('HOJA DE DATOS'!H187=0,\"\",'HOJA DE DATOS'!H187)","v":""},{"$f":"IF('HOJA DE DATOS'!I187=0,\"\",'HOJA DE DATOS'!I187)","v":""},{"$f":"IF('HOJA DE DATOS'!Q187=0,\"\",'HOJA DE DATOS'!Q187)","v":""},{"$f":"IF('HOJA DE DATOS'!R187=0,\"\",'HOJA DE DATOS'!R187)","v":""},{"$f":"IF('HOJA DE DATOS'!S187=0,\"\",'HOJA DE DATOS'!S187)","v":""},{"$f":"IF('HOJA DE DATOS'!T187=0,\"\",'HOJA DE DATOS'!T187)","v":""},{"$f":"IF('HOJA DE DATOS'!U187=0,\"\",'HOJA DE DATOS'!U187)","v":""},{"$f":"IF('HOJA DE DATOS'!V187=0,\"\",'HOJA DE DATOS'!V187)","v":""},{"$f":"IF('HOJA DE DATOS'!W187=0,\"\",'HOJA DE DATOS'!W187)","v":""},{"$f":"IF('HOJA DE DATOS'!X187=0,\"\",'HOJA DE DATOS'!X187)","v":""},{"$f":"IF('HOJA DE DATOS'!Y187=0,\"\",'HOJA DE DATOS'!Y187)","v":""},{"$f":"IF('HOJA DE DATOS'!P187=0,\"\",'HOJA DE DATOS'!P187)","v":""}]
[null,{"$f":"IF('HOJA DE DATOS'!C188=0,\"\",'HOJA DE DATOS'!C188)","v":""},{"$f":"IF('HOJA DE DATOS'!D188=0,\"\",'HOJA DE DATOS'!D188)","v":""},{"$f":"IF('HOJA DE DATOS'!E188=0,\"\",'HOJA DE DATOS'!E188)","v":""},{"$f":"IF('HOJA DE DATOS'!F188=0,\"\",'HOJA DE DATOS'!F188)","v":""},{"$f":"IF('HOJA DE DATOS'!G188=0,\"\",'HOJA DE DATOS'!G188)","v":""},{"$f":"IF('HOJA DE DATOS'!H188=0,\"\",'HOJA DE DATOS'!H188)","v":""},{"$f":"IF('HOJA DE DATOS'!I188=0,\"\",'HOJA DE DATOS'!I188)","v":""},{"$f":"IF('HOJA DE DATOS'!Q188=0,\"\",'HOJA DE DATOS'!Q188)","v":""},{"$f":"IF('HOJA DE DATOS'!R188=0,\"\",'HOJA DE DATOS'!R188)","v":""},{"$f":"IF('HOJA DE DATOS'!S188=0,\"\",'HOJA DE DATOS'!S188)","v":""},{"$f":"IF('HOJA DE DATOS'!T188=0,\"\",'HOJA DE DATOS'!T188)","v":""},{"$f":"IF('HOJA DE DATOS'!U188=0,\"\",'HOJA DE DATOS'!U188)","v":""},{"$f":"IF('HOJA DE DATOS'!V188=0,\"\",'HOJA DE DATOS'!V188)","v":""},{"$f":"IF('HOJA DE DATOS'!W188=0,\"\",'HOJA DE DATOS'!W188)","v":""},{"$f":"IF('HOJA DE DATOS'!X188=0,\"\",'HOJA DE DATOS'!X188)","v":""},{"$f":"IF('HOJA DE DATOS'!Y188=0,\"\",'HOJA DE DATOS'!Y188)","v":""},{"$f":"IF('HOJA DE DATOS'!P188=0,\"\",'HOJA DE DATOS'!P188)","v":""}]
[null,{"$f":"IF('HOJA DE DATOS'!C189=0,\"\",'HOJA DE DATOS'!C189)","v":""},{"$f":"IF('HOJA DE DATOS'!D189=0,\"\",'HOJA DE DATOS'!D189)","v":""},{"$f":"IF('HOJA DE DATOS'!E189=0,\"\",'HOJA DE DATOS'!E189)","v":""},{"$f":"IF('HOJA DE DATOS'!F189=0,\"\",'HOJA DE DATOS'!F189)","v":""},{"$f":"IF('HOJA DE DATOS'!G189=0,\"\",'HOJA DE DATOS'!G189)","v":""},{"$f":"IF('HOJA DE DATOS'!H189=0,\"\",'HOJA DE DATOS'!H189)","v":""},{"$f":"IF('HOJA DE DATOS'!I189=0,\"\",'HOJA DE DATOS'!I189)","v":""},{"$f":"IF('HOJA DE DATOS'!Q189=0,\"\",'HOJA DE DATOS'!Q189)","v":""},{"$f":"IF('HOJA DE DATOS'!R189=0,\"\",'HOJA DE DATOS'!R189)","v":""},{"$f":"IF('HOJA DE DATOS'!S189=0,\"\",'HOJA DE DATOS'!S189)","v":""},{"$f":"IF('HOJA DE DATOS'!T189=0,\"\",'HOJA DE DATOS'!T189)","v":""},{"$f":"IF('HOJA DE DATOS'!U189=0,\"\",'HOJA DE DATOS'!U189)","v":""},{"$f":"IF('HOJA DE DATOS'!V189=0,\"\",'HOJA DE DATOS'!V189)","v":""},{"$f":"IF('HOJA DE DATOS'!W189=0,\"\",'HOJA DE DATOS'!W189)","v":""},{"$f":"IF('HOJA DE DATOS'!X189=0,\"\",'HOJA DE DATOS'!X189)","v":""},{"$f":"IF('HOJA DE DATOS'!Y189=0,\"\",'HOJA DE DATOS'!Y189)","v":""},{"$f":"IF('HOJA DE DATOS'!P189=0,\"\",'HOJA DE DATOS'!P189)","v":""}]
[null,{"$f":"IF('HOJA DE DATOS'!C190=0,\"\",'HOJA DE DATOS'!C190)","v":""},{"$f":"IF('HOJA DE DATOS'!D190=0,\"\",'HOJA DE DATOS'!D190)","v":""},{"$f":"IF('HOJA DE DATOS'!E190=0,\"\",'HOJA DE DATOS'!E190)","v":""},{"$f":"IF('HOJA DE DATOS'!F190=0,\"\",'HOJA DE DATOS'!F190)","v":""},{"$f":"IF('HOJA DE DATOS'!G190=0,\"\",'HOJA DE DATOS'!G190)","v":""},{"$f":"IF('HOJA DE DATOS'!H190=0,\"\",'HOJA DE DATOS'!H190)","v":""},{"$f":"IF('HOJA DE DATOS'!I190=0,\"\",'HOJA DE DATOS'!I190)","v":""},{"$f":"IF('HOJA DE DATOS'!Q190=0,\"\",'HOJA DE DATOS'!Q190)","v":""},{"$f":"IF('HOJA DE DATOS'!R190=0,\"\",'HOJA DE DATOS'!R190)","v":""},{"$f":"IF('HOJA DE DATOS'!S190=0,\"\",'HOJA DE DATOS'!S190)","v":""},{"$f":"IF('HOJA DE DATOS'!T190=0,\"\",'HOJA DE DATOS'!T190)","v":""},{"$f":"IF('HOJA DE DATOS'!U190=0,\"\",'HOJA DE DATOS'!U190)","v":""},{"$f":"IF('HOJA DE DATOS'!V190=0,\"\",'HOJA DE DATOS'!V190)","v":""},{"$f":"IF('HOJA DE DATOS'!W190=0,\"\",'HOJA DE DATOS'!W190)","v":""},{"$f":"IF('HOJA DE DATOS'!X190=0,\"\",'HOJA DE DATOS'!X190)","v":""},{"$f":"IF('HOJA DE DATOS'!Y190=0,\"\",'HOJA DE DATOS'!Y190)","v":""},{"$f":"IF('HOJA DE DATOS'!P190=0,\"\",'HOJA DE DATOS'!P190)","v":""}]
[null,{"$f":"IF('HOJA DE DATOS'!C191=0,\"\",'HOJA DE DATOS'!C191)","v":""},{"$f":"IF('HOJA DE DATOS'!D191=0,\"\",'HOJA DE DATOS'!D191)","v":""},{"$f":"IF('HOJA DE DATOS'!E191=0,\"\",'HOJA DE DATOS'!E191)","v":""},{"$f":"IF('HOJA DE DATOS'!F191=0,\"\",'HOJA DE DATOS'!F191)","v":""},{"$f":"IF('HOJA DE DATOS'!G191=0,\"\",'HOJA DE DATOS'!G191)","v":""},{"$f":"IF('HOJA DE DATOS'!H191=0,\"\",'HOJA DE DATOS'!H191)","v":""},{"$f":"IF('HOJA DE DATOS'!I191=0,\"\",'HOJA DE DATOS'!I191)","v":""},{"$f":"IF('HOJA DE DATOS'!Q191=0,\"\",'HOJA DE DATOS'!Q191)","v":""},{"$f":"IF('HOJA DE DATOS'!R191=0,\"\",'HOJA DE DATOS'!R191)","v":""},{"$f":"IF('HOJA DE DATOS'!S191=0,\"\",'HOJA DE DATOS'!S191)","v":""},{"$f":"IF('HOJA DE DATOS'!T191=0,\"\",'HOJA DE DATOS'!T191)","v":""},{"$f":"IF('HOJA DE DATOS'!U191=0,\"\",'HOJA DE DATOS'!U191)","v":""},{"$f":"IF('HOJA DE DATOS'!V191=0,\"\",'HOJA DE DATOS'!V191)","v":""},{"$f":"IF('HOJA DE DATOS'!W191=0,\"\",'HOJA DE DATOS'!W191)","v":""},{"$f":"IF('HOJA DE DATOS'!X191=0,\"\",'HOJA DE DATOS'!X191)","v":""},{"$f":"IF('HOJA DE DATOS'!Y191=0,\"\",'HOJA DE DATOS'!Y191)","v":""},{"$f":"IF('HOJA DE DATOS'!P191=0,\"\",'HOJA DE DATOS'!P191)","v":""}]
[null,{"$f":"IF('HOJA DE DATOS'!C192=0,\"\",'HOJA DE DATOS'!C192)","v":""},{"$f":"IF('HOJA DE DATOS'!D192=0,\"\",'HOJA DE DATOS'!D192)","v":""},{"$f":"IF('HOJA DE DATOS'!E192=0,\"\",'HOJA DE DATOS'!E192)","v":""},{"$f":"IF('HOJA DE DATOS'!F192=0,\"\",'HOJA DE DATOS'!F192)","v":""},{"$f":"IF('HOJA DE DATOS'!G192=0,\"\",'HOJA DE DATOS'!G192)","v":""},{"$f":"IF('HOJA DE DATOS'!H192=0,\"\",'HOJA DE DATOS'!H192)","v":""},{"$f":"IF('HOJA DE DATOS'!I192=0,\"\",'HOJA DE DATOS'!I192)","v":""},{"$f":"IF('HOJA DE DATOS'!Q192=0,\"\",'HOJA DE DATOS'!Q192)","v":""},{"$f":"IF('HOJA DE DATOS'!R192=0,\"\",'HOJA DE DATOS'!R192)","v":""},{"$f":"IF('HOJA DE DATOS'!S192=0,\"\",'HOJA DE DATOS'!S192)","v":""},{"$f":"IF('HOJA DE DATOS'!T192=0,\"\",'HOJA DE DATOS'!T192)","v":""},{"$f":"IF('HOJA DE DATOS'!U192=0,\"\",'HOJA DE DATOS'!U192)","v":""},{"$f":"IF('HOJA DE DATOS'!V192=0,\"\",'HOJA DE DATOS'!V192)","v":""},{"$f":"IF('HOJA DE DATOS'!W192=0,\"\",'HOJA DE DATOS'!W192)","v":""},{"$f":"IF('HOJA DE DATOS'!X192=0,\"\",'HOJA DE DATOS'!X192)","v":""},{"$f":"IF('HOJA DE DATOS'!Y192=0,\"\",'HOJA DE DATOS'!Y192)","v":""},{"$f":"IF('HOJA DE DATOS'!P192=0,\"\",'HOJA DE DATOS'!P192)","v":""}]
[null,{"$f":"IF('HOJA DE DATOS'!C193=0,\"\",'HOJA DE DATOS'!C193)","v":""},{"$f":"IF('HOJA DE DATOS'!D193=0,\"\",'HOJA DE DATOS'!D193)","v":""},{"$f":"IF('HOJA DE DATOS'!E193=0,\"\",'HOJA DE DATOS'!E193)","v":""},{"$f":"IF('HOJA DE DATOS'!F193=0,\"\",'HOJA DE DATOS'!F193)","v":""},{"$f":"IF('HOJA DE DATOS'!G193=0,\"\",'HOJA DE DATOS'!G193)","v":""},{"$f":"IF('HOJA DE DATOS'!H193=0,\"\",'HOJA DE DATOS'!H193)","v":""},{"$f":"IF('HOJA DE DATOS'!I193=0,\"\",'HOJA DE DATOS'!I193)","v":""},{"$f":"IF('HOJA DE DATOS'!Q193=0,\"\",'HOJA DE DATOS'!Q193)","v":""},{"$f":"IF('HOJA DE DATOS'!R193=0,\"\",'HOJA DE DATOS'!R193)","v":""},{"$f":"IF('HOJA DE DATOS'!S193=0,\"\",'HOJA DE DATOS'!S193)","v":""},{"$f":"IF('HOJA DE DATOS'!T193=0,\"\",'HOJA DE DATOS'!T193)","v":""},{"$f":"IF('HOJA DE DATOS'!U193=0,\"\",'HOJA DE DATOS'!U193)","v":""},{"$f":"IF('HOJA DE DATOS'!V193=0,\"\",'HOJA DE DATOS'!V193)","v":""},{"$f":"IF('HOJA DE DATOS'!W193=0,\"\",'HOJA DE DATOS'!W193)","v":""},{"$f":"IF('HOJA DE DATOS'!X193=0,\"\",'HOJA DE DATOS'!X193)","v":""},{"$f":"IF('HOJA DE DATOS'!Y193=0,\"\",'HOJA DE DATOS'!Y193)","v":""},{"$f":"IF('HOJA DE DATOS'!P193=0,\"\",'HOJA DE DATOS'!P193)","v":""}]
[null,{"$f":"IF('HOJA DE DATOS'!C194=0,\"\",'HOJA DE DATOS'!C194)","v":""},{"$f":"IF('HOJA DE DATOS'!D194=0,\"\",'HOJA DE DATOS'!D194)","v":""},{"$f":"IF('HOJA DE DATOS'!E194=0,\"\",'HOJA DE DATOS'!E194)","v":""},{"$f":"IF('HOJA DE DATOS'!F194=0,\"\",'HOJA DE DATOS'!F194)","v":""},{"$f":"IF('HOJA DE DATOS'!G194=0,\"\",'HOJA DE DATOS'!G194)","v":""},{"$f":"IF('HOJA DE DATOS'!H194=0,\"\",'HOJA DE DATOS'!H194)","v":""},{"$f":"IF('HOJA DE DATOS'!I194=0,\"\",'HOJA DE DATOS'!I194)","v":""},{"$f":"IF('HOJA DE DATOS'!Q194=0,\"\",'HOJA DE DATOS'!Q194)","v":""},{"$f":"IF('HOJA DE DATOS'!R194=0,\"\",'HOJA DE DATOS'!R194)","v":""},{"$f":"IF('HOJA DE DATOS'!S194=0,\"\",'HOJA DE DATOS'!S194)","v":""},{"$f":"IF('HOJA DE DATOS'!T194=0,\"\",'HOJA DE DATOS'!T194)","v":""},{"$f":"IF('HOJA DE DATOS'!U194=0,\"\",'HOJA DE DATOS'!U194)","v":""},{"$f":"IF('HOJA DE DATOS'!V194=0,\"\",'HOJA DE DATOS'!V194)","v":""},{"$f":"IF('HOJA DE DATOS'!W194=0,\"\",'HOJA DE DATOS'!W194)","v":""},{"$f":"IF('HOJA DE DATOS'!X194=0,\"\",'HOJA DE DATOS'!X194)","v":""},{"$f":"IF('HOJA DE DATOS'!Y194=0,\"\",'HOJA DE DATOS'!Y194)","v":""},{"$f":"IF('HOJA DE DATOS'!P194=0,\"\",'HOJA DE DATOS'!P194)","v":""}]
[null,{"$f":"IF('HOJA DE DATOS'!C195=0,\"\",'HOJA DE DATOS'!C195)","v":""},{"$f":"IF('HOJA DE DATOS'!D195=0,\"\",'HOJA DE DATOS'!D195)","v":""},{"$f":"IF('HOJA DE DATOS'!E195=0,\"\",'HOJA DE DATOS'!E195)","v":""},{"$f":"IF('HOJA DE DATOS'!F195=0,\"\",'HOJA DE DATOS'!F195)","v":""},{"$f":"IF('HOJA DE DATOS'!G195=0,\"\",'HOJA DE DATOS'!G195)","v":""},{"$f":"IF('HOJA DE DATOS'!H195=0,\"\",'HOJA DE DATOS'!H195)","v":""},{"$f":"IF('HOJA DE DATOS'!I195=0,\"\",'HOJA DE DATOS'!I195)","v":""},{"$f":"IF('HOJA DE DATOS'!Q195=0,\"\",'HOJA DE DATOS'!Q195)","v":""},{"$f":"IF('HOJA DE DATOS'!R195=0,\"\",'HOJA DE DATOS'!R195)","v":""},{"$f":"IF('HOJA DE DATOS'!S195=0,\"\",'HOJA DE DATOS'!S195)","v":""},{"$f":"IF('HOJA DE DATOS'!T195=0,\"\",'HOJA DE DATOS'!T195)","v":""},{"$f":"IF('HOJA DE DATOS'!U195=0,\"\",'HOJA DE DATOS'!U195)","v":""},{"$f":"IF('HOJA DE DATOS'!V195=0,\"\",'HOJA DE DATOS'!V195)","v":""},{"$f":"IF('HOJA DE DATOS'!W195=0,\"\",'HOJA DE DATOS'!W195)","v":""},{"$f":"IF('HOJA DE DATOS'!X195=0,\"\",'HOJA DE DATOS'!X195)","v":""},{"$f":"IF('HOJA DE DATOS'!Y195=0,\"\",'HOJA DE DATOS'!Y195)","v":""},{"$f":"IF('HOJA DE DATOS'!P195=0,\"\",'HOJA DE DATOS'!P195)","v":""}]
[null,{"$f":"IF('HOJA DE DATOS'!C196=0,\"\",'HOJA DE DATOS'!C196)","v":""},{"$f":"IF('HOJA DE DATOS'!D196=0,\"\",'HOJA DE DATOS'!D196)","v":""},{"$f":"IF('HOJA DE DATOS'!E196=0,\"\",'HOJA DE DATOS'!E196)","v":""},{"$f":"IF('HOJA DE DATOS'!F196=0,\"\",'HOJA DE DATOS'!F196)","v":""},{"$f":"IF('HOJA DE DATOS'!G196=0,\"\",'HOJA DE DATOS'!G196)","v":""},{"$f":"IF('HOJA DE DATOS'!H196=0,\"\",'HOJA DE DATOS'!H196)","v":""},{"$f":"IF('HOJA DE DATOS'!I196=0,\"\",'HOJA DE DATOS'!I196)","v":""},{"$f":"IF('HOJA DE DATOS'!Q196=0,\"\",'HOJA DE DATOS'!Q196)","v":""},{"$f":"IF('HOJA DE DATOS'!R196=0,\"\",'HOJA DE DATOS'!R196)","v":""},{"$f":"IF('HOJA DE DATOS'!S196=0,\"\",'HOJA DE DATOS'!S196)","v":""},{"$f":"IF('HOJA DE DATOS'!T196=0,\"\",'HOJA DE DATOS'!T196)","v":""},{"$f":"IF('HOJA DE DATOS'!U196=0,\"\",'HOJA DE DATOS'!U196)","v":""},{"$f":"IF('HOJA DE DATOS'!V196=0,\"\",'HOJA DE DATOS'!V196)","v":""},{"$f":"IF('HOJA DE DATOS'!W196=0,\"\",'HOJA DE DATOS'!W196)","v":""},{"$f":"IF('HOJA DE DATOS'!X196=0,\"\",'HOJA DE DATOS'!X196)","v":""},{"$f":"IF('HOJA DE DATOS'!Y196=0,\"\",'HOJA DE DATOS'!Y196)","v":""},{"$f":"IF('HOJA DE DATOS'!P196=0,\"\",'HOJA DE DATOS'!P196)","v":""}]
[null,{"$f":"IF('HOJA DE DATOS'!C197=0,\"\",'HOJA DE DATOS'!C197)","v":""},{"$f":"IF('HOJA DE DATOS'!D197=0,\"\",'HOJA DE DATOS'!D197)","v":""},{"$f":"IF('HOJA DE DATOS'!E197=0,\"\",'HOJA DE DATOS'!E197)","v":""},{"$f":"IF('HOJA DE DATOS'!F197=0,\"\",'HOJA DE DATOS'!F197)","v":""},{"$f":"IF('HOJA DE DATOS'!G197=0,\"\",'HOJA DE DATOS'!G197)","v":""},{"$f":"IF('HOJA DE DATOS'!H197=0,\"\",'HOJA DE DATOS'!H197)","v":""},{"$f":"IF('HOJA DE DATOS'!I197=0,\"\",'HOJA DE DATOS'!I197)","v":""},{"$f":"IF('HOJA DE DATOS'!Q197=0,\"\",'HOJA DE DATOS'!Q197)","v":""},{"$f":"IF('HOJA DE DATOS'!R197=0,\"\",'HOJA DE DATOS'!R197)","v":""},{"$f":"IF('HOJA DE DATOS'!S197=0,\"\",'HOJA DE DATOS'!S197)","v":""},{"$f":"IF('HOJA DE DATOS'!T197=0,\"\",'HOJA DE DATOS'!T197)","v":""},{"$f":"IF('HOJA DE DATOS'!U197=0,\"\",'HOJA DE DATOS'!U197)","v":""},{"$f":"IF('HOJA DE DATOS'!V197=0,\"\",'HOJA DE DATOS'!V197)","v":""},{"$f":"IF('HOJA DE DATOS'!W197=0,\"\",'HOJA DE DATOS'!W197)","v":""},{"$f":"IF('HOJA DE DATOS'!X197=0,\"\",'HOJA DE DATOS'!X197)","v":""},{"$f":"IF('HOJA DE DATOS'!Y197=0,\"\",'HOJA DE DATOS'!Y197)","v":""},{"$f":"IF('HOJA DE DATOS'!P197=0,\"\",'HOJA DE DATOS'!P197)","v":""}]
[null,{"$f":"IF('HOJA DE DATOS'!C198=0,\"\",'HOJA DE DATOS'!C198)","v":""},{"$f":"IF('HOJA DE DATOS'!D198=0,\"\",'HOJA DE DATOS'!D198)","v":""},{"$f":"IF('HOJA DE DATOS'!E198=0,\"\",'HOJA DE DATOS'!E198)","v":""},{"$f":"IF('HOJA DE DATOS'!F198=0,\"\",'HOJA DE DATOS'!F198)","v":""},{"$f":"IF('HOJA DE DATOS'!G198=0,\"\",'HOJA DE DATOS'!G198)","v":""},{"$f":"IF('HOJA DE DATOS'!H198=0,\"\",'HOJA DE DATOS'!H198)","v":""},{"$f":"IF('HOJA DE DATOS'!I198=0,\"\",'HOJA DE DATOS'!I198)","v":""},{"$f":"IF('HOJA DE DATOS'!Q198=0,\"\",'HOJA DE DATOS'!Q198)","v":""},{"$f":"IF('HOJA DE DATOS'!R198=0,\"\",'HOJA DE DATOS'!R198)","v":""},{"$f":"IF('HOJA DE DATOS'!S198=0,\"\",'HOJA DE DATOS'!S198)","v":""},{"$f":"IF('HOJA DE DATOS'!T198=0,\"\",'HOJA DE DATOS'!T198)","v":""},{"$f":"IF('HOJA DE DATOS'!U198=0,\"\",'HOJA DE DATOS'!U198)","v":""},{"$f":"IF('HOJA DE DATOS'!V198=0,\"\",'HOJA DE DATOS'!V198)","v":""},{"$f":"IF('HOJA DE DATOS'!W198=0,\"\",'HOJA DE DATOS'!W198)","v":""},{"$f":"IF('HOJA DE DATOS'!X198=0,\"\",'HOJA DE DATOS'!X198)","v":""},{"$f":"IF('HOJA DE DATOS'!Y198=0,\"\",'HOJA DE DATOS'!Y198)","v":""},{"$f":"IF('HOJA DE DATOS'!P198=0,\"\",'HOJA DE DATOS'!P198)","v":""}]
[null,{"$f":"IF('HOJA DE DATOS'!C199=0,\"\",'HOJA DE DATOS'!C199)","v":""},{"$f":"IF('HOJA DE DATOS'!D199=0,\"\",'HOJA DE DATOS'!D199)","v":""},{"$f":"IF('HOJA DE DATOS'!E199=0,\"\",'HOJA DE DATOS'!E199)","v":""},{"$f":"IF('HOJA DE DATOS'!F199=0,\"\",'HOJA DE DATOS'!F199)","v":""},{"$f":"IF('HOJA DE DATOS'!G199=0,\"\",'HOJA DE DATOS'!G199)","v":""},{"$f":"IF('HOJA DE DATOS'!H199=0,\"\",'HOJA DE DATOS'!H199)","v":""},{"$f":"IF('HOJA DE DATOS'!I199=0,\"\",'HOJA DE DATOS'!I199)","v":""},{"$f":"IF('HOJA DE DATOS'!Q199=0,\"\",'HOJA DE DATOS'!Q199)","v":""},{"$f":"IF('HOJA DE DATOS'!R199=0,\"\",'HOJA DE DATOS'!R199)","v":""},{"$f":"IF('HOJA DE DATOS'!S199=0,\"\",'HOJA DE DATOS'!S199)","v":""},{"$f":"IF('HOJA DE DATOS'!T199=0,\"\",'HOJA DE DATOS'!T199)","v":""},{"$f":"IF('HOJA DE DATOS'!U199=0,\"\",'HOJA DE DATOS'!U199)","v":""},{"$f":"IF('HOJA DE DATOS'!V199=0,\"\",'HOJA DE DATOS'!V199)","v":""},{"$f":"IF('HOJA DE DATOS'!W199=0,\"\",'HOJA DE DATOS'!W199)","v":""},{"$f":"IF('HOJA DE DATOS'!X199=0,\"\",'HOJA DE DATOS'!X199)","v":""},{"$f":"IF('HOJA DE DATOS'!Y199=0,\"\",'HOJA DE DATOS'!Y199)","v":""},{"$f":"IF('HOJA DE DATOS'!P199=0,\"\",'HOJA DE DATOS'!P199)","v":""}]
[null,{"$f":"IF('HOJA DE DATOS'!C200=0,\"\",'HOJA DE DATOS'!C200)","v":""},{"$f":"IF('HOJA DE DATOS'!D200=0,\"\",'HOJA DE DATOS'!D200)","v":""},{"$f":"IF('HOJA DE DATOS'!E200=0,\"\",'HOJA DE DATOS'!E200)","v":""},{"$f":"IF('HOJA DE DATOS'!F200=0,\"\",'HOJA DE DATOS'!F200)","v":""},{"$f":"IF('HOJA DE DATOS'!G200=0,\"\",'HOJA DE DATOS'!G200)","v":""},{"$f":"IF('HOJA DE DATOS'!H200=0,\"\",'HOJA DE DATOS'!H200)","v":""},{"$f":"IF('HOJA DE DATOS'!I200=0,\"\",'HOJA DE DATOS'!I200)","v":""},{"$f":"IF('HOJA DE DATOS'!Q200=0,\"\",'HOJA DE DATOS'!Q200)","v":""},{"$f":"IF('HOJA DE DATOS'!R200=0,\"\",'HOJA DE DATOS'!R200)","v":""},{"$f":"IF('HOJA DE DATOS'!S200=0,\"\",'HOJA DE DATOS'!S200)","v":""},{"$f":"IF('HOJA DE DATOS'!T200=0,\"\",'HOJA DE DATOS'!T200)","v":""},{"$f":"IF('HOJA DE DATOS'!U200=0,\"\",'HOJA DE DATOS'!U200)","v":""},{"$f":"IF('HOJA DE DATOS'!V200=0,\"\",'HOJA DE DATOS'!V200)","v":""},{"$f":"IF('HOJA DE DATOS'!W200=0,\"\",'HOJA DE DATOS'!W200)","v":""},{"$f":"IF('HOJA DE DATOS'!X200=0,\"\",'HOJA DE DATOS'!X200)","v":""},{"$f":"IF('HOJA DE DATOS'!Y200=0,\"\",'HOJA DE DATOS'!Y200)","v":""},{"$f":"IF('HOJA DE DATOS'!P200=0,\"\",'HOJA DE DATOS'!P200)","v":""}]
[null,{"$f":"IF('HOJA DE DATOS'!C201=0,\"\",'HOJA DE DATOS'!C201)","v":""},{"$f":"IF('HOJA DE DATOS'!D201=0,\"\",'HOJA DE DATOS'!D201)","v":""},{"$f":"IF('HOJA DE DATOS'!E201=0,\"\",'HOJA DE DATOS'!E201)","v":""},{"$f":"IF('HOJA DE DATOS'!F201=0,\"\",'HOJA DE DATOS'!F201)","v":""},{"$f":"IF('HOJA DE DATOS'!G201=0,\"\",'HOJA DE DATOS'!G201)","v":""},{"$f":"IF('HOJA DE DATOS'!H201=0,\"\",'HOJA DE DATOS'!H201)","v":""},{"$f":"IF('HOJA DE DATOS'!I201=0,\"\",'HOJA DE DATOS'!I201)","v":""},{"$f":"IF('HOJA DE DATOS'!Q201=0,\"\",'HOJA DE DATOS'!Q201)","v":""},{"$f":"IF('HOJA DE DATOS'!R201=0,\"\",'HOJA DE DATOS'!R201)","v":""},{"$f":"IF('HOJA DE DATOS'!S201=0,\"\",'HOJA DE DATOS'!S201)","v":""},{"$f":"IF('HOJA DE DATOS'!T201=0,\"\",'HOJA DE DATOS'!T201)","v":""},{"$f":"IF('HOJA DE DATOS'!U201=0,\"\",'HOJA DE DATOS'!U201)","v":""},{"$f":"IF('HOJA DE DATOS'!V201=0,\"\",'HOJA DE DATOS'!V201)","v":""},{"$f":"IF('HOJA DE DATOS'!W201=0,\"\",'HOJA DE DATOS'!W201)","v":""},{"$f":"IF('HOJA DE DATOS'!X201=0,\"\",'HOJA DE DATOS'!X201)","v":""},{"$f":"IF('HOJA DE DATOS'!Y201=0,\"\",'HOJA DE DATOS'!Y201)","v":""},{"$f":"IF('HOJA DE DATOS'!P201=0,\"\",'HOJA DE DATOS'!P201)","v":""}]
[null,{"$f":"IF('HOJA DE DATOS'!C202=0,\"\",'HOJA DE DATOS'!C202)","v":""},{"$f":"IF('HOJA DE DATOS'!D202=0,\"\",'HOJA DE DATOS'!D202)","v":""},{"$f":"IF('HOJA DE DATOS'!E202=0,\"\",'HOJA DE DATOS'!E202)","v":""},{"$f":"IF('HOJA DE DATOS'!F202=0,\"\",'HOJA DE DATOS'!F202)","v":""},{"$f":"IF('HOJA DE DATOS'!G202=0,\"\",'HOJA DE DATOS'!G202)","v":""},{"$f":"IF('HOJA DE DATOS'!H202=0,\"\",'HOJA DE DATOS'!H202)","v":""},{"$f":"IF('HOJA DE DATOS'!I202=0,\"\",'HOJA DE DATOS'!I202)","v":""},{"$f":"IF('HOJA DE DATOS'!Q202=0,\"\",'HOJA DE DATOS'!Q202)","v":""},{"$f":"IF('HOJA DE DATOS'!R202=0,\"\",'HOJA DE DATOS'!R202)","v":""},{"$f":"IF('HOJA DE DATOS'!S202=0,\"\",'HOJA DE DATOS'!S202)","v":""},{"$f":"IF('HOJA DE DATOS'!T202=0,\"\",'HOJA DE DATOS'!T202)","v":""},{"$f":"IF('HOJA DE DATOS'!U202=0,\"\",'HOJA DE DATOS'!U202)","v":""},{"$f":"IF('HOJA DE DATOS'!V202=0,\"\",'HOJA DE DATOS'!V202)","v":""},{"$f":"IF('HOJA DE DATOS'!W202=0,\"\",'HOJA DE DATOS'!W202)","v":""},{"$f":"IF('HOJA DE DATOS'!X202=0,\"\",'HOJA DE DATOS'!X202)","v":""},{"$f":"IF('HOJA DE DATOS'!Y202=0,\"\",'HOJA DE DATOS'!Y202)","v":""},{"$f":"IF('HOJA DE DATOS'!P202=0,\"\",'HOJA DE DATOS'!P202)","v":""}]
[null,{"$f":"IF('HOJA DE DATOS'!C203=0,\"\",'HOJA DE DATOS'!C203)","v":""},{"$f":"IF('HOJA DE DATOS'!D203=0,\"\",'HOJA DE DATOS'!D203)","v":""},{"$f":"IF('HOJA DE DATOS'!E203=0,\"\",'HOJA DE DATOS'!E203)","v":""},{"$f":"IF('HOJA DE DATOS'!F203=0,\"\",'HOJA DE DATOS'!F203)","v":""},{"$f":"IF('HOJA DE DATOS'!G203=0,\"\",'HOJA DE DATOS'!G203)","v":""},{"$f":"IF('HOJA DE DATOS'!H203=0,\"\",'HOJA DE DATOS'!H203)","v":""},{"$f":"IF('HOJA DE DATOS'!I203=0,\"\",'HOJA DE DATOS'!I203)","v":""},{"$f":"IF('HOJA DE DATOS'!Q203=0,\"\",'HOJA DE DATOS'!Q203)","v":""},{"$f":"IF('HOJA DE DATOS'!R203=0,\"\",'HOJA DE DATOS'!R203)","v":""},{"$f":"IF('HOJA DE DATOS'!S203=0,\"\",'HOJA DE DATOS'!S203)","v":""},{"$f":"IF('HOJA DE DATOS'!T203=0,\"\",'HOJA DE DATOS'!T203)","v":""},{"$f":"IF('HOJA DE DATOS'!U203=0,\"\",'HOJA DE DATOS'!U203)","v":""},{"$f":"IF('HOJA DE DATOS'!V203=0,\"\",'HOJA DE DATOS'!V203)","v":""},{"$f":"IF('HOJA DE DATOS'!W203=0,\"\",'HOJA DE DATOS'!W203)","v":""},{"$f":"IF('HOJA DE DATOS'!X203=0,\"\",'HOJA DE DATOS'!X203)","v":""},{"$f":"IF('HOJA DE DATOS'!Y203=0,\"\",'HOJA DE DATOS'!Y203)","v":""},{"$f":"IF('HOJA DE DATOS'!P203=0,\"\",'HOJA DE DATOS'!P203)","v":""}]
[null,{"$f":"IF('HOJA DE DATOS'!C204=0,\"\",'HOJA DE DATOS'!C204)","v":""},{"$f":"IF('HOJA DE DATOS'!D204=0,\"\",'HOJA DE DATOS'!D204)","v":""},{"$f":"IF('HOJA DE DATOS'!E204=0,\"\",'HOJA DE DATOS'!E204)","v":""},{"$f":"IF('HOJA DE DATOS'!F204=0,\"\",'HOJA DE DATOS'!F204)","v":""},{"$f":"IF('HOJA DE DATOS'!G204=0,\"\",'HOJA DE DATOS'!G204)","v":""},{"$f":"IF('HOJA DE DATOS'!H204=0,\"\",'HOJA DE DATOS'!H204)","v":""},{"$f":"IF('HOJA DE DATOS'!I204=0,\"\",'HOJA DE DATOS'!I204)","v":""},{"$f":"IF('HOJA DE DATOS'!Q204=0,\"\",'HOJA DE DATOS'!Q204)","v":""},{"$f":"IF('HOJA DE DATOS'!R204=0,\"\",'HOJA DE DATOS'!R204)","v":""},{"$f":"IF('HOJA DE DATOS'!S204=0,\"\",'HOJA DE DATOS'!S204)","v":""},{"$f":"IF('HOJA DE DATOS'!T204=0,\"\",'HOJA DE DATOS'!T204)","v":""},{"$f":"IF('HOJA DE DATOS'!U204=0,\"\",'HOJA DE DATOS'!U204)","v":""},{"$f":"IF('HOJA DE DATOS'!V204=0,\"\",'HOJA DE DATOS'!V204)","v":""},{"$f":"IF('HOJA DE DATOS'!W204=0,\"\",'HOJA DE DATOS'!W204)","v":""},{"$f":"IF('HOJA DE DATOS'!X204=0,\"\",'HOJA DE DATOS'!X204)","v":""},{"$f":"IF('HOJA DE DATOS'!Y204=0,\"\",'HOJA DE DATOS'!Y204)","v":""},{"$f":"IF('HOJA DE DATOS'!P204=0,\"\",'HOJA DE DATOS'!P204)","v":""}]
[null,{"$f":"IF('HOJA DE DATOS'!C205=0,\"\",'HOJA DE DATOS'!C205)","v":""},{"$f":"IF('HOJA DE DATOS'!D205=0,\"\",'HOJA DE DATOS'!D205)","v":""},{"$f":"IF('HOJA DE DATOS'!E205=0,\"\",'HOJA DE DATOS'!E205)","v":""},{"$f":"IF('HOJA DE DATOS'!F205=0,\"\",'HOJA DE DATOS'!F205)","v":""},{"$f":"IF('HOJA DE DATOS'!G205=0,\"\",'HOJA DE DATOS'!G205)","v":""},{"$f":"IF('HOJA DE DATOS'!H205=0,\"\",'HOJA DE DATOS'!H205)","v":""},{"$f":"IF('HOJA DE DATOS'!I205=0,\"\",'HOJA DE DATOS'!I205)","v":""},{"$f":"IF('HOJA DE DATOS'!Q205=0,\"\",'HOJA DE DATOS'!Q205)","v":""},{"$f":"IF('HOJA DE DATOS'!R205=0,\"\",'HOJA DE DATOS'!R205)","v":""},{"$f":"IF('HOJA DE DATOS'!S205=0,\"\",'HOJA DE DATOS'!S205)","v":""},{"$f":"IF('HOJA DE DATOS'!T205=0,\"\",'HOJA DE DATOS'!T205)","v":""},{"$f":"IF('HOJA DE DATOS'!U205=0,\"\",'HOJA DE DATOS'!U205)","v":""},{"$f":"IF('HOJA DE DATOS'!V205=0,\"\",'HOJA DE DATOS'!V205)","v":""},{"$f":"IF('HOJA DE DATOS'!W205=0,\"\",'HOJA DE DATOS'!W205)","v":""},{"$f":"IF('HOJA DE DATOS'!X205=0,\"\",'HOJA DE DATOS'!X205)","v":""},{"$f":"IF('HOJA DE DATOS'!Y205=0,\"\",'HOJA DE DATOS'!Y205)","v":""},{"$f":"IF('HOJA DE DATOS'!P205=0,\"\",'HOJA DE DATOS'!P205)","v":""}]
[null,{"$f":"IF('HOJA DE DATOS'!C206=0,\"\",'HOJA DE DATOS'!C206)","v":""},{"$f":"IF('HOJA DE DATOS'!D206=0,\"\",'HOJA DE DATOS'!D206)","v":""},{"$f":"IF('HOJA DE DATOS'!E206=0,\"\",'HOJA DE DATOS'!E206)","v":""},{"$f":"IF('HOJA DE DATOS'!F206=0,\"\",'HOJA DE DATOS'!F206)","v":""},{"$f":"IF('HOJA DE DATOS'!G206=0,\"\",'HOJA DE DATOS'!G206)","v":""},{"$f":"IF('HOJA DE DATOS'!H206=0,\"\",'HOJA DE DATOS'!H206)","v":""},{"$f":"IF('HOJA DE DATOS'!I206=0,\"\",'HOJA DE DATOS'!I206)","v":""},{"$f":"IF('HOJA DE DATOS'!Q206=0,\"\",'HOJA DE DATOS'!Q206)","v":""},{"$f":"IF('HOJA DE DATOS'!R206=0,\"\",'HOJA DE DATOS'!R206)","v":""},{"$f":"IF('HOJA DE DATOS'!S206=0,\"\",'HOJA DE DATOS'!S206)","v":""},{"$f":"IF('HOJA DE DATOS'!T206=0,\"\",'HOJA DE DATOS'!T206)","v":""},{"$f":"IF('HOJA DE DATOS'!U206=0,\"\",'HOJA DE DATOS'!U206)","v":""},{"$f":"IF('HOJA DE DATOS'!V206=0,\"\",'HOJA DE DATOS'!V206)","v":""},{"$f":"IF('HOJA DE DATOS'!W206=0,\"\",'HOJA DE DATOS'!W206)","v":""},{"$f":"IF('HOJA DE DATOS'!X206=0,\"\",'HOJA DE DATOS'!X206)","v":""},{"$f":"IF('HOJA DE DATOS'!Y206=0,\"\",'HOJA DE DATOS'!Y206)","v":""},{"$f":"IF('HOJA DE DATOS'!P206=0,\"\",'HOJA DE DATOS'!P206)","v":""}]
[null,{"$f":"IF('HOJA DE DATOS'!C207=0,\"\",'HOJA DE DATOS'!C207)","v":""},{"$f":"IF('HOJA DE DATOS'!D207=0,\"\",'HOJA DE DATOS'!D207)","v":""},{"$f":"IF('HOJA DE DATOS'!E207=0,\"\",'HOJA DE DATOS'!E207)","v":""},{"$f":"IF('HOJA DE DATOS'!F207=0,\"\",'HOJA DE DATOS'!F207)","v":""},{"$f":"IF('HOJA DE DATOS'!G207=0,\"\",'HOJA DE DATOS'!G207)","v":""},{"$f":"IF('HOJA DE DATOS'!H207=0,\"\",'HOJA DE DATOS'!H207)","v":""},{"$f":"IF('HOJA DE DATOS'!I207=0,\"\",'HOJA DE DATOS'!I207)","v":""},{"$f":"IF('HOJA DE DATOS'!Q207=0,\"\",'HOJA DE DATOS'!Q207)","v":""},{"$f":"IF('HOJA DE DATOS'!R207=0,\"\",'HOJA DE DATOS'!R207)","v":""},{"$f":"IF('HOJA DE DATOS'!S207=0,\"\",'HOJA DE DATOS'!S207)","v":""},{"$f":"IF('HOJA DE DATOS'!T207=0,\"\",'HOJA DE DATOS'!T207)","v":""},{"$f":"IF('HOJA DE DATOS'!U207=0,\"\",'HOJA DE DATOS'!U207)","v":""},{"$f":"IF('HOJA DE DATOS'!V207=0,\"\",'HOJA DE DATOS'!V207)","v":""},{"$f":"IF('HOJA DE DATOS'!W207=0,\"\",'HOJA DE DATOS'!W207)","v":""},{"$f":"IF('HOJA DE DATOS'!X207=0,\"\",'HOJA DE DATOS'!X207)","v":""},{"$f":"IF('HOJA DE DATOS'!Y207=0,\"\",'HOJA DE DATOS'!Y207)","v":""},{"$f":"IF('HOJA DE DATOS'!P207=0,\"\",'HOJA DE DATOS'!P207)","v":""}]
[null,{"$f":"IF('HOJA DE DATOS'!C208=0,\"\",'HOJA DE DATOS'!C208)","v":""},{"$f":"IF('HOJA DE DATOS'!D208=0,\"\",'HOJA DE DATOS'!D208)","v":""},{"$f":"IF('HOJA DE DATOS'!E208=0,\"\",'HOJA DE DATOS'!E208)","v":""},{"$f":"IF('HOJA DE DATOS'!F208=0,\"\",'HOJA DE DATOS'!F208)","v":""},{"$f":"IF('HOJA DE DATOS'!G208=0,\"\",'HOJA DE DATOS'!G208)","v":""},{"$f":"IF('HOJA DE DATOS'!H208=0,\"\",'HOJA DE DATOS'!H208)","v":""},{"$f":"IF('HOJA DE DATOS'!I208=0,\"\",'HOJA DE DATOS'!I208)","v":""},{"$f":"IF('HOJA DE DATOS'!Q208=0,\"\",'HOJA DE DATOS'!Q208)","v":""},{"$f":"IF('HOJA DE DATOS'!R208=0,\"\",'HOJA DE DATOS'!R208)","v":""},{"$f":"IF('HOJA DE DATOS'!S208=0,\"\",'HOJA DE DATOS'!S208)","v":""},{"$f":"IF('HOJA DE DATOS'!T208=0,\"\",'HOJA DE DATOS'!T208)","v":""},{"$f":"IF('HOJA DE DATOS'!U208=0,\"\",'HOJA DE DATOS'!U208)","v":""},{"$f":"IF('HOJA DE DATOS'!V208=0,\"\",'HOJA DE DATOS'!V208)","v":""},{"$f":"IF('HOJA DE DATOS'!W208=0,\"\",'HOJA DE DATOS'!W208)","v":""},{"$f":"IF('HOJA DE DATOS'!X208=0,\"\",'HOJA DE DATOS'!X208)","v":""},{"$f":"IF('HOJA DE DATOS'!Y208=0,\"\",'HOJA DE DATOS'!Y208)","v":""},{"$f":"IF('HOJA DE DATOS'!P208=0,\"\",'HOJA DE DATOS'!P208)","v":""}]
[null,{"$f":"IF('HOJA DE DATOS'!C209=0,\"\",'HOJA DE DATOS'!C209)","v":""},{"$f":"IF('HOJA DE DATOS'!D209=0,\"\",'HOJA DE DATOS'!D209)","v":""},{"$f":"IF('HOJA DE DATOS'!E209=0,\"\",'HOJA DE DATOS'!E209)","v":""},{"$f":"IF('HOJA DE DATOS'!F209=0,\"\",'HOJA DE DATOS'!F209)","v":""},{"$f":"IF('HOJA DE DATOS'!G209=0,\"\",'HOJA DE DATOS'!G209)","v":""},{"$f":"IF('HOJA DE DATOS'!H209=0,\"\",'HOJA DE DATOS'!H209)","v":""},{"$f":"IF('HOJA DE DATOS'!I209=0,\"\",'HOJA DE DATOS'!I209)","v":""},{"$f":"IF('HOJA DE DATOS'!Q209=0,\"\",'HOJA DE DATOS'!Q209)","v":""},{"$f":"IF('HOJA DE DATOS'!R209=0,\"\",'HOJA DE DATOS'!R209)","v":""},{"$f":"IF('HOJA DE DATOS'!S209=0,\"\",'HOJA DE DATOS'!S209)","v":""},{"$f":"IF('HOJA DE DATOS'!T209=0,\"\",'HOJA DE DATOS'!T209)","v":""},{"$f":"IF('HOJA DE DATOS'!U209=0,\"\",'HOJA DE DATOS'!U209)","v":""},{"$f":"IF('HOJA DE DATOS'!V209=0,\"\",'HOJA DE DATOS'!V209)","v":""},{"$f":"IF('HOJA DE DATOS'!W209=0,\"\",'HOJA DE DATOS'!W209)","v":""},{"$f":"IF('HOJA DE DATOS'!X209=0,\"\",'HOJA DE DATOS'!X209)","v":""},{"$f":"IF('HOJA DE DATOS'!Y209=0,\"\",'HOJA DE DATOS'!Y209)","v":""},{"$f":"IF('HOJA DE DATOS'!P209=0,\"\",'HOJA DE DATOS'!P209)","v":""}]
[null,{"$f":"IF('HOJA DE DATOS'!C210=0,\"\",'HOJA DE DATOS'!C210)","v":""},{"$f":"IF('HOJA DE DATOS'!D210=0,\"\",'HOJA DE DATOS'!D210)","v":""},{"$f":"IF('HOJA DE DATOS'!E210=0,\"\",'HOJA DE DATOS'!E210)","v":""},{"$f":"IF('HOJA DE DATOS'!F210=0,\"\",'HOJA DE DATOS'!F210)","v":""},{"$f":"IF('HOJA DE DATOS'!G210=0,\"\",'HOJA DE DATOS'!G210)","v":""},{"$f":"IF('HOJA DE DATOS'!H210=0,\"\",'HOJA DE DATOS'!H210)","v":""},{"$f":"IF('HOJA DE DATOS'!I210=0,\"\",'HOJA DE DATOS'!I210)","v":""},{"$f":"IF('HOJA DE DATOS'!Q210=0,\"\",'HOJA DE DATOS'!Q210)","v":""},{"$f":"IF('HOJA DE DATOS'!R210=0,\"\",'HOJA DE DATOS'!R210)","v":""},{"$f":"IF('HOJA DE DATOS'!S210=0,\"\",'HOJA DE DATOS'!S210)","v":""},{"$f":"IF('HOJA DE DATOS'!T210=0,\"\",'HOJA DE DATOS'!T210)","v":""},{"$f":"IF('HOJA DE DATOS'!U210=0,\"\",'HOJA DE DATOS'!U210)","v":""},{"$f":"IF('HOJA DE DATOS'!V210=0,\"\",'HOJA DE DATOS'!V210)","v":""},{"$f":"IF('HOJA DE DATOS'!W210=0,\"\",'HOJA DE DATOS'!W210)","v":""},{"$f":"IF('HOJA DE DATOS'!X210=0,\"\",'HOJA DE DATOS'!X210)","v":""},{"$f":"IF('HOJA DE DATOS'!Y210=0,\"\",'HOJA DE DATOS'!Y210)","v":""},{"$f":"IF('HOJA DE DATOS'!P210=0,\"\",'HOJA DE DATOS'!P210)","v":""}]
[null,{"$f":"IF('HOJA DE DATOS'!C211=0,\"\",'HOJA DE DATOS'!C211)","v":""},{"$f":"IF('HOJA DE DATOS'!D211=0,\"\",'HOJA DE DATOS'!D211)","v":""},{"$f":"IF('HOJA DE DATOS'!E211=0,\"\",'HOJA DE DATOS'!E211)","v":""},{"$f":"IF('HOJA DE DATOS'!F211=0,\"\",'HOJA DE DATOS'!F211)","v":""},{"$f":"IF('HOJA DE DATOS'!G211=0,\"\",'HOJA DE DATOS'!G211)","v":""},{"$f":"IF('HOJA DE DATOS'!H211=0,\"\",'HOJA DE DATOS'!H211)","v":""},{"$f":"IF('HOJA DE DATOS'!I211=0,\"\",'HOJA DE DATOS'!I211)","v":""},{"$f":"IF('HOJA DE DATOS'!Q211=0,\"\",'HOJA DE DATOS'!Q211)","v":""},{"$f":"IF('HOJA DE DATOS'!R211=0,\"\",'HOJA DE DATOS'!R211)","v":""},{"$f":"IF('HOJA DE DATOS'!S211=0,\"\",'HOJA DE DATOS'!S211)","v":""},{"$f":"IF('HOJA DE DATOS'!T211=0,\"\",'HOJA DE DATOS'!T211)","v":""},{"$f":"IF('HOJA DE DATOS'!U211=0,\"\",'HOJA DE DATOS'!U211)","v":""},{"$f":"IF('HOJA DE DATOS'!V211=0,\"\",'HOJA DE DATOS'!V211)","v":""},{"$f":"IF('HOJA DE DATOS'!W211=0,\"\",'HOJA DE DATOS'!W211)","v":""},{"$f":"IF('HOJA DE DATOS'!X211=0,\"\",'HOJA DE DATOS'!X211)","v":""},{"$f":"IF('HOJA DE DATOS'!Y211=0,\"\",'HOJA DE DATOS'!Y211)","v":""},{"$f":"IF('HOJA DE DATOS'!P211=0,\"\",'HOJA DE DATOS'!P211)","v":""}]
[null,{"$f":"IF('HOJA DE DATOS'!C212=0,\"\",'HOJA DE DATOS'!C212)","v":""},{"$f":"IF('HOJA DE DATOS'!D212=0,\"\",'HOJA DE DATOS'!D212)","v":""},{"$f":"IF('HOJA DE DATOS'!E212=0,\"\",'HOJA DE DATOS'!E212)","v":""},{"$f":"IF('HOJA DE DATOS'!F212=0,\"\",'HOJA DE DATOS'!F212)","v":""},{"$f":"IF('HOJA DE DATOS'!G212=0,\"\",'HOJA DE DATOS'!G212)","v":""},{"$f":"IF('HOJA DE DATOS'!H212=0,\"\",'HOJA DE DATOS'!H212)","v":""},{"$f":"IF('HOJA DE DATOS'!I212=0,\"\",'HOJA DE DATOS'!I212)","v":""},{"$f":"IF('HOJA DE DATOS'!Q212=0,\"\",'HOJA DE DATOS'!Q212)","v":""},{"$f":"IF('HOJA DE DATOS'!R212=0,\"\",'HOJA DE DATOS'!R212)","v":""},{"$f":"IF('HOJA DE DATOS'!S212=0,\"\",'HOJA DE DATOS'!S212)","v":""},{"$f":"IF('HOJA DE DATOS'!T212=0,\"\",'HOJA DE DATOS'!T212)","v":""},{"$f":"IF('HOJA DE DATOS'!U212=0,\"\",'HOJA DE DATOS'!U212)","v":""},{"$f":"IF('HOJA DE DATOS'!V212=0,\"\",'HOJA DE DATOS'!V212)","v":""},{"$f":"IF('HOJA DE DATOS'!W212=0,\"\",'HOJA DE DATOS'!W212)","v":""},{"$f":"IF('HOJA DE DATOS'!X212=0,\"\",'HOJA DE DATOS'!X212)","v":""},{"$f":"IF('HOJA DE DATOS'!Y212=0,\"\",'HOJA DE DATOS'!Y212)","v":""},{"$f":"IF('HOJA DE DATOS'!P212=0,\"\",'HOJA DE DATOS'!P212)","v":""}]
[null,{"$f":"IF('HOJA DE DATOS'!C213=0,\"\",'HOJA DE DATOS'!C213)","v":""},{"$f":"IF('HOJA DE DATOS'!D213=0,\"\",'HOJA DE DATOS'!D213)","v":""},{"$f":"IF('HOJA DE DATOS'!E213=0,\"\",'HOJA DE DATOS'!E213)","v":""},{"$f":"IF('HOJA DE DATOS'!F213=0,\"\",'HOJA DE DATOS'!F213)","v":""},{"$f":"IF('HOJA DE DATOS'!G213=0,\"\",'HOJA DE DATOS'!G213)","v":""},{"$f":"IF('HOJA DE DATOS'!H213=0,\"\",'HOJA DE DATOS'!H213)","v":""},{"$f":"IF('HOJA DE DATOS'!I213=0,\"\",'HOJA DE DATOS'!I213)","v":""},{"$f":"IF('HOJA DE DATOS'!Q213=0,\"\",'HOJA DE DATOS'!Q213)","v":""},{"$f":"IF('HOJA DE DATOS'!R213=0,\"\",'HOJA DE DATOS'!R213)","v":""},{"$f":"IF('HOJA DE DATOS'!S213=0,\"\",'HOJA DE DATOS'!S213)","v":""},{"$f":"IF('HOJA DE DATOS'!T213=0,\"\",'HOJA DE DATOS'!T213)","v":""},{"$f":"IF('HOJA DE DATOS'!U213=0,\"\",'HOJA DE DATOS'!U213)","v":""},{"$f":"IF('HOJA DE DATOS'!V213=0,\"\",'HOJA DE DATOS'!V213)","v":""},{"$f":"IF('HOJA DE DATOS'!W213=0,\"\",'HOJA DE DATOS'!W213)","v":""},{"$f":"IF('HOJA DE DATOS'!X213=0,\"\",'HOJA DE DATOS'!X213)","v":""},{"$f":"IF('HOJA DE DATOS'!Y213=0,\"\",'HOJA DE DATOS'!Y213)","v":""},{"$f":"IF('HOJA DE DATOS'!P213=0,\"\",'HOJA DE DATOS'!P213)","v":""}]
[null,{"$f":"IF('HOJA DE DATOS'!C214=0,\"\",'HOJA DE DATOS'!C214)","v":""},{"$f":"IF('HOJA DE DATOS'!D214=0,\"\",'HOJA DE DATOS'!D214)","v":""},{"$f":"IF('HOJA DE DATOS'!E214=0,\"\",'HOJA DE DATOS'!E214)","v":""},{"$f":"IF('HOJA DE DATOS'!F214=0,\"\",'HOJA DE DATOS'!F214)","v":""},{"$f":"IF('HOJA DE DATOS'!G214=0,\"\",'HOJA DE DATOS'!G214)","v":""},{"$f":"IF('HOJA DE DATOS'!H214=0,\"\",'HOJA DE DATOS'!H214)","v":""},{"$f":"IF('HOJA DE DATOS'!I214=0,\"\",'HOJA DE DATOS'!I214)","v":""},{"$f":"IF('HOJA DE DATOS'!Q214=0,\"\",'HOJA DE DATOS'!Q214)","v":""},{"$f":"IF('HOJA DE DATOS'!R214=0,\"\",'HOJA DE DATOS'!R214)","v":""},{"$f":"IF('HOJA DE DATOS'!S214=0,\"\",'HOJA DE DATOS'!S214)","v":""},{"$f":"IF('HOJA DE DATOS'!T214=0,\"\",'HOJA DE DATOS'!T214)","v":""},{"$f":"IF('HOJA DE DATOS'!U214=0,\"\",'HOJA DE DATOS'!U214)","v":""},{"$f":"IF('HOJA DE DATOS'!V214=0,\"\",'HOJA DE DATOS'!V214)","v":""},{"$f":"IF('HOJA DE DATOS'!W214=0,\"\",'HOJA DE DATOS'!W214)","v":""},{"$f":"IF('HOJA DE DATOS'!X214=0,\"\",'HOJA DE DATOS'!X214)","v":""},{"$f":"IF('HOJA DE DATOS'!Y214=0,\"\",'HOJA DE DATOS'!Y214)","v":""},{"$f":"IF('HOJA DE DATOS'!P214=0,\"\",'HOJA DE DATOS'!P214)","v":""}]
[null,{"$f":"IF('HOJA DE DATOS'!C215=0,\"\",'HOJA DE DATOS'!C215)","v":""},{"$f":"IF('HOJA DE DATOS'!D215=0,\"\",'HOJA DE DATOS'!D215)","v":""},{"$f":"IF('HOJA DE DATOS'!E215=0,\"\",'HOJA DE DATOS'!E215)","v":""},{"$f":"IF('HOJA DE DATOS'!F215=0,\"\",'HOJA DE DATOS'!F215)","v":""},{"$f":"IF('HOJA DE DATOS'!G215=0,\"\",'HOJA DE DATOS'!G215)","v":""},{"$f":"IF('HOJA DE DATOS'!H215=0,\"\",'HOJA DE DATOS'!H215)","v":""},{"$f":"IF('HOJA DE DATOS'!I215=0,\"\",'HOJA DE DATOS'!I215)","v":""},{"$f":"IF('HOJA DE DATOS'!Q215=0,\"\",'HOJA DE DATOS'!Q215)","v":""},{"$f":"IF('HOJA DE DATOS'!R215=0,\"\",'HOJA DE DATOS'!R215)","v":""},{"$f":"IF('HOJA DE DATOS'!S215=0,\"\",'HOJA DE DATOS'!S215)","v":""},{"$f":"IF('HOJA DE DATOS'!T215=0,\"\",'HOJA DE DATOS'!T215)","v":""},{"$f":"IF('HOJA DE DATOS'!U215=0,\"\",'HOJA DE DATOS'!U215)","v":""},{"$f":"IF('HOJA DE DATOS'!V215=0,\"\",'HOJA DE DATOS'!V215)","v":""},{"$f":"IF('HOJA DE DATOS'!W215=0,\"\",'HOJA DE DATOS'!W215)","v":""},{"$f":"IF('HOJA DE DATOS'!X215=0,\"\",'HOJA DE DATOS'!X215)","v":""},{"$f":"IF('HOJA DE DATOS'!Y215=0,\"\",'HOJA DE DATOS'!Y215)","v":""},{"$f":"IF('HOJA DE DATOS'!P215=0,\"\",'HOJA DE DATOS'!P215)","v":""}]
[null,{"$f":"IF('HOJA DE DATOS'!C216=0,\"\",'HOJA DE DATOS'!C216)","v":""},{"$f":"IF('HOJA DE DATOS'!D216=0,\"\",'HOJA DE DATOS'!D216)","v":""},{"$f":"IF('HOJA DE DATOS'!E216=0,\"\",'HOJA DE DATOS'!E216)","v":""},{"$f":"IF('HOJA DE DATOS'!F216=0,\"\",'HOJA DE DATOS'!F216)","v":""},{"$f":"IF('HOJA DE DATOS'!G216=0,\"\",'HOJA DE DATOS'!G216)","v":""},{"$f":"IF('HOJA DE DATOS'!H216=0,\"\",'HOJA DE DATOS'!H216)","v":""},{"$f":"IF('HOJA DE DATOS'!I216=0,\"\",'HOJA DE DATOS'!I216)","v":""},{"$f":"IF('HOJA DE DATOS'!Q216=0,\"\",'HOJA DE DATOS'!Q216)","v":""},{"$f":"IF('HOJA DE DATOS'!R216=0,\"\",'HOJA DE DATOS'!R216)","v":""},{"$f":"IF('HOJA DE DATOS'!S216=0,\"\",'HOJA DE DATOS'!S216)","v":""},{"$f":"IF('HOJA DE DATOS'!T216=0,\"\",'HOJA DE DATOS'!T216)","v":""},{"$f":"IF('HOJA DE DATOS'!U216=0,\"\",'HOJA DE DATOS'!U216)","v":""},{"$f":"IF('HOJA DE DATOS'!V216=0,\"\",'HOJA DE DATOS'!V216)","v":""},{"$f":"IF('HOJA DE DATOS'!W216=0,\"\",'HOJA DE DATOS'!W216)","v":""},{"$f":"IF('HOJA DE DATOS'!X216=0,\"\",'HOJA DE DATOS'!X216)","v":""},{"$f":"IF('HOJA DE DATOS'!Y216=0,\"\",'HOJA DE DATOS'!Y216)","v":""},{"$f":"IF('HOJA DE DATOS'!P216=0,\"\",'HOJA DE DATOS'!P216)","v":""}]
[null,{"$f":"IF('HOJA DE DATOS'!C217=0,\"\",'HOJA DE DATOS'!C217)","v":""},{"$f":"IF('HOJA DE DATOS'!D217=0,\"\",'HOJA DE DATOS'!D217)","v":""},{"$f":"IF('HOJA DE DATOS'!E217=0,\"\",'HOJA DE DATOS'!E217)","v":""},{"$f":"IF('HOJA DE DATOS'!F217=0,\"\",'HOJA DE DATOS'!F217)","v":""},{"$f":"IF('HOJA DE DATOS'!G217=0,\"\",'HOJA DE DATOS'!G217)","v":""},{"$f":"IF('HOJA DE DATOS'!H217=0,\"\",'HOJA DE DATOS'!H217)","v":""},{"$f":"IF('HOJA DE DATOS'!I217=0,\"\",'HOJA DE DATOS'!I217)","v":""},{"$f":"IF('HOJA DE DATOS'!Q217=0,\"\",'HOJA DE DATOS'!Q217)","v":""},{"$f":"IF('HOJA DE DATOS'!R217=0,\"\",'HOJA DE DATOS'!R217)","v":""},{"$f":"IF('HOJA DE DATOS'!S217=0,\"\",'HOJA DE DATOS'!S217)","v":""},{"$f":"IF('HOJA DE DATOS'!T217=0,\"\",'HOJA DE DATOS'!T217)","v":""},{"$f":"IF('HOJA DE DATOS'!U217=0,\"\",'HOJA DE DATOS'!U217)","v":""},{"$f":"IF('HOJA DE DATOS'!V217=0,\"\",'HOJA DE DATOS'!V217)","v":""},{"$f":"IF('HOJA DE DATOS'!W217=0,\"\",'HOJA DE DATOS'!W217)","v":""},{"$f":"IF('HOJA DE DATOS'!X217=0,\"\",'HOJA DE DATOS'!X217)","v":""},{"$f":"IF('HOJA DE DATOS'!Y217=0,\"\",'HOJA DE DATOS'!Y217)","v":""},{"$f":"IF('HOJA DE DATOS'!P217=0,\"\",'HOJA DE DATOS'!P217)","v":""}]
[null,{"$f":"IF('HOJA DE DATOS'!C218=0,\"\",'HOJA DE DATOS'!C218)","v":""},{"$f":"IF('HOJA DE DATOS'!D218=0,\"\",'HOJA DE DATOS'!D218)","v":""},{"$f":"IF('HOJA DE DATOS'!E218=0,\"\",'HOJA DE DATOS'!E218)","v":""},{"$f":"IF('HOJA DE DATOS'!F218=0,\"\",'HOJA DE DATOS'!F218)","v":""},{"$f":"IF('HOJA DE DATOS'!G218=0,\"\",'HOJA DE DATOS'!G218)","v":""},{"$f":"IF('HOJA DE DATOS'!H218=0,\"\",'HOJA DE DATOS'!H218)","v":""},{"$f":"IF('HOJA DE DATOS'!I218=0,\"\",'HOJA DE DATOS'!I218)","v":""},{"$f":"IF('HOJA DE DATOS'!Q218=0,\"\",'HOJA DE DATOS'!Q218)","v":""},{"$f":"IF('HOJA DE DATOS'!R218=0,\"\",'HOJA DE DATOS'!R218)","v":""},{"$f":"IF('HOJA DE DATOS'!S218=0,\"\",'HOJA DE DATOS'!S218)","v":""},{"$f":"IF('HOJA DE DATOS'!T218=0,\"\",'HOJA DE DATOS'!T218)","v":""},{"$f":"IF('HOJA DE DATOS'!U218=0,\"\",'HOJA DE DATOS'!U218)","v":""},{"$f":"IF('HOJA DE DATOS'!V218=0,\"\",'HOJA DE DATOS'!V218)","v":""},{"$f":"IF('HOJA DE DATOS'!W218=0,\"\",'HOJA DE DATOS'!W218)","v":""},{"$f":"IF('HOJA DE DATOS'!X218=0,\"\",'HOJA DE DATOS'!X218)","v":""},{"$f":"IF('HOJA DE DATOS'!Y218=0,\"\",'HOJA DE DATOS'!Y218)","v":""},{"$f":"IF('HOJA DE DATOS'!P218=0,\"\",'HOJA DE DATOS'!P218)","v":""}]
[null,{"$f":"IF('HOJA DE DATOS'!C219=0,\"\",'HOJA DE DATOS'!C219)","v":""},{"$f":"IF('HOJA DE DATOS'!D219=0,\"\",'HOJA DE DATOS'!D219)","v":""},{"$f":"IF('HOJA DE DATOS'!E219=0,\"\",'HOJA DE DATOS'!E219)","v":""},{"$f":"IF('HOJA DE DATOS'!F219=0,\"\",'HOJA DE DATOS'!F219)","v":""},{"$f":"IF('HOJA DE DATOS'!G219=0,\"\",'HOJA DE DATOS'!G219)","v":""},{"$f":"IF('HOJA DE DATOS'!H219=0,\"\",'HOJA DE DATOS'!H219)","v":""},{"$f":"IF('HOJA DE DATOS'!I219=0,\"\",'HOJA DE DATOS'!I219)","v":""},{"$f":"IF('HOJA DE DATOS'!Q219=0,\"\",'HOJA DE DATOS'!Q219)","v":""},{"$f":"IF('HOJA DE DATOS'!R219=0,\"\",'HOJA DE DATOS'!R219)","v":""},{"$f":"IF('HOJA DE DATOS'!S219=0,\"\",'HOJA DE DATOS'!S219)","v":""},{"$f":"IF('HOJA DE DATOS'!T219=0,\"\",'HOJA DE DATOS'!T219)","v":""},{"$f":"IF('HOJA DE DATOS'!U219=0,\"\",'HOJA DE DATOS'!U219)","v":""},{"$f":"IF('HOJA DE DATOS'!V219=0,\"\",'HOJA DE DATOS'!V219)","v":""},{"$f":"IF('HOJA DE DATOS'!W219=0,\"\",'HOJA DE DATOS'!W219)","v":""},{"$f":"IF('HOJA DE DATOS'!X219=0,\"\",'HOJA DE DATOS'!X219)","v":""},{"$f":"IF('HOJA DE DATOS'!Y219=0,\"\",'HOJA DE DATOS'!Y219)","v":""},{"$f":"IF('HOJA DE DATOS'!P219=0,\"\",'HOJA DE DATOS'!P219)","v":""}]
[null,{"$f":"IF('HOJA DE DATOS'!C220=0,\"\",'HOJA DE DATOS'!C220)","v":""},{"$f":"IF('HOJA DE DATOS'!D220=0,\"\",'HOJA DE DATOS'!D220)","v":""},{"$f":"IF('HOJA DE DATOS'!E220=0,\"\",'HOJA DE DATOS'!E220)","v":""},{"$f":"IF('HOJA DE DATOS'!F220=0,\"\",'HOJA DE DATOS'!F220)","v":""},{"$f":"IF('HOJA DE DATOS'!G220=0,\"\",'HOJA DE DATOS'!G220)","v":""},{"$f":"IF('HOJA DE DATOS'!H220=0,\"\",'HOJA DE DATOS'!H220)","v":""},{"$f":"IF('HOJA DE DATOS'!I220=0,\"\",'HOJA DE DATOS'!I220)","v":""},{"$f":"IF('HOJA DE DATOS'!Q220=0,\"\",'HOJA DE DATOS'!Q220)","v":""},{"$f":"IF('HOJA DE DATOS'!R220=0,\"\",'HOJA DE DATOS'!R220)","v":""},{"$f":"IF('HOJA DE DATOS'!S220=0,\"\",'HOJA DE DATOS'!S220)","v":""},{"$f":"IF('HOJA DE DATOS'!T220=0,\"\",'HOJA DE DATOS'!T220)","v":""},{"$f":"IF('HOJA DE DATOS'!U220=0,\"\",'HOJA DE DATOS'!U220)","v":""},{"$f":"IF('HOJA DE DATOS'!V220=0,\"\",'HOJA DE DATOS'!V220)","v":""},{"$f":"IF('HOJA DE DATOS'!W220=0,\"\",'HOJA DE DATOS'!W220)","v":""},{"$f":"IF('HOJA DE DATOS'!X220=0,\"\",'HOJA DE DATOS'!X220)","v":""},{"$f":"IF('HOJA DE DATOS'!Y220=0,\"\",'HOJA DE DATOS'!Y220)","v":""},{"$f":"IF('HOJA DE DATOS'!P220=0,\"\",'HOJA DE DATOS'!P220)","v":""}]
[null,{"$f":"IF('HOJA DE DATOS'!C221=0,\"\",'HOJA DE DATOS'!C221)","v":""},{"$f":"IF('HOJA DE DATOS'!D221=0,\"\",'HOJA DE DATOS'!D221)","v":""},{"$f":"IF('HOJA DE DATOS'!E221=0,\"\",'HOJA DE DATOS'!E221)","v":""},{"$f":"IF('HOJA DE DATOS'!F221=0,\"\",'HOJA DE DATOS'!F221)","v":""},{"$f":"IF('HOJA DE DATOS'!G221=0,\"\",'HOJA DE DATOS'!G221)","v":""},{"$f":"IF('HOJA DE DATOS'!H221=0,\"\",'HOJA DE DATOS'!H221)","v":""},{"$f":"IF('HOJA DE DATOS'!I221=0,\"\",'HOJA DE DATOS'!I221)","v":""},{"$f":"IF('HOJA DE DATOS'!Q221=0,\"\",'HOJA DE DATOS'!Q221)","v":""},{"$f":"IF('HOJA DE DATOS'!R221=0,\"\",'HOJA DE DATOS'!R221)","v":""},{"$f":"IF('HOJA DE DATOS'!S221=0,\"\",'HOJA DE DATOS'!S221)","v":""},{"$f":"IF('HOJA DE DATOS'!T221=0,\"\",'HOJA DE DATOS'!T221)","v":""},{"$f":"IF('HOJA DE DATOS'!U221=0,\"\",'HOJA DE DATOS'!U221)","v":""},{"$f":"IF('HOJA DE DATOS'!V221=0,\"\",'HOJA DE DATOS'!V221)","v":""},{"$f":"IF('HOJA DE DATOS'!W221=0,\"\",'HOJA DE DATOS'!W221)","v":""},{"$f":"IF('HOJA DE DATOS'!X221=0,\"\",'HOJA DE DATOS'!X221)","v":""},{"$f":"IF('HOJA DE DATOS'!Y221=0,\"\",'HOJA DE DATOS'!Y221)","v":""},{"$f":"IF('HOJA DE DATOS'!P221=0,\"\",'HOJA DE DATOS'!P221)","v":""}]
[null,{"$f":"IF('HOJA DE DATOS'!C222=0,\"\",'HOJA DE DATOS'!C222)","v":""},{"$f":"IF('HOJA DE DATOS'!D222=0,\"\",'HOJA DE DATOS'!D222)","v":""},{"$f":"IF('HOJA DE DATOS'!E222=0,\"\",'HOJA DE DATOS'!E222)","v":""},{"$f":"IF('HOJA DE DATOS'!F222=0,\"\",'HOJA DE DATOS'!F222)","v":""},{"$f":"IF('HOJA DE DATOS'!G222=0,\"\",'HOJA DE DATOS'!G222)","v":""},{"$f":"IF('HOJA DE DATOS'!H222=0,\"\",'HOJA DE DATOS'!H222)","v":""},{"$f":"IF('HOJA DE DATOS'!I222=0,\"\",'HOJA DE DATOS'!I222)","v":""},{"$f":"IF('HOJA DE DATOS'!Q222=0,\"\",'HOJA DE DATOS'!Q222)","v":""},{"$f":"IF('HOJA DE DATOS'!R222=0,\"\",'HOJA DE DATOS'!R222)","v":""},{"$f":"IF('HOJA DE DATOS'!S222=0,\"\",'HOJA DE DATOS'!S222)","v":""},{"$f":"IF('HOJA DE DATOS'!T222=0,\"\",'HOJA DE DATOS'!T222)","v":""},{"$f":"IF('HOJA DE DATOS'!U222=0,\"\",'HOJA DE DATOS'!U222)","v":""},{"$f":"IF('HOJA DE DATOS'!V222=0,\"\",'HOJA DE DATOS'!V222)","v":""},{"$f":"IF('HOJA DE DATOS'!W222=0,\"\",'HOJA DE DATOS'!W222)","v":""},{"$f":"IF('HOJA DE DATOS'!X222=0,\"\",'HOJA DE DATOS'!X222)","v":""},{"$f":"IF('HOJA DE DATOS'!Y222=0,\"\",'HOJA DE DATOS'!Y222)","v":""},{"$f":"IF('HOJA DE DATOS'!P222=0,\"\",'HOJA DE DATOS'!P222)","v":""}]
[null,{"$f":"IF('HOJA DE DATOS'!C223=0,\"\",'HOJA DE DATOS'!C223)","v":""},{"$f":"IF('HOJA DE DATOS'!D223=0,\"\",'HOJA DE DATOS'!D223)","v":""},{"$f":"IF('HOJA DE DATOS'!E223=0,\"\",'HOJA DE DATOS'!E223)","v":""},{"$f":"IF('HOJA DE DATOS'!F223=0,\"\",'HOJA DE DATOS'!F223)","v":""},{"$f":"IF('HOJA DE DATOS'!G223=0,\"\",'HOJA DE DATOS'!G223)","v":""},{"$f":"IF('HOJA DE DATOS'!H223=0,\"\",'HOJA DE DATOS'!H223)","v":""},{"$f":"IF('HOJA DE DATOS'!I223=0,\"\",'HOJA DE DATOS'!I223)","v":""},{"$f":"IF('HOJA DE DATOS'!Q223=0,\"\",'HOJA DE DATOS'!Q223)","v":""},{"$f":"IF('HOJA DE DATOS'!R223=0,\"\",'HOJA DE DATOS'!R223)","v":""},{"$f":"IF('HOJA DE DATOS'!S223=0,\"\",'HOJA DE DATOS'!S223)","v":""},{"$f":"IF('HOJA DE DATOS'!T223=0,\"\",'HOJA DE DATOS'!T223)","v":""},{"$f":"IF('HOJA DE DATOS'!U223=0,\"\",'HOJA DE DATOS'!U223)","v":""},{"$f":"IF('HOJA DE DATOS'!V223=0,\"\",'HOJA DE DATOS'!V223)","v":""},{"$f":"IF('HOJA DE DATOS'!W223=0,\"\",'HOJA DE DATOS'!W223)","v":""},{"$f":"IF('HOJA DE DATOS'!X223=0,\"\",'HOJA DE DATOS'!X223)","v":""},{"$f":"IF('HOJA DE DATOS'!Y223=0,\"\",'HOJA DE DATOS'!Y223)","v":""},{"$f":"IF('HOJA DE DATOS'!P223=0,\"\",'HOJA DE DATOS'!P223)","v":""}]
[null,{"$f":"IF('HOJA DE DATOS'!C224=0,\"\",'HOJA DE DATOS'!C224)","v":""},{"$f":"IF('HOJA DE DATOS'!D224=0,\"\",'HOJA DE DATOS'!D224)","v":""},{"$f":"IF('HOJA DE DATOS'!E224=0,\"\",'HOJA DE DATOS'!E224)","v":""},{"$f":"IF('HOJA DE DATOS'!F224=0,\"\",'HOJA DE DATOS'!F224)","v":""},{"$f":"IF('HOJA DE DATOS'!G224=0,\"\",'HOJA DE DATOS'!G224)","v":""},{"$f":"IF('HOJA DE DATOS'!H224=0,\"\",'HOJA DE DATOS'!H224)","v":""},{"$f":"IF('HOJA DE DATOS'!I224=0,\"\",'HOJA DE DATOS'!I224)","v":""},{"$f":"IF('HOJA DE DATOS'!Q224=0,\"\",'HOJA DE DATOS'!Q224)","v":""},{"$f":"IF('HOJA DE DATOS'!R224=0,\"\",'HOJA DE DATOS'!R224)","v":""},{"$f":"IF('HOJA DE DATOS'!S224=0,\"\",'HOJA DE DATOS'!S224)","v":""},{"$f":"IF('HOJA DE DATOS'!T224=0,\"\",'HOJA DE DATOS'!T224)","v":""},{"$f":"IF('HOJA DE DATOS'!U224=0,\"\",'HOJA DE DATOS'!U224)","v":""},{"$f":"IF('HOJA DE DATOS'!V224=0,\"\",'HOJA DE DATOS'!V224)","v":""},{"$f":"IF('HOJA DE DATOS'!W224=0,\"\",'HOJA DE DATOS'!W224)","v":""},{"$f":"IF('HOJA DE DATOS'!X224=0,\"\",'HOJA DE DATOS'!X224)","v":""},{"$f":"IF('HOJA DE DATOS'!Y224=0,\"\",'HOJA DE DATOS'!Y224)","v":""},{"$f":"IF('HOJA DE DATOS'!P224=0,\"\",'HOJA DE DATOS'!P224)","v":""}]
[null,{"$f":"IF('HOJA DE DATOS'!C225=0,\"\",'HOJA DE DATOS'!C225)","v":""},{"$f":"IF('HOJA DE DATOS'!D225=0,\"\",'HOJA DE DATOS'!D225)","v":""},{"$f":"IF('HOJA DE DATOS'!E225=0,\"\",'HOJA DE DATOS'!E225)","v":""},{"$f":"IF('HOJA DE DATOS'!F225=0,\"\",'HOJA DE DATOS'!F225)","v":""},{"$f":"IF('HOJA DE DATOS'!G225=0,\"\",'HOJA DE DATOS'!G225)","v":""},{"$f":"IF('HOJA DE DATOS'!H225=0,\"\",'HOJA DE DATOS'!H225)","v":""},{"$f":"IF('HOJA DE DATOS'!I225=0,\"\",'HOJA DE DATOS'!I225)","v":""},{"$f":"IF('HOJA DE DATOS'!Q225=0,\"\",'HOJA DE DATOS'!Q225)","v":""},{"$f":"IF('HOJA DE DATOS'!R225=0,\"\",'HOJA DE DATOS'!R225)","v":""},{"$f":"IF('HOJA DE DATOS'!S225=0,\"\",'HOJA DE DATOS'!S225)","v":""},{"$f":"IF('HOJA DE DATOS'!T225=0,\"\",'HOJA DE DATOS'!T225)","v":""},{"$f":"IF('HOJA DE DATOS'!U225=0,\"\",'HOJA DE DATOS'!U225)","v":""},{"$f":"IF('HOJA DE DATOS'!V225=0,\"\",'HOJA DE DATOS'!V225)","v":""},{"$f":"IF('HOJA DE DATOS'!W225=0,\"\",'HOJA DE DATOS'!W225)","v":""},{"$f":"IF('HOJA DE DATOS'!X225=0,\"\",'HOJA DE DATOS'!X225)","v":""},{"$f":"IF('HOJA DE DATOS'!Y225=0,\"\",'HOJA DE DATOS'!Y225)","v":""},{"$f":"IF('HOJA DE DATOS'!P225=0,\"\",'HOJA DE DATOS'!P225)","v":""}]
[null,{"$f":"IF('HOJA DE DATOS'!C226=0,\"\",'HOJA DE DATOS'!C226)","v":""},{"$f":"IF('HOJA DE DATOS'!D226=0,\"\",'HOJA DE DATOS'!D226)","v":""},{"$f":"IF('HOJA DE DATOS'!E226=0,\"\",'HOJA DE DATOS'!E226)","v":""},{"$f":"IF('HOJA DE DATOS'!F226=0,\"\",'HOJA DE DATOS'!F226)","v":""},{"$f":"IF('HOJA DE DATOS'!G226=0,\"\",'HOJA DE DATOS'!G226)","v":""},{"$f":"IF('HOJA DE DATOS'!H226=0,\"\",'HOJA DE DATOS'!H226)","v":""},{"$f":"IF('HOJA DE DATOS'!I226=0,\"\",'HOJA DE DATOS'!I226)","v":""},{"$f":"IF('HOJA DE DATOS'!Q226=0,\"\",'HOJA DE DATOS'!Q226)","v":""},{"$f":"IF('HOJA DE DATOS'!R226=0,\"\",'HOJA DE DATOS'!R226)","v":""},{"$f":"IF('HOJA DE DATOS'!S226=0,\"\",'HOJA DE DATOS'!S226)","v":""},{"$f":"IF('HOJA DE DATOS'!T226=0,\"\",'HOJA DE DATOS'!T226)","v":""},{"$f":"IF('HOJA DE DATOS'!U226=0,\"\",'HOJA DE DATOS'!U226)","v":""},{"$f":"IF('HOJA DE DATOS'!V226=0,\"\",'HOJA DE DATOS'!V226)","v":""},{"$f":"IF('HOJA DE DATOS'!W226=0,\"\",'HOJA DE DATOS'!W226)","v":""},{"$f":"IF('HOJA DE DATOS'!X226=0,\"\",'HOJA DE DATOS'!X226)","v":""},{"$f":"IF('HOJA DE DATOS'!Y226=0,\"\",'HOJA DE DATOS'!Y226)","v":""},{"$f":"IF('HOJA DE DATOS'!P226=0,\"\",'HOJA DE DATOS'!P226)","v":""}]
[null,{"$f":"IF('HOJA DE DATOS'!C227=0,\"\",'HOJA DE DATOS'!C227)","v":""},{"$f":"IF('HOJA DE DATOS'!D227=0,\"\",'HOJA DE DATOS'!D227)","v":""},{"$f":"IF('HOJA DE DATOS'!E227=0,\"\",'HOJA DE DATOS'!E227)","v":""},{"$f":"IF('HOJA DE DATOS'!F227=0,\"\",'HOJA DE DATOS'!F227)","v":""},{"$f":"IF('HOJA DE DATOS'!G227=0,\"\",'HOJA DE DATOS'!G227)","v":""},{"$f":"IF('HOJA DE DATOS'!H227=0,\"\",'HOJA DE DATOS'!H227)","v":""},{"$f":"IF('HOJA DE DATOS'!I227=0,\"\",'HOJA DE DATOS'!I227)","v":""},{"$f":"IF('HOJA DE DATOS'!Q227=0,\"\",'HOJA DE DATOS'!Q227)","v":""},{"$f":"IF('HOJA DE DATOS'!R227=0,\"\",'HOJA DE DATOS'!R227)","v":""},{"$f":"IF('HOJA DE DATOS'!S227=0,\"\",'HOJA DE DATOS'!S227)","v":""},{"$f":"IF('HOJA DE DATOS'!T227=0,\"\",'HOJA DE DATOS'!T227)","v":""},{"$f":"IF('HOJA DE DATOS'!U227=0,\"\",'HOJA DE DATOS'!U227)","v":""},{"$f":"IF('HOJA DE DATOS'!V227=0,\"\",'HOJA DE DATOS'!V227)","v":""},{"$f":"IF('HOJA DE DATOS'!W227=0,\"\",'HOJA DE DATOS'!W227)","v":""},{"$f":"IF('HOJA DE DATOS'!X227=0,\"\",'HOJA DE DATOS'!X227)","v":""},{"$f":"IF('HOJA DE DATOS'!Y227=0,\"\",'HOJA DE DATOS'!Y227)","v":""},{"$f":"IF('HOJA DE DATOS'!P227=0,\"\",'HOJA DE DATOS'!P227)","v":""}]
[null,{"$f":"IF('HOJA DE DATOS'!C228=0,\"\",'HOJA DE DATOS'!C228)","v":""},{"$f":"IF('HOJA DE DATOS'!D228=0,\"\",'HOJA DE DATOS'!D228)","v":""},{"$f":"IF('HOJA DE DATOS'!E228=0,\"\",'HOJA DE DATOS'!E228)","v":""},{"$f":"IF('HOJA DE DATOS'!F228=0,\"\",'HOJA DE DATOS'!F228)","v":""},{"$f":"IF('HOJA DE DATOS'!G228=0,\"\",'HOJA DE DATOS'!G228)","v":""},{"$f":"IF('HOJA DE DATOS'!H228=0,\"\",'HOJA DE DATOS'!H228)","v":""},{"$f":"IF('HOJA DE DATOS'!I228=0,\"\",'HOJA DE DATOS'!I228)","v":""},{"$f":"IF('HOJA DE DATOS'!Q228=0,\"\",'HOJA DE DATOS'!Q228)","v":""},{"$f":"IF('HOJA DE DATOS'!R228=0,\"\",'HOJA DE DATOS'!R228)","v":""},{"$f":"IF('HOJA DE DATOS'!S228=0,\"\",'HOJA DE DATOS'!S228)","v":""},{"$f":"IF('HOJA DE DATOS'!T228=0,\"\",'HOJA DE DATOS'!T228)","v":""},{"$f":"IF('HOJA DE DATOS'!U228=0,\"\",'HOJA DE DATOS'!U228)","v":""},{"$f":"IF('HOJA DE DATOS'!V228=0,\"\",'HOJA DE DATOS'!V228)","v":""},{"$f":"IF('HOJA DE DATOS'!W228=0,\"\",'HOJA DE DATOS'!W228)","v":""},{"$f":"IF('HOJA DE DATOS'!X228=0,\"\",'HOJA DE DATOS'!X228)","v":""},{"$f":"IF('HOJA DE DATOS'!Y228=0,\"\",'HOJA DE DATOS'!Y228)","v":""},{"$f":"IF('HOJA DE DATOS'!P228=0,\"\",'HOJA DE DATOS'!P228)","v":""}]
[null,{"$f":"IF('HOJA DE DATOS'!C229=0,\"\",'HOJA DE DATOS'!C229)","v":""},{"$f":"IF('HOJA DE DATOS'!D229=0,\"\",'HOJA DE DATOS'!D229)","v":""},{"$f":"IF('HOJA DE DATOS'!E229=0,\"\",'HOJA DE DATOS'!E229)","v":""},{"$f":"IF('HOJA DE DATOS'!F229=0,\"\",'HOJA DE DATOS'!F229)","v":""},{"$f":"IF('HOJA DE DATOS'!G229=0,\"\",'HOJA DE DATOS'!G229)","v":""},{"$f":"IF('HOJA DE DATOS'!H229=0,\"\",'HOJA DE DATOS'!H229)","v":""},{"$f":"IF('HOJA DE DATOS'!I229=0,\"\",'HOJA DE DATOS'!I229)","v":""},{"$f":"IF('HOJA DE DATOS'!Q229=0,\"\",'HOJA DE DATOS'!Q229)","v":""},{"$f":"IF('HOJA DE DATOS'!R229=0,\"\",'HOJA DE DATOS'!R229)","v":""},{"$f":"IF('HOJA DE DATOS'!S229=0,\"\",'HOJA DE DATOS'!S229)","v":""},{"$f":"IF('HOJA DE DATOS'!T229=0,\"\",'HOJA DE DATOS'!T229)","v":""},{"$f":"IF('HOJA DE DATOS'!U229=0,\"\",'HOJA DE DATOS'!U229)","v":""},{"$f":"IF('HOJA DE DATOS'!V229=0,\"\",'HOJA DE DATOS'!V229)","v":""},{"$f":"IF('HOJA DE DATOS'!W229=0,\"\",'HOJA DE DATOS'!W229)","v":""},{"$f":"IF('HOJA DE DATOS'!X229=0,\"\",'HOJA DE DATOS'!X229)","v":""},{"$f":"IF('HOJA DE DATOS'!Y229=0,\"\",'HOJA DE DATOS'!Y229)","v":""},{"$f":"IF('HOJA DE DATOS'!P229=0,\"\",'HOJA DE DATOS'!P229)","v":""}]
[null,{"$f":"IF('HOJA DE DATOS'!C230=0,\"\",'HOJA DE DATOS'!C230)","v":""},{"$f":"IF('HOJA DE DATOS'!D230=0,\"\",'HOJA DE DATOS'!D230)","v":""},{"$f":"IF('HOJA DE DATOS'!E230=0,\"\",'HOJA DE DATOS'!E230)","v":""},{"$f":"IF('HOJA DE DATOS'!F230=0,\"\",'HOJA DE DATOS'!F230)","v":""},{"$f":"IF('HOJA DE DATOS'!G230=0,\"\",'HOJA DE DATOS'!G230)","v":""},{"$f":"IF('HOJA DE DATOS'!H230=0,\"\",'HOJA DE DATOS'!H230)","v":""},{"$f":"IF('HOJA DE DATOS'!I230=0,\"\",'HOJA DE DATOS'!I230)","v":""},{"$f":"IF('HOJA DE DATOS'!Q230=0,\"\",'HOJA DE DATOS'!Q230)","v":""},{"$f":"IF('HOJA DE DATOS'!R230=0,\"\",'HOJA DE DATOS'!R230)","v":""},{"$f":"IF('HOJA DE DATOS'!S230=0,\"\",'HOJA DE DATOS'!S230)","v":""},{"$f":"IF('HOJA DE DATOS'!T230=0,\"\",'HOJA DE DATOS'!T230)","v":""},{"$f":"IF('HOJA DE DATOS'!U230=0,\"\",'HOJA DE DATOS'!U230)","v":""},{"$f":"IF('HOJA DE DATOS'!V230=0,\"\",'HOJA DE DATOS'!V230)","v":""},{"$f":"IF('HOJA DE DATOS'!W230=0,\"\",'HOJA DE DATOS'!W230)","v":""},{"$f":"IF('HOJA DE DATOS'!X230=0,\"\",'HOJA DE DATOS'!X230)","v":""},{"$f":"IF('HOJA DE DATOS'!Y230=0,\"\",'HOJA DE DATOS'!Y230)","v":""},{"$f":"IF('HOJA DE DATOS'!P230=0,\"\",'HOJA DE DATOS'!P230)","v":""}]
[null,{"$f":"IF('HOJA DE DATOS'!C231=0,\"\",'HOJA DE DATOS'!C231)","v":"PromedioDePromedioDeEXTERIOR TEMPERATURA"},{"$f":"IF('HOJA DE DATOS'!D231=0,\"\",'HOJA DE DATOS'!D231)","v":"PromedioDePromedioDeCUADRA TEMPERATURA"},{"$f":"IF('HOJA DE DATOS'!E231=0,\"\",'HOJA DE DATOS'!E231)","v":"DesvEstDePromedioDeCUADRA TEMPERATURA"},{"$f":"IF('HOJA DE DATOS'!F231=0,\"\",'HOJA DE DATOS'!F231)","v":"PromedioDePromedioDeANIMALES TEMPERATURA"},{"$f":"IF('HOJA DE DATOS'!G231=0,\"\",'HOJA DE DATOS'!G231)","v":"DesvEstDePromedioDeANIMALES TEMPERATURA"},{"$f":"IF('HOJA DE DATOS'!H231=0,\"\",'HOJA DE DATOS'!H231)","v":"PromedioDePromedioDeCAMA TEMPERATURA"},{"$f":"IF('HOJA DE DATOS'!I231=0,\"\",'HOJA DE DATOS'!I231)","v":"DesvEstDePromedioDeCAMA TEMPERATURA"},{"$f":"IF('HOJA DE DATOS'!Q231=0,\"\",'HOJA DE DATOS'!Q231)","v":"PromedioDePromedioDeEXTERIOR VELOCIDAD AIRE"},{"$f":"IF('HOJA DE DATOS'!R231=0,\"\",'HOJA DE DATOS'!R231)","v":"PromedioDePromedioDeCUADRA VELOCIDAD AIRE"},{"$f":"IF('HOJA DE DATOS'!S231=0,\"\",'HOJA DE DATOS'!S231)","v":"DesvEstDePromedioDeCUADRA VELOCIDAD AIRE"},{"$f":"IF('HOJA DE DATOS'!T231=0,\"\",'HOJA DE DATOS'!T231)","v":"PromedioDePromedioDeANIMALES VELOCIDAD AIRE"},{"$f":"IF('HOJA DE DATOS'!U231=0,\"\",'HOJA DE DATOS'!U231)","v":"DesvEstDePromedioDeANIMALES VELOCIDAD AIRE"},{"$f":"IF('HOJA DE DATOS'!V231=0,\"\",'HOJA DE DATOS'!V231)","v":"T AISLAM NAVE"},{"$f":"IF('HOJA DE DATOS'!W231=0,\"\",'HOJA DE DATOS'!W231)","v":"T DENSIDAD"},{"$f":"IF('HOJA DE DATOS'!X231=0,\"\",'HOJA DE DATOS'!X231)","v":"T CAMA"},{"$f":"IF('HOJA DE DATOS'!Y231=0,\"\",'HOJA DE DATOS'!Y231)","v":"H VENTILACION"},{"$f":"IF('HOJA DE DATOS'!P231=0,\"\",'HOJA DE DATOS'!P231)","v":"DesvEstDePromedioDeCAMA HUMEDAD"}]
[null,{"$f":"IF('HOJA DE DATOS'!C232=0,\"\",'HOJA DE DATOS'!C232)","v":183.57894736842101},{"$f":"IF('HOJA DE DATOS'!D232=0,\"\",'HOJA DE DATOS'!D232)","v":195.07894736842101},{"$f":"IF('HOJA DE DATOS'!E232=0,\"\",'HOJA DE DATOS'!E232)","v":41.651084805765599},{"$f":"IF('HOJA DE DATOS'!F232=0,\"\",'HOJA DE DATOS'!F232)","v":194.68421052631601},{"$f":"IF('HOJA DE DATOS'!G232=0,\"\",'HOJA DE DATOS'!G232)","v":41.653067956339498},{"$f":"IF('HOJA DE DATOS'!H232=0,\"\",'HOJA DE DATOS'!H232)","v":194.894736842105},{"$f":"IF('HOJA DE DATOS'!I232=0,\"\",'HOJA DE DATOS'!I232)","v":40.898783922211997},{"$f":"IF('HOJA DE DATOS'!Q232=0,\"\",'HOJA DE DATOS'!Q232)","v":15.526315789473699},{"$f":"IF('HOJA DE DATOS'!R232=0,\"\",'HOJA DE DATOS'!R232)","v":3.3947368421052602},{"$f":"IF('HOJA DE DATOS'!S232=0,\"\",'HOJA DE DATOS'!S232)","v":6.9892356667005},{"$f":"IF('HOJA DE DATOS'!T232=0,\"\",'HOJA DE DATOS'!T232)","v":1.34210526315789},{"$f":"IF('HOJA DE DATOS'!U232=0,\"\",'HOJA DE DATOS'!U232)","v":3.4723216360037301},{"$f":"IF('HOJA DE DATOS'!V232=0,\"\",'HOJA DE DATOS'!V232)","v":21.105759364035901},{"$f":"IF('HOJA DE DATOS'!W232=0,\"\",'HOJA DE DATOS'!W232)","v":29.4334633589114},{"$f":"IF('HOJA DE DATOS'!X232=0,\"\",'HOJA DE DATOS'!X232)","v":28.481780324495801},{"$f":"IF('HOJA DE DATOS'!Y232=0,\"\",'HOJA DE DATOS'!Y232)","v":110.22776265215001},{"$f":"IF('HOJA DE DATOS'!P232=0,\"\",'HOJA DE DATOS'!P232)","v":96.650747328017701}]
[null,{"$f":"IF('HOJA DE DATOS'!C233=0,\"\",'HOJA DE DATOS'!C233)","v":287.04761904761898},{"$f":"IF('HOJA DE DATOS'!D233=0,\"\",'HOJA DE DATOS'!D233)","v":281.517857142857},{"$f":"IF('HOJA DE DATOS'!E233=0,\"\",'HOJA DE DATOS'!E233)","v":39.125926783635897},{"$f":"IF('HOJA DE DATOS'!F233=0,\"\",'HOJA DE DATOS'!F233)","v":283.41071428571399},{"$f":"IF('HOJA DE DATOS'!G233=0,\"\",'HOJA DE DATOS'!G233)","v":39.174151691999},{"$f":"IF('HOJA DE DATOS'!H233=0,\"\",'HOJA DE DATOS'!H233)","v":273.46428571428601},{"$f":"IF('HOJA DE DATOS'!I233=0,\"\",'HOJA DE DATOS'!I233)","v":61.535502100921001},{"$f":"IF('HOJA DE DATOS'!Q233=0,\"\",'HOJA DE DATOS'!Q233)","v":16.244047619047599},{"$f":"IF('HOJA DE DATOS'!R233=0,\"\",'HOJA DE DATOS'!R233)","v":3.61904761904762},{"$f":"IF('HOJA DE DATOS'!S233=0,\"\",'HOJA DE DATOS'!S233)","v":4.1103245350770896},{"$f":"IF('HOJA DE DATOS'!T233=0,\"\",'HOJA DE DATOS'!T233)","v":1.7083333333333299},{"$f":"IF('HOJA DE DATOS'!U233=0,\"\",'HOJA DE DATOS'!U233)","v":2.9015481180710201},{"$f":"IF('HOJA DE DATOS'!V233=0,\"\",'HOJA DE DATOS'!V233)","v":31.258982081878401},{"$f":"IF('HOJA DE DATOS'!W233=0,\"\",'HOJA DE DATOS'!W233)","v":26.096906184399302},{"$f":"IF('HOJA DE DATOS'!X233=0,\"\",'HOJA DE DATOS'!X233)","v":50.037351470644701},{"$f":"IF('HOJA DE DATOS'!Y233=0,\"\",'HOJA DE DATOS'!Y233)","v":87.180067318826303},{"$f":"IF('HOJA DE DATOS'!P233=0,\"\",'HOJA DE DATOS'!P233)","v":114.13863618484}]
[null,{"$f":"IF('HOJA DE DATOS'!C234=0,\"\",'HOJA DE DATOS'!C234)","v":""},{"$f":"IF('HOJA DE DATOS'!D234=0,\"\",'HOJA DE DATOS'!D234)","v":""},{"$f":"IF('HOJA DE DATOS'!E234=0,\"\",'HOJA DE DATOS'!E234)","v":""},{"$f":"IF('HOJA DE DATOS'!F234=0,\"\",'HOJA DE DATOS'!F234)","v":""},{"$f":"IF('HOJA DE DATOS'!G234=0,\"\",'HOJA DE DATOS'!G234)","v":""},{"$f":"IF('HOJA DE DATOS'!H234=0,\"\",'HOJA DE DATOS'!H234)","v":""},{"$f":"IF('HOJA DE DATOS'!I234=0,\"\",'HOJA DE DATOS'!I234)","v":""},{"$f":"IF('HOJA DE DATOS'!Q234=0,\"\",'HOJA DE DATOS'!Q234)","v":""},{"$f":"IF('HOJA DE DATOS'!R234=0,\"\",'HOJA DE DATOS'!R234)","v":""},{"$f":"IF('HOJA DE DATOS'!S234=0,\"\",'HOJA DE DATOS'!S234)","v":""},{"$f":"IF('HOJA DE DATOS'!T234=0,\"\",'HOJA DE DATOS'!T234)","v":""},{"$f":"IF('HOJA DE DATOS'!U234=0,\"\",'HOJA DE DATOS'!U234)","v":""},{"$f":"IF('HOJA DE DATOS'!V234=0,\"\",'HOJA DE DATOS'!V234)","v":""},{"$f":"IF('HOJA DE DATOS'!W234=0,\"\",'HOJA DE DATOS'!W234)","v":""},{"$f":"IF('HOJA DE DATOS'!X234=0,\"\",'HOJA DE DATOS'!X234)","v":""},{"$f":"IF('HOJA DE DATOS'!Y234=0,\"\",'HOJA DE DATOS'!Y234)","v":""},{"$f":"IF('HOJA DE DATOS'!P234=0,\"\",'HOJA DE DATOS'!P234)","v":""}]
[null,{"$f":"IF('HOJA DE DATOS'!C235=0,\"\",'HOJA DE DATOS'!C235)","v":""},{"$f":"IF('HOJA DE DATOS'!D235=0,\"\",'HOJA DE DATOS'!D235)","v":""},{"$f":"IF('HOJA DE DATOS'!E235=0,\"\",'HOJA DE DATOS'!E235)","v":""},{"$f":"IF('HOJA DE DATOS'!F235=0,\"\",'HOJA DE DATOS'!F235)","v":""},{"$f":"IF('HOJA DE DATOS'!G235=0,\"\",'HOJA DE DATOS'!G235)","v":""},{"$f":"IF('HOJA DE DATOS'!H235=0,\"\",'HOJA DE DATOS'!H235)","v":""},{"$f":"IF('HOJA DE DATOS'!I235=0,\"\",'HOJA DE DATOS'!I235)","v":""},{"$f":"IF('HOJA DE DATOS'!Q235=0,\"\",'HOJA DE DATOS'!Q235)","v":""},{"$f":"IF('HOJA DE DATOS'!R235=0,\"\",'HOJA DE DATOS'!R235)","v":""},{"$f":"IF('HOJA DE DATOS'!S235=0,\"\",'HOJA DE DATOS'!S235)","v":""},{"$f":"IF('HOJA DE DATOS'!T235=0,\"\",'HOJA DE DATOS'!T235)","v":""},{"$f":"IF('HOJA DE DATOS'!U235=0,\"\",'HOJA DE DATOS'!U235)","v":""},{"$f":"IF('HOJA DE DATOS'!V235=0,\"\",'HOJA DE DATOS'!V235)","v":""},{"$f":"IF('HOJA DE DATOS'!W235=0,\"\",'HOJA DE DATOS'!W235)","v":""},{"$f":"IF('HOJA DE DATOS'!X235=0,\"\",'HOJA DE DATOS'!X235)","v":""},{"$f":"IF('HOJA DE DATOS'!Y235=0,\"\",'HOJA DE DATOS'!Y235)","v":""},{"$f":"IF('HOJA DE DATOS'!P235=0,\"\",'HOJA DE DATOS'!P235)","v":""}]
[null,{"$f":"IF('HOJA DE DATOS'!C236=0,\"\",'HOJA DE DATOS'!C236)","v":""},{"$f":"IF('HOJA DE DATOS'!D236=0,\"\",'HOJA DE DATOS'!D236)","v":""},{"$f":"IF('HOJA DE DATOS'!E236=0,\"\",'HOJA DE DATOS'!E236)","v":""},{"$f":"IF('HOJA DE DATOS'!F236=0,\"\",'HOJA DE DATOS'!F236)","v":""},{"$f":"IF('HOJA DE DATOS'!G236=0,\"\",'HOJA DE DATOS'!G236)","v":""},{"$f":"IF('HOJA DE DATOS'!H236=0,\"\",'HOJA DE DATOS'!H236)","v":""},{"$f":"IF('HOJA DE DATOS'!I236=0,\"\",'HOJA DE DATOS'!I236)","v":""},{"$f":"IF('HOJA DE DATOS'!Q236=0,\"\",'HOJA DE DATOS'!Q236)","v":""},{"$f":"IF('HOJA DE DATOS'!R236=0,\"\",'HOJA DE DATOS'!R236)","v":""},{"$f":"IF('HOJA DE DATOS'!S236=0,\"\",'HOJA DE DATOS'!S236)","v":""},{"$f":"IF('HOJA DE DATOS'!T236=0,\"\",'HOJA DE DATOS'!T236)","v":""},{"$f":"IF('HOJA DE DATOS'!U236=0,\"\",'HOJA DE DATOS'!U236)","v":""},{"$f":"IF('HOJA DE DATOS'!V236=0,\"\",'HOJA DE DATOS'!V236)","v":""},{"$f":"IF('HOJA DE DATOS'!W236=0,\"\",'HOJA DE DATOS'!W236)","v":""},{"$f":"IF('HOJA DE DATOS'!X236=0,\"\",'HOJA DE DATOS'!X236)","v":""},{"$f":"IF('HOJA DE DATOS'!Y236=0,\"\",'HOJA DE DATOS'!Y236)","v":""},{"$f":"IF('HOJA DE DATOS'!P236=0,\"\",'HOJA DE DATOS'!P236)","v":""}]
[null,{"$f":"IF('HOJA DE DATOS'!C237=0,\"\",'HOJA DE DATOS'!C237)","v":""},{"$f":"IF('HOJA DE DATOS'!D237=0,\"\",'HOJA DE DATOS'!D237)","v":""},{"$f":"IF('HOJA DE DATOS'!E237=0,\"\",'HOJA DE DATOS'!E237)","v":""},{"$f":"IF('HOJA DE DATOS'!F237=0,\"\",'HOJA DE DATOS'!F237)","v":""},{"$f":"IF('HOJA DE DATOS'!G237=0,\"\",'HOJA DE DATOS'!G237)","v":""},{"$f":"IF('HOJA DE DATOS'!H237=0,\"\",'HOJA DE DATOS'!H237)","v":""},{"$f":"IF('HOJA DE DATOS'!I237=0,\"\",'HOJA DE DATOS'!I237)","v":""},{"$f":"IF('HOJA DE DATOS'!Q237=0,\"\",'HOJA DE DATOS'!Q237)","v":""},{"$f":"IF('HOJA DE DATOS'!R237=0,\"\",'HOJA DE DATOS'!R237)","v":""},{"$f":"IF('HOJA DE DATOS'!S237=0,\"\",'HOJA DE DATOS'!S237)","v":""},{"$f":"IF('HOJA DE DATOS'!T237=0,\"\",'HOJA DE DATOS'!T237)","v":""},{"$f":"IF('HOJA DE DATOS'!U237=0,\"\",'HOJA DE DATOS'!U237)","v":""},{"$f":"IF('HOJA DE DATOS'!V237=0,\"\",'HOJA DE DATOS'!V237)","v":""},{"$f":"IF('HOJA DE DATOS'!W237=0,\"\",'HOJA DE DATOS'!W237)","v":""},{"$f":"IF('HOJA DE DATOS'!X237=0,\"\",'HOJA DE DATOS'!X237)","v":""},{"$f":"IF('HOJA DE DATOS'!Y237=0,\"\",'HOJA DE DATOS'!Y237)","v":""},{"$f":"IF('HOJA DE DATOS'!P237=0,\"\",'HOJA DE DATOS'!P237)","v":""}]
[null,{"$f":"IF('HOJA DE DATOS'!C238=0,\"\",'HOJA DE DATOS'!C238)","v":""},{"$f":"IF('HOJA DE DATOS'!D238=0,\"\",'HOJA DE DATOS'!D238)","v":""},{"$f":"IF('HOJA DE DATOS'!E238=0,\"\",'HOJA DE DATOS'!E238)","v":""},{"$f":"IF('HOJA DE DATOS'!F238=0,\"\",'HOJA DE DATOS'!F238)","v":""},{"$f":"IF('HOJA DE DATOS'!G238=0,\"\",'HOJA DE DATOS'!G238)","v":""},{"$f":"IF('HOJA DE DATOS'!H238=0,\"\",'HOJA DE DATOS'!H238)","v":""},{"$f":"IF('HOJA DE DATOS'!I238=0,\"\",'HOJA DE DATOS'!I238)","v":""},{"$f":"IF('HOJA DE DATOS'!Q238=0,\"\",'HOJA DE DATOS'!Q238)","v":""},{"$f":"IF('HOJA DE DATOS'!R238=0,\"\",'HOJA DE DATOS'!R238)","v":""},{"$f":"IF('HOJA DE DATOS'!S238=0,\"\",'HOJA DE DATOS'!S238)","v":""},{"$f":"IF('HOJA DE DATOS'!T238=0,\"\",'HOJA DE DATOS'!T238)","v":""},{"$f":"IF('HOJA DE DATOS'!U238=0,\"\",'HOJA DE DATOS'!U238)","v":""},{"$f":"IF('HOJA DE DATOS'!V238=0,\"\",'HOJA DE DATOS'!V238)","v":""},{"$f":"IF('HOJA DE DATOS'!W238=0,\"\",'HOJA DE DATOS'!W238)","v":""},{"$f":"IF('HOJA DE DATOS'!X238=0,\"\",'HOJA DE DATOS'!X238)","v":""},{"$f":"IF('HOJA DE DATOS'!Y238=0,\"\",'HOJA DE DATOS'!Y238)","v":""},{"$f":"IF('HOJA DE DATOS'!P238=0,\"\",'HOJA DE DATOS'!P238)","v":""}]
[null,{"$f":"IF('HOJA DE DATOS'!C239=0,\"\",'HOJA DE DATOS'!C239)","v":""},{"$f":"IF('HOJA DE DATOS'!D239=0,\"\",'HOJA DE DATOS'!D239)","v":""},{"$f":"IF('HOJA DE DATOS'!E239=0,\"\",'HOJA DE DATOS'!E239)","v":""},{"$f":"IF('HOJA DE DATOS'!F239=0,\"\",'HOJA DE DATOS'!F239)","v":""},{"$f":"IF('HOJA DE DATOS'!G239=0,\"\",'HOJA DE DATOS'!G239)","v":""},{"$f":"IF('HOJA DE DATOS'!H239=0,\"\",'HOJA DE DATOS'!H239)","v":""},{"$f":"IF('HOJA DE DATOS'!I239=0,\"\",'HOJA DE DATOS'!I239)","v":""},{"$f":"IF('HOJA DE DATOS'!Q239=0,\"\",'HOJA DE DATOS'!Q239)","v":""},{"$f":"IF('HOJA DE DATOS'!R239=0,\"\",'HOJA DE DATOS'!R239)","v":""},{"$f":"IF('HOJA DE DATOS'!S239=0,\"\",'HOJA DE DATOS'!S239)","v":""},{"$f":"IF('HOJA DE DATOS'!T239=0,\"\",'HOJA DE DATOS'!T239)","v":""},{"$f":"IF('HOJA DE DATOS'!U239=0,\"\",'HOJA DE DATOS'!U239)","v":""},{"$f":"IF('HOJA DE DATOS'!V239=0,\"\",'HOJA DE DATOS'!V239)","v":""},{"$f":"IF('HOJA DE DATOS'!W239=0,\"\",'HOJA DE DATOS'!W239)","v":""},{"$f":"IF('HOJA DE DATOS'!X239=0,\"\",'HOJA DE DATOS'!X239)","v":""},{"$f":"IF('HOJA DE DATOS'!Y239=0,\"\",'HOJA DE DATOS'!Y239)","v":""},{"$f":"IF('HOJA DE DATOS'!P239=0,\"\",'HOJA DE DATOS'!P239)","v":""}]
[null,{"$f":"IF('HOJA DE DATOS'!C240=0,\"\",'HOJA DE DATOS'!C240)","v":""},{"$f":"IF('HOJA DE DATOS'!D240=0,\"\",'HOJA DE DATOS'!D240)","v":""},{"$f":"IF('HOJA DE DATOS'!E240=0,\"\",'HOJA DE DATOS'!E240)","v":""},{"$f":"IF('HOJA DE DATOS'!F240=0,\"\",'HOJA DE DATOS'!F240)","v":""},{"$f":"IF('HOJA DE DATOS'!G240=0,\"\",'HOJA DE DATOS'!G240)","v":""},{"$f":"IF('HOJA DE DATOS'!H240=0,\"\",'HOJA DE DATOS'!H240)","v":""},{"$f":"IF('HOJA DE DATOS'!I240=0,\"\",'HOJA DE DATOS'!I240)","v":""},{"$f":"IF('HOJA DE DATOS'!Q240=0,\"\",'HOJA DE DATOS'!Q240)","v":""},{"$f":"IF('HOJA DE DATOS'!R240=0,\"\",'HOJA DE DATOS'!R240)","v":""},{"$f":"IF('HOJA DE DATOS'!S240=0,\"\",'HOJA DE DATOS'!S240)","v":""},{"$f":"IF('HOJA DE DATOS'!T240=0,\"\",'HOJA DE DATOS'!T240)","v":""},{"$f":"IF('HOJA DE DATOS'!U240=0,\"\",'HOJA DE DATOS'!U240)","v":""},{"$f":"IF('HOJA DE DATOS'!V240=0,\"\",'HOJA DE DATOS'!V240)","v":""},{"$f":"IF('HOJA DE DATOS'!W240=0,\"\",'HOJA DE DATOS'!W240)","v":""},{"$f":"IF('HOJA DE DATOS'!X240=0,\"\",'HOJA DE DATOS'!X240)","v":""},{"$f":"IF('HOJA DE DATOS'!Y240=0,\"\",'HOJA DE DATOS'!Y240)","v":""},{"$f":"IF('HOJA DE DATOS'!P240=0,\"\",'HOJA DE DATOS'!P240)","v":""}]
[null,{"$f":"IF('HOJA DE DATOS'!C241=0,\"\",'HOJA DE DATOS'!C241)","v":""},{"$f":"IF('HOJA DE DATOS'!D241=0,\"\",'HOJA DE DATOS'!D241)","v":""},{"$f":"IF('HOJA DE DATOS'!E241=0,\"\",'HOJA DE DATOS'!E241)","v":""},{"$f":"IF('HOJA DE DATOS'!F241=0,\"\",'HOJA DE DATOS'!F241)","v":""},{"$f":"IF('HOJA DE DATOS'!G241=0,\"\",'HOJA DE DATOS'!G241)","v":""},{"$f":"IF('HOJA DE DATOS'!H241=0,\"\",'HOJA DE DATOS'!H241)","v":""},{"$f":"IF('HOJA DE DATOS'!I241=0,\"\",'HOJA DE DATOS'!I241)","v":""},{"$f":"IF('HOJA DE DATOS'!Q241=0,\"\",'HOJA DE DATOS'!Q241)","v":""},{"$f":"IF('HOJA DE DATOS'!R241=0,\"\",'HOJA DE DATOS'!R241)","v":""},{"$f":"IF('HOJA DE DATOS'!S241=0,\"\",'HOJA DE DATOS'!S241)","v":""},{"$f":"IF('HOJA DE DATOS'!T241=0,\"\",'HOJA DE DATOS'!T241)","v":""},{"$f":"IF('HOJA DE DATOS'!U241=0,\"\",'HOJA DE DATOS'!U241)","v":""},{"$f":"IF('HOJA DE DATOS'!V241=0,\"\",'HOJA DE DATOS'!V241)","v":""},{"$f":"IF('HOJA DE DATOS'!W241=0,\"\",'HOJA DE DATOS'!W241)","v":""},{"$f":"IF('HOJA DE DATOS'!X241=0,\"\",'HOJA DE DATOS'!X241)","v":""},{"$f":"IF('HOJA DE DATOS'!Y241=0,\"\",'HOJA DE DATOS'!Y241)","v":""},{"$f":"IF('HOJA DE DATOS'!P241=0,\"\",'HOJA DE DATOS'!P241)","v":""}]
[null,{"$f":"IF('HOJA DE DATOS'!C242=0,\"\",'HOJA DE DATOS'!C242)","v":""},{"$f":"IF('HOJA DE DATOS'!D242=0,\"\",'HOJA DE DATOS'!D242)","v":""},{"$f":"IF('HOJA DE DATOS'!E242=0,\"\",'HOJA DE DATOS'!E242)","v":""},{"$f":"IF('HOJA DE DATOS'!F242=0,\"\",'HOJA DE DATOS'!F242)","v":""},{"$f":"IF('HOJA DE DATOS'!G242=0,\"\",'HOJA DE DATOS'!G242)","v":""},{"$f":"IF('HOJA DE DATOS'!H242=0,\"\",'HOJA DE DATOS'!H242)","v":""},{"$f":"IF('HOJA DE DATOS'!I242=0,\"\",'HOJA DE DATOS'!I242)","v":""},{"$f":"IF('HOJA DE DATOS'!Q242=0,\"\",'HOJA DE DATOS'!Q242)","v":""},{"$f":"IF('HOJA DE DATOS'!R242=0,\"\",'HOJA DE DATOS'!R242)","v":""},{"$f":"IF('HOJA DE DATOS'!S242=0,\"\",'HOJA DE DATOS'!S242)","v":""},{"$f":"IF('HOJA DE DATOS'!T242=0,\"\",'HOJA DE DATOS'!T242)","v":""},{"$f":"IF('HOJA DE DATOS'!U242=0,\"\",'HOJA DE DATOS'!U242)","v":""},{"$f":"IF('HOJA DE DATOS'!V242=0,\"\",'HOJA DE DATOS'!V242)","v":""},{"$f":"IF('HOJA DE DATOS'!W242=0,\"\",'HOJA DE DATOS'!W242)","v":""},{"$f":"IF('HOJA DE DATOS'!X242=0,\"\",'HOJA DE DATOS'!X242)","v":""},{"$f":"IF('HOJA DE DATOS'!Y242=0,\"\",'HOJA DE DATOS'!Y242)","v":""},{"$f":"IF('HOJA DE DATOS'!P242=0,\"\",'HOJA DE DATOS'!P242)","v":""}]
[null,{"$f":"IF('HOJA DE DATOS'!C243=0,\"\",'HOJA DE DATOS'!C243)","v":""},{"$f":"IF('HOJA DE DATOS'!D243=0,\"\",'HOJA DE DATOS'!D243)","v":""},{"$f":"IF('HOJA DE DATOS'!E243=0,\"\",'HOJA DE DATOS'!E243)","v":""},{"$f":"IF('HOJA DE DATOS'!F243=0,\"\",'HOJA DE DATOS'!F243)","v":""},{"$f":"IF('HOJA DE DATOS'!G243=0,\"\",'HOJA DE DATOS'!G243)","v":""},{"$f":"IF('HOJA DE DATOS'!H243=0,\"\",'HOJA DE DATOS'!H243)","v":""},{"$f":"IF('HOJA DE DATOS'!I243=0,\"\",'HOJA DE DATOS'!I243)","v":""},{"$f":"IF('HOJA DE DATOS'!Q243=0,\"\",'HOJA DE DATOS'!Q243)","v":""},{"$f":"IF('HOJA DE DATOS'!R243=0,\"\",'HOJA DE DATOS'!R243)","v":""},{"$f":"IF('HOJA DE DATOS'!S243=0,\"\",'HOJA DE DATOS'!S243)","v":""},{"$f":"IF('HOJA DE DATOS'!T243=0,\"\",'HOJA DE DATOS'!T243)","v":""},{"$f":"IF('HOJA DE DATOS'!U243=0,\"\",'HOJA DE DATOS'!U243)","v":""},{"$f":"IF('HOJA DE DATOS'!V243=0,\"\",'HOJA DE DATOS'!V243)","v":""},{"$f":"IF('HOJA DE DATOS'!W243=0,\"\",'HOJA DE DATOS'!W243)","v":""},{"$f":"IF('HOJA DE DATOS'!X243=0,\"\",'HOJA DE DATOS'!X243)","v":""},{"$f":"IF('HOJA DE DATOS'!Y243=0,\"\",'HOJA DE DATOS'!Y243)","v":""},{"$f":"IF('HOJA DE DATOS'!P243=0,\"\",'HOJA DE DATOS'!P243)","v":""}]
[null,{"$f":"IF('HOJA DE DATOS'!C244=0,\"\",'HOJA DE DATOS'!C244)","v":""},{"$f":"IF('HOJA DE DATOS'!D244=0,\"\",'HOJA DE DATOS'!D244)","v":""},{"$f":"IF('HOJA DE DATOS'!E244=0,\"\",'HOJA DE DATOS'!E244)","v":""},{"$f":"IF('HOJA DE DATOS'!F244=0,\"\",'HOJA DE DATOS'!F244)","v":""},{"$f":"IF('HOJA DE DATOS'!G244=0,\"\",'HOJA DE DATOS'!G244)","v":""},{"$f":"IF('HOJA DE DATOS'!H244=0,\"\",'HOJA DE DATOS'!H244)","v":""},{"$f":"IF('HOJA DE DATOS'!I244=0,\"\",'HOJA DE DATOS'!I244)","v":""},{"$f":"IF('HOJA DE DATOS'!Q244=0,\"\",'HOJA DE DATOS'!Q244)","v":""},{"$f":"IF('HOJA DE DATOS'!R244=0,\"\",'HOJA DE DATOS'!R244)","v":""},{"$f":"IF('HOJA DE DATOS'!S244=0,\"\",'HOJA DE DATOS'!S244)","v":""},{"$f":"IF('HOJA DE DATOS'!T244=0,\"\",'HOJA DE DATOS'!T244)","v":""},{"$f":"IF('HOJA DE DATOS'!U244=0,\"\",'HOJA DE DATOS'!U244)","v":""},{"$f":"IF('HOJA DE DATOS'!V244=0,\"\",'HOJA DE DATOS'!V244)","v":""},{"$f":"IF('HOJA DE DATOS'!W244=0,\"\",'HOJA DE DATOS'!W244)","v":""},{"$f":"IF('HOJA DE DATOS'!X244=0,\"\",'HOJA DE DATOS'!X244)","v":""},{"$f":"IF('HOJA DE DATOS'!Y244=0,\"\",'HOJA DE DATOS'!Y244)","v":""},{"$f":"IF('HOJA DE DATOS'!P244=0,\"\",'HOJA DE DATOS'!P244)","v":""}]
[null,{"$f":"IF('HOJA DE DATOS'!C245=0,\"\",'HOJA DE DATOS'!C245)","v":""},{"$f":"IF('HOJA DE DATOS'!D245=0,\"\",'HOJA DE DATOS'!D245)","v":""},{"$f":"IF('HOJA DE DATOS'!E245=0,\"\",'HOJA DE DATOS'!E245)","v":""},{"$f":"IF('HOJA DE DATOS'!F245=0,\"\",'HOJA DE DATOS'!F245)","v":""},{"$f":"IF('HOJA DE DATOS'!G245=0,\"\",'HOJA DE DATOS'!G245)","v":""},{"$f":"IF('HOJA DE DATOS'!H245=0,\"\",'HOJA DE DATOS'!H245)","v":""},{"$f":"IF('HOJA DE DATOS'!I245=0,\"\",'HOJA DE DATOS'!I245)","v":""},{"$f":"IF('HOJA DE DATOS'!Q245=0,\"\",'HOJA DE DATOS'!Q245)","v":""},{"$f":"IF('HOJA DE DATOS'!R245=0,\"\",'HOJA DE DATOS'!R245)","v":""},{"$f":"IF('HOJA DE DATOS'!S245=0,\"\",'HOJA DE DATOS'!S245)","v":""},{"$f":"IF('HOJA DE DATOS'!T245=0,\"\",'HOJA DE DATOS'!T245)","v":""},{"$f":"IF('HOJA DE DATOS'!U245=0,\"\",'HOJA DE DATOS'!U245)","v":""},{"$f":"IF('HOJA DE DATOS'!V245=0,\"\",'HOJA DE DATOS'!V245)","v":""},{"$f":"IF('HOJA DE DATOS'!W245=0,\"\",'HOJA DE DATOS'!W245)","v":""},{"$f":"IF('HOJA DE DATOS'!X245=0,\"\",'HOJA DE DATOS'!X245)","v":""},{"$f":"IF('HOJA DE DATOS'!Y245=0,\"\",'HOJA DE DATOS'!Y245)","v":""},{"$f":"IF('HOJA DE DATOS'!P245=0,\"\",'HOJA DE DATOS'!P245)","v":""}]
[null,null,null,null,null,null,null,null,null,null,null,null,null,null,null,null,null,{"$f":"IF('HOJA DE DATOS'!P246=0,\"\",'HOJA DE DATOS'!P246)","v":""}]
[null,null,null,null,null,null,null,null,null,null,null,null,null,null,null,null,null,{"$f":"IF('HOJA DE DATOS'!P247=0,\"\",'HOJA DE DATOS'!P247)","v":""}]
[]
[null,{"$f":"IF(#REF!=\"\",\"\",#REF!)","v":{"$error":"#REF!"}},{"$f":"IF($B$1393=\"\",\"\",VLOOKUP($B$1393,$B$1304:$R$1389,C1302,FALSE))","v":{"$error":"#REF!"}},{"$f":"IF($B$1393=\"\",\"\",VLOOKUP($B$1393,$B$1304:$R$1389,D1302,FALSE))","v":{"$error":"#REF!"}},{"$error":"#REF!"},{"$error":"#REF!"},{"$error":"#REF!"},{"$error":"#REF!"},{"$error":"#REF!"},{"$error":"#REF!"},{"$error":"#REF!"},{"$error":"#REF!"},{"$error":"#REF!"},{"$error":"#REF!"},{"$error":"#REF!"},{"$error":"#REF!"},{"$error":"#REF!"},{"$error":"#REF!"}]
[]
[]
[]
[]
[]
[]
[]
["CALCULO DEL INDICE THI (TEMPERATURE HUMIDITY INDEX)"]
[]
[null,null,0,5,10,15,20,25,30,35,40,45,50,55,60,65,70,75,80,85,90,95,100,"%HUMEDAD"]
[null,22.2,0,0,0,0,0,0,0,0,0,0,0,0,0,0,0,0,0,0,0,72,72]
[null,22.8,0,0,0,0,0,0,0,0,0,0,0,0,0,0,0,0,0,72,72,73,73]
[null,23.3,0,0,0,0,0,0,0,0,0,0,0,0,0,0,0,72,72,73,73,74,74]
[null,23.9,0,0,0,0,0,0,0,0,0,0,0,0,0,72,72,73,73,74,74,75,75]
[null,24.4,0,0,0,0,0,0,0,0,0,0,0,72,72,73,73,74,74,75,75,76,76]
[null,25,0,0,0,0,0,0,0,0,0,0,72,72,73,73,74,74,75,75,76,76,77]
[null,25.6,0,0,0,0,0,0,0,0,0,72,73,73,74,74,75,75,76,76,77,77,77]
[null,26.1,0,0,0,0,0,0,0,0,72,73,73,74,74,75,76,76,77,77,78,78,79]
[null,27.7,0,0,0,0,0,0,72,72,73,73,74,74,75,76,76,77,78,78,78,79,80]
[null,27.2,0,0,0,0,0,72,72,73,73,74,74,75,76,77,77,78,78,79,80,80,81]
[null,27.8,0,0,0,0,0,72,73,73,74,75,75,76,77,77,78,79,79,80,81,81,82]
[null,28.3,0,0,0,0,72,73,73,74,74,75,76,77,78,78,79,80,80,81,82,82,83]
[null,28.9,0,0,0,72,73,73,74,75,75,76,77,78,78,79,80,80,81,82,83,83,84]
[null,29.4,0,0,72,72,73,74,75,75,76,77,78,79,79,80,81,81,82,83,84,84,85]
[null,30,0,0,72,73,74,74,75,76,77,78,78,79,80,81,81,82,83,84,84,85,86]
[null,30.6,0,72,73,73,74,75,76,77,77,78,79,80,81,81,82,83,84,85,85,86,87]
[null,31.1,72,72,73,74,75,75,76,77,78,79,80,81,81,82,83,84,85,86,86,87,88]
[null,31.7,72,73,74,75,76,76,77,78,79,80,80,81,82,83,84,85,86,86,87,88,89]
[null,32.200000000000003,72,73,74,75,76,77,78,79,79,80,81,82,83,84,85,86,86,87,88,89,90]
[null,32.799999999999997,73,74,75,76,76,77,78,79,80,81,82,83,84,85,86,86,87,88,89,90,91]
[null,33.299999999999997,73,74,75,76,77,78,79,80,81,82,83,84,85,85,86,87,88,89,90,91,92]
[null,33.9,74,75,76,77,78,80,80,81,82,83,84,84,85,86,87,88,89,90,91,92,93]
[null,34.4,74,75,76,77,78,79,80,81,82,83,84,85,86,87,88,89,90,91,92,93,94]
[null,35,75,76,77,78,79,80,81,82,83,84,85,86,87,88,89,90,91,92,93,94,95]
[null,35.6,75,76,77,78,79,80,81,82,83,85,86,87,88,89,90,91,92,93,94,95,96]
[null,36.1,76,77,78,79,80,81,82,83,84,85,86,87,88,89,91,92,93,94,95,96,97]
[null,36.700000000000003,76,77,78,79,80,82,83,84,85,86,87,88,89,90,91,93,94,95,96,97,98]
[null,37.200000000000003,76,78,79,80,81,82,83,84,85,87,88,89,90,91,92,93,94,96,97,98,99]
[null,37.700000000000003,77,78,79,80,82,83,84,85,86,88,89,90,91,92,93,94,95,97,98,99,100]
[null,38.299999999999997,77,79,80,81,82,83,86,86,87,88,89,90,92,93,94,95,96,98,99,100,100]
[null,38.9,78,79,80,81,83,84,85,86,87,89,90,91,92,94,95,96,97,99,100,100,100]
[null,39.6,78,79,81,82,83,86,86,87,88,89,91,92,93,94,96,97,100,100,100,100,100]
[null,40,79,80,81,82,84,85,86,88,90,91,92,93,94,95,97,100,100,100,100,100,100]
[null,40.6,79,80,82,83,84,86,87,88,90,91,92,94,94,96,98,100,100,100,100,100,100]
[null,41.1,80,81,82,84,85,86,88,89,90,91,93,94,95,97,100,100,100,100,100,100,100]
[null,41.7,80,81,83,84,85,87,88,89,91,92,94,95,96,98,100,100,100,100,100,100,100]
[null,42.2,81,82,83,85,86,87,89,90,92,93,94,96,97,100,100,100,100,100,100,100,100]
[null,42.7,81,82,84,85,87,88,89,91,92,94,95,96,98,100,100,100,100,100,100,100,100]
[null,43.3,81,83,84,86,87,89,90,91,93,94,96,97,100,100,100,100,100,100,100,100,100]
[null,43.9,82,83,85,86,88,88,91,93,94,95,96,98,100,100,100,100,100,100,100,100,100]
[null,44.4,82,84,85,87,88,90,91,94,94,96,97,100,100,100,100,100,100,100,100,100,100]
[null,45,83,84,86,87,89,90,92,95,95,96,98,100,100,100,100,100,100,100,100,100,100]
[null,45.4,83,85,86,88,89,91,92,94,96,97,100,100,100,100,100,100,100,100,100,100,100]
[null,46.1,84,85,87,88,90,92,94,95,97,100,100,100,100,100,100,100,100,100,100,100,100]
[null,46.7,84,86,87,89,90,92,94,95,97,100,100,100,100,100,100,100,100,100,100,100,100]
[null,47.2,85,86,88,89,91,93,94,96,98,100,100,100,100,100,100,100,100,100,100,100,100]
[null,47.7,85,87,88,90,92,93,95,97,100,100,100,100,100,100,100,100,100,100,100,100,100]
[null,48.3,85,87,89,90,92,94,96,97,100,100,100,100,100,100,100,100,100,100,100,100,100]
[null,48.9,86,88,89,91,93,94,96,98,100,100,100,100,100,100,100,100,100,100,100,100,100]
[null,49.4,86,88,90,92,93,95,97,100,100,100,100,100,100,100,100,100,100,100,100,100,100]
[null,"TEMPERATURA ºc"]
[]
[]
[]
[]
["TEMPERATURA",{"$f":"IF('CALCULO THI'!C13=\"\",\"\",'CALCULO THI'!C13)","v":""}]
["HUMEDAD",{"$f":"IF('CALCULO THI'!C14=\"\",\"\",'CALCULO THI'!C14)","v":""}]
[]
[null,null,2,3,4,5,6,7,8,9,10,11,12,13,14,15,16,17,18,19,20,21,22]
[null,null,0,5,10,15,20,25,30,35,40,45,50,55,60,65,70,75,80,85,90,95,100,"%HUMEDAD"]
[null,"THIs A ESA TEMPERATURA",{"$f":"VLOOKUP($B$1459,$B$1403:$W$1453,C1462,TRUE)","v":{"$error":"#N/A"}},{"$f":"VLOOKUP($B$1459,$B$1403:$W$1453,D1462,TRUE)","v":{"$error":"#N/A"}},{"$f":"VLOOKUP($B$1459,$B$1403:$W$1453,E1462,TRUE)","v":{"$error":"#N/A"}},{"$error":"#N/A"},{"$error":"#N/A"},{"$error":"#N/A"},{"$error":"#N/A"},{"$error":"#N/A"},{"$error":"#N/A"},{"$error":"#N/A"},{"$error":"#N/A"},{"$error":"#N/A"},{"$error":"#N/A"},{"$error":"#N/A"},{"$error":"#N/A"},{"$error":"#N/A"},{"$error":"#N/A"},{"$error":"#N/A"},{"$error":"#N/A"},{"$error":"#N/A"},{"$error":"#N/A"}]
[null,"THI A ESA HUMEDAD",{"$f":"IF(B1459=\"\",\"\",HLOOKUP($B$1460,C1463:W1464,2,TRUE))","v":""}]
[]
[]
[]
[]
[null,null,{"$f":"IF(B1459<22.2,\"NO STRESS\",IF(C1465<72,\"NO STRESS\",IF(C1465<78,\"MEDIUM STRESS\",IF(C1465<89,\"BIG STRESS\",IF(C1465<98,\"SEVERE STRESS\",\"ANIMAL DEATH\")))))","v":"ANIMAL DEATH"}]
[]
[]
[]
[]
["CREDITOS"]
[]
[null,"MESES GESTIMILK ESPECIES","OVINO",{"$f":"'HOJA DE DATOS'!B53","v":0}]
[null,null,"CAPRINO",{"$f":"'HOJA DE DATOS'!B52","v":0}]
[null,"MESES GESTIMILK RAZAS",{"$f":"'HOJA DE DATOS'!B2","v":0},{"$f":"SUM('HOJA DE DATOS'!D2:D4)","v":0}]
[null,null,{"$f":"'HOJA DE DATOS'!B5","v":0},{"$f":"SUM('HOJA DE DATOS'!D5:D7)","v":0}]
[null,null,{"$f":"'HOJA DE DATOS'!B8","v":0},{"$f":"SUM('HOJA DE DATOS'!D8:D10)","v":0}]
[null,null,{"$f":"'HOJA DE DATOS'!B11","v":0},{"$f":"SUM('HOJA DE DATOS'!D11:D13)","v":0}]
[null,null,{"$f":"'HOJA DE DATOS'!B14","v":0},{"$f":"SUM('HOJA DE DATOS'!D14:D16)","v":0}]
[null,null,{"$f":"'HOJA DE DATOS'!B17","v":0},{"$f":"SUM('HOJA DE DATOS'!D17:D19)","v":0}]
[null,"Nº  CHEQUEOS BA","OVINO",{"$f":"'HOJA DE DATOS'!R120","v":101}]
[null,null,"CAPRINO",{"$f":"'HOJA DE DATOS'!R119","v":93}]
[null,"Nº  AUDITORIAS PPCC","OVINO",{"$f":"'HOJA DE DATOS'!Z129","v":30}]
[null,null,"CAPRINO",{"$f":"'HOJA DE DATOS'!Z135","v":28}]
[null,"Nº PIENSOS","OVINO",{"$f":"COUNTIF('HOJA DE DATOS'!$D$160:$D$255,\"OVINO\")","v":0}]
[null,null,"CAPRINO",{"$f":"COUNTIF('HOJA DE DATOS'!$D$160:$D$255,\"CAPRINO\")","v":0}]
[null,null,"OVINO/CAPRINO",{"$f":"COUNTIF('HOJA DE DATOS'!$D$160:$D$255,\"OVINO/CAPRINO\")","v":0}]
[]
[]
[]
[]
[]
["AMBIENTALE ADMISIBLES"]
[]
["ESTACION",{"$f":"IF('AMBIENTALES ADMISIBLES'!B11=\"\",\"\",'AMBIENTALES ADMISIBLES'!B11)","v":"SUMMER"},null,null,"SUMMER"]
[null,null,null,null,"WINTER"]
[null,"TEMPERATURA","HUMEDAD","VELOC AIRE"]
["EXTERIOR",{"$f":"IF('AMBIENTALES ADMISIBLES'!C13=\"\",\"\",'AMBIENTALES ADMISIBLES'!C13)","v":43},{"$f":"IF('AMBIENTALES ADMISIBLES'!C18=\"\",\"\",'AMBIENTALES ADMISIBLES'!C18)","v":56},{"$f":"IF('AMBIENTALES ADMISIBLES'!C23=\"\",\"\",'AMBIENTALES ADMISIBLES'!C23)","v":""}]
["CUADRA",{"$f":"IF('AMBIENTALES ADMISIBLES'!C14=\"\",\"\",'AMBIENTALES ADMISIBLES'!C14)","v":41},{"$f":"IF('AMBIENTALES ADMISIBLES'!C19=\"\",\"\",'AMBIENTALES ADMISIBLES'!C19)","v":65},{"$f":"IF('AMBIENTALES ADMISIBLES'!C24=\"\",\"\",'AMBIENTALES ADMISIBLES'!C24)","v":""}]
["ANIMALES",{"$f":"IF('AMBIENTALES ADMISIBLES'!C15=\"\",\"\",'AMBIENTALES ADMISIBLES'!C15)","v":44},{"$f":"IF('AMBIENTALES ADMISIBLES'!C20=\"\",\"\",'AMBIENTALES ADMISIBLES'!C20)","v":67},{"$f":"IF('AMBIENTALES ADMISIBLES'!C25=\"\",\"\",'AMBIENTALES ADMISIBLES'!C25)","v":""}]
["CAMA",{"$f":"IF('AMBIENTALES ADMISIBLES'!C16=\"\",\"\",'AMBIENTALES ADMISIBLES'!C16)","v":45},{"$f":"IF('AMBIENTALES ADMISIBLES'!C21=\"\",\"\",'AMBIENTALES ADMISIBLES'!C21)","v":79},{"$f":"IF('AMBIENTALES ADMISIBLES'!C26=\"\",\"\",'AMBIENTALES ADMISIBLES'!C26)","v":""}]
[]
[null,null,null,"RANGO ADMISIBLE","VALOR ADMISIBLE"]
["SUMMER","AISLAMIENTO",{"$f":"CONCATENATE(A1508,B1508)","v":"SUMMERAISLAMIENTO"},3.1258982081878401,{"$f":"IF(D1508=\"\",\"\",B1502+D1508)","v":46.125898208187841},{"$f":"IF($B$1499=\"\",\"\",$B$1499)","v":"SUMMER"},"AISLAMIENTO",{"$f":"CONCATENATE(F1508,G1508)","v":"SUMMERAISLAMIENTO"},{"$f":"VLOOKUP(H1508,$C$1508:$E$1521,3,FALSE)","v":46.125898208187841}]
["SUMMER","TDENSIDAD",{"$f":"CONCATENATE(A1509,B1509)","v":"SUMMERTDENSIDAD"},2.60969061843993,{"$f":"IF(D1509=\"\",\"\",B1503+D1509)","v":43.609690618439927},{"$f":"IF($B$1499=\"\",\"\",$B$1499)","v":"SUMMER"},"TDENSIDAD",{"$f":"CONCATENATE(F1509,G1509)","v":"SUMMERTDENSIDAD"},{"$f":"VLOOKUP(H1509,$C$1508:$E$1521,3,FALSE)","v":43.609690618439927}]
["SUMMER","TCAMA","SUMMERTCAMA",5.0037351470644698,{"$f":"IF(D1510=\"\",\"\",B1504+D1510)","v":49.003735147064468},"SUMMER","TCAMA","SUMMERTCAMA",49.003735147064468]
["SUMMER","HVENTILACION","SUMMERHVENTILACION",8.71800673188263,{"$f":"IF(D1511=\"\",\"\",C1502+D1511)","v":64.718006731882625},"SUMMER","HVENTILACION","SUMMERHVENTILACION",64.718006731882625]
["SUMMER","HDENSIDAD","SUMMERHDENSIDAD",9.0024152177127998,{"$f":"IF(D1512=\"\",\"\",C1503+D1512)","v":74.002415217712795},"SUMMER","HDENSIDAD","SUMMERHDENSIDAD",74.002415217712795]
["SUMMER","HCAMA","SUMMERHCAMA",11.538871199605399,{"$f":"IF(D1513=\"\",\"\",C1504+D1513)","v":78.538871199605396},"SUMMER","HCAMA","SUMMERHCAMA",78.538871199605396]
["SUMMER","CORRIENTES","SUMMERCORRIENTES","",{"$f":"IF(D1514=\"\",\"\",D1503+D1514)","v":""},"SUMMER","CORRIENTES","SUMMERCORRIENTES",""]
["WINTER","AISLAMIENTO","WINTERAISLAMIENTO",2.1105759364035901,{"$f":"IF(D1515=\"\",\"\",B1502+D1515)","v":45.110575936403592}]
["WINTER","TDENSIDAD","WINTERTDENSIDAD",2.9433463358911398,{"$f":"IF(D1516=\"\",\"\",B1503+D1516)","v":43.943346335891142}]
["WINTER","TCAMA","WINTERTCAMA",2.8481780324495802,{"$f":"IF(D1517=\"\",\"\",B1504+D1517)","v":46.848178032449582}]
["WINTER","HVENTILACION","WINTERHVENTILACION",11.022776265215001,{"$f":"IF(D1518=\"\",\"\",C1502+D1518)","v":67.022776265215001},null,null,"AISLAMIENTO",{"$f":"IF(B1503=\"\",\"\",IF(B1499=\"WINTER\",K1518,J1518))","v":"RIGHT (STATISTICALLY)"},{"$f":"IF(B1503=\"\",\"\",IF(B1503<I1508,\"RIGHT (STATISTICALLY)\", \"IMPROVE ISOLATION\"))","v":"RIGHT (STATISTICALLY)"},{"$f":"IF(B1503<I1508,\"IMPROVE ISOLATION\",\"RIGHT (STATISTICALLY)\")","v":"IMPROVE ISOLATION"}]
["WINTER","HDENSIDAD","WINTERHDENSIDAD",9.3550019432888902,{"$f":"IF(D1519=\"\",\"\",C1503+D1519)","v":74.355001943288897},null,null,"VENTILACION",{"$f":"IF(C1503=\"\",\"\",IF(C1503<I1511,\"RIGHT (STATISTICALLY)\",\"IMPROVE ISOLATION\"))","v":"IMPROVE ISOLATION"}]
["WINTER","HCAMA","WINTERHCAMA",11.3560786287507,{"$f":"IF(D1520=\"\",\"\",C1504+D1520)","v":78.356078628750694}]
["WINTER","CORRIENTES","WINTERCORRIENTES",{"$f":"IF(D1504=\"\",\"\",'[3]HOJA DE DATOS'!AB232/10)","v":""},{"$f":"IF(D1521=\"\",\"\",D1503+D1521)","v":""},null,null,"DENSIDAD",{"$f":"IF(C1504=\"\",\"\",IF(I1529=2,\"RIGHT (STATISTICALLY)\",\"IMPROVE LOAD\"))","v":"IMPROVE LOAD"}]
[]
[null,null,null,null,null,null,null,"CAMA",{"$f":"IF(D1504=\"\",\"\",IF(D1504<I1514,\"ESTADISTICAMENTE ADMISIBLE\",\"REVISAR CORRIENTES DE AIRE\"))","v":""}]
[]
[null,null,null,null,null,null,null,"CORRIENTES",{"$f":"IF(C1505=\"\",\"\",IF(I1532=2,\"RIGHT (STATISTICALLY)\",\"IMPROVE BEDDING\"))","v":"IMPROVE BEDDING"}]
[]
[null,null,null,null,null,null,null,"TDENSIDAD",{"$f":"IF(B1504<I1509,1,0)","v":0}]
[null,null,null,null,null,null,null,"HDENSIDAD",{"$f":"IF(C1504<I1512,1,0)","v":1}]
[null,null,null,null,null,null,null,null,{"$f":"SUM(I1527:I1528)","v":1}]
[null,null,null,null,null,null,null,"TCAMA",{"$f":"IF(B1505<I1510,1,0)","v":1}]
[null,null,null,null,null,null,null,"HCAMA",{"$f":"IF(C1505<I1513,1,0)","v":0}]
[null,null,null,null,null,null,null,null,{"$f":"SUM(I1530:I1531)","v":1}]
[]
[]
[]
["VALORACION PIENSOS ECUACIONES NANTA"]
[null,{"$f":"ECUACIONES!C51","v":0},{"$f":"ECUACIONES!D51","v":0},null,"GRAMOS","UFC","UFL"]
[{"$f":"ECUACIONES!B52","v":0},{"$f":"ECUACIONES!C52","v":0},{"$f":"ECUACIONES!D52","v":0},{"$f":"IF(#REF!=\"\",\"\",(1-#REF!))","v":{"$error":"#REF!"}},{"$f":"D1538*1000","v":{"$error":"#REF!"}},{"$f":"IF(D1538=\"\",\"\",E1538*B1538)","v":{"$error":"#REF!"}},{"$f":"IF(D1538=\"\",\"\",E1538*C1538)","v":{"$error":"#REF!"}}]
[{"$f":"ECUACIONES!B53","v":0},{"$f":"ECUACIONES!C53","v":0},{"$f":"ECUACIONES!D53","v":0},{"$f":"IF(#REF!=\"\",\"\",#REF!)","v":{"$error":"#REF!"}},{"$f":"D1539*1000","v":{"$error":"#REF!"}},{"$f":"IF(D1539=\"\",\"\",E1539*B1539)","v":{"$error":"#REF!"}},{"$f":"IF(D1539=\"\",\"\",E1539*C1539)","v":{"$error":"#REF!"}}]
[{"$f":"ECUACIONES!B54","v":0},{"$f":"ECUACIONES!C54","v":0},{"$f":"ECUACIONES!D54","v":0},{"$f":"IF(#REF!=\"\",\"\",#REF!)","v":{"$error":"#REF!"}},{"$error":"#REF!"},{"$error":"#REF!"},{"$error":"#REF!"}]
[{"$f":"ECUACIONES!B55","v":0},{"$f":"ECUACIONES!C55","v":0},{"$f":"ECUACIONES!D55","v":0},{"$f":"IF(#REF!=\"\",\"\",#REF!)","v":{"$error":"#REF!"}},{"$error":"#REF!"},{"$error":"#REF!"},{"$error":"#REF!"}]
[{"$f":"ECUACIONES!B56","v":0},{"$f":"ECUACIONES!C56","v":0},{"$f":"ECUACIONES!D56","v":0},{"$f":"IF(#REF!=\"\",\"\",#REF!)","v":{"$error":"#REF!"}},{"$error":"#REF!"},{"$error":"#REF!"},{"$error":"#REF!"}]
[null,null,null,null,null,{"$f":"SUM(F1538:F1542)","v":{"$error":"#REF!"}},{"$f":"SUM(G1538:G1542)","v":{"$error":"#REF!"}}]
[]
[]
[]
[]
[]
["COMPARATIVA RACIONES "]
[]
[{"$f":"'COMPARATIVA RACIONES'!B8","v":"PRICE EQ (Euros/grado)"},{"$f":"'COMPARATIVA RACIONES'!C8","v":0},null,"COSTE","BENEFICIO",null,"EQ"]
[{"$f":"'COMPARATIVA RACIONES'!B9","v":"LITERS"},{"$f":"'COMPARATIVA RACIONES'!C9","v":0},"INITIAl",{"$f":"E1560","v":{"$error":"#VALUE!"}},{"$f":"C1567-D1552","v":{"$error":"#VALUE!"}},null,{"$f":"SUM(B1553:B1554)","v":0}]
[{"$f":"'COMPARATIVA RACIONES'!B10","v":"FAT (%)"},{"$f":"'COMPARATIVA RACIONES'!C10","v":0},"CHECKED",{"$f":"E1564","v":{"$error":"#VALUE!"}},{"$f":"C1568-D1553","v":{"$error":"#VALUE!"}},null,{"$f":"C1566/(G1552*1000)","v":{"$error":"#DIV/0!"}}]
[{"$f":"'COMPARATIVA RACIONES'!B11","v":"PROTEIN (%)"},{"$f":"'COMPARATIVA RACIONES'!C11","v":0}]
[{"$f":"'COMPARATIVA RACIONES'!B12","v":"EXTRA PROFIT"},{"$f":"'COMPARATIVA RACIONES'!C12","v":0}]
[]
[null,"TESTIGO",{"$f":"IF('COMPARATIVA RACIONES'!C15=\"\",\"\",'COMPARATIVA RACIONES'!C15)","v":""},{"$f":"IF('COMPARATIVA RACIONES'!D15=\"\",\"\",'COMPARATIVA RACIONES'!D15)","v":""},{"$f":"(C1557/1000)*D1557","v":{"$error":"#VALUE!"}},{"$f":"C1557*D1557","v":{"$error":"#VALUE!"}}]
[null,null,{"$f":"IF('COMPARATIVA RACIONES'!C16=\"\",\"\",'COMPARATIVA RACIONES'!C16)","v":""},{"$f":"IF('COMPARATIVA RACIONES'!D16=\"\",\"\",'COMPARATIVA RACIONES'!D16)","v":""},{"$f":"(C1558/1000)*D1558","v":{"$error":"#VALUE!"}},{"$f":"C1558*D1558","v":{"$error":"#VALUE!"}}]
[null,null,{"$f":"IF('COMPARATIVA RACIONES'!C17=\"\",\"\",'COMPARATIVA RACIONES'!C17)","v":""},{"$f":"IF('COMPARATIVA RACIONES'!D17=\"\",\"\",'COMPARATIVA RACIONES'!D17)","v":""},{"$error":"#VALUE!"},{"$error":"#VALUE!"}]
[null,null,null,null,{"$f":"SUM(E1557:E1559)","v":{"$error":"#VALUE!"}}]
[null,"CONTROL",{"$f":"IF('COMPARATIVA RACIONES'!C20=\"\",\"\",'COMPARATIVA RACIONES'!C20)","v":""},{"$f":"IF('COMPARATIVA RACIONES'!D20=\"\",\"\",'COMPARATIVA RACIONES'!D20)","v":""},{"$f":"(C1561/1000)*D1561","v":{"$error":"#VALUE!"}},{"$error":"#VALUE!"}]
[null,null,{"$f":"IF('COMPARATIVA RACIONES'!C21=\"\",\"\",'COMPARATIVA RACIONES'!C21)","v":""},{"$f":"IF('COMPARATIVA RACIONES'!D21=\"\",\"\",'COMPARATIVA RACIONES'!D21)","v":""},{"$f":"(C1562/1000)*D1562","v":{"$error":"#VALUE!"}},{"$error":"#VALUE!"}]
[null,null,{"$f":"IF('COMPARATIVA RACIONES'!C22=\"\",\"\",'COMPARATIVA RACIONES'!C22)","v":""},{"$f":"IF('COMPARATIVA RACIONES'!D22=\"\",\"\",'COMPARATIVA RACIONES'!D22)","v":""},{"$error":"#VALUE!"},{"$error":"#VALUE!"}]
[null,null,null,null,{"$f":"SUM(E1561:E1563)","v":{"$error":"#VALUE!"}}]
[null,"PRODUCCION EQ  TESTIGO",{"$f":"((B1552*(B1553+B1554)*1000))","v":0}]
[null,"PRODUCCION EQ CONTROL",{"$f":"C1565*(1+B1555)","v":0}]
[null,"INGRESOS TESTIGO",{"$f":"C1565*(B1551/1000)","v":0}]
[null,"INGRESOS CONTROL",{"$f":"C1566*(B1551/1000)","v":0}]
[null,"BENEFICIO TESTIGO",{"$f":"E1552","v":{"$error":"#VALUE!"}}]
[null,"BENEFICIO CONTROL",{"$f":"E1553","v":{"$error":"#VALUE!"}}]
[null,"EXTRA BENEFICIO CONTROL",{"$f":"IF(C1563=\"\",\"\",C1570-C1569)","v":""}]
[]
[]
[null,"PRECIO KOMPLET + BENEFICIO"]
[null,"PRECIO ALFALFA - BENEFICIO"]
[]
[null,"PRECIO UMBRAL TESTIGO",{"$f":"(C1570-C1567+E1557+E1558)/-D1559","v":{"$error":"#VALUE!"}}]
[null,"PRECIO UMBRAL CONTROL",{"$f":"(C1569-C1568+E1561+E1562)/-D1563","v":{"$error":"#VALUE!"}}]
[]
[null,"MARGEN CONTROL",{"$f":"IF(#REF!=\"\",\"\",#REF!-D1562)","v":{"$error":"#REF!"}}]
[]
[]
[]
[]
[]
[]
[]
["PREDICCION UREA EN LECHE","(VER \"ECUACIONES\")"]
[]
[]
[null,"RMIC (PDIN-PDIE)/UFL)",{"$f":"IF(MILKUREA!C10=\"\",\"\",MILKUREA!C10)","v":""}]
[null,"PRODUCCION (l/dia)",{"$f":"IF(MILKUREA!C11=\"\",\"\",MILKUREA!C11)","v":""}]
[null,"UREA (mg/l)",{"$f":"IF(C1591=\"\",\"\",(200+(C1591*15)+(C1592*23.5)))","v":""},"\"1\""]
[null,"UREA (mg/l)",{"$f":"IF(C1591=\"\",\"\",377+(13.4*C1591))","v":""},"\"2\""]
[null,"UREA (mg/l)",{"$f":"IF(C1591=\"\",\"\",391+(8.28=C1591*C1592))","v":""},"\"3\""]
[null,"grPB/KgMS",{"$f":"IF(MILKUREA!C16=\"\",\"\",MILKUREA!C16)","v":""}]
[null,"PDIN balance",{"$f":"IF(MILKUREA!C17=\"\",\"\",MILKUREA!C17)","v":""}]
[null,"UREA (mg/l)",{"$f":"IF(C1596=\"\",\"\",((C1596*0.56)-57.5)*10)","v":""},"\"4\""]
[null,"UREA (mg/l)",{"$f":"IF(C1597=\"\",\"\",((C1597*0.35)+25)*10)","v":""},"\"5\""]

{"sheet":"ECUACIONES","index":3,"n_rows":47,"n_cols":10,"rows_kept":47,"cut":false,"hidden":false,"merged":[]}
["ECUACIONES CALCULO PROD EQ A PARTIR DE LITROS/DIA",null,null,"Y=AX+B"]
[]
[]
[]
[]
[]
[]
[]
[]
[]
[]
[]
[]
[]
[]
[]
[]
[]
[]
[]
[]
[]
["ECUACIONES PREDICCION PRODUCCION LECHE (MANTECON)"]
[null,"A","B"," Y= AxProd + BxDias"]
["ECUACION 1 /1º CONTROL)",0.25900000000000001,0.75]
["ECUACION2 (CONTROL CUALQUIERA)",0.255,1.319]
[]
["NECESIDADES INRA","FACTOR MANT UFL","CI","FACTOR PLS x GB","FACTOR PLS x PB","FACTOR PLS SUMA","FACTOR LECHE"]
["OVINO",3.3000000000000002E-2,8.5000000000000006E-2,7.1000000000000004E-3,4.3E-3,0.22239999999999999,0.71]
[null,"MANT1","MANT2","MANT3","UFLREAL1","UFLREAL2 GB1","UFLREAL2 GB2","UFLREAL2 PB1","UFLREAL5","UFLREAL2 SUMA"]
["CAPRINO",0.79,0.01,60,0.4,5.4999999999999997E-3,35,3.3E-3,31,0.4]
[]
[]
["DISTANCIUA ENTRE NAVES","FACTOR",null,"Y= FACTORxALTURA + RAIZ CUADRADA DE LONGITUD"]
[null,0.72399999999999998]
[]
["ECUACIONES  PREDICCION PRODUCCION DIARIA (MANTECON)"]
[]
[null,"cod ecuaci","A","B","n","Prod= A- BxDias"]
[null,1,1135,3.05,58160]
[null,2,751,2.82,17091]
[null,3,1126,3.81,21420]
[null,4,1446,4.45,13221]
[null,5,1800,3.99,5659]
[null,6,2163,5.48,769]
[]
["ECUACIONES  PREDICCION ENERGIA PIENSOS"]

{"sheet":"COMPARATIVA RACIONES","index":4,"n_rows":30,"n_cols":4,"rows_kept":30,"cut":false,"hidden":false,"merged":[[28,3,29,3],[7,0,11,0],[14,0,16,0],[19,0,21,0],[24,0,26,0],[28,0,29,0]]}
[]
[]
[]
[]
["COMPARING RATIONS"]
[]
[]
["ANIMAL AND PRODUCTION DATA","PRICE EQ (Euros/grado)"]
[null,"LITERS",null,{"$f":"IF(C12=\"\",\"\",'ENLACES DATOS'!G1553)","v":""}]
[null,"FAT (%)",null,{"$f":"IF(C12=\"\",\"\",(D12-(D11-D12)))","v":""}]
[null,"PROTEIN (%)",null,{"$f":"IF(C12=\"\",\"\",(((D26-C26)/C9)/1000)+(C10+C11))","v":""}]
[null,"EXTRA PROFIT",null,{"$f":"IF(C10=\"\",\"\",C10+C11)","v":""}]
[]
[null,null,"EUROS/TM","KG/DAY"]
["INITIAL RATION","STRAW"]
[null,"ALFALFA/HAY/UNIFEED/FORAGE"]
[null,"CONCENTRATE INITIAL"]
[]
[null,null,"EUROS/TM","KG/DAY"]
["CHECKING CONTROL","STRAW"]
[null,"ALFALFA/HAY/UNIFEED/FORAGE"]
[null,"CONCENTRATE CHECKED"]
[]
[null,null,"INITIAL","CHECKED"]
["RATIONS DIFFERENCES","RATION COST (EUROS DAY)",{"$f":"IF(C16=\"\",\"\",'ENLACES DATOS'!D1552)","v":""},{"$f":"IF(C16=\"\",\"\",'ENLACES DATOS'!D1553)","v":""}]
[null,"EQ(GR)PRODUCTION/DAY",{"$f":"IF(C9=\"\",\"\",'ENLACES DATOS'!C1565)","v":""},{"$f":"IF(C9=\"\",\"\",'ENLACES DATOS'!C1566)","v":""}]
[null,"INCOMES/DAY",{"$f":"IF(C25=\"\",\"\",'ENLACES DATOS'!C1567)","v":""},{"$f":"IF(D25=\"\",\"\",'ENLACES DATOS'!C1568)","v":""}]
[]
["MINIMUM PRICE","INITIAL",{"$f":"IF(C17=\"\",\"\",'ENLACES DATOS'!C1577*1000)","v":""},{"$f":"IF('ENLACES DATOS'!C1571=\"\",\"\",IF('ENLACES DATOS'!C1571>0,\"¡CONTROL!\",\"¡TESTIGO!\"))","v":""}]
[null,"CHECKED",{"$f":"IF(C22=\"\",\"\",'ENLACES DATOS'!C1578*1000)","v":""}]

{"sheet":"CALCULO DISTANCIA ENTRE NAVES","index":5,"n_rows":34,"n_cols":3,"rows_kept":34,"cut":false,"hidden":false,"merged":[[10,0,11,0],[33,1,34,1],[8,1,8,2]]}
[]
[]
[]
[]
["CALCUALTING DISTANCES BETWEEN BUILDINGS"]
[]
[]
[]
["FARMER"]
[]
["BUILDING AGAINST WIND","HEIGHT (M)"]
[null,"LENGTH (M)"]
[]
["RECOMENDED DISTANCE","DISTANCE BETWEEN BUILDINGS",{"$f":"IF('ENLACES DATOS'!B1299=\"\",\"\",'ENLACES DATOS'!B1299)","v":""}]
[]
[]
[]
[]
[]
[]
[]
[]
[]
[]
[]
[]
[]
[]
[]
[]
[]
[]
[]
[null,{"$f":"IF(C14=\"\",\"\",C14)","v":""}]

{"sheet":"CHEQUEO DIMENSIONADO NAVE","index":6,"n_rows":41,"n_cols":15,"rows_kept":41,"cut":false,"hidden":false,"merged":[[8,1,8,2],[10,0,16,0],[19,0,22,0],[23,14,24,15],[15,11,15,13],[40,0,41,2],[25,0,36,0],[38,0,38,2],[39,0,39,2],[23,11,24,12],[39,10,40,11]]}
[]
[]
[]
[]
["BUILDING CHECKING"]
[]
[]
[null,null,null,null,null,null,null,null,null,null,null,null,{"$f":"IF(C37=\"\",\"\",C37)","v":0.45157894736842102}]
["FARMER","EJEMPLO"]
[]
["FACILITIES DATA","Nº ANIMALS",715]
[null,"LENGHT (M)",50,null,null,null,null,{"$f":"IF(C36=\"\",\"\",C36)","v":0.61285714285714288}]
[null,"WIDTH (M)",15]
[null,"LATERAL HEIGHT (M)",8]
[null,"CENTRAL HEIGHT (M)",9]
[null,"Nº CORRIDORS",1,null,null,null,null,null,null,null,null,{"$f":"IF(C13=\"\",\"\",C13)","v":15}]
[null,"EACH CORRIDOR WIDTH (M)",4]
[]
[null,null,null,"RECOMENDATION"]
["CALCULATION DATA","INPUT OF AIR (M2/ANIMAL)",0.06,{"$f":"IF(C11=\"\",\"\",0.06)","v":0.06}]
[null,"OUTPUT OF AIR (M2/ANIMAL)",0.03,{"$f":"IF(C11=\"\",\"\",0.03)","v":0.03}]
[null,"STATIC VOLUME/ANIMAL (M3)",8,{"$f":"IF(C11=\"\",\"\",\"8 a 10\")","v":"8 a 10"}]
[null,"SURFACE/ANIMAL (M2)",1.25,{"$f":"IF(C11=\"\",\"\",\"1.25 a 1.5\")","v":"1.25 a 1.5"}]
[null,null,null,null,null,null,null,null,null,null,null,{"$f":"IF(C12=\"\",\"\",C12)","v":50},null,null,{"$f":"IF(C36=\"\",\"\",C36)","v":0.61285714285714288}]
[]
["BUILDING RECOMENDATIONS","TOTAL SURFACE (M2)",{"$f":"IF('ENLACES DATOS'!B1278=\"\",\"\",'ENLACES DATOS'!B1278)","v":750}]
[null,"CORRIDOR SURFACE (M2)",{"$f":"IF('ENLACES DATOS'!B1279=\"\",\"\",'ENLACES DATOS'!B1279)","v":200}]
[null,"ANIMAL SURFACE (M2)",{"$f":"IF('ENLACES DATOS'!B1280=\"\",\"\",'ENLACES DATOS'!B1280)","v":550}]
[null,"MAXIMUN OF ANIMALS (SURFACE)",{"$f":"IF('ENLACES DATOS'!B1281=\"\",\"\",'ENLACES DATOS'!B1281)","v":440}]
[null,"REAL STATIC VOLUME (M3)",{"$f":"IF('ENLACES DATOS'!B1284=\"\",\"\",'ENLACES DATOS'!B1284)","v":6375}]
[null,"RECOMENDED STATIC VOL (M3) ",{"$f":"IF(C22=\"\",\"\",C11*C22)","v":5720}]
[null,"MAXIMUM OF ANIMALS (VOL EST)",{"$f":"IF('ENLACES DATOS'!B1285=\"\",\"\",'ENLACES DATOS'!B1285)","v":796.875}]
[null,"%PENDING",{"$f":"IF('ENLACES DATOS'!B1286=\"\",\"\",'ENLACES DATOS'!B1286)","v":0.13333333333333333}]
[null,"MIN INPUT AIR SURFACE (M2)",{"$f":"IF('ENLACES DATOS'!B1287=\"\",\"\",'ENLACES DATOS'!B1287)","v":42.9}]
[null,"MIN OUTPUT AIR SURFACE(M2)",{"$f":"IF('ENLACES DATOS'!B1288=\"\",\"\",'ENLACES DATOS'!B1288)","v":21.45}]
[null,"MIN WINDOW WIDTH (M)",{"$f":"IF('ENLACES DATOS'!B1289=\"\",\"\",'ENLACES DATOS'!B1289)","v":0.61285714285714288}]
[null,"MIN ROOF WIDTH (M)",{"$f":"IF('ENLACES DATOS'!B1290=\"\",\"\",'ENLACES DATOS'!B1290)","v":0.45157894736842102}]
[]
[{"$f":"IF(C33=\"\",\"\",IF($C$33>0.29,\"\",\"La pendiente debería tener al menos un 30% para que funcione el efecto chimenea\"))","v":"La pendiente debería tener al menos un 30% para que funcione el efecto chimenea"}]
[{"$f":"IF(C33=\"\",\"\",IF($C$33>0.29,\"\",\"Tal vez se necesiten sistemas de ventilación añadidos\"))","v":"Tal vez se necesiten sistemas de ventilación añadidos"},null,null,null,null,null,null,null,null,null,{"$f":"IF(C37=\"\",\"\",C37)","v":0.45157894736842102}]
[{"$f":"IF(C13=\"\",\"\",IF($C$13>13,\"\",\"Tal vez se necesiten sistemas de ventilación añadidos, ya que la anhura de la nave compromete el funcionamiento del efecto chimenea\"))","v":""}]

{"sheet":"GRAZZING SHEEP&GOAT","index":7,"n_rows":142,"n_cols":36,"rows_kept":142,"cut":false,"hidden":false,"merged":[[29,6,35,6],[8,6,12,6],[16,6,21,6],[24,6,25,6],[4,30,6,30],[7,30,10,30]]}
[]
[]
[null,null,null,null,null,null,null,null,null,null,null,null,null,null,null,null,null,"ANNALYSIS",null,null,null,"DATABASE GREEN FORAGES",null,null,null,null,null,null,null,null,"REQUIREMENTS "]
[null,null,null,null,null,null,null,null,null,null,null,null,null,null,null,null,null,"FORAGE","PASTURE GRASS ",null,null,"Description short","DM*","CP*","CF*","UEL","NDF**","UFL","Ash*",null,"BW","MILK","ULO","UFL","UFL/ULO","PDI"]
[null,"INRA 2007",null,null,null,null,null,null,null,null,null,null,null,null,null,null,null,"DM",0.2,null,null,"Pasture grass 1 cut, ear good Q",180,161,239,1,472,0.9,100,null,50,2.5,2.7,2.08,{"$f":"AH5/AG5","v":0.77037037037037037},258]
[null,null,null,null,null,null,null,null,null,null,null,null,null,null,null,null,null,"%CP",0.1235,null,null,"Pasture grass 1 cut, leaves good Q",150,207,167,0.95,353,1.05,100,null,null,2,2.6,1.86,{"$f":"AH6/AG6","v":0.7153846153846154},229]
["GRAZZING SHEEP&GOATS",null,null,null,null,null,{"$f":"A7","v":"GRAZZING SHEEP&GOATS"},null,null,null,null,null,null,null,null,null,null,"%CF",0.27400000000000002,null,null,"Pasture grass 1 cut, shoot good Q",160,188,200,1,406,0.98,100,null,null,1.6,2.2999999999999998,1.58,0.68695652173913047,189]
[null,null,null,null,null,null,null,null,null,"DIET vs REQUIR",null,null,null,null,null,null,null,"%Ash",0.1,null,null,"Pasture grass 1 cut, young",150,173,200,1,507,1,80,null,70,3,3.3,2.57,0.77878787878787881,142]
[null,null,null,null,null,null,"REQUIREMENTS","UEL",2.6,{"$f":"IF(I31=\"\",\"\",(I31-I9)/I9)","v":-3.0480769230769075E-2},null,null,null,null,null,null,null,null,null,null,null,"Pasture grass 2 cut, ear good Q",180,172,239,1,456,0.9,106,null,null,2.5,3.1,2.2599999999999998,0.72903225806451599,312]
[null,null,null,null,null,null,null,"UFL",1.75,{"$f":"IF(I32=\"\",\"\",(I32-I10)/I10)","v":2.1999999999999988E-2},null,null,null,null,null,null,null,"UEL?",1.1499999999999999,null,null,"Pasture grass 2 cut, leaves good Q",160,206,162,0.95,362,1.05,106,null,null,2,3,2.0299999999999998,0.67666666666666664,278]
[null,null,null,null,null,null,null,"PDI (gr)",229,{"$f":"IF(I34=\"\",\"\",(I34-I11)/I11)","v":0.17903930131004367},null,null,null,null,null,null,null,"UFL?",0.82,null,null,"Pasture grass 2 cut, shoot good Q",170,194,200,0.95,400,0.98,106,null,null,1.6,2.8,1.75,0.625,245]
[null,null,null,null,null,null,null,"Ca (gr)",null,{"$f":"IF(I35=\"\",\"\",(I35-I12)/I12)","v":""},null,null,null,null,null,null,null,null,null,null,null,"Pasture grass, 1 cut, begin flower, good Q",200,130,280,1.1000000000000001,535,0.82,100]
[null,null,null,null,null,null,null,"P (gr)",null,{"$f":"IF(I36=\"\",\"\",(I36-I13)/I13)","v":""},null,null,null,null,null,null,null,null,null,null,null,"Pasture grass, 1 cut, end flower, good Q",220,109,314,1.1499999999999999,586,0.76,100]
[null,null,null,null,null,null,null,null,null,null,null,null,null,null,null,null,null,null,null,null,null,"Pasture grass, 1 cut, long",200,125,310,1.1499999999999999,660,0.79,85]
[null,null,null,null,null,null,null,null,null,null,null,null,null,null,null,null,null,null,null,null,null,"Pasture grass, 2 cut, begin flower, good Q",200,155,275,1.1000000000000001,505,0.84,105]
[null,null,null,null,null,null,null,null,"FORAGE","CONCENTRATE",null,null,null,null,null,null,null,null,null,null,null,"Pasture grass, 2 cut, older",200,140,270,1.1000000000000001,510,0.87,75]
[null,null,null,null,null,null,"INGREDIENTS","DM (%)",0.2,0.9,null,null,null,null,null,null,null,null,null,null,null,"Pasture grass, 2 cut, young",150,187,233,1,393,0.95,87]
[null,null,null,null,null,null,null,"UEL",1.1499999999999999,{"$f":"IF(I18=\"\",\"\",((3.35-(2.3*I18))*I18))","v":0.81075000000000053},null,null,null,null,null,null,null,null,null,null,null,"Pasture grass, flowering",180,144,272,1,600,0.86,83]
[null,null,null,null,null,null,null,"UFL/Kg DM",0.78,0.8,null,null,null,null,null,null,null,null,null,null,null,"Red clover + grass, flowering",160,150,256,1,581,0.88,88]
[null,null,null,null,null,null,null,"PDI (gr/KgDM)",75,180,null,null,null,null,null,null,null,null,null,null,null,"Red clover + grass, young",140,207,186,0.95,450,1.03,93]
[null,"UEL",1.05,null,null,null,null,"Ca (gr/Kg DM)",null,12,null,null,null,null,null,null,null,null,null,null,null,"Red clover, flowering",200,160,280,0.55000000000000004,580,0.84,95]
[null,"INITIAL LENGTH",20,null,null,null,null,"P (gr/Kg DM)",null,4.5,null,null,null,null,null,null,null,null,null,null,null,"Red clover, young",140,207,200,1,471,1,100]
[null,"FINAL LENGHT",10,null,null,null,null,null,null,null,null,null,null,null,null,null,null,null,null,null,null,"Ryegrass",140,200,200,1,414,1,93]
[null,null,null,null,null,null,null,null,"DM basis","FRESH basis",null,null,null,null,null,null,null,null,null,null,null,"Ryegrass 2 cut",160,169,250,1.1000000000000001,481,0.9,94]
[null,"DRY MATTER INTAKE(KG)","Total",null,null,null,"DIET","FORAGE (Kg)",1.2,{"$f":"IF(I25=\"\",\"\",I25/I17)","v":5.9999999999999991},null,null,null,null,null,null,null,null,null,null,null,"Ryegrass, flowering",180,133,283,1.1499999999999999,550,0.82,94]
[null,"Total",1.8260000000000001,null,null,null,null,"STRAW",0.15,{"$f":"I26/0.9","v":0.16666666666666666},null,null,null,null,null,null,null,null,null,null,null,"Alexandrie clover",125,200,240,0.95,496,0.98399999999999999,120]
[null,null,null,null,null,null,null,"CONCENTRATE (Kg)",1,{"$f":"IF(I27=\"\",\"\",I27/J17)","v":1.1111111111111112},null,null,null,null,null,null,null,null,null,null,null,"Alfalfa grass flowering",185,167,282,1.1499999999999999,491,0.69,98]
[null,null,null,null,null,null,null,"DM TOTAL",{"$f":"SUM(I25:I27)","v":2.3499999999999996},null,null,null,null,null,null,null,null,null,null,null,null,"Alfalfa grass, before flowering",150,200,216,1,395,0.75600000000000001,105]
[null,null,null,null,null,null,null,null,null,null,null,null,null,null,null,null,null,null,null,null,null,"Alfalfa, before flowering",180,216,231,1,419,0.745,110]
[null,null,null,null,null,null,"DIET COMPOSITION","DM (%)",{"$f":"IF(I17=\"\",\"\",(I25+I27+I26)/(J25+J27+J26))","v":0.32290076335877865},null,null,null,null,null,null,null,null,null,null,null,null,"Alfalfa, begin flowering",200,188,277,1.1000000000000001,485,0.70499999999999996,97]
[null,null,null,null,null,null,null,"UEL",{"$f":"IF(I18=\"\",\"\",(I18*$I$25)+(J18*$I$27)+(I26*2.2))","v":2.5207500000000005},null,null,null,null,null,null,null,null,null,null,null,null,"Alfalfa, end flowering",210,169,331,1.2,530,0.65500000000000003,91]
[null,null,null,null,null,null,null,"UFL/UEL",{"$f":"IF(I19=\"\",\"\",(I19*$I$25)+(J19*$I$27)+(I26*0.35))","v":1.7885},null,null,null,null,null,null,null,null,null,null,null,null,"Beet leaves, fodderbeets",120,141.667,116.667,0.9,258.33300000000003,1.008,166.667]
[null,null,null,null,null,null,null,"UFL/UEL",{"$f":"IF(I32=\"\",\"\",I32/I31)","v":0.70951105821680038},null,null,null,null,null,null,null,null,null,null,null,null,"Beet leaves, sugarbeets",160,150,106.25,0.9,225,1.0309999999999999,162.5]
[null,null,null,null,null,null,null,"PDI (gr)",{"$f":"IF(I20=\"\",\"\",(I20*$I$25)+(J20*$I$27))","v":270},null,null,null,null,null,null,null,null,null,null,null,null,"Clover, older",130,192.30799999999999,230.76900000000001,0.95,500,1,100]
[null,null,null,null,null,null,null,"Ca (gr)",{"$f":"IF(I21=\"\",\"\",(I21*$I$25)+(J21*$I$27))","v":""},null,null,null,null,null,null,null,null,null,null,null,null,"Clover, young",118,237.28800000000001,211.864,0.95,440.678,1.042,110.169]
[null,null,null,null,null,null,null,"P (gr)",{"$f":"IF(I22=\"\",\"\",(I22*$I$25)+(J22*$I$27))","v":""},null,null,null,null,null,null,null,null,null,null,null,null,"Green maize, milk white",240,83.332999999999998,229.167,1,487.5,0.88300000000000001,70.832999999999998]
[null,null,null,null,null,null,null,null,null,null,null,null,null,null,null,null,null,null,null,null,null,"Green maize, paste white",280,85.713999999999999,235.714,1,475,0.90700000000000003,60.713999999999999]
[null,null,null,null,null,null,null,null,null,null,null,null,null,null,null,null,null,null,null,null,null,"Green oats, flowering",240,116.667,308.33300000000003,1.2,475,0.75800000000000001,87.5]
[null,null,null,null,null,null,null,null,null,null,null,null,null,null,null,null,null,null,null,null,null,"Green oats, leaves",170,170.58799999999999,258.82400000000001,1,411.76499999999999,0.95299999999999996,88.234999999999999]
[null,null,null,null,null,null,null,null,null,null,null,null,null,null,null,null,null,null,null,null,null,"Green rye",170,170.58799999999999,282.35300000000001,1.1000000000000001,441.17599999999999,0.871,100]
[null,null,null,null,null,null,null,null,null,null,null,null,null,null,null,null,null,null,null,null,null,"Landsb. grass, before flowering",170,194.11799999999999,217.64699999999999,0.95,370.58800000000002,0.99399999999999999,111.765]
[null,null,null,null,null,null,null,null,null,null,null,null,null,null,null,null,null,null,null,null,null,"Landsbg. average, flowering",190,163.15799999999999,268.42099999999999,1.1000000000000001,484.21100000000001,0.84699999999999998,110.526]
[null,null,null,null,null,null,null,null,null,null,null,null,null,null,null,null,null,null,null,null,null,"Legumes mixture",120,200,241.667,1.1000000000000001,358.33300000000003,0.85099999999999998,91.667000000000002]
[null,null,null,null,null,null,null,null,null,null,null,null,null,null,null,null,null,null,null,null,null,"Mustard, for flowering",120,216.667,200,0.95,391.66699999999997,0.99199999999999999,133.333]
[null,null,null,null,null,null,null,null,null,null,null,null,null,null,null,null,null,null,null,null,null,"Summer rape, older",140,207.143,164.286,0.9,307.14299999999997,1.0429999999999999,142.857]
[null,null,null,null,null,null,null,null,null,null,null,null,null,null,null,null,null,null,null,null,null,"Summer rape, young",120,216.667,125,0.9,250,1.083,141.667]
[null,null,null,null,null,null,null,null,null,null,null,null,null,null,null,null,null,null,null,null,null,"Turnip, flowering",120,191.667,150,0.9,283.33300000000003,1.0669999999999999,133.333]
[null,null,null,null,null,null,null,null,null,null,null,null,null,null,null,null,null,null,null,null,null,"Turnip, for flowering",110,181.81800000000001,109.09099999999999,0.9,209.09100000000001,1.091,154.54499999999999]
[null,null,null,null,null,null,null,null,null,null,null,null,null,null,null,null,null,null,null,null,null,"Winterrape",110,200,209.09100000000001,0.95,400,0.99099999999999999,136.364]
[null,null,null,null,null,null,null,null,null,null,null,null,null,null,null,null,null,null,null,null,null,"Winterrape, Perko, older",130,200,184.61500000000001,0.95,353.846,0.99199999999999999,138.46199999999999]
[null,null,null,null,null,null,null,null,null,null,null,null,null,null,null,null,null,null,null,null,null,"Winterrape, Perko, young",100,220,130,0.9,260,1.08,140]
[null,null,null,null,null,null,null,null,null,null,null,null,null,null,null,null,null,null,null,null,null,"Artichoke (fresh)",112,162,275,1.1499999999999999,458,0.79800000000000004,90]
[]
[]
[]
[]
[]
[]
[]
[]
[]
[]
[]
[]
[]
[]
[]
[]
[]
[]
[]
[]
[]
[]
[]
[]
[]
[]
[]
[]
[]
[]
[]
[]
[]
[]
[]
[]
[]
[]
[]
[]
[]
[]
[]
[]
[]
[]
[]
[]
[]
[]
[]
[]
[]
[]
[]
[]
[]
[]
[]
[]
[]
[]
[]
[]
[]
[]
[]
[]
[]
[]
[]
[]
[]
[]
[]
[]
[]
[]
[]
[]
[]
[]
[]
[]
[]
["I nota cc",null,null,null,null,9.5000000000000001E-2]
["PV metabolico",null,null,null,null,8.8999999999999996E-2]
[null,null,null,null,null,8.1000000000000003E-2]
[null,null,null,null,null,7.4999999999999997E-2]
[null,null,null,null,null,7.4999999999999997E-2]

{"sheet":"MILKUREA","index":8,"n_rows":19,"n_cols":3,"rows_kept":19,"cut":false,"hidden":false,"merged":[[9,0,13,0],[15,0,18,0]]}
[]
[]
[]
[]
["MILK UREA PREDICTION"]
[]
[]
[]
[]
[null,"RMIC (PDIN-PDIE)/UFL)"]
[null,"MILK YIELD (l/day)"]
[null,"UREA (mg/l)",{"$f":"IF('ENLACES DATOS'!C1593=\"\",\"\",'ENLACES DATOS'!C1593)","v":""}]
[null,"UREA (mg/l)",{"$f":"IF('ENLACES DATOS'!C1594=\"\",\"\",'ENLACES DATOS'!C1594)","v":""}]
[null,"UREA (mg/l)",{"$f":"IF('ENLACES DATOS'!C1595=\"\",\"\",'ENLACES DATOS'!C1595)","v":""}]
[]
[null,"grPB/KgDM"]
[null,"PDIN balance"]
[null,"UREA (mg/l)",{"$f":"IF('ENLACES DATOS'!C1598=\"\",\"\",'ENLACES DATOS'!C1598)","v":""}]
[null,"UREA (mg/l)",{"$f":"IF('ENLACES DATOS'!C1599=\"\",\"\",'ENLACES DATOS'!C1599)","v":""}]

{"sheet":"CHEQUEO SALA ORDEÑO","index":9,"n_rows":102,"n_cols":8,"rows_kept":102,"cut":false,"hidden":false,"merged":[[7,1,8,1],[5,0,21,0],[23,0,43,0],[45,0,50,0],[7,7,8,7],[5,5,21,5],[7,6,8,6],[23,5,43,5],[45,5,50,5]]}
[]
[]
[]
["BASIC MILKING PARLOR ASSESSMENT",null,null,null,null,{"$f":"A4","v":"BASIC MILKING PARLOR ASSESSMENT"}]
[]
["WORKING PROBLEMS DETECTION","MILKING VACCUM",38,"Kpas",{"$f":"IF(C6=\"\",\"\",IF(C6<32,\"INCORRECTO\",(IF(C6>40,\"INCORRECTO\",\"CORRECTO\"))))","v":"CORRECTO"},{"$f":"A6","v":"WORKING PROBLEMS DETECTION"},{"$f":"B6","v":"MILKING VACCUM"},{"$f":"IF(C6=\"\",\"\",(IF(C6>40,\"Depende del nº de pulsaciones. Hasta 32 Kpa con 180 ppm en linea baja\",\"Ver tabla de equivalencias\")))","v":"Ver tabla de equivalencias"}]
[null,"VACCUM RESERVATION",2,"Kpas",{"$f":"IF(C7=\"\",\"\",(IF(C7>2,\"INCORRECTO\",\"CORRECTO\")))","v":"CORRECTO"},null,{"$f":"B7","v":"VACCUM RESERVATION"},{"$f":"IF(C7=\"\",\"\",(IF(C7>2,\"Ojo capacidad de bomba, regulador, fugas...\",\"Al abrir unidades el vacio no bajará más de 2 Kpas\")))","v":"Al abrir unidades el vacio no bajará más de 2 Kpas"}]
[null,"(Open Unites= Milking workers + 1",36,"Low level",null,null,"(Open Unites= Milking workers + 1","COMENT:"]
[null,null,30,"Maximum",null,null,0]
[null,"REGULATOR","INCORRECTO",null,null,null,"REGULATOR",{"$f":"IF(C10=\"\",\"\",(IF(C10=\"INCORRECTO\",\"Revisar regulador. Limpieza y funcionamiento\",\"Regulador funciona correctamente\")))","v":"Revisar regulador. Limpieza y funcionamiento"}]
[null,"Open units and reduce 2 Kpas of Vaccum. ¿Is it admising more air?","YES",null,null,null,"Open units and reduce 2 Kpas of Vaccum. ¿Is it admising more air?","COMENT:"]
[null,"Cleanning","NO",null,null,null,"Cleanning"]
[null,"Lighter trial. Flame to the regulator?",null,null,null,null,"Lighter trial. Flame to the regulator?","COMENT:"]
[null,"PULSATION",120,"ppm",{"$f":"IF(C14=\"\",\"\",\"Revisar si el valor coincide con el establecido\")","v":"Revisar si el valor coincide con el establecido"},null,"PULSATION"]
[null,"MILK FLOW","OK",null,null,null,"MILK FLOW",{"$f":"IF(C15=\"\",\"\",\"El flujo de leche debe ser laminar\")","v":"El flujo de leche debe ser laminar"}]
[null,"See Milk Pipelines. It should be slow and not fast",null,null,null,null,"See Milk Pipelines. It should be slow and not fast","COMENT:"]
[null,"See Nipples",null,null,null,null,"See Nipples"]
[null,"See Colector Holes",null,null,null,null,"See Colector Holes","COMENT:"]
[null,"CLEANING MACHINE","INCORRECTO",null,null,null,"CLEANING MACHINE"]
[null,"See Turbulences during cleanning",null,null,null,null,"See Turbulences during cleanning","COMENT:"]
[null,"Water Temperature",35,null,{"$f":"IF(C21=\"\",\"\",(IF(C21<65,\"INCORRECTO\",\"CORRECTO\")))","v":"INCORRECTO"},null,"Water Temperature"]
[null,"See cleanning pressure, lack of air injection systems, dirty corner pipelines",null,null,null,null,"See cleanning pressure, lack of air injection systems, dirty corner pipelines","COMENT:"]
[]
["DESIGN FAILURES DETECTION","PUMP POWER",89,"l/unit",{"$f":"IF(C24=\"\",\"\",(IF(C24<110,\"INCORRECTO\",\"CORRECTO\")))","v":"INCORRECTO"},{"$f":"A24","v":"DESIGN FAILURES DETECTION"},"PUMP POWER",{"$f":"IF(C24=\"\",\"\",(IF(C24<110,\"Mínimo 110 litros por unidad de ordeño  a 50 Kpas\",\"Capacidad de bomba adecuada\")))","v":"Mínimo 110 litros por unidad de ordeño  a 50 Kpas"}]
[null,"AIR CONDUCTION","OK",null,null,null,"AIR CONDUCTION",{"$f":"IF(C25=\"\",\"\",IF(C25=\"INCORRECTO\", \"Ver apartados más abajo\",\"Conducción de aire correctamente dimensionada\"))","v":"Conducción de aire correctamente dimensionada"}]
[null,"Inside Air Diameter",34,"mm",{"$f":"IF(C26=\"\",\"\",(IF(C26<60,\"INCORRECTO\",\"CORRECTO\")))","v":"INCORRECTO"},null,"Inside Air Diameter",{"$f":"IF(C26=\"\",\"\",(IF(C26<60,\"Minimo 60 mm en salas con 8 unidades. A más unidades más diámetro\",\"Comprobar diámetro necesario según unidades ordeño\")))","v":"Minimo 60 mm en salas con 8 unidades. A más unidades más diámetro"}]
[null,"MILK CONDUCTION","OK",null,null,null,"MILK CONDUCTION",{"$f":"IF(C27=\"\",\"\",IF(C27=\"INCORRECTO\", \"Ver apartados más abajo\",\"Conducción de leche correctamente dimensionada\"))","v":"Conducción de leche correctamente dimensionada"}]
[null,"Inside Milk Diameter",25,"mm",{"$f":"IF(C28=\"\",\"\",(IF(C28<50,\"INCORRECTO\",\"CORRECTO\")))","v":"INCORRECTO"},null,"Inside Milk Diameter",{"$f":"IF(C28=\"\",\"\",(IF(C28<50,\"Minimo 60 mm para salas de hasta 12 unidades\",\"Comprobar diámetro necesario según unidades ordeño\")))","v":"Minimo 60 mm para salas de hasta 12 unidades"}]
[null,"RECEPTOR",45,"Litters",{"$f":"IF(C29=\"\",\"\",(IF(C29<30,\"INCORRECTO\",\"CORRECTO\")))","v":"CORRECTO"},null,"RECEPTOR",{"$f":"IF(C29=\"\",\"\",(IF(C29<30,\"Minimo 30 litros para 8 unidades. Ver referencias\",\"Comprobar capacidad recomendada según unidades de ordeño\")))","v":"Comprobar capacidad recomendada según unidades de ordeño"}]
[null,"BLEEDERS (Purgadores)","OK",null,null,null,"BLEEDERS (Purgadores)",{"$f":"IF(C30=\"\",\"\",IF(C30=\"INCORRECTO\", \"Ver apartados más abajo\",\"Purgadores correctos\"))","v":"Purgadores correctos"}]
[null,"Located in sloping parts. There should be",null,null,null,null,"Located in sloping parts. There should be","COMENT:"]
[null,"PULSATION DEVICES","OK",null,null,null,"PULSATION DEVICES"]
[null,"See filtration pipeline",null,null,null,null,"See filtration pipeline","COMENT:"]
[null,"2 milking Units Maximum",null,null,null,null,"2 milking Units Maximum","COMENT:"]
[null,"REGULATOR","OK",null,null,null,"REGULATOR"]
[null,"Distance to curve",25,"cm",{"$f":"IF(C36=\"\",\"\",(IF(C36<50,\"INCORRECTO\",\"CORRECTO\")))","v":"INCORRECTO"},null,"Distance to curve",{"$f":"IF(C36=\"\",\"\",(IF(C36<50,\"Minimo 50 cm del codo\",\"Distancia correcta\")))","v":"Minimo 50 cm del codo"}]
[null,"Nominal Caudal",89,"Litters",{"$f":"IF(C37=\"\",\"\",(IF(C37<C24,\"INCORRECTO\",\"CORRECTO\")))","v":"CORRECTO"},null,"Nominal Caudal",{"$f":"IF(C37=\"\",\"\",(IF(C37<C24,\"Caudal regulador el mismo que el de la bomba\",\"Caudal correcto\")))","v":"Caudal correcto"}]
[null,"COLECTORS","INCORRECTO",null,null,null,"COLECTORS",{"$f":"IF(C38=\"\",\"\",IF(C38=\"INCORRECTO\", \"Ver apartados más abajo\",\"Colectores correctos\"))","v":"Ver apartados más abajo"}]
[null,"Capacity",120,"cc",{"$f":"IF(C39=\"\",\"\",(IF(C39<100,\"INCORRECTO\",\"CORRECTO\")))","v":"CORRECTO"},null,"Capacity",{"$f":"IF(C39=\"\",\"\",IF(E39=\"INCORRECTO\", \"Comprobar capacidad de colector. Debe ser mayor de 100ml\",\"Capacidad colector adecuada\"))","v":"Capacidad colector adecuada"}]
[null,"Milk Long Pipeline",75,"cm",{"$f":"IF(C40=\"\",\"\",(IF(C40<120,\"INCORRECTO\",\"CORRECTO\")))","v":"INCORRECTO"},null,"Milk Long Pipeline",{"$f":"IF(C40=\"\",\"\",IF(E40=\"INCORRECTO\", \"Revisar longitud tubo largo de leche. Será mayor que 120cm\",\"Longitud tubo largo de leche adecuada\"))","v":"Revisar longitud tubo largo de leche. Será mayor que 120cm"}]
[null,"NIPPLES","OK",null,null,null,"NIPPLES",{"$f":"IF(C41=\"\",\"\",IF(C41=\"INCORRECTO\", \"Ver apartados más abajo\",\"Manguitos adecuados\"))","v":"Manguitos adecuados"}]
[null,"Amount of Milkings",7000,"milkings",{"$f":"IF(C42=\"\",\"\",(IF(C42>7000,\"INCORRECTO\",\"CORRECTO\")))","v":"CORRECTO"},null,"Amount of Milkings",{"$f":"IF(C42=\"\",\"\",(IF(C42>7000,\"Maximo admisible 7000 ordeños\",\"Maximo admisible 7000 ordeños\")))","v":"Maximo admisible 7000 ordeños"}]
[null,"Material",null,"rpm",{"$f":"IF(C43=\"\",\"\",(IF(C43<180,\"CAUCHO O SILICONA\",\"SILICONA\")))","v":""},null,"Material",{"$f":"IF(C43=\"\",\"\",(IF(C43<180,\"Silicona en 180 ppm\",\"Silicona en 180 ppm\")))","v":""}]
[null,"AMOUNT OF WORKERS",100,"units",{"$f":"IF(C44=\"\",\"\",(IF(C44<8,\"  1 ordeñador\",\"1 ordeñador cada 8 puntos de ordeño mínimo\")))","v":"1 ordeñador cada 8 puntos de ordeño mínimo"},null,"AMOUNT OF WORKERS",{"$f":"IF(C44=\"\",\"\",(IF(C44<8,\"  1 ordeñador\",\"1 ordeñador cada 8 puntos de ordeño mínimo\")))","v":"1 ordeñador cada 8 puntos de ordeño mínimo"}]
[]
["MAINTENANCE FAILURES","MANINTENANCE",1,"times/year",{"$f":"IF(C46=\"\",\"\",(IF(C46<1,\"INCORRECTO\",\"CORRECTO\")))","v":"CORRECTO"},{"$f":"A46","v":"MAINTENANCE FAILURES"},"MANINTENANCE",{"$f":"IF(C46=\"\",\"\",(IF(C46<1,\"Mínimo al menos 1 vez al año\",\"Recomendable cada 6 meses por personal especializado\")))","v":"Recomendable cada 6 meses por personal especializado"}]
[null,"RUBBER MATERIAL","INCORRECTO",null,null,null,"RUBBER MATERIAL",{"$f":"IF(C47=\"\",\"\",IF(C47=\"INCORRECTO\", \"Ver apartados más abajo\",\"Manguitos adecuados\"))","v":"Ver apartados más abajo"}]
[null,"Cotton Trial.- Black = Unable",null,null,null,null,"Cotton Trial.- Black = Unable","COMENT:"]
[null,"OBSTRUCTION COLECTORS","OK",null,null,null,"OBSTRUCTION COLECTORS"]
[null,"Check. Clean at least once a week",null,null,null,null,"Check. Clean at least once a week","COMENT:"]
[null,"DIRTY PULSE DEVICES","INCORRECTO",null,null,null,"DIRTY PULSE DEVICES"]
[]
[]
[]
[]
[]
[]
[]
[]
[]
[]
[]
[]
[]
[]
[]
[]
[]
[]
[]
[]
[]
[]
[]
[]
[]
[]
[]
[]
[]
[]
[]
[]
[]
[]
[]
[]
[]
[]
[]
[]
[]
[]
[]
[]
[]
[]
[]
[]
[]
["OK"]
["INCORRECTO"]

{"sheet":"VALORACION ALIMENTOS INRA","index":10,"n_rows":42,"n_cols":8,"rows_kept":42,"cut":false,"hidden":false,"merged":[[29,4,31,4],[7,5,7,6],[7,1,7,2],[10,4,15,4],[17,4,23,4],[17,6,17,7],[18,5,18,6],[25,4,27,4],[32,0,41,0],[10,0,15,0],[17,2,17,3],[17,0,23,0],[18,1,18,2],[25,0,30,0]]}
[]
[]
[]
[]
[]
["FEED EVALUATION. INRA 2007",null,null,null,{"$f":"A6","v":"FEED EVALUATION. INRA 2007"}]
[]
["FARMER","EXAMPLE",null,null,"FARMER",{"$f":"IF(B8=\"\",\"\",B8)","v":"EXAMPLE"}]
[]
[]
["CONVERTIDOR WET FORAGES TO DM.","DRY MATTER",{"$f":"IF(D19=\"\",\"\",D19)","v":0.2},null,"CONVERTIDOR WET FORAGES TO DM.","DRY MATTER",{"$f":"C11","v":0.2}]
[null,null,"SSS","SSF",null,null,"SSS","SSF"]
[null,"CRUDE FIBER",0.27500000000000002,{"$f":"IF($D$19=\"\",\"\",(C13*$C$11))","v":5.5000000000000007E-2},null,"CRUDE FIBER",{"$f":"IF(C13=\"\",\"\",C13)","v":0.27500000000000002},{"$f":"IF(D13=\"\",\"\",D13)","v":5.5000000000000007E-2}]
[null,"CRUDE PROTEIN",0.125,{"$f":"IF($D$19=\"\",\"\",(C14*$C$11))","v":2.5000000000000001E-2},null,"CRUDE PROTEIN",{"$f":"IF(C14=\"\",\"\",C14)","v":0.125},2.5000000000000001E-2]
[null,"CRUD FAT",0.02,{"$f":"IF($D$19=\"\",\"\",(C15*$C$11))","v":4.0000000000000001E-3},null,"CRUD FAT",0.02,4.0000000000000001E-3]
[null,"ASH",0.1,{"$f":"IF(D19=\"\",\"\",(C16*$C$11))","v":2.0000000000000004E-2},null,"ASH",0.1,2.0000000000000004E-2]
[]
["FEED DATA","FEED TO EVALUATE","WET LEGUME",null,"FEED DATA","FEED TO EVALUATE",{"$f":"IF(C18=\"\",\"\",C18)","v":"WET LEGUME"}]
[null,"DRY MATTER",null,0.2,null,"DRY MATTER",null,{"$f":"IF(D19=\"\",\"\",D19)","v":0.2}]
[null,null,"SSS","SSF",null,null,"SSS","SSF"]
[null,"CRUDE FIBER",{"$f":"IF($D$19=\"\",\"\",D21/$D$19)","v":0.22},4.4000000000000004E-2,null,"CRUDE FIBER",{"$f":"IF(C21=\"\",\"\",C21)","v":0.22},{"$f":"IF(D21=\"\",\"\",D21)","v":4.4000000000000004E-2}]
[null,"CRUDE PROTEIN",{"$f":"IF($D$19=\"\",\"\",D22/$D$19)","v":9.9999999999999992E-2},0.02,null,"CRUDE PROTEIN",9.9999999999999992E-2,0.02]
[null,"CRUD FAT",{"$f":"IF($D$19=\"\",\"\",D23/$D$19)","v":1.6E-2},3.2000000000000002E-3,null,"CRUD FAT",1.6E-2,3.2000000000000002E-3]
[null,"ASH",{"$f":"IF($D$19=\"\",\"\",D24/$D$19)","v":0.08},1.6E-2,null,"ASH",0.08,1.6E-2]
[]
["FEED EVALUATION",null,"SSS","SSF","PROTEIN EVALUATION","PDIME",{"$f":"IF($C$18=\"\",\"\",'ENLACES DATOS'!C861)","v":58.448267999999999}]
[null,"UFL",{"$f":"IF($C$18=\"\",\"\",'ENLACES DATOS'!C800)","v":0.91995704028690251},{"$f":"IF($C$18=\"\",\"\",'ENLACES DATOS'!D800)","v":0.18399140805738051},null,"PDIMN",{"$f":"IF($C$18=\"\",\"\",'ENLACES DATOS'!C862)","v":38.611007999999984}]
[null,"UFC",{"$f":"IF($C$18=\"\",\"\",'ENLACES DATOS'!C801)","v":0.85326621036833283},{"$f":"IF($C$18=\"\",\"\",'ENLACES DATOS'!D801)","v":0.17065324207366658},null,"THEORIC DEGRADABILITY (DT)",{"$f":"IF($C$18=\"\",\"\",'ENLACES DATOS'!C867)","v":0.70299999999999996}]
[null,"PDIE",{"$f":"IF($C$18=\"\",\"\",'ENLACES DATOS'!C857)","v":88.244779465603202},{"$f":"IF($C$18=\"\",\"\",'ENLACES DATOS'!D857)","v":17.64895589312064}]
[null,"PDIN",{"$f":"IF($C$18=\"\",\"\",'ENLACES DATOS'!C858)","v":68.407519465603187},{"$f":"IF($C$18=\"\",\"\",'ENLACES DATOS'!D858)","v":13.681503893120638},"DIGESTIBILITY FIGURES","O.M.. FERMENCESTIBLE (MOF)",{"$f":"IF($C$18=\"\",\"\",'ENLACES DATOS'!C865)","v":628.476}]
[null,"PDIA",{"$f":"IF($C$18=\"\",\"\",'ENLACES DATOS'!C859)","v":29.796511465603203},{"$f":"IF($C$18=\"\",\"\",'ENLACES DATOS'!D859)","v":5.9593022931206407},null,"REAL DIGESTIBILITY(dr)",{"$f":"IF($C$18=\"\",\"\",'ENLACES DATOS'!C866)","v":0.90382841828504856}]
[null,null,null,null,null,"O.M. DIGESTIBILITY (dMO)",{"$f":"IF($C$18=\"\",\"\",'ENLACES DATOS'!C868)","v":0.73280000000000001}]
["ENERGETIC EVALUATION","CRUDE ENERGY",{"$f":"IF($C$18=\"\",\"\",'ENLACES DATOS'!C795)","v":4403.58}]
[null,"DIGESTIBLE ENERGY",{"$f":"IF($C$18=\"\",\"\",'ENLACES DATOS'!C796)","v":3085.1904223679999}]
[null,"METABOLIZABLE ENERGY",{"$f":"IF($C$18=\"\",\"\",'ENLACES DATOS'!C797)","v":2573.4244006541571}]
[null,"NET LACTATION ENERGY",{"$f":"IF($C$18=\"\",\"\",'ENLACES DATOS'!C798)","v":1563.9269684877343}]
[null,"NET MANTENANCE AND GROW E.",{"$f":"IF($C$18=\"\",\"\",'ENLACES DATOS'!C799)","v":1552.9445028703658}]
[null,"dE",{"$f":"IF($C$18=\"\",\"\",'ENLACES DATOS'!C804)","v":0.70060959999999994}]
[null,"NA",{"$f":"IF($C$18=\"\",\"\",'ENLACES DATOS'!C805)","v":1.7}]
[null,"kl",{"$f":"IF($C$18=\"\",\"\",'ENLACES DATOS'!C806)","v":0.60772213401341357}]
[null,"kmf",{"$f":"IF($C$18=\"\",\"\",'ENLACES DATOS'!C807)","v":0.60345448752083475}]
[null,"q",{"$f":"IF($C$18=\"\",\"\",'ENLACES DATOS'!C808)","v":0.58439369800347829}]

{"sheet":"EVOLUCION PRODUCCION","index":11,"n_rows":21,"n_cols":7,"rows_kept":21,"cut":false,"hidden":false,"merged":[[20,0,39,0],[8,1,8,2],[12,0,17,0],[16,2,16,4],[17,2,17,4]]}
[]
[]
[]
[]
[]
[]
["EVOLUTION OF PRODUCTION"]
[]
["FARMER"]
["DATE"]
[]
[null,null,"PARTUR.DATE","Nº ANIMALS","LIT/DAY","DML"]
["DML CALCULATION AND AVERAGE PRODUCTION","GROUPE 1 ",null,null,null,{"$f":"IF($B$10=\"\",\"\",'ENLACES DATOS'!E1230)","v":""}]
[null,"GROUPE 2",null,null,null,{"$f":"IF($B$10=\"\",\"\",'ENLACES DATOS'!E1231)","v":""}]
[null,"GROUPE 3",null,null,null,{"$f":"IF($B$10=\"\",\"\",'ENLACES DATOS'!E1232)","v":""}]
[null,"GROUPE 4",null,null,null,{"$f":"IF($B$10=\"\",\"\",'ENLACES DATOS'!E1233)","v":""}]
[null,"D.M.L.",{"$f":"IF(C13=\"\",\"\",'ENLACES DATOS'!C1236)","v":""}]
[null,"LITERS/ANIMAL",{"$f":"IF(E13=\"\",\"\",'ENLACES DATOS'!C1237)","v":""}]
[]
[null,"DATE","LITERS BUNK","MILKING ANIMALS","DML","Nº ANIM","LIT TOT"]
["BUNK LITERS `PER DAY",null,null,null,null,{"$f":"IF(C13=\"\",\"\",'ENLACES DATOS'!C1234)","v":""},{"$f":"IF(E13=\"\",\"\",'ENLACES DATOS'!D1234)","v":""}]

{"sheet":"CALENDARIO REPRODUCTIVO","index":12,"n_rows":32,"n_cols":3,"rows_kept":32,"cut":false,"hidden":false,"merged":[[8,1,8,2],[10,0,12,0]]}
[]
[]
[]
[]
[]
[]
["PLANNING "]
[]
["FARMER"]
[]
["GENERAL DATA","REPRODUCTIVE SYSTEM"]
[null,"LACTANCY (DAYS)"]
[null,"START DATE"]
[]
[]
[{"$f":"IF(C11=\"PROGESTAGENUS SPONGES\",\"REMOVE SPONGES\",\"REMOVE MALES\")","v":"REMOVE MALES"},null,{"$f":"IF(C13=\"\",\"\",'ENLACES DATOS'!D251)","v":""}]
[]
["FECUNDATION",null,{"$f":"IF($C$13=\"\",\"\",'ENLACES DATOS'!E251)","v":""}]
[]
["100 DAYS IN PREGNANCY",null,{"$f":"IF($C$13=\"\",\"\",'ENLACES DATOS'!F251)","v":""}]
[]
["PARTURATION",null,{"$f":"IF($C$13=\"\",\"\",'ENLACES DATOS'!G251)","v":""}]
[]
["WEANING",null,{"$f":"IF($C$13=\"\",\"\",'ENLACES DATOS'!H251)","v":""}]
[]
["FIRST MILKING",null,{"$f":"IF($C$13=\"\",\"\",'ENLACES DATOS'!I251)","v":""}]
[]
["90 DAYS IN MILKING",null,{"$f":"IF($C$13=\"\",\"\",'ENLACES DATOS'!J251)","v":""}]
[]
["150 DAYS IN MILKING",null,{"$f":"IF($C$13=\"\",\"\",'ENLACES DATOS'!K251)","v":""}]
[]
["240 DAYS IN MIKING",null,{"$f":"IF($C$13=\"\",\"\",'ENLACES DATOS'!L251)","v":""}]

{"sheet":"CALCULO THI","index":13,"n_rows":18,"n_cols":3,"rows_kept":18,"cut":false,"hidden":false,"merged":[[11,0,13,0],[17,1,17,2],[16,0,17,0],[8,1,8,2]]}
[]
[]
[]
[]
[]
[]
["THI (TEMPERATURE&HUMIDITY INDEX("]
[]
["FARMER"]
[]
["\"MESURE AT ANIMALS HEIGHT\""]
["GENERAL DATA","DATE"]
[null,"TEMPERATURE (ºC)"]
[null,"HUMIDITY (%)"]
[]
[]
["DIAGNOSIS","THI (Tª/H INDEX))",{"$f":"IF('ENLACES DATOS'!C1465=\"\",\"\",'ENLACES DATOS'!C1465)","v":""}]
[null,{"$f":"IF(C13=\"\",\"\",IF('ENLACES DATOS'!C1470=\"\",\"\",'ENLACES DATOS'!C1470))","v":""}]

{"sheet":"AMBIENTALES ADMISIBLES","index":14,"n_rows":33,"n_cols":4,"rows_kept":33,"cut":false,"hidden":false,"merged":[[30,2,30,3],[32,2,32,3],[8,1,8,2],[12,0,15,0],[17,0,20,0],[22,0,24,0],[27,0,28,0],[27,2,27,3],[28,2,28,3]]}
[]
[]
[]
[]
["ENVIRINMENT AND BEDDING CHECKING"]
[]
[]
[]
["FARMER","EXAMPLE"]
[]
["SEASON","SUMMER"]
[null,null,"OBTENIDO","ADMISIBLE"]
["TEMPERATURE (ºC)","OUTDOOR",43,1]
[null,"INDOOR",41,{"$f":"IF(C14=\"\",\"\",'ENLACES DATOS'!I1508)","v":46.125898208187841}]
[null,"ANIMALS",44,{"$f":"IF(C15=\"\",\"\",'ENLACES DATOS'!I1509)","v":43.609690618439927}]
[null,"BED",45,{"$f":"IF(C16=\"\",\"\",'ENLACES DATOS'!I1510)","v":49.003735147064468}]
[]
["RELATIVE HUMIDITY  (%)","OUTDOOR",56,1]
[null,"INDOOR",65,{"$f":"IF(C19=\"\",\"\",'ENLACES DATOS'!I1511)","v":64.718006731882625}]
[null,"ANIMALS",67,{"$f":"IF(C20=\"\",\"\",'ENLACES DATOS'!I1512)","v":74.002415217712795}]
[null,"BED",79,{"$f":"IF(C21=\"\",\"\",'ENLACES DATOS'!I1513)","v":78.538871199605396}]
[]
["AIRFLOW (m/s)","OUTDOOR",null,1]
[null,"INDOOR",null,{"$f":"IF(C24=\"\",\"\",'ENLACES DATOS'!I1514)","v":""}]
[null,"ANIMALS"]
[]
["CHECKING RESULT"]
["HOUSING","ISOLATION",{"$f":"IF('ENLACES DATOS'!I1518=\"\",\"\",'ENLACES DATOS'!I1518)","v":"RIGHT (STATISTICALLY)"}]
[null,"VENTILATION",{"$f":"IF('ENLACES DATOS'!I1519=\"\",\"\",'ENLACES DATOS'!I1519)","v":"IMPROVE ISOLATION"}]
[]
["ANIMALS","ANIMAL LOAD",{"$f":"IF('ENLACES DATOS'!I1521=\"\",\"\",'ENLACES DATOS'!I1521)","v":"IMPROVE LOAD"}]
[]
["BED","BEDDING",{"$f":"IF('ENLACES DATOS'!I1525=\"\",\"\",'ENLACES DATOS'!I1525)","v":"IMPROVE BEDDING"}]

{"sheet":"MODULO GENERAL","index":15,"n_rows":0,"n_cols":0,"rows_kept":0,"cut":false,"hidden":false,"merged":[]}

{"sheet":"MODULO NUTRICION","index":16,"n_rows":0,"n_cols":0,"rows_kept":0,"cut":false,"hidden":false,"merged":[]}

{"sheet":"MODULO INSTALACIONES","index":17,"n_rows":0,"n_cols":0,"rows_kept":0,"cut":false,"hidden":false,"merged":[]}