{"text_format":"1","workbook":"xlsx","n_sheets":56,"sheets":["BUSCAR FECHA","HOJA DE DATOS","ENLACES DATOS","ECUACIONES","CREDITOS","UREA EN LECHE","COMPARATIVA RACIONES","DIAGRAMA","AMBIENTALES ADMISIBLES","PIENSOS OVINO Y CAPRINO LECHE","CALCULO DISTANCIA ENTRE NAVES","CHEQUEO DIMENSIONADO NAVE","INGESTA MS CAPRINO","ENERGIA CAPRINO","PROTEINA CAPRINO","MINERALES CAPRINO","RACIONAMIENTO CAPRINO","INGESTA MS OVINO","ENERGIA OVINO","PROTEINA OVINO","MINERALES OVINO","FNDyCNF OV-CAP","GRASA OVI-CAP","AGUA","PASTOREO OVINO Y CAPRINO","EVOLUCION RENTABILIDAD","CUENTA EXPLOTACION(RES)","CUENTA EXPLOTACION(ID)","CUENTA EXPLOT GENETICA","RACIONAMIENTO KOMPLET","PRODUCTOS KOMPLET","COMPARATIVA KOMPLET","CHEQUEO SALA ORDEÑO","VALORACION ALIMENTOS INRA","SIMULACION DATOS PRODUCTIVOS","EXPLOTACION TIPO","CURVA DE LACTACION CAPRINO","CURVA DE LACTACION OVINO","CURVA DE LACTACION OVINO CSIC","EVOLUCION PRODUCCION","MOMENTO DE SECADO","PLAN DE EXPLOTACIÓN","CALENDARIO REPRODUCTIVO","CALCULO THI","BIENESTAR ANIMAL","CRITERIOS BIENESTAR","PPCC CAPRINO","PPCC OVINO","MODULO GENERAL","MODULO PLAN EXPLOTACION","MODULO PRODUCCION MEJORA","MODULO BA Y SOSTENIBILIDAD","MODULO NUTRICION","MODULO KOMPLET","MODULO INSTALACIONES","MODULO ECONOMIA"],"not_rendered":{"charts":31,"images":116,"macros":1,"external_links":0,"defined_names":43,"comments":37,"pivot_tables":1},"unopened":[],"bounds":{"document_bytes":16777216,"sheet_cells":100000,"rows_first":2000,"rows_last":500,"rows_between":2000,"halvings":0,"cell_chars":16384,"cell_head_chars":4096},"cells_cut":0,"cells_raw":0,"read":"whole","date_system":"1900"}

{"sheet":"BUSCAR FECHA","index":0,"n_rows":4354,"n_cols":11,"rows_kept":4354,"cut":false,"hidden":false,"merged":[]}
["DIA","SEMANA","SEMANA REAL","MES REAL","FECHA","MES REAL"]
["2009-02-02",906,{"$f":"RIGHT(B2,2)","v":"06"},{"$f":"MONTH(A2)","v":2},{"$f":"'SIMULACION DATOS PRODUCTIVOS'!C13","v":"00:00:00"},{"$f":"VLOOKUP($E2,$A$2:$D$30000,4, FALSE)","v":{"$error":"#N/A"}},{"$f":"VLOOKUP(F2,H3:I14,2,FALSE)","v":{"$error":"#N/A"}},"ESTACION"]
["2009-02-03",906,{"$f":"RIGHT(B3,2)","v":"06"},{"$f":"MONTH(A3)","v":2},{"$f":"'EXPLOTACION TIPO'!C12","v":"00:00:00"},{"$f":"VLOOKUP(E3,J3:K14,2,FALSE)","v":{"$error":"#N/A"}},null,1,"INVIERNO","ENERO",1]
["2009-02-04",906,"06",2,null,{"$f":"VLOOKUP($E4,$A$2:$D$3000,4, FALSE)","v":{"$error":"#N/A"}},null,2,"INVIERNO","FEBRERO",2]
["2009-02-05",906,"06",2,null,{"$f":"VLOOKUP($E5,$A$2:$D$3000,4, FALSE)","v":{"$error":"#N/A"}},null,3,"TEMPLADO","MARZO",3]
["2009-02-06",906,"06",2,null,{"$f":"VLOOKUP($E6,$A$2:$D$3000,4, FALSE)","v":{"$error":"#N/A"}},null,4,"TEMPLADO","ABRIL",4]
["2009-02-07",906,"06",2,null,null,null,5,"TEMPLADO","MAYO",5]
["2009-02-08",906,"06",2,null,null,null,6,"VERANO","JUNIO",6]
["2009-02-09",907,"07",2,null,null,null,7,"VERANO","JULIO",7]
["2009-02-10",907,"07",2,null,null,null,8,"VERANO","AGOSTO",8]
["2009-02-11",907,"07",2,null,null,null,9,"TEMPLADO","SEPTIEMBRE",9]
["2009-02-12",907,"07",2,null,null,null,10,"TEMPLADO","OCTUBRE",10]
["2009-02-13",907,"07",2,null,null,null,11,"INVIERNO","NOVIEMBRE",11]
["2009-02-14",907,"07",2,null,null,null,12,"INVIERNO","DICIEMBRE",12]
["2009-02-15",907,"07",2]
["2009-02-16",908,"08",2]
["2009-02-17",908,"08",2]
["2009-02-18",908,"08",2]
["2009-02-19",908,"08",2]
["2009-02-20",908,"08",2]
["2009-02-21",908,"08",2]
["2009-02-22",908,"08",2]
["2009-02-23",909,"09",2]
["2009-02-24",909,"09",2]
["2009-02-25",909,"09",2]
["2009-02-26",909,"09",2]
["2009-02-27",909,"09",2]
["2009-02-28",909,"09",2]
["2009-03-01",909,"09",3]
["2009-03-02",910,"10",3]
["2009-03-03",910,"10",3]
["2009-03-04",910,"10",3]
["2009-03-05",910,"10",3]
["2009-03-06",910,"10",3]
["2009-03-07",910,"10",3]
["2009-03-08",910,"10",3]
["2009-03-09",911,"11",3]
["2009-03-10",911,"11",3]
["2009-03-11",911,"11",3]
["2009-03-12",911,"11",3]
["2009-03-13",911,"11",3]
["2009-03-14",911,"11",3]
["2009-03-15",911,"11",3]
["2009-03-16",912,"12",3]
["2009-03-17",912,"12",3]
["2009-03-18",912,"12",3]
["2009-03-19",912,"12",3]
["2009-03-20",912,"12",3]
["2009-03-21",912,"12",3]
["2009-03-22",912,"12",3]
["2009-03-23",913,"13",3]
["2009-03-24",913,"13",3]
["2009-03-25",913,"13",3]
["2009-03-26",913,"13",3]
["2009-03-27",913,"13",3]
["2009-03-28",913,"13",3]
["2009-03-29",913,"13",3]
["2009-03-30",914,"14",3]
["2009-03-31",914,"14",3]
["2009-04-01",914,"14",4]
["2009-04-02",914,"14",4]
["2009-04-03",914,"14",4]
["2009-04-04",914,"14",4]
["2009-04-05",914,"14",4]
["2009-04-06",915,"15",4]
["2009-04-07",915,"15",4]
["2009-04-08",915,{"$f":"RIGHT(B67,2)","v":"15"},{"$f":"MONTH(A67)","v":4}]
["2009-04-09",915,"15",4]
["2009-04-10",915,"15",4]
["2009-04-11",915,"15",4]
["2009-04-12",915,"15",4]
["2009-04-13",916,"16",4]
["2009-04-14",916,"16",4]
["2009-04-15",916,"16",4]
["2009-04-16",916,"16",4]
["2009-04-17",916,"16",4]
["2009-04-18",916,"16",4]
["2009-04-19",916,"16",4]
["2009-04-20",917,"17",4]
["2009-04-21",917,"17",4]
["2009-04-22",917,"17",4]
["2009-04-23",917,"17",4]
["2009-04-24",917,"17",4]
["2009-04-25",917,"17",4]
["2009-04-26",917,"17",4]
["2009-04-27",918,"18",4]
["2009-04-28",918,"18",4]
["2009-04-29",918,"18",4]
["2009-04-30",918,"18",4]
["2009-05-01",918,"18",5]
["2009-05-02",918,"18",5]
["2009-05-03",918,"18",5]
["2009-05-04",919,"19",5]
["2009-05-05",919,"19",5]
["2009-05-06",919,"19",5]
["2009-05-07",919,"19",5]
["2009-05-08",919,"19",5]
["2009-05-09",919,"19",5]
["2009-05-10",919,"19",5]
["2009-05-11",920,"20",5]
["2009-05-12",920,"20",5]
["2009-05-13",920,"20",5]
["2009-05-14",920,"20",5]
["2009-05-15",920,"20",5]
["2009-05-16",920,"20",5]
["2009-05-17",920,"20",5]
["2009-05-18",921,"21",5]
["2009-05-19",921,"21",5]
["2009-05-20",921,"21",5]
["2009-05-21",921,"21",5]
["2009-05-22",921,"21",5]
["2009-05-23",921,"21",5]
["2009-05-24",921,"21",5]
["2009-05-25",922,"22",5]
["2009-05-26",922,"22",5]
["2009-05-27",922,"22",5]
["2009-05-28",922,"22",5]
["2009-05-29",922,"22",5]
["2009-05-30",922,"22",5]
["2009-05-31",922,"22",5]
["2009-06-01",923,"23",6]
["2009-06-02",923,"23",6]
["2009-06-03",923,"23",6]
["2009-06-04",923,"23",6]
["2009-06-05",923,"23",6]
["2009-06-06",923,"23",6]
["2009-06-07",923,"23",6]
["2009-06-08",924,"24",6]
["2009-06-09",924,"24",6]
["2009-06-10",924,"24",6]
["2009-06-11",924,{"$f":"RIGHT(B131,2)","v":"24"},{"$f":"MONTH(A131)","v":6}]
["2009-06-12",924,"24",6]
["2009-06-13",924,"24",6]
["2009-06-14",924,"24",6]
["2009-06-15",925,"25",6]
["2009-06-16",925,"25",6]
["2009-06-17",925,"25",6]
["2009-06-18",925,"25",6]
["2009-06-19",925,"25",6]
["2009-06-20",925,"25",6]
["2009-06-21",925,"25",6]
["2009-06-22",926,"26",6]
["2009-06-23",926,"26",6]
["2009-06-24",926,"26",6]
["2009-06-25",926,"26",6]
["2009-06-26",926,"26",6]
["2009-06-27",926,"26",6]
["2009-06-28",926,"26",6]
["2009-06-29",927,"27",6]
["2009-06-30",927,"27",6]
["2009-07-01",927,"27",7]
["2009-07-02",927,"27",7]
["2009-07-03",927,"27",7]
["2009-07-04",927,"27",7]
["2009-07-05",927,"27",7]
["2009-07-06",928,"28",7]
["2009-07-07",928,"28",7]
["2009-07-08",928,"28",7]
["2009-07-09",928,"28",7]
["2009-07-10",928,"28",7]
["2009-07-11",928,"28",7]
["2009-07-12",928,"28",7]
["2009-07-13",929,"29",7]
["2009-07-14",929,"29",7]
["2009-07-15",929,"29",7]
["2009-07-16",929,"29",7]
["2009-07-17",929,"29",7]
["2009-07-18",929,"29",7]
["2009-07-19",929,"29",7]
["2009-07-20",930,"30",7]
["2009-07-21",930,"30",7]
["2009-07-22",930,"30",7]
["2009-07-23",930,"30",7]
["2009-07-24",930,"30",7]
["2009-07-25",930,"30",7]
["2009-07-26",930,"30",7]
["2009-07-27",931,"31",7]
["2009-07-28",931,"31",7]
["2009-07-29",931,"31",7]
["2009-07-30",931,"31",7]
["2009-07-31",931,"31",7]
["2009-08-01",931,"31",8]
["2009-08-02",931,"31",8]
["2009-08-03",932,"32",8]
["2009-08-04",932,"32",8]
["2009-08-05",932,"32",8]
["2009-08-06",932,"32",8]
["2009-08-07",932,"32",8]
["2009-08-08",932,"32",8]
["2009-08-09",932,"32",8]
["2009-08-10",933,"33",8]
["2009-08-11",933,"33",8]
["2009-08-12",933,"33",8]
["2009-08-13",933,"33",8]
["2009-08-14",933,{"$f":"RIGHT(B195,2)","v":"33"},{"$f":"MONTH(A195)","v":8}]
["2009-08-15",933,"33",8]
["2009-08-16",933,"33",8]
["2009-08-17",934,"34",8]
["2009-08-18",934,"34",8]
["2009-08-19",934,"34",8]
["2009-08-20",934,"34",8]
["2009-08-21",934,"34",8]
["2009-08-22",934,"34",8]
["2009-08-23",934,"34",8]
["2009-08-24",935,"35",8]
["2009-08-25",935,"35",8]
["2009-08-26",935,"35",8]
["2009-08-27",935,"35",8]
["2009-08-28",935,"35",8]
["2009-08-29",935,"35",8]
["2009-08-30",935,"35",8]
["2009-08-31",936,"36",8]
["2009-09-01",936,"36",9]
["2009-09-02",936,"36",9]
["2009-09-03",936,"36",9]
["2009-09-04",936,"36",9]
["2009-09-05",936,"36",9]
["2009-09-06",936,"36",9]
["2009-09-07",937,"37",9]
["2009-09-08",937,"37",9]
["2009-09-09",937,"37",9]
["2009-09-10",937,"37",9]
["2009-09-11",937,"37",9]
["2009-09-12",937,"37",9]
["2009-09-13",937,"37",9]
["2009-09-14",938,"38",9]
["2009-09-15",938,"38",9]
["2009-09-16",938,"38",9]
["2009-09-17",938,"38",9]
["2009-09-18",938,"38",9]
["2009-09-19",938,"38",9]
["2009-09-20",938,"38",9]
["2009-09-21",939,"39",9]
["2009-09-22",939,"39",9]
["2009-09-23",939,"39",9]
["2009-09-24",939,"39",9]
["2009-09-25",939,"39",9]
["2009-09-26",939,"39",9]
["2009-09-27",939,"39",9]
["2009-09-28",940,"40",9]
["2009-09-29",940,"40",9]
["2009-09-30",940,"40",9]
["2009-10-01",940,"40",10]
["2009-10-02",940,"40",10]
["2009-10-03",940,"40",10]
["2009-10-04",940,"40",10]
["2009-10-05",941,"41",10]
["2009-10-06",941,"41",10]
["2009-10-07",941,"41",10]
["2009-10-08",941,"41",10]
["2009-10-09",941,"41",10]
["2009-10-10",941,"41",10]
["2009-10-11",941,"41",10]
["2009-10-12",942,"42",10]
["2009-10-13",942,"42",10]
["2009-10-14",942,"42",10]
["2009-10-15",942,"42",10]
["2009-10-16",942,"42",10]
["2009-10-17",942,{"$f":"RIGHT(B259,2)","v":"42"},{"$f":"MONTH(A259)","v":10}]
["2009-10-18",942,"42",10]
["2009-10-19",943,"43",10]
["2009-10-20",943,"43",10]
["2009-10-21",943,"43",10]
["2009-10-22",943,"43",10]
["2009-10-23",943,"43",10]
["2009-10-24",943,"43",10]
["2009-10-25",943,"43",10]
["2009-10-26",944,"44",10]
["2009-10-27",944,"44",10]
["2009-10-28",944,"44",10]
["2009-10-29",944,"44",10]
["2009-10-30",944,"44",10]
["2009-10-31",944,"44",10]
["2009-11-01",944,"44",11]
["2009-11-02",945,"45",11]
["2009-11-03",945,"45",11]
["2009-11-04",945,"45",11]
["2009-11-05",945,"45",11]
["2009-11-06",945,"45",11]
["2009-11-07",945,"45",11]
["2009-11-08",945,"45",11]
["2009-11-09",946,"46",11]
["2009-11-10",946,"46",11]
["2009-11-11",946,"46",11]
["2009-11-12",946,"46",11]
["2009-11-13",946,"46",11]
["2009-11-14",946,"46",11]
["2009-11-15",946,"46",11]
["2009-11-16",947,"47",11]
["2009-11-17",947,"47",11]
["2009-11-18",947,"47",11]
["2009-11-19",947,"47",11]
["2009-11-20",947,"47",11]
["2009-11-21",947,"47",11]
["2009-11-22",947,"47",11]
["2009-11-23",948,"48",11]
["2009-11-24",948,"48",11]
["2009-11-25",948,"48",11]
["2009-11-26",948,"48",11]
["2009-11-27",948,"48",11]
["2009-11-28",948,"48",11]
["2009-11-29",948,"48",11]
["2009-11-30",949,"49",11]
["2009-12-01",949,"49",12]
["2009-12-02",949,"49",12]
["2009-12-03",949,"49",12]
["2009-12-04",949,"49",12]
["2009-12-05",949,"49",12]
["2009-12-06",949,"49",12]
["2009-12-07",950,"50",12]
["2009-12-08",950,"50",12]
["2009-12-09",950,"50",12]
["2009-12-10",950,"50",12]
["2009-12-11",950,"50",12]
["2009-12-12",950,"50",12]
["2009-12-13",950,"50",12]
["2009-12-14",951,"51",12]
["2009-12-15",951,"51",12]
["2009-12-16",951,"51",12]
["2009-12-17",951,"51",12]
["2009-12-18",951,"51",12]
["2009-12-19",951,"51",12]
["2009-12-20",951,{"$f":"RIGHT(B323,2)","v":"51"},{"$f":"MONTH(A323)","v":12}]
["2009-12-21",952,"52",12]
["2009-12-22",952,"52",12]
["2009-12-23",952,"52",12]
["2009-12-24",952,"52",12]
["2009-12-25",952,"52",12]
["2009-12-26",952,"52",12]
["2009-12-27",952,"52",12]
["2009-12-28",953,"53",12]
["2009-12-29",953,"53",12]
["2009-12-30",953,"53",12]
["2009-12-31",953,"53",12]
["2010-01-01",953,"53",1]
["2010-01-02",953,"53",1]
["2010-01-03",953,"53",1]
["2010-01-04",1001,"01",1]
["2010-01-05",1001,"01",1]
["2010-01-06",1001,"01",1]
["2010-01-07",1001,"01",1]
["2010-01-08",1001,"01",1]
["2010-01-09",1001,"01",1]
["2010-01-10",1001,"01",1]
["2010-01-11",1002,"02",1]
["2010-01-12",1002,"02",1]
["2010-01-13",1002,"02",1]
["2010-01-14",1002,"02",1]
["2010-01-15",1002,"02",1]
["2010-01-16",1002,"02",1]
["2010-01-17",1002,"02",1]
["2010-01-18",1003,"03",1]
["2010-01-19",1003,"03",1]
["2010-01-20",1003,"03",1]
["2010-01-21",1003,"03",1]
["2010-01-22",1003,"03",1]
["2010-01-23",1003,"03",1]
["2010-01-24",1003,"03",1]
["2010-01-25",1004,"04",1]
["2010-01-26",1004,"04",1]
["2010-01-27",1004,"04",1]
["2010-01-28",1004,"04",1]
["2010-01-29",1004,"04",1]
["2010-01-30",1004,"04",1]
["2010-01-31",1004,"04",1]
["2010-02-01",1005,"05",2]
["2010-02-02",1005,"05",2]
["2010-02-03",1005,"05",2]
["2010-02-04",1005,"05",2]
["2010-02-05",1005,"05",2]
["2010-02-06",1005,"05",2]
["2010-02-07",1005,"05",2]
["2010-02-08",1006,"06",2]
["2010-02-09",1006,"06",2]
["2010-02-10",1006,"06",2]
["2010-02-11",1006,"06",2]
["2010-02-12",1006,"06",2]
["2010-02-13",1006,"06",2]
["2010-02-14",1006,"06",2]
["2010-02-15",1007,"07",2]
["2010-02-16",1007,"07",2]
["2010-02-17",1007,"07",2]
["2010-02-18",1007,"07",2]
["2010-02-19",1007,"07",2]
["2010-02-20",1007,"07",2]
["2010-02-21",1007,"07",2]
["2010-02-22",1008,{"$f":"RIGHT(B387,2)","v":"08"},{"$f":"MONTH(A387)","v":2}]
["2010-02-23",1008,"08",2]
["2010-02-24",1008,"08",2]
["2010-02-25",1008,"08",2]
["2010-02-26",1008,"08",2]
["2010-02-27",1008,"08",2]
["2010-02-28",1008,"08",2]
["2010-03-01",1009,"09",3]
["2010-03-02",1009,"09",3]
["2010-03-03",1009,"09",3]
["2010-03-04",1009,"09",3]
["2010-03-05",1009,"09",3]
["2010-03-06",1009,"09",3]
["2010-03-07",1009,"09",3]
["2010-03-08",1010,"10",3]
["2010-03-09",1010,"10",3]
["2010-03-10",1010,"10",3]
["2010-03-11",1010,"10",3]
["2010-03-12",1010,"10",3]
["2010-03-13",1010,"10",3]
["2010-03-14",1010,"10",3]
["2010-03-15",1011,"11",3]
["2010-03-16",1011,"11",3]
["2010-03-17",1011,"11",3]
["2010-03-18",1011,"11",3]
["2010-03-19",1011,"11",3]
["2010-03-20",1011,"11",3]
["2010-03-21",1011,"11",3]
["2010-03-22",1012,"12",3]
["2010-03-23",1012,"12",3]
["2010-03-24",1012,"12",3]
["2010-03-25",1012,"12",3]
["2010-03-26",1012,"12",3]
["2010-03-27",1012,"12",3]
["2010-03-28",1012,"12",3]
["2010-03-29",1013,"13",3]
["2010-03-30",1013,"13",3]
["2010-03-31",1013,"13",3]
["2010-04-01",1013,"13",4]
["2010-04-02",1013,"13",4]
["2010-04-03",1013,"13",4]
["2010-04-04",1013,"13",4]
["2010-04-05",{"$f":"B422+1","v":1014},"14",4]
["2010-04-06",{"$f":"B423+1","v":1014},"14",4]
["2010-04-07",1014,"14",4]
["2010-04-08",1014,"14",4]
["2010-04-09",1014,"14",4]
["2010-04-10",1014,"14",4]
["2010-04-11",1014,"14",4]
["2010-04-12",{"$f":"B429+1","v":1015},"15",4]
["2010-04-13",{"$f":"B430+1","v":1015},"15",4]
["2010-04-14",1015,"15",4]
["2010-04-15",1015,"15",4]
["2010-04-16",1015,"15",4]
["2010-04-17",1015,"15",4]
["2010-04-18",1015,"15",4]
["2010-04-19",1016,"16",4]
["2010-04-20",1016,"16",4]
["2010-04-21",1016,"16",4]
["2010-04-22",1016,"16",4]
["2010-04-23",1016,"16",4]
["2010-04-24",1016,"16",4]
["2010-04-25",1016,"16",4]
["2010-04-26",1017,"17",4]
["2010-04-27",1017,{"$f":"RIGHT(B451,2)","v":"17"},{"$f":"MONTH(A451)","v":4}]
["2010-04-28",1017,"17",4]
["2010-04-29",1017,"17",4]
["2010-04-30",1017,"17",4]
["2010-05-01",1017,"17",5]
["2010-05-02",1017,"17",5]
["2010-05-03",1018,"18",5]
["2010-05-04",1018,"18",5]
["2010-05-05",1018,"18",5]
["2010-05-06",1018,"18",5]
["2010-05-07",1018,"18",5]
["2010-05-08",1018,"18",5]
["2010-05-09",1018,"18",5]
["2010-05-10",1019,"19",5]
["2010-05-11",1019,"19",5]
["2010-05-12",1019,"19",5]
["2010-05-13",1019,"19",5]
["2010-05-14",1019,"19",5]
["2010-05-15",1019,"19",5]
["2010-05-16",1019,"19",5]
["2010-05-17",1020,"20",5]
["2010-05-18",1020,"20",5]
["2010-05-19",1020,"20",5]
["2010-05-20",1020,"20",5]
["2010-05-21",1020,"20",5]
["2010-05-22",1020,"20",5]
["2010-05-23",1020,"20",5]
["2010-05-24",1021,"21",5]
["2010-05-25",1021,"21",5]
["2010-05-26",1021,"21",5]
["2010-05-27",1021,"21",5]
["2010-05-28",1021,"21",5]
["2010-05-29",1021,"21",5]
["2010-05-30",1021,"21",5]
["2010-05-31",1022,"22",5]
["2010-06-01",1022,"22",6]
["2010-06-02",1022,"22",6]
["2010-06-03",1022,"22",6]
["2010-06-04",1022,"22",6]
["2010-06-05",1022,"22",6]
["2010-06-06",1022,"22",6]
["2010-06-07",1023,"23",6]
["2010-06-08",1023,"23",6]
["2010-06-09",1023,"23",6]
["2010-06-10",1023,"23",6]
["2010-06-11",1023,"23",6]
["2010-06-12",1023,"23",6]
["2010-06-13",1023,"23",6]
["2010-06-14",1024,"24",6]
["2010-06-15",1024,"24",6]
["2010-06-16",{"$f":"B494+1","v":1024},"24",6]
["2010-06-17",1024,"24",6]
["2010-06-18",1024,"24",6]
["2010-06-19",1024,"24",6]
["2010-06-20",1024,"24",6]
["2010-06-21",1025,"25",6]
["2010-06-22",1025,"25",6]
["2010-06-23",1025,"25",6]
["2010-06-24",1025,"25",6]
["2010-06-25",1025,"25",6]
["2010-06-26",1025,"25",6]
["2010-06-27",1025,"25",6]
["2010-06-28",1026,"26",6]
["2010-06-29",1026,"26",6]
["2010-06-30",1026,{"$f":"RIGHT(B515,2)","v":"26"},{"$f":"MONTH(A515)","v":6}]
["2010-07-01",1026,"26",7]
["2010-07-02",1026,"26",7]
["2010-07-03",1026,"26",7]
["2010-07-04",1026,"26",7]
["2010-07-05",1027,"27",7]
["2010-07-06",1027,"27",7]
["2010-07-07",1027,"27",7]
["2010-07-08",1027,"27",7]
["2010-07-09",1027,"27",7]
["2010-07-10",1027,"27",7]
["2010-07-11",1027,"27",7]
["2010-07-12",1028,"28",7]
["2010-07-13",1028,"28",7]
["2010-07-14",1028,"28",7]
["2010-07-15",1028,"28",7]
["2010-07-16",1028,"28",7]
["2010-07-17",1028,"28",7]
["2010-07-18",1028,"28",7]
["2010-07-19",1029,"29",7]
["2010-07-20",1029,"29",7]
["2010-07-21",1029,"29",7]
["2010-07-22",1029,"29",7]
["2010-07-23",1029,"29",7]
["2010-07-24",1029,"29",7]
["2010-07-25",1029,"29",7]
["2010-07-26",1030,"30",7]
["2010-07-27",1030,"30",7]
["2010-07-28",1030,"30",7]
["2010-07-29",1030,"30",7]
["2010-07-30",1030,"30",7]
["2010-07-31",1030,"30",7]
["2010-08-01",1030,"30",8]
["2010-08-02",1031,"31",8]
["2010-08-03",1031,"31",8]
["2010-08-04",1031,"31",8]
["2010-08-05",1031,"31",8]
["2010-08-06",1031,"31",8]
["2010-08-07",1031,"31",8]
["2010-08-08",1031,"31",8]
["2010-08-09",1032,"32",8]
["2010-08-10",1032,"32",8]
["2010-08-11",1032,"32",8]
["2010-08-12",1032,"32",8]
["2010-08-13",1032,"32",8]
["2010-08-14",1032,"32",8]
["2010-08-15",1032,"32",8]
["2010-08-16",1033,"33",8]
["2010-08-17",1033,"33",8]
["2010-08-18",1033,"33",8]
["2010-08-19",{"$f":"B558+1","v":1033},"33",8]
["2010-08-20",1033,"33",8]
["2010-08-21",1033,"33",8]
["2010-08-22",1033,"33",8]
["2010-08-23",1034,"34",8]
["2010-08-24",1034,"34",8]
["2010-08-25",1034,"34",8]
["2010-08-26",1034,"34",8]
["2010-08-27",1034,"34",8]
["2010-08-28",1034,"34",8]
["2010-08-29",1034,"34",8]
["2010-08-30",1035,"35",8]
["2010-08-31",1035,"35",8]
["2010-09-01",1035,"35",9]
["2010-09-02",1035,{"$f":"RIGHT(B579,2)","v":"35"},{"$f":"MONTH(A579)","v":9}]
["2010-09-03",1035,"35",9]
["2010-09-04",1035,"35",9]
["2010-09-05",1035,"35",9]
["2010-09-06",1036,"36",9]
["2010-09-07",1036,"36",9]
["2010-09-08",1036,"36",9]
["2010-09-09",1036,"36",9]
["2010-09-10",1036,"36",9]
["2010-09-11",1036,"36",9]
["2010-09-12",1036,"36",9]
["2010-09-13",1037,"37",9]
["2010-09-14",1037,"37",9]
["2010-09-15",1037,"37",9]
["2010-09-16",1037,"37",9]
["2010-09-17",1037,"37",9]
["2010-09-18",1037,"37",9]
["2010-09-19",1037,"37",9]
["2010-09-20",1038,"38",9]
["2010-09-21",1038,"38",9]
["2010-09-22",1038,"38",9]
["2010-09-23",1038,"38",9]
["2010-09-24",1038,"38",9]
["2010-09-25",1038,"38",9]
["2010-09-26",1038,"38",9]
["2010-09-27",1039,"39",9]
["2010-09-28",1039,"39",9]
["2010-09-29",1039,"39",9]
["2010-09-30",1039,"39",9]
["2010-10-01",1039,"39",10]
["2010-10-02",1039,"39",10]
["2010-10-03",1039,"39",10]
["2010-10-04",1040,"40",10]
["2010-10-05",1040,"40",10]
["2010-10-06",1040,"40",10]
["2010-10-07",1040,"40",10]
["2010-10-08",1040,"40",10]
["2010-10-09",1040,"40",10]
["2010-10-10",1040,"40",10]
["2010-10-11",1041,"41",10]
["2010-10-12",1041,"41",10]
["2010-10-13",1041,"41",10]
["2010-10-14",1041,"41",10]
["2010-10-15",1041,"41",10]
["2010-10-16",1041,"41",10]
["2010-10-17",1041,"41",10]
["2010-10-18",1042,"42",10]
["2010-10-19",1042,"42",10]
["2010-10-20",1042,"42",10]
["2010-10-21",1042,"42",10]
["2010-10-22",{"$f":"B622+1","v":1042},"42",10]
["2010-10-23",1042,"42",10]
["2010-10-24",1042,"42",10]
["2010-10-25",1043,"43",10]
["2010-10-26",1043,"43",10]
["2010-10-27",1043,"43",10]
["2010-10-28",1043,"43",10]
["2010-10-29",1043,"43",10]
["2010-10-30",1043,"43",10]
["2010-10-31",1043,"43",10]
["2010-11-01",1044,"44",11]
["2010-11-02",1044,"44",11]
["2010-11-03",1044,"44",11]
["2010-11-04",1044,"44",11]
["2010-11-05",1044,{"$f":"RIGHT(B643,2)","v":"44"},{"$f":"MONTH(A643)","v":11}]
["2010-11-06",1044,"44",11]
["2010-11-07",1044,"44",11]
["2010-11-08",1045,"45",11]
["2010-11-09",1045,"45",11]
["2010-11-10",1045,"45",11]
["2010-11-11",1045,"45",11]
["2010-11-12",1045,"45",11]
["2010-11-13",1045,"45",11]
["2010-11-14",1045,"45",11]
["2010-11-15",1046,"46",11]
["2010-11-16",1046,"46",11]
["2010-11-17",1046,"46",11]
["2010-11-18",1046,"46",11]
["2010-11-19",1046,"46",11]
["2010-11-20",1046,"46",11]
["2010-11-21",1046,"46",11]
["2010-11-22",1047,"47",11]
["2010-11-23",1047,"47",11]
["2010-11-24",1047,"47",11]
["2010-11-25",1047,"47",11]
["2010-11-26",1047,"47",11]
["2010-11-27",1047,"47",11]
["2010-11-28",1047,"47",11]
["2010-11-29",1048,"48",11]
["2010-11-30",1048,"48",11]
["2010-12-01",1048,"48",12]
["2010-12-02",1048,"48",12]
["2010-12-03",1048,"48",12]
["2010-12-04",1048,"48",12]
["2010-12-05",1048,"48",12]
["2010-12-06",1049,"49",12]
["2010-12-07",1049,"49",12]
["2010-12-08",1049,"49",12]
["2010-12-09",1049,"49",12]
["2010-12-10",1049,"49",12]
["2010-12-11",1049,"49",12]
["2010-12-12",1049,"49",12]
["2010-12-13",1050,"50",12]
["2010-12-14",1050,"50",12]
["2010-12-15",1050,"50",12]
["2010-12-16",1050,"50",12]
["2010-12-17",1050,"50",12]
["2010-12-18",1050,"50",12]
["2010-12-19",1050,"50",12]
["2010-12-20",1051,"51",12]
["2010-12-21",1051,"51",12]
["2010-12-22",1051,"51",12]
["2010-12-23",1051,"51",12]
["2010-12-24",1051,"51",12]
["2010-12-25",{"$f":"B686+1","v":1051},"51",12]
["2010-12-26",1051,"51",12]
["2010-12-27",1052,"52",12]
["2010-12-28",1052,"52",12]
["2010-12-29",1052,"52",12]
["2010-12-30",1052,"52",12]
["2010-12-31",1052,"52",12]
["2011-01-01",1052,"52",1]
["2011-01-02",1052,"52",1]
["2011-01-03",1101,"01",1]
["2011-01-04",1101,"01",1]
["2011-01-05",1101,"01",1]
["2011-01-06",1101,"01",1]
["2011-01-07",1101,"01",1]
["2011-01-08",1101,{"$f":"RIGHT(B707,2)","v":"01"},{"$f":"MONTH(A707)","v":1}]
["2011-01-09",1101,"01",1]
["2011-01-10",{"$f":"B702+1","v":1102},"02",1]
["2011-01-11",{"$f":"B703+1","v":1102},"02",1]
["2011-01-12",1102,"02",1]
["2011-01-13",1102,"02",1]
["2011-01-14",1102,"02",1]
["2011-01-15",1102,"02",1]
["2011-01-16",1102,"02",1]
["2011-01-17",1103,"03",1]
["2011-01-18",1103,"03",1]
["2011-01-19",1103,"03",1]
["2011-01-20",1103,"03",1]
["2011-01-21",1103,"03",1]
["2011-01-22",1103,"03",1]
["2011-01-23",1103,"03",1]
["2011-01-24",1104,"04",1]
["2011-01-25",1104,"04",1]
["2011-01-26",1104,"04",1]
["2011-01-27",1104,"04",1]
["2011-01-28",1104,"04",1]
["2011-01-29",1104,"04",1]
["2011-01-30",1104,"04",1]
["2011-01-31",1105,"05",1]
["2011-02-01",1105,"05",2]
["2011-02-02",1105,"05",2]
["2011-02-03",1105,"05",2]
["2011-02-04",1105,"05",2]
["2011-02-05",1105,"05",2]
["2011-02-06",1105,"05",2]
["2011-02-07",1106,"06",2]
["2011-02-08",1106,"06",2]
["2011-02-09",1106,"06",2]
["2011-02-10",1106,"06",2]
["2011-02-11",1106,"06",2]
["2011-02-12",1106,"06",2]
["2011-02-13",1106,"06",2]
["2011-02-14",1107,"07",2]
["2011-02-15",1107,"07",2]
["2011-02-16",1107,"07",2]
["2011-02-17",1107,"07",2]
["2011-02-18",1107,"07",2]
["2011-02-19",1107,"07",2]
["2011-02-20",1107,"07",2]
["2011-02-21",1108,"08",2]
["2011-02-22",1108,"08",2]
["2011-02-23",1108,"08",2]
["2011-02-24",1108,"08",2]
["2011-02-25",1108,"08",2]
["2011-02-26",1108,"08",2]
["2011-02-27",1108,"08",2]
["2011-02-28",1109,"09",2]
["2011-03-01",1109,"09",3]
["2011-03-02",1109,"09",3]
["2011-03-03",1109,"09",3]
["2011-03-04",1109,"09",3]
["2011-03-05",1109,"09",3]
["2011-03-06",1109,"09",3]
["2011-03-07",1110,"10",3]
["2011-03-08",1110,"10",3]
["2011-03-09",1110,"10",3]
["2011-03-10",1110,"10",3]
["2011-03-11",1110,"10",3]
["2011-03-12",1110,"10",3]
["2011-03-13",1110,{"$f":"RIGHT(B771,2)","v":"10"},{"$f":"MONTH(A771)","v":3}]
["2011-03-14",1111,"11",3]
["2011-03-15",1111,"11",3]
["2011-03-16",{"$f":"B767+1","v":1111},"11",3]
["2011-03-17",1111,"11",3]
["2011-03-18",1111,"11",3]
["2011-03-19",1111,"11",3]
["2011-03-20",1111,"11",3]
["2011-03-21",1112,"12",3]
["2011-03-22",1112,"12",3]
["2011-03-23",1112,"12",3]
["2011-03-24",1112,"12",3]
["2011-03-25",1112,"12",3]
["2011-03-26",1112,"12",3]
["2011-03-27",1112,"12",3]
["2011-03-28",1113,"13",3]
["2011-03-29",1113,"13",3]
["2011-03-30",1113,"13",3]
["2011-03-31",1113,"13",3]
["2011-04-01",1113,"13",4]
["2011-04-02",1113,"13",4]
["2011-04-03",1113,"13",4]
["2011-04-04",1114,"14",4]
["2011-04-05",1114,"14",4]
["2011-04-06",1114,"14",4]
["2011-04-07",1114,"14",4]
["2011-04-08",1114,"14",4]
["2011-04-09",1114,"14",4]
["2011-04-10",1114,"14",4]
["2011-04-11",1115,"15",4]
["2011-04-12",1115,"15",4]
["2011-04-13",1115,"15",4]
["2011-04-14",1115,"15",4]
["2011-04-15",1115,"15",4]
["2011-04-16",1115,"15",4]
["2011-04-17",1115,"15",4]
["2011-04-18",1116,"16",4]
["2011-04-19",1116,"16",4]
["2011-04-20",1116,"16",4]
["2011-04-21",1116,"16",4]
["2011-04-22",1116,"16",4]
["2011-04-23",1116,"16",4]
["2011-04-24",1116,"16",4]
["2011-04-25",1117,"17",4]
["2011-04-26",1117,"17",4]
["2011-04-27",1117,"17",4]
["2011-04-28",1117,"17",4]
["2011-04-29",1117,"17",4]
["2011-04-30",1117,"17",4]
["2011-05-01",1117,"17",5]
["2011-05-02",1118,"18",5]
["2011-05-03",1118,"18",5]
["2011-05-04",1118,"18",5]
["2011-05-05",1118,"18",5]
["2011-05-06",1118,"18",5]
["2011-05-07",1118,"18",5]
["2011-05-08",1118,"18",5]
["2011-05-09",1119,"19",5]
["2011-05-10",1119,"19",5]
["2011-05-11",1119,"19",5]
["2011-05-12",1119,"19",5]
["2011-05-13",1119,"19",5]
["2011-05-14",1119,"19",5]
["2011-05-15",1119,"19",5]
["2011-05-16",1120,{"$f":"RIGHT(B835,2)","v":"20"},{"$f":"MONTH(A835)","v":5}]
["2011-05-17",1120,"20",5]
["2011-05-18",1120,"20",5]
["2011-05-19",{"$f":"B831+1","v":1120},"20",5]
["2011-05-20",1120,"20",5]
["2011-05-21",1120,"20",5]
["2011-05-22",1120,"20",5]
["2011-05-23",1121,"21",5]
["2011-05-24",1121,"21",5]
["2011-05-25",1121,"21",5]
["2011-05-26",1121,"21",5]
["2011-05-27",1121,"21",5]
["2011-05-28",1121,"21",5]
["2011-05-29",1121,"21",5]
["2011-05-30",1122,"22",5]
["2011-05-31",1122,"22",5]
["2011-06-01",1122,"22",6]
["2011-06-02",1122,"22",6]
["2011-06-03",1122,"22",6]
["2011-06-04",1122,"22",6]
["2011-06-05",1122,"22",6]
["2011-06-06",1123,"23",6]
["2011-06-07",1123,"23",6]
["2011-06-08",1123,"23",6]
["2011-06-09",1123,"23",6]
["2011-06-10",1123,"23",6]
["2011-06-11",1123,"23",6]
["2011-06-12",1123,"23",6]
["2011-06-13",1124,"24",6]
["2011-06-14",1124,"24",6]
["2011-06-15",1124,"24",6]
["2011-06-16",1124,"24",6]
["2011-06-17",1124,"24",6]
["2011-06-18",1124,"24",6]
["2011-06-19",1124,"24",6]
["2011-06-20",1125,"25",6]
["2011-06-21",1125,"25",6]
["2011-06-22",1125,"25",6]
["2011-06-23",1125,"25",6]
["2011-06-24",1125,"25",6]
["2011-06-25",1125,"25",6]
["2011-06-26",1125,"25",6]
["2011-06-27",1126,"26",6]
["2011-06-28",1126,"26",6]
["2011-06-29",1126,"26",6]
["2011-06-30",1126,"26",6]
["2011-07-01",1126,"26",7]
["2011-07-02",1126,"26",7]
["2011-07-03",1126,"26",7]
["2011-07-04",1127,"27",7]
["2011-07-05",1127,"27",7]
["2011-07-06",1127,"27",7]
["2011-07-07",1127,"27",7]
["2011-07-08",1127,"27",7]
["2011-07-09",1127,"27",7]
["2011-07-10",1127,"27",7]
["2011-07-11",1128,"28",7]
["2011-07-12",1128,"28",7]
["2011-07-13",1128,"28",7]
["2011-07-14",1128,"28",7]
["2011-07-15",1128,"28",7]
["2011-07-16",1128,"28",7]
["2011-07-17",1128,"28",7]
["2011-07-18",1129,"29",7]
["2011-07-19",1129,{"$f":"RIGHT(B899,2)","v":"29"},{"$f":"MONTH(A899)","v":7}]
["2011-07-20",1129,"29",7]
["2011-07-21",1129,"29",7]
["2011-07-22",{"$f":"B895+1","v":1129},"29",7]
["2011-07-23",1129,"29",7]
["2011-07-24",1129,"29",7]
["2011-07-25",1130,"30",7]
["2011-07-26",1130,"30",7]
["2011-07-27",1130,"30",7]
["2011-07-28",1130,"30",7]
["2011-07-29",1130,"30",7]
["2011-07-30",1130,"30",7]
["2011-07-31",1130,"30",7]
["2011-08-01",1131,"31",8]
["2011-08-02",1131,"31",8]
["2011-08-03",1131,"31",8]
["2011-08-04",1131,"31",8]
["2011-08-05",1131,"31",8]
["2011-08-06",1131,"31",8]
["2011-08-07",1131,"31",8]
["2011-08-08",1132,"32",8]
["2011-08-09",1132,"32",8]
["2011-08-10",1132,"32",8]
["2011-08-11",1132,"32",8]
["2011-08-12",1132,"32",8]
["2011-08-13",1132,"32",8]
["2011-08-14",1132,"32",8]
["2011-08-15",1133,"33",8]
["2011-08-16",1133,"33",8]
["2011-08-17",1133,"33",8]
["2011-08-18",1133,"33",8]
["2011-08-19",1133,"33",8]
["2011-08-20",1133,"33",8]
["2011-08-21",1133,"33",8]
["2011-08-22",1134,"34",8]
["2011-08-23",1134,"34",8]
["2011-08-24",1134,"34",8]
["2011-08-25",1134,"34",8]
["2011-08-26",1134,"34",8]
["2011-08-27",1134,"34",8]
["2011-08-28",1134,"34",8]
["2011-08-29",1135,"35",8]
["2011-08-30",1135,"35",8]
["2011-08-31",1135,"35",8]
["2011-09-01",1135,"35",9]
["2011-09-02",1135,"35",9]
["2011-09-03",1135,"35",9]
["2011-09-04",1135,"35",9]
["2011-09-05",1136,"36",9]
["2011-09-06",1136,"36",9]
["2011-09-07",1136,"36",9]
["2011-09-08",1136,"36",9]
["2011-09-09",1136,"36",9]
["2011-09-10",1136,"36",9]
["2011-09-11",1136,"36",9]
["2011-09-12",1137,"37",9]
["2011-09-13",1137,"37",9]
["2011-09-14",1137,"37",9]
["2011-09-15",1137,"37",9]
["2011-09-16",1137,"37",9]
["2011-09-17",1137,"37",9]
["2011-09-18",1137,"37",9]
["2011-09-19",1138,"38",9]
["2011-09-20",1138,"38",9]
["2011-09-21",1138,{"$f":"RIGHT(B963,2)","v":"38"},{"$f":"MONTH(A963)","v":9}]
["2011-09-22",1138,"38",9]
["2011-09-23",1138,"38",9]
["2011-09-24",{"$f":"B959+1","v":1138},"38",9]
["2011-09-25",1138,"38",9]
["2011-09-26",1139,"39",9]
["2011-09-27",1139,"39",9]
["2011-09-28",1139,"39",9]
["2011-09-29",1139,"39",9]
["2011-09-30",1139,"39",9]
["2011-10-01",1139,"39",10]
["2011-10-02",1139,"39",10]
["2011-10-03",1140,"40",10]
["2011-10-04",1140,"40",10]
["2011-10-05",1140,"40",10]
["2011-10-06",1140,"40",10]
["2011-10-07",1140,"40",10]
["2011-10-08",1140,"40",10]
["2011-10-09",1140,"40",10]
["2011-10-10",1141,"41",10]
["2011-10-11",1141,"41",10]
["2011-10-12",1141,"41",10]
["2011-10-13",1141,"41",10]
["2011-10-14",1141,"41",10]
["2011-10-15",1141,"41",10]
["2011-10-16",1141,"41",10]
["2011-10-17",1142,"42",10]
["2011-10-18",1142,"42",10]
["2011-10-19",1142,"42",10]
["2011-10-20",1142,"42",10]
["2011-10-21",1142,"42",10]
["2011-10-22",1142,"42",10]
["2011-10-23",1142,"42",10]
["2011-10-24",1143,"43",10]
["2011-10-25",1143,"43",10]
["2011-10-26",1143,"43",10]
["2011-10-27",1143,"43",10]
["2011-10-28",1143,"43",10]
["2011-10-29",1143,"43",10]
["2011-10-30",1143,"43",10]
["2011-10-31",1144,"44",10]
["2011-11-01",1144,"44",11]
["2011-11-02",1144,"44",11]
["2011-11-03",1144,"44",11]
["2011-11-04",1144,"44",11]
["2011-11-05",1144,"44",11]
["2011-11-06",1144,"44",11]
["2011-11-07",1145,"45",11]
["2011-11-08",1145,"45",11]
["2011-11-09",1145,"45",11]
["2011-11-10",1145,"45",11]
["2011-11-11",1145,"45",11]
["2011-11-12",1145,"45",11]
["2011-11-13",1145,"45",11]
["2011-11-14",1146,"46",11]
["2011-11-15",1146,"46",11]
["2011-11-16",1146,"46",11]
["2011-11-17",1146,"46",11]
["2011-11-18",1146,"46",11]
["2011-11-19",1146,"46",11]
["2011-11-20",1146,"46",11]
["2011-11-21",1147,"47",11]
["2011-11-22",1147,"47",11]
["2011-11-23",1147,"47",11]
["2011-11-24",1147,{"$f":"RIGHT(B1027,2)","v":"47"},{"$f":"MONTH(A1027)","v":11}]
["2011-11-25",1147,"47",11]
["2011-11-26",1147,"47",11]
["2011-11-27",{"$f":"B1023+1","v":1147},"47",11]
["2011-11-28",1148,"48",11]
["2011-11-29",1148,"48",11]
["2011-11-30",1148,"48",11]
["2011-12-01",1148,"48",12]
["2011-12-02",1148,"48",12]
["2011-12-03",1148,"48",12]
["2011-12-04",1148,"48",12]
["2011-12-05",1149,"49",12]
["2011-12-06",1149,"49",12]
["2011-12-07",1149,"49",12]
["2011-12-08",1149,"49",12]
["2011-12-09",1149,"49",12]
["2011-12-10",1149,"49",12]
["2011-12-11",1149,"49",12]
["2011-12-12",1150,"50",12]
["2011-12-13",1150,"50",12]
["2011-12-14",1150,"50",12]
["2011-12-15",1150,"50",12]
["2011-12-16",1150,"50",12]
["2011-12-17",1150,"50",12]
["2011-12-18",1150,"50",12]
["2011-12-19",1151,"51",12]
["2011-12-20",1151,"51",12]
["2011-12-21",1151,"51",12]
["2011-12-22",1151,"51",12]
["2011-12-23",1151,"51",12]
["2011-12-24",1151,"51",12]
["2011-12-25",1151,"51",12]
["2011-12-26",1152,"52",12]
["2011-12-27",1152,"52",12]
["2011-12-28",1152,"52",12]
["2011-12-29",1152,"52",12]
["2011-12-30",1152,"52",12]
["2011-12-31",1152,"52",12]
["2012-01-01",1152,"52",1]
["2012-01-02",1201,"01",1]
["2012-01-03",1201,"01",1]
["2012-01-04",1201,"01",1]
["2012-01-05",1201,"01",1]
["2012-01-06",1201,"01",1]
["2012-01-07",1201,"01",1]
["2012-01-08",1201,"01",1]
["2012-01-09",{"$f":"B1066+1","v":1202},"02",1]
["2012-01-10",{"$f":"B1067+1","v":1202},"02",1]
["2012-01-11",1202,"02",1]
["2012-01-12",1202,"02",1]
["2012-01-13",1202,"02",1]
["2012-01-14",1202,"02",1]
["2012-01-15",1202,"02",1]
["2012-01-16",1203,"03",1]
["2012-01-17",1203,"03",1]
["2012-01-18",1203,"03",1]
["2012-01-19",1203,"03",1]
["2012-01-20",1203,"03",1]
["2012-01-21",1203,"03",1]
["2012-01-22",1203,"03",1]
["2012-01-23",1204,"04",1]
["2012-01-24",1204,"04",1]
["2012-01-25",1204,"04",1]
["2012-01-26",1204,"04",1]
["2012-01-27",1204,{"$f":"RIGHT(B1091,2)","v":"04"},{"$f":"MONTH(A1091)","v":1}]
["2012-01-28",1204,"04",1]
["2012-01-29",1204,"04",1]
["2012-01-30",1205,"05",1]
["2012-01-31",1205,"05",1]
["2012-02-01",1205,"05",2]
["2012-02-02",1205,"05",2]
["2012-02-03",1205,"05",2]
["2012-02-04",1205,"05",2]
["2012-02-05",1205,"05",2]
["2012-02-06",1206,"06",2]
["2012-02-07",1206,"06",2]
["2012-02-08",1206,"06",2]
["2012-02-09",1206,"06",2]
["2012-02-10",1206,"06",2]
["2012-02-11",1206,"06",2]
["2012-02-12",1206,"06",2]
["2012-02-13",1207,"07",2]
["2012-02-14",1207,"07",2]
["2012-02-15",1207,"07",2]
["2012-02-16",1207,"07",2]
["2012-02-17",1207,"07",2]
["2012-02-18",1207,"07",2]
["2012-02-19",1207,"07",2]
["2012-02-20",1208,"08",2]
["2012-02-21",1208,"08",2]
["2012-02-22",1208,"08",2]
["2012-02-23",1208,"08",2]
["2012-02-24",1208,"08",2]
["2012-02-25",1208,"08",2]
["2012-02-26",1208,"08",2]
["2012-02-27",1209,"09",2]
["2012-02-28",1209,"09",2]
["2012-02-29",1209,"09",2]
["2012-03-01",1209,"09",3]
["2012-03-02",1209,"09",3]
["2012-03-03",1209,"09",3]
["2012-03-04",1209,"09",3]
["2012-03-05",1210,"10",3]
["2012-03-06",1210,"10",3]
["2012-03-07",1210,"10",3]
["2012-03-08",1210,"10",3]
["2012-03-09",1210,"10",3]
["2012-03-10",1210,"10",3]
["2012-03-11",1210,"10",3]
["2012-03-12",1211,"11",3]
["2012-03-13",1211,"11",3]
["2012-03-14",{"$f":"B1131+1","v":1211},"11",3]
["2012-03-15",1211,"11",3]
["2012-03-16",1211,"11",3]
["2012-03-17",1211,"11",3]
["2012-03-18",1211,"11",3]
["2012-03-19",1212,"12",3]
["2012-03-20",1212,"12",3]
["2012-03-21",1212,"12",3]
["2012-03-22",1212,"12",3]
["2012-03-23",1212,"12",3]
["2012-03-24",1212,"12",3]
["2012-03-25",1212,"12",3]
["2012-03-26",1213,"13",3]
["2012-03-27",1213,"13",3]
["2012-03-28",1213,"13",3]
["2012-03-29",1213,"13",3]
["2012-03-30",1213,"13",3]
["2012-03-31",1213,{"$f":"RIGHT(B1155,2)","v":"13"},{"$f":"MONTH(A1155)","v":3}]
["2012-04-01",1213,"13",4]
["2012-04-02",1214,"14",4]
["2012-04-03",1214,"14",4]
["2012-04-04",1214,"14",4]
["2012-04-05",1214,"14",4]
["2012-04-06",1214,"14",4]
["2012-04-07",1214,"14",4]
["2012-04-08",1214,"14",4]
["2012-04-09",1215,"15",4]
["2012-04-10",1215,"15",4]
["2012-04-11",1215,"15",4]
["2012-04-12",1215,"15",4]
["2012-04-13",1215,"15",4]
["2012-04-14",1215,"15",4]
["2012-04-15",1215,"15",4]
["2012-04-16",1216,"16",4]
["2012-04-17",1216,"16",4]
["2012-04-18",1216,"16",4]
["2012-04-19",1216,"16",4]
["2012-04-20",1216,"16",4]
["2012-04-21",1216,"16",4]
["2012-04-22",1216,"16",4]
["2012-04-23",1217,"17",4]
["2012-04-24",1217,"17",4]
["2012-04-25",1217,"17",4]
["2012-04-26",1217,"17",4]
["2012-04-27",1217,"17",4]
["2012-04-28",1217,"17",4]
["2012-04-29",1217,"17",4]
["2012-04-30",1218,"18",4]
["2012-05-01",1218,"18",5]
["2012-05-02",1218,"18",5]
["2012-05-03",1218,"18",5]
["2012-05-04",1218,"18",5]
["2012-05-05",1218,"18",5]
["2012-05-06",1218,"18",5]
["2012-05-07",1219,"19",5]
["2012-05-08",1219,"19",5]
["2012-05-09",1219,"19",5]
["2012-05-10",1219,"19",5]
["2012-05-11",1219,"19",5]
["2012-05-12",1219,"19",5]
["2012-05-13",1219,"19",5]
["2012-05-14",1220,"20",5]
["2012-05-15",1220,"20",5]
["2012-05-16",1220,"20",5]
["2012-05-17",{"$f":"B1195+1","v":1220},"20",5]
["2012-05-18",1220,"20",5]
["2012-05-19",1220,"20",5]
["2012-05-20",1220,"20",5]
["2012-05-21",1221,"21",5]
["2012-05-22",1221,"21",5]
["2012-05-23",1221,"21",5]
["2012-05-24",1221,"21",5]
["2012-05-25",1221,"21",5]
["2012-05-26",1221,"21",5]
["2012-05-27",1221,"21",5]
["2012-05-28",1222,"22",5]
["2012-05-29",1222,"22",5]
["2012-05-30",1222,"22",5]
["2012-05-31",1222,"22",5]
["2012-06-01",1222,"22",6]
["2012-06-02",1222,"22",6]
["2012-06-03",1222,{"$f":"RIGHT(B1219,2)","v":"22"},{"$f":"MONTH(A1219)","v":6}]
["2012-06-04",1223,"23",6]
["2012-06-05",1223,"23",6]
["2012-06-06",1223,"23",6]
["2012-06-07",1223,"23",6]
["2012-06-08",1223,"23",6]
["2012-06-09",1223,"23",6]
["2012-06-10",1223,"23",6]
["2012-06-11",1224,"24",6]
["2012-06-12",1224,"24",6]
["2012-06-13",1224,"24",6]
["2012-06-14",1224,"24",6]
["2012-06-15",1224,"24",6]
["2012-06-16",1224,"24",6]
["2012-06-17",1224,"24",6]
["2012-06-18",1225,"25",6]
["2012-06-19",1225,"25",6]
["2012-06-20",1225,"25",6]
["2012-06-21",1225,"25",6]
["2012-06-22",1225,"25",6]
["2012-06-23",1225,"25",6]
["2012-06-24",1225,"25",6]
["2012-06-25",1226,"26",6]
["2012-06-26",1226,"26",6]
["2012-06-27",1226,"26",6]
["2012-06-28",1226,"26",6]
["2012-06-29",1226,"26",6]
["2012-06-30",1226,"26",6]
["2012-07-01",1226,"26",7]
["2012-07-02",1227,"27",7]
["2012-07-03",1227,"27",7]
["2012-07-04",1227,"27",7]
["2012-07-05",1227,"27",7]
["2012-07-06",1227,"27",7]
["2012-07-07",1227,"27",7]
["2012-07-08",1227,"27",7]
["2012-07-09",1228,"28",7]
["2012-07-10",1228,"28",7]
["2012-07-11",1228,"28",7]
["2012-07-12",1228,"28",7]
["2012-07-13",1228,"28",7]
["2012-07-14",1228,"28",7]
["2012-07-15",1228,"28",7]
["2012-07-16",1229,"29",7]
["2012-07-17",1229,"29",7]
["2012-07-18",1229,"29",7]
["2012-07-19",1229,"29",7]
["2012-07-20",{"$f":"B1259+1","v":1229},"29",7]
["2012-07-21",1229,"29",7]
["2012-07-22",1229,"29",7]
["2012-07-23",1230,"30",7]
["2012-07-24",1230,"30",7]
["2012-07-25",1230,"30",7]
["2012-07-26",1230,"30",7]
["2012-07-27",1230,"30",7]
["2012-07-28",1230,"30",7]
["2012-07-29",1230,"30",7]
["2012-07-30",1231,"31",7]
["2012-07-31",1231,"31",7]
["2012-08-01",1231,"31",8]
["2012-08-02",1231,"31",8]
["2012-08-03",1231,"31",8]
["2012-08-04",1231,"31",8]
["2012-08-05",1231,"31",8]
["2012-08-06",1232,{"$f":"RIGHT(B1283,2)","v":"32"},{"$f":"MONTH(A1283)","v":8}]
["2012-08-07",1232,"32",8]
["2012-08-08",1232,"32",8]
["2012-08-09",1232,"32",8]
["2012-08-10",1232,"32",8]
["2012-08-11",1232,"32",8]
["2012-08-12",1232,"32",8]
["2012-08-13",1233,"33",8]
["2012-08-14",1233,"33",8]
["2012-08-15",1233,"33",8]
["2012-08-16",1233,"33",8]
["2012-08-17",1233,"33",8]
["2012-08-18",1233,"33",8]
["2012-08-19",1233,"33",8]
["2012-08-20",1234,"34",8]
["2012-08-21",1234,"34",8]
["2012-08-22",1234,"34",8]
["2012-08-23",1234,"34",8]
["2012-08-24",1234,"34",8]
["2012-08-25",1234,"34",8]
["2012-08-26",1234,"34",8]
["2012-08-27",1235,"35",8]
["2012-08-28",1235,"35",8]
["2012-08-29",1235,"35",8]
["2012-08-30",1235,"35",8]
["2012-08-31",1235,"35",8]
["2012-09-01",1235,"35",9]
["2012-09-02",1235,"35",9]
["2012-09-03",1236,"36",9]
["2012-09-04",1236,"36",9]
["2012-09-05",1236,"36",9]
["2012-09-06",1236,"36",9]
["2012-09-07",1236,"36",9]
["2012-09-08",1236,"36",9]
["2012-09-09",1236,"36",9]
["2012-09-10",1237,"37",9]
["2012-09-11",1237,"37",9]
["2012-09-12",1237,"37",9]
["2012-09-13",1237,"37",9]
["2012-09-14",1237,"37",9]
["2012-09-15",1237,"37",9]
["2012-09-16",1237,"37",9]
["2012-09-17",1238,"38",9]
["2012-09-18",1238,"38",9]
["2012-09-19",1238,"38",9]
["2012-09-20",1238,"38",9]
["2012-09-21",1238,"38",9]
["2012-09-22",{"$f":"B1323+1","v":1238},"38",9]
["2012-09-23",1238,"38",9]
["2012-09-24",1239,"39",9]
["2012-09-25",1239,"39",9]
["2012-09-26",1239,"39",9]
["2012-09-27",1239,"39",9]
["2012-09-28",1239,"39",9]
["2012-09-29",1239,"39",9]
["2012-09-30",1239,"39",9]
["2012-10-01",1240,"40",10]
["2012-10-02",1240,"40",10]
["2012-10-03",1240,"40",10]
["2012-10-04",1240,"40",10]
["2012-10-05",1240,"40",10]
["2012-10-06",1240,"40",10]
["2012-10-07",1240,"40",10]
["2012-10-08",1241,"41",10]
["2012-10-09",1241,{"$f":"RIGHT(B1347,2)","v":"41"},{"$f":"MONTH(A1347)","v":10}]
["2012-10-10",1241,"41",10]
["2012-10-11",1241,"41",10]
["2012-10-12",1241,"41",10]
["2012-10-13",1241,"41",10]
["2012-10-14",1241,"41",10]
["2012-10-15",1242,"42",10]
["2012-10-16",1242,"42",10]
["2012-10-17",1242,"42",10]
["2012-10-18",1242,"42",10]
["2012-10-19",1242,"42",10]
["2012-10-20",1242,"42",10]
["2012-10-21",1242,"42",10]
["2012-10-22",1243,"43",10]
["2012-10-23",1243,"43",10]
["2012-10-24",1243,"43",10]
["2012-10-25",1243,"43",10]
["2012-10-26",1243,"43",10]
["2012-10-27",1243,"43",10]
["2012-10-28",1243,"43",10]
["2012-10-29",1244,"44",10]
["2012-10-30",1244,"44",10]
["2012-10-31",1244,"44",10]
["2012-11-01",1244,"44",11]
["2012-11-02",1244,"44",11]
["2012-11-03",1244,"44",11]
["2012-11-04",1244,"44",11]
["2012-11-05",1245,"45",11]
["2012-11-06",1245,"45",11]
["2012-11-07",1245,"45",11]
["2012-11-08",1245,"45",11]
["2012-11-09",1245,"45",11]
["2012-11-10",1245,"45",11]
["2012-11-11",1245,"45",11]
["2012-11-12",1246,"46",11]
["2012-11-13",1246,"46",11]
["2012-11-14",1246,"46",11]
["2012-11-15",1246,"46",11]
["2012-11-16",1246,"46",11]
["2012-11-17",1246,"46",11]
["2012-11-18",1246,"46",11]
["2012-11-19",1247,"47",11]
["2012-11-20",1247,"47",11]
["2012-11-21",1247,"47",11]
["2012-11-22",1247,"47",11]
["2012-11-23",1247,"47",11]
["2012-11-24",1247,"47",11]
["2012-11-25",{"$f":"B1387+1","v":1247},"47",11]
["2012-11-26",1248,"48",11]
["2012-11-27",1248,"48",11]
["2012-11-28",1248,"48",11]
["2012-11-29",1248,"48",11]
["2012-11-30",1248,"48",11]
["2012-12-01",1248,"48",12]
["2012-12-02",1248,"48",12]
["2012-12-03",1249,"49",12]
["2012-12-04",1249,"49",12]
["2012-12-05",1249,"49",12]
["2012-12-06",1249,"49",12]
["2012-12-07",1249,"49",12]
["2012-12-08",1249,"49",12]
["2012-12-09",1249,"49",12]
["2012-12-10",1250,"50",12]
["2012-12-11",1250,"50",12]
["2012-12-12",1250,{"$f":"RIGHT(B1411,2)","v":"50"},{"$f":"MONTH(A1411)","v":12}]
["2012-12-13",1250,"50",12]
["2012-12-14",1250,"50",12]
["2012-12-15",1250,"50",12]
["2012-12-16",1250,"50",12]
["2012-12-17",1251,"51",12]
["2012-12-18",1251,"51",12]
["2012-12-19",1251,"51",12]
["2012-12-20",1251,"51",12]
["2012-12-21",1251,"51",12]
["2012-12-22",1251,"51",12]
["2012-12-23",1251,"51",12]
["2012-12-24",1252,"52",12]
["2012-12-25",1252,"52",12]
["2012-12-26",1252,"52",12]
["2012-12-27",1252,"52",12]
["2012-12-28",1252,"52",12]
["2012-12-29",1252,"52",12]
["2012-12-30",1252,"52",12]
["2012-12-31",1301,"01",12]
["2013-01-01",1301,"01",1]
["2013-01-02",1301,"01",1]
["2013-01-03",1301,"01",1]
["2013-01-04",1301,"01",1]
["2013-01-05",1301,"01",1]
["2013-01-06",1301,"01",1]
["2013-01-07",{"$f":"B1430+1","v":1302},"02",1]
["2013-01-08",{"$f":"B1431+1","v":1302},"02",1]
["2013-01-09",1302,"02",1]
["2013-01-10",1302,"02",1]
["2013-01-11",1302,"02",1]
["2013-01-12",1302,"02",1]
["2013-01-13",1302,"02",1]
["2013-01-14",1303,"03",1]
["2013-01-15",1303,"03",1]
["2013-01-16",1303,"03",1]
["2013-01-17",1303,"03",1]
["2013-01-18",1303,"03",1]
["2013-01-19",1303,"03",1]
["2013-01-20",1303,"03",1]
["2013-01-21",1304,"04",1]
["2013-01-22",1304,"04",1]
["2013-01-23",1304,"04",1]
["2013-01-24",1304,"04",1]
["2013-01-25",1304,"04",1]
["2013-01-26",1304,"04",1]
["2013-01-27",1304,"04",1]
["2013-01-28",1305,"05",1]
["2013-01-29",1305,"05",1]
["2013-01-30",1305,"05",1]
["2013-01-31",1305,"05",1]
["2013-02-01",1305,"05",2]
["2013-02-02",1305,"05",2]
["2013-02-03",1305,"05",2]
["2013-02-04",1306,"06",2]
["2013-02-05",1306,"06",2]
["2013-02-06",1306,"06",2]
["2013-02-07",1306,"06",2]
["2013-02-08",1306,"06",2]
["2013-02-09",1306,"06",2]
["2013-02-10",1306,"06",2]
["2013-02-11",1307,"07",2]
["2013-02-12",1307,"07",2]
["2013-02-13",1307,"07",2]
["2013-02-14",1307,{"$f":"RIGHT(B1475,2)","v":"07"},{"$f":"MONTH(A1475)","v":2}]
["2013-02-15",1307,"07",2]
["2013-02-16",1307,"07",2]
["2013-02-17",1307,"07",2]
["2013-02-18",1308,"08",2]
["2013-02-19",1308,"08",2]
["2013-02-20",1308,"08",2]
["2013-02-21",1308,"08",2]
["2013-02-22",1308,"08",2]
["2013-02-23",1308,"08",2]
["2013-02-24",1308,"08",2]
["2013-02-25",1309,"09",2]
["2013-02-26",1309,"09",2]
["2013-02-27",1309,"09",2]
["2013-02-28",1309,"09",2]
["2013-03-01",1309,"09",3]
["2013-03-02",1309,"09",3]
["2013-03-03",1309,"09",3]
["2013-03-04",1310,"10",3]
["2013-03-05",1310,"10",3]
["2013-03-06",1310,"10",3]
["2013-03-07",1310,"10",3]
["2013-03-08",1310,"10",3]
["2013-03-09",1310,"10",3]
["2013-03-10",1310,"10",3]
["2013-03-11",1311,"11",3]
["2013-03-12",1311,"11",3]
["2013-03-13",{"$f":"B1495+1","v":1311},"11",3]
["2013-03-14",1311,"11",3]
["2013-03-15",1311,"11",3]
["2013-03-16",1311,"11",3]
["2013-03-17",1311,"11",3]
["2013-03-18",1312,"12",3]
["2013-03-19",1312,"12",3]
["2013-03-20",1312,"12",3]
["2013-03-21",1312,"12",3]
["2013-03-22",1312,"12",3]
["2013-03-23",1312,"12",3]
["2013-03-24",1312,"12",3]
["2013-03-25",1313,"13",3]
["2013-03-26",1313,"13",3]
["2013-03-27",1313,"13",3]
["2013-03-28",1313,"13",3]
["2013-03-29",1313,"13",3]
["2013-03-30",1313,"13",3]
["2013-03-31",1313,"13",3]
["2013-04-01",1314,"14",4]
["2013-04-02",1314,"14",4]
["2013-04-03",1314,"14",4]
["2013-04-04",1314,"14",4]
["2013-04-05",1314,"14",4]
["2013-04-06",1314,"14",4]
["2013-04-07",1314,"14",4]
["2013-04-08",1315,"15",4]
["2013-04-09",1315,"15",4]
["2013-04-10",1315,"15",4]
["2013-04-11",1315,"15",4]
["2013-04-12",1315,"15",4]
["2013-04-13",1315,"15",4]
["2013-04-14",1315,"15",4]
["2013-04-15",1316,"16",4]
["2013-04-16",1316,"16",4]
["2013-04-17",1316,"16",4]
["2013-04-18",1316,"16",4]
["2013-04-19",1316,{"$f":"RIGHT(B1539,2)","v":"16"},{"$f":"MONTH(A1539)","v":4}]
["2013-04-20",1316,"16",4]
["2013-04-21",1316,"16",4]
["2013-04-22",1317,"17",4]
["2013-04-23",1317,"17",4]
["2013-04-24",1317,"17",4]
["2013-04-25",1317,"17",4]
["2013-04-26",1317,"17",4]
["2013-04-27",1317,"17",4]
["2013-04-28",1317,"17",4]
["2013-04-29",1318,"18",4]
["2013-04-30",1318,"18",4]
["2013-05-01",1318,"18",5]
["2013-05-02",1318,"18",5]
["2013-05-03",1318,"18",5]
["2013-05-04",1318,"18",5]
["2013-05-05",1318,"18",5]
["2013-05-06",1319,"19",5]
["2013-05-07",1319,"19",5]
["2013-05-08",1319,"19",5]
["2013-05-09",1319,"19",5]
["2013-05-10",1319,"19",5]
["2013-05-11",1319,"19",5]
["2013-05-12",1319,"19",5]
["2013-05-13",1320,"20",5]
["2013-05-14",1320,"20",5]
["2013-05-15",1320,"20",5]
["2013-05-16",{"$f":"B1559+1","v":1320},"20",5]
["2013-05-17",1320,"20",5]
["2013-05-18",1320,"20",5]
["2013-05-19",1320,"20",5]
["2013-05-20",1321,"21",5]
["2013-05-21",1321,"21",5]
["2013-05-22",1321,"21",5]
["2013-05-23",1321,"21",5]
["2013-05-24",1321,"21",5]
["2013-05-25",1321,"21",5]
["2013-05-26",1321,"21",5]
["2013-05-27",1322,"22",5]
["2013-05-28",1322,"22",5]
["2013-05-29",1322,"22",5]
["2013-05-30",1322,"22",5]
["2013-05-31",1322,"22",5]
["2013-06-01",1322,"22",6]
["2013-06-02",1322,"22",6]
["2013-06-03",1323,"23",6]
["2013-06-04",1323,"23",6]
["2013-06-05",1323,"23",6]
["2013-06-06",1323,"23",6]
["2013-06-07",1323,"23",6]
["2013-06-08",1323,"23",6]
["2013-06-09",1323,"23",6]
["2013-06-10",1324,"24",6]
["2013-06-11",1324,"24",6]
["2013-06-12",1324,"24",6]
["2013-06-13",1324,"24",6]
["2013-06-14",1324,"24",6]
["2013-06-15",1324,"24",6]
["2013-06-16",1324,"24",6]
["2013-06-17",1325,"25",6]
["2013-06-18",1325,"25",6]
["2013-06-19",1325,"25",6]
["2013-06-20",1325,"25",6]
["2013-06-21",1325,"25",6]
["2013-06-22",1325,{"$f":"RIGHT(B1603,2)","v":"25"},{"$f":"MONTH(A1603)","v":6}]
["2013-06-23",1325,"25",6]
["2013-06-24",1326,"26",6]
["2013-06-25",1326,"26",6]
["2013-06-26",1326,"26",6]
["2013-06-27",1326,"26",6]
["2013-06-28",1326,"26",6]
["2013-06-29",1326,"26",6]
["2013-06-30",1326,"26",6]
["2013-07-01",1327,"27",7]
["2013-07-02",1327,"27",7]
["2013-07-03",1327,"27",7]
["2013-07-04",1327,"27",7]
["2013-07-05",1327,"27",7]
["2013-07-06",1327,"27",7]
["2013-07-07",1327,"27",7]
["2013-07-08",1328,"28",7]
["2013-07-09",1328,"28",7]
["2013-07-10",1328,"28",7]
["2013-07-11",1328,"28",7]
["2013-07-12",1328,"28",7]
["2013-07-13",1328,"28",7]
["2013-07-14",1328,"28",7]
["2013-07-15",1329,"29",7]
["2013-07-16",1329,"29",7]
["2013-07-17",1329,"29",7]
["2013-07-18",1329,"29",7]
["2013-07-19",{"$f":"B1623+1","v":1329},"29",7]
["2013-07-20",1329,"29",7]
["2013-07-21",1329,"29",7]
["2013-07-22",1330,"30",7]
["2013-07-23",1330,"30",7]
["2013-07-24",1330,"30",7]
["2013-07-25",1330,"30",7]
["2013-07-26",1330,"30",7]
["2013-07-27",1330,"30",7]
["2013-07-28",1330,"30",7]
["2013-07-29",1331,"31",7]
["2013-07-30",1331,"31",7]
["2013-07-31",1331,"31",7]
["2013-08-01",1331,"31",8]
["2013-08-02",1331,"31",8]
["2013-08-03",1331,"31",8]
["2013-08-04",1331,"31",8]
["2013-08-05",1332,"32",8]
["2013-08-06",1332,"32",8]
["2013-08-07",1332,"32",8]
["2013-08-08",1332,"32",8]
["2013-08-09",1332,"32",8]
["2013-08-10",1332,"32",8]
["2013-08-11",1332,"32",8]
["2013-08-12",1333,"33",8]
["2013-08-13",1333,"33",8]
["2013-08-14",1333,"33",8]
["2013-08-15",1333,"33",8]
["2013-08-16",1333,"33",8]
["2013-08-17",1333,"33",8]
["2013-08-18",1333,"33",8]
["2013-08-19",1334,"34",8]
["2013-08-20",1334,"34",8]
["2013-08-21",1334,"34",8]
["2013-08-22",1334,"34",8]
["2013-08-23",1334,"34",8]
["2013-08-24",1334,"34",8]
["2013-08-25",1334,{"$f":"RIGHT(B1667,2)","v":"34"},{"$f":"MONTH(A1667)","v":8}]
["2013-08-26",1335,"35",8]
["2013-08-27",1335,"35",8]
["2013-08-28",1335,"35",8]
["2013-08-29",1335,"35",8]
["2013-08-30",1335,"35",8]
["2013-08-31",1335,"35",8]
["2013-09-01",1335,"35",9]
["2013-09-02",1336,"36",9]
["2013-09-03",1336,"36",9]
["2013-09-04",1336,"36",9]
["2013-09-05",1336,"36",9]
["2013-09-06",1336,"36",9]
["2013-09-07",1336,"36",9]
["2013-09-08",1336,"36",9]
["2013-09-09",1337,"37",9]
["2013-09-10",1337,"37",9]
["2013-09-11",1337,"37",9]
["2013-09-12",1337,"37",9]
["2013-09-13",1337,"37",9]
["2013-09-14",1337,"37",9]
["2013-09-15",1337,"37",9]
["2013-09-16",1338,"38",9]
["2013-09-17",1338,"38",9]
["2013-09-18",1338,"38",9]
["2013-09-19",1338,"38",9]
["2013-09-20",1338,"38",9]
["2013-09-21",{"$f":"B1687+1","v":1338},"38",9]
["2013-09-22",1338,"38",9]
["2013-09-23",1339,"39",9]
["2013-09-24",1339,"39",9]
["2013-09-25",1339,"39",9]
["2013-09-26",1339,"39",9]
["2013-09-27",1339,"39",9]
["2013-09-28",1339,"39",9]
["2013-09-29",1339,"39",9]
["2013-09-30",1340,"40",9]
["2013-10-01",1340,"40",10]
["2013-10-02",1340,"40",10]
["2013-10-03",1340,"40",10]
["2013-10-04",1340,"40",10]
["2013-10-05",1340,"40",10]
["2013-10-06",1340,"40",10]
["2013-10-07",1341,"41",10]
["2013-10-08",1341,"41",10]
["2013-10-09",1341,"41",10]
["2013-10-10",1341,"41",10]
["2013-10-11",1341,"41",10]
["2013-10-12",1341,"41",10]
["2013-10-13",1341,"41",10]
["2013-10-14",1342,"42",10]
["2013-10-15",1342,"42",10]
["2013-10-16",1342,"42",10]
["2013-10-17",1342,"42",10]
["2013-10-18",1342,"42",10]
["2013-10-19",1342,"42",10]
["2013-10-20",1342,"42",10]
["2013-10-21",1343,"43",10]
["2013-10-22",1343,"43",10]
["2013-10-23",1343,"43",10]
["2013-10-24",1343,"43",10]
["2013-10-25",1343,"43",10]
["2013-10-26",1343,"43",10]
["2013-10-27",1343,"43",10]
["2013-10-28",1344,{"$f":"RIGHT(B1731,2)","v":"44"},{"$f":"MONTH(A1731)","v":10}]
["2013-10-29",1344,"44",10]
["2013-10-30",1344,"44",10]
["2013-10-31",1344,"44",10]
["2013-11-01",1344,"44",11]
["2013-11-02",1344,"44",11]
["2013-11-03",1344,"44",11]
["2013-11-04",1345,"45",11]
["2013-11-05",1345,"45",11]
["2013-11-06",1345,"45",11]
["2013-11-07",1345,"45",11]
["2013-11-08",1345,"45",11]
["2013-11-09",1345,"45",11]
["2013-11-10",1345,"45",11]
["2013-11-11",1346,"46",11]
["2013-11-12",1346,"46",11]
["2013-11-13",1346,"46",11]
["2013-11-14",1346,"46",11]
["2013-11-15",1346,"46",11]
["2013-11-16",1346,"46",11]
["2013-11-17",1346,"46",11]
["2013-11-18",1347,"47",11]
["2013-11-19",1347,"47",11]
["2013-11-20",1347,"47",11]
["2013-11-21",1347,"47",11]
["2013-11-22",1347,"47",11]
["2013-11-23",1347,"47",11]
["2013-11-24",{"$f":"B1751+1","v":1347},"47",11]
["2013-11-25",1348,"48",11]
["2013-11-26",1348,"48",11]
["2013-11-27",1348,"48",11]
["2013-11-28",1348,"48",11]
["2013-11-29",1348,"48",11]
["2013-11-30",1348,"48",11]
["2013-12-01",1348,"48",12]
["2013-12-02",1349,"49",12]
["2013-12-03",1349,"49",12]
["2013-12-04",1349,"49",12]
["2013-12-05",1349,"49",12]
["2013-12-06",1349,"49",12]
["2013-12-07",1349,"49",12]
["2013-12-08",1349,"49",12]
["2013-12-09",1350,"50",12]
["2013-12-10",1350,"50",12]
["2013-12-11",1350,"50",12]
["2013-12-12",1350,"50",12]
["2013-12-13",1350,"50",12]
["2013-12-14",1350,"50",12]
["2013-12-15",1350,"50",12]
["2013-12-16",1351,"51",12]
["2013-12-17",1351,"51",12]
["2013-12-18",1351,"51",12]
["2013-12-19",1351,"51",12]
["2013-12-20",1351,"51",12]
["2013-12-21",1351,"51",12]
["2013-12-22",1351,"51",12]
["2013-12-23",1352,"52",12]
["2013-12-24",1352,"52",12]
["2013-12-25",1352,"52",12]
["2013-12-26",1352,"52",12]
["2013-12-27",1352,"52",12]
["2013-12-28",1352,"52",12]
["2013-12-29",1352,"52",12]
["2013-12-30",1401,"01",12]
["2013-12-31",1401,{"$f":"RIGHT(B1795,2)","v":"01"},{"$f":"MONTH(A1795)","v":12}]
["2014-01-01",1401,"01",1]
["2014-01-02",1401,"01",1]
["2014-01-03",1401,"01",1]
["2014-01-04",1401,"01",1]
["2014-01-05",1401,"01",1]
["2014-01-06",{"$f":"B1794+1","v":1402},"02",1]
["2014-01-07",{"$f":"B1795+1","v":1402},"02",1]
["2014-01-08",1402,"02",1]
["2014-01-09",1402,"02",1]
["2014-01-10",1402,"02",1]
["2014-01-11",1402,"02",1]
["2014-01-12",1402,"02",1]
["2014-01-13",1403,"03",1]
["2014-01-14",1403,"03",1]
["2014-01-15",1403,"03",1]
["2014-01-16",1403,"03",1]
["2014-01-17",1403,"03",1]
["2014-01-18",1403,"03",1]
["2014-01-19",1403,"03",1]
["2014-01-20",1404,"04",1]
["2014-01-21",1404,"04",1]
["2014-01-22",1404,"04",1]
["2014-01-23",1404,"04",1]
["2014-01-24",1404,"04",1]
["2014-01-25",1404,"04",1]
["2014-01-26",1404,"04",1]
["2014-01-27",1405,"05",1]
["2014-01-28",1405,"05",1]
["2014-01-29",1405,"05",1]
["2014-01-30",1405,"05",1]
["2014-01-31",1405,"05",1]
["2014-02-01",1405,"05",2]
["2014-02-02",1405,"05",2]
["2014-02-03",1406,"06",2]
["2014-02-04",1406,"06",2]
["2014-02-05",1406,"06",2]
["2014-02-06",1406,"06",2]
["2014-02-07",1406,"06",2]
["2014-02-08",1406,"06",2]
["2014-02-09",1406,"06",2]
["2014-02-10",1407,"07",2]
["2014-02-11",1407,"07",2]
["2014-02-12",1407,"07",2]
["2014-02-13",1407,"07",2]
["2014-02-14",1407,"07",2]
["2014-02-15",1407,"07",2]
["2014-02-16",1407,"07",2]
["2014-02-17",1408,"08",2]
["2014-02-18",1408,"08",2]
["2014-02-19",1408,"08",2]
["2014-02-20",1408,"08",2]
["2014-02-21",1408,"08",2]
["2014-02-22",1408,"08",2]
["2014-02-23",1408,"08",2]
["2014-02-24",1409,"09",2]
["2014-02-25",1409,"09",2]
["2014-02-26",1409,"09",2]
["2014-02-27",1409,"09",2]
["2014-02-28",1409,"09",2]
["2014-03-01",1409,"09",3]
["2014-03-02",1409,"09",3]
["2014-03-03",1410,"10",3]
["2014-03-04",1410,"10",3]
["2014-03-05",1410,{"$f":"RIGHT(B1859,2)","v":"10"},{"$f":"MONTH(A1859)","v":3}]
["2014-03-06",1410,"10",3]
["2014-03-07",1410,"10",3]
["2014-03-08",1410,"10",3]
["2014-03-09",1410,"10",3]
["2014-03-10",1411,"11",3]
["2014-03-11",1411,"11",3]
["2014-03-12",{"$f":"B1859+1","v":1411},"11",3]
["2014-03-13",1411,"11",3]
["2014-03-14",1411,"11",3]
["2014-03-15",1411,"11",3]
["2014-03-16",1411,"11",3]
["2014-03-17",1412,"12",3]
["2014-03-18",1412,"12",3]
["2014-03-19",1412,"12",3]
["2014-03-20",1412,"12",3]
["2014-03-21",1412,"12",3]
["2014-03-22",1412,"12",3]
["2014-03-23",1412,"12",3]
["2014-03-24",1413,"13",3]
["2014-03-25",1413,"13",3]
["2014-03-26",1413,"13",3]
["2014-03-27",1413,"13",3]
["2014-03-28",1413,"13",3]
["2014-03-29",1413,"13",3]
["2014-03-30",1413,"13",3]
["2014-03-31",1414,"14",3]
["2014-04-01",1414,"14",4]
["2014-04-02",1414,"14",4]
["2014-04-03",1414,"14",4]
["2014-04-04",1414,"14",4]
["2014-04-05",1414,"14",4]
["2014-04-06",1414,"14",4]
["2014-04-07",1415,"15",4]
["2014-04-08",1415,"15",4]
["2014-04-09",1415,"15",4]
["2014-04-10",1415,"15",4]
["2014-04-11",1415,"15",4]
["2014-04-12",1415,"15",4]
["2014-04-13",1415,"15",4]
["2014-04-14",1416,"16",4]
["2014-04-15",1416,"16",4]
["2014-04-16",1416,"16",4]
["2014-04-17",1416,"16",4]
["2014-04-18",1416,"16",4]
["2014-04-19",1416,"16",4]
["2014-04-20",1416,"16",4]
["2014-04-21",1417,"17",4]
["2014-04-22",1417,"17",4]
["2014-04-23",1417,"17",4]
["2014-04-24",1417,"17",4]
["2014-04-25",1417,"17",4]
["2014-04-26",1417,"17",4]
["2014-04-27",1417,"17",4]
["2014-04-28",1418,"18",4]
["2014-04-29",1418,"18",4]
["2014-04-30",1418,"18",4]
["2014-05-01",1418,"18",5]
["2014-05-02",1418,"18",5]
["2014-05-03",1418,"18",5]
["2014-05-04",1418,"18",5]
["2014-05-05",1419,"19",5]
["2014-05-06",1419,"19",5]
["2014-05-07",1419,"19",5]
["2014-05-08",1419,{"$f":"RIGHT(B1923,2)","v":"19"},{"$f":"MONTH(A1923)","v":5}]
["2014-05-09",1419,"19",5]
["2014-05-10",1419,"19",5]
["2014-05-11",1419,"19",5]
["2014-05-12",1420,"20",5]
["2014-05-13",1420,"20",5]
["2014-05-14",1420,"20",5]
["2014-05-15",{"$f":"B1923+1","v":1420},"20",5]
["2014-05-16",1420,"20",5]
["2014-05-17",1420,"20",5]
["2014-05-18",1420,"20",5]
["2014-05-19",1421,"21",5]
["2014-05-20",1421,"21",5]
["2014-05-21",1421,"21",5]
["2014-05-22",1421,"21",5]
["2014-05-23",1421,"21",5]
["2014-05-24",1421,"21",5]
["2014-05-25",1421,"21",5]
["2014-05-26",1422,"22",5]
["2014-05-27",1422,"22",5]
["2014-05-28",1422,"22",5]
["2014-05-29",1422,"22",5]
["2014-05-30",1422,"22",5]
["2014-05-31",1422,"22",5]
["2014-06-01",1422,"22",6]
["2014-06-02",1423,"23",6]
["2014-06-03",1423,"23",6]
["2014-06-04",1423,"23",6]
["2014-06-05",1423,"23",6]
["2014-06-06",1423,"23",6]
["2014-06-07",1423,"23",6]
["2014-06-08",1423,"23",6]
["2014-06-09",1424,"24",6]
["2014-06-10",1424,"24",6]
["2014-06-11",1424,"24",6]
["2014-06-12",1424,"24",6]
["2014-06-13",1424,"24",6]
["2014-06-14",1424,"24",6]
["2014-06-15",1424,"24",6]
["2014-06-16",1425,"25",6]
["2014-06-17",1425,"25",6]
["2014-06-18",1425,"25",6]
["2014-06-19",1425,"25",6]
["2014-06-20",1425,"25",6]
["2014-06-21",1425,"25",6]
["2014-06-22",1425,"25",6]
["2014-06-23",1426,"26",6]
["2014-06-24",1426,"26",6]
["2014-06-25",1426,"26",6]
["2014-06-26",1426,"26",6]
["2014-06-27",1426,"26",6]
["2014-06-28",1426,"26",6]
["2014-06-29",1426,"26",6]
["2014-06-30",1427,"27",6]
["2014-07-01",1427,"27",7]
["2014-07-02",1427,"27",7]
["2014-07-03",1427,"27",7]
["2014-07-04",1427,"27",7]
["2014-07-05",1427,"27",7]
["2014-07-06",1427,"27",7]
["2014-07-07",1428,"28",7]
["2014-07-08",1428,"28",7]
["2014-07-09",1428,"28",7]
["2014-07-10",1428,"28",7]
["2014-07-11",1428,{"$f":"RIGHT(B1987,2)","v":"28"},{"$f":"MONTH(A1987)","v":7}]
["2014-07-12",1428,"28",7]
["2014-07-13",1428,"28",7]
["2014-07-14",1429,"29",7]
["2014-07-15",1429,"29",7]
["2014-07-16",1429,"29",7]
["2014-07-17",1429,"29",7]
["2014-07-18",{"$f":"B1987+1","v":1429},"29",7]
["2014-07-19",1429,"29",7]
["2014-07-20",1429,"29",7]
["2014-07-21",1430,"30",7]
["2014-07-22",1430,"30",7]
["2014-07-23",1430,"30",7]
["2014-07-24",1430,"30",7]
["2014-07-25",1430,"30",7]
["2014-07-26",1430,"30",7]
["2014-07-27",1430,"30",7]
["2014-07-28",1431,"31",7]
["2014-07-29",1431,"31",7]
["2014-07-30",1431,"31",7]
["2014-07-31",1431,"31",7]
["2014-08-01",1431,"31",8]
["2014-08-02",1431,"31",8]
["2014-08-03",1431,"31",8]
["2014-08-04",1432,"32",8]
["2014-08-05",1432,"32",8]
["2014-08-06",1432,"32",8]
["2014-08-07",1432,"32",8]
["2014-08-08",1432,"32",8]
["2014-08-09",1432,"32",8]
["2014-08-10",1432,"32",8]
["2014-08-11",1433,"33",8]
["2014-08-12",1433,"33",8]
["2014-08-13",1433,"33",8]
["2014-08-14",1433,"33",8]
["2014-08-15",1433,"33",8]
["2014-08-16",1433,"33",8]
["2014-08-17",1433,"33",8]
["2014-08-18",1434,"34",8]
["2014-08-19",1434,"34",8]
["2014-08-20",1434,"34",8]
["2014-08-21",1434,"34",8]
["2014-08-22",1434,"34",8]
["2014-08-23",1434,"34",8]
["2014-08-24",1434,"34",8]
["2014-08-25",1435,"35",8]
["2014-08-26",1435,"35",8]
["2014-08-27",1435,"35",8]
["2014-08-28",1435,"35",8]
["2014-08-29",1435,"35",8]
["2014-08-30",1435,"35",8]
["2014-08-31",1435,"35",8]
["2014-09-01",1436,"36",9]
["2014-09-02",1436,"36",9]
["2014-09-03",1436,"36",9]
["2014-09-04",1436,"36",9]
["2014-09-05",1436,"36",9]
["2014-09-06",1436,"36",9]
["2014-09-07",1436,"36",9]
["2014-09-08",1437,"37",9]
["2014-09-09",1437,"37",9]
["2014-09-10",1437,"37",9]
["2014-09-11",1437,"37",9]
["2014-09-12",1437,"37",9]
["2014-09-13",1437,{"$f":"RIGHT(B2051,2)","v":"37"},{"$f":"MONTH(A2051)","v":9}]
["2014-09-14",1437,"37",9]
["2014-09-15",1438,"38",9]
["2014-09-16",1438,"38",9]
["2014-09-17",1438,"38",9]
["2014-09-18",1438,"38",9]
["2014-09-19",1438,"38",9]
["2014-09-20",{"$f":"B2051+1","v":1438},"38",9]
["2014-09-21",1438,"38",9]
["2014-09-22",1439,"39",9]
["2014-09-23",1439,"39",9]
["2014-09-24",1439,"39",9]
["2014-09-25",1439,"39",9]
["2014-09-26",1439,"39",9]
["2014-09-27",1439,"39",9]
["2014-09-28",1439,"39",9]
["2014-09-29",1440,"40",9]
["2014-09-30",1440,"40",9]
["2014-10-01",1440,"40",10]
["2014-10-02",1440,"40",10]
["2014-10-03",1440,"40",10]
["2014-10-04",1440,"40",10]
["2014-10-05",1440,"40",10]
["2014-10-06",1441,"41",10]
["2014-10-07",1441,"41",10]
["2014-10-08",1441,"41",10]
["2014-10-09",1441,"41",10]
["2014-10-10",1441,"41",10]
["2014-10-11",1441,"41",10]
["2014-10-12",1441,"41",10]
["2014-10-13",1442,"42",10]
["2014-10-14",1442,"42",10]
["2014-10-15",1442,"42",10]
["2014-10-16",1442,"42",10]
["2014-10-17",1442,"42",10]
["2014-10-18",1442,"42",10]
["2014-10-19",1442,"42",10]
["2014-10-20",1443,"43",10]
["2014-10-21",1443,"43",10]
["2014-10-22",1443,"43",10]
["2014-10-23",1443,"43",10]
["2014-10-24",1443,"43",10]
["2014-10-25",1443,"43",10]
["2014-10-26",1443,"43",10]
["2014-10-27",1444,"44",10]
["2014-10-28",1444,"44",10]
["2014-10-29",1444,"44",10]
["2014-10-30",1444,"44",10]
["2014-10-31",1444,"44",10]
["2014-11-01",1444,"44",11]
["2014-11-02",1444,"44",11]
["2014-11-03",1445,"45",11]
["2014-11-04",1445,"45",11]
["2014-11-05",1445,"45",11]
["2014-11-06",1445,"45",11]
["2014-11-07",1445,"45",11]
["2014-11-08",1445,"45",11]
["2014-11-09",1445,"45",11]
["2014-11-10",1446,"46",11]
["2014-11-11",1446,"46",11]
["2014-11-12",1446,"46",11]
["2014-11-13",1446,"46",11]
["2014-11-14",1446,"46",11]
["2014-11-15",1446,"46",11]
["2014-11-16",1446,{"$f":"RIGHT(B2115,2)","v":"46"},{"$f":"MONTH(A2115)","v":11}]
["2014-11-17",1447,"47",11]
["2014-11-18",1447,"47",11]
["2014-11-19",1447,"47",11]
["2014-11-20",1447,"47",11]
["2014-11-21",1447,"47",11]
["2014-11-22",1447,"47",11]
["2014-11-23",{"$f":"B2115+1","v":1447},"47",11]
["2014-11-24",1448,"48",11]
["2014-11-25",1448,"48",11]
["2014-11-26",1448,"48",11]
["2014-11-27",1448,"48",11]
["2014-11-28",1448,"48",11]
["2014-11-29",1448,"48",11]
["2014-11-30",1448,"48",11]
["2014-12-01",1449,"49",12]
["2014-12-02",1449,"49",12]
["2014-12-03",1449,"49",12]
["2014-12-04",1449,"49",12]
["2014-12-05",1449,"49",12]
["2014-12-06",1449,"49",12]
["2014-12-07",1449,"49",12]
["2014-12-08",1450,"50",12]
["2014-12-09",1450,"50",12]
["2014-12-10",1450,"50",12]
["2014-12-11",1450,"50",12]
["2014-12-12",1450,"50",12]
["2014-12-13",1450,"50",12]
["2014-12-14",1450,"50",12]
["2014-12-15",1451,"51",12]
["2014-12-16",1451,"51",12]
["2014-12-17",1451,"51",12]
["2014-12-18",1451,"51",12]
["2014-12-19",1451,"51",12]
["2014-12-20",1451,"51",12]
["2014-12-21",1451,"51",12]
["2014-12-22",1452,"52",12]
["2014-12-23",1452,"52",12]
["2014-12-24",1452,"52",12]
["2014-12-25",1452,"52",12]
["2014-12-26",1452,"52",12]
["2014-12-27",1452,"52",12]
["2014-12-28",1452,"52",12]
["2014-12-29",1453,"53",12]
["2014-12-30",1453,"53",12]
["2014-12-31",1453,"53",12]
["2015-01-01",1453,{"$f":"RIGHT(B2161,2)","v":"53"},{"$f":"MONTH(A2161)","v":1}]
["2015-01-02",1453,"53",1]
["2015-01-03",1453,"53",1]
["2015-01-04",1453,"53",1]
["2015-01-05",1501,"01",1]
["2015-01-06",1501,"01",1]
["2015-01-07",1501,{"$f":"RIGHT(B2167,2)","v":"01"},{"$f":"MONTH(A2167)","v":1}]
["2015-01-08",1501,"01",1]
["2015-01-09",1501,"01",1]
["2015-01-10",1501,"01",1]
["2015-01-11",1501,"01",1]
["2015-01-12",1502,"02",1]
["2015-01-13",1502,"02",1]
["2015-01-14",1502,"02",1]
["2015-01-15",1502,"02",1]
["2015-01-16",1502,"02",1]
["2015-01-17",1502,"02",1]
["2015-01-18",1502,"02",1]
["2015-01-19",1503,{"$f":"RIGHT(B2179,2)","v":"03"},{"$f":"MONTH(A2179)","v":1}]
["2015-01-20",1503,{"$f":"RIGHT(B2180,2)","v":"03"},{"$f":"MONTH(A2180)","v":1}]
["2015-01-21",1503,{"$f":"RIGHT(B2181,2)","v":"03"},{"$f":"MONTH(A2181)","v":1}]
["2015-01-22",1503,{"$f":"RIGHT(B2182,2)","v":"03"},{"$f":"MONTH(A2182)","v":1}]
["2015-01-23",1503,{"$f":"RIGHT(B2183,2)","v":"03"},{"$f":"MONTH(A2183)","v":1}]
["2015-01-24",1503,{"$f":"RIGHT(B2184,2)","v":"03"},{"$f":"MONTH(A2184)","v":1}]
["2015-01-25",1503,"03",1]
["2015-01-26",{"$f":"B2179+1","v":1504},"04",1]
["2015-01-27",1504,"04",1]
["2015-01-28",1504,"04",1]
["2015-01-29",1504,"04",1]
["2015-01-30",1504,"04",1]
["2015-01-31",1504,"04",1]
["2015-02-01",1504,"04",2]
["2015-02-02",1505,"05",2]
["2015-02-03",1505,"05",2]
["2015-02-04",1505,"05",2]
["2015-02-05",1505,"05",2]
["2015-02-06",1505,"05",2]
["2015-02-07",1505,"05",2]
["2015-02-08",1505,"05",2]
["2015-02-09",1506,"06",2]
["2015-02-10",1506,"06",2]
["2015-02-11",1506,"06",2]
["2015-02-12",1506,"06",2]
["2015-02-13",1506,"06",2]
["2015-02-14",1506,"06",2]
["2015-02-15",1506,"06",2]
["2015-02-16",1507,"07",2]
["2015-02-17",1507,"07",2]
["2015-02-18",1507,"07",2]
["2015-02-19",1507,"07",2]
["2015-02-20",1507,"07",2]
["2015-02-21",1507,"07",2]
["2015-02-22",1507,"07",2]
["2015-02-23",1508,"08",2]
["2015-02-24",1508,"08",2]
["2015-02-25",1508,"08",2]
["2015-02-26",1508,"08",2]
["2015-02-27",1508,"08",2]
["2015-02-28",1508,"08",2]
["2015-03-01",1508,"08",3]
["2015-03-02",1509,"09",3]
["2015-03-03",1509,"09",3]
["2015-03-04",1509,"09",3]
["2015-03-05",1509,"09",3]
["2015-03-06",1509,"09",3]
["2015-03-07",1509,"09",3]
["2015-03-08",1509,"09",3]
["2015-03-09",1510,"10",3]
["2015-03-10",1510,"10",3]
["2015-03-11",1510,"10",3]
["2015-03-12",1510,"10",3]
["2015-03-13",1510,"10",3]
["2015-03-14",1510,"10",3]
["2015-03-15",1510,"10",3]
["2015-03-16",1511,"11",3]
["2015-03-17",1511,"11",3]
["2015-03-18",1511,"11",3]
["2015-03-19",1511,"11",3]
["2015-03-20",1511,"11",3]
["2015-03-21",1511,"11",3]
["2015-03-22",1511,"11",3]
["2015-03-23",1512,"12",3]
["2015-03-24",1512,"12",3]
["2015-03-25",1512,"12",3]
["2015-03-26",1512,"12",3]
["2015-03-27",1512,"12",3]
["2015-03-28",1512,"12",3]
["2015-03-29",1512,{"$f":"RIGHT(B2248,2)","v":"12"},{"$f":"MONTH(A2248)","v":3}]
["2015-03-30",1513,"13",3]
["2015-03-31",{"$f":"B2243+1","v":1513},"13",3]
["2015-04-01",1513,"13",4]
["2015-04-02",1513,"13",4]
["2015-04-03",1513,"13",4]
["2015-04-04",1513,"13",4]
["2015-04-05",1513,"13",4]
["2015-04-06",1514,"14",4]
["2015-04-07",1514,"14",4]
["2015-04-08",1514,"14",4]
["2015-04-09",1514,"14",4]
["2015-04-10",1514,"14",4]
["2015-04-11",1514,"14",4]
["2015-04-12",1514,"14",4]
["2015-04-13",1515,"15",4]
["2015-04-14",1515,"15",4]
["2015-04-15",1515,"15",4]
["2015-04-16",1515,"15",4]
["2015-04-17",1515,"15",4]
["2015-04-18",1515,"15",4]
["2015-04-19",1515,"15",4]
["2015-04-20",1516,"16",4]
["2015-04-21",1516,"16",4]
["2015-04-22",1516,"16",4]
["2015-04-23",1516,"16",4]
["2015-04-24",1516,"16",4]
["2015-04-25",1516,"16",4]
["2015-04-26",1516,"16",4]
["2015-04-27",1517,"17",4]
["2015-04-28",1517,"17",4]
["2015-04-29",1517,"17",4]
["2015-04-30",1517,"17",4]
["2015-05-01",1517,"17",5]
["2015-05-02",1517,"17",5]
["2015-05-03",1517,"17",5]
["2015-05-04",1518,"18",5]
["2015-05-05",1518,"18",5]
["2015-05-06",1518,"18",5]
["2015-05-07",1518,"18",5]
["2015-05-08",1518,"18",5]
["2015-05-09",1518,"18",5]
["2015-05-10",1518,"18",5]
["2015-05-11",1519,"19",5]
["2015-05-12",1519,"19",5]
["2015-05-13",1519,"19",5]
["2015-05-14",1519,"19",5]
["2015-05-15",1519,"19",5]
["2015-05-16",1519,"19",5]
["2015-05-17",1519,"19",5]
["2015-05-18",1520,"20",5]
["2015-05-19",1520,"20",5]
["2015-05-20",1520,"20",5]
["2015-05-21",1520,"20",5]
["2015-05-22",1520,"20",5]
["2015-05-23",1520,"20",5]
["2015-05-24",1520,"20",5]
["2015-05-25",1521,"21",5]
["2015-05-26",1521,"21",5]
["2015-05-27",1521,"21",5]
["2015-05-28",1521,"21",5]
["2015-05-29",1521,"21",5]
["2015-05-30",1521,"21",5]
["2015-05-31",1521,"21",5]
["2015-06-01",1522,{"$f":"RIGHT(B2312,2)","v":"22"},{"$f":"MONTH(A2312)","v":6}]
["2015-06-02",1522,"22",6]
["2015-06-03",{"$f":"B2307+1","v":1522},"22",6]
["2015-06-04",1522,"22",6]
["2015-06-05",1522,"22",6]
["2015-06-06",1522,"22",6]
["2015-06-07",1522,"22",6]
["2015-06-08",1523,"23",6]
["2015-06-09",1523,"23",6]
["2015-06-10",1523,"23",6]
["2015-06-11",1523,"23",6]
["2015-06-12",1523,"23",6]
["2015-06-13",1523,"23",6]
["2015-06-14",1523,"23",6]
["2015-06-15",1524,"24",6]
["2015-06-16",1524,"24",6]
["2015-06-17",1524,"24",6]
["2015-06-18",1524,"24",6]
["2015-06-19",1524,"24",6]
["2015-06-20",1524,"24",6]
["2015-06-21",1524,"24",6]
["2015-06-22",1525,"25",6]
["2015-06-23",1525,"25",6]
["2015-06-24",1525,"25",6]
["2015-06-25",1525,"25",6]
["2015-06-26",1525,"25",6]
["2015-06-27",1525,"25",6]
["2015-06-28",1525,"25",6]
["2015-06-29",1526,"26",6]
["2015-06-30",1526,"26",6]
["2015-07-01",1526,"26",7]
["2015-07-02",1526,"26",7]
["2015-07-03",1526,"26",7]
["2015-07-04",1526,"26",7]
["2015-07-05",1526,"26",7]
["2015-07-06",1527,"27",7]
["2015-07-07",1527,"27",7]
["2015-07-08",1527,"27",7]
["2015-07-09",1527,"27",7]
["2015-07-10",1527,"27",7]
["2015-07-11",1527,"27",7]
["2015-07-12",1527,"27",7]
["2015-07-13",1528,"28",7]
["2015-07-14",1528,"28",7]
["2015-07-15",1528,"28",7]
["2015-07-16",1528,"28",7]
["2015-07-17",1528,"28",7]
["2015-07-18",1528,"28",7]
["2015-07-19",1528,"28",7]
["2015-07-20",1529,"29",7]
["2015-07-21",1529,"29",7]
["2015-07-22",1529,"29",7]
["2015-07-23",1529,"29",7]
["2015-07-24",1529,"29",7]
["2015-07-25",1529,"29",7]
["2015-07-26",1529,"29",7]
["2015-07-27",1530,"30",7]
["2015-07-28",1530,"30",7]
["2015-07-29",1530,"30",7]
["2015-07-30",1530,"30",7]
["2015-07-31",1530,"30",7]
["2015-08-01",1530,"30",8]
["2015-08-02",1530,"30",8]
["2015-08-03",1531,"31",8]
["2015-08-04",1531,{"$f":"RIGHT(B2376,2)","v":"31"},{"$f":"MONTH(A2376)","v":8}]
["2015-08-05",1531,"31",8]
["2015-08-06",{"$f":"B2371+1","v":1531},"31",8]
["2015-08-07",1531,"31",8]
["2015-08-08",1531,"31",8]
["2015-08-09",1531,"31",8]
["2015-08-10",1532,"32",8]
["2015-08-11",1532,"32",8]
["2015-08-12",1532,"32",8]
["2015-08-13",1532,"32",8]
["2015-08-14",1532,"32",8]
["2015-08-15",1532,"32",8]
["2015-08-16",1532,"32",8]
["2015-08-17",1533,"33",8]
["2015-08-18",1533,"33",8]
["2015-08-19",1533,"33",8]
["2015-08-20",1533,"33",8]
["2015-08-21",1533,"33",8]
["2015-08-22",1533,"33",8]
["2015-08-23",1533,"33",8]
["2015-08-24",1534,"34",8]
["2015-08-25",1534,"34",8]
["2015-08-26",1534,"34",8]
["2015-08-27",1534,"34",8]
["2015-08-28",1534,"34",8]
["2015-08-29",1534,"34",8]
["2015-08-30",1534,"34",8]
["2015-08-31",1535,"35",8]
["2015-09-01",1535,"35",9]
["2015-09-02",1535,"35",9]
["2015-09-03",1535,"35",9]
["2015-09-04",1535,"35",9]
["2015-09-05",1535,"35",9]
["2015-09-06",1535,"35",9]
["2015-09-07",1536,"36",9]
["2015-09-08",1536,"36",9]
["2015-09-09",1536,"36",9]
["2015-09-10",1536,"36",9]
["2015-09-11",1536,"36",9]
["2015-09-12",1536,"36",9]
["2015-09-13",1536,"36",9]
["2015-09-14",1537,"37",9]
["2015-09-15",1537,"37",9]
["2015-09-16",1537,"37",9]
["2015-09-17",1537,"37",9]
["2015-09-18",1537,"37",9]
["2015-09-19",1537,"37",9]
["2015-09-20",1537,"37",9]
["2015-09-21",1538,"38",9]
["2015-09-22",1538,"38",9]
["2015-09-23",1538,"38",9]
["2015-09-24",1538,"38",9]
["2015-09-25",1538,"38",9]
["2015-09-26",1538,"38",9]
["2015-09-27",1538,"38",9]
["2015-09-28",1539,"39",9]
["2015-09-29",1539,"39",9]
["2015-09-30",1539,"39",9]
["2015-10-01",1539,"39",10]
["2015-10-02",1539,"39",10]
["2015-10-03",1539,"39",10]
["2015-10-04",1539,"39",10]
["2015-10-05",1540,"40",10]
["2015-10-06",1540,"40",10]
["2015-10-07",1540,{"$f":"RIGHT(B2440,2)","v":"40"},{"$f":"MONTH(A2440)","v":10}]
["2015-10-08",1540,"40",10]
["2015-10-09",{"$f":"B2435+1","v":1540},"40",10]
["2015-10-10",1540,"40",10]
["2015-10-11",1540,"40",10]
["2015-10-12",1541,"41",10]
["2015-10-13",1541,"41",10]
["2015-10-14",1541,"41",10]
["2015-10-15",1541,"41",10]
["2015-10-16",1541,"41",10]
["2015-10-17",1541,"41",10]
["2015-10-18",1541,"41",10]
["2015-10-19",1542,"42",10]
["2015-10-20",1542,"42",10]
["2015-10-21",1542,"42",10]
["2015-10-22",1542,"42",10]
["2015-10-23",1542,"42",10]
["2015-10-24",1542,"42",10]
["2015-10-25",1542,"42",10]
["2015-10-26",1543,"43",10]
["2015-10-27",1543,"43",10]
["2015-10-28",1543,"43",10]
["2015-10-29",1543,"43",10]
["2015-10-30",1543,"43",10]
["2015-10-31",1543,"43",10]
["2015-11-01",1543,"43",11]
["2015-11-02",1544,"44",11]
["2015-11-03",1544,"44",11]
["2015-11-04",1544,"44",11]
["2015-11-05",1544,"44",11]
["2015-11-06",1544,"44",11]
["2015-11-07",1544,"44",11]
["2015-11-08",1544,"44",11]
["2015-11-09",1545,"45",11]
["2015-11-10",1545,"45",11]
["2015-11-11",1545,"45",11]
["2015-11-12",1545,"45",11]
["2015-11-13",1545,"45",11]
["2015-11-14",1545,"45",11]
["2015-11-15",1545,"45",11]
["2015-11-16",1546,"46",11]
["2015-11-17",1546,"46",11]
["2015-11-18",1546,"46",11]
["2015-11-19",1546,"46",11]
["2015-11-20",1546,"46",11]
["2015-11-21",1546,"46",11]
["2015-11-22",1546,"46",11]
["2015-11-23",1547,"47",11]
["2015-11-24",1547,"47",11]
["2015-11-25",1547,"47",11]
["2015-11-26",1547,"47",11]
["2015-11-27",1547,"47",11]
["2015-11-28",1547,"47",11]
["2015-11-29",1547,"47",11]
["2015-11-30",1548,"48",11]
["2015-12-01",1548,"48",12]
["2015-12-02",1548,"48",12]
["2015-12-03",1548,"48",12]
["2015-12-04",1548,"48",12]
["2015-12-05",1548,"48",12]
["2015-12-06",1548,"48",12]
["2015-12-07",1549,"49",12]
["2015-12-08",1549,"49",12]
["2015-12-09",1549,"49",12]
["2015-12-10",1549,{"$f":"RIGHT(B2504,2)","v":"49"},{"$f":"MONTH(A2504)","v":12}]
["2015-12-11",1549,"49",12]
["2015-12-12",{"$f":"B2499+1","v":1549},"49",12]
["2015-12-13",1549,"49",12]
["2015-12-14",1550,"50",12]
["2015-12-15",1550,"50",12]
["2015-12-16",1550,"50",12]
["2015-12-17",1550,"50",12]
["2015-12-18",1550,"50",12]
["2015-12-19",1550,"50",12]
["2015-12-20",1550,"50",12]
["2015-12-21",1551,"51",12]
["2015-12-22",1551,"51",12]
["2015-12-23",1551,"51",12]
["2015-12-24",1551,"51",12]
["2015-12-25",1551,"51",12]
["2015-12-26",1551,"51",12]
["2015-12-27",1551,"51",12]
["2015-12-28",1552,"52",12]
["2015-12-29",1552,"52",12]
["2015-12-30",1552,"52",12]
["2015-12-31",1552,"52",12]
["2016-01-01",1552,"52",1]
["2016-01-02",1552,"52",1]
["2016-01-03",1552,"52",1]
["2016-01-04",1601,"01",1]
["2016-01-05",1601,{"$f":"RIGHT(B2530,2)","v":"01"},{"$f":"MONTH(A2530)","v":1}]
["2016-01-06",1601,"01",1]
["2016-01-07",1601,"01",1]
["2016-01-08",1601,"01",1]
["2016-01-09",1601,"01",1]
["2016-01-10",1601,"01",1]
["2016-01-11",{"$f":"B2529+1","v":1602},"02",1]
["2016-01-12",1602,{"$f":"RIGHT(B2537,2)","v":"02"},{"$f":"MONTH(A2537)","v":1}]
["2016-01-13",1602,"02",1]
["2016-01-14",1602,"02",1]
["2016-01-15",1602,"02",1]
["2016-01-16",1602,"02",1]
["2016-01-17",1602,"02",1]
["2016-01-18",1603,"03",1]
["2016-01-19",1603,"03",1]
["2016-01-20",1603,"03",1]
["2016-01-21",1603,"03",1]
["2016-01-22",1603,"03",1]
["2016-01-23",1603,"03",1]
["2016-01-24",1603,"03",1]
["2016-01-25",1604,"04",1]
["2016-01-26",1604,"04",1]
["2016-01-27",1604,"04",1]
["2016-01-28",1604,"04",1]
["2016-01-29",1604,"04",1]
["2016-01-30",1604,"04",1]
["2016-01-31",1604,"04",1]
["2016-02-01",1605,"05",2]
["2016-02-02",1605,"05",2]
["2016-02-03",1605,"05",2]
["2016-02-04",1605,"05",2]
["2016-02-05",1605,"05",2]
["2016-02-06",1605,"05",2]
["2016-02-07",1605,"05",2]
["2016-02-08",1606,"06",2]
["2016-02-09",1606,"06",2]
["2016-02-10",1606,"06",2]
["2016-02-11",1606,"06",2]
["2016-02-12",1606,"06",2]
["2016-02-13",1606,"06",2]
["2016-02-14",1606,"06",2]
["2016-02-15",1607,"07",2]
["2016-02-16",1607,"07",2]
["2016-02-17",1607,"07",2]
["2016-02-18",1607,"07",2]
["2016-02-19",1607,"07",2]
["2016-02-20",1607,"07",2]
["2016-02-21",1607,"07",2]
["2016-02-22",1608,"08",2]
["2016-02-23",1608,"08",2]
["2016-02-24",1608,"08",2]
["2016-02-25",1608,"08",2]
["2016-02-26",1608,"08",2]
["2016-02-27",1608,"08",2]
["2016-02-28",1608,"08",2]
["2016-02-29",1609,"09",2]
["2016-03-01",1609,"09",3]
["2016-03-02",1609,"09",3]
["2016-03-03",1609,"09",3]
["2016-03-04",1609,"09",3]
["2016-03-05",1609,"09",3]
["2016-03-06",1609,"09",3]
["2016-03-07",1610,"10",3]
["2016-03-08",1610,"10",3]
["2016-03-09",1610,"10",3]
["2016-03-10",1610,"10",3]
["2016-03-11",1610,"10",3]
["2016-03-12",1610,"10",3]
["2016-03-13",1610,"10",3]
["2016-03-14",1611,"11",3]
["2016-03-15",{"$f":"B2593+1","v":1611},"11",3]
["2016-03-16",1611,{"$f":"RIGHT(B2601,2)","v":"11"},{"$f":"MONTH(A2601)","v":3}]
["2016-03-17",1611,"11",3]
["2016-03-18",1611,"11",3]
["2016-03-19",1611,"11",3]
["2016-03-20",1611,"11",3]
["2016-03-21",1612,"12",3]
["2016-03-22",1612,"12",3]
["2016-03-23",1612,"12",3]
["2016-03-24",1612,"12",3]
["2016-03-25",1612,"12",3]
["2016-03-26",1612,"12",3]
["2016-03-27",1612,"12",3]
["2016-03-28",1613,"13",3]
["2016-03-29",1613,"13",3]
["2016-03-30",1613,"13",3]
["2016-03-31",1613,"13",3]
["2016-04-01",1613,"13",4]
["2016-04-02",1613,"13",4]
["2016-04-03",1613,"13",4]
["2016-04-04",1614,"14",4]
["2016-04-05",1614,"14",4]
["2016-04-06",1614,"14",4]
["2016-04-07",1614,"14",4]
["2016-04-08",1614,"14",4]
["2016-04-09",1614,"14",4]
["2016-04-10",1614,"14",4]
["2016-04-11",1615,"15",4]
["2016-04-12",1615,"15",4]
["2016-04-13",1615,"15",4]
["2016-04-14",1615,"15",4]
["2016-04-15",1615,"15",4]
["2016-04-16",1615,"15",4]
["2016-04-17",1615,"15",4]
["2016-04-18",1616,"16",4]
["2016-04-19",1616,"16",4]
["2016-04-20",1616,"16",4]
["2016-04-21",1616,"16",4]
["2016-04-22",1616,"16",4]
["2016-04-23",1616,"16",4]
["2016-04-24",1616,"16",4]
["2016-04-25",1617,"17",4]
["2016-04-26",1617,"17",4]
["2016-04-27",1617,"17",4]
["2016-04-28",1617,"17",4]
["2016-04-29",1617,"17",4]
["2016-04-30",1617,"17",4]
["2016-05-01",1617,"17",5]
["2016-05-02",1618,"18",5]
["2016-05-03",1618,"18",5]
["2016-05-04",1618,"18",5]
["2016-05-05",1618,"18",5]
["2016-05-06",1618,"18",5]
["2016-05-07",1618,"18",5]
["2016-05-08",1618,"18",5]
["2016-05-09",1619,"19",5]
["2016-05-10",1619,"19",5]
["2016-05-11",1619,"19",5]
["2016-05-12",1619,"19",5]
["2016-05-13",1619,"19",5]
["2016-05-14",1619,"19",5]
["2016-05-15",1619,"19",5]
["2016-05-16",1620,"20",5]
["2016-05-17",1620,"20",5]
["2016-05-18",{"$f":"B2657+1","v":1620},"20",5]
["2016-05-19",1620,{"$f":"RIGHT(B2665,2)","v":"20"},{"$f":"MONTH(A2665)","v":5}]
["2016-05-20",1620,"20",5]
["2016-05-21",1620,"20",5]
["2016-05-22",1620,"20",5]
["2016-05-23",1621,"21",5]
["2016-05-24",1621,"21",5]
["2016-05-25",1621,"21",5]
["2016-05-26",1621,"21",5]
["2016-05-27",1621,"21",5]
["2016-05-28",1621,"21",5]
["2016-05-29",1621,"21",5]
["2016-05-30",1622,"22",5]
["2016-05-31",1622,"22",5]
["2016-06-01",1622,"22",6]
["2016-06-02",1622,"22",6]
["2016-06-03",1622,"22",6]
["2016-06-04",1622,"22",6]
["2016-06-05",1622,"22",6]
["2016-06-06",1623,"23",6]
["2016-06-07",1623,"23",6]
["2016-06-08",1623,"23",6]
["2016-06-09",1623,"23",6]
["2016-06-10",1623,"23",6]
["2016-06-11",1623,"23",6]
["2016-06-12",1623,"23",6]
["2016-06-13",1624,"24",6]
["2016-06-14",1624,"24",6]
["2016-06-15",1624,"24",6]
["2016-06-16",1624,"24",6]
["2016-06-17",1624,"24",6]
["2016-06-18",1624,"24",6]
["2016-06-19",1624,"24",6]
["2016-06-20",1625,"25",6]
["2016-06-21",1625,"25",6]
["2016-06-22",1625,"25",6]
["2016-06-23",1625,"25",6]
["2016-06-24",1625,"25",6]
["2016-06-25",1625,"25",6]
["2016-06-26",1625,"25",6]
["2016-06-27",1626,"26",6]
["2016-06-28",1626,"26",6]
["2016-06-29",1626,"26",6]
["2016-06-30",1626,"26",6]
["2016-07-01",1626,"26",7]
["2016-07-02",1626,"26",7]
["2016-07-03",1626,"26",7]
["2016-07-04",1627,"27",7]
["2016-07-05",1627,"27",7]
["2016-07-06",1627,"27",7]
["2016-07-07",1627,"27",7]
["2016-07-08",1627,"27",7]
["2016-07-09",1627,"27",7]
["2016-07-10",1627,"27",7]
["2016-07-11",1628,"28",7]
["2016-07-12",1628,"28",7]
["2016-07-13",1628,"28",7]
["2016-07-14",1628,"28",7]
["2016-07-15",1628,"28",7]
["2016-07-16",1628,"28",7]
["2016-07-17",1628,"28",7]
["2016-07-18",1629,"29",7]
["2016-07-19",1629,"29",7]
["2016-07-20",1629,"29",7]
["2016-07-21",{"$f":"B2721+1","v":1629},"29",7]
["2016-07-22",1629,{"$f":"RIGHT(B2729,2)","v":"29"},{"$f":"MONTH(A2729)","v":7}]
["2016-07-23",1629,"29",7]
["2016-07-24",1629,"29",7]
["2016-07-25",1630,"30",7]
["2016-07-26",1630,"30",7]
["2016-07-27",1630,"30",7]
["2016-07-28",1630,"30",7]
["2016-07-29",1630,"30",7]
["2016-07-30",1630,"30",7]
["2016-07-31",1630,"30",7]
["2016-08-01",1631,"31",8]
["2016-08-02",1631,"31",8]
["2016-08-03",1631,"31",8]
["2016-08-04",1631,"31",8]
["2016-08-05",1631,"31",8]
["2016-08-06",1631,"31",8]
["2016-08-07",1631,"31",8]
["2016-08-08",1632,"32",8]
["2016-08-09",1632,"32",8]
["2016-08-10",1632,"32",8]
["2016-08-11",1632,"32",8]
["2016-08-12",1632,"32",8]
["2016-08-13",1632,"32",8]
["2016-08-14",1632,"32",8]
["2016-08-15",1633,"33",8]
["2016-08-16",1633,"33",8]
["2016-08-17",1633,"33",8]
["2016-08-18",1633,"33",8]
["2016-08-19",1633,"33",8]
["2016-08-20",1633,"33",8]
["2016-08-21",1633,"33",8]
["2016-08-22",1634,"34",8]
["2016-08-23",1634,"34",8]
["2016-08-24",1634,"34",8]
["2016-08-25",1634,"34",8]
["2016-08-26",1634,"34",8]
["2016-08-27",1634,"34",8]
["2016-08-28",1634,"34",8]
["2016-08-29",1635,"35",8]
["2016-08-30",1635,"35",8]
["2016-08-31",1635,"35",8]
["2016-09-01",1635,"35",9]
["2016-09-02",1635,"35",9]
["2016-09-03",1635,"35",9]
["2016-09-04",1635,"35",9]
["2016-09-05",1636,"36",9]
["2016-09-06",1636,"36",9]
["2016-09-07",1636,"36",9]
["2016-09-08",1636,"36",9]
["2016-09-09",1636,"36",9]
["2016-09-10",1636,"36",9]
["2016-09-11",1636,"36",9]
["2016-09-12",1637,"37",9]
["2016-09-13",1637,"37",9]
["2016-09-14",1637,"37",9]
["2016-09-15",1637,"37",9]
["2016-09-16",1637,"37",9]
["2016-09-17",1637,"37",9]
["2016-09-18",1637,"37",9]
["2016-09-19",1638,"38",9]
["2016-09-20",1638,"38",9]
["2016-09-21",1638,"38",9]
["2016-09-22",1638,"38",9]
["2016-09-23",{"$f":"B2785+1","v":1638},"38",9]
["2016-09-24",1638,{"$f":"RIGHT(B2793,2)","v":"38"},{"$f":"MONTH(A2793)","v":9}]
["2016-09-25",1638,"38",9]
["2016-09-26",1639,"39",9]
["2016-09-27",1639,"39",9]
["2016-09-28",1639,"39",9]
["2016-09-29",1639,"39",9]
["2016-09-30",1639,"39",9]
["2016-10-01",1639,"39",10]
["2016-10-02",1639,"39",10]
["2016-10-03",1640,"40",10]
["2016-10-04",1640,"40",10]
["2016-10-05",1640,"40",10]
["2016-10-06",1640,"40",10]
["2016-10-07",1640,"40",10]
["2016-10-08",1640,"40",10]
["2016-10-09",1640,"40",10]
["2016-10-10",1641,"41",10]
["2016-10-11",1641,"41",10]
["2016-10-12",1641,"41",10]
["2016-10-13",1641,"41",10]
["2016-10-14",1641,"41",10]
["2016-10-15",1641,"41",10]
["2016-10-16",1641,"41",10]
["2016-10-17",1642,"42",10]
["2016-10-18",1642,"42",10]
["2016-10-19",1642,"42",10]
["2016-10-20",1642,"42",10]
["2016-10-21",1642,"42",10]
["2016-10-22",1642,"42",10]
["2016-10-23",1642,"42",10]
["2016-10-24",1643,"43",10]
["2016-10-25",1643,"43",10]
["2016-10-26",1643,"43",10]
["2016-10-27",1643,"43",10]
["2016-10-28",1643,"43",10]
["2016-10-29",1643,"43",10]
["2016-10-30",1643,"43",10]
["2016-10-31",1644,"44",10]
["2016-11-01",1644,"44",11]
["2016-11-02",1644,"44",11]
["2016-11-03",1644,"44",11]
["2016-11-04",1644,"44",11]
["2016-11-05",1644,"44",11]
["2016-11-06",1644,"44",11]
["2016-11-07",1645,"45",11]
["2016-11-08",1645,"45",11]
["2016-11-09",1645,"45",11]
["2016-11-10",1645,"45",11]
["2016-11-11",1645,"45",11]
["2016-11-12",1645,"45",11]
["2016-11-13",1645,"45",11]
["2016-11-14",1646,"46",11]
["2016-11-15",1646,"46",11]
["2016-11-16",1646,"46",11]
["2016-11-17",1646,"46",11]
["2016-11-18",1646,"46",11]
["2016-11-19",1646,"46",11]
["2016-11-20",1646,"46",11]
["2016-11-21",1647,"47",11]
["2016-11-22",1647,"47",11]
["2016-11-23",1647,"47",11]
["2016-11-24",1647,"47",11]
["2016-11-25",1647,"47",11]
["2016-11-26",{"$f":"B2849+1","v":1647},"47",11]
["2016-11-27",1647,{"$f":"RIGHT(B2857,2)","v":"47"},{"$f":"MONTH(A2857)","v":11}]
["2016-11-28",1648,"48",11]
["2016-11-29",1648,"48",11]
["2016-11-30",1648,"48",11]
["2016-12-01",1648,"48",12]
["2016-12-02",1648,"48",12]
["2016-12-03",1648,"48",12]
["2016-12-04",1648,"48",12]
["2016-12-05",1649,"49",12]
["2016-12-06",1649,"49",12]
["2016-12-07",1649,"49",12]
["2016-12-08",1649,"49",12]
["2016-12-09",1649,"49",12]
["2016-12-10",1649,"49",12]
["2016-12-11",1649,"49",12]
["2016-12-12",1650,"50",12]
["2016-12-13",1650,"50",12]
["2016-12-14",1650,"50",12]
["2016-12-15",1650,"50",12]
["2016-12-16",1650,"50",12]
["2016-12-17",1650,"50",12]
["2016-12-18",1650,"50",12]
["2016-12-19",1651,"51",12]
["2016-12-20",1651,"51",12]
["2016-12-21",1651,"51",12]
["2016-12-22",1651,"51",12]
["2016-12-23",1651,"51",12]
["2016-12-24",1651,"51",12]
["2016-12-25",1651,"51",12]
["2016-12-26",1652,"52",12]
["2016-12-27",1652,"52",12]
["2016-12-28",1652,"52",12]
["2016-12-29",1652,"52",12]
["2016-12-30",1652,"52",12]
["2016-12-31",1652,"52",12]
["2017-01-01",1701,"01",1]
["2017-01-02",1701,{"$f":"RIGHT(B2893,2)","v":"01"},{"$f":"MONTH(A2893)","v":1}]
["2017-01-03",1701,"01",1]
["2017-01-04",1701,"01",1]
["2017-01-05",1701,"01",1]
["2017-01-06",1701,"01",1]
["2017-01-07",1701,"01",1]
["2017-01-08",{"$f":"B2892+1","v":1702},{"$f":"RIGHT(B2899,2)","v":"02"},{"$f":"MONTH(A2899)","v":1}]
["2017-01-09",1702,{"$f":"RIGHT(B2900,2)","v":"02"},{"$f":"MONTH(A2900)","v":1}]
["2017-01-10",1702,"02",1]
["2017-01-11",1702,"02",1]
["2017-01-12",1702,"02",1]
["2017-01-13",1702,"02",1]
["2017-01-14",1702,"02",1]
["2017-01-15",1703,"03",1]
["2017-01-16",1703,"03",1]
["2017-01-17",1703,"03",1]
["2017-01-18",1703,"03",1]
["2017-01-19",1703,"03",1]
["2017-01-20",1703,"03",1]
["2017-01-21",1703,"03",1]
["2017-01-22",1704,"04",1]
["2017-01-23",1704,"04",1]
["2017-01-24",1704,"04",1]
["2017-01-25",1704,"04",1]
["2017-01-26",1704,"04",1]
["2017-01-27",1704,"04",1]
["2017-01-28",1704,"04",1]
["2017-01-29",1705,"05",1]
["2017-01-30",1705,"05",1]
["2017-01-31",1705,"05",1]
["2017-02-01",1705,"05",2]
["2017-02-02",1705,"05",2]
["2017-02-03",1705,"05",2]
["2017-02-04",1705,"05",2]
["2017-02-05",1706,"06",2]
["2017-02-06",1706,"06",2]
["2017-02-07",1706,"06",2]
["2017-02-08",1706,"06",2]
["2017-02-09",1706,"06",2]
["2017-02-10",1706,"06",2]
["2017-02-11",1706,"06",2]
["2017-02-12",1707,"07",2]
["2017-02-13",1707,"07",2]
["2017-02-14",1707,"07",2]
["2017-02-15",1707,"07",2]
["2017-02-16",1707,"07",2]
["2017-02-17",1707,"07",2]
["2017-02-18",1707,"07",2]
["2017-02-19",1708,"08",2]
["2017-02-20",1708,"08",2]
["2017-02-21",1708,"08",2]
["2017-02-22",1708,"08",2]
["2017-02-23",1708,"08",2]
["2017-02-24",1708,"08",2]
["2017-02-25",1708,"08",2]
["2017-02-26",1709,"09",2]
["2017-02-27",1709,"09",2]
["2017-02-28",1709,"09",2]
["2017-03-01",1709,"09",3]
["2017-03-02",1709,"09",3]
["2017-03-03",1709,"09",3]
["2017-03-04",1709,"09",3]
["2017-03-05",1710,"10",3]
["2017-03-06",1710,"10",3]
["2017-03-07",1710,"10",3]
["2017-03-08",1710,"10",3]
["2017-03-09",1710,"10",3]
["2017-03-10",1710,"10",3]
["2017-03-11",1710,"10",3]
["2017-03-12",1711,"11",3]
["2017-03-13",{"$f":"B2956+1","v":1711},"11",3]
["2017-03-14",1711,{"$f":"RIGHT(B2964,2)","v":"11"},{"$f":"MONTH(A2964)","v":3}]
["2017-03-15",1711,"11",3]
["2017-03-16",1711,"11",3]
["2017-03-17",1711,"11",3]
["2017-03-18",1711,"11",3]
["2017-03-19",1712,"12",3]
["2017-03-20",1712,"12",3]
["2017-03-21",1712,"12",3]
["2017-03-22",1712,"12",3]
["2017-03-23",1712,"12",3]
["2017-03-24",1712,"12",3]
["2017-03-25",1712,"12",3]
["2017-03-26",1713,"13",3]
["2017-03-27",1713,"13",3]
["2017-03-28",1713,"13",3]
["2017-03-29",1713,"13",3]
["2017-03-30",1713,"13",3]
["2017-03-31",1713,"13",3]
["2017-04-01",1713,"13",4]
["2017-04-02",1714,"14",4]
["2017-04-03",1714,"14",4]
["2017-04-04",1714,"14",4]
["2017-04-05",1714,"14",4]
["2017-04-06",1714,"14",4]
["2017-04-07",1714,"14",4]
["2017-04-08",1714,"14",4]
["2017-04-09",1715,"15",4]
["2017-04-10",1715,"15",4]
["2017-04-11",1715,"15",4]
["2017-04-12",1715,"15",4]
["2017-04-13",1715,"15",4]
["2017-04-14",1715,"15",4]
["2017-04-15",1715,"15",4]
["2017-04-16",1716,"16",4]
["2017-04-17",1716,"16",4]
["2017-04-18",1716,"16",4]
["2017-04-19",1716,"16",4]
["2017-04-20",1716,"16",4]
["2017-04-21",1716,"16",4]
["2017-04-22",1716,"16",4]
["2017-04-23",1717,"17",4]
["2017-04-24",1717,"17",4]
["2017-04-25",1717,"17",4]
["2017-04-26",1717,"17",4]
["2017-04-27",1717,"17",4]
["2017-04-28",1717,"17",4]
["2017-04-29",1717,"17",4]
["2017-04-30",1718,"18",4]
["2017-05-01",1718,"18",5]
["2017-05-02",1718,"18",5]
["2017-05-03",1718,"18",5]
["2017-05-04",1718,"18",5]
["2017-05-05",1718,"18",5]
["2017-05-06",1718,"18",5]
["2017-05-07",1719,"19",5]
["2017-05-08",1719,"19",5]
["2017-05-09",1719,"19",5]
["2017-05-10",1719,"19",5]
["2017-05-11",1719,"19",5]
["2017-05-12",1719,"19",5]
["2017-05-13",1719,"19",5]
["2017-05-14",1720,"20",5]
["2017-05-15",1720,"20",5]
["2017-05-16",{"$f":"B3020+1","v":1720},"20",5]
["2017-05-17",1720,{"$f":"RIGHT(B3028,2)","v":"20"},{"$f":"MONTH(A3028)","v":5}]
["2017-05-18",1720,"20",5]
["2017-05-19",1720,"20",5]
["2017-05-20",1720,"20",5]
["2017-05-21",1721,"21",5]
["2017-05-22",1721,"21",5]
["2017-05-23",1721,"21",5]
["2017-05-24",1721,"21",5]
["2017-05-25",1721,"21",5]
["2017-05-26",1721,"21",5]
["2017-05-27",1721,"21",5]
["2017-05-28",1722,"22",5]
["2017-05-29",1722,"22",5]
["2017-05-30",1722,"22",5]
["2017-05-31",1722,"22",5]
["2017-06-01",1722,"22",6]
["2017-06-02",1722,"22",6]
["2017-06-03",1722,"22",6]
["2017-06-04",1723,"23",6]
["2017-06-05",1723,"23",6]
["2017-06-06",1723,"23",6]
["2017-06-07",1723,"23",6]
["2017-06-08",1723,"23",6]
["2017-06-09",1723,"23",6]
["2017-06-10",1723,"23",6]
["2017-06-11",1724,"24",6]
["2017-06-12",1724,"24",6]
["2017-06-13",1724,"24",6]
["2017-06-14",1724,"24",6]
["2017-06-15",1724,"24",6]
["2017-06-16",1724,"24",6]
["2017-06-17",1724,"24",6]
["2017-06-18",1725,"25",6]
["2017-06-19",1725,"25",6]
["2017-06-20",1725,"25",6]
["2017-06-21",1725,"25",6]
["2017-06-22",1725,"25",6]
["2017-06-23",1725,"25",6]
["2017-06-24",1725,"25",6]
["2017-06-25",1726,"26",6]
["2017-06-26",1726,"26",6]
["2017-06-27",1726,"26",6]
["2017-06-28",1726,"26",6]
["2017-06-29",1726,"26",6]
["2017-06-30",1726,"26",6]
["2017-07-01",1726,"26",7]
["2017-07-02",1727,"27",7]
["2017-07-03",1727,"27",7]
["2017-07-04",1727,"27",7]
["2017-07-05",1727,"27",7]
["2017-07-06",1727,"27",7]
["2017-07-07",1727,"27",7]
["2017-07-08",1727,"27",7]
["2017-07-09",1728,"28",7]
["2017-07-10",1728,"28",7]
["2017-07-11",1728,"28",7]
["2017-07-12",1728,"28",7]
["2017-07-13",1728,"28",7]
["2017-07-14",1728,"28",7]
["2017-07-15",1728,"28",7]
["2017-07-16",1729,"29",7]
["2017-07-17",1729,"29",7]
["2017-07-18",1729,"29",7]
["2017-07-19",{"$f":"B3084+1","v":1729},"29",7]
["2017-07-20",1729,{"$f":"RIGHT(B3092,2)","v":"29"},{"$f":"MONTH(A3092)","v":7}]
["2017-07-21",1729,"29",7]
["2017-07-22",1729,"29",7]
["2017-07-23",1730,"30",7]
["2017-07-24",1730,"30",7]
["2017-07-25",1730,"30",7]
["2017-07-26",1730,"30",7]
["2017-07-27",1730,"30",7]
["2017-07-28",1730,"30",7]
["2017-07-29",1730,"30",7]
["2017-07-30",1731,"31",7]
["2017-07-31",1731,"31",7]
["2017-08-01",1731,"31",8]
["2017-08-02",1731,"31",8]
["2017-08-03",1731,"31",8]
["2017-08-04",1731,"31",8]
["2017-08-05",1731,"31",8]
["2017-08-06",1732,"32",8]
["2017-08-07",1732,"32",8]
["2017-08-08",1732,"32",8]
["2017-08-09",1732,"32",8]
["2017-08-10",1732,"32",8]
["2017-08-11",1732,"32",8]
["2017-08-12",1732,"32",8]
["2017-08-13",1733,"33",8]
["2017-08-14",1733,"33",8]
["2017-08-15",1733,"33",8]
["2017-08-16",1733,"33",8]
["2017-08-17",1733,"33",8]
["2017-08-18",1733,"33",8]
["2017-08-19",1733,"33",8]
["2017-08-20",1734,"34",8]
["2017-08-21",1734,"34",8]
["2017-08-22",1734,"34",8]
["2017-08-23",1734,"34",8]
["2017-08-24",1734,"34",8]
["2017-08-25",1734,"34",8]
["2017-08-26",1734,"34",8]
["2017-08-27",1735,"35",8]
["2017-08-28",1735,"35",8]
["2017-08-29",1735,"35",8]
["2017-08-30",1735,"35",8]
["2017-08-31",1735,"35",8]
["2017-09-01",1735,"35",9]
["2017-09-02",1735,"35",9]
["2017-09-03",1736,"36",9]
["2017-09-04",1736,"36",9]
["2017-09-05",1736,"36",9]
["2017-09-06",1736,"36",9]
["2017-09-07",1736,"36",9]
["2017-09-08",1736,"36",9]
["2017-09-09",1736,"36",9]
["2017-09-10",1737,"37",9]
["2017-09-11",1737,"37",9]
["2017-09-12",1737,"37",9]
["2017-09-13",1737,"37",9]
["2017-09-14",1737,"37",9]
["2017-09-15",1737,"37",9]
["2017-09-16",1737,"37",9]
["2017-09-17",1738,"38",9]
["2017-09-18",1738,"38",9]
["2017-09-19",1738,"38",9]
["2017-09-20",1738,"38",9]
["2017-09-21",{"$f":"B3148+1","v":1738},"38",9]
["2017-09-22",1738,{"$f":"RIGHT(B3156,2)","v":"38"},{"$f":"MONTH(A3156)","v":9}]
["2017-09-23",1738,"38",9]
["2017-09-24",1739,"39",9]
["2017-09-25",1739,"39",9]
["2017-09-26",1739,"39",9]
["2017-09-27",1739,"39",9]
["2017-09-28",1739,"39",9]
["2017-09-29",1739,"39",9]
["2017-09-30",1739,"39",9]
["2017-10-01",1740,"40",10]
["2017-10-02",1740,"40",10]
["2017-10-03",1740,"40",10]
["2017-10-04",1740,"40",10]
["2017-10-05",1740,"40",10]
["2017-10-06",1740,"40",10]
["2017-10-07",1740,"40",10]
["2017-10-08",1741,"41",10]
["2017-10-09",1741,"41",10]
["2017-10-10",1741,"41",10]
["2017-10-11",1741,"41",10]
["2017-10-12",1741,"41",10]
["2017-10-13",1741,"41",10]
["2017-10-14",1741,"41",10]
["2017-10-15",1742,"42",10]
["2017-10-16",1742,"42",10]
["2017-10-17",1742,"42",10]
["2017-10-18",1742,"42",10]
["2017-10-19",1742,"42",10]
["2017-10-20",1742,"42",10]
["2017-10-21",1742,"42",10]
["2017-10-22",1743,"43",10]
["2017-10-23",1743,"43",10]
["2017-10-24",1743,"43",10]
["2017-10-25",1743,"43",10]
["2017-10-26",1743,"43",10]
["2017-10-27",1743,"43",10]
["2017-10-28",1743,"43",10]
["2017-10-29",1744,"44",10]
["2017-10-30",1744,"44",10]
["2017-10-31",1744,"44",10]
["2017-11-01",1744,"44",11]
["2017-11-02",1744,"44",11]
["2017-11-03",1744,"44",11]
["2017-11-04",1744,"44",11]
["2017-11-05",1745,"45",11]
["2017-11-06",1745,"45",11]
["2017-11-07",1745,"45",11]
["2017-11-08",1745,"45",11]
["2017-11-09",1745,"45",11]
["2017-11-10",1745,"45",11]
["2017-11-11",1745,"45",11]
["2017-11-12",1746,"46",11]
["2017-11-13",1746,"46",11]
["2017-11-14",1746,"46",11]
["2017-11-15",1746,"46",11]
["2017-11-16",1746,"46",11]
["2017-11-17",1746,"46",11]
["2017-11-18",1746,"46",11]
["2017-11-19",1747,"47",11]
["2017-11-20",1747,"47",11]
["2017-11-21",1747,"47",11]
["2017-11-22",1747,"47",11]
["2017-11-23",1747,"47",11]
["2017-11-24",{"$f":"B3212+1","v":1747},"47",11]
["2017-11-25",1747,{"$f":"RIGHT(B3220,2)","v":"47"},{"$f":"MONTH(A3220)","v":11}]
["2017-11-26",1748,"48",11]
["2017-11-27",1748,"48",11]
["2017-11-28",1748,"48",11]
["2017-11-29",1748,"48",11]
["2017-11-30",1748,"48",11]
["2017-12-01",1748,"48",12]
["2017-12-02",1748,"48",12]
["2017-12-03",1749,"49",12]
["2017-12-04",1749,"49",12]
["2017-12-05",1749,"49",12]
["2017-12-06",1749,"49",12]
["2017-12-07",1749,"49",12]
["2017-12-08",1749,"49",12]
["2017-12-09",1749,"49",12]
["2017-12-10",1750,"50",12]
["2017-12-11",1750,"50",12]
["2017-12-12",1750,"50",12]
["2017-12-13",1750,"50",12]
["2017-12-14",1750,"50",12]
["2017-12-15",1750,"50",12]
["2017-12-16",1750,"50",12]
["2017-12-17",1751,"51",12]
["2017-12-18",1751,"51",12]
["2017-12-19",1751,"51",12]
["2017-12-20",1751,"51",12]
["2017-12-21",1751,"51",12]
["2017-12-22",1751,"51",12]
["2017-12-23",1751,"51",12]
["2017-12-24",1752,"52",12]
["2017-12-25",1752,"52",12]
["2017-12-26",1752,"52",12]
["2017-12-27",1752,"52",12]
["2017-12-28",1752,"52",12]
["2017-12-29",1752,"52",12]
["2017-12-30",1752,"52",12]
["2017-12-31",1801,"01",12]
["2018-01-01",1801,{"$f":"RIGHT(B3257,2)","v":"01"},{"$f":"MONTH(A3257)","v":1}]
["2018-01-02",1801,"01",1]
["2018-01-03",1801,"01",1]
["2018-01-04",1801,"01",1]
["2018-01-05",1801,"01",1]
["2018-01-06",1801,"01",1]
["2018-01-07",{"$f":"B3256+1","v":1802},{"$f":"RIGHT(B3263,2)","v":"02"},{"$f":"MONTH(A3263)","v":1}]
["2018-01-08",1802,{"$f":"RIGHT(B3264,2)","v":"02"},{"$f":"MONTH(A3264)","v":1}]
["2018-01-09",1802,"02",1]
["2018-01-10",1802,"02",1]
["2018-01-11",1802,"02",1]
["2018-01-12",1802,"02",1]
["2018-01-13",1802,"02",1]
["2018-01-14",1803,"03",1]
["2018-01-15",1803,"03",1]
["2018-01-16",1803,"03",1]
["2018-01-17",1803,"03",1]
["2018-01-18",1803,"03",1]
["2018-01-19",1803,"03",1]
["2018-01-20",1803,"03",1]
["2018-01-21",1804,"04",1]
["2018-01-22",1804,"04",1]
["2018-01-23",1804,"04",1]
["2018-01-24",1804,"04",1]
["2018-01-25",1804,"04",1]
["2018-01-26",1804,"04",1]
["2018-01-27",1804,"04",1]
["2018-01-28",1805,"05",1]
["2018-01-29",1805,"05",1]
["2018-01-30",1805,"05",1]
["2018-01-31",1805,"05",1]
["2018-02-01",1805,"05",2]
["2018-02-02",1805,"05",2]
["2018-02-03",1805,"05",2]
["2018-02-04",1806,"06",2]
["2018-02-05",1806,"06",2]
["2018-02-06",1806,"06",2]
["2018-02-07",1806,"06",2]
["2018-02-08",1806,"06",2]
["2018-02-09",1806,"06",2]
["2018-02-10",1806,"06",2]
["2018-02-11",1807,"07",2]
["2018-02-12",1807,"07",2]
["2018-02-13",1807,"07",2]
["2018-02-14",1807,"07",2]
["2018-02-15",1807,"07",2]
["2018-02-16",1807,"07",2]
["2018-02-17",1807,"07",2]
["2018-02-18",1808,"08",2]
["2018-02-19",1808,"08",2]
["2018-02-20",1808,"08",2]
["2018-02-21",1808,"08",2]
["2018-02-22",1808,"08",2]
["2018-02-23",1808,"08",2]
["2018-02-24",1808,"08",2]
["2018-02-25",1809,"09",2]
["2018-02-26",1809,"09",2]
["2018-02-27",1809,"09",2]
["2018-02-28",1809,"09",2]
["2018-03-01",1809,"09",3]
["2018-03-02",1809,"09",3]
["2018-03-03",1809,"09",3]
["2018-03-04",1810,"10",3]
["2018-03-05",1810,"10",3]
["2018-03-06",1810,"10",3]
["2018-03-07",1810,"10",3]
["2018-03-08",1810,"10",3]
["2018-03-09",1810,"10",3]
["2018-03-10",1810,"10",3]
["2018-03-11",1811,"11",3]
["2018-03-12",{"$f":"B3320+1","v":1811},"11",3]
["2018-03-13",1811,{"$f":"RIGHT(B3328,2)","v":"11"},{"$f":"MONTH(A3328)","v":3}]
["2018-03-14",1811,"11",3]
["2018-03-15",1811,"11",3]
["2018-03-16",1811,"11",3]
["2018-03-17",1811,"11",3]
["2018-03-18",1812,"12",3]
["2018-03-19",1812,"12",3]
["2018-03-20",1812,"12",3]
["2018-03-21",1812,"12",3]
["2018-03-22",1812,"12",3]
["2018-03-23",1812,"12",3]
["2018-03-24",1812,"12",3]
["2018-03-25",1813,"13",3]
["2018-03-26",1813,"13",3]
["2018-03-27",1813,"13",3]
["2018-03-28",1813,"13",3]
["2018-03-29",1813,"13",3]
["2018-03-30",1813,"13",3]
["2018-03-31",1813,"13",3]
["2018-04-01",1814,"14",4]
["2018-04-02",1814,"14",4]
["2018-04-03",1814,"14",4]
["2018-04-04",1814,"14",4]
["2018-04-05",1814,"14",4]
["2018-04-06",1814,"14",4]
["2018-04-07",1814,"14",4]
["2018-04-08",1815,"15",4]
["2018-04-09",1815,"15",4]
["2018-04-10",1815,"15",4]
["2018-04-11",1815,"15",4]
["2018-04-12",1815,"15",4]
["2018-04-13",1815,"15",4]
["2018-04-14",1815,"15",4]
["2018-04-15",1816,"16",4]
["2018-04-16",1816,"16",4]
["2018-04-17",1816,"16",4]
["2018-04-18",1816,"16",4]
["2018-04-19",1816,"16",4]
["2018-04-20",1816,"16",4]
["2018-04-21",1816,"16",4]
["2018-04-22",1817,"17",4]
["2018-04-23",1817,"17",4]
["2018-04-24",1817,"17",4]
["2018-04-25",1817,"17",4]
["2018-04-26",1817,"17",4]
["2018-04-27",1817,"17",4]
["2018-04-28",1817,"17",4]
["2018-04-29",1818,"18",4]
["2018-04-30",1818,"18",4]
["2018-05-01",1818,"18",5]
["2018-05-02",1818,"18",5]
["2018-05-03",1818,"18",5]
["2018-05-04",1818,"18",5]
["2018-05-05",1818,"18",5]
["2018-05-06",1819,"19",5]
["2018-05-07",1819,"19",5]
["2018-05-08",1819,"19",5]
["2018-05-09",1819,"19",5]
["2018-05-10",1819,"19",5]
["2018-05-11",1819,"19",5]
["2018-05-12",1819,"19",5]
["2018-05-13",1820,"20",5]
["2018-05-14",1820,"20",5]
["2018-05-15",{"$f":"B3384+1","v":1820},"20",5]
["2018-05-16",1820,{"$f":"RIGHT(B3392,2)","v":"20"},{"$f":"MONTH(A3392)","v":5}]
["2018-05-17",1820,"20",5]
["2018-05-18",1820,"20",5]
["2018-05-19",1820,"20",5]
["2018-05-20",1821,"21",5]
["2018-05-21",1821,"21",5]
["2018-05-22",1821,"21",5]
["2018-05-23",1821,"21",5]
["2018-05-24",1821,"21",5]
["2018-05-25",1821,"21",5]
["2018-05-26",1821,"21",5]
["2018-05-27",1822,"22",5]
["2018-05-28",1822,"22",5]
["2018-05-29",1822,"22",5]
["2018-05-30",1822,"22",5]
["2018-05-31",1822,"22",5]
["2018-06-01",1822,"22",6]
["2018-06-02",1822,"22",6]
["2018-06-03",1823,"23",6]
["2018-06-04",1823,"23",6]
["2018-06-05",1823,"23",6]
["2018-06-06",1823,"23",6]
["2018-06-07",1823,"23",6]
["2018-06-08",1823,"23",6]
["2018-06-09",1823,"23",6]
["2018-06-10",1824,"24",6]
["2018-06-11",1824,"24",6]
["2018-06-12",1824,"24",6]
["2018-06-13",1824,"24",6]
["2018-06-14",1824,"24",6]
["2018-06-15",1824,"24",6]
["2018-06-16",1824,"24",6]
["2018-06-17",1825,"25",6]
["2018-06-18",1825,"25",6]
["2018-06-19",1825,"25",6]
["2018-06-20",1825,"25",6]
["2018-06-21",1825,"25",6]
["2018-06-22",1825,"25",6]
["2018-06-23",1825,"25",6]
["2018-06-24",1826,"26",6]
["2018-06-25",1826,"26",6]
["2018-06-26",1826,"26",6]
["2018-06-27",1826,"26",6]
["2018-06-28",1826,"26",6]
["2018-06-29",1826,"26",6]
["2018-06-30",1826,"26",6]
["2018-07-01",1827,"27",7]
["2018-07-02",1827,"27",7]
["2018-07-03",1827,"27",7]
["2018-07-04",1827,"27",7]
["2018-07-05",1827,"27",7]
["2018-07-06",1827,"27",7]
["2018-07-07",1827,"27",7]
["2018-07-08",1828,"28",7]
["2018-07-09",1828,"28",7]
["2018-07-10",1828,"28",7]
["2018-07-11",1828,"28",7]
["2018-07-12",1828,"28",7]
["2018-07-13",1828,"28",7]
["2018-07-14",1828,"28",7]
["2018-07-15",1829,"29",7]
["2018-07-16",1829,"29",7]
["2018-07-17",1829,"29",7]
["2018-07-18",{"$f":"B3448+1","v":1829},"29",7]
["2018-07-19",1829,{"$f":"RIGHT(B3456,2)","v":"29"},{"$f":"MONTH(A3456)","v":7}]
["2018-07-20",1829,"29",7]
["2018-07-21",1829,"29",7]
["2018-07-22",1830,"30",7]
["2018-07-23",1830,"30",7]
["2018-07-24",1830,"30",7]
["2018-07-25",1830,"30",7]
["2018-07-26",1830,"30",7]
["2018-07-27",1830,"30",7]
["2018-07-28",1830,"30",7]
["2018-07-29",1831,"31",7]
["2018-07-30",1831,"31",7]
["2018-07-31",1831,"31",7]
["2018-08-01",1831,"31",8]
["2018-08-02",1831,"31",8]
["2018-08-03",1831,"31",8]
["2018-08-04",1831,"31",8]
["2018-08-05",1832,"32",8]
["2018-08-06",1832,"32",8]
["2018-08-07",1832,"32",8]
["2018-08-08",1832,"32",8]
["2018-08-09",1832,"32",8]
["2018-08-10",1832,"32",8]
["2018-08-11",1832,"32",8]
["2018-08-12",1833,"33",8]
["2018-08-13",1833,"33",8]
["2018-08-14",1833,"33",8]
["2018-08-15",1833,"33",8]
["2018-08-16",1833,"33",8]
["2018-08-17",1833,"33",8]
["2018-08-18",1833,"33",8]
["2018-08-19",1834,"34",8]
["2018-08-20",1834,"34",8]
["2018-08-21",1834,"34",8]
["2018-08-22",1834,"34",8]
["2018-08-23",1834,"34",8]
["2018-08-24",1834,"34",8]
["2018-08-25",1834,"34",8]
["2018-08-26",1835,"35",8]
["2018-08-27",1835,"35",8]
["2018-08-28",1835,"35",8]
["2018-08-29",1835,"35",8]
["2018-08-30",1835,"35",8]
["2018-08-31",1835,"35",8]
["2018-09-01",1835,"35",9]
["2018-09-02",1836,"36",9]
["2018-09-03",1836,"36",9]
["2018-09-04",1836,"36",9]
["2018-09-05",1836,"36",9]
["2018-09-06",1836,"36",9]
["2018-09-07",1836,"36",9]
["2018-09-08",1836,"36",9]
["2018-09-09",1837,"37",9]
["2018-09-10",1837,"37",9]
["2018-09-11",1837,"37",9]
["2018-09-12",1837,"37",9]
["2018-09-13",1837,"37",9]
["2018-09-14",1837,"37",9]
["2018-09-15",1837,"37",9]
["2018-09-16",1838,"38",9]
["2018-09-17",1838,"38",9]
["2018-09-18",1838,"38",9]
["2018-09-19",1838,"38",9]
["2018-09-20",{"$f":"B3512+1","v":1838},"38",9]
["2018-09-21",1838,{"$f":"RIGHT(B3520,2)","v":"38"},{"$f":"MONTH(A3520)","v":9}]
["2018-09-22",1838,"38",9]
["2018-09-23",1839,"39",9]
["2018-09-24",1839,"39",9]
["2018-09-25",1839,"39",9]
["2018-09-26",1839,"39",9]
["2018-09-27",1839,"39",9]
["2018-09-28",1839,"39",9]
["2018-09-29",1839,"39",9]
["2018-09-30",1840,"40",9]
["2018-10-01",1840,"40",10]
["2018-10-02",1840,"40",10]
["2018-10-03",1840,"40",10]
["2018-10-04",1840,"40",10]
["2018-10-05",1840,"40",10]
["2018-10-06",1840,"40",10]
["2018-10-07",1841,"41",10]
["2018-10-08",1841,"41",10]
["2018-10-09",1841,"41",10]
["2018-10-10",1841,"41",10]
["2018-10-11",1841,"41",10]
["2018-10-12",1841,"41",10]
["2018-10-13",1841,"41",10]
["2018-10-14",1842,"42",10]
["2018-10-15",1842,"42",10]
["2018-10-16",1842,"42",10]
["2018-10-17",1842,"42",10]
["2018-10-18",1842,"42",10]
["2018-10-19",1842,"42",10]
["2018-10-20",1842,"42",10]
["2018-10-21",1843,"43",10]
["2018-10-22",1843,"43",10]
["2018-10-23",1843,"43",10]
["2018-10-24",1843,"43",10]
["2018-10-25",1843,"43",10]
["2018-10-26",1843,"43",10]
["2018-10-27",1843,"43",10]
["2018-10-28",1844,"44",10]
["2018-10-29",1844,"44",10]
["2018-10-30",1844,"44",10]
["2018-10-31",1844,"44",10]
["2018-11-01",1844,"44",11]
["2018-11-02",1844,"44",11]
["2018-11-03",1844,"44",11]
["2018-11-04",1845,"45",11]
["2018-11-05",1845,"45",11]
["2018-11-06",1845,"45",11]
["2018-11-07",1845,"45",11]
["2018-11-08",1845,"45",11]
["2018-11-09",1845,"45",11]
["2018-11-10",1845,"45",11]
["2018-11-11",1846,"46",11]
["2018-11-12",1846,"46",11]
["2018-11-13",1846,"46",11]
["2018-11-14",1846,"46",11]
["2018-11-15",1846,"46",11]
["2018-11-16",1846,"46",11]
["2018-11-17",1846,"46",11]
["2018-11-18",1847,"47",11]
["2018-11-19",1847,"47",11]
["2018-11-20",1847,"47",11]
["2018-11-21",1847,"47",11]
["2018-11-22",1847,"47",11]
["2018-11-23",{"$f":"B3576+1","v":1847},"47",11]
["2018-11-24",1847,{"$f":"RIGHT(B3584,2)","v":"47"},{"$f":"MONTH(A3584)","v":11}]
["2018-11-25",1848,"48",11]
["2018-11-26",1848,"48",11]
["2018-11-27",1848,"48",11]
["2018-11-28",1848,"48",11]
["2018-11-29",1848,"48",11]
["2018-11-30",1848,"48",11]
["2018-12-01",1848,"48",12]
["2018-12-02",1849,"49",12]
["2018-12-03",1849,"49",12]
["2018-12-04",1849,"49",12]
["2018-12-05",1849,"49",12]
["2018-12-06",1849,"49",12]
["2018-12-07",1849,"49",12]
["2018-12-08",1849,"49",12]
["2018-12-09",1850,"50",12]
["2018-12-10",1850,"50",12]
["2018-12-11",1850,"50",12]
["2018-12-12",1850,"50",12]
["2018-12-13",1850,"50",12]
["2018-12-14",1850,"50",12]
["2018-12-15",1850,"50",12]
["2018-12-16",1851,"51",12]
["2018-12-17",1851,"51",12]
["2018-12-18",1851,"51",12]
["2018-12-19",1851,"51",12]
["2018-12-20",1851,"51",12]
["2018-12-21",1851,"51",12]
["2018-12-22",1851,"51",12]
["2018-12-23",1852,"52",12]
["2018-12-24",1852,"52",12]
["2018-12-25",1852,"52",12]
["2018-12-26",1852,"52",12]
["2018-12-27",1852,"52",12]
["2018-12-28",1852,"52",12]
["2018-12-29",1852,"52",12]
["2018-12-30",1901,"01",12]
["2018-12-31",1901,"01",12]
["2019-01-01",1901,{"$f":"RIGHT(B3622,2)","v":"01"},{"$f":"MONTH(A3622)","v":1}]
["2019-01-02",1901,"01",1]
["2019-01-03",1901,"01",1]
["2019-01-04",1901,"01",1]
["2019-01-05",1901,"01",1]
["2019-01-06",{"$f":"B3620+1","v":1902},"02",1]
["2019-01-07",1902,{"$f":"RIGHT(B3628,2)","v":"02"},{"$f":"MONTH(A3628)","v":1}]
["2019-01-08",1902,"02",1]
["2019-01-09",1902,"02",1]
["2019-01-10",1902,"02",1]
["2019-01-11",1902,"02",1]
["2019-01-12",1902,"02",1]
["2019-01-13",1903,"03",1]
["2019-01-14",1903,"03",1]
["2019-01-15",1903,"03",1]
["2019-01-16",1903,"03",1]
["2019-01-17",1903,"03",1]
["2019-01-18",1903,"03",1]
["2019-01-19",1903,"03",1]
["2019-01-20",1904,"04",1]
["2019-01-21",1904,"04",1]
["2019-01-22",1904,"04",1]
["2019-01-23",1904,"04",1]
["2019-01-24",1904,"04",1]
["2019-01-25",1904,"04",1]
["2019-01-26",1904,"04",1]
["2019-01-27",1905,"05",1]
["2019-01-28",1905,"05",1]
["2019-01-29",1905,"05",1]
["2019-01-30",1905,"05",1]
["2019-01-31",1905,"05",1]
["2019-02-01",1905,"05",2]
["2019-02-02",1905,"05",2]
["2019-02-03",1906,"06",2]
["2019-02-04",1906,"06",2]
["2019-02-05",1906,"06",2]
["2019-02-06",1906,"06",2]
["2019-02-07",1906,"06",2]
["2019-02-08",1906,"06",2]
["2019-02-09",1906,"06",2]
["2019-02-10",1907,"07",2]
["2019-02-11",1907,"07",2]
["2019-02-12",1907,"07",2]
["2019-02-13",1907,"07",2]
["2019-02-14",1907,"07",2]
["2019-02-15",1907,"07",2]
["2019-02-16",1907,"07",2]
["2019-02-17",1908,"08",2]
["2019-02-18",1908,"08",2]
["2019-02-19",1908,"08",2]
["2019-02-20",1908,"08",2]
["2019-02-21",1908,"08",2]
["2019-02-22",1908,"08",2]
["2019-02-23",1908,"08",2]
["2019-02-24",1909,"09",2]
["2019-02-25",1909,"09",2]
["2019-02-26",1909,"09",2]
["2019-02-27",1909,"09",2]
["2019-02-28",1909,"09",2]
["2019-03-01",1909,"09",3]
["2019-03-02",1909,"09",3]
["2019-03-03",1910,"10",3]
["2019-03-04",1910,"10",3]
["2019-03-05",1910,"10",3]
["2019-03-06",1910,"10",3]
["2019-03-07",1910,"10",3]
["2019-03-08",1910,"10",3]
["2019-03-09",1910,"10",3]
["2019-03-10",1911,"11",3]
["2019-03-11",{"$f":"B3684+1","v":1911},"11",3]
["2019-03-12",1911,{"$f":"RIGHT(B3692,2)","v":"11"},{"$f":"MONTH(A3692)","v":3}]
["2019-03-13",1911,"11",3]
["2019-03-14",1911,"11",3]
["2019-03-15",1911,"11",3]
["2019-03-16",1911,"11",3]
["2019-03-17",1912,"12",3]
["2019-03-18",1912,"12",3]
["2019-03-19",1912,"12",3]
["2019-03-20",1912,"12",3]
["2019-03-21",1912,"12",3]
["2019-03-22",1912,"12",3]
["2019-03-23",1912,"12",3]
["2019-03-24",1913,"13",3]
["2019-03-25",1913,"13",3]
["2019-03-26",1913,"13",3]
["2019-03-27",1913,"13",3]
["2019-03-28",1913,"13",3]
["2019-03-29",1913,"13",3]
["2019-03-30",1913,"13",3]
["2019-03-31",1914,"14",3]
["2019-04-01",1914,"14",4]
["2019-04-02",1914,"14",4]
["2019-04-03",1914,"14",4]
["2019-04-04",1914,"14",4]
["2019-04-05",1914,"14",4]
["2019-04-06",1914,"14",4]
["2019-04-07",1915,"15",4]
["2019-04-08",1915,"15",4]
["2019-04-09",1915,"15",4]
["2019-04-10",1915,"15",4]
["2019-04-11",1915,"15",4]
["2019-04-12",1915,"15",4]
["2019-04-13",1915,"15",4]
["2019-04-14",1916,"16",4]
["2019-04-15",1916,"16",4]
["2019-04-16",1916,"16",4]
["2019-04-17",1916,"16",4]
["2019-04-18",1916,"16",4]
["2019-04-19",1916,"16",4]
["2019-04-20",1916,"16",4]
["2019-04-21",1917,"17",4]
["2019-04-22",1917,"17",4]
["2019-04-23",1917,"17",4]
["2019-04-24",1917,"17",4]
["2019-04-25",1917,"17",4]
["2019-04-26",1917,"17",4]
["2019-04-27",1917,"17",4]
["2019-04-28",1918,"18",4]
["2019-04-29",1918,"18",4]
["2019-04-30",1918,"18",4]
["2019-05-01",1918,"18",5]
["2019-05-02",1918,"18",5]
["2019-05-03",1918,"18",5]
["2019-05-04",1918,"18",5]
["2019-05-05",1919,"19",5]
["2019-05-06",1919,"19",5]
["2019-05-07",1919,"19",5]
["2019-05-08",1919,"19",5]
["2019-05-09",1919,"19",5]
["2019-05-10",1919,"19",5]
["2019-05-11",1919,"19",5]
["2019-05-12",1920,"20",5]
["2019-05-13",1920,"20",5]
["2019-05-14",{"$f":"B3748+1","v":1920},"20",5]
["2019-05-15",1920,{"$f":"RIGHT(B3756,2)","v":"20"},{"$f":"MONTH(A3756)","v":5}]
["2019-05-16",1920,"20",5]
["2019-05-17",1920,"20",5]
["2019-05-18",1920,"20",5]
["2019-05-19",1921,"21",5]
["2019-05-20",1921,"21",5]
["2019-05-21",1921,"21",5]
["2019-05-22",1921,"21",5]
["2019-05-23",1921,"21",5]
["2019-05-24",1921,"21",5]
["2019-05-25",1921,"21",5]
["2019-05-26",1922,"22",5]
["2019-05-27",1922,"22",5]
["2019-05-28",1922,"22",5]
["2019-05-29",1922,"22",5]
["2019-05-30",1922,"22",5]
["2019-05-31",1922,"22",5]
["2019-06-01",1922,"22",6]
["2019-06-02",1923,"23",6]
["2019-06-03",1923,"23",6]
["2019-06-04",1923,"23",6]
["2019-06-05",1923,"23",6]
["2019-06-06",1923,"23",6]
["2019-06-07",1923,"23",6]
["2019-06-08",1923,"23",6]
["2019-06-09",1924,"24",6]
["2019-06-10",1924,"24",6]
["2019-06-11",1924,"24",6]
["2019-06-12",1924,"24",6]
["2019-06-13",1924,"24",6]
["2019-06-14",1924,"24",6]
["2019-06-15",1924,"24",6]
["2019-06-16",1925,"25",6]
["2019-06-17",1925,"25",6]
["2019-06-18",1925,"25",6]
["2019-06-19",1925,"25",6]
["2019-06-20",1925,"25",6]
["2019-06-21",1925,"25",6]
["2019-06-22",1925,"25",6]
["2019-06-23",1926,"26",6]
["2019-06-24",1926,"26",6]
["2019-06-25",1926,"26",6]
["2019-06-26",1926,"26",6]
["2019-06-27",1926,"26",6]
["2019-06-28",1926,"26",6]
["2019-06-29",1926,"26",6]
["2019-06-30",1927,"27",6]
["2019-07-01",1927,"27",7]
["2019-07-02",1927,"27",7]
["2019-07-03",1927,"27",7]
["2019-07-04",1927,"27",7]
["2019-07-05",1927,"27",7]
["2019-07-06",1927,"27",7]
["2019-07-07",1928,"28",7]
["2019-07-08",1928,"28",7]
["2019-07-09",1928,"28",7]
["2019-07-10",1928,"28",7]
["2019-07-11",1928,"28",7]
["2019-07-12",1928,"28",7]
["2019-07-13",1928,"28",7]
["2019-07-14",1929,"29",7]
["2019-07-15",1929,"29",7]
["2019-07-16",1929,"29",7]
["2019-07-17",{"$f":"B3812+1","v":1929},"29",7]
["2019-07-18",1929,{"$f":"RIGHT(B3820,2)","v":"29"},{"$f":"MONTH(A3820)","v":7}]
["2019-07-19",1929,"29",7]
["2019-07-20",1929,"29",7]
["2019-07-21",1930,"30",7]
["2019-07-22",1930,"30",7]
["2019-07-23",1930,"30",7]
["2019-07-24",1930,"30",7]
["2019-07-25",1930,"30",7]
["2019-07-26",1930,"30",7]
["2019-07-27",1930,"30",7]
["2019-07-28",1931,"31",7]
["2019-07-29",1931,"31",7]
["2019-07-30",1931,"31",7]
["2019-07-31",1931,"31",7]
["2019-08-01",1931,"31",8]
["2019-08-02",1931,"31",8]
["2019-08-03",1931,"31",8]
["2019-08-04",1932,"32",8]
["2019-08-05",1932,"32",8]
["2019-08-06",1932,"32",8]
["2019-08-07",1932,"32",8]
["2019-08-08",1932,"32",8]
["2019-08-09",1932,"32",8]
["2019-08-10",1932,"32",8]
["2019-08-11",1933,"33",8]
["2019-08-12",1933,"33",8]
["2019-08-13",1933,"33",8]
["2019-08-14",1933,"33",8]
["2019-08-15",1933,"33",8]
["2019-08-16",1933,"33",8]
["2019-08-17",1933,"33",8]
["2019-08-18",1934,"34",8]
["2019-08-19",1934,"34",8]
["2019-08-20",1934,"34",8]
["2019-08-21",1934,"34",8]
["2019-08-22",1934,"34",8]
["2019-08-23",1934,"34",8]
["2019-08-24",1934,"34",8]
["2019-08-25",1935,"35",8]
["2019-08-26",1935,"35",8]
["2019-08-27",1935,"35",8]
["2019-08-28",1935,"35",8]
["2019-08-29",1935,"35",8]
["2019-08-30",1935,"35",8]
["2019-08-31",1935,"35",8]
["2019-09-01",1936,"36",9]
["2019-09-02",1936,"36",9]
["2019-09-03",1936,"36",9]
["2019-09-04",1936,"36",9]
["2019-09-05",1936,"36",9]
["2019-09-06",1936,"36",9]
["2019-09-07",1936,"36",9]
["2019-09-08",1937,"37",9]
["2019-09-09",1937,"37",9]
["2019-09-10",1937,"37",9]
["2019-09-11",1937,"37",9]
["2019-09-12",1937,"37",9]
["2019-09-13",1937,"37",9]
["2019-09-14",1937,"37",9]
["2019-09-15",1938,"38",9]
["2019-09-16",1938,"38",9]
["2019-09-17",1938,"38",9]
["2019-09-18",1938,"38",9]
["2019-09-19",{"$f":"B3876+1","v":1938},"38",9]
["2019-09-20",1938,{"$f":"RIGHT(B3884,2)","v":"38"},{"$f":"MONTH(A3884)","v":9}]
["2019-09-21",1938,"38",9]
["2019-09-22",1939,"39",9]
["2019-09-23",1939,"39",9]
["2019-09-24",1939,"39",9]
["2019-09-25",1939,"39",9]
["2019-09-26",1939,"39",9]
["2019-09-27",1939,"39",9]
["2019-09-28",1939,"39",9]
["2019-09-29",1940,"40",9]
["2019-09-30",1940,"40",9]
["2019-10-01",1940,"40",10]
["2019-10-02",1940,"40",10]
["2019-10-03",1940,"40",10]
["2019-10-04",1940,"40",10]
["2019-10-05",1940,"40",10]
["2019-10-06",1941,"41",10]
["2019-10-07",1941,"41",10]
["2019-10-08",1941,"41",10]
["2019-10-09",1941,"41",10]
["2019-10-10",1941,"41",10]
["2019-10-11",1941,"41",10]
["2019-10-12",1941,"41",10]
["2019-10-13",1942,"42",10]
["2019-10-14",1942,"42",10]
["2019-10-15",1942,"42",10]
["2019-10-16",1942,"42",10]
["2019-10-17",1942,"42",10]
["2019-10-18",1942,"42",10]
["2019-10-19",1942,"42",10]
["2019-10-20",1943,"43",10]
["2019-10-21",1943,"43",10]
["2019-10-22",1943,"43",10]
["2019-10-23",1943,"43",10]
["2019-10-24",1943,"43",10]
["2019-10-25",1943,"43",10]
["2019-10-26",1943,"43",10]
["2019-10-27",1944,"44",10]
["2019-10-28",1944,"44",10]
["2019-10-29",1944,"44",10]
["2019-10-30",1944,"44",10]
["2019-10-31",1944,"44",10]
["2019-11-01",1944,"44",11]
["2019-11-02",1944,"44",11]
["2019-11-03",1945,"45",11]
["2019-11-04",1945,"45",11]
["2019-11-05",1945,"45",11]
["2019-11-06",1945,"45",11]
["2019-11-07",1945,"45",11]
["2019-11-08",1945,"45",11]
["2019-11-09",1945,"45",11]
["2019-11-10",1946,"46",11]
["2019-11-11",1946,"46",11]
["2019-11-12",1946,"46",11]
["2019-11-13",1946,"46",11]
["2019-11-14",1946,"46",11]
["2019-11-15",1946,"46",11]
["2019-11-16",1946,"46",11]
["2019-11-17",1947,"47",11]
["2019-11-18",1947,"47",11]
["2019-11-19",1947,"47",11]
["2019-11-20",1947,"47",11]
["2019-11-21",1947,"47",11]
["2019-11-22",{"$f":"B3940+1","v":1947},"47",11]
["2019-11-23",1947,{"$f":"RIGHT(B3948,2)","v":"47"},{"$f":"MONTH(A3948)","v":11}]
["2019-11-24",1948,"48",11]
["2019-11-25",1948,"48",11]
["2019-11-26",1948,"48",11]
["2019-11-27",1948,"48",11]
["2019-11-28",1948,"48",11]
["2019-11-29",1948,"48",11]
["2019-11-30",1948,"48",11]
["2019-12-01",1949,"49",12]
["2019-12-02",1949,"49",12]
["2019-12-03",1949,"49",12]
["2019-12-04",1949,"49",12]
["2019-12-05",1949,"49",12]
["2019-12-06",1949,"49",12]
["2019-12-07",1949,"49",12]
["2019-12-08",1950,"50",12]
["2019-12-09",1950,"50",12]
["2019-12-10",1950,"50",12]
["2019-12-11",1950,"50",12]
["2019-12-12",1950,"50",12]
["2019-12-13",1950,"50",12]
["2019-12-14",1950,"50",12]
["2019-12-15",1951,"51",12]
["2019-12-16",1951,"51",12]
["2019-12-17",1951,"51",12]
["2019-12-18",1951,"51",12]
["2019-12-19",1951,"51",12]
["2019-12-20",1951,"51",12]
["2019-12-21",1951,"51",12]
["2019-12-22",1952,"52",12]
["2019-12-23",1952,"52",12]
["2019-12-24",1952,"52",12]
["2019-12-25",1952,"52",12]
["2019-12-26",1952,"52",12]
["2019-12-27",1952,"52",12]
["2019-12-28",1952,"52",12]
["2019-12-29",2001,"01",12]
["2019-12-30",2001,"01",12]
["2019-12-31",2001,"01",12]
["2020-01-01",2001,{"$f":"RIGHT(B3987,2)","v":"01"},{"$f":"MONTH(A3987)","v":1}]
["2020-01-02",2001,"01",1]
["2020-01-03",2001,"01",1]
["2020-01-04",2001,"01",1]
["2020-01-05",{"$f":"B3984+1","v":2002},"02",1]
["2020-01-06",2002,{"$f":"RIGHT(B3992,2)","v":"02"},{"$f":"MONTH(A3992)","v":1}]
["2020-01-07",2002,"02",1]
["2020-01-08",2002,"02",1]
["2020-01-09",2002,"02",1]
["2020-01-10",2002,"02",1]
["2020-01-11",2002,"02",1]
["2020-01-12",2003,"03",1]
["2020-01-13",2003,"03",1]
["2020-01-14",2003,"03",1]
["2020-01-15",2003,"03",1]
["2020-01-16",2003,"03",1]
["2020-01-17",2003,"03",1]
["2020-01-18",2003,"03",1]
["2020-01-19",2004,"04",1]
["2020-01-20",2004,"04",1]
["2020-01-21",2004,"04",1]
["2020-01-22",2004,"04",1]
["2020-01-23",2004,"04",1]
["2020-01-24",2004,"04",1]
["2020-01-25",2004,"04",1]
["2020-01-26",2005,"05",1]
["2020-01-27",2005,"05",1]
["2020-01-28",2005,"05",1]
["2020-01-29",2005,"05",1]
["2020-01-30",2005,"05",1]
["2020-01-31",2005,"05",1]
["2020-02-01",2005,"05",2]
["2020-02-02",2006,"06",2]
["2020-02-03",2006,"06",2]
["2020-02-04",2006,"06",2]
["2020-02-05",2006,"06",2]
["2020-02-06",2006,"06",2]
["2020-02-07",2006,"06",2]
["2020-02-08",2006,"06",2]
["2020-02-09",2007,"07",2]
["2020-02-10",2007,"07",2]
["2020-02-11",2007,"07",2]
["2020-02-12",2007,"07",2]
["2020-02-13",2007,"07",2]
["2020-02-14",2007,"07",2]
["2020-02-15",2007,"07",2]
["2020-02-16",2008,"08",2]
["2020-02-17",2008,"08",2]
["2020-02-18",2008,"08",2]
["2020-02-19",2008,"08",2]
["2020-02-20",2008,"08",2]
["2020-02-21",2008,"08",2]
["2020-02-22",2008,"08",2]
["2020-02-23",2009,"09",2]
["2020-02-24",2009,"09",2]
["2020-02-25",2009,"09",2]
["2020-02-26",2009,"09",2]
["2020-02-27",2009,"09",2]
["2020-02-28",2009,"09",2]
["2020-02-29",2009,"09",2]
["2020-03-01",2010,"10",3]
["2020-03-02",2010,"10",3]
["2020-03-03",2010,"10",3]
["2020-03-04",2010,"10",3]
["2020-03-05",2010,"10",3]
["2020-03-06",2010,"10",3]
["2020-03-07",2010,"10",3]
["2020-03-08",2011,"11",3]
["2020-03-09",{"$f":"B4048+1","v":2011},"11",3]
["2020-03-10",2011,{"$f":"RIGHT(B4056,2)","v":"11"},{"$f":"MONTH(A4056)","v":3}]
["2020-03-11",2011,"11",3]
["2020-03-12",2011,"11",3]
["2020-03-13",2011,"11",3]
["2020-03-14",2011,"11",3]
["2020-03-15",2012,"12",3]
["2020-03-16",2012,"12",3]
["2020-03-17",2012,"12",3]
["2020-03-18",2012,"12",3]
["2020-03-19",2012,"12",3]
["2020-03-20",2012,"12",3]
["2020-03-21",2012,"12",3]
["2020-03-22",2013,"13",3]
["2020-03-23",2013,"13",3]
["2020-03-24",2013,"13",3]
["2020-03-25",2013,"13",3]
["2020-03-26",2013,"13",3]
["2020-03-27",2013,"13",3]
["2020-03-28",2013,"13",3]
["2020-03-29",2014,"14",3]
["2020-03-30",2014,"14",3]
["2020-03-31",2014,"14",3]
["2020-04-01",2014,"14",4]
["2020-04-02",2014,"14",4]
["2020-04-03",2014,"14",4]
["2020-04-04",2014,"14",4]
["2020-04-05",2015,"15",4]
["2020-04-06",2015,"15",4]
["2020-04-07",2015,"15",4]
["2020-04-08",2015,"15",4]
["2020-04-09",2015,"15",4]
["2020-04-10",2015,"15",4]
["2020-04-11",2015,"15",4]
["2020-04-12",2016,"16",4]
["2020-04-13",2016,"16",4]
["2020-04-14",2016,"16",4]
["2020-04-15",2016,"16",4]
["2020-04-16",2016,"16",4]
["2020-04-17",2016,"16",4]
["2020-04-18",2016,"16",4]
["2020-04-19",2017,"17",4]
["2020-04-20",2017,"17",4]
["2020-04-21",2017,"17",4]
["2020-04-22",2017,"17",4]
["2020-04-23",2017,"17",4]
["2020-04-24",2017,"17",4]
["2020-04-25",2017,"17",4]
["2020-04-26",2018,"18",4]
["2020-04-27",2018,"18",4]
["2020-04-28",2018,"18",4]
["2020-04-29",2018,"18",4]
["2020-04-30",2018,"18",4]
["2020-05-01",2018,"18",5]
["2020-05-02",2018,"18",5]
["2020-05-03",2019,"19",5]
["2020-05-04",2019,"19",5]
["2020-05-05",2019,"19",5]
["2020-05-06",2019,"19",5]
["2020-05-07",2019,"19",5]
["2020-05-08",2019,"19",5]
["2020-05-09",2019,"19",5]
["2020-05-10",2020,"20",5]
["2020-05-11",2020,"20",5]
["2020-05-12",{"$f":"B4112+1","v":2020},"20",5]
["2020-05-13",2020,{"$f":"RIGHT(B4120,2)","v":"20"},{"$f":"MONTH(A4120)","v":5}]
["2020-05-14",2020,"20",5]
["2020-05-15",2020,"20",5]
["2020-05-16",2020,"20",5]
["2020-05-17",2021,"21",5]
["2020-05-18",2021,"21",5]
["2020-05-19",2021,"21",5]
["2020-05-20",2021,"21",5]
["2020-05-21",2021,"21",5]
["2020-05-22",2021,"21",5]
["2020-05-23",2021,"21",5]
["2020-05-24",2022,"22",5]
["2020-05-25",2022,"22",5]
["2020-05-26",2022,"22",5]
["2020-05-27",2022,"22",5]
["2020-05-28",2022,"22",5]
["2020-05-29",2022,"22",5]
["2020-05-30",2022,"22",5]
["2020-05-31",2023,"23",5]
["2020-06-01",2023,"23",6]
["2020-06-02",2023,"23",6]
["2020-06-03",2023,"23",6]
["2020-06-04",2023,"23",6]
["2020-06-05",2023,"23",6]
["2020-06-06",2023,"23",6]
["2020-06-07",2024,"24",6]
["2020-06-08",2024,"24",6]
["2020-06-09",2024,"24",6]
["2020-06-10",2024,"24",6]
["2020-06-11",2024,"24",6]
["2020-06-12",2024,"24",6]
["2020-06-13",2024,"24",6]
["2020-06-14",2025,"25",6]
["2020-06-15",2025,"25",6]
["2020-06-16",2025,"25",6]
["2020-06-17",2025,"25",6]
["2020-06-18",2025,"25",6]
["2020-06-19",2025,"25",6]
["2020-06-20",2025,"25",6]
["2020-06-21",2026,"26",6]
["2020-06-22",2026,"26",6]
["2020-06-23",2026,"26",6]
["2020-06-24",2026,"26",6]
["2020-06-25",2026,"26",6]
["2020-06-26",2026,"26",6]
["2020-06-27",2026,"26",6]
["2020-06-28",2027,"27",6]
["2020-06-29",2027,"27",6]
["2020-06-30",2027,"27",6]
["2020-07-01",2027,"27",7]
["2020-07-02",2027,"27",7]
["2020-07-03",2027,"27",7]
["2020-07-04",2027,"27",7]
["2020-07-05",2028,"28",7]
["2020-07-06",2028,"28",7]
["2020-07-07",2028,"28",7]
["2020-07-08",2028,"28",7]
["2020-07-09",2028,"28",7]
["2020-07-10",2028,"28",7]
["2020-07-11",2028,"28",7]
["2020-07-12",2029,"29",7]
["2020-07-13",2029,"29",7]
["2020-07-14",2029,"29",7]
["2020-07-15",{"$f":"B4176+1","v":2029},"29",7]
["2020-07-16",2029,{"$f":"RIGHT(B4184,2)","v":"29"},{"$f":"MONTH(A4184)","v":7}]
["2020-07-17",2029,"29",7]
["2020-07-18",2029,"29",7]
["2020-07-19",2030,"30",7]
["2020-07-20",2030,"30",7]
["2020-07-21",2030,"30",7]
["2020-07-22",2030,"30",7]
["2020-07-23",2030,"30",7]
["2020-07-24",2030,"30",7]
["2020-07-25",2030,"30",7]
["2020-07-26",2031,"31",7]
["2020-07-27",2031,"31",7]
["2020-07-28",2031,"31",7]
["2020-07-29",2031,"31",7]
["2020-07-30",2031,"31",7]
["2020-07-31",2031,"31",7]
["2020-08-01",2031,"31",8]
["2020-08-02",2032,"32",8]
["2020-08-03",2032,"32",8]
["2020-08-04",2032,"32",8]
["2020-08-05",2032,"32",8]
["2020-08-06",2032,"32",8]
["2020-08-07",2032,"32",8]
["2020-08-08",2032,"32",8]
["2020-08-09",2033,"33",8]
["2020-08-10",2033,"33",8]
["2020-08-11",2033,"33",8]
["2020-08-12",2033,"33",8]
["2020-08-13",2033,"33",8]
["2020-08-14",2033,"33",8]
["2020-08-15",2033,"33",8]
["2020-08-16",2034,"34",8]
["2020-08-17",2034,"34",8]
["2020-08-18",2034,"34",8]
["2020-08-19",2034,"34",8]
["2020-08-20",2034,"34",8]
["2020-08-21",2034,"34",8]
["2020-08-22",2034,"34",8]
["2020-08-23",2035,"35",8]
["2020-08-24",2035,"35",8]
["2020-08-25",2035,"35",8]
["2020-08-26",2035,"35",8]
["2020-08-27",2035,"35",8]
["2020-08-28",2035,"35",8]
["2020-08-29",2035,"35",8]
["2020-08-30",2036,"36",8]
["2020-08-31",2036,"36",8]
["2020-09-01",2036,"36",9]
["2020-09-02",2036,"36",9]
["2020-09-03",2036,"36",9]
["2020-09-04",2036,"36",9]
["2020-09-05",2036,"36",9]
["2020-09-06",2037,"37",9]
["2020-09-07",2037,"37",9]
["2020-09-08",2037,"37",9]
["2020-09-09",2037,"37",9]
["2020-09-10",2037,"37",9]
["2020-09-11",2037,"37",9]
["2020-09-12",2037,"37",9]
["2020-09-13",2038,"38",9]
["2020-09-14",2038,"38",9]
["2020-09-15",2038,"38",9]
["2020-09-16",2038,"38",9]
["2020-09-17",{"$f":"B4240+1","v":2038},"38",9]
["2020-09-18",2038,{"$f":"RIGHT(B4248,2)","v":"38"},{"$f":"MONTH(A4248)","v":9}]
["2020-09-19",2038,"38",9]
["2020-09-20",2039,"39",9]
["2020-09-21",2039,"39",9]
["2020-09-22",2039,"39",9]
["2020-09-23",2039,"39",9]
["2020-09-24",2039,"39",9]
["2020-09-25",2039,"39",9]
["2020-09-26",2039,"39",9]
["2020-09-27",2040,"40",9]
["2020-09-28",2040,"40",9]
["2020-09-29",2040,"40",9]
["2020-09-30",2040,"40",9]
["2020-10-01",2040,"40",10]
["2020-10-02",2040,"40",10]
["2020-10-03",2040,"40",10]
["2020-10-04",2041,"41",10]
["2020-10-05",2041,"41",10]
["2020-10-06",2041,"41",10]
["2020-10-07",2041,"41",10]
["2020-10-08",2041,"41",10]
["2020-10-09",2041,"41",10]
["2020-10-10",2041,"41",10]
["2020-10-11",2042,"42",10]
["2020-10-12",2042,"42",10]
["2020-10-13",2042,"42",10]
["2020-10-14",2042,"42",10]
["2020-10-15",2042,"42",10]
["2020-10-16",2042,"42",10]
["2020-10-17",2042,"42",10]
["2020-10-18",2043,"43",10]
["2020-10-19",2043,"43",10]
["2020-10-20",2043,"43",10]
["2020-10-21",2043,"43",10]
["2020-10-22",2043,"43",10]
["2020-10-23",2043,"43",10]
["2020-10-24",2043,"43",10]
["2020-10-25",2044,"44",10]
["2020-10-26",2044,"44",10]
["2020-10-27",2044,"44",10]
["2020-10-28",2044,"44",10]
["2020-10-29",2044,"44",10]
["2020-10-30",2044,"44",10]
["2020-10-31",2044,"44",10]
["2020-11-01",2045,"45",11]
["2020-11-02",2045,"45",11]
["2020-11-03",2045,"45",11]
["2020-11-04",2045,"45",11]
["2020-11-05",2045,"45",11]
["2020-11-06",2045,"45",11]
["2020-11-07",2045,"45",11]
["2020-11-08",2046,"46",11]
["2020-11-09",2046,"46",11]
["2020-11-10",2046,"46",11]
["2020-11-11",2046,"46",11]
["2020-11-12",2046,"46",11]
["2020-11-13",2046,"46",11]
["2020-11-14",2046,"46",11]
["2020-11-15",2047,"47",11]
["2020-11-16",2047,"47",11]
["2020-11-17",2047,"47",11]
["2020-11-18",2047,"47",11]
["2020-11-19",2047,"47",11]
["2020-11-20",{"$f":"B4304+1","v":2047},"47",11]
["2020-11-21",2047,{"$f":"RIGHT(B4312,2)","v":"47"},{"$f":"MONTH(A4312)","v":11}]
["2020-11-22",2048,"48",11]
["2020-11-23",2048,"48",11]
["2020-11-24",2048,"48",11]
["2020-11-25",2048,"48",11]
["2020-11-26",2048,"48",11]
["2020-11-27",2048,"48",11]
["2020-11-28",2048,"48",11]
["2020-11-29",2049,"49",11]
["2020-11-30",2049,"49",11]
["2020-12-01",2049,"49",12]
["2020-12-02",2049,"49",12]
["2020-12-03",2049,"49",12]
["2020-12-04",2049,"49",12]
["2020-12-05",2049,"49",12]
["2020-12-06",2050,"50",12]
["2020-12-07",2050,"50",12]
["2020-12-08",2050,"50",12]
["2020-12-09",2050,"50",12]
["2020-12-10",2050,"50",12]
["2020-12-11",2050,"50",12]
["2020-12-12",2050,"50",12]
["2020-12-13",2051,"51",12]
["2020-12-14",2051,"51",12]
["2020-12-15",2051,"51",12]
["2020-12-16",2051,"51",12]
["2020-12-17",2051,"51",12]
["2020-12-18",2051,"51",12]
["2020-12-19",2051,"51",12]
["2020-12-20",2052,"52",12]
["2020-12-21",2052,"52",12]
["2020-12-22",2052,"52",12]
["2020-12-23",2052,"52",12]
["2020-12-24",2052,"52",12]
["2020-12-25",2052,"52",12]
["2020-12-26",2052,"52",12]
["2020-12-27",2053,"53",12]
["2020-12-28",2053,"53",12]
["2020-12-29",2053,"53",12]
["2020-12-30",2053,"53",12]
["2020-12-31",2053,"53",12]
["2021-01-01",2053,{"$f":"RIGHT(B4353,2)","v":"53"},{"$f":"MONTH(A4353)","v":1}]
["2021-01-02",2053,"53",1]

{"sheet":"HOJA DE DATOS","index":1,"n_rows":1188,"n_cols":53,"rows_kept":1188,"cut":false,"hidden":false,"merged":[]}
["ESPECIE","RAZA","EPOCA","CuentaDeNºREGISTRO","PromedioDeLECHE/ANIMALDIA","PromedioDe%EQ","PromedioDegrEQ/ANIMALDIA","DesvEstDegrEQ/ANIMALDIA",0,0,0,0,0,0,0,0,0,0,0,0,0,0,0,0,0,0,0,0,0,0,0,0,0,0,0,0,0,0,0,0,0,0,0,0,0,0,0,0,0,0,0,0,0]
["CAPRINO","FLORIDA","INVIERNO",43,1.86551532140278,9.5441860465116299,178.20407956742099,49.500988805479103,0,0,0,0,0,0,0,0,0,0,0,0,0,0,0,0,0,0,0,0,0,0,0,0,0,0,0,0,0,0,0,0,0,0,0,0,0,0,0,0,0,0,0,0,0]
["CAPRINO","FLORIDA","TEMPLADO",43,1.98822104731886,8.4418604651162799,167.86365297385001,28.616113285180301,0,0,0,0,0,0,0,0,0,0,0,0,0,0,0,0,0,0,0,0,0,0,0,0,0,0,0,0,0,0,0,0,0,0,0,0,0,0,0,0,0,0,0,0,0]
["CAPRINO","FLORIDA","VERANO",23,2.3804102763739898,7.6608695652173902,182.69845889737701,39.026074895351798,0,0,0,0,0,0,0,0,0,0,0,0,0,0,0,0,0,0,0,0,0,0,0,0,0,0,0,0,0,0,0,0,0,0,0,0,0,0,0,0,0,0,0,0,0]
["CAPRINO","MALAGUEÑA","INVIERNO",54,1.9162754534490001,9.1907407407407398,177.786152994654,67.753210987055695,0,0,0,0,0,0,0,0,0,0,0,0,0,0,0,0,0,0,0,0,0,0,0,0,0,0,0,0,0,0,0,0,0,0,0,0,0,0,0,0,0,0,0,0,0]
["CAPRINO","MALAGUEÑA","TEMPLADO",50,1.86277516487682,8.6265999999999998,161.780239596661,70.463664956088195,0,0,0,0,0,0,0,0,0,0,0,0,0,0,0,0,0,0,0,0,0,0,0,0,0,0,0,0,0,0,0,0,0,0,0,0,0,0,0,0,0,0,0,0,0]
["CAPRINO","MALAGUEÑA","VERANO",29,2.2402378610110598,8.0379310344827601,181.75544396296601,96.036157103412606,0,0,0,0,0,0,0,0,0,0,0,0,0,0,0,0,0,0,0,0,0,0,0,0,0,0,0,0,0,0,0,0,0,0,0,0,0,0,0,0,0,0,0,0,0]
["CAPRINO","MURCIANA","INVIERNO",166,1.8510401434822501,9.6451807228915598,177.24429224642299,42.397509251335499,0,0,0,0,0,0,0,0,0,0,0,0,0,0,0,0,0,0,0,0,0,0,0,0,0,0,0,0,0,0,0,0,0,0,0,0,0,0,0,0,0,0,0,0,0]
["CAPRINO","MURCIANA","TEMPLADO",207,1.9380219273588699,8.8990821256038597,171.60440961667001,38.469837882753303,0,0,0,0,0,0,0,0,0,0,0,0,0,0,0,0,0,0,0,0,0,0,0,0,0,0,0,0,0,0,0,0,0,0,0,0,0,0,0,0,0,0,0,0,0]
["CAPRINO","MURCIANA","VERANO",118,1.9025808491046201,8.2924576271186403,157.268906680057,34.6850268871816,0,0,0,0,0,0,0,0,0,0,0,0,0,0,0,0,0,0,0,0,0,0,0,0,0,0,0,0,0,0,0,0,0,0,0,0,0,0,0,0,0,0,0,0,0]
["OVINO","ASSAF","INVIERNO",218,1.5344746690858599,12.3922018348624,188.889022752172,69.024462136129998,0,0,0,0,0,0,0,0,0,0,0,0,0,0,0,0,0,0,0,0,0,0,0,0,0,0,0,0,0,0,0,0,0,0,0,0,0,0,0,0,0,0,0,0,0]
["OVINO","ASSAF","TEMPLADO",274,1.7466475280049401,11.559124087591201,198.608948211974,65.864595938933206,0,0,0,0,0,0,0,0,0,0,0,0,0,0,0,0,0,0,0,0,0,0,0,0,0,0,0,0,0,0,0,0,0,0,0,0,0,0,0,0,0,0,0,0,0]
["OVINO","ASSAF","VERANO",157,1.79841040637775,10.991082802547799,196.161300500663,48.326269885973304,0,0,0,0,0,0,0,0,0,0,0,0,0,0,0,0,0,0,0,0,0,0,0,0,0,0,0,0,0,0,0,0,0,0,0,0,0,0,0,0,0,0,0,0,0]
["OVINO","LACAUNE","INVIERNO",151,1.62572251468292,12.6966887417218,206.07996608189799,59.265722475771099,0,0,0,0,0,0,0,0,0,0,0,0,0,0,0,0,0,0,0,0,0,0,0,0,0,0,0,0,0,0,0,0,0,0,0,0,0,0,0,0,0,0,0,0,0]
["OVINO","LACAUNE","TEMPLADO",181,1.86192596947379,11.8944751381215,219.8154523741,62.927695629366497,0,0,0,0,0,0,0,0,0,0,0,0,0,0,0,0,0,0,0,0,0,0,0,0,0,0,0,0,0,0,0,0,0,0,0,0,0,0,0,0,0,0,0,0,0]
["OVINO","LACAUNE","VERANO",107,1.8156617460901801,11.4738317757009,206.47686486138801,57.131409332912703,0,0,0,0,0,0,0,0,0,0,0,0,0,0,0,0,0,0,0,0,0,0,0,0,0,0,0,0,0,0,0,0,0,0,0,0,0,0,0,0,0,0,0,0,0]
["OVINO","MANCHEGA","INVIERNO",36,1.1511196914982,13.4416666666667,154.52860739591301,38.518505791442003,0,0,0,0,0,0,0,0,0,0,0,0,0,0,0,0,0,0,0,0,0,0,0,0,0,0,0,0,0,0,0,0,0,0,0,0,0,0,0,0,0,0,0,0,0]
["OVINO","MANCHEGA","TEMPLADO",44,1.2383356732931201,12.7522727272727,157.686879157362,24.363066244984601,0,0,0,0,0,0,0,0,0,0,0,0,0,0,0,0,0,0,0,0,0,0,0,0,0,0,0,0,0,0,0,0,0,0,0,0,0,0,0,0,0,0,0,0,0]
["OVINO","MANCHEGA","VERANO",24,1.2856444150306401,12.383333333333301,159.41698236572799,31.407396696059902,0,0,0,0,0,0,0,0,0,0,0,0,0,0,0,0,0,0,0,0,0,0,0,0,0,0,0,0,0,0,0,0,0,0,0,0,0,0,0,0,0,0,0,0,0]
[0,0,0,0,0,0,0,0,0,0,0,0,0,0,0,0,0,0,0,0,0,0,0,0,0,0,0,0,0,0,0,0,0,0,0,0,0,0,0,0,0,0,0,0,0,0,0,0,0,0,0,0,0]
[0,0,0,0,0,0,0,0,0,0,0,0,0,0,0,0,0,0,0,0,0,0,0,0,0,0,0,0,0,0,0,0,0,0,0,0,0,0,0,0,0,0,0,0,0,0,0,0,0,0,0,0,0]
[0,0,0,0,0,0,0,0,0,0,0,0,0,0,0,0,0,0,0,0,0,0,0,0,0,0,0,0,0,0,0,0,0,0,0,0,0,0,0,0,0,0,0,0,0,0,0,0,0,0,0,0,0]
["ESPECIE","MES CONTROL","PromedioDeANIMALES  EN ORDEÑO","PromedioDeLITROS TOTAL MES","PromedioDeGRAMOS GRASA","PromedioDeGRAMOS PROTEINA","LITROS/ANIMAL DIA","EQ",0,0,0,0,0,0,0,0,0,0,0,0,0,0,0,0,0,0,0,0,0,0,0,0,0,0,0,0,0,0,0,0,0,0,0,0,0,0,0,0,0,0,0,0,0]
["CAPRINO",1,352.16666666666703,20889,55.428571428571402,38.285714285714299,1.97718883104591,9.3714285714285701,0,0,0,0,0,0,0,0,0,0,0,0,0,0,0,0,0,0,0,0,0,0,0,0,0,0,0,0,0,0,0,0,0,0,0,0,0,0,0,0,0,0,0,0,0]
["CAPRINO",2,352.28750000000002,19679.827160493802,53.679012345678998,37.3333333333333,1.8620991056541201,9.1012345679012405,0,0,0,0,0,0,0,0,0,0,0,0,0,0,0,0,0,0,0,0,0,0,0,0,0,0,0,0,0,0,0,0,0,0,0,0,0,0,0,0,0,0,0,0,0]
["CAPRINO",3,379.52,24457.106666666699,50.891891891891902,36.175675675675699,2.1480735900318502,8.7067567567567608,0,0,0,0,0,0,0,0,0,0,0,0,0,0,0,0,0,0,0,0,0,0,0,0,0,0,0,0,0,0,0,0,0,0,0,0,0,0,0,0,0,0,0,0,0]
["CAPRINO",4,419.80821917808203,28297.123287671198,49.424657534246599,35.780821917808197,2.24682938502034,8.5205479452054806,0,0,0,0,0,0,0,0,0,0,0,0,0,0,0,0,0,0,0,0,0,0,0,0,0,0,0,0,0,0,0,0,0,0,0,0,0,0,0,0,0,0,0,0,0]
["CAPRINO",5,437.585714285714,32390.157142857101,47.842857142857099,35.4,2.4673380997464398,8.3242857142857094,0,0,0,0,0,0,0,0,0,0,0,0,0,0,0,0,0,0,0,0,0,0,0,0,0,0,0,0,0,0,0,0,0,0,0,0,0,0,0,0,0,0,0,0,0]
["CAPRINO",6,455.01470588235298,32417.7352941176,45.764705882352899,34.808823529411796,2.3748489059823501,8.0573529411764699,0,0,0,0,0,0,0,0,0,0,0,0,0,0,0,0,0,0,0,0,0,0,0,0,0,0,0,0,0,0,0,0,0,0,0,0,0,0,0,0,0,0,0,0,0]
["CAPRINO",7,495.09677419354801,35259.370967741903,45.370967741935502,34.596774193548399,2.3739043089219001,7.99677419354839,0,0,0,0,0,0,0,0,0,0,0,0,0,0,0,0,0,0,0,0,0,0,0,0,0,0,0,0,0,0,0,0,0,0,0,0,0,0,0,0,0,0,0,0,0]
["CAPRINO",8,449.01724137931001,31281.827586206899,45.655172413793103,34.620689655172399,2.3222439811081701,8.0275862068965491,0,0,0,0,0,0,0,0,0,0,0,0,0,0,0,0,0,0,0,0,0,0,0,0,0,0,0,0,0,0,0,0,0,0,0,0,0,0,0,0,0,0,0,0,0]
["CAPRINO",9,422.67857142857099,26732.321428571398,49.142857142857103,36.303571428571402,2.10816786368117,8.5446428571428594,0,0,0,0,0,0,0,0,0,0,0,0,0,0,0,0,0,0,0,0,0,0,0,0,0,0,0,0,0,0,0,0,0,0,0,0,0,0,0,0,0,0,0,0,0]
["CAPRINO",10,416.93220338983099,26448.593220339,53.661016949152497,38.677966101694899,2.1145398864452498,9.2338983050847503,0,0,0,0,0,0,0,0,0,0,0,0,0,0,0,0,0,0,0,0,0,0,0,0,0,0,0,0,0,0,0,0,0,0,0,0,0,0,0,0,0,0,0,0,0]
["CAPRINO",11,377.22033898305102,22542.406779661,57.275862068965502,39.5,1.9919751976994999,9.6775862068965495,0,0,0,0,0,0,0,0,0,0,0,0,0,0,0,0,0,0,0,0,0,0,0,0,0,0,0,0,0,0,0,0,0,0,0,0,0,0,0,0,0,0,0,0,0]
["CAPRINO",12,330.79310344827599,21531.396551724101,56.7068965517241,39.275862068965502,2.1696740678967301,9.5982758620689594,0,0,0,0,0,0,0,0,0,0,0,0,0,0,0,0,0,0,0,0,0,0,0,0,0,0,0,0,0,0,0,0,0,0,0,0,0,0,0,0,0,0,0,0,0]
["OVINO",1,447.25663716814199,20618.131578947399,69.410714285714306,55.071428571428598,1.5366369004228,12.4482142857143,0,0,0,0,0,0,0,0,0,0,0,0,0,0,0,0,0,0,0,0,0,0,0,0,0,0,0,0,0,0,0,0,0,0,0,0,0,0,0,0,0,0,0,0,0]
["OVINO",2,483.963636363636,23706.819819819801,67.376146788990795,54.165137614678898,1.63282376598554,12.154128440367,0,0,0,0,0,0,0,0,0,0,0,0,0,0,0,0,0,0,0,0,0,0,0,0,0,0,0,0,0,0,0,0,0,0,0,0,0,0,0,0,0,0,0,0,0]
["OVINO",3,595.81904761904798,32330.254716981101,63.733333333333299,51.752380952381003,1.80872894470092,11.5485714285714,0,0,0,0,0,0,0,0,0,0,0,0,0,0,0,0,0,0,0,0,0,0,0,0,0,0,0,0,0,0,0,0,0,0,0,0,0,0,0,0,0,0,0,0,0]
["OVINO",4,630.01923076923094,35771.942857142902,62.644230769230802,51.057692307692299,1.8926376164458001,11.370192307692299,0,0,0,0,0,0,0,0,0,0,0,0,0,0,0,0,0,0,0,0,0,0,0,0,0,0,0,0,0,0,0,0,0,0,0,0,0,0,0,0,0,0,0,0,0]
["OVINO",5,685.98076923076906,41154.336538461503,62.475728155339802,50.4368932038835,1.9997808677450399,11.291262135922301,0,0,0,0,0,0,0,0,0,0,0,0,0,0,0,0,0,0,0,0,0,0,0,0,0,0,0,0,0,0,0,0,0,0,0,0,0,0,0,0,0,0,0,0,0]
["OVINO",6,662.24,37880.841584158399,61.88,50.16,1.90670258436813,11.204000000000001,0,0,0,0,0,0,0,0,0,0,0,0,0,0,0,0,0,0,0,0,0,0,0,0,0,0,0,0,0,0,0,0,0,0,0,0,0,0,0,0,0,0,0,0,0]
["OVINO",7,632.42857142857099,35027.193877550999,61.917525773195898,50.5154639175258,1.84617391117278,11.2432989690722,0,0,0,0,0,0,0,0,0,0,0,0,0,0,0,0,0,0,0,0,0,0,0,0,0,0,0,0,0,0,0,0,0,0,0,0,0,0,0,0,0,0,0,0,0]
["OVINO",8,631.61855670103103,31690.886597938101,63.2395833333333,51.2708333333333,1.67246968188421,11.451041666666701,0,0,0,0,0,0,0,0,0,0,0,0,0,0,0,0,0,0,0,0,0,0,0,0,0,0,0,0,0,0,0,0,0,0,0,0,0,0,0,0,0,0,0,0,0]
["OVINO",9,550.33333333333303,25008.797979798001,67.418367346938794,53.540816326530603,1.5147666856328299,12.095918367346901,0,0,0,0,0,0,0,0,0,0,0,0,0,0,0,0,0,0,0,0,0,0,0,0,0,0,0,0,0,0,0,0,0,0,0,0,0,0,0,0,0,0,0,0,0]
["OVINO",10,498.01010101010098,21731.62,71.080808080808097,56.070707070707101,1.45456353568748,12.715151515151501,0,0,0,0,0,0,0,0,0,0,0,0,0,0,0,0,0,0,0,0,0,0,0,0,0,0,0,0,0,0,0,0,0,0,0,0,0,0,0,0,0,0,0,0,0]
["OVINO",11,456.13541666666703,18558.969072164899,74.4791666666667,57.7916666666667,1.3562470262149799,13.227083333333301,0,0,0,0,0,0,0,0,0,0,0,0,0,0,0,0,0,0,0,0,0,0,0,0,0,0,0,0,0,0,0,0,0,0,0,0,0,0,0,0,0,0,0,0,0]
["OVINO",12,456.42553191489401,21074.382978723399,71.096774193548399,56.172043010752702,1.5390888184473901,12.7268817204301,0,0,0,0,0,0,0,0,0,0,0,0,0,0,0,0,0,0,0,0,0,0,0,0,0,0,0,0,0,0,0,0,0,0,0,0,0,0,0,0,0,0,0,0,0]
[0,0,0,0,0,0,0,0,0,0,0,0,0,0,0,0,0,0,0,0,0,0,0,0,0,0,0,0,0,0,0,0,0,0,0,0,0,0,0,0,0,0,0,0,0,0,0,0,0,0,0,0,0]
[0,0,0,0,0,0,0,0,0,0,0,0,0,0,0,0,0,0,0,0,0,0,0,0,0,0,0,0,0,0,0,0,0,0,0,0,0,0,0,0,0,0,0,0,0,0,0,0,0,0,0,0,0]
[0,0,0,0,0,0,0,0,0,0,0,0,0,0,0,0,0,0,0,0,0,0,0,0,0,0,0,0,0,0,0,0,0,0,0,0,0,0,0,0,0,0,0,0,0,0,0,0,0,0,0,0,0]
["ESPECIE","CuentaDeMES CONTROL","PromedioDeANIMALES SECOS","PromedioDeANIMALES EN PREPARTO","PromedioDeANIMALES  EN ORDEÑO","ANIMALES TOTALES","%ANIMALES SECOS","%ANIMALES EN PREPARTO","%ANIMALES EN ORDEÑO",0,0,0,0,0,0,0,0,0,0,0,0,0,0,0,0,0,0,0,0,0,0,0,0,0,0,0,0,0,0,0,0,0,0,0,0,0,0,0,0,0,0,0,0]
["CAPRINO",810,93.970186335403696,74.557961783439495,404.71534653465301,573.24349465349701,0.16392717442385499,0.13006333692196001,0.706009488654185,0,0,0,0,0,0,0,0,0,0,0,0,0,0,0,0,0,0,0,0,0,0,0,0,0,0,0,0,0,0,0,0,0,0,0,0,0,0,0,0,0,0,0,0]
["OVINO",1227,245.32904884318799,169.60543657331101,560.41755537325696,975.35204078975596,0.25152871843538799,0.17389150735357001,0.574579774211042,0,0,0,0,0,0,0,0,0,0,0,0,0,0,0,0,0,0,0,0,0,0,0,0,0,0,0,0,0,0,0,0,0,0,0,0,0,0,0,0,0,0,0,0]
[0,0,0,0,0,0,0,0,0,0,0,0,0,0,0,0,0,0,0,0,0,0,0,0,0,0,0,0,0,0,0,0,0,0,0,0,0,0,0,0,0,0,0,0,0,0,0,0,0,0,0,0,0]
[0,0,0,0,0,0,0,0,0,0,0,0,0,0,0,0,0,0,0,0,0,0,0,0,0,0,0,0,0,0,0,0,0,0,0,0,0,0,0,0,0,0,0,0,0,0,0,0,0,0,0,0,0]
[0,0,0,0,0,0,0,0,0,0,0,0,0,0,0,0,0,0,0,0,0,0,0,0,0,0,0,0,0,0,0,0,0,0,0,0,0,0,0,0,0,0,0,0,0,0,0,0,0,0,0,0,0]
["ESPECIE","MES CONTROL","PromedioDeANIMALES SECOS","PromedioDeANIMALES EN PREPARTO","PromedioDeANIMALES  EN ORDEÑO","ANIMALES TOTALES","%ANIMALES SECOS","%ANIMALES EN PREPARTO","%ANIMALES EN ORDEÑO","TOT ANIMALES",0,0,0,0,0,0,0,0,0,0,0,0,0,0,0,0,0,0,0,0,0,0,0,0,0,0,0,0,0,0,0,0,0,0,0,0,0,0,0,0,0,0,0]
["CAPRINO",1,153.5,101.9,313.8,569.20000000000005,0.26967673928320401,0.17902319044272699,0.55130007027406902,569.20000000000005,0,0,0,0,0,0,0,0,0,0,0,0,0,0,0,0,0,0,0,0,0,0,0,0,0,0,0,0,0,0,0,0,0,0,0,0,0,0,0,0,0,0,0]
["CAPRINO",2,12.714285714285699,93.142857142857096,315.28571428571399,421.142857142857,3.0189959294436901E-2,0.22116689280868401,0.74864314789687902,421.142857142857,0,0,0,0,0,0,0,0,0,0,0,0,0,0,0,0,0,0,0,0,0,0,0,0,0,0,0,0,0,0,0,0,0,0,0,0,0,0,0,0,0,0,0]
["CAPRINO",3,16.5,10.875,372.75,400.125,4.1237113402061903E-2,2.71790065604499E-2,0.93158388003748804,400.125,0,0,0,0,0,0,0,0,0,0,0,0,0,0,0,0,0,0,0,0,0,0,0,0,0,0,0,0,0,0,0,0,0,0,0,0,0,0,0,0,0,0,0]
["CAPRINO",4,11.3333333333333,14.5,367.16666666666703,393,2.8837998303647201E-2,3.6895674300254498E-2,0.93426632739609805,393,0,0,0,0,0,0,0,0,0,0,0,0,0,0,0,0,0,0,0,0,0,0,0,0,0,0,0,0,0,0,0,0,0,0,0,0,0,0,0,0,0,0,0]
["CAPRINO",5,71,55.142857142857103,375.42857142857099,501.57142857142901,0.14155511250356001,0.109940187980632,0.748504699515808,501.57142857142901,0,0,0,0,0,0,0,0,0,0,0,0,0,0,0,0,0,0,0,0,0,0,0,0,0,0,0,0,0,0,0,0,0,0,0,0,0,0,0,0,0,0,0]
["CAPRINO",6,47,17,421.42857142857099,485.42857142857099,9.6821659799882304E-2,3.5020600353148898E-2,0.86815773984696898,485.42857142857099,0,0,0,0,0,0,0,0,0,0,0,0,0,0,0,0,0,0,0,0,0,0,0,0,0,0,0,0,0,0,0,0,0,0,0,0,0,0,0,0,0,0,0]
["CAPRINO",7,34.5,21.6666666666667,470.83333333333297,527,6.5464895635673606E-2,4.1113219481340897E-2,0.89342188488298502,527,0,0,0,0,0,0,0,0,0,0,0,0,0,0,0,0,0,0,0,0,0,0,0,0,0,0,0,0,0,0,0,0,0,0,0,0,0,0,0,0,0,0,0]
["CAPRINO",8,52.8,20.2,396.4,469.4,0.112484022155944,4.3033659991478498E-2,0.84448231785257799,469.4,0,0,0,0,0,0,0,0,0,0,0,0,0,0,0,0,0,0,0,0,0,0,0,0,0,0,0,0,0,0,0,0,0,0,0,0,0,0,0,0,0,0,0]
["CAPRINO",9,23.2,50.8,397.4,471.4,4.92151039456937E-2,0.10776410691557101,0.84302078913873602,471.4,0,0,0,0,0,0,0,0,0,0,0,0,0,0,0,0,0,0,0,0,0,0,0,0,0,0,0,0,0,0,0,0,0,0,0,0,0,0,0,0,0,0,0]
["CAPRINO",10,135.28571428571399,143.57142857142901,271.28571428571399,550.142857142857,0.245910153206959,0.26097117631784,0.49311867047520103,550.142857142857,0,0,0,0,0,0,0,0,0,0,0,0,0,0,0,0,0,0,0,0,0,0,0,0,0,0,0,0,0,0,0,0,0,0,0,0,0,0,0,0,0,0,0]
["CAPRINO",11,137.142857142857,68.571428571428598,312.57142857142901,518.28571428571399,0.26460859977949303,0.13230429988974601,0.60308710033076096,518.28571428571399,0,0,0,0,0,0,0,0,0,0,0,0,0,0,0,0,0,0,0,0,0,0,0,0,0,0,0,0,0,0,0,0,0,0,0,0,0,0,0,0,0,0,0]
["CAPRINO",12,201.25,21.25,335,557.5,0.360986547085202,3.8116591928251099E-2,0.60089686098654704,557.5,0,0,0,0,0,0,0,0,0,0,0,0,0,0,0,0,0,0,0,0,0,0,0,0,0,0,0,0,0,0,0,0,0,0,0,0,0,0,0,0,0,0,0]
["OVINO",1,276.33333333333297,326.66666666666703,416.71428571428601,1019.71428571429,0.27099094050621098,0.320351172130382,0.40865788736340702,1019.71428571429,0,0,0,0,0,0,0,0,0,0,0,0,0,0,0,0,0,0,0,0,0,0,0,0,0,0,0,0,0,0,0,0,0,0,0,0,0,0,0,0,0,0,0]
["OVINO",2,274.5,313.33333333333297,418.857142857143,1006.69047619048,0.27267566992266001,0.31125091648731101,0.41607341359002897,1006.69047619048,0,0,0,0,0,0,0,0,0,0,0,0,0,0,0,0,0,0,0,0,0,0,0,0,0,0,0,0,0,0,0,0,0,0,0,0,0,0,0,0,0,0,0]
["OVINO",3,231.5,178.333333333333,609.857142857143,1019.69047619048,0.22702967753987,0.174889672402923,0.59808065005720701,1019.69047619048,0,0,0,0,0,0,0,0,0,0,0,0,0,0,0,0,0,0,0,0,0,0,0,0,0,0,0,0,0,0,0,0,0,0,0,0,0,0,0,0,0,0,0]
["OVINO",4,228.666666666667,132.833333333333,613.28571428571399,974.78571428571399,0.23458147089714501,0.13626926552844301,0.62914926357441203,974.78571428571399,0,0,0,0,0,0,0,0,0,0,0,0,0,0,0,0,0,0,0,0,0,0,0,0,0,0,0,0,0,0,0,0,0,0,0,0,0,0,0,0,0,0,0]
["OVINO",5,178.5,106.833333333333,671.57142857142901,956.90476190476204,0.18653894003483501,0.111644687733267,0.70181637223189797,956.90476190476204,0,0,0,0,0,0,0,0,0,0,0,0,0,0,0,0,0,0,0,0,0,0,0,0,0,0,0,0,0,0,0,0,0,0,0,0,0,0,0,0,0,0,0]
["OVINO",6,208.333333333333,130.666666666667,603.28571428571399,942.28571428571399,0.22109359207600601,0.13866990095007101,0.64023650697392398,942.28571428571399,0,0,0,0,0,0,0,0,0,0,0,0,0,0,0,0,0,0,0,0,0,0,0,0,0,0,0,0,0,0,0,0,0,0,0,0,0,0,0,0,0,0,0]
["OVINO",7,170.833333333333,183.166666666667,586.57142857142901,940.57142857142901,0.18162717699473499,0.194739773187525,0.62363304981774004,940.57142857142901,0,0,0,0,0,0,0,0,0,0,0,0,0,0,0,0,0,0,0,0,0,0,0,0,0,0,0,0,0,0,0,0,0,0,0,0,0,0,0,0,0,0,0]
["OVINO",8,222.142857142857,98,586.28571428571399,906.42857142857099,0.24507486209613899,0.108116627265563,0.64680851063829803,906.42857142857099,0,0,0,0,0,0,0,0,0,0,0,0,0,0,0,0,0,0,0,0,0,0,0,0,0,0,0,0,0,0,0,0,0,0,0,0,0,0,0,0,0,0,0]
["OVINO",9,267.444444444444,66.8888888888889,542.66666666666697,877,0.30495375649309497,7.6270112758140093E-2,0.61877613074876503,877,0,0,0,0,0,0,0,0,0,0,0,0,0,0,0,0,0,0,0,0,0,0,0,0,0,0,0,0,0,0,0,0,0,0,0,0,0,0,0,0,0,0,0]
["OVINO",10,152.666666666667,188.333333333333,439.33333333333297,780.33333333333303,0.195642887654848,0.241349850491243,0.56300726185390904,780.33333333333303,0,0,0,0,0,0,0,0,0,0,0,0,0,0,0,0,0,0,0,0,0,0,0,0,0,0,0,0,0,0,0,0,0,0,0,0,0,0,0,0,0,0,0]
["OVINO",11,226.666666666667,165.333333333333,391,783,0.28948488718603699,0.21115368241804999,0.49936143039591302,783,0,0,0,0,0,0,0,0,0,0,0,0,0,0,0,0,0,0,0,0,0,0,0,0,0,0,0,0,0,0,0,0,0,0,0,0,0,0,0,0,0,0,0]
["OVINO",12,268.444444444444,97.7777777777778,402.66666666666703,768.88888888888903,0.34913294797687899,0.12716763005780299,0.52369942196531805,768.88888888888903,0,0,0,0,0,0,0,0,0,0,0,0,0,0,0,0,0,0,0,0,0,0,0,0,0,0,0,0,0,0,0,0,0,0,0,0,0,0,0,0,0,0,0]
[0,0,0,0,0,0,0,0,0,0,0,0,0,0,0,0,0,0,0,0,0,0,0,0,0,0,0,0,0,0,0,0,0,0,0,0,0,0,0,0,0,0,0,0,0,0,0,0,0,0,0,0,0]
[0,0,0,0,0,0,0,0,0,0,0,0,0,0,0,0,0,0,0,0,0,0,0,0,0,0,0,0,0,0,0,0,0,0,0,0,0,0,0,0,0,0,0,0,0,0,0,0,0,0,0,0,0]
[0,0,0,0,0,0,0,0,0,0,0,0,0,0,0,0,0,0,0,0,0,0,0,0,0,0,0,0,0,0,0,0,0,0,0,0,0,0,0,0,0,0,0,0,0,0,0,0,0,0,0,0,0]
["ESPECIE","CuentaDeMES CONTROL","PromedioDeANIMALES SECOS","PromedioDeANIMALES EN PREPARTO","PromedioDeANIMALES  EN ORDEÑO","ANIMALES TOTALES","SumaDeNº PARTOS","SumaDeNº ABORTOS","SumaDeNº BAJAS ADULTAS","SumaDeNº MAMITIS TRATADAS","PromedioDeNº PARTOS","PARTOS/ANIMAL","%ABORTOS","%BAJAS","%MAMITIS","TOT ANIM","PARTOS","ABORTOS","BAJAS","MAMITIS",0,0,0,0,0,0,0,0,0,0,0,0,0,0,0,0,0,0,0,0,0,0,0,0,0,0,0,0,0,0,0,0,0]
["CAPRINO",810,93.970186335403696,74.557961783439495,404.71534653465301,573.24349465349701,31437,1177,12677,938,39.493718592964797,0.82674226142251594,3.0418203084148498E-2,0.327622396344732,2.42415246329068E-2,573.24349465349701,39.493718592964797,1177,12677,938,0,0,0,0,0,0,0,0,0,0,0,0,0,0,0,0,0,0,0,0,0,0,0,0,0,0,0,0,0,0,0,0,0]
["OVINO",1227,245.32904884318799,169.60543657331101,560.41755537325696,975.35204078975596,122266,3442,20338,1141,101.634247714048,1.25043155862066,3.4513273443078599E-2,0.20393113169242599,1.1440919523112301E-2,975.35204078975596,101.634247714048,3442,20338,1141,0,0,0,0,0,0,0,0,0,0,0,0,0,0,0,0,0,0,0,0,0,0,0,0,0,0,0,0,0,0,0,0,0]
[0,0,0,0,0,0,0,0,0,0,0,0,0,0,0,0,0,0,0,0,0,0,0,0,0,0,0,0,0,0,0,0,0,0,0,0,0,0,0,0,0,0,0,0,0,0,0,0,0,0,0,0,0]
[0,0,0,0,0,0,0,0,0,0,0,0,0,0,0,0,0,0,0,0,0,0,0,0,0,0,0,0,0,0,0,0,0,0,0,0,0,0,0,0,0,0,0,0,0,0,0,0,0,0,0,0,0]
[0,0,0,0,0,0,0,0,0,0,0,0,0,0,0,0,0,0,0,0,0,0,0,0,0,0,0,0,0,0,0,0,0,0,0,0,0,0,0,0,0,0,0,0,0,0,0,0,0,0,0,0,0]
["ESPECIE","MES CONTROL","PromedioDeANIMALES SECOS","PromedioDeANIMALES EN PREPARTO","PromedioDeANIMALES  EN ORDEÑO","ANIMALES TOTALES","SumaDeNº PARTOS","SumaDeNº ABORTOS","SumaDeNº BAJAS ADULTAS","SumaDeNº MAMITIS TRATADAS","PromedioDeNº PARTOS","PARTOS/ANIMAL","%ABORTOS SOBRE TOTALES","%BAJAS","%MAMITIS SOBRE TOTALES","TOT ANIM","PARTOS","ABORTOS","BAJAS","MAMITIS",0,0,0,0,0,0,0,0,0,0,0,0,0,0,0,0,0,0,0,0,0,0,0,0,0,0,0,0,0,0,0,0,0]
["CAPRINO",1,153.5,101.9,313.8,569.20000000000005,340,33,132,72,30.909090909090899,5.43026895802722E-2,5.7976106816584702E-2,0.231904427266339,0.126493323963457,569.20000000000005,30.909090909090899,33,132,72,0,0,0,0,0,0,0,0,0,0,0,0,0,0,0,0,0,0,0,0,0,0,0,0,0,0,0,0,0,0,0,0,0]
["CAPRINO",2,12.714285714285699,93.142857142857096,315.28571428571399,421.142857142857,288,16,72,13,36,8.5481682496607897E-2,3.7991858887381297E-2,0.17096336499321599,3.0868385345997298E-2,421.142857142857,36,16,72,13,0,0,0,0,0,0,0,0,0,0,0,0,0,0,0,0,0,0,0,0,0,0,0,0,0,0,0,0,0,0,0,0,0]
["CAPRINO",3,16.5,10.875,372.75,400.125,574,8,71,11,71.75,0.179318962824117,1.99937519525148E-2,0.17744454857856901,2.74914089347079E-2,400.125,71.75,8,71,11,0,0,0,0,0,0,0,0,0,0,0,0,0,0,0,0,0,0,0,0,0,0,0,0,0,0,0,0,0,0,0,0,0]
["CAPRINO",4,11.3333333333333,14.5,367.16666666666703,393,19,0,31,4,3.1666666666666701,8.05767599660729E-3,0,7.8880407124681903E-2,1.01781170483461E-2,393,3.1666666666666701,0,31,4,0,0,0,0,0,0,0,0,0,0,0,0,0,0,0,0,0,0,0,0,0,0,0,0,0,0,0,0,0,0,0,0,0]
["CAPRINO",5,71,55.142857142857103,375.42857142857099,501.57142857142901,80,6,27,3,11.4285714285714,2.2785531187695801E-2,1.1962403873540301E-2,5.3830817430931398E-2,5.9812019367701504E-3,501.57142857142901,11.4285714285714,6,27,3,0,0,0,0,0,0,0,0,0,0,0,0,0,0,0,0,0,0,0,0,0,0,0,0,0,0,0,0,0,0,0,0,0]
["CAPRINO",6,47,17,421.42857142857099,485.42857142857099,80,1,18,5,11.4285714285714,2.3543260741612702E-2,2.0600353148911101E-3,3.7080635668039999E-2,1.0300176574455601E-2,485.42857142857099,11.4285714285714,1,18,5,0,0,0,0,0,0,0,0,0,0,0,0,0,0,0,0,0,0,0,0,0,0,0,0,0,0,0,0,0,0,0,0,0]
["CAPRINO",7,34.5,21.6666666666667,470.83333333333297,527,84,3,15,4,14,2.6565464895635701E-2,5.6925996204933603E-3,2.8462998102466799E-2,7.5901328273244801E-3,527,14,3,15,4,0,0,0,0,0,0,0,0,0,0,0,0,0,0,0,0,0,0,0,0,0,0,0,0,0,0,0,0,0,0,0,0,0]
["CAPRINO",8,52.8,20.2,396.4,469.4,162,7,19,11,32.4,6.9024286322965506E-2,1.4912654452492499E-2,4.0477204942479798E-2,2.34341712824883E-2,469.4,32.4,7,19,11,0,0,0,0,0,0,0,0,0,0,0,0,0,0,0,0,0,0,0,0,0,0,0,0,0,0,0,0,0,0,0,0,0]
["CAPRINO",9,23.2,50.8,397.4,471.4,2,2,9,4,0.4,8.4853627492575295E-4,4.2426813746287697E-3,1.9092066185829398E-2,8.4853627492575308E-3,471.4,0.4,2,9,4,0,0,0,0,0,0,0,0,0,0,0,0,0,0,0,0,0,0,0,0,0,0,0,0,0,0,0,0,0,0,0,0,0]
["CAPRINO",10,135.28571428571399,143.57142857142901,271.28571428571399,550.142857142857,286,8,36,11,40.857142857142897,7.4266424305375195E-2,1.4541677486367199E-2,6.54375486886523E-2,1.9994806543754899E-2,550.142857142857,40.857142857142897,8,36,11,0,0,0,0,0,0,0,0,0,0,0,0,0,0,0,0,0,0,0,0,0,0,0,0,0,0,0,0,0,0,0,0,0]
["CAPRINO",11,137.142857142857,68.571428571428598,312.57142857142901,518.28571428571399,972,21,44,14,138.857142857143,0.26791620727673698,4.0518191841234799E-2,8.4895259095920605E-2,2.70121278941566E-2,518.28571428571399,138.857142857143,21,44,14,0,0,0,0,0,0,0,0,0,0,0,0,0,0,0,0,0,0,0,0,0,0,0,0,0,0,0,0,0,0,0,0,0]
["CAPRINO",12,201.25,21.25,335,557.5,6,3,20,8,1.5,2.6905829596412601E-3,5.3811659192825097E-3,3.5874439461883401E-2,1.43497757847534E-2,557.5,1.5,3,20,8,0,0,0,0,0,0,0,0,0,0,0,0,0,0,0,0,0,0,0,0,0,0,0,0,0,0,0,0,0,0,0,0,0]
["OVINO",1,276.33333333333297,326.66666666666703,416.71428571428601,1019.71428571429,193,3,14,6,32.1666666666667,3.1544783786307998E-2,2.9420005603810599E-3,1.37293359484449E-2,5.8840011207621197E-3,1019.71428571429,32.1666666666667,3,14,6,0,0,0,0,0,0,0,0,0,0,0,0,0,0,0,0,0,0,0,0,0,0,0,0,0,0,0,0,0,0,0,0,0]
["OVINO",2,274.5,313.33333333333297,418.857142857143,1006.69047619048,1408,30,44,2,234.666666666667,0.23310706936921999,2.9800619663678699E-2,4.3707575506728803E-2,1.98670797757858E-3,1006.69047619048,234.666666666667,30,44,2,0,0,0,0,0,0,0,0,0,0,0,0,0,0,0,0,0,0,0,0,0,0,0,0,0,0,0,0,0,0,0,0,0]
["OVINO",3,231.5,178.333333333333,609.857142857143,1019.69047619048,989,11,70,6,164.833333333333,0.16165036075372999,1.0787587269713E-2,6.8648282625446602E-2,5.8841385107525597E-3,1019.69047619048,164.833333333333,11,70,6,0,0,0,0,0,0,0,0,0,0,0,0,0,0,0,0,0,0,0,0,0,0,0,0,0,0,0,0,0,0,0,0,0]
["OVINO",4,228.666666666667,132.833333333333,613.28571428571399,974.78571428571399,619,3,71,2,103.166666666667,0.10583522630126301,3.0775994724115199E-3,7.2836520847072594E-2,2.0517329816076798E-3,974.78571428571399,103.166666666667,3,71,2,0,0,0,0,0,0,0,0,0,0,0,0,0,0,0,0,0,0,0,0,0,0,0,0,0,0,0,0,0,0,0,0,0]
["OVINO",5,178.5,106.833333333333,671.57142857142901,956.90476190476204,305,3,63,2,50.8333333333333,5.3122667330181603E-2,3.1351082358795699E-3,6.5837272953470999E-2,2.0900721572530501E-3,956.90476190476204,50.8333333333333,3,63,2,0,0,0,0,0,0,0,0,0,0,0,0,0,0,0,0,0,0,0,0,0,0,0,0,0,0,0,0,0,0,0,0,0]
["OVINO",6,208.333333333333,130.666666666667,603.28571428571399,942.28571428571399,11,2,68,0,1.8333333333333299,1.9456236102688501E-3,2.1224984839296498E-3,7.2164948453608199E-2,0,942.28571428571399,1.8333333333333299,2,68,0,0,0,0,0,0,0,0,0,0,0,0,0,0,0,0,0,0,0,0,0,0,0,0,0,0,0,0,0,0,0,0,0,0]
["OVINO",7,170.833333333333,183.166666666667,586.57142857142901,940.57142857142901,664,7,46,1,110.666666666667,0.117658971243418,7.4422843256379103E-3,4.8906439854191998E-2,1.0631834750911299E-3,940.57142857142901,110.666666666667,7,46,1,0,0,0,0,0,0,0,0,0,0,0,0,0,0,0,0,0,0,0,0,0,0,0,0,0,0,0,0,0,0,0,0,0]
["OVINO",8,222.142857142857,98,586.28571428571399,906.42857142857099,367,1,69,3,61.1666666666667,6.7480956133438394E-2,1.1032308904649301E-3,7.6122931442080405E-2,3.3096926713947999E-3,906.42857142857099,61.1666666666667,1,69,3,0,0,0,0,0,0,0,0,0,0,0,0,0,0,0,0,0,0,0,0,0,0,0,0,0,0,0,0,0,0,0,0,0]
["OVINO",9,267.444444444444,66.8888888888889,542.66666666666697,877,498,9,77,3,62.25,7.0980615735461799E-2,1.0262257696693301E-2,8.77993158494869E-2,3.4207525655644199E-3,877,62.25,9,77,3,0,0,0,0,0,0,0,0,0,0,0,0,0,0,0,0,0,0,0,0,0,0,0,0,0,0,0,0,0,0,0,0,0]
["OVINO",10,152.666666666667,188.333333333333,439.33333333333297,780.33333333333303,165,1,63,2,20.625,2.6431012387868401E-2,1.28150363092695E-3,8.0734728748398099E-2,2.56300726185391E-3,780.33333333333303,20.625,1,63,2,0,0,0,0,0,0,0,0,0,0,0,0,0,0,0,0,0,0,0,0,0,0,0,0,0,0,0,0,0,0,0,0,0]
["OVINO",11,226.666666666667,165.333333333333,391,783,694,11,41,2,86.75,0.110791826309068,1.40485312899106E-2,5.2362707535121303E-2,2.5542784163473799E-3,783,86.75,11,41,2,0,0,0,0,0,0,0,0,0,0,0,0,0,0,0,0,0,0,0,0,0,0,0,0,0,0,0,0,0,0,0,0,0]
["OVINO",12,268.444444444444,97.7777777777778,402.66666666666703,768.88888888888903,826,8,104,9,103.25,0.13428468208092501,1.0404624277456601E-2,0.13526011560693599,1.17052023121387E-2,768.88888888888903,103.25,8,104,9,0,0,0,0,0,0,0,0,0,0,0,0,0,0,0,0,0,0,0,0,0,0,0,0,0,0,0,0,0,0,0,0,0]
[0,0,0,0,0,0,0,0,0,0,0,0,0,0,0,0,0,0,0,0,0,0,0,0,0,0,0,0,0,0,0,0,0,0,0,0,0,0,0,0,0,0,0,0,0,0,0,0,0,0,0,0,0]
[0,0,0,0,0,0,0,0,0,0,0,0,0,0,0,0,0,0,0,0,0,0,0,0,0,0,0,0,0,0,0,0,0,0,0,0,0,0,0,0,0,0,0,0,0,0,0,0,0,0,0,0,0]
["COND CORP","ESPECIE","TIPO EXPLOTACION","PromedioDeTEMPERATURA","PromedioDeCORRIENTES AIRE","PromedioDeVENTILACION","PromedioDeAMBIENTE CARGADO","PromedioDeDENSIDAD ANIMALES","PromedioDeCALIDAD CAMA","PromedioDeCONFORT ANIMALES","PromedioDeANIMALES ESTRESADOS","PromedioDeCOMEDEROS PIENSO","PromedioDeCOMEDEROS PAJA","PromedioDeBEBEDEROS","PromedioDeCONSISTENCIA HECES","PromedioDeESTADO CORPORAL","PromedioDeLIMPIEZA ANIMALES","CuentaDeNº VISITA","PromedioDeESTADO PEZUÑAS",0,0,0,0,0,0,0,0,0,0,0,0,0,0,0,0,0,0,0,0,0,0,0,0,0,0,0,0,0,0,0,0,0,0]
[2.92818181818182,"CAPRINO","ORDEÑO",6.1454545454545499,6.2454545454545496,5.4454545454545498,5.47272727272727,6.1818181818181799,5.97272727272727,5.8909090909090898,5.7636363636363601,5.9363636363636401,6.2727272727272698,5.7,3.3727272727272699,292.81818181818198,6.8545454545454501,110,5.8709677419354804,0,0,0,0,0,0,0,0,0,0,0,0,0,0,0,0,0,0,0,0,0,0,0,0,0,0,0,0,0,0,0,0,0,0]
[3.1,"OVINO","ORDEÑO",6.1280000000000001,6.28,5.8479999999999999,5.7119999999999997,6.0880000000000001,5.9039999999999999,5.9279999999999999,5.6559999999999997,5.992,6.008,5.5119999999999996,3.44,310,6.16,125,5.6285714285714299,0,0,0,0,0,0,0,0,0,0,0,0,0,0,0,0,0,0,0,0,0,0,0,0,0,0,0,0,0,0,0,0,0,0]
[0,0,0,0,0,0,0,0,0,0,0,0,0,0,0,0,0,0,0,0,0,0,0,0,0,0,0,0,0,0,0,0,0,0,0,0,0,0,0,0,0,0,0,0,0,0,0,0,0,0,0,0,0]
[0,0,0,0,0,0,0,0,0,0,0,0,0,0,0,0,0,0,0,0,0,0,0,0,0,0,0,0,0,0,0,0,0,0,0,0,0,0,0,0,0,0,0,0,0,0,0,0,0,0,0,0,0]
["COND CORP","ESPECIE","TIPO EXPLOTACION","DesvEstDeTEMPERATURA","DesvEstDeCORRIENTES AIRE","DesvEstDeVENTILACION","DesvEstDeAMBIENTE CARGADO","DesvEstDeDENSIDAD ANIMALES","DesvEstDeCALIDAD CAMA","DesvEstDeCONFORT ANIMALES","DesvEstDeANIMALES ESTRESADOS","DesvEstDeCOMEDEROS PIENSO","DesvEstDeCOMEDEROS PAJA","DesvEstDeBEBEDEROS","DesvEstDeCONSISTENCIA HECES","DesvEstDeESTADO CORPORAL","DesvEstDeLIMPIEZA ANIMALES","DesvEstDeESTADO PEZUÑAS",0,0,0,0,0,0,0,0,0,0,0,0,0,0,0,0,0,0,0,0,0,0,0,0,0,0,0,0,0,0,0,0,0,0,0]
[0.36820462454720498,"CAPRINO","ORDEÑO",0.97525685759286096,0.76848908877504896,1.0189611874770601,1.0019164288712099,0.930441526657519,1.1042793399848001,0.89181244732342702,0.83421415778616204,1.0251629785602401,0.88731210347551603,1.07131060949584,0.64763636457294804,36.820462454720499,0.60329924165305304,1.1759233388808701,0,0,0,0,0,0,0,0,0,0,0,0,0,0,0,0,0,0,0,0,0,0,0,0,0,0,0,0,0,0,0,0,0,0,0]
[0.334507341160583,"OVINO","ORDEÑO",0.95862805192393796,0.77875003236162099,0.88039580541569395,0.94881930024432404,1.0702426616607601,1.0657724746595501,0.88149433240635,0.934154784439026,0.92889111831119298,1.0119926048435699,1.03655757819005,0.62733435032426998,33.4507341160583,1.0032206202542,1.35224680756563,0,0,0,0,0,0,0,0,0,0,0,0,0,0,0,0,0,0,0,0,0,0,0,0,0,0,0,0,0,0,0,0,0,0,0]
[0,0,0,0,0,0,0,0,0,0,0,0,0,0,0,0,0,0,0,0,0,0,0,0,0,0,0,0,0,0,0,0,0,0,0,0,0,0,0,0,0,0,0,0,0,0,0,0,0,0,0,0,0]
[0,0,0,0,0,0,0,0,0,0,0,0,0,0,0,0,0,0,0,0,0,0,0,0,0,0,0,0,0,0,0,0,0,0,0,0,0,0,0,0,0,0,0,0,0,0,0,0,0,0,0,0,0]
["PromedioDeOL ALI SISTEMA ALIMENTACION","PromedioDeOL ALI CALIDAD Y DISPONIBILIDAD DE FORRAJES","PromedioDeOL ALI LOTES ALIMENTACION","PromedioDeOL ALI APROVECHAMIENTO RECURSOS NATURALES","PromedioDeOL ALI AUTOMATIZACION","PromedioDeOL SA PLAN SANITARIO","PromedioDeOL SA MORTALIDAD CORDEROS","PromedioDeOL SA MORTALIDAD ADULTOS","PromedioDeOL SA INCIDENCIA PATOLOGIA MAS FRECUENTE","PromedioDeOL SA PORCENTAJE DE MAMITIS","PromedioDeOL IBA LACTANCIA ARTIFICIAL","PromedioDeOL IBA SALA ORDEÑO","PromedioDeOL IBA VENTILACION Y AMBIENTE","PromedioDeOL IBA NAVES PARA LOTES","PromedioDeOL IBA COMEDEROS, BEBEDEROS","PromedioDeOL PRI LECHE/OVEJA AÑO","PromedioDeOL PRI CORDEROS VENDIDOS","PromedioDeOL PRI OVEJAS/ UTH","PromedioDeOL PRI CALIDAD DE LECHE","PromedioDeOL PRI TASA REPOSICION","PromedioDeOL REC INGRESOS BRUTOS LECHE","PromedioDeOL REC INGRESOS BRUTOS VENTA ANIMALES","PromedioDeOL REC GASTOS ALIMENTACION","PromedioDeOL REC AMORTIZACION","PromedioDeOL REC MANO DE OBRA","CuentaDeNº REGISTRO",0,0,0,0,0,0,0,0,0,0,0,0,0,0,0,0,0,0,0,0,0,0,0,0,0,0,0]
[3.0392156862745101,2.9411764705882399,2.9019607843137298,2.3529411764705901,2.9411764705882399,3.3333333333333299,2.8627450980392202,3.2352941176470602,2.7843137254902,2.5686274509803901,1.54901960784314,2.9411764705882399,2.47058823529412,2.2745098039215699,2.7450980392156898,2.5490196078431402,2.37254901960784,2.52941176470588,2.0588235294117601,2.68627450980392,3.0980392156862702,3.1764705882352899,3.1372549019607798,2.8627450980392202,2.9215686274509798,51,0,0,0,0,0,0,0,0,0,0,0,0,0,0,0,0,0,0,0,0,0,0,0,0,0,0,0]
[0,0,0,0,0,0,0,0,0,0,0,0,0,0,0,0,0,0,0,0,0,0,0,0,0,0,0,0,0,0,0,0,0,0,0,0,0,0,0,0,0,0,0,0,0,0,0,0,0,0,0,0,0]
["DesvEstDeOL ALI SISTEMA ALIMENTACION","DesvEstDeOL ALI CALIDAD Y DISPONIBILIDAD DE FORRAJES","DesvEstDeOL ALI LOTES ALIMENTACION","DesvEstDeOL ALI APROVECHAMIENTO RECURSOS NATURALES","DesvEstDeOL ALI AUTOMATIZACION","DesvEstDeOL SA PLAN SANITARIO","DesvEstDeOL SA MORTALIDAD CORDEROS","DesvEstDeOL SA MORTALIDAD ADULTOS","DesvEstDeOL SA INCIDENCIA PATOLOGIA MAS FRECUENTE","DesvEstDeOL SA PORCENTAJE DE MAMITIS","DesvEstDeOL IBA LACTANCIA ARTIFICIAL","DesvEstDeOL IBA SALA ORDEÑO","DesvEstDeOL IBA VENTILACION Y AMBIENTE","DesvEstDeOL IBA NAVES PARA LOTES","DesvEstDeOL IBA COMEDEROS, BEBEDEROS","DesvEstDeOL PRI LECHE/OVEJA AÑO","DesvEstDeOL PRI CORDEROS VENDIDOS","DesvEstDeOL PRI OVEJAS/ UTH","DesvEstDeOL PRI CALIDAD DE LECHE","DesvEstDeOL PRI TASA REPOSICION","DesvEstDeOL REC INGRESOS BRUTOS LECHE","DesvEstDeOL REC INGRESOS BRUTOS VENTA ANIMALES","DesvEstDeOL REC GASTOS ALIMENTACION","DesvEstDeOL REC AMORTIZACION","DesvEstDeOL REC MANO DE OBRA","CuentaDeNº REGISTRO",0,0,0,0,0,0,0,0,0,0,0,0,0,0,0,0,0,0,0,0,0,0,0,0,0,0,0]
[0.72002178616276602,0.83454813416320905,0.83078040325429703,1.54691343535137,1.0846522890932799,0.93094933625126297,1.0773970084075299,1.03127562356758,0.85589077551276505,0.98498531889128804,1.5532382365908499,0.73244152547168895,0.78365658745321798,1.0015673990810401,1.1107319614542801,1.2052174159079501,1.05755915794296,1.1375929179890401,1.0278475510674201,1.14000343996729,0.67096652556694103,0.62308530244072302,0.95957506935387304,1.1665266022365199,0.95588989438955696,51,0,0,0,0,0,0,0,0,0,0,0,0,0,0,0,0,0,0,0,0,0,0,0,0,0,0,0]
[0,0,0,0,0,0,0,0,0,0,0,0,0,0,0,0,0,0,0,0,0,0,0,0,0,0,0,0,0,0,0,0,0,0,0,0,0,0,0,0,0,0,0,0,0,0,0,0,0,0,0,0,0]
["PromedioDeCL ALI SISTEMA ALIMENTACION","PromedioDeCL ALI CALIDAD DISPONIBILIDAD FORRAJES","PromedioDeCL ALI LOTES ALIMENTACION","PromedioDeCL ALI APROVECHAMIENTO RECURSOS","PromedioDeCL ALI AUTOMATIZACION","PromedioDeCL SA PROTOCOLO SANITARIO","PromedioDeCL SA MORTALIDAD EN CHIVOS","PromedioDeCL SA MORTALIDAD EN ADULTOS","PromedioDeCL SA INCIDENCIA PATOLOGIA MAS FRECUENTE","PromedioDeCL SA PORCENTAJE DE MAMITIS","PromedioDeCL IBA LACTANCIA ARTIFICIAL","PromedioDeCL IBA TIPO SALA ORDEÑO","PromedioDeCL IBA CONTROL AMBIENTAL NAVES","PromedioDeCL IBA PAEQUES POR LOTES","PromedioDeCL IBA COMEDEROS BEBEDEROS","PromedioDeCL PRI PORCENTAJE REPOSICION","PromedioDeCL PRI PRODUCCION MEDIA","PromedioDeCL PRI CALIDAD MEDIA","PromedioDeCL PRI CABRITOS VENDIDOS","PromedioDeCL PRI CABRAS POR UHT","PromedioDeCL REC INGRESOS BRUTOS LECHE","PromedioDeCL REC INGRESOS BRUTOS VENTA ANIMALES","PromedioDeCL REC COSTE MANO DE OBRA","PromedioDeCL REC COSTE ALIMENTACION","PromedioDeCL REC AMORTIZACIONES/SUBVENCIONES","CuentaDeNº REGISTRO",0,0,0,0,0,0,0,0,0,0,0,0,0,0,0,0,0,0,0,0,0,0,0,0,0,0,0]
[3.4693877551020398,3.1020408163265301,2.7959183673469399,1.3673469387755099,2.22448979591837,2.9591836734693899,2.8979591836734699,2.87755102040816,2.3673469387755102,2.4081632653061198,2.0204081632653099,2.6938775510204098,2.3265306122449001,2.22448979591837,2.5510204081632701,3.4285714285714302,2.22448979591837,2.6938775510204098,1.6122448979591799,1.77551020408163,2.83673469387755,2.3265306122449001,2.5714285714285698,3.0816326530612201,2.4897959183673501,49,0,0,0,0,0,0,0,0,0,0,0,0,0,0,0,0,0,0,0,0,0,0,0,0,0,0,0]
[0,0,0,0,0,0,0,0,0,0,0,0,0,0,0,0,0,0,0,0,0,0,0,0,0,0,0,0,0,0,0,0,0,0,0,0,0,0,0,0,0,0,0,0,0,0,0,0,0,0,0,0,0]
["DesvEstDeCL ALI SISTEMA ALIMENTACION","DesvEstDeCL ALI CALIDAD DISPONIBILIDAD FORRAJES","DesvEstDeCL ALI LOTES ALIMENTACION","DesvEstDeCL ALI APROVECHAMIENTO RECURSOS","DesvEstDeCL ALI AUTOMATIZACION","DesvEstDeCL SA PROTOCOLO SANITARIO","DesvEstDeCL SA MORTALIDAD EN CHIVOS","DesvEstDeCL SA MORTALIDAD EN ADULTOS","DesvEstDeCL SA INCIDENCIA PATOLOGIA MAS FRECUENTE","DesvEstDeCL SA PORCENTAJE DE MAMITIS","DesvEstDeCL IBA LACTANCIA ARTIFICIAL","DesvEstDeCL IBA TIPO SALA ORDEÑO","DesvEstDeCL IBA CONTROL AMBIENTAL NAVES","DesvEstDeCL IBA PAEQUES POR LOTES","DesvEstDeCL IBA COMEDEROS BEBEDEROS","DesvEstDeCL PRI PORCENTAJE REPOSICION","DesvEstDeCL PRI PRODUCCION MEDIA","DesvEstDeCL PRI CALIDAD MEDIA","DesvEstDeCL PRI CABRITOS VENDIDOS","DesvEstDeCL PRI CABRAS POR UHT","DesvEstDeCL REC INGRESOS BRUTOS LECHE","DesvEstDeCL REC INGRESOS BRUTOS VENTA ANIMALES","DesvEstDeCL REC COSTE MANO DE OBRA","DesvEstDeCL REC COSTE ALIMENTACION","DesvEstDeCL REC AMORTIZACIONES/SUBVENCIONES","CuentaDeNº REGISTRO",0,0,0,0,0,0,0,0,0,0,0,0,0,0,0,0,0,0,0,0,0,0,0,0,0,0,0]
[0.81909606722712203,0.87189682969526505,0.88927854271348095,1.50960642706165,0.71488070457154396,1.33789610448441,1.02560750206856,1.0534200859823299,0.88255966632622096,1.05905554125163,1.19878055954039,0.74173449968786698,0.71844029855307701,0.77096546946153199,0.91426711290601304,0.70710678118654802,1.06585853740949,0.91751661276179497,1.0765749418606101,1.2121830534626501,0.87433162033231104,0.85116966341521305,1.0408329997330701,0.75929612948104597,1.13875752795887,49,0,0,0,0,0,0,0,0,0,0,0,0,0,0,0,0,0,0,0,0,0,0,0,0,0,0,0]
[0,0,0,0,0,0,0,0,0,0,0,0,0,0,0,0,0,0,0,0,0,0,0,0,0,0,0,0,0,0,0,0,0,0,0,0,0,0,0,0,0,0,0,0,0,0,0,0,0,0,0,0,0]
[0,0,0,0,0,0,0,0,0,0,0,0,0,0,0,0,0,0,0,0,0,0,0,0,0,0,0,0,0,0,0,0,0,0,0,0,0,0,0,0,0,0,0,0,0,0,0,0,0,0,0,0,0]
["NUMEROREGISTRO","GANADO","CODIGO IRIS","NOMBRE PRODUCTO","PRESENTACION","UFL/UFV","PROTEINA BRUTA","FIBRA BRUTA","GRASA BRUTA","CENIZAS","MODO DE EMPLEO","OBSERVACIONES",0,0,0,0,0,0,0,0,0,0,0,0,0,0,0,0,0,0,0,0,0,0,0,0,0,0,0,0,0,0,0,0,0,0,0,0,0,0,0,0,0]
[278,"OVINO","1808 GGR","OVIRECRIA","GRANULADO 3,5",88,165,82,35,78,"Pienso complementario destinados a corderas de reposición desde los 3 a los 6-7 meses. Se puede suministar a voluntad con paja ad libitumn pero es aconsejable el aporte de forrajes","Los animales dispondrán en todo momento de agua limpia y fresca a libre servicio. Consultar a los servicios técnicos.",0,0,0,0,0,0,0,0,0,0,0,0,0,0,0,0,0,0,0,0,0,0,0,0,0,0,0,0,0,0,0,0,0,0,0,0,0,0,0,0,0]
[285,"CAPRINO","1610 GGR","CAPRIRECRIA","GRANULADO 3,5",89,165,82,35,78,"Pienso complementario destinados a chivas de reposición desde los 3 a los 6-7 meses. Se puede suministar a voluntad con paja ad libitumn pero es aconsejable el aporte de forrajes","Los animales dispondrán en todo momento de agua limpia y fresca a libre servicio. Consultar a los servicios técnicos.",0,0,0,0,0,0,0,0,0,0,0,0,0,0,0,0,0,0,0,0,0,0,0,0,0,0,0,0,0,0,0,0,0,0,0,0,0,0,0,0,0]
[298,"CAPRINO","1512 GGR","CAPRI KOMPLET ESTANDAR","GRANULADO 3,5",90,170,120,35,75,"Pienso complementario destinado a cabras de leche para ser suministrado con paja a voluntad. La paja deberá ser limpia y seca y se administrará ad libitum. Los animales dispondrán de agua limpia y fresca.","Preferiblemente administrar varias veces al día pero que siempre lo tengan disponible. La transición a este alñimento debe ser lenta (15 días mínimo) y paulatina. Recomendamos tener a los animales desparasitados y vacunados de Enterotoxemia.",0,0,0,0,0,0,0,0,0,0,0,0,0,0,0,0,0,0,0,0,0,0,0,0,0,0,0,0,0,0,0,0,0,0,0,0,0,0,0,0,0]
[299,"CAPRINO","1515 GGR","CAPRI KOMPLET ESPECIAL","GRANULADO 10",92,170,120,40,83,"Pienso complementario  de paja para cabras en ordeño. Los animales dispondrán en todo momento de paja de cereales limpia y agua limpia y fresca. Puede emplearse racionado o a voluntad. Diseñado especialmente para cabras tipo murciano.","Preferiblemente administrar varias veces al día pero que siempre lo tengan disponible. La transición a este alimento debe ser lenta (15 días mínimo) y paulatina. Recomendamos tener a los animales desparasitados y vacunados de Enterotoxemia.",0,0,0,0,0,0,0,0,0,0,0,0,0,0,0,0,0,0,0,0,0,0,0,0,0,0,0,0,0,0,0,0,0,0,0,0,0,0,0,0,0]
[374,"OVINO/CAPRINO","1669 GGR","INOGEST","GRANULADO 3,5",92,143,71,28,67,"Pienso complementario especial para el preparto de ovejas y cabras de ordeño . Utilizar como complementario de forrajes los últimos 45 días de antes del parto.","No se recomienda la utilización de paja en esta fase sobre todo en razas muy lecheras y prolíficas.Los animales dispondrán de agua limpia y fresca a libre disposición.",0,0,0,0,0,0,0,0,0,0,0,0,0,0,0,0,0,0,0,0,0,0,0,0,0,0,0,0,0,0,0,0,0,0,0,0,0,0,0,0,0]
[383,"OVINO","1705 GGR","OVIKOMPLET","GRANULADO 10",88,180,120,40,80,"Pienso complementario de paja para ovejas en ordeño. Los animales dispondrán en todo momento de paja de cereales limpia y agua limpia y fresca. Puede emplearse racionado o a voluntad. Consultar cada caso con los servicios técnicos.","Preferiblemente administrar varias veces al día pero que siempre lo tengan disponible.La transición a este alimento debe ser lenta (15 días mínimo) y paulatina. Necesaria vacunacion Enterotoxemia.",0,0,0,0,0,0,0,0,0,0,0,0,0,0,0,0,0,0,0,0,0,0,0,0,0,0,0,0,0,0,0,0,0,0,0,0,0,0,0,0,0]
[391,"OVINO","1777 GGR","OVIKOMPLET BASIC","GRANULADO 10",81,165,135,30,87,"Pienso complementario de paja para ovejas en ordeño. Los animales dispondrán en todo momento de paja de cereales limpia y agua limpia y fresca. Puede emplearse racionado. Consultar cada caso con los servicios técnicos.","Preferiblemente administrar varias veces al día pero que siempre lo tengan disponible.La transición a este alimento debe ser lenta (15 días mínimo) y paulatina. Necesaria vacunacion Enterotoxemia.",0,0,0,0,0,0,0,0,0,0,0,0,0,0,0,0,0,0,0,0,0,0,0,0,0,0,0,0,0,0,0,0,0,0,0,0,0,0,0,0,0]
[396,"OVINO","1797 GGR","OVIKOMPLET EQ","GRANULADO 10",86,180,155,40,90,"Pienso complementario de paja para ovejas en ordeño. Los animales dispondrán en todo momento de paja de cereales limpia y agua limpia y fresca. Puede emplearse racionado o a voluntad. Consultar cada caso con los servicios técnicos.","Preferiblemente administrar varias veces al día pero que siempre lo tengan disponible.La transición a este alimento debe ser lenta (15 días mínimo) y paulatina. Necesaria vacunacion Enterotoxemia.",0,0,0,0,0,0,0,0,0,0,0,0,0,0,0,0,0,0,0,0,0,0,0,0,0,0,0,0,0,0,0,0,0,0,0,0,0,0,0,0,0]
[397,"CAPRINO","","CAPRIKOMPLET PLUS","GRANULADO 3,5",94,180,100,38,74,"Pienso complementario  de paja para cabras en ordeño. Los animales dispondrán en todo momento de paja de cereales y algo de forraje y agua limpia y fresca . Puede emplearse racionado o a voluntad. Diseñado especialmente para cabras tipo murciano.","Preferiblemente administrar varias veces al día pero que siempre lo tengan disponible. La transición a este alimento debe ser lenta (15 días mínimo) y paulatina. Recomendamos tener a los animales desparasitados y vacunados de Enterotoxemia.",0,0,0,0,0,0,0,0,0,0,0,0,0,0,0,0,0,0,0,0,0,0,0,0,0,0,0,0,0,0,0,0,0,0,0,0,0,0,0,0,0]
[413,"OVINO/CAPRINO","1818 GGR","KOMPLET GESTACION","GRANULADO 3,5",90,175,90,25,83,"Pienso complementario especial para el preparto de ovejas y cabras de ordeño . Utilizar como complementario de forrajes (incluido paja) los últimos 45 días de antes del parto.","racionar adecuadamente según peso vivo y prolificidad. .Los animales dispondrán de agua limpia y fresca a libre disposición.",0,0,0,0,0,0,0,0,0,0,0,0,0,0,0,0,0,0,0,0,0,0,0,0,0,0,0,0,0,0,0,0,0,0,0,0,0,0,0,0,0]
[414,"OVINO/CAPRINO","1819 GGR","KOMPLET RECRIA","GRANULADO 3,5",91,170,100,38,74,"Pienso complementario destinados a corderas y chivas de reposición desde los 3 hasta el preparto. Se puede suministar a voluntad con paja ad libitumn en la primera fase- Despues racionado.  El aporte de forrajes es siempre preferible.","Los animales dispondrán en todo momento de agua limpia y fresca a libre servicio. Consultar a los servicios técnicos.",0,0,0,0,0,0,0,0,0,0,0,0,0,0,0,0,0,0,0,0,0,0,0,0,0,0,0,0,0,0,0,0,0,0,0,0,0,0,0,0,0]
[420,"OVINO","1856 GGR","OVIKOMPLET PLUS","GRANULADO 10",90,185,110,38,81,"Pienso complementario de paja y forrajes para ovejas en ordeño. Los animales dispondrán en todo momento de paja de cereales limpia y agua limpia y fresca. Puede emplearse racionado o a voluntad. Consultar cada caso con los servicios técnicos.","Preferiblemente administrar varias veces al día pero que siempre lo tengan disponible.La transición a este alimento debe ser lenta (15 días mínimo) y paulatina. Necesaria vacunacion Enterotoxemia.",0,0,0,0,0,0,0,0,0,0,0,0,0,0,0,0,0,0,0,0,0,0,0,0,0,0,0,0,0,0,0,0,0,0,0,0,0,0,0,0,0]
[0,0,0,0,0,0,0,0,0,0,0,0,0,0,0,0,0,0,0,0,0,0,0,0,0,0,0,0,0,0,0,0,0,0,0,0,0,0,0,0,0,0,0,0,0,0,0,0,0,0,0,0,0]
[0,0,0,0,0,0,0,0,0,0,0,0,0,0,0,0,0,0,0,0,0,0,0,0,0,0,0,0,0,0,0,0,0,0,0,0,0,0,0,0,0,0,0,0,0,0,0,0,0,0,0,0,0]
[0,0,0,0,0,0,0,0,0,0,0,0,0,0,0,0,0,0,0,0,0,0,0,0,0,0,0,0,0,0,0,0,0,0,0,0,0,0,0,0,0,0,0,0,0,0,0,0,0,0,0,0,0]
[0,0,0,0,0,0,0,0,0,0,0,0,0,0,0,0,0,0,0,0,0,0,0,0,0,0,0,0,0,0,0,0,0,0,0,0,0,0,0,0,0,0,0,0,0,0,0,0,0,0,0,0,0]
[0,0,0,0,0,0,0,0,0,0,0,0,0,0,0,0,0,0,0,0,0,0,0,0,0,0,0,0,0,0,0,0,0,0,0,0,0,0,0,0,0,0,0,0,0,0,0,0,0,0,0,0,0]
["NUMEROREGISTRO","HOMOLOGADO","NOMBRE PRODUCTO","GANADO","CLASE","TIPO","PRESENTACION","TIPO DE PIENSO","DESTINO PIENSO","HUMEDAD","PROTEINA BRUTA","FIBRA BRUTA","GRASA BRUTA","CENIZAS","A+A","UFL/UFV","MODO DE EMPLEO","OBSERVACIONES","MODO EMPLEO ETIQUETA","%HUM","%PB","%FB","GB","%MM","%A+A",0,0,0,0,0,0,0,0,0,0,0,0,0,0,0,0,0,0,0,0,0,0,0,0,0,0,0,0]
[296,true,"AMALTEA","CAPRINO","LECHE","ORDEÑO","GRANULADO 3,5","PIENSO COMPLEMENTARIO","CABRAS EN ORDEÑO",110,165,80,40,80,310,96,"Pienso  complementario de forrajes para caprino de alta producción en ordeño. Las cantidades a suministrar irán en función del peso, producción y calidad de los forrajes","Puede administrarse en pesebre, en sala de ordeño o en carro mezclador.Los animales dispondrán de agua limpia y fresca a libre disposición.","Pienso para caprino de alta producción en ordeño. Las cantidades a suministrar irán en función del peso, producción y calidad de los forrajes.Los animales dispondrán de agua limpia y fresca a libre disposición.",11,16.5,8,4,8,31,0,0,0,0,0,0,0,0,0,0,0,0,0,0,0,0,0,0,0,0,0,0,0,0,0,0,0,0]
[297,true,"AMALTEA L 3000","CAPRINO","LECHE","ORDEÑO","GRANULADO 3,5","PIENSO COMPLEMENTARIO","CABRAS EN ORDEÑO",110,180,75,40,78,310,94,"Pienso  complementario de forrajes para caprino de alta producción en ordeño. Las cantidades a suministrar irán en función del peso, producción y calidad de los forrajes","Puede administrarse en pesebre, en sala de ordeño o en carro mezclador. Los animales dispondrán de agua limpia y fresca a libre disposición.","Pienso para caprino de alta producción en ordeño. Las cantidades a suministrar irán en función del peso, producción y calidad de los forrajes.Los animales dispondrán de agua limpia y fresca a libre disposición.",11,18,7.5,4,7.8,31,0,0,0,0,0,0,0,0,0,0,0,0,0,0,0,0,0,0,0,0,0,0,0,0,0,0,0,0]
[299,true,"CAPRI KOMPLET ESPECIAL","CAPRINO","LECHE","ORDEÑO","GRANULADO 10","PIENSO COMPLEMENTARIO","CABRAS EN ORDEÑO",110,170,120,40,83,240,92,"Pienso complementario  de paja para cabras en ordeño. Los animales dispondrán en todo momento de paja de cereales limpia y agua limpia y fresca. Puede emplearse racionado o a voluntad. Diseñado especialmente para cabras tipo murciano.","Preferiblemente administrar varias veces al día pero que siempre lo tengan disponible. La transición a este alimento debe ser lenta (15 días mínimo) y paulatina. Recomendamos tener a los animales desparasitados y vacunados de Enterotoxemia.","Pienso  destinado a cabras de leche para ser suministrado con paja a voluntad. La paja deberá ser limpia y seca y se administrará ad libitum. Los animales dispondrán de agua limpia y fresca.",11,17,12,4,8.3000000000000007,24,0,0,0,0,0,0,0,0,0,0,0,0,0,0,0,0,0,0,0,0,0,0,0,0,0,0,0,0]
[298,true,"CAPRI KOMPLET ESTANDAR","CAPRINO","LECHE","ORDEÑO","GRANULADO 3,5","PIENSO COMPLEMENTARIO","CABRAS EN ORDEÑO",110,170,120,35,75,220,90,"Pienso complementario destinado a cabras de leche para ser suministrado con paja a voluntad. La paja deberá ser limpia y seca y se administrará ad libitum. Los animales dispondrán de agua limpia y fresca.","Preferiblemente administrar varias veces al día pero que siempre lo tengan disponible. La transición a este alñimento debe ser lenta (15 días mínimo) y paulatina. Recomendamos tener a los animales desparasitados y vacunados de Enterotoxemia.","Pienso  destinado a cabras de leche para ser suministrado con paja a voluntad. La paja deberá ser limpia y seca y se administrará ad libitum. Los animales dispondrán de agua limpia y fresca.",11,17,12,3.5,7.5,22,0,0,0,0,0,0,0,0,0,0,0,0,0,0,0,0,0,0,0,0,0,0,0,0,0,0,0,0]
[397,true,"CAPRIKOMPLET PLUS","CAPRINO","LECHE","ORDEÑO","GRANULADO 3,5","PIENSO COMPLEMENTARIO","CABRAS EN ORDEÑO",110,180,100,38,74,210,94,"Pienso complementario  de paja para cabras en ordeño. Los animales dispondrán en todo momento de paja de cereales y algo de forraje y agua limpia y fresca . Puede emplearse racionado o a voluntad. Diseñado especialmente para cabras tipo murciano.","Preferiblemente administrar varias veces al día pero que siempre lo tengan disponible. La transición a este alimento debe ser lenta (15 días mínimo) y paulatina. Recomendamos tener a los animales desparasitados y vacunados de Enterotoxemia.","Pienso  destinado a cabras de leche para ser suministrado con paja a voluntad y algo de forraje (mínimo 300gr al día). La paja deberá ser limpia y seca. Los animales dispondrán de agua limpia y fresca.",11,18,10,3.8,7.4,21,0,0,0,0,0,0,0,0,0,0,0,0,0,0,0,0,0,0,0,0,0,0,0,0,0,0,0,0]
[323,true,"CAPRILAC INT. F 1500","CAPRINO","LECHE","ORDEÑO","MEZCLA F","PIENSO COMPLETO","CABRAS EN ORDEÑO",90,158,182,27,75,160,82,"Mezcla Integral con fibra larga completa destinada a la alimentacion de cabras de ordeño de media-alta producción.","Los animales dispondrán de agua limpia y fresca a libre servicio. Racionar según recomendaciones de los servicios técnicos.","Mezcla Integral con fibra larga completa destinada a la alimentacion de cabras de ordeño de media-alta producción.Los animales dispondrán de agua limpia y fresca a libre servicio. Racionar según recomendaciones de los servicios técnicos.",9,15.8,18.2,2.7,7.5,16,0,0,0,0,0,0,0,0,0,0,0,0,0,0,0,0,0,0,0,0,0,0,0,0,0,0,0,0]
[310,true,"CAPRILAC INT. F 2500","CAPRINO","LECHE","ORDEÑO","MEZCLA F","PIENSO COMPLETO","CABRAS EN ORDEÑO",90,158,175,30,73,195,80,"Mezcla Integral con fibra larga completa destinada a la alimentacion de cabras de ordeño de alta producción.Pienso completo.","Los animales dispondrán de agua limpia y fresca a libre servicio. Racionar según recomendaciones de los servicios técnicos","Mezcla Integral con fibra larga completa destinada a la alimentacion de cabras de ordeño de alta producción.Los animales dispondrán de agua limpia y fresca a libre servicio.",9,15.8,17.5,3,7.3,19.5,0,0,0,0,0,0,0,0,0,0,0,0,0,0,0,0,0,0,0,0,0,0,0,0,0,0,0,0]
[364,true,"CAPRILAC INT. F GESTACION","CAPRINO","LECHE","GESTACION","MEZCLA F","PIENSO COMPLETO","CABRAS EN GESTACION",90,145,170,31,72,220,78,"Mezcla Integral con fibra larga completa destinada a la alimentacion de cabras de alta producción de leche en laq época de preparto (7 semanas antes del parto).Pienso completo.","Los animales dispondrán de agua limpia y fresca a libre servicio. Racionar según recomendaciones de los servicios técnicos","Mezcla Integral con fibra larga completa destinada a la alimentacion de cabras de alta producción de leche en laq época de preparto (7 semanas antes del parto).Los animales dispondrán de agua limpia y fresca a libre servicio.",9,14.5,17,3.1,7.2,22,0,0,0,0,0,0,0,0,0,0,0,0,0,0,0,0,0,0,0,0,0,0,0,0,0,0,0,0]
[327,true,"CAPRILAC INT. F MANTENIMIENTO","CAPRINO","LECHE","ORDEÑO","MEZCLA F","PIENSO COMPLETO","OVEJAS Y CABRAS EN MANTENIMIENTO Y LACTACION",90,158,182,29,82,160,76,"Mezcla Integral con fibra larga completa destinada a la alimentacion de cabras de ordeño en fase de mantenimiento o secado.Pienso completo.","Los animales dispondrán de agua limpia y fresca a libre servicio. Racionar según recomendaciones de los servicios técnicos.","Mezcla Integral con fibra larga completa destinada a la alimentacion de cabras de ordeño en fase de mantenimiento o secado.Los animales dispondrán de agua limpia y fresca a libre servicio. Racionar según recomendaciones de los servicios técnicos.",9,15.8,18.2,2.9,8.1999999999999993,16,0,0,0,0,0,0,0,0,0,0,0,0,0,0,0,0,0,0,0,0,0,0,0,0,0,0,0,0]
[324,true,"CAPRILAC INT. N 1500","CAPRINO","LECHE","ORDEÑO","MEZCLA N","PIENSO COMPLEMENTARIO","CABRAS EN ORDEÑO",90,160,129,35,74,240,86,"Mezcla Integral con fibra larga complementaria de forraje destinada a la alimentacion de cabras de ordeño de media-alta producción.Pienso complementario.","Los animales dispondrán de agua limpia y fresca a libre servicio. Racionar según recomendaciones de los servicios técnicos","Mezcla Integral con fibra larga complementaria de forraje destinada a la alimentacion de cabras de ordeño de media-alta producción.Los animales dispondrán de agua limpia y fresca a libre servicio. Racionar según recomendaciones de los servicios técnicos.",9,16,12.9,3.5,7.4,24,0,0,0,0,0,0,0,0,0,0,0,0,0,0,0,0,0,0,0,0,0,0,0,0,0,0,0,0]
[311,true,"CAPRILAC INT. N 2500","CAPRINO","LECHE","ORDEÑO","MEZCLA N","PIENSO COMPLEMENTARIO","CABRAS EN ORDEÑO",90,152,110,45,69,290,93,"Mezcla Integral con fibra corta  destinada a la alimentacion de cabras de ordeño de media-alta producción.Pienso complementario.","Los animales dispondrán de agua limpia y fresca a libre servicio. Racionar según recomendaciones de los servicios técnicos","Mezcla Integral con fibra corta  destinada a la alimentacion de cabras de ordeño de media-alta producción.Los animales dispondrán de agua limpia y fresca a libre servicio. Racionar según recomendaciones de los servicios técnicos.",9,15.2,11,4.5,6.9,29,0,0,0,0,0,0,0,0,0,0,0,0,0,0,0,0,0,0,0,0,0,0,0,0,0,0,0,0]
[365,true,"CAPRILAC INT. N GESTACION","CAPRINO","LECHE","GESTACION","MEZCLA N","PIENSO COMPLEMENTARIO","CABRAS EN GESTACION",90,145,98,41,74,300,92,"Mezcla Integral con fibra corta completa destinada a la alimentacion de cabras de alta producción de leche en laq época de preparto (7 semanas antes del parto).Pienso complementario.","Los animales dispondrán de agua limpia y fresca a libre servicio. Racionar según recomendaciones de los servicios técnicos","Mezcla Integral con fibra corta completa destinada a la alimentacion de cabras de alta producción de leche en la época de preparto (7 semanas antes del parto).Complementario de forrajes.Los animales dispondrán de agua limpia y fresca a libre servicio.",9,14.5,9.8000000000000007,4.0999999999999996,7.4,30,0,0,0,0,0,0,0,0,0,0,0,0,0,0,0,0,0,0,0,0,0,0,0,0,0,0,0,0]
[320,true,"CAPRILAC INT. N MANTENIMIENTO","CAPRINO","LECHE","ORDEÑO","MEZCLA N","PIENSO COMPLEMENTARIO","OVEJAS Y CABRAS EN MANTENIMIENTO Y LACTACION",90,155,144,28,86,200,75,"Mezcla Integral con fibra larga complementaria de forraje destinada a la alimentacion de cabras en mantenimiento o recuperación de reservas corporales.Pienso complementario.","Los animales dispondrán de agua limpia y fresca a libre servicio. Racionar según recomendaciones de los servicios técnicos.","Mezcla Integral con fibra larga complementaria de forraje destinada a la alimentacion de cabras en mantenimiento o recuperación de reservas corporales.Los animales dispondrán de agua limpia y fresca a libre servicio.",9,15.5,14.4,2.8,8.6,20,0,0,0,0,0,0,0,0,0,0,0,0,0,0,0,0,0,0,0,0,0,0,0,0,0,0,0,0]
[287,true,"CAPRILACTAL","CAPRINO","LECHE","ORDEÑO","GRANULADO 3,5","PIENSO COMPLEMENTARIO","CABRAS EN ORDEÑO",110,175,96,45,97,250,88,"Pienso complementario de cabras destinado a ordeño para animales de media-alta producción. Tambien como puenteo o raciones UNIFEED. Complementario de forrajes","Las dosificaciones deben hacerse atendiendo a la producción y a las caractarísticas de la oveja así como a los forrajes de la ración de base\nAdministrar siempre agua limpia y fresca","Pienso  de cabras destinado a ordeño para animales de media-alta producción. Tambien como puenteo o raciones UNIFEED. Complementario de forrajes.Administrar siempre agua limpia y fresca",11,17.5,9.6,4.5,9.6999999999999993,25,0,0,0,0,0,0,0,0,0,0,0,0,0,0,0,0,0,0,0,0,0,0,0,0,0,0,0,0]
[288,true,"CAPRILACTAL EXTRA","CAPRINO","LECHE","ORDEÑO","GRANULADO 3,5","PIENSO COMPLEMENTARIO","CABRAS EN ORDEÑO",110,197,78,39,100,260,90,"Pienso complementario de cabras destinado a ordeño para animales de media-alta producción. Tambien como puenteo o raciones UNIFEED. Complementario de forrajes","Las dosificaciones deben hacerse atendiendo a la producción y a las caractarísticas de la oveja así como a los forrajes de la ración de base\nAdministrar siempre agua limpia y fresca","Pienso  de cabras destinado a ordeño para animales de media-alta producción. Tambien como puenteo o raciones UNIFEED. Complementario de forrajes.Administrar siempre agua limpia y fresca",11,19.7,7.8,3.9,10,26,0,0,0,0,0,0,0,0,0,0,0,0,0,0,0,0,0,0,0,0,0,0,0,0,0,0,0,0]
[289,true,"CAPRILACTAL SUPER (CAPRILEITE)","CAPRINO","LECHE","ORDEÑO","GRANULADO 3,5","PIENSO COMPLEMENTARIO","CABRAS EN ORDEÑO",110,210,70,30,84,350,93,"Pienso complementario de cabras destinado a ordeño para animales de media-alta producción. Tambien como puenteo o raciones UNIFEED. Complementario de forrajes","Las dosificaciones deben hacerse atendiendo a la producción y a las caractarísticas de la oveja así como a los forrajes de la ración de base. Administrar siempre agua limpia y fresca","Pienso  de cabras destinado a ordeño para animales de media-alta producción. Tambien como puenteo o raciones UNIFEED. Complementario de forrajes.Administrar siempre agua limpia y fresca",11,21,7,3,8.4,35,0,0,0,0,0,0,0,0,0,0,0,0,0,0,0,0,0,0,0,0,0,0,0,0,0,0,0,0]
[322,true,"CAPRILACTAL TOP","CAPRINO","LECHE","ORDEÑO","GRANULADO 3,5","PIENSO COMPLEMENTARIO","CABRAS EN ORDEÑO",110,220,72,35,80,280,96,"Pienso de cabras  lecheras complementario de forraje para suministrar a ovejas de alta producción en ordeño, en pesebre o sala. Racionar según ración de volumen, peso y producción.","Los animales dispondrán en todo momento de agua limpia y fresca a libre servicio. Consultar a los servicios técnicos.","Pienso de cabras  lecheras  para suministrar a ovejas de alta producción.Complementario de forraje.Los animales dispondrán en todo momento de agua limpia y fresca a libre servicio.",11,22,7.2,3.5,8,28,0,0,0,0,0,0,0,0,0,0,0,0,0,0,0,0,0,0,0,0,0,0,0,0,0,0,0,0]
[290,true,"CAPRILACTAL TRIPLEX","CAPRINO","LECHE","ORDEÑO","GRANULADO 3,5","PIENSO COMPLEMENTARIO","CABRAS EN ORDEÑO",110,190,58,113,56,250,112,"Pienso de cabras lecheras complementario de forraje para suministrar a cabras de alta producción en ordeño, en pesebre o sala. Racionar según ración de volumen, peso y producción.","Los animales dispondrán en todo momento de agua limpia y fresca a libre servicio. Consultar a los servicios técnicos.","Pienso  de cabras destinado a ordeño para animales de alta producción. Tambien como puenteo o raciones UNIFEED. Complementario de forrajes.Administrar siempre agua limpia y fresca",11,19,5.8,11.3,5.6,25,0,0,0,0,0,0,0,0,0,0,0,0,0,0,0,0,0,0,0,0,0,0,0,0,0,0,0,0]
[379,true,"CAPRINOLAC","CAPRINO","LECHE","ORDEÑO","GRANULADO 3,5","PIENSO COMPLEMENTARIO","CABRAS EN ORDEÑO",110,175,80,35,73,320,89,"Pienso complementario de cabras destinado a ordeño para animales de alta producción. Tambien como puenteo o raciones UNIFEED. Complementario de forrajes","Las dosificaciones deben hacerse atendiendo a la producción y a las características de la oveja así como a los forrajes de la ración de base\nAdministrar siempre agua limpia y fresca","Pienso  de cabras destinado a ordeño para animales de alta producción. Tambien como puenteo o raciones UNIFEED. Complementario de forrajes.Administrar siempre agua limpia y fresca",11,17.5,8,3.5,7.3,32,0,0,0,0,0,0,0,0,0,0,0,0,0,0,0,0,0,0,0,0,0,0,0,0,0,0,0,0]
[380,true,"CAPRINOLAC TOP","CAPRINO","LECHE","ORDEÑO","GRANULADO 3,5","PIENSO COMPLEMENTARIO","CABRAS EN ORDEÑO",110,221,56,35,69,320,96,"Pienso complementario de cabras destinado a ordeño para animales de alta producción. Tambien como puenteo o raciones UNIFEED. Complementario de forrajes","Las dosificaciones deben hacerse atendiendo a la producción y a las características de la oveja así como a los forrajes de la ración de base\nAdministrar siempre agua limpia y fresca","Pienso  de cabras destinado a ordeño para animales de alta producción. Tambien como puenteo o raciones UNIFEED. Complementario de forrajes.Administrar siempre agua limpia y fresca",11,22.1,5.6,3.5,6.9,32,0,0,0,0,0,0,0,0,0,0,0,0,0,0,0,0,0,0,0,0,0,0,0,0,0,0,0,0]
[285,true,"CAPRIRECRIA","CAPRINO","LECHE","REPOSICION","GRANULADO 3,5","PIENSO COMPLEMENTARIO","CHIVAS DE REPOSICION",110,165,82,35,78,311,89,"Pienso complementario destinados a chivas de reposición desde los 3 a los 6-7 meses. Se puede suministar a voluntad con paja ad libitumn pero es aconsejable el aporte de forrajes","Los animales dispondrán en todo momento de agua limpia y fresca a libre servicio. Consultar a los servicios técnicos.","Pienso destinado a chivas de reposición desde los 3 a los 6-7 meses. Se puede suministar a voluntad con paja ad libitumn pero es aconsejable el aporte de forrajes.Los animales dispondrán en todo momento de agua limpia y fresca a libre servicio.",11,16.5,8.1999999999999993,3.5,7.8,31.1,0,0,0,0,0,0,0,0,0,0,0,0,0,0,0,0,0,0,0,0,0,0,0,0,0,0,0,0]
[286,true,"CAPRIRECRIA CONTINUACION","CAPRINO","LECHE","REPOSICION","GRANULADO 3,5","PIENSO COMPLEMENTARIO","CHIVAS DE REPOSICION",110,160,90,29,81,280,82,"Pienso complementario destinados a chivasde reposición desde los 6-7 meses hasta el primer preparto. Suministrar racionado a razón de 0.7 Kg máximo por día como complementario de forrajes.","Los animales dispondrán en todo momento de agua limpia y fresca a libre servicio.","Pienso destinados a chivasde reposición desde los 6-7 meses hasta el primer preparto. Suministrar racionado a razón de 0.7 Kg máximo por día como complementario de forrajes.Los animales dispondrán en todo momento de agua limpia y fresca a libre servicio.",11,16,9,2.9,8.1,28,0,0,0,0,0,0,0,0,0,0,0,0,0,0,0,0,0,0,0,0,0,0,0,0,0,0,0,0]
[291,true,"CEREGEST","OVINO/CAPRINO","LECHE","GESTACION","GRANULADO 3,5","PIENSO COMPLEMENTARIO","OVEJAS Y CABRAS EN GESTACION",110,143,82,28,65,360,92,"Pienso complementario especial para el preparto de ovejas y cabras de ordeño . Utilizar como complementario de cereales los últimos 45 días de antes del parto.","No se recomienda la utilización de paja en esta fase sobre todo en razas muy lecheras y prolíficas.Los animales dispondrán de agua limpia y fresca a libre disposición.","Pienso  especial para el preparto de ovejas y cabras de ordeño . Utilizar como complementario de cereales los últimos 45 días de antes del parto.Complementario de forrajes. Los animales dispondrán de agua limpia y fresca a libre disposición.",11,14.3,8.1999999999999993,2.8,6.5,36,0,0,0,0,0,0,0,0,0,0,0,0,0,0,0,0,0,0,0,0,0,0,0,0,0,0,0,0]
[343,true,"CEREGEST","OVINO/CAPRINO","LECHE","GESTACION","GRANULADO 3,5","PIENSO COMPLEMENTARIO","OVEJAS Y CABRAS EN GESTACION",110,150,70,27,73,360,91,"Concentrado complementar especialmente desenhado, para a altura de preparto (60-45dias antes do parto), para ovelhas e cabras de leite. Pode ser fornecido tambem com outros cereais.","Não se recomenda a utilização de palha nesta fase, principlmente em raças muito proliferas e produtivas. Sempre com agua fresca e limpa, á disposição. Consulte serviços tecnicos Nanta.","Pienso  especial para el preparto de ovejas y cabras de ordeño . Utilizar como complementario de cereales los últimos 45 días de antes del parto.Complementario de forrajes. Los animales dispondrán de agua limpia y fresca a libre disposición.",11,15,7,2.7,7.3,36,0,0,0,0,0,0,0,0,0,0,0,0,0,0,0,0,0,0,0,0,0,0,0,0,0,0,0,0]
[293,true,"CEREGEST PLUS","OVINO/CAPRINO","LECHE","GESTACION","GRANULADO 3,5","PIENSO COMPLEMENTARIO","OVEJAS Y CABRAS EN GESTACION",110,154,85,30,65,350,91,"Pienso complementario para preparto (últimos 45 dias de gestación) de ovejas y cabras de aptitud lechera. Agua ad lib.Se utilizará como complemeto de ración de volumen, con forrajes de calidad. La paja está desaconsejada en este estadío productivo.","Debe utilizarse un mínimo de 0,7 Kg de alfalfa heno o deshidratada en rama. No sobredosificar , máxime si el estado de carnes de los animales es alto. Utilizar de 0,7 a 1 Kg dependiendo de la raza, la prolificidad y los rendimientos lecheros.","Pienso  especial para el preparto de ovejas y cabras de ordeño . Utilizar como complementario de cereales los últimos 45 días de antes del parto.Complementario de forrajes. Los animales dispondrán de agua limpia y fresca a libre disposición.",11,15.4,8.5,3,6.5,35,0,0,0,0,0,0,0,0,0,0,0,0,0,0,0,0,0,0,0,0,0,0,0,0,0,0,0,0]
[344,true,"CEREGEST PLUS","OVINO/CAPRINO","LECHE","GESTACION","GRANULADO 3,5","PIENSO COMPLEMENTARIO","OVEJAS Y CABRAS EN GESTACION",110,145,93,27,56,340,92,"Concentrado complementar especialmente desenhado, para a altura de preparto (60-45dias antes do parto), para ovelhas e cabras de leite. Pode ser fornecido tambem com outros cereais.","Não se recomenda a utilização de palha nesta fase, principlmente em raças muito proliferas e produtivas. Recomenda-se 0,7kg feno luzerna, e entre 0,7-1kg concentrado. Sempre com agua fresca e limpa, á disposição. Consulte serviços tecnicos Nanta.","Pienso  especial para el preparto de ovejas y cabras de ordeño . Utilizar como complementario de cereales los últimos 45 días de antes del parto.Complementario de forrajes. Los animales dispondrán de agua limpia y fresca a libre disposición.",11,14.5,9.3000000000000007,2.7,5.6,34,0,0,0,0,0,0,0,0,0,0,0,0,0,0,0,0,0,0,0,0,0,0,0,0,0,0,0,0]
[294,true,"CERELACTAL-200","OVINO","LECHE","ORDEÑO","GRANULADO 3,5","PIENSO COMPLEMENTARIO","OVEJAS Y CABRAS EN LACTACION",110,175,80,30,82,270,87,"Pienso complementario de forrajes  destinado a ordeño para animales de media-alta producción. Tambien como puenteo o raciones UNIFEED. Complementario de forrajes","Las dosificaciones deben hacerse atendiendo a la producción y a las caractarísticas de la oveja así como a los forrajes de la ración de base. Administrar siempre agua limpia y fresca.","Pienso destinado a ordeño para animales de media-alta producción. Tambien como puenteo o raciones UNIFEED.Complementario de forrajes. Administrar siempre agua limpia y fresca.",11,17.5,8,3,8.1999999999999993,27,0,0,0,0,0,0,0,0,0,0,0,0,0,0,0,0,0,0,0,0,0,0,0,0,0,0,0,0]
[295,true,"CERELACTAL-300","OVINO","LECHE","ORDEÑO","GRANULADO 3,5","PIENSO COMPLEMENTARIO","OVEJAS Y CABRAS EN LACTACION",110,180,110,48,89,240,95,"Pienso complementario de forrajes  destinado a ordeño para animales de alta producción. Tambien como puenteo o raciones UNIFEED. Complementario de forrajes","Las dosificaciones deben hacerse atendiendo a la producción y a las caractarísticas de la oveja así como a los forrajes de la ración de base.Los animales dispondrán de agua limpia y fresca a libre disposición.","Pienso destinado a ordeño para animales de alta producción. Tambien como puenteo o raciones UNIFEED.Complementario de forrajes. Administrar siempre agua limpia y fresca.",11,18,11,4.8,8.9,24,0,0,0,0,0,0,0,0,0,0,0,0,0,0,0,0,0,0,0,0,0,0,0,0,0,0,0,0]
[342,true,"CERERECRIA","OVINO/CAPRINO","LECHE","REPOSICION","GRANULADO 3,5","PIENSO COMPLEMENTARIO","CORDERAS Y CHIVAS DE REPOSICION",110,165,104,27,74,290,88,"Concentrado complementar para recria de borregas e chibas de substituição, apartir dos 3 meses de vida até 2 meses antes do parto. Sempre com palha/forragem de boa qualidade, e agua fresca e limpa, á disposição.","Concentrado complementar para recria de borregas e chibas de substituição, apartir dos 3 meses de vida até 2 meses antes do parto. Sumnistrar á livre disposição ou restringido dependendo da quantidade e qualidade das forragens disponiveis.","Pienso destinados a corderas y chivas de reposición desde los 3 a los 6-7 meses. Se puede suministar a voluntad con paja ad libitumn pero es aconsejable el aporte de forrajes.Los animales dispondrán en todo momento de agua limpia y fresca.",11,16.5,10.4,2.7,7.4,29,0,0,0,0,0,0,0,0,0,0,0,0,0,0,0,0,0,0,0,0,0,0,0,0,0,0,0,0]
[374,true,"INOGEST","OVINO/CAPRINO","LECHE","GESTACION","GRANULADO 3,5","PIENSO COMPLEMENTARIO","OVEJAS Y CABRAS EN GESTACION",110,143,71,28,67,375,92,"Pienso complementario especial para el preparto de ovejas y cabras de ordeño . Utilizar como complementario de forrajes los últimos 45 días de antes del parto.","No se recomienda la utilización de paja en esta fase sobre todo en razas muy lecheras y prolíficas.Los animales dispondrán de agua limpia y fresca a libre disposición.","Pienso  especial para el preparto de ovejas y cabras de ordeño . Utilizar como complementario de forrajes los últimos 45 días de antes del parto. Los animales dispondrán de agua limpia y fresca a libre disposición.",11,14.3,7.1,2.8,6.7,37.5,0,0,0,0,0,0,0,0,0,0,0,0,0,0,0,0,0,0,0,0,0,0,0,0,0,0,0,0]
[375,true,"INOGEST PLUS","OVINO/CAPRINO","LECHE","GESTACION","GRANULADO 3,5","PIENSO COMPLEMENTARIO","OVEJAS Y CABRAS EN GESTACION",110,143,71,28,65,375,92,"Pienso complementario para preparto (últimos 45 dias de gestación) de ovejas y cabras de aptitud lechera. Agua ad lib.Se utilizará como complemento de ración de volumen, con forrajes de calidad. La paja está desaconsejada en este estadío productivo.","Debe utilizarse un mínimo de 0,7 Kg de alfalfa heno o deshidratada en rama. No sobredosificar , máxime si el estado de carnes de los animales es alto. Utilizar de 0,7 a 1 Kg dependiendo de la raza, la prolificidad y los rendimientos lecheros.","Pienso  especial para el preparto de ovejas y cabras de ordeño . Utilizar los últimos 45 días de antes del parto.Complementario de forrajes. Los animales dispondrán de agua limpia y fresca a libre disposición.",11,14.3,7.1,2.8,6.5,37.5,0,0,0,0,0,0,0,0,0,0,0,0,0,0,0,0,0,0,0,0,0,0,0,0,0,0,0,0]
[372,true,"INOLAC","OVINO/CAPRINO","LECHE","ORDEÑO","GRANULADO 3,5","PIENSO COMPLEMENTARIO","OVEJAS Y CABRAS EN LACTACION",110,170,96,35,76,260,87,"Pienso complementario de forrajes  destinado a ordeño para animales de alta producción.Especialmente diseñado para altas ingestas de concentrado (forrajes de mala calidad o suministro 2 veces día)","Las dosificaciones deben hacerse atendiendo a la producción y a las caractarísticas de la oveja así como a los forrajes de la ración de base. Administrar siempre agua limpia y fresca.","Pienso destinado a ordeño para animales de alta producción según pesdo vivo y nivel productivo. Complementario de forrajes. Administrar siempre agua limpia y fresca.",11,17,9.6,3.5,7.6,26,0,0,0,0,0,0,0,0,0,0,0,0,0,0,0,0,0,0,0,0,0,0,0,0,0,0,0,0]
[376,true,"INOLAC EQ","OVINO/CAPRINO","LECHE","ORDEÑO","GRANULADO 3,5","PIENSO COMPLEMENTARIO","OVEJAS Y CABRAS EN LACTACION",110,195,70,54,68,260,92,"Pienso complementario de ovejas/cabras destinado a ordeño para animales de alta producción. Tambien como puenteo o raciones UNIFEED. Complementario de forrajes.","Las dosificaciones deben hacerse atendiendo a la producción y a las características de la oveja así como a los forrajes de la ración de base Administrar siempre agua limpia y fresca.","Pienso  para animales  destinados a ordeño para animales de alta producción. Tambien como puenteo o raciones UNIFEED.Complementario de forrajes. Administrar siempre agua limpia y fresca.",11,19.5,7,5.4,6.8,26,0,0,0,0,0,0,0,0,0,0,0,0,0,0,0,0,0,0,0,0,0,0,0,0,0,0,0,0]
[373,true,"INOLAC EXTRA","OVINO/CAPRINO","LECHE","ORDEÑO","GRANULADO 3,5","PIENSO COMPLEMENTARIO","OVEJAS Y CABRAS EN LACTACION",110,185,86,40,70,259,93,"Pienso complementario de forrajes  destinado a ordeño para animales de alta exigencia productiva.Especialmente diseñado para altas ingestas de concentrado (forrajes de mala calidad o suministro 2 veces día)","Las dosificaciones deben hacerse atendiendo a la producción y a las caractarísticas de la oveja así como a los forrajes de la ración de base. Administrar siempre agua limpia y fresca.","Pienso destinado a ordeño para animales de alta producción según peso vivo y nivel productivo. Complementario de forrajes. Administrar siempre agua limpia y fresca.",11,18.5,8.6,4,7,25.9,0,0,0,0,0,0,0,0,0,0,0,0,0,0,0,0,0,0,0,0,0,0,0,0,0,0,0,0]
[413,true,"KOMPLET GESTACION","OVINO/CAPRINO","LECHE","GESTACION","GRANULADO 3,5","PIENSO COMPLEMENTARIO","OVEJAS Y CABRAS EN GESTACION",110,175,90,25,83,295,90,"Pienso complementario especial para el preparto de ovejas y cabras de ordeño . Utilizar como complementario de forrajes (incluido paja) los últimos 45 días de antes del parto.","racionar adecuadamente según peso vivo y prolificidad. .Los animales dispondrán de agua limpia y fresca a libre disposición.","Pienso  especial para el preparto de ovejas y cabras de ordeño . Utilizar como complementario de forrajes (incluso paja) los últimos 45 días de antes del parto. Los animales dispondrán de agua limpia y fresca a libre disposición.",11,17.5,9,2.5,8.3000000000000007,29.5,0,0,0,0,0,0,0,0,0,0,0,0,0,0,0,0,0,0,0,0,0,0,0,0,0,0,0,0]
[414,true,"KOMPLET RECRIA","OVINO/CAPRINO","LECHE","REPOSICION","GRANULADO 3,5","PIENSO COMPLEMENTARIO","CORDERAS Y CHIVAS DE REPOSICION",110,170,100,38,74,270,91,"Pienso complementario destinados a corderas y chivas de reposición desde los 3 hasta el preparto. Se puede suministar a voluntad con paja ad libitumn en la primera fase- Despues racionado.  El aporte de forrajes es siempre preferible.","Los animales dispondrán en todo momento de agua limpia y fresca a libre servicio. Consultar a los servicios técnicos.","Pienso destinados a corderas de reposición Se puede suministrar con paja como único forraje Racionar según servicios técnicos.Los animales dispondrán en todo momento de agua limpia y fresca a libre servicio.",11,17,10,3.8,7.4,27,0,0,0,0,0,0,0,0,0,0,0,0,0,0,0,0,0,0,0,0,0,0,0,0,0,0,0,0]
[369,true,"MERILAC INT. N GESTACION","OVINO","LECHE","GESTACION","MEZCLA N","PIENSO COMPLEMENTARIO","OVEJAS EN GESTACION",90,145,90,35,71,300,90,"Mezcla Integral con fibra corta completa destinada a la alimentacion de ovejas de media-alta producción de leche en laq época de preparto (7 semanas antes del parto).Pienso complementario.","Los animales dispondrán de agua limpia y fresca a libre servicio. Racionar según recomendaciones de los servicios técnicos","Mezcla Integral con fibra corta completa destinada a la alimentacion de ovejas de media producción de leche en la época de preparto (7 semanas antes del parto).Complementario de forrajes.Los animales dispondrán de agua limpia y fresca a libre servicio.",9,14.5,9,3.5,7.1,30,0,0,0,0,0,0,0,0,0,0,0,0,0,0,0,0,0,0,0,0,0,0,0,0,0,0,0,0]
[368,true,"MERILAC INTEGRAL F 1000","OVINO","LECHE","ORDEÑO","MEZCLA F","PIENSO COMPLETO","OVEJAS EN ORDEÑO",90,170,155,34,79,108,79,"Mezcla Integral con fibra larga completa destinada a la alimentacion de ovejas de ordeño de media-alta producción.Pienso complementario","Los animales dispondrán de agua limpia y fresca a libre servicio. Racionar según recomendaciones de los servicios técnicos.","Mezcla Integral con fibra larga completa destinada a la alimentacion de ovejas de ordeño de media-alta producción.Los animales dispondrán de agua limpia y fresca a libre servicio. Racionar según recomendaciones de los servicios técnicos",9,17,15.5,3.4,7.9,10.8,0,0,0,0,0,0,0,0,0,0,0,0,0,0,0,0,0,0,0,0,0,0,0,0,0,0,0,0]
[381,true,"NANTACOR","CORDEROS","LECHE","ESTARTER","GRANULADO 3,5","PIENSO COMPLEMENTARIO","CORDEROS Y CHIVOS  ARRANQUE",110,184,35,41,56,420,100,"Pienso complementario para arranque de corderos y cabritos. Desde la primera semana de vida a libre disposición con paja y agua limpia. Se recomienda utilizar hasta una semana tras el destete.","Tambien es posible utilizarlo copmo pienso unico de arranque-crecimiento.Los animales dispondrán en todo momento de agua limpia y fresca a libre servicio. Consultar a los servicios técnicos.","Pienso para arranque de corderos y cabritos. Desde la primera semana de vida a libre disposición con paja y agua limpia. Se recomienda utilizar hasta una semana tras el destete.Tambien es posible utilizarlo copmo pienso unico de arranque-crecimiento.",11,18.399999999999999,3.5,4.0999999999999996,5.6,42,0,0,0,0,0,0,0,0,0,0,0,0,0,0,0,0,0,0,0,0,0,0,0,0,0,0,0,0]
[382,true,"NANTACOR CEBO INTENSIVO","CORDEROS","LECHE","CEBO","GRANULADO 3,5","PIENSO COMPLEMENTARIO","CORDERAS DE REPOSICION",110,176,44,25,61,450,100,"Pienso complementario para cebo de corderos para administrar desde el destete hasta los 3-3.5 meses en corderas de reposición. Siempre con paja a libre disposición y agua limpia.","Tambien es posible utilizarlo como pienso unico de arranque-cebo.Los animales dispondrán en todo momnento de agua limpia y fresca a libre disposición.El pienso puede ir medicado.","Pienso  para  crecimiento de corderas de reposición. Los animales dispondrán de este pienso y paja a voluntad y en todo momento.Los animales dispondrán en todo momento de agua limpia y fresca a libre servicio. Consultar a los servicios técnicos.",11,17.600000000000001,4.4000000000000004,2.5,6.1,45,0,0,0,0,0,0,0,0,0,0,0,0,0,0,0,0,0,0,0,0,0,0,0,0,0,0,0,0]
[300,true,"NANTADIET-50","OVINO","LECHE","ORDEÑO","GRANULADO 3,5","PIENSO COMPLEMENTARIO","OVEJAS Y CABRAS EN LACTACION",110,325,76,30,110,160,88,"Concentrado destinado a ovejas  y cabras de ordeño de alta producción. Es posible mezclar con cereales.Pienso complementario. Complementario de forrajes También en carro mezclador. Siempre como complementario de forrajes","Las dosificaciones deben hacerse atendiendo a la producción y a las caractarísticas de la oveja así como a los forrajes de la ración de base","Concentrado destinado a ovejas  y cabras de ordeño de alta producción. Es posible mezclar con cereales.  Complementario de forrajes También en carro mezclador. Siempre como complementario de forrajes. Agua limpia ad lib.",11,32.5,7.6,3,11,16,0,0,0,0,0,0,0,0,0,0,0,0,0,0,0,0,0,0,0,0,0,0,0,0,0,0,0,0]
[370,true,"OVELEITE 2500","OVINO","LECHE","ORDEÑO","GRANULADO 3,5","PIENSO COMPLEMENTARIO","OVEJAS EN ORDEÑO",110,210,100,42,89,210,92,"Pienso complementario de ovejas destinado a ordeño para animales de media-alta producción. Tambien como puenteo o raciones UNIFEED. Complementario de forrajes","Las dosificaciones deben hacerse atendiendo a la producción y a las caractarísticas de la oveja así como a los forrajes de la ración de base\nAdministrar siempre agua limpia y fresca","Pienso  de ovejas destinado a ordeño para animales de media-alta producción. Tambien como puenteo o raciones UNIFEED. Complementario de forrajes. Administrar siempre agua limpia y fresca.",11,21,10,4.2,8.9,21,0,0,0,0,0,0,0,0,0,0,0,0,0,0,0,0,0,0,0,0,0,0,0,0,0,0,0,0]
[383,true,"OVIKOMPLET","OVINO","LECHE","ORDEÑO","GRANULADO 10","PIENSO COMPLEMENTARIO","OVEJAS EN ORDEÑO",110,180,120,40,80,200,88,"Pienso complementario de paja para ovejas en ordeño. Los animales dispondrán en todo momento de paja de cereales limpia y agua limpia y fresca. Puede emplearse racionado o a voluntad. Consultar cada caso con los servicios técnicos.","Preferiblemente administrar varias veces al día pero que siempre lo tengan disponible.La transición a este alimento debe ser lenta (15 días mínimo) y paulatina. Necesaria vacunacion Enterotoxemia.","Pienso complementario de paja para ovejas en ordeño. Los animales dispondrán en todo momento de paja de cereales limpia y agua limpia y fresca. Puede emplearse racionado o a voluntad.Vigilar estado corporal. Consultar cada caso con los servicios técnicos.",11,18,12,4,8,20,0,0,0,0,0,0,0,0,0,0,0,0,0,0,0,0,0,0,0,0,0,0,0,0,0,0,0,0]
[391,true,"OVIKOMPLET BASIC","OVINO","LECHE","ORDEÑO","GRANULADO 10","PIENSO COMPLEMENTARIO","OVEJAS EN ORDEÑO",110,165,135,30,87,190,81,"Pienso complementario de paja para ovejas en ordeño. Los animales dispondrán en todo momento de paja de cereales limpia y agua limpia y fresca. Puede emplearse racionado. Consultar cada caso con los servicios técnicos.","Preferiblemente administrar varias veces al día pero que siempre lo tengan disponible.La transición a este alimento debe ser lenta (15 días mínimo) y paulatina. Necesaria vacunacion Enterotoxemia.","Pienso complementario de paja para ovejas en ordeño. Los animales dispondrán en todo momento de paja de cereales limpia y agua limpia y fresca. Puede emplearse racionado.Vigilar estado corporal. Consultar cada caso con los servicios técnicos.",11,16.5,13.5,3,8.6999999999999993,19,0,0,0,0,0,0,0,0,0,0,0,0,0,0,0,0,0,0,0,0,0,0,0,0,0,0,0,0]
[396,true,"OVIKOMPLET EQ","OVINO","LECHE","ORDEÑO","GRANULADO 10","PIENSO COMPLEMENTARIO","OVEJAS EN ORDEÑO",110,180,155,40,90,150,86,"Pienso complementario de paja para ovejas en ordeño. Los animales dispondrán en todo momento de paja de cereales limpia y agua limpia y fresca. Puede emplearse racionado o a voluntad. Consultar cada caso con los servicios técnicos.","Preferiblemente administrar varias veces al día pero que siempre lo tengan disponible.La transición a este alimento debe ser lenta (15 días mínimo) y paulatina. Necesaria vacunacion Enterotoxemia.","Pienso complementario de paja para ovejas en ordeño. Los animales dispondrán en todo momento de paja de cereales limpia y agua limpia y fresca. Puede emplearse racionado o a voluntad.Vigilar estado corporal. Consultar cada caso con los servicios técnicos.",11,18,15.5,4,9,15,0,0,0,0,0,0,0,0,0,0,0,0,0,0,0,0,0,0,0,0,0,0,0,0,0,0,0,0]
[420,true,"OVIKOMPLET PLUS","OVINO","LECHE","ORDEÑO","GRANULADO 10","PIENSO COMPLEMENTARIO","OVEJAS EN ORDEÑO",110,185,110,38,81,200,90,"Pienso complementario de paja y forrajes para ovejas en ordeño. Los animales dispondrán en todo momento de paja de cereales limpia y agua limpia y fresca. Puede emplearse racionado o a voluntad. Consultar cada caso con los servicios técnicos.","Preferiblemente administrar varias veces al día pero que siempre lo tengan disponible.La transición a este alimento debe ser lenta (15 días mínimo) y paulatina. Necesaria vacunacion Enterotoxemia.","Pienso complementario de paja y forrajes para ovejas en ordeño. Los animales dispondrán en todo momento de  agua limpia y fresca. Puede emplearse racionado o a voluntad.Vigilar estado corporal. Consultar servicios técnicos",11,18.5,11,3.8,8.1,20,0,0,0,0,0,0,0,0,0,0,0,0,0,0,0,0,0,0,0,0,0,0,0,0,0,0,0,0]
[301,true,"OVILAC 50","OVINO","LECHE","ORDEÑO","GRANULADO 3,5","PIENSO COMPLEMENTARIO","OVEJAS Y CABRAS EN LACTACION",110,230,110,30,110,160,77,"Concentrado destinado a ovejas y cabras de producción lechera. Es posible mezclar con cereales. Pienso complementario. Complementario de forrajes. También en carro mezclador. Siempre como complementario de forrajes","Las dosificaciones deben hacerse atendiendo a la producción y a las caractarísticas de la oveja así como a los forrajes de la ración de base","Concentrado destinado a ovejas  y cabras de ordeño de media-alta producción. Es posible mezclar con cereales.Pienso complementario. Complementario de forrajes También en carro mezclador. Siempre como complementario de forrajes. Agua limpia ad lib.",11,23,11,3,11,16,0,0,0,0,0,0,0,0,0,0,0,0,0,0,0,0,0,0,0,0,0,0,0,0,0,0,0,0]
[305,true,"OVILAC INT. F 1500","OVINO","LECHE","ORDEÑO","MEZCLA F","PIENSO COMPLETO","OVEJAS EN ORDEÑO",90,158,182,27,75,160,82,"Mezcla Integral con fibra larga completa destinada a la alimentacion de ovejas de ordeño de media-alta producción.Pienso complementario","Los animales dispondrán de agua limpia y fresca a libre servicio. Racionar según recomendaciones de los servicios técnicos.","Mezcla Integral con fibra larga completa destinada a la alimentacion de ovejas de ordeño de media-alta producción.Los animales dispondrán de agua limpia y fresca a libre servicio. Racionar según recomendaciones de los servicios técnicos",9,15.8,18.2,2.7,7.5,16,0,0,0,0,0,0,0,0,0,0,0,0,0,0,0,0,0,0,0,0,0,0,0,0,0,0,0,0]
[304,true,"OVILAC INT. F 2500","OVINO","LECHE","ORDEÑO","MEZCLA F","PIENSO COMPLETO","OVEJAS EN ORDEÑO",90,160,176,30,74,170,85,"Mezcla Integral con fibra larga completa destinada a la alimentacion de ovejas de ordeño de alta producción.Pienso completo.","Los animales dispondrán de agua limpia y fresca a libre servicio. Racionar según recomendaciones de los servicios técnicos","Mezcla Integral con fibra larga completa destinada a la alimentacion de ovejas de ordeño de alta producción. Los animales dispondrán de agua limpia y fresca a libre servicio. Racionar según recomendaciones de los servicios técnicos.",9,16,17.600000000000001,3,7.4,17,0,0,0,0,0,0,0,0,0,0,0,0,0,0,0,0,0,0,0,0,0,0,0,0,0,0,0,0]
[306,true,"OVILAC INT. F GESTACION","OVINO","LECHE","GESTACION","MEZCLA F","PIENSO COMPLETO","OVEJAS EN GESTACION",90,147,165,33,73,211,87,"Mezcla Integral con fibra larga completa destinada a la alimentacion de ovejas de alta producción de leche en laq época de preparto (7 semanas antes del parto).Pienso completo.","Los animales dispondrán de agua limpia y fresca a libre servicio. Racionar según recomendaciones de los servicios técnicos","Mezcla Integral con fibra larga completa destinada a la alimentacion de ovejas de alta producción de leche en laq época de preparto (7 semanas antes del parto).Los animales dispondrán de agua limpia y fresca a libre servicio.",9,14.7,16.5,3.3,7.3,21.1,0,0,0,0,0,0,0,0,0,0,0,0,0,0,0,0,0,0,0,0,0,0,0,0,0,0,0,0]
[326,true,"OVILAC INT. F MANTENIMIENTO","OVINO","LECHE","ORDEÑO","MEZCLA F","PIENSO COMPLETO","OVEJAS Y CABRAS EN MANTENIMIENTO Y LACTACION",90,158,182,29,82,160,76,"Mezcla Integral con fibra larga completa destinada a la alimentacion de ovejas de ordeño en fase de mantenimiento o secado.Pienso completo.","Los animales dispondrán de agua limpia y fresca a libre servicio. Racionar según recomendaciones de los servicios técnicos.","Mezcla Integral con fibra larga completa destinada a la alimentacion de ovejas de ordeño en fase de mantenimiento o secado. Los animales dispondrán de agua limpia y fresca a libre servicio. Racionar según recomendaciones de los servicios técnicos.",9,15.8,18.2,2.9,8.1999999999999993,16,0,0,0,0,0,0,0,0,0,0,0,0,0,0,0,0,0,0,0,0,0,0,0,0,0,0,0,0]
[308,true,"OVILAC INT. N 1500","OVINO","LECHE","ORDEÑO","MEZCLA N","PIENSO COMPLEMENTARIO","OVEJAS EN ORDEÑO",90,160,129,35,74,240,86,"Mezcla Integral con fibra corta complementaria de forraje destinada a la alimentacion de ovejas de ordeño de media-alta producción.Pienso complementario.","Los animales dispondrán de agua limpia y fresca a libre servicio. Racionar según recomendaciones de los servicios técnicos","Mezcla Integral con fibra larga complementaria de forraje destinada a la alimentacion de ovejas de ordeño de alta producción.Complementario de forrajes.Los animales dispondrán de agua limpia y fresca a libre servicio.",9,16,12.9,3.5,7.4,24,0,0,0,0,0,0,0,0,0,0,0,0,0,0,0,0,0,0,0,0,0,0,0,0,0,0,0,0]
[307,true,"OVILAC INT. N 2500","OVINO","LECHE","ORDEÑO","MEZCLA N","PIENSO COMPLEMENTARIO","OVEJAS EN ORDEÑO",90,180,111,36,75,222,93,"Mezcla Integral con fibra corta complementaria de forraje destinada a la alimentacion de ovejas de ordeño de alta producción..Pienso complementario.","Los animales dispondrán de agua limpia y fresca a libre servicio. Racionar según recomendaciones de los servicios técnicos","Mezcla Integral con fibra corta complementaria de forraje destinada a la alimentacion de ovejas de ordeño de alta producción.Complementario de forrajes.Los animales dispondrán de agua limpia y fresca a libre servicio.",9,18,11.1,3.6,7.5,22.2,0,0,0,0,0,0,0,0,0,0,0,0,0,0,0,0,0,0,0,0,0,0,0,0,0,0,0,0]
[309,true,"OVILAC INT. N GESTACION","OVINO","LECHE","GESTACION","MEZCLA N","PIENSO COMPLEMENTARIO","OVEJAS Y CABRAS EN GESTACION",90,147,78,28,73,280,90,"Mezcla Integral con fibra corta completa destinada a la alimentacion de ovejas de alta producción de leche en laq época de preparto (7 semanas antes del parto).Pienso complementario.","Los animales dispondrán de agua limpia y fresca a libre servicio. Racionar según recomendaciones de los servicios técnicos","Mezcla Integral con fibra corta completa destinada a la alimentacion de ovejas de alta producción de leche en la época de preparto (7 semanas antes del parto).Complementario de forrajes.Los animales dispondrán de agua limpia y fresca a libre servicio.",9,14.7,7.8,2.8,7.3,28,0,0,0,0,0,0,0,0,0,0,0,0,0,0,0,0,0,0,0,0,0,0,0,0,0,0,0,0]
[319,true,"OVILAC INT. N MANTENIMIENTO","OVINO","LECHE","ORDEÑO","MEZCLA N","PIENSO COMPLEMENTARIO","OVEJAS Y CABRAS EN MANTENIMIENTO Y LACTACION",90,155,144,28,86,200,75,"Mezcla Integral con fibra larga complementaria de forraje destinada a la alimentacion de ovejas en mantenimiento o recuperación de reservas corporales.Pienso complementario.","Los animales dispondrán de agua limpia y fresca a libre servicio. Racionar según recomendaciones de los servicios técnicos","Mezcla Integral con fibra larga complementaria de forraje destinada a la alimentacion de ovejas en mantenimiento o recuperación de reservas corporales.Los animales dispondrán de agua limpia y fresca a libre servicio.",9,15.5,14.4,2.8,8.6,20,0,0,0,0,0,0,0,0,0,0,0,0,0,0,0,0,0,0,0,0,0,0,0,0,0,0,0,0]
[350,true,"OVILACTAL","OVINO","LECHE","ORDEÑO","GRANULADO 3,5","PIENSO COMPLEMENTARIO","OVEJAS EN ORDEÑO",110,180,93,35,66,280,88,"Pienso complementario de ovejas destinado a ordeño para animales de media-alta producción. Tambien como puenteo o raciones UNIFEED. Complementario de forrajes","Las dosificaciones deben hacerse atendiendo a la producción y a las características de la oveja así como a los forrajes de la ración de base Administrar siempre agua limpia y fresca","Pienso  de ovejas destinado a ordeño para animales de media-alta producción. Tambien como puenteo o raciones UNIFEED.Complementario de forrajes. Administrar siempre agua limpia y fresca.",11,18,9.3000000000000007,3.5,6.6,28,0,0,0,0,0,0,0,0,0,0,0,0,0,0,0,0,0,0,0,0,0,0,0,0,0,0,0,0]
[280,true,"OVILACTAL","OVINO","LECHE","ORDEÑO","GRANULADO 3,5","PIENSO COMPLEMENTARIO","OVEJAS EN ORDEÑO",110,180,93,35,66,280,88,"Pienso complementario de ovejas destinado a ordeño para animales de media-alta producción. Tambien como puenteo o raciones UNIFEED. Complementario de forrajes","Las dosificaciones deben hacerse atendiendo a la producción y a las características de la oveja así como a los forrajes de la ración de base Administrar siempre agua limpia y fresca","Pienso  de ovejas destinado a ordeño para animales de media-alta producción. Tambien como puenteo o raciones UNIFEED.Complementario de forrajes. Administrar siempre agua limpia y fresca.",11,18,9.3000000000000007,3.5,6.6,28,0,0,0,0,0,0,0,0,0,0,0,0,0,0,0,0,0,0,0,0,0,0,0,0,0,0,0,0]
[281,true,"OVILACTAL EXTRA","OVINO","LECHE","ORDEÑO","GRANULADO 3,5","PIENSO COMPLEMENTARIO","OVEJAS EN ORDEÑO",110,180,74,35,74,320,90,"Pienso complementario de ovejas destinado a ordeño para animales de media-alta producción. Tambien como puenteo o raciones UNIFEED. Complementario de forrajes","Las dosificaciones deben hacerse atendiendo a la producción y a las caractarísticas de la oveja así como a los forrajes de la ración de base Administrar siempre agua limpia y fresca","Pienso  de ovejas destinado a ordeño para animales de media-alta producción. Tambien como puenteo o raciones UNIFEED.Complementario de forrajes.  Administrar siempre agua limpia y fresca.",11,18,7.4,3.5,7.4,32,0,0,0,0,0,0,0,0,0,0,0,0,0,0,0,0,0,0,0,0,0,0,0,0,0,0,0,0]
[283,true,"OVILACTAL SUPER","OVINO","LECHE","ORDEÑO","GRANULADO 3,5","PIENSO COMPLEMENTARIO","OVEJAS EN ORDEÑO",110,210,70,30,84,350,93,"Pienso complementario de ovejas destinado a ordeño para animales de media-alta producción. Tambien como puenteo o raciones UNIFEED. Complementario de forrajes","Las dosificaciones deben hacerse atendiendo a la producción y a las caractarísticas de la oveja así como a los forrajes de la ración de base\nAdministrar siempre agua limpia y fresca","Pienso  de ovejas destinado a ordeño para animales de media-alta producción. Tambien como puenteo o raciones UNIFEED. Complementario de forrajes. Administrar siempre agua limpia y fresca.",11,21,7,3,8.4,35,0,0,0,0,0,0,0,0,0,0,0,0,0,0,0,0,0,0,0,0,0,0,0,0,0,0,0,0]
[321,true,"OVILACTAL TOP","OVINO","LECHE","ORDEÑO","GRANULADO 3,5","PIENSO COMPLEMENTARIO","OVEJAS EN ORDEÑO",110,210,70,35,74,300,96,"Pienso de ovejas lecheras complementario de forraje para suministrar a ovejas de alta producción en ordeño, en pesebre o sala. Racionar según ración de volumen, peso y producción.","Los animales dispondrán en todo momento de agua limpia y fresca a libre servicio. Consultar a los servicios técnicos.","Pienso de ovejas lecheras para ovejas de alta producción. Complementario de forrajes.Racionar según ración de volumen, peso y producción.Los animales dispondrán en todo momento de agua limpia y fresca a libre servicio.",11,21,7,3.5,7.4,30,0,0,0,0,0,0,0,0,0,0,0,0,0,0,0,0,0,0,0,0,0,0,0,0,0,0,0,0]
[345,true,"OVILACTAL TOP","OVINO","LECHE","ORDEÑO","GRANULADO 3,5","PIENSO COMPLEMENTARIO","OVEJAS EN ORDEÑO",110,230,56,44,96,290,96,"Concentrado complementar, de forragens, para ovelhas em ordenho de media-alta produção. Para utilizar na sala de odenho ou carro unifeed.  Sempre com  agua fresca e limpa, á disposição.","Concentrado complementar para ovelhas em ordenho. Fornecer em função da produção, número de borregos e quantidade e qualidade das forragens disponiveis. Sempre com  agua fresca e limpa, á disposição. Recomenda-se a utilização de Nantarum.","Pienso de ovejas lecheras para ovejas de alta producción. Complementario de forrajes.Racionar según ración de volumen, peso y producción.Los animales dispondrán en todo momento de agua limpia y fresca a libre servicio.",11,23,5.6,4.4000000000000004,9.6,29,0,0,0,0,0,0,0,0,0,0,0,0,0,0,0,0,0,0,0,0,0,0,0,0,0,0,0,0]
[284,true,"OVILACTAL TRIPLEX","OVINO","LECHE","ORDEÑO","GRANULADO 3,5","PIENSO COMPLEMENTARIO","OVEJAS EN ORDEÑO",110,200,87,58,70,240,95,"Pienso de ovejas lecheras complementario de forraje para suministrar a ovejas de alta producción en ordeño, en pesebre o sala. Racionar según ración de volumen, peso y producción.","Los animales dispondrán en todo momento de agua limpia y fresca a libre servicio. Consultar a los servicios técnicos.","Pienso  de ovejas destinado a ordeño para animales de alta producción. Tambien como puenteo o raciones UNIFEED. Complementario de forrajes. Administrar siempre agua limpia y fresca.",11,20,8.6999999999999993,5.8,7,24,0,0,0,0,0,0,0,0,0,0,0,0,0,0,0,0,0,0,0,0,0,0,0,0,0,0,0,0]
[312,true,"OVINANTA 50","OVINO","LECHE","ORDEÑO","GRANULADO 3,5","PIENSO COMPLEMENTARIO","OVEJAS Y CABRAS EN MANTENIMIENTO Y LACTACION",110,210,109,47,146,170,75,"Concentrado destinado a ovejas y cabras de producción lechera. Es posible mezclar con cereales.Pienso complementario. Complementario de forrajes. También en carro mezclador.\nSiempre como complementario de forrajes","Las dosificaciones deben hacerse atendiendo a la producción y a las caractarísticas de la oveja así como a los forrajes de la ración de base","Concentrado destinado a ovejas y cabras de producción lechera. Es posible mezclar con cerealesComplementario de forrajes. También en carro mezclador.Siempre como complementario de forrajes",11,21,10.9,4.7,14.6,17,0,0,0,0,0,0,0,0,0,0,0,0,0,0,0,0,0,0,0,0,0,0,0,0,0,0,0,0]
[377,true,"OVINOLAC","OVINO","LECHE","ORDEÑO","GRANULADO 3,5","PIENSO COMPLEMENTARIO","OVEJAS EN ORDEÑO",110,185,87,35,68,290,87,"Pienso complementario de ovejas destinado a ordeño para animales de alta producción. Tambien como puenteo o raciones UNIFEED. Complementario de forrajes","Las dosificaciones deben hacerse atendiendo a la producción y a las características de la oveja así como a los forrajes de la ración de base Administrar siempre agua limpia y fresca.","Pienso  de ovejas destinado a ordeño para animales de alta producción. Tambien como puenteo o raciones UNIFEED.Complementario de forrajes. Administrar siempre agua limpia y fresca.",11,18.5,8.6999999999999993,3.5,6.8,29,0,0,0,0,0,0,0,0,0,0,0,0,0,0,0,0,0,0,0,0,0,0,0,0,0,0,0,0]
[378,true,"OVINOLAC TOP","OVINO","LECHE","ORDEÑO","GRANULADO 3,5","PIENSO COMPLEMENTARIO","OVEJAS EN ORDEÑO",110,210,65,35,66,310,96,"Pienso complementario de ovejas destinado a ordeño para animales de alta producción. Tambien como puenteo o raciones UNIFEED. Complementario de forrajes","Las dosificaciones deben hacerse atendiendo a la producción y a las características de la oveja así como a los forrajes de la ración de base Administrar siempre agua limpia y fresca.","Pienso  de ovejas destinado a ordeño para animales de alta producción. Tambien como puenteo o raciones UNIFEED.Complementario de forrajes. Administrar siempre agua limpia y fresca.",11,21,6.5,3.5,6.6,31,0,0,0,0,0,0,0,0,0,0,0,0,0,0,0,0,0,0,0,0,0,0,0,0,0,0,0,0]
[278,true,"OVIRECRIA","OVINO","LECHE","REPOSICION","GRANULADO 3,5","PIENSO COMPLEMENTARIO","CORDERAS DE REPOSICION",110,165,82,35,78,311,88,"Pienso complementario destinados a corderas de reposición desde los 3 a los 6-7 meses. Se puede suministar a voluntad con paja ad libitumn pero es aconsejable el aporte de forrajes","Los animales dispondrán en todo momento de agua limpia y fresca a libre servicio. Consultar a los servicios técnicos.","Pienso destinados a corderas de reposición desde los 3 a los 6-7 meses. Se puede suministar a voluntad con paja ad libitumn pero es aconsejable el aporte de forrajes.Los animales dispondrán en todo momento de agua limpia y fresca a libre servicio.",11,16.5,8.1999999999999993,3.5,7.8,31.1,0,0,0,0,0,0,0,0,0,0,0,0,0,0,0,0,0,0,0,0,0,0,0,0,0,0,0,0]
[279,true,"OVIRECRIA CONTINUACION","OVINO","LECHE","REPOSICION","GRANULADO 3,5","PIENSO COMPLEMENTARIO","CORDERAS DE REPOSICION",110,160,90,29,81,280,82,"Pienso complementario destinados a corderas de reposición desde los 6-7 meses hasta el primer preparto. Suministrar racionado a razón de 0.7 Kg máximo por día como complementario de forrajes.","Los animales dispondrán en todo momento de agua limpia y fresca a libre servicio. Consultar a los servicios técnicos.","Pienso destinados a corderas de reposición desde los 6-7 meses hasta el primer preparto. Suministrar racionado a razón de 0.7 Kg máximo por día .Complementario de forrajes. Los animales dispondrán en todo momento de agua limpia y fresca a libre servicio.",11,16,9,2.9,8.1,28,0,0,0,0,0,0,0,0,0,0,0,0,0,0,0,0,0,0,0,0,0,0,0,0,0,0,0,0]
[255,true,"VITACOR BABY","CORDEROS/CABRITOS","CARNE Y LECHE","PRESTARTER","HARINA","PIENSO COMPLEMENTARIO","CORDEROS Y CHIVOS  ARRANQUE",110,187,28,71,78,263,105,"Pienso complementario. Alimento de arranque granulado prestarter para corderos y cabritos . Ideal para animales que se sacrifican de lechales.","A libre disposición desde los primeros días de vida . Paja limpia y fresca a libre servicio.Los animales dispondrán en todo momento de agua limpia y fresca a libre servicio. Consultar a los servicios técnicos.","Alimento de arranque granulado prestarter para corderos y cabritos . Ideal para animales que se sacrifican de lechales. A libre disposición desde los primeros días de vida . Paja limpia y fresca a libre servicio.",11,18.7,2.8,7.1,7.8,26.3,0,0,0,0,0,0,0,0,0,0,0,0,0,0,0,0,0,0,0,0,0,0,0,0,0,0,0,0]
[0,0,0,0,0,0,0,0,0,0,0,0,0,0,0,0,0,0,0,0,0,0,0,0,0,0,0,0,0,0,0,0,0,0,0,0,0,0,0,0,0,0,0,0,0,0,0,0,0,0,0,0,0]
[0,0,0,0,0,0,0,0,0,0,0,0,0,0,0,0,0,0,0,0,0,0,0,0,0,0,0,0,0,0,0,0,0,0,0,0,0,0,0,0,0,0,0,0,0,0,0,0,0,0,0,0,0]
[0,0,0,0,0,0,0,0,0,0,0,0,0,0,0,0,0,0,0,0,0,0,0,0,0,0,0,0,0,0,0,0,0,0,0,0,0,0,0,0,0,0,0,0,0,0,0,0,0,0,0,0,0]
["ESTACION","CuentaDeCuentaDeNº REGISTRO","PromedioDePromedioDeEXTERIOR TEMPERATURA","PromedioDePromedioDeCUADRA TEMPERATURA","DesvEstDePromedioDeCUADRA TEMPERATURA","PromedioDePromedioDeANIMALES TEMPERATURA","DesvEstDePromedioDeANIMALES TEMPERATURA","PromedioDePromedioDeCAMA TEMPERATURA","DesvEstDePromedioDeCAMA TEMPERATURA","PromedioDePromedioDeEXTERIOR HUMEDAD","PromedioDePromedioDeCUADRA HUMEDAD","DesvEstDePromedioDeCUADRA HUMEDAD","PromedioDePromedioDeANIMALES HUMEDAD","DesvEstDePromedioDeANIMALES HUMEDAD","PromedioDePromedioDeCAMA HUMEDAD","DesvEstDePromedioDeCAMA HUMEDAD","PromedioDePromedioDeEXTERIOR VELOCIDAD AIRE","PromedioDePromedioDeCUADRA VELOCIDAD AIRE","DesvEstDePromedioDeCUADRA VELOCIDAD AIRE","PromedioDePromedioDeANIMALES VELOCIDAD AIRE","DesvEstDePromedioDeANIMALES VELOCIDAD AIRE","T AISLAM NAVE","T DENSIDAD","T CAMA","H VENTILACION","H DENSIDAD","H CAMA","CORRIENTES ANIMALES",0,0,0,0,0,0,0,0,0,0,0,0,0,0,0,0,0,0,0,0,0,0,0,0,0]
["INVIERNO",19,183.57894736842101,195.07894736842101,41.651084805765599,194.68421052631601,41.653067956339498,194.894736842105,40.898783922211997,274.23684210526301,315.28947368421098,116.41560078126599,332.23684210526301,116.695516483074,397.81578947368399,96.650747328017701,15.526315789473699,3.3947368421052602,6.9892356667005,1.34210526315789,3.4723216360037301,21.105759364035901,29.4334633589114,28.481780324495801,110.22776265215001,93.550019432888902,113.560786287507,3.8674672504657699,0,0,0,0,0,0,0,0,0,0,0,0,0,0,0,0,0,0,0,0,0,0,0,0,0]
["VERANO",28,287.04761904761898,281.517857142857,39.125926783635897,283.41071428571399,39.174151691999,273.46428571428601,61.535502100921001,254.38095238095201,274.58928571428601,104.334619979276,295.56547619047598,107.629741205421,346.267857142857,114.13863618484,16.244047619047599,3.61904761904762,4.1103245350770896,1.7083333333333299,2.9015481180710201,31.258982081878401,26.096906184399302,50.037351470644701,87.180067318826303,90.024152177128002,115.388711996054,3.36858368264972,0,0,0,0,0,0,0,0,0,0,0,0,0,0,0,0,0,0,0,0,0,0,0,0,0]
[0,0,0,0,0,0,0,0,0,0,0,0,0,0,0,0,0,0,0,0,0,0,0,0,0,0,0,0,0,0,0,0,0,0,0,0,0,0,0,0,0,0,0,0,0,0,0,0,0,0,0,0,0]
[0,0,0,0,0,0,0,0,0,0,0,0,0,0,0,0,0,0,0,0,0,0,0,0,0,0,0,0,0,0,0,0,0,0,0,0,0,0,0,0,0,0,0,0,0,0,0,0,0,0,0,0,0]
[0,0,0,0,0,0,0,0,0,0,0,0,0,0,0,0,0,0,0,0,0,0,0,0,0,0,0,0,0,0,0,0,0,0,0,0,0,0,0,0,0,0,0,0,0,0,0,0,0,0,0,0,0]
[0,0,0,0,0,0,0,0,0,0,0,0,0,0,0,0,0,0,0,0,0,0,0,0,0,0,0,0,0,0,0,0,0,0,0,0,0,0,0,0,0,0,0,0,0,0,0,0,0,0,0,0,0]
[0,0,0,0,0,0,0,0,0,0,0,0,0,0,0,0,0,0,0,0,0,0,0,0,0,0,0,0,0,0,0,0,0,0,0,0,0,0,0,0,0,0,0,0,0,0,0,0,0,0,0,0,0]
[0,0,0,0,0,0,0,0,0,0,0,0,0,0,0,0,0,0,0,0,0,0,0,0,0,0,0,0,0,0,0,0,0,0,0,0,0,0,0,0,0,0,0,0,0,0,0,0,0,0,0,0,0]
[0,0,0,0,0,0,0,0,0,0,0,0,0,0,0,0,0,0,0,0,0,0,0,0,0,0,0,0,0,0,0,0,0,0,0,0,0,0,0,0,0,0,0,0,0,0,0,0,0,0,0,0,0]
[0,0,0,0,0,0,0,0,0,0,0,0,0,0,0,0,0,0,0,0,0,0,0,0,0,0,0,0,0,0,0,0,0,0,0,0,0,0,0,0,0,0,0,0,0,0,0,0,0,0,0,0,0]
[0,0,0,0,0,0,0,0,0,0,0,0,0,0,0,0,0,0,0,0,0,0,0,0,0,0,0,0,0,0,0,0,0,0,0,0,0,0,0,0,0,0,0,0,0,0,0,0,0,0,0,0,0]
[0,0,0,0,0,0,0,0,0,0,0,0,0,0,0,0,0,0,0,0,0,0,0,0,0,0,0,0,0,0,0,0,0,0,0,0,0,0,0,0,0,0,0,0,0,0,0,0,0,0,0,0,0]
[0,0,0,0,0,0,0,0,0,0,0,0,0,0,0,0,0,0,0,0,0,0,0,0,0,0,0,0,0,0,0,0,0,0,0,0,0,0,0,0,0,0,0,0,0,0,0,0,0,0,0,0,0]
[0,0,0,0,0,0,0,0,0,0,0,0,0,0,0,0,0,0,0,0,0,0,0,0,0,0,0,0,0,0,0,0,0,0,0,0,0,0,0,0,0,0,0,0,0,0,0,0,0,0,0,0,0]
[0,0,0,0,0,0,0,0,0,0,0,0,0,0,0,0,0,0,0,0,0,0,0,0,0,0,0,0,0,0,0,0,0,0,0,0,0,0,0,0,0,0,0,0,0,0,0,0,0,0,0,0,0]
[0,0,0,0,0,0,0,0,0,0,0,0,0,0,0,0,0,0,0,0,0,0,0,0,0,0,0,0,0,0,0,0,0,0,0,0,0,0,0,0,0,0,0,0,0,0,0,0,0,0,0,0,0]
[0,0,0,0,0,0,0,0,0,0,0,0,0,0,0,0,0,0,0,0,0,0,0,0,0,0,0,0,0,0,0,0,0,0,0,0,0,0,0,0,0,0,0,0,0,0,0,0,0,0,0,0,0]
[0,0,0,0,0,0,0,0,0,0,0,0,0,0,0,0,0,0,0,0,0,0,0,0,0,0,0,0,0,0,0,0,0,0,0,0,0,0,0,0,0,0,0,0,0,0,0,0,0,0,0,0,0]
[0,0,0,0,0,0,0,0,0,0,0,0,0,0,0,0,0,0,0,0,0,0,0,0,0,0,0,0,0,0,0,0,0,0,0,0,0,0,0,0,0,0,0,0,0,0,0,0,0,0,0,0,0]
[0,0,0,0,0,0,0,0,0,0,0,0,0,0,0,0,0,0,0,0,0,0,0,0,0,0,0,0,0,0,0,0,0,0,0,0,0,0,0,0,0,0,0,0,0,0,0,0,0,0,0,0,0]
[0,0,0,0,0,0,0,0,0,0,0,0,0,0,0,0,0,0,0,0,0,0,0,0,0,0,0,0,0,0,0,0,0,0,0,0,0,0,0,0,0,0,0,0,0,0,0,0,0,0,0,0,0]
[0,0,0,0,0,0,0,0,0,0,0,0,0,0,0,0,0,0,0,0,0,0,0,0,0,0,0,0,0,0,0,0,0,0,0,0,0,0,0,0,0,0,0,0,0,0,0,0,0,0,0,0,0]
[0,0,0,0,0,0,0,0,0,0,0,0,0,0,0,0,0,0,0,0,0,0,0,0,0,0,0,0,0,0,0,0,0,0,0,0,0,0,0,0,0,0,0,0,0,0,0,0,0,0,0,0,0]
[0,0,0,0,0,0,0,0,0,0,0,0,0,0,0,0,0,0,0,0,0,0,0,0,0,0,0,0,0,0,0,0,0,0,0,0,0,0,0,0,0,0,0,0,0,0,0,0,0,0,0,0,0]
[0,0,0,0,0,0,0,0,0,0,0,0,0,0,0,0,0,0,0,0,0,0,0,0,0,0,0,0,0,0,0,0,0,0,0,0,0,0,0,0,0,0,0,0,0,0,0,0,0,0,0,0,0]
[0,0,0,0,0,0,0,0,0,0,0,0,0,0,0,0,0,0,0,0,0,0,0,0,0,0,0,0,0,0,0,0,0,0,0,0,0,0,0,0,0,0,0,0,0,0,0,0,0,0,0,0,0]
[0,0,0,0,0,0,0,0,0,0,0,0,0,0,0,0,0,0,0,0,0,0,0,0,0,0,0,0,0,0,0,0,0,0,0,0,0,0,0,0,0,0,0,0,0,0,0,0,0,0,0,0,0]
[0,0,0,0,0,0,0,0,0,0,0,0,0,0,0,0,0,0,0,0,0,0,0,0,0,0,0,0,0,0,0,0,0,0,0,0,0,0,0,0,0,0,0,0,0,0,0,0,0,0,0,0,0]
[0,0,0,0,0,0,0,0,0,0,0,0,0,0,0,0,0,0,0,0,0,0,0,0,0,0,0,0,0,0,0,0,0,0,0,0,0,0,0,0,0,0,0,0,0,0,0,0,0,0,0,0,0]
[0,0,0,0,0,0,0,0,0,0,0,0,0,0,0,0,0,0,0,0,0,0,0,0,0,0,0,0,0,0,0,0,0,0,0,0,0,0,0,0,0,0,0,0,0,0,0,0,0,0,0,0,0]
[0,0,0,0,0,0,0,0,0,0,0,0,0,0,0,0,0,0,0,0,0,0,0,0,0,0,0,0,0,0,0,0,0,0,0,0,0,0,0,0,0,0,0,0,0,0,0,0,0,0,0,0,0]
[0,0,0,0,0,0,0,0,0,0,0,0,0,0,0,0,0,0,0,0,0,0,0,0,0,0,0,0,0,0,0,0,0,0,0,0,0,0,0,0,0,0,0,0,0,0,0,0,0,0,0,0,0]
[0,0,0,0,0,0,0,0,0,0,0,0,0,0,0,0,0,0,0,0,0,0,0,0,0,0,0,0,0,0,0,0,0,0,0,0,0,0,0,0,0,0,0,0,0,0,0,0,0,0,0,0,0]
[0,0,0,0,0,0,0,0,0,0,0,0,0,0,0,0,0,0,0,0,0,0,0,0,0,0,0,0,0,0,0,0,0,0,0,0,0,0,0,0,0,0,0,0,0,0,0,0,0,0,0,0,0]
[0,0,0,0,0,0,0,0,0,0,0,0,0,0,0,0,0,0,0,0,0,0,0,0,0,0,0,0,0,0,0,0,0,0,0,0,0,0,0,0,0,0,0,0,0,0,0,0,0,0,0,0,0]
[0,0,0,0,0,0,0,0,0,0,0,0,0,0,0,0,0,0,0,0,0,0,0,0,0,0,0,0,0,0,0,0,0,0,0,0,0,0,0,0,0,0,0,0,0,0,0,0,0,0,0,0,0]
[0,0,0,0,0,0,0,0,0,0,0,0,0,0,0,0,0,0,0,0,0,0,0,0,0,0,0,0,0,0,0,0,0,0,0,0,0,0,0,0,0,0,0,0,0,0,0,0,0,0,0,0,0]
[0,0,0,0,0,0,0,0,0,0,0,0,0,0,0,0,0,0,0,0,0,0,0,0,0,0,0,0,0,0,0,0,0,0,0,0,0,0,0,0,0,0,0,0,0,0,0,0,0,0,0,0,0]
[0,0,0,0,0,0,0,0,0,0,0,0,0,0,0,0,0,0,0,0,0,0,0,0,0,0,0,0,0,0,0,0,0,0,0,0,0,0,0,0,0,0,0,0,0,0,0,0,0,0,0,0,0]
[0,0,0,0,0,0,0,0,0,0,0,0,0,0,0,0,0,0,0,0,0,0,0,0,0,0,0,0,0,0,0,0,0,0,0,0,0,0,0,0,0,0,0,0,0,0,0,0,0,0,0,0,0]
[0,0,0,0,0,0,0,0,0,0,0,0,0,0,0,0,0,0,0,0,0,0,0,0,0,0,0,0,0,0,0,0,0,0,0,0,0,0,0,0,0,0,0,0,0,0,0,0,0,0,0,0,0]
[0,0,0,0,0,0,0,0,0,0,0,0,0,0,0,0,0,0,0,0,0,0,0,0,0,0,0,0,0,0,0,0,0,0,0,0,0,0,0,0,0,0,0,0,0,0,0,0,0,0,0,0,0]
[0,0,0,0,0,0,0,0,0,0,0,0,0,0,0,0,0,0,0,0,0,0,0,0,0,0,0,0,0,0,0,0,0,0,0,0,0,0,0,0,0,0,0,0,0,0,0,0,0,0,0,0,0]
[0,0,0,0,0,0,0,0,0,0,0,0,0,0,0,0,0,0,0,0,0,0,0,0,0,0,0,0,0,0,0,0,0,0,0,0,0,0,0,0,0,0,0,0,0,0,0,0,0,0,0,0,0]
[0,0,0,0,0,0,0,0,0,0,0,0,0,0,0,0,0,0,0,0,0,0,0,0,0,0,0,0,0,0,0,0,0,0,0,0,0,0,0,0,0,0,0,0,0,0,0,0,0,0,0,0,0]
[0,0,0,0,0,0,0,0,0,0,0,0,0,0,0,0,0,0,0,0,0,0,0,0,0,0,0,0,0,0,0,0,0,0,0,0,0,0,0,0,0,0,0,0,0,0,0,0,0,0,0,0,0]
[0,0,0,0,0,0,0,0,0,0,0,0,0,0,0,0,0,0,0,0,0,0,0,0,0,0,0,0,0,0,0,0,0,0,0,0,0,0,0,0,0,0,0,0,0,0,0,0,0,0,0,0,0]
[0,0,0,0,0,0,0,0,0,0,0,0,0,0,0,0,0,0,0,0,0,0,0,0,0,0,0,0,0,0,0,0,0,0,0,0,0,0,0,0,0,0,0,0,0,0,0,0,0,0,0,0,0]
[0,0,0,0,0,0,0,0,0,0,0,0,0,0,0,0,0,0,0,0,0,0,0,0,0,0,0,0,0,0,0,0,0,0,0,0,0,0,0,0,0,0,0,0,0,0,0,0,0,0,0,0,0]
[0,0,0,0,0,0,0,0,0,0,0,0,0,0,0,0,0,0,0,0,0,0,0,0,0,0,0,0,0,0,0,0,0,0,0,0,0,0,0,0,0,0,0,0,0,0,0,0,0,0,0,0,0]
[0,0,0,0,0,0,0,0,0,0,0,0,0,0,0,0,0,0,0,0,0,0,0,0,0,0,0,0,0,0,0,0,0,0,0,0,0,0,0,0,0,0,0,0,0,0,0,0,0,0,0,0,0]
[0,0,0,0,0,0,0,0,0,0,0,0,0,0,0,0,0,0,0,0,0,0,0,0,0,0,0,0,0,0,0,0,0,0,0,0,0,0,0,0,0,0,0,0,0,0,0,0,0,0,0,0,0]
[0,0,0,0,0,0,0,0,0,0,0,0,0,0,0,0,0,0,0,0,0,0,0,0,0,0,0,0,0,0,0,0,0,0,0,0,0,0,0,0,0,0,0,0,0,0,0,0,0,0,0,0,0]
[0,0,0,0,0,0,0,0,0,0,0,0,0,0,0,0,0,0,0,0,0,0,0,0,0,0,0,0,0,0,0,0,0,0,0,0,0,0,0,0,0,0,0,0,0,0,0,0,0,0,0,0,0]
[0,0,0,0,0,0,0,0,0,0,0,0,0,0,0,0,0,0,0,0,0,0,0,0,0,0,0,0,0,0,0,0,0,0,0,0,0,0,0,0,0,0,0,0,0,0,0,0,0,0,0,0,0]
[0,0,0,0,0,0,0,0,0,0,0,0,0,0,0,0,0,0,0,0,0,0,0,0,0,0,0,0,0,0,0,0,0,0,0,0,0,0,0,0,0,0,0,0,0,0,0,0,0,0,0,0,0]
[0,0,0,0,0,0,0,0,0,0,0,0,0,0,0,0,0,0,0,0,0,0,0,0,0,0,0,0,0,0,0,0,0,0,0,0,0,0,0,0,0,0,0,0,0,0,0,0,0,0,0,0,0]
[0,0,0,0,0,0,0,0,0,0,0,0,0,0,0,0,0,0,0,0,0,0,0,0,0,0,0,0,0,0,0,0,0,0,0,0,0,0,0,0,0,0,0,0,0,0,0,0,0,0,0,0,0]
[0,0,0,0,0,0,0,0,0,0,0,0,0,0,0,0,0,0,0,0,0,0,0,0,0,0,0,0,0,0,0,0,0,0,0,0,0,0,0,0,0,0,0,0,0,0,0,0,0,0,0,0,0]
[0,0,0,0,0,0,0,0,0,0,0,0,0,0,0,0,0,0,0,0,0,0,0,0,0,0,0,0,0,0,0,0,0,0,0,0,0,0,0,0,0,0,0,0,0,0,0,0,0,0,0,0,0]
[0,0,0,0,0,0,0,0,0,0,0,0,0,0,0,0,0,0,0,0,0,0,0,0,0,0,0,0,0,0,0,0,0,0,0,0,0,0,0,0,0,0,0,0,0,0,0,0,0,0,0,0,0]
[0,0,0,0,0,0,0,0,0,0,0,0,0,0,0,0,0,0,0,0,0,0,0,0,0,0,0,0,0,0,0,0,0,0,0,0,0,0,0,0,0,0,0,0,0,0,0,0,0,0,0,0,0]
[0,0,0,0,0,0,0,0,0,0,0,0,0,0,0,0,0,0,0,0,0,0,0,0,0,0,0,0,0,0,0,0,0,0,0,0,0,0,0,0,0,0,0,0,0,0,0,0,0,0,0,0,0]
[0,0,0,0,0,0,0,0,0,0,0,0,0,0,0,0,0,0,0,0,0,0,0,0,0,0,0,0,0,0,0,0,0,0,0,0,0,0,0,0,0,0,0,0,0,0,0,0,0,0,0,0,0]
[0,0,0,0,0,0,0,0,0,0,0,0,0,0,0,0,0,0,0,0,0,0,0,0,0,0,0,0,0,0,0,0,0,0,0,0,0,0,0,0,0,0,0,0,0,0,0,0,0,0,0,0,0]
[0,0,0,0,0,0,0,0,0,0,0,0,0,0,0,0,0,0,0,0,0,0,0,0,0,0,0,0,0,0,0,0,0,0,0,0,0,0,0,0,0,0,0,0,0,0,0,0,0,0,0,0,0]
[0,0,0,0,0,0,0,0,0,0,0,0,0,0,0,0,0,0,0,0,0,0,0,0,0,0,0,0,0,0,0,0,0,0,0,0,0,0,0,0,0,0,0,0,0,0,0,0,0,0,0,0,0]
[0,0,0,0,0,0,0,0,0,0,0,0,0,0,0,0,0,0,0,0,0,0,0,0,0,0,0,0,0,0,0,0,0,0,0,0,0,0,0,0,0,0,0,0,0,0,0,0,0,0,0,0,0]
[0,0,0,0,0,0,0,0,0,0,0,0,0,0,0,0,0,0,0,0,0,0,0,0,0,0,0,0,0,0,0,0,0,0,0,0,0,0,0,0,0,0,0,0,0,0,0,0,0,0,0,0,0]
[0,0,0,0,0,0,0,0,0,0,0,0,0,0,0,0,0,0,0,0,0,0,0,0,0,0,0,0,0,0,0,0,0,0,0,0,0,0,0,0,0,0,0,0,0,0,0,0,0,0,0,0,0]
[0,0,0,0,0,0,0,0,0,0,0,0,0,0,0,0,0,0,0,0,0,0,0,0,0,0,0,0,0,0,0,0,0,0,0,0,0,0,0,0,0,0,0,0,0,0,0,0,0,0,0,0,0]
[0,0,0,0,0,0,0,0,0,0,0,0,0,0,0,0,0,0,0,0,0,0,0,0,0,0,0,0,0,0,0,0,0,0,0,0,0,0,0,0,0,0,0,0,0,0,0,0,0,0,0,0,0]
[0,0,0,0,0,0,0,0,0,0,0,0,0,0,0,0,0,0,0,0,0,0,0,0,0,0,0,0,0,0,0,0,0,0,0,0,0,0,0,0,0,0,0,0,0,0,0,0,0,0,0,0,0]
[0,0,0,0,0,0,0,0,0,0,0,0,0,0,0,0,0,0,0,0,0,0,0,0,0,0,0,0,0,0,0,0,0,0,0,0,0,0,0,0,0,0,0,0,0,0,0,0,0,0,0,0,0]
[0,0,0,0,0,0,0,0,0,0,0,0,0,0,0,0,0,0,0,0,0,0,0,0,0,0,0,0,0,0,0,0,0,0,0,0,0,0,0,0,0,0,0,0,0,0,0,0,0,0,0,0,0]
[0,0,0,0,0,0,0,0,0,0,0,0,0,0,0,0,0,0,0,0,0,0,0,0,0,0,0,0,0,0,0,0,0,0,0,0,0,0,0,0,0,0,0,0,0,0,0,0,0,0,0,0,0]
[0,0,0,0,0,0,0,0,0,0,0,0,0,0,0,0,0,0,0,0,0,0,0,0,0,0,0,0,0,0,0,0,0,0,0,0,0,0,0,0,0,0,0,0,0,0,0,0,0,0,0,0,0]
[0,0,0,0,0,0,0,0,0,0,0,0,0,0,0,0,0,0,0,0,0,0,0,0,0,0,0,0,0,0,0,0,0,0,0,0,0,0,0,0,0,0,0,0,0,0,0,0,0,0,0,0,0]
[0,0,0,0,0,0,0,0,0,0,0,0,0,0,0,0,0,0,0,0,0,0,0,0,0,0,0,0,0,0,0,0,0,0,0,0,0,0,0,0,0,0,0,0,0,0,0,0,0,0,0,0,0]
[0,0,0,0,0,0,0,0,0,0,0,0,0,0,0,0,0,0,0,0,0,0,0,0,0,0,0,0,0,0,0,0,0,0,0,0,0,0,0,0,0,0,0,0,0,0,0,0,0,0,0,0,0]
[0,0,0,0,0,0,0,0,0,0,0,0,0,0,0,0,0,0,0,0,0,0,0,0,0,0,0,0,0,0,0,0,0,0,0,0,0,0,0,0,0,0,0,0,0,0,0,0,0,0,0,0,0]
[0,0,0,0,0,0,0,0,0,0,0,0,0,0,0,0,0,0,0,0,0,0,0,0,0,0,0,0,0,0,0,0,0,0,0,0,0,0,0,0,0,0,0,0,0,0,0,0,0,0,0,0,0]
[0,0,0,0,0,0,0,0,0,0,0,0,0,0,0,0,0,0,0,0,0,0,0,0,0,0,0,0,0,0,0,0,0,0,0,0,0,0,0,0,0,0,0,0,0,0,0,0,0,0,0,0,0]
[0,0,0,0,0,0,0,0,0,0,0,0,0,0,0,0,0,0,0,0,0,0,0,0,0,0,0,0,0,0,0,0,0,0,0,0,0,0,0,0,0,0,0,0,0,0,0,0,0,0,0,0,0]
[0,0,0,0,0,0,0,0,0,0,0,0,0,0,0,0,0,0,0,0,0,0,0,0,0,0,0,0,0,0,0,0,0,0,0,0,0,0,0,0,0,0,0,0,0,0,0,0,0,0,0,0,0]
[0,0,0,0,0,0,0,0,0,0,0,0,0,0,0,0,0,0,0,0,0,0,0,0,0,0,0,0,0,0,0,0,0,0,0,0,0,0,0,0,0,0,0,0,0,0,0,0,0,0,0,0,0]
[0,0,0,0,0,0,0,0,0,0,0,0,0,0,0,0,0,0,0,0,0,0,0,0,0,0,0,0,0,0,0,0,0,0,0,0,0,0,0,0,0,0,0,0,0,0,0,0,0,0,0,0,0]
[0,0,0,0,0,0,0,0,0,0,0,0,0,0,0,0,0,0,0,0,0,0,0,0,0,0,0,0,0,0,0,0,0,0,0,0,0,0,0,0,0,0,0,0,0,0,0,0,0,0,0,0,0]
[0,0,0,0,0,0,0,0,0,0,0,0,0,0,0,0,0,0,0,0,0,0,0,0,0,0,0,0,0,0,0,0,0,0,0,0,0,0,0,0,0,0,0,0,0,0,0,0,0,0,0,0,0]
[0,0,0,0,0,0,0,0,0,0,0,0,0,0,0,0,0,0,0,0,0,0,0,0,0,0,0,0,0,0,0,0,0,0,0,0,0,0,0,0,0,0,0,0,0,0,0,0,0,0,0,0,0]
[0,0,0,0,0,0,0,0,0,0,0,0,0,0,0,0,0,0,0,0,0,0,0,0,0,0,0,0,0,0,0,0,0,0,0,0,0,0,0,0,0,0,0,0,0,0,0,0,0,0,0,0,0]
[0,0,0,0,0,0,0,0,0,0,0,0,0,0,0,0,0,0,0,0,0,0,0,0,0,0,0,0,0,0,0,0,0,0,0,0,0,0,0,0,0,0,0,0,0,0,0,0,0,0,0,0,0]
[0,0,0,0,0,0,0,0,0,0,0,0,0,0,0,0,0,0,0,0,0,0,0,0,0,0,0,0,0,0,0,0,0,0,0,0,0,0,0,0,0,0,0,0,0,0,0,0,0,0,0,0,0]
[0,0,0,0,0,0,0,0,0,0,0,0,0,0,0,0,0,0,0,0,0,0,0,0,0,0,0,0,0,0,0,0,0,0,0,0,0,0,0,0,0,0,0,0,0,0,0,0,0,0,0,0,0]
[0,0,0,0,0,0,0,0,0,0,0,0,0,0,0,0,0,0,0,0,0,0,0,0,0,0,0,0,0,0,0,0,0,0,0,0,0,0,0,0,0,0,0,0,0,0,0,0,0,0,0,0,0]
[0,0,0,0,0,0,0,0,0,0,0,0,0,0,0,0,0,0,0,0,0,0,0,0,0,0,0,0,0,0,0,0,0,0,0,0,0,0,0,0,0,0,0,0,0,0,0,0,0,0,0,0,0]
[0,0,0,0,0,0,0,0,0,0,0,0,0,0,0,0,0,0,0,0,0,0,0,0,0,0,0,0,0,0,0,0,0,0,0,0,0,0,0,0,0,0,0,0,0,0,0,0,0,0,0,0,0]
[0,0,0,0,0,0,0,0,0,0,0,0,0,0,0,0,0,0,0,0,0,0,0,0,0,0,0,0,0,0,0,0,0,0,0,0,0,0,0,0,0,0,0,0,0,0,0,0,0,0,0,0,0]
[0,0,0,0,0,0,0,0,0,0,0,0,0,0,0,0,0,0,0,0,0,0,0,0,0,0,0,0,0,0,0,0,0,0,0,0,0,0,0,0,0,0,0,0,0,0,0,0,0,0,0,0,0]
[0,0,0,0,0,0,0,0,0,0,0,0,0,0,0,0,0,0,0,0,0,0,0,0,0,0,0,0,0,0,0,0,0,0,0,0,0,0,0,0,0,0,0,0,0,0,0,0,0,0,0,0,0]
[0,0,0,0,0,0,0,0,0,0,0,0,0,0,0,0,0,0,0,0,0,0,0,0,0,0,0,0,0,0,0,0,0,0,0,0,0,0,0,0,0,0,0,0,0,0,0,0,0,0,0,0,0]
[0,0,0,0,0,0,0,0,0,0,0,0,0,0,0,0,0,0,0,0,0,0,0,0,0,0,0,0,0,0,0,0,0,0,0,0,0,0,0,0,0,0,0,0,0,0,0,0,0,0,0,0,0]
[0,0,0,0,0,0,0,0,0,0,0,0,0,0,0,0,0,0,0,0,0,0,0,0,0,0,0,0,0,0,0,0,0,0,0,0,0,0,0,0,0,0,0,0,0,0,0,0,0,0,0,0,0]
[0,0,0,0,0,0,0,0,0,0,0,0,0,0,0,0,0,0,0,0,0,0,0,0,0,0,0,0,0,0,0,0,0,0,0,0,0,0,0,0,0,0,0,0,0,0,0,0,0,0,0,0,0]
[0,0,0,0,0,0,0,0,0,0,0,0,0,0,0,0,0,0,0,0,0,0,0,0,0,0,0,0,0,0,0,0,0,0,0,0,0,0,0,0,0,0,0,0,0,0,0,0,0,0,0,0,0]
[0,0,0,0,0,0,0,0,0,0,0,0,0,0,0,0,0,0,0,0,0,0,0,0,0,0,0,0,0,0,0,0,0,0,0,0,0,0,0,0,0,0,0,0,0,0,0,0,0,0,0,0,0]
[0,0,0,0,0,0,0,0,0,0,0,0,0,0,0,0,0,0,0,0,0,0,0,0,0,0,0,0,0,0,0,0,0,0,0,0,0,0,0,0,0,0,0,0,0,0,0,0,0,0,0,0,0]
[0,0,0,0,0,0,0,0,0,0,0,0,0,0,0,0,0,0,0,0,0,0,0,0,0,0,0,0,0,0,0,0,0,0,0,0,0,0,0,0,0,0,0,0,0,0,0,0,0,0,0,0,0]
[0,0,0,0,0,0,0,0,0,0,0,0,0,0,0,0,0,0,0,0,0,0,0,0,0,0,0,0,0,0,0,0,0,0,0,0,0,0,0,0,0,0,0,0,0,0,0,0,0,0,0,0,0]
[0,0,0,0,0,0,0,0,0,0,0,0,0,0,0,0,0,0,0,0,0,0,0,0,0,0,0,0,0,0,0,0,0,0,0,0,0,0,0,0,0,0,0,0,0,0,0,0,0,0,0,0,0]
[0,0,0,0,0,0,0,0,0,0,0,0,0,0,0,0,0,0,0,0,0,0,0,0,0,0,0,0,0,0,0,0,0,0,0,0,0,0,0,0,0,0,0,0,0,0,0,0,0,0,0,0,0]
[0,0,0,0,0,0,0,0,0,0,0,0,0,0,0,0,0,0,0,0,0,0,0,0,0,0,0,0,0,0,0,0,0,0,0,0,0,0,0,0,0,0,0,0,0,0,0,0,0,0,0,0,0]
[0,0,0,0,0,0,0,0,0,0,0,0,0,0,0,0,0,0,0,0,0,0,0,0,0,0,0,0,0,0,0,0,0,0,0,0,0,0,0,0,0,0,0,0,0,0,0,0,0,0,0,0,0]
[0,0,0,0,0,0,0,0,0,0,0,0,0,0,0,0,0,0,0,0,0,0,0,0,0,0,0,0,0,0,0,0,0,0,0,0,0,0,0,0,0,0,0,0,0,0,0,0,0,0,0,0,0]
[0,0,0,0,0,0,0,0,0,0,0,0,0,0,0,0,0,0,0,0,0,0,0,0,0,0,0,0,0,0,0,0,0,0,0,0,0,0,0,0,0,0,0,0,0,0,0,0,0,0,0,0,0]
[0,0,0,0,0,0,0,0,0,0,0,0,0,0,0,0,0,0,0,0,0,0,0,0,0,0,0,0,0,0,0,0,0,0,0,0,0,0,0,0,0,0,0,0,0,0,0,0,0,0,0,0,0]
[0,0,0,0,0,0,0,0,0,0,0,0,0,0,0,0,0,0,0,0,0,0,0,0,0,0,0,0,0,0,0,0,0,0,0,0,0,0,0,0,0,0,0,0,0,0,0,0,0,0,0,0,0]
[0,0,0,0,0,0,0,0,0,0,0,0,0,0,0,0,0,0,0,0,0,0,0,0,0,0,0,0,0,0,0,0,0,0,0,0,0,0,0,0,0,0,0,0,0,0,0,0,0,0,0,0,0]
[0,0,0,0,0,0,0,0,0,0,0,0,0,0,0,0,0,0,0,0,0,0,0,0,0,0,0,0,0,0,0,0,0,0,0,0,0,0,0,0,0,0,0,0,0,0,0,0,0,0,0,0,0]
[0,0,0,0,0,0,0,0,0,0,0,0,0,0,0,0,0,0,0,0,0,0,0,0,0,0,0,0,0,0,0,0,0,0,0,0,0,0,0,0,0,0,0,0,0,0,0,0,0,0,0,0,0]
[0,0,0,0,0,0,0,0,0,0,0,0,0,0,0,0,0,0,0,0,0,0,0,0,0,0,0,0,0,0,0,0,0,0,0,0,0,0,0,0,0,0,0,0,0,0,0,0,0,0,0,0,0]
[0,0,0,0,0,0,0,0,0,0,0,0,0,0,0,0,0,0,0,0,0,0,0,0,0,0,0,0,0,0,0,0,0,0,0,0,0,0,0,0,0,0,0,0,0,0,0,0,0,0,0,0,0]
[0,0,0,0,0,0,0,0,0,0,0,0,0,0,0,0,0,0,0,0,0,0,0,0,0,0,0,0,0,0,0,0,0,0,0,0,0,0,0,0,0,0,0,0,0,0,0,0,0,0,0,0,0]
[0,0,0,0,0,0,0,0,0,0,0,0,0,0,0,0,0,0,0,0,0,0,0,0,0,0,0,0,0,0,0,0,0,0,0,0,0,0,0,0,0,0,0,0,0,0,0,0,0,0,0,0,0]
[0,0,0,0,0,0,0,0,0,0,0,0,0,0,0,0,0,0,0,0,0,0,0,0,0,0,0,0,0,0,0,0,0,0,0,0,0,0,0,0,0,0,0,0,0,0,0,0,0,0,0,0,0]
[0,0,0,0,0,0,0,0,0,0,0,0,0,0,0,0,0,0,0,0,0,0,0,0,0,0,0,0,0,0,0,0,0,0,0,0,0,0,0,0,0,0,0,0,0,0,0,0,0,0,0,0,0]
[0,0,0,0,0,0,0,0,0,0,0,0,0,0,0,0,0,0,0,0,0,0,0,0,0,0,0,0,0,0,0,0,0,0,0,0,0,0,0,0,0,0,0,0,0,0,0,0,0,0,0,0,0]
[0,0,0,0,0,0,0,0,0,0,0,0,0,0,0,0,0,0,0,0,0,0,0,0,0,0,0,0,0,0,0,0,0,0,0,0,0,0,0,0,0,0,0,0,0,0,0,0,0,0,0,0,0]
[0,0,0,0,0,0,0,0,0,0,0,0,0,0,0,0,0,0,0,0,0,0,0,0,0,0,0,0,0,0,0,0,0,0,0,0,0,0,0,0,0,0,0,0,0,0,0,0,0,0,0,0,0]
[0,0,0,0,0,0,0,0,0,0,0,0,0,0,0,0,0,0,0,0,0,0,0,0,0,0,0,0,0,0,0,0,0,0,0,0,0,0,0,0,0,0,0,0,0,0,0,0,0,0,0,0,0]
[0,0,0,0,0,0,0,0,0,0,0,0,0,0,0,0,0,0,0,0,0,0,0,0,0,0,0,0,0,0,0,0,0,0,0,0,0,0,0,0,0,0,0,0,0,0,0,0,0,0,0,0,0]
[0,0,0,0,0,0,0,0,0,0,0,0,0,0,0,0,0,0,0,0,0,0,0,0,0,0,0,0,0,0,0,0,0,0,0,0,0,0,0,0,0,0,0,0,0,0,0,0,0,0,0,0,0]
[0,0,0,0,0,0,0,0,0,0,0,0,0,0,0,0,0,0,0,0,0,0,0,0,0,0,0,0,0,0,0,0,0,0,0,0,0,0,0,0,0,0,0,0,0,0,0,0,0,0,0,0,0]
[0,0,0,0,0,0,0,0,0,0,0,0,0,0,0,0,0,0,0,0,0,0,0,0,0,0,0,0,0,0,0,0,0,0,0,0,0,0,0,0,0,0,0,0,0,0,0,0,0,0,0,0,0]
[0,0,0,0,0,0,0,0,0,0,0,0,0,0,0,0,0,0,0,0,0,0,0,0,0,0,0,0,0,0,0,0,0,0,0,0,0,0,0,0,0,0,0,0,0,0,0,0,0,0,0,0,0]
[0,0,0,0,0,0,0,0,0,0,0,0,0,0,0,0,0,0,0,0,0,0,0,0,0,0,0,0,0,0,0,0,0,0,0,0,0,0,0,0,0,0,0,0,0,0,0,0,0,0,0,0,0]
[0,0,0,0,0,0,0,0,0,0,0,0,0,0,0,0,0,0,0,0,0,0,0,0,0,0,0,0,0,0,0,0,0,0,0,0,0,0,0,0,0,0,0,0,0,0,0,0,0,0,0,0,0]
[0,0,0,0,0,0,0,0,0,0,0,0,0,0,0,0,0,0,0,0,0,0,0,0,0,0,0,0,0,0,0,0,0,0,0,0,0,0,0,0,0,0,0,0,0,0,0,0,0,0,0,0,0]
[0,0,0,0,0,0,0,0,0,0,0,0,0,0,0,0,0,0,0,0,0,0,0,0,0,0,0,0,0,0,0,0,0,0,0,0,0,0,0,0,0,0,0,0,0,0,0,0,0,0,0,0,0]
[0,0,0,0,0,0,0,0,0,0,0,0,0,0,0,0,0,0,0,0,0,0,0,0,0,0,0,0,0,0,0,0,0,0,0,0,0,0,0,0,0,0,0,0,0,0,0,0,0,0,0,0,0]
[0,0,0,0,0,0,0,0,0,0,0,0,0,0,0,0,0,0,0,0,0,0,0,0,0,0,0,0,0,0,0,0,0,0,0,0,0,0,0,0,0,0,0,0,0,0,0,0,0,0,0,0,0]
[0,0,0,0,0,0,0,0,0,0,0,0,0,0,0,0,0,0,0,0,0,0,0,0,0,0,0,0,0,0,0,0,0,0,0,0,0,0,0,0,0,0,0,0,0,0,0,0,0,0,0,0,0]
[0,0,0,0,0,0,0,0,0,0,0,0,0,0,0,0,0,0,0,0,0,0,0,0,0,0,0,0,0,0,0,0,0,0,0,0,0,0,0,0,0,0,0,0,0,0,0,0,0,0,0,0,0]
[0,0,0,0,0,0,0,0,0,0,0,0,0,0,0,0,0,0,0,0,0,0,0,0,0,0,0,0,0,0,0,0,0,0,0,0,0,0,0,0,0,0,0,0,0,0,0,0,0,0,0,0,0]
[0,0,0,0,0,0,0,0,0,0,0,0,0,0,0,0,0,0,0,0,0,0,0,0,0,0,0,0,0,0,0,0,0,0,0,0,0,0,0,0,0,0,0,0,0,0,0,0,0,0,0,0,0]
[0,0,0,0,0,0,0,0,0,0,0,0,0,0,0,0,0,0,0,0,0,0,0,0,0,0,0,0,0,0,0,0,0,0,0,0,0,0,0,0,0,0,0,0,0,0,0,0,0,0,0,0,0]
[0,0,0,0,0,0,0,0,0,0,0,0,0,0,0,0,0,0,0,0,0,0,0,0,0,0,0,0,0,0,0,0,0,0,0,0,0,0,0,0,0,0,0,0,0,0,0,0,0,0,0,0,0]
[0,0,0,0,0,0,0,0,0,0,0,0,0,0,0,0,0,0,0,0,0,0,0,0,0,0,0,0,0,0,0,0,0,0,0,0,0,0,0,0,0,0,0,0,0,0,0,0,0,0,0,0,0]
[0,0,0,0,0,0,0,0,0,0,0,0,0,0,0,0,0,0,0,0,0,0,0,0,0,0,0,0,0,0,0,0,0,0,0,0,0,0,0,0,0,0,0,0,0,0,0,0,0,0,0,0,0]
[0,0,0,0,0,0,0,0,0,0,0,0,0,0,0,0,0,0,0,0,0,0,0,0,0,0,0,0,0,0,0,0,0,0,0,0,0,0,0,0,0,0,0,0,0,0,0,0,0,0,0,0,0]
[0,0,0,0,0,0,0,0,0,0,0,0,0,0,0,0,0,0,0,0,0,0,0,0,0,0,0,0,0,0,0,0,0,0,0,0,0,0,0,0,0,0,0,0,0,0,0,0,0,0,0,0,0]
[0,0,0,0,0,0,0,0,0,0,0,0,0,0,0,0,0,0,0,0,0,0,0,0,0,0,0,0,0,0,0,0,0,0,0,0,0,0,0,0,0,0,0,0,0,0,0,0,0,0,0,0,0]
[0,0,0,0,0,0,0,0,0,0,0,0,0,0,0,0,0,0,0,0,0,0,0,0,0,0,0,0,0,0,0,0,0,0,0,0,0,0,0,0,0,0,0,0,0,0,0,0,0,0,0,0,0]
[0,0,0,0,0,0,0,0,0,0,0,0,0,0,0,0,0,0,0,0,0,0,0,0,0,0,0,0,0,0,0,0,0,0,0,0,0,0,0,0,0,0,0,0,0,0,0,0,0,0,0,0,0]
[0,0,0,0,0,0,0,0,0,0,0,0,0,0,0,0,0,0,0,0,0,0,0,0,0,0,0,0,0,0,0,0,0,0,0,0,0,0,0,0,0,0,0,0,0,0,0,0,0,0,0,0,0]
[0,0,0,0,0,0,0,0,0,0,0,0,0,0,0,0,0,0,0,0,0,0,0,0,0,0,0,0,0,0,0,0,0,0,0,0,0,0,0,0,0,0,0,0,0,0,0,0,0,0,0,0,0]
[0,0,0,0,0,0,0,0,0,0,0,0,0,0,0,0,0,0,0,0,0,0,0,0,0,0,0,0,0,0,0,0,0,0,0,0,0,0,0,0,0,0,0,0,0,0,0,0,0,0,0,0,0]
[0,0,0,0,0,0,0,0,0,0,0,0,0,0,0,0,0,0,0,0,0,0,0,0,0,0,0,0,0,0,0,0,0,0,0,0,0,0,0,0,0,0,0,0,0,0,0,0,0,0,0,0,0]
[0,0,0,0,0,0,0,0,0,0,0,0,0,0,0,0,0,0,0,0,0,0,0,0,0,0,0,0,0,0,0,0,0,0,0,0,0,0,0,0,0,0,0,0,0,0,0,0,0,0,0,0,0]
[0,0,0,0,0,0,0,0,0,0,0,0,0,0,0,0,0,0,0,0,0,0,0,0,0,0,0,0,0,0,0,0,0,0,0,0,0,0,0,0,0,0,0,0,0,0,0,0,0,0,0,0,0]
[0,0,0,0,0,0,0,0,0,0,0,0,0,0,0,0,0,0,0,0,0,0,0,0,0,0,0,0,0,0,0,0,0,0,0,0,0,0,0,0,0,0,0,0,0,0,0,0,0,0,0,0,0]
[0,0,0,0,0,0,0,0,0,0,0,0,0,0,0,0,0,0,0,0,0,0,0,0,0,0,0,0,0,0,0,0,0,0,0,0,0,0,0,0,0,0,0,0,0,0,0,0,0,0,0,0,0]
[0,0,0,0,0,0,0,0,0,0,0,0,0,0,0,0,0,0,0,0,0,0,0,0,0,0,0,0,0,0,0,0,0,0,0,0,0,0,0,0,0,0,0,0,0,0,0,0,0,0,0,0,0]
[0,0,0,0,0,0,0,0,0,0,0,0,0,0,0,0,0,0,0,0,0,0,0,0,0,0,0,0,0,0,0,0,0,0,0,0,0,0,0,0,0,0,0,0,0,0,0,0,0,0,0,0,0]
[0,0,0,0,0,0,0,0,0,0,0,0,0,0,0,0,0,0,0,0,0,0,0,0,0,0,0,0,0,0,0,0,0,0,0,0,0,0,0,0,0,0,0,0,0,0,0,0,0,0,0,0,0]
[0,0,0,0,0,0,0,0,0,0,0,0,0,0,0,0,0,0,0,0,0,0,0,0,0,0,0,0,0,0,0,0,0,0,0,0,0,0,0,0,0,0,0,0,0,0,0,0,0,0,0,0,0]
[0,0,0,0,0,0,0,0,0,0,0,0,0,0,0,0,0,0,0,0,0,0,0,0,0,0,0,0,0,0,0,0,0,0,0,0,0,0,0,0,0,0,0,0,0,0,0,0,0,0,0,0,0]
[0,0,0,0,0,0,0,0,0,0,0,0,0,0,0,0,0,0,0,0,0,0,0,0,0,0,0,0,0,0,0,0,0,0,0,0,0,0,0,0,0,0,0,0,0,0,0,0,0,0,0,0,0]
[0,0,0,0,0,0,0,0,0,0,0,0,0,0,0,0,0,0,0,0,0,0,0,0,0,0,0,0,0,0,0,0,0,0,0,0,0,0,0,0,0,0,0,0,0,0,0,0,0,0,0,0,0]
[0,0,0,0,0,0,0,0,0,0,0,0,0,0,0,0,0,0,0,0,0,0,0,0,0,0,0,0,0,0,0,0,0,0,0,0,0,0,0,0,0,0,0,0,0,0,0,0,0,0,0,0,0]
[0,0,0,0,0,0,0,0,0,0,0,0,0,0,0,0,0,0,0,0,0,0,0,0,0,0,0,0,0,0,0,0,0,0,0,0,0,0,0,0,0,0,0,0,0,0,0,0,0,0,0,0,0]
[0,0,0,0,0,0,0,0,0,0,0,0,0,0,0,0,0,0,0,0,0,0,0,0,0,0,0,0,0,0,0,0,0,0,0,0,0,0,0,0,0,0,0,0,0,0,0,0,0,0,0,0,0]
[0,0,0,0,0,0,0,0,0,0,0,0,0,0,0,0,0,0,0,0,0,0,0,0,0,0,0,0,0,0,0,0,0,0,0,0,0,0,0,0,0,0,0,0,0,0,0,0,0,0,0,0,0]
[0,0,0,0,0,0,0,0,0,0,0,0,0,0,0,0,0,0,0,0,0,0,0,0,0,0,0,0,0,0,0,0,0,0,0,0,0,0,0,0,0,0,0,0,0,0,0,0,0,0,0,0,0]
[0,0,0,0,0,0,0,0,0,0,0,0,0,0,0,0,0,0,0,0,0,0,0,0,0,0,0,0,0,0,0,0,0,0,0,0,0,0,0,0,0,0,0,0,0,0,0,0,0,0,0,0,0]
[0,0,0,0,0,0,0,0,0,0,0,0,0,0,0,0,0,0,0,0,0,0,0,0,0,0,0,0,0,0,0,0,0,0,0,0,0,0,0,0,0,0,0,0,0,0,0,0,0,0,0,0,0]
[0,0,0,0,0,0,0,0,0,0,0,0,0,0,0,0,0,0,0,0,0,0,0,0,0,0,0,0,0,0,0,0,0,0,0,0,0,0,0,0,0,0,0,0,0,0,0,0,0,0,0,0,0]
[0,0,0,0,0,0,0,0,0,0,0,0,0,0,0,0,0,0,0,0,0,0,0,0,0,0,0,0,0,0,0,0,0,0,0,0,0,0,0,0,0,0,0,0,0,0,0,0,0,0,0,0,0]
[0,0,0,0,0,0,0,0,0,0,0,0,0,0,0,0,0,0,0,0,0,0,0,0,0,0,0,0,0,0,0,0,0,0,0,0,0,0,0,0,0,0,0,0,0,0,0,0,0,0,0,0,0]
[0,0,0,0,0,0,0,0,0,0,0,0,0,0,0,0,0,0,0,0,0,0,0,0,0,0,0,0,0,0,0,0,0,0,0,0,0,0,0,0,0,0,0,0,0,0,0,0,0,0,0,0,0]
[0,0,0,0,0,0,0,0,0,0,0,0,0,0,0,0,0,0,0,0,0,0,0,0,0,0,0,0,0,0,0,0,0,0,0,0,0,0,0,0,0,0,0,0,0,0,0,0,0,0,0,0,0]
[0,0,0,0,0,0,0,0,0,0,0,0,0,0,0,0,0,0,0,0,0,0,0,0,0,0,0,0,0,0,0,0,0,0,0,0,0,0,0,0,0,0,0,0,0,0,0,0,0,0,0,0,0]
[0,0,0,0,0,0,0,0,0,0,0,0,0,0,0,0,0,0,0,0,0,0,0,0,0,0,0,0,0,0,0,0,0,0,0,0,0,0,0,0,0,0,0,0,0,0,0,0,0,0,0,0,0]
[0,0,0,0,0,0,0,0,0,0,0,0,0,0,0,0,0,0,0,0,0,0,0,0,0,0,0,0,0,0,0,0,0,0,0,0,0,0,0,0,0,0,0,0,0,0,0,0,0,0,0,0,0]
[0,0,0,0,0,0,0,0,0,0,0,0,0,0,0,0,0,0,0,0,0,0,0,0,0,0,0,0,0,0,0,0,0,0,0,0,0,0,0,0,0,0,0,0,0,0,0,0,0,0,0,0,0]
[0,0,0,0,0,0,0,0,0,0,0,0,0,0,0,0,0,0,0,0,0,0,0,0,0,0,0,0,0,0,0,0,0,0,0,0,0,0,0,0,0,0,0,0,0,0,0,0,0,0,0,0,0]
[0,0,0,0,0,0,0,0,0,0,0,0,0,0,0,0,0,0,0,0,0,0,0,0,0,0,0,0,0,0,0,0,0,0,0,0,0,0,0,0,0,0,0,0,0,0,0,0,0,0,0,0,0]
[0,0,0,0,0,0,0,0,0,0,0,0,0,0,0,0,0,0,0,0,0,0,0,0,0,0,0,0,0,0,0,0,0,0,0,0,0,0,0,0,0,0,0,0,0,0,0,0,0,0,0,0,0]
[0,0,0,0,0,0,0,0,0,0,0,0,0,0,0,0,0,0,0,0,0,0,0,0,0,0,0,0,0,0,0,0,0,0,0,0,0,0,0,0,0,0,0,0,0,0,0,0,0,0,0,0,0]
[0,0,0,0,0,0,0,0,0,0,0,0,0,0,0,0,0,0,0,0,0,0,0,0,0,0,0,0,0,0,0,0,0,0,0,0,0,0,0,0,0,0,0,0,0,0,0,0,0,0,0,0,0]
[0,0,0,0,0,0,0,0,0,0,0,0,0,0,0,0,0,0,0,0,0,0,0,0,0,0,0,0,0,0,0,0,0,0,0,0,0,0,0,0,0,0,0,0,0,0,0,0,0,0,0,0,0]
[0,0,0,0,0,0,0,0,0,0,0,0,0,0,0,0,0,0,0,0,0,0,0,0,0,0,0,0,0,0,0,0,0,0,0,0,0,0,0,0,0,0,0,0,0,0,0,0,0,0,0,0,0]
[0,0,0,0,0,0,0,0,0,0,0,0,0,0,0,0,0,0,0,0,0,0,0,0,0,0,0,0,0,0,0,0,0,0,0,0,0,0,0,0,0,0,0,0,0,0,0,0,0,0,0,0,0]
[0,0,0,0,0,0,0,0,0,0,0,0,0,0,0,0,0,0,0,0,0,0,0,0,0,0,0,0,0,0,0,0,0,0,0,0,0,0,0,0,0,0,0,0,0,0,0,0,0,0,0,0,0]
[0,0,0,0,0,0,0,0,0,0,0,0,0,0,0,0,0,0,0,0,0,0,0,0,0,0,0,0,0,0,0,0,0,0,0,0,0,0,0,0,0,0,0,0,0,0,0,0,0,0,0,0,0]
[0,0,0,0,0,0,0,0,0,0,0,0,0,0,0,0,0,0,0,0,0,0,0,0,0,0,0,0,0,0,0,0,0,0,0,0,0,0,0,0,0,0,0,0,0,0,0,0,0,0,0,0,0]
[0,0,0,0,0,0,0,0,0,0,0,0,0,0,0,0,0,0,0,0,0,0,0,0,0,0,0,0,0,0,0,0,0,0,0,0,0,0,0,0,0,0,0,0,0,0,0,0,0,0,0,0,0]
[0,0,0,0,0,0,0,0,0,0,0,0,0,0,0,0,0,0,0,0,0,0,0,0,0,0,0,0,0,0,0,0,0,0,0,0,0,0,0,0,0,0,0,0,0,0,0,0,0,0,0,0,0]
[0,0,0,0,0,0,0,0,0,0,0,0,0,0,0,0,0,0,0,0,0,0,0,0,0,0,0,0,0,0,0,0,0,0,0,0,0,0,0,0,0,0,0,0,0,0,0,0,0,0,0,0,0]
[0,0,0,0,0,0,0,0,0,0,0,0,0,0,0,0,0,0,0,0,0,0,0,0,0,0,0,0,0,0,0,0,0,0,0,0,0,0,0,0,0,0,0,0,0,0,0,0,0,0,0,0,0]
[0,0,0,0,0,0,0,0,0,0,0,0,0,0,0,0,0,0,0,0,0,0,0,0,0,0,0,0,0,0,0,0,0,0,0,0,0,0,0,0,0,0,0,0,0,0,0,0,0,0,0,0,0]
[0,0,0,0,0,0,0,0,0,0,0,0,0,0,0,0,0,0,0,0,0,0,0,0,0,0,0,0,0,0,0,0,0,0,0,0,0,0,0,0,0,0,0,0,0,0,0,0,0,0,0,0,0]
[0,0,0,0,0,0,0,0,0,0,0,0,0,0,0,0,0,0,0,0,0,0,0,0,0,0,0,0,0,0,0,0,0,0,0,0,0,0,0,0,0,0,0,0,0,0,0,0,0,0,0,0,0]
[0,0,0,0,0,0,0,0,0,0,0,0,0,0,0,0,0,0,0,0,0,0,0,0,0,0,0,0,0,0,0,0,0,0,0,0,0,0,0,0,0,0,0,0,0,0,0,0,0,0,0,0,0]
[0,0,0,0,0,0,0,0,0,0,0,0,0,0,0,0,0,0,0,0,0,0,0,0,0,0,0,0,0,0,0,0,0,0,0,0,0,0,0,0,0,0,0,0,0,0,0,0,0,0,0,0,0]
[0,0,0,0,0,0,0,0,0,0,0,0,0,0,0,0,0,0,0,0,0,0,0,0,0,0,0,0,0,0,0,0,0,0,0,0,0,0,0,0,0,0,0,0,0,0,0,0,0,0,0,0,0]
[0,0,0,0,0,0,0,0,0,0,0,0,0,0,0,0,0,0,0,0,0,0,0,0,0,0,0,0,0,0,0,0,0,0,0,0,0,0,0,0,0,0,0,0,0,0,0,0,0,0,0,0,0]
[0,0,0,0,0,0,0,0,0,0,0,0,0,0,0,0,0,0,0,0,0,0,0,0,0,0,0,0,0,0,0,0,0,0,0,0,0,0,0,0,0,0,0,0,0,0,0,0,0,0,0,0,0]
[0,0,0,0,0,0,0,0,0,0,0,0,0,0,0,0,0,0,0,0,0,0,0,0,0,0,0,0,0,0,0,0,0,0,0,0,0,0,0,0,0,0,0,0,0,0,0,0,0,0,0,0,0]
[0,0,0,0,0,0,0,0,0,0,0,0,0,0,0,0,0,0,0,0,0,0,0,0,0,0,0,0,0,0,0,0,0,0,0,0,0,0,0,0,0,0,0,0,0,0,0,0,0,0,0,0,0]
[0,0,0,0,0,0,0,0,0,0,0,0,0,0,0,0,0,0,0,0,0,0,0,0,0,0,0,0,0,0,0,0,0,0,0,0,0,0,0,0,0,0,0,0,0,0,0,0,0,0,0,0,0]
[0,0,0,0,0,0,0,0,0,0,0,0,0,0,0,0,0,0,0,0,0,0,0,0,0,0,0,0,0,0,0,0,0,0,0,0,0,0,0,0,0,0,0,0,0,0,0,0,0,0,0,0,0]
[0,0,0,0,0,0,0,0,0,0,0,0,0,0,0,0,0,0,0,0,0,0,0,0,0,0,0,0,0,0,0,0,0,0,0,0,0,0,0,0,0,0,0,0,0,0,0,0,0,0,0,0,0]
[0,0,0,0,0,0,0,0,0,0,0,0,0,0,0,0,0,0,0,0,0,0,0,0,0,0,0,0,0,0,0,0,0,0,0,0,0,0,0,0,0,0,0,0,0,0,0,0,0,0,0,0,0]
[0,0,0,0,0,0,0,0,0,0,0,0,0,0,0,0,0,0,0,0,0,0,0,0,0,0,0,0,0,0,0,0,0,0,0,0,0,0,0,0,0,0,0,0,0,0,0,0,0,0,0,0,0]
[0,0,0,0,0,0,0,0,0,0,0,0,0,0,0,0,0,0,0,0,0,0,0,0,0,0,0,0,0,0,0,0,0,0,0,0,0,0,0,0,0,0,0,0,0,0,0,0,0,0,0,0,0]
[0,0,0,0,0,0,0,0,0,0,0,0,0,0,0,0,0,0,0,0,0,0,0,0,0,0,0,0,0,0,0,0,0,0,0,0,0,0,0,0,0,0,0,0,0,0,0,0,0,0,0,0,0]
[0,0,0,0,0,0,0,0,0,0,0,0,0,0,0,0,0,0,0,0,0,0,0,0,0,0,0,0,0,0,0,0,0,0,0,0,0,0,0,0,0,0,0,0,0,0,0,0,0,0,0,0,0]
[0,0,0,0,0,0,0,0,0,0,0,0,0,0,0,0,0,0,0,0,0,0,0,0,0,0,0,0,0,0,0,0,0,0,0,0,0,0,0,0,0,0,0,0,0,0,0,0,0,0,0,0,0]
[0,0,0,0,0,0,0,0,0,0,0,0,0,0,0,0,0,0,0,0,0,0,0,0,0,0,0,0,0,0,0,0,0,0,0,0,0,0,0,0,0,0,0,0,0,0,0,0,0,0,0,0,0]
[0,0,0,0,0,0,0,0,0,0,0,0,0,0,0,0,0,0,0,0,0,0,0,0,0,0,0,0,0,0,0,0,0,0,0,0,0,0,0,0,0,0,0,0,0,0,0,0,0,0,0,0,0]
[0,0,0,0,0,0,0,0,0,0,0,0,0,0,0,0,0,0,0,0,0,0,0,0,0,0,0,0,0,0,0,0,0,0,0,0,0,0,0,0,0,0,0,0,0,0,0,0,0,0,0,0,0]
[0,0,0,0,0,0,0,0,0,0,0,0,0,0,0,0,0,0,0,0,0,0,0,0,0,0,0,0,0,0,0,0,0,0,0,0,0,0,0,0,0,0,0,0,0,0,0,0,0,0,0,0,0]
[0,0,0,0,0,0,0,0,0,0,0,0,0,0,0,0,0,0,0,0,0,0,0,0,0,0,0,0,0,0,0,0,0,0,0,0,0,0,0,0,0,0,0,0,0,0,0,0,0,0,0,0,0]
[0,0,0,0,0,0,0,0,0,0,0,0,0,0,0,0,0,0,0,0,0,0,0,0,0,0,0,0,0,0,0,0,0,0,0,0,0,0,0,0,0,0,0,0,0,0,0,0,0,0,0,0,0]
[0,0,0,0,0,0,0,0,0,0,0,0,0,0,0,0,0,0,0,0,0,0,0,0,0,0,0,0,0,0,0,0,0,0,0,0,0,0,0,0,0,0,0,0,0,0,0,0,0,0,0,0,0]
[0,0,0,0,0,0,0,0,0,0,0,0,0,0,0,0,0,0,0,0,0,0,0,0,0,0,0,0,0,0,0,0,0,0,0,0,0,0,0,0,0,0,0,0,0,0,0,0,0,0,0,0,0]
[0,0,0,0,0,0,0,0,0,0,0,0,0,0,0,0,0,0,0,0,0,0,0,0,0,0,0,0,0,0,0,0,0,0,0,0,0,0,0,0,0,0,0,0,0,0,0,0,0,0,0,0,0]
[0,0,0,0,0,0,0,0,0,0,0,0,0,0,0,0,0,0,0,0,0,0,0,0,0,0,0,0,0,0,0,0,0,0,0,0,0,0,0,0,0,0,0,0,0,0,0,0,0,0,0,0,0]
[0,0,0,0,0,0,0,0,0,0,0,0,0,0,0,0,0,0,0,0,0,0,0,0,0,0,0,0,0,0,0,0,0,0,0,0,0,0,0,0,0,0,0,0,0,0,0,0,0,0,0,0,0]
[0,0,0,0,0,0,0,0,0,0,0,0,0,0,0,0,0,0,0,0,0,0,0,0,0,0,0,0,0,0,0,0,0,0,0,0,0,0,0,0,0,0,0,0,0,0,0,0,0,0,0,0,0]
[0,0,0,0,0,0,0,0,0,0,0,0,0,0,0,0,0,0,0,0,0,0,0,0,0,0,0,0,0,0,0,0,0,0,0,0,0,0,0,0,0,0,0,0,0,0,0,0,0,0,0,0,0]
[0,0,0,0,0,0,0,0,0,0,0,0,0,0,0,0,0,0,0,0,0,0,0,0,0,0,0,0,0,0,0,0,0,0,0,0,0,0,0,0,0,0,0,0,0,0,0,0,0,0,0,0,0]
[0,0,0,0,0,0,0,0,0,0,0,0,0,0,0,0,0,0,0,0,0,0,0,0,0,0,0,0,0,0,0,0,0,0,0,0,0,0,0,0,0,0,0,0,0,0,0,0,0,0,0,0,0]
[0,0,0,0,0,0,0,0,0,0,0,0,0,0,0,0,0,0,0,0,0,0,0,0,0,0,0,0,0,0,0,0,0,0,0,0,0,0,0,0,0,0,0,0,0,0,0,0,0,0,0,0,0]
[0,0,0,0,0,0,0,0,0,0,0,0,0,0,0,0,0,0,0,0,0,0,0,0,0,0,0,0,0,0,0,0,0,0,0,0,0,0,0,0,0,0,0,0,0,0,0,0,0,0,0,0,0]
[0,0,0,0,0,0,0,0,0,0,0,0,0,0,0,0,0,0,0,0,0,0,0,0,0,0,0,0,0,0,0,0,0,0,0,0,0,0,0,0,0,0,0,0,0,0,0,0,0,0,0,0,0]
[0,0,0,0,0,0,0,0,0,0,0,0,0,0,0,0,0,0,0,0,0,0,0,0,0,0,0,0,0,0,0,0,0,0,0,0,0,0,0,0,0,0,0,0,0,0,0,0,0,0,0,0,0]
[0,0,0,0,0,0,0,0,0,0,0,0,0,0,0,0,0,0,0,0,0,0,0,0,0,0,0,0,0,0,0,0,0,0,0,0,0,0,0,0,0,0,0,0,0,0,0,0,0,0,0,0,0]
[0,0,0,0,0,0,0,0,0,0,0,0,0,0,0,0,0,0,0,0,0,0,0,0,0,0,0,0,0,0,0,0,0,0,0,0,0,0,0,0,0,0,0,0,0,0,0,0,0,0,0,0,0]
[0,0,0,0,0,0,0,0,0,0,0,0,0,0,0,0,0,0,0,0,0,0,0,0,0,0,0,0,0,0,0,0,0,0,0,0,0,0,0,0,0,0,0,0,0,0,0,0,0,0,0,0,0]
[0,0,0,0,0,0,0,0,0,0,0,0,0,0,0,0,0,0,0,0,0,0,0,0,0,0,0,0,0,0,0,0,0,0,0,0,0,0,0,0,0,0,0,0,0,0,0,0,0,0,0,0,0]
[0,0,0,0,0,0,0,0,0,0,0,0,0,0,0,0,0,0,0,0,0,0,0,0,0,0,0,0,0,0,0,0,0,0,0,0,0,0,0,0,0,0,0,0,0,0,0,0,0,0,0,0,0]
[0,0,0,0,0,0,0,0,0,0,0,0,0,0,0,0,0,0,0,0,0,0,0,0,0,0,0,0,0,0,0,0,0,0,0,0,0,0,0,0,0,0,0,0,0,0,0,0,0,0,0,0,0]
[0,0,0,0,0,0,0,0,0,0,0,0,0,0,0,0,0,0,0,0,0,0,0,0,0,0,0,0,0,0,0,0,0,0,0,0,0,0,0,0,0,0,0,0,0,0,0,0,0,0,0,0,0]
[0,0,0,0,0,0,0,0,0,0,0,0,0,0,0,0,0,0,0,0,0,0,0,0,0,0,0,0,0,0,0,0,0,0,0,0,0,0,0,0,0,0,0,0,0,0,0,0,0,0,0,0,0]
[0,0,0,0,0,0,0,0,0,0,0,0,0,0,0,0,0,0,0,0,0,0,0,0,0,0,0,0,0,0,0,0,0,0,0,0,0,0,0,0,0,0,0,0,0,0,0,0,0,0,0,0,0]
[0,0,0,0,0,0,0,0,0,0,0,0,0,0,0,0,0,0,0,0,0,0,0,0,0,0,0,0,0,0,0,0,0,0,0,0,0,0,0,0,0,0,0,0,0,0,0,0,0,0,0,0,0]
[0,0,0,0,0,0,0,0,0,0,0,0,0,0,0,0,0,0,0,0,0,0,0,0,0,0,0,0,0,0,0,0,0,0,0,0,0,0,0,0,0,0,0,0,0,0,0,0,0,0,0,0,0]
[0,0,0,0,0,0,0,0,0,0,0,0,0,0,0,0,0,0,0,0,0,0,0,0,0,0,0,0,0,0,0,0,0,0,0,0,0,0,0,0,0,0,0,0,0,0,0,0,0,0,0,0,0]
[0,0,0,0,0,0,0,0,0,0,0,0,0,0,0,0,0,0,0,0,0,0,0,0,0,0,0,0,0,0,0,0,0,0,0,0,0,0,0,0,0,0,0,0,0,0,0,0,0,0,0,0,0]
[0,0,0,0,0,0,0,0,0,0,0,0,0,0,0,0,0,0,0,0,0,0,0,0,0,0,0,0,0,0,0,0,0,0,0,0,0,0,0,0,0,0,0,0,0,0,0,0,0,0,0,0,0]
[0,0,0,0,0,0,0,0,0,0,0,0,0,0,0,0,0,0,0,0,0,0,0,0,0,0,0,0,0,0,0,0,0,0,0,0,0,0,0,0,0,0,0,0,0,0,0,0,0,0,0,0,0]
[0,0,0,0,0,0,0,0,0,0,0,0,0,0,0,0,0,0,0,0,0,0,0,0,0,0,0,0,0,0,0,0,0,0,0,0,0,0,0,0,0,0,0,0,0,0,0,0,0,0,0,0,0]
[0,0,0,0,0,0,0,0,0,0,0,0,0,0,0,0,0,0,0,0,0,0,0,0,0,0,0,0,0,0,0,0,0,0,0,0,0,0,0,0,0,0,0,0,0,0,0,0,0,0,0,0,0]
[0,0,0,0,0,0,0,0,0,0,0,0,0,0,0,0,0,0,0,0,0,0,0,0,0,0,0,0,0,0,0,0,0,0,0,0,0,0,0,0,0,0,0,0,0,0,0,0,0,0,0,0,0]
[0,0,0,0,0,0,0,0,0,0,0,0,0,0,0,0,0,0,0,0,0,0,0,0,0,0,0,0,0,0,0,0,0,0,0,0,0,0,0,0,0,0,0,0,0,0,0,0,0,0,0,0,0]
[0,0,0,0,0,0,0,0,0,0,0,0,0,0,0,0,0,0,0,0,0,0,0,0,0,0,0,0,0,0,0,0,0,0,0,0,0,0,0,0,0,0,0,0,0,0,0,0,0,0,0,0,0]
[0,0,0,0,0,0,0,0,0,0,0,0,0,0,0,0,0,0,0,0,0,0,0,0,0,0,0,0,0,0,0,0,0,0,0,0,0,0,0,0,0,0,0,0,0,0,0,0,0,0,0,0,0]
[0,0,0,0,0,0,0,0,0,0,0,0,0,0,0,0,0,0,0,0,0,0,0,0,0,0,0,0,0,0,0,0,0,0,0,0,0,0,0,0,0,0,0,0,0,0,0,0,0,0,0,0,0]
[0,0,0,0,0,0,0,0,0,0,0,0,0,0,0,0,0,0,0,0,0,0,0,0,0,0,0,0,0,0,0,0,0,0,0,0,0,0,0,0,0,0,0,0,0,0,0,0,0,0,0,0,0]
[0,0,0,0,0,0,0,0,0,0,0,0,0,0,0,0,0,0,0,0,0,0,0,0,0,0,0,0,0,0,0,0,0,0,0,0,0,0,0,0,0,0,0,0,0,0,0,0,0,0,0,0,0]
[0,0,0,0,0,0,0,0,0,0,0,0,0,0,0,0,0,0,0,0,0,0,0,0,0,0,0,0,0,0,0,0,0,0,0,0,0,0,0,0,0,0,0,0,0,0,0,0,0,0,0,0,0]
[0,0,0,0,0,0,0,0,0,0,0,0,0,0,0,0,0,0,0,0,0,0,0,0,0,0,0,0,0,0,0,0,0,0,0,0,0,0,0,0,0,0,0,0,0,0,0,0,0,0,0,0,0]
[0,0,0,0,0,0,0,0,0,0,0,0,0,0,0,0,0,0,0,0,0,0,0,0,0,0,0,0,0,0,0,0,0,0,0,0,0,0,0,0,0,0,0,0,0,0,0,0,0,0,0,0,0]
[0,0,0,0,0,0,0,0,0,0,0,0,0,0,0,0,0,0,0,0,0,0,0,0,0,0,0,0,0,0,0,0,0,0,0,0,0,0,0,0,0,0,0,0,0,0,0,0,0,0,0,0,0]
[0,0,0,0,0,0,0,0,0,0,0,0,0,0,0,0,0,0,0,0,0,0,0,0,0,0,0,0,0,0,0,0,0,0,0,0,0,0,0,0,0,0,0,0,0,0,0,0,0,0,0,0,0]
[0,0,0,0,0,0,0,0,0,0,0,0,0,0,0,0,0,0,0,0,0,0,0,0,0,0,0,0,0,0,0,0,0,0,0,0,0,0,0,0,0,0,0,0,0,0,0,0,0,0,0,0,0]
[0,0,0,0,0,0,0,0,0,0,0,0,0,0,0,0,0,0,0,0,0,0,0,0,0,0,0,0,0,0,0,0,0,0,0,0,0,0,0,0,0,0,0,0,0,0,0,0,0,0,0,0,0]
[0,0,0,0,0,0,0,0,0,0,0,0,0,0,0,0,0,0,0,0,0,0,0,0,0,0,0,0,0,0,0,0,0,0,0,0,0,0,0,0,0,0,0,0,0,0,0,0,0,0,0,0,0]
[0,0,0,0,0,0,0,0,0,0,0,0,0,0,0,0,0,0,0,0,0,0,0,0,0,0,0,0,0,0,0,0,0,0,0,0,0,0,0,0,0,0,0,0,0,0,0,0,0,0,0,0,0]
[0,0,0,0,0,0,0,0,0,0,0,0,0,0,0,0,0,0,0,0,0,0,0,0,0,0,0,0,0,0,0,0,0,0,0,0,0,0,0,0,0,0,0,0,0,0,0,0,0,0,0,0,0]
[0,0,0,0,0,0,0,0,0,0,0,0,0,0,0,0,0,0,0,0,0,0,0,0,0,0,0,0,0,0,0,0,0,0,0,0,0,0,0,0,0,0,0,0,0,0,0,0,0,0,0,0,0]
[0,0,0,0,0,0,0,0,0,0,0,0,0,0,0,0,0,0,0,0,0,0,0,0,0,0,0,0,0,0,0,0,0,0,0,0,0,0,0,0,0,0,0,0,0,0,0,0,0,0,0,0,0]
[0,0,0,0,0,0,0,0,0,0,0,0,0,0,0,0,0,0,0,0,0,0,0,0,0,0,0,0,0,0,0,0,0,0,0,0,0,0,0,0,0,0,0,0,0,0,0,0,0,0,0,0,0]
[0,0,0,0,0,0,0,0,0,0,0,0,0,0,0,0,0,0,0,0,0,0,0,0,0,0,0,0,0,0,0,0,0,0,0,0,0,0,0,0,0,0,0,0,0,0,0,0,0,0,0,0,0]
[0,0,0,0,0,0,0,0,0,0,0,0,0,0,0,0,0,0,0,0,0,0,0,0,0,0,0,0,0,0,0,0,0,0,0,0,0,0,0,0,0,0,0,0,0,0,0,0,0,0,0,0,0]
[0,0,0,0,0,0,0,0,0,0,0,0,0,0,0,0,0,0,0,0,0,0,0,0,0,0,0,0,0,0,0,0,0,0,0,0,0,0,0,0,0,0,0,0,0,0,0,0,0,0,0,0,0]
[0,0,0,0,0,0,0,0,0,0,0,0,0,0,0,0,0,0,0,0,0,0,0,0,0,0,0,0,0,0,0,0,0,0,0,0,0,0,0,0,0,0,0,0,0,0,0,0,0,0,0,0,0]
[0,0,0,0,0,0,0,0,0,0,0,0,0,0,0,0,0,0,0,0,0,0,0,0,0,0,0,0,0,0,0,0,0,0,0,0,0,0,0,0,0,0,0,0,0,0,0,0,0,0,0,0,0]
[0,0,0,0,0,0,0,0,0,0,0,0,0,0,0,0,0,0,0,0,0,0,0,0,0,0,0,0,0,0,0,0,0,0,0,0,0,0,0,0,0,0,0,0,0,0,0,0,0,0,0,0,0]
[0,0,0,0,0,0,0,0,0,0,0,0,0,0,0,0,0,0,0,0,0,0,0,0,0,0,0,0,0,0,0,0,0,0,0,0,0,0,0,0,0,0,0,0,0,0,0,0,0,0,0,0,0]
[0,0,0,0,0,0,0,0,0,0,0,0,0,0,0,0,0,0,0,0,0,0,0,0,0,0,0,0,0,0,0,0,0,0,0,0,0,0,0,0,0,0,0,0,0,0,0,0,0,0,0,0,0]
[0,0,0,0,0,0,0,0,0,0,0,0,0,0,0,0,0,0,0,0,0,0,0,0,0,0,0,0,0,0,0,0,0,0,0,0,0,0,0,0,0,0,0,0,0,0,0,0,0,0,0,0,0]
[0,0,0,0,0,0,0,0,0,0,0,0,0,0,0,0,0,0,0,0,0,0,0,0,0,0,0,0,0,0,0,0,0,0,0,0,0,0,0,0,0,0,0,0,0,0,0,0,0,0,0,0,0]
[0,0,0,0,0,0,0,0,0,0,0,0,0,0,0,0,0,0,0,0,0,0,0,0,0,0,0,0,0,0,0,0,0,0,0,0,0,0,0,0,0,0,0,0,0,0,0,0,0,0,0,0,0]
[0,0,0,0,0,0,0,0,0,0,0,0,0,0,0,0,0,0,0,0,0,0,0,0,0,0,0,0,0,0,0,0,0,0,0,0,0,0,0,0,0,0,0,0,0,0,0,0,0,0,0,0,0]
[0,0,0,0,0,0,0,0,0,0,0,0,0,0,0,0,0,0,0,0,0,0,0,0,0,0,0,0,0,0,0,0,0,0,0,0,0,0,0,0,0,0,0,0,0,0,0,0,0,0,0,0,0]
[0,0,0,0,0,0,0,0,0,0,0,0,0,0,0,0,0,0,0,0,0,0,0,0,0,0,0,0,0,0,0,0,0,0,0,0,0,0,0,0,0,0,0,0,0,0,0,0,0,0,0,0,0]
[0,0,0,0,0,0,0,0,0,0,0,0,0,0,0,0,0,0,0,0,0,0,0,0,0,0,0,0,0,0,0,0,0,0,0,0,0,0,0,0,0,0,0,0,0,0,0,0,0,0,0,0,0]
[0,0,0,0,0,0,0,0,0,0,0,0,0,0,0,0,0,0,0,0,0,0,0,0,0,0,0,0,0,0,0,0,0,0,0,0,0,0,0,0,0,0,0,0,0,0,0,0,0,0,0,0,0]
[0,0,0,0,0,0,0,0,0,0,0,0,0,0,0,0,0,0,0,0,0,0,0,0,0,0,0,0,0,0,0,0,0,0,0,0,0,0,0,0,0,0,0,0,0,0,0,0,0,0,0,0,0]
[0,0,0,0,0,0,0,0,0,0,0,0,0,0,0,0,0,0,0,0,0,0,0,0,0,0,0,0,0,0,0,0,0,0,0,0,0,0,0,0,0,0,0,0,0,0,0,0,0,0,0,0,0]
[0,0,0,0,0,0,0,0,0,0,0,0,0,0,0,0,0,0,0,0,0,0,0,0,0,0,0,0,0,0,0,0,0,0,0,0,0,0,0,0,0,0,0,0,0,0,0,0,0,0,0,0,0]
[0,0,0,0,0,0,0,0,0,0,0,0,0,0,0,0,0,0,0,0,0,0,0,0,0,0,0,0,0,0,0,0,0,0,0,0,0,0,0,0,0,0,0,0,0,0,0,0,0,0,0,0,0]
[0,0,0,0,0,0,0,0,0,0,0,0,0,0,0,0,0,0,0,0,0,0,0,0,0,0,0,0,0,0,0,0,0,0,0,0,0,0,0,0,0,0,0,0,0,0,0,0,0,0,0,0,0]
[0,0,0,0,0,0,0,0,0,0,0,0,0,0,0,0,0,0,0,0,0,0,0,0,0,0,0,0,0,0,0,0,0,0,0,0,0,0,0,0,0,0,0,0,0,0,0,0,0,0,0,0,0]
[0,0,0,0,0,0,0,0,0,0,0,0,0,0,0,0,0,0,0,0,0,0,0,0,0,0,0,0,0,0,0,0,0,0,0,0,0,0,0,0,0,0,0,0,0,0,0,0,0,0,0,0,0]
[0,0,0,0,0,0,0,0,0,0,0,0,0,0,0,0,0,0,0,0,0,0,0,0,0,0,0,0,0,0,0,0,0,0,0,0,0,0,0,0,0,0,0,0,0,0,0,0,0,0,0,0,0]
[0,0,0,0,0,0,0,0,0,0,0,0,0,0,0,0,0,0,0,0,0,0,0,0,0,0,0,0,0,0,0,0,0,0,0,0,0,0,0,0,0,0,0,0,0,0,0,0,0,0,0,0,0]
[0,0,0,0,0,0,0,0,0,0,0,0,0,0,0,0,0,0,0,0,0,0,0,0,0,0,0,0,0,0,0,0,0,0,0,0,0,0,0,0,0,0,0,0,0,0,0,0,0,0,0,0,0]
[0,0,0,0,0,0,0,0,0,0,0,0,0,0,0,0,0,0,0,0,0,0,0,0,0,0,0,0,0,0,0,0,0,0,0,0,0,0,0,0,0,0,0,0,0,0,0,0,0,0,0,0,0]
[0,0,0,0,0,0,0,0,0,0,0,0,0,0,0,0,0,0,0,0,0,0,0,0,0,0,0,0,0,0,0,0,0,0,0,0,0,0,0,0,0,0,0,0,0,0,0,0,0,0,0,0,0]
[0,0,0,0,0,0,0,0,0,0,0,0,0,0,0,0,0,0,0,0,0,0,0,0,0,0,0,0,0,0,0,0,0,0,0,0,0,0,0,0,0,0,0,0,0,0,0,0,0,0,0,0,0]
[0,0,0,0,0,0,0,0,0,0,0,0,0,0,0,0,0,0,0,0,0,0,0,0,0,0,0,0,0,0,0,0,0,0,0,0,0,0,0,0,0,0,0,0,0,0,0,0,0,0,0,0,0]
[0,0,0,0,0,0,0,0,0,0,0,0,0,0,0,0,0,0,0,0,0,0,0,0,0,0,0,0,0,0,0,0,0,0,0,0,0,0,0,0,0,0,0,0,0,0,0,0,0,0,0,0,0]
[0,0,0,0,0,0,0,0,0,0,0,0,0,0,0,0,0,0,0,0,0,0,0,0,0,0,0,0,0,0,0,0,0,0,0,0,0,0,0,0,0,0,0,0,0,0,0,0,0,0,0,0,0]
[0,0,0,0,0,0,0,0,0,0,0,0,0,0,0,0,0,0,0,0,0,0,0,0,0,0,0,0,0,0,0,0,0,0,0,0,0,0,0,0,0,0,0,0,0,0,0,0,0,0,0,0,0]
[0,0,0,0,0,0,0,0,0,0,0,0,0,0,0,0,0,0,0,0,0,0,0,0,0,0,0,0,0,0,0,0,0,0,0,0,0,0,0,0,0,0,0,0,0,0,0,0,0,0,0,0,0]
[0,0,0,0,0,0,0,0,0,0,0,0,0,0,0,0,0,0,0,0,0,0,0,0,0,0,0,0,0,0,0,0,0,0,0,0,0,0,0,0,0,0,0,0,0,0,0,0,0,0,0,0,0]
[0,0,0,0,0,0,0,0,0,0,0,0,0,0,0,0,0,0,0,0,0,0,0,0,0,0,0,0,0,0,0,0,0,0,0,0,0,0,0,0,0,0,0,0,0,0,0,0,0,0,0,0,0]
[0,0,0,0,0,0,0,0,0,0,0,0,0,0,0,0,0,0,0,0,0,0,0,0,0,0,0,0,0,0,0,0,0,0,0,0,0,0,0,0,0,0,0,0,0,0,0,0,0,0,0,0,0]
[0,0,0,0,0,0,0,0,0,0,0,0,0,0,0,0,0,0,0,0,0,0,0,0,0,0,0,0,0,0,0,0,0,0,0,0,0,0,0,0,0,0,0,0,0,0,0,0,0,0,0,0,0]
[0,0,0,0,0,0,0,0,0,0,0,0,0,0,0,0,0,0,0,0,0,0,0,0,0,0,0,0,0,0,0,0,0,0,0,0,0,0,0,0,0,0,0,0,0,0,0,0,0,0,0,0,0]
[0,0,0,0,0,0,0,0,0,0,0,0,0,0,0,0,0,0,0,0,0,0,0,0,0,0,0,0,0,0,0,0,0,0,0,0,0,0,0,0,0,0,0,0,0,0,0,0,0,0,0,0,0]
[0,0,0,0,0,0,0,0,0,0,0,0,0,0,0,0,0,0,0,0,0,0,0,0,0,0,0,0,0,0,0,0,0,0,0,0,0,0,0,0,0,0,0,0,0,0,0,0,0,0,0,0,0]
[0,0,0,0,0,0,0,0,0,0,0,0,0,0,0,0,0,0,0,0,0,0,0,0,0,0,0,0,0,0,0,0,0,0,0,0,0,0,0,0,0,0,0,0,0,0,0,0,0,0,0,0,0]
[0,0,0,0,0,0,0,0,0,0,0,0,0,0,0,0,0,0,0,0,0,0,0,0,0,0,0,0,0,0,0,0,0,0,0,0,0,0,0,0,0,0,0,0,0,0,0,0,0,0,0,0,0]
[0,0,0,0,0,0,0,0,0,0,0,0,0,0,0,0,0,0,0,0,0,0,0,0,0,0,0,0,0,0,0,0,0,0,0,0,0,0,0,0,0,0,0,0,0,0,0,0,0,0,0,0,0]
[0,0,0,0,0,0,0,0,0,0,0,0,0,0,0,0,0,0,0,0,0,0,0,0,0,0,0,0,0,0,0,0,0,0,0,0,0,0,0,0,0,0,0,0,0,0,0,0,0,0,0,0,0]
[0,0,0,0,0,0,0,0,0,0,0,0,0,0,0,0,0,0,0,0,0,0,0,0,0,0,0,0,0,0,0,0,0,0,0,0,0,0,0,0,0,0,0,0,0,0,0,0,0,0,0,0,0]
[0,0,0,0,0,0,0,0,0,0,0,0,0,0,0,0,0,0,0,0,0,0,0,0,0,0,0,0,0,0,0,0,0,0,0,0,0,0,0,0,0,0,0,0,0,0,0,0,0,0,0,0,0]
[0,0,0,0,0,0,0,0,0,0,0,0,0,0,0,0,0,0,0,0,0,0,0,0,0,0,0,0,0,0,0,0,0,0,0,0,0,0,0,0,0,0,0,0,0,0,0,0,0,0,0,0,0]
[0,0,0,0,0,0,0,0,0,0,0,0,0,0,0,0,0,0,0,0,0,0,0,0,0,0,0,0,0,0,0,0,0,0,0,0,0,0,0,0,0,0,0,0,0,0,0,0,0,0,0,0,0]
[0,0,0,0,0,0,0,0,0,0,0,0,0,0,0,0,0,0,0,0,0,0,0,0,0,0,0,0,0,0,0,0,0,0,0,0,0,0,0,0,0,0,0,0,0,0,0,0,0,0,0,0,0]
[0,0,0,0,0,0,0,0,0,0,0,0,0,0,0,0,0,0,0,0,0,0,0,0,0,0,0,0,0,0,0,0,0,0,0,0,0,0,0,0,0,0,0,0,0,0,0,0,0,0,0,0,0]
[0,0,0,0,0,0,0,0,0,0,0,0,0,0,0,0,0,0,0,0,0,0,0,0,0,0,0,0,0,0,0,0,0,0,0,0,0,0,0,0,0,0,0,0,0,0,0,0,0,0,0,0,0]
[0,0,0,0,0,0,0,0,0,0,0,0,0,0,0,0,0,0,0,0,0,0,0,0,0,0,0,0,0,0,0,0,0,0,0,0,0,0,0,0,0,0,0,0,0,0,0,0,0,0,0,0,0]
[0,0,0,0,0,0,0,0,0,0,0,0,0,0,0,0,0,0,0,0,0,0,0,0,0,0,0,0,0,0,0,0,0,0,0,0,0,0,0,0,0,0,0,0,0,0,0,0,0,0,0,0,0]
[0,0,0,0,0,0,0,0,0,0,0,0,0,0,0,0,0,0,0,0,0,0,0,0,0,0,0,0,0,0,0,0,0,0,0,0,0,0,0,0,0,0,0,0,0,0,0,0,0,0,0,0,0]
[0,0,0,0,0,0,0,0,0,0,0,0,0,0,0,0,0,0,0,0,0,0,0,0,0,0,0,0,0,0,0,0,0,0,0,0,0,0,0,0,0,0,0,0,0,0,0,0,0,0,0,0,0]
[0,0,0,0,0,0,0,0,0,0,0,0,0,0,0,0,0,0,0,0,0,0,0,0,0,0,0,0,0,0,0,0,0,0,0,0,0,0,0,0,0,0,0,0,0,0,0,0,0,0,0,0,0]
[0,0,0,0,0,0,0,0,0,0,0,0,0,0,0,0,0,0,0,0,0,0,0,0,0,0,0,0,0,0,0,0,0,0,0,0,0,0,0,0,0,0,0,0,0,0,0,0,0,0,0,0,0]
[0,0,0,0,0,0,0,0,0,0,0,0,0,0,0,0,0,0,0,0,0,0,0,0,0,0,0,0,0,0,0,0,0,0,0,0,0,0,0,0,0,0,0,0,0,0,0,0,0,0,0,0,0]
[0,0,0,0,0,0,0,0,0,0,0,0,0,0,0,0,0,0,0,0,0,0,0,0,0,0,0,0,0,0,0,0,0,0,0,0,0,0,0,0,0,0,0,0,0,0,0,0,0,0,0,0,0]
[0,0,0,0,0,0,0,0,0,0,0,0,0,0,0,0,0,0,0,0,0,0,0,0,0,0,0,0,0,0,0,0,0,0,0,0,0,0,0,0,0,0,0,0,0,0,0,0,0,0,0,0,0]
[0,0,0,0,0,0,0,0,0,0,0,0,0,0,0,0,0,0,0,0,0,0,0,0,0,0,0,0,0,0,0,0,0,0,0,0,0,0,0,0,0,0,0,0,0,0,0,0,0,0,0,0,0]
[0,0,0,0,0,0,0,0,0,0,0,0,0,0,0,0,0,0,0,0,0,0,0,0,0,0,0,0,0,0,0,0,0,0,0,0,0,0,0,0,0,0,0,0,0,0,0,0,0,0,0,0,0]
[0,0,0,0,0,0,0,0,0,0,0,0,0,0,0,0,0,0,0,0,0,0,0,0,0,0,0,0,0,0,0,0,0,0,0,0,0,0,0,0,0,0,0,0,0,0,0,0,0,0,0,0,0]
[0,0,0,0,0,0,0,0,0,0,0,0,0,0,0,0,0,0,0,0,0,0,0,0,0,0,0,0,0,0,0,0,0,0,0,0,0,0,0,0,0,0,0,0,0,0,0,0,0,0,0,0,0]
[0,0,0,0,0,0,0,0,0,0,0,0,0,0,0,0,0,0,0,0,0,0,0,0,0,0,0,0,0,0,0,0,0,0,0,0,0,0,0,0,0,0,0,0,0,0,0,0,0,0,0,0,0]
[0,0,0,0,0,0,0,0,0,0,0,0,0,0,0,0,0,0,0,0,0,0,0,0,0,0,0,0,0,0,0,0,0,0,0,0,0,0,0,0,0,0,0,0,0,0,0,0,0,0,0,0,0]
[0,0,0,0,0,0,0,0,0,0,0,0,0,0,0,0,0,0,0,0,0,0,0,0,0,0,0,0,0,0,0,0,0,0,0,0,0,0,0,0,0,0,0,0,0,0,0,0,0,0,0,0,0]
[0,0,0,0,0,0,0,0,0,0,0,0,0,0,0,0,0,0,0,0,0,0,0,0,0,0,0,0,0,0,0,0,0,0,0,0,0,0,0,0,0,0,0,0,0,0,0,0,0,0,0,0,0]
[0,0,0,0,0,0,0,0,0,0,0,0,0,0,0,0,0,0,0,0,0,0,0,0,0,0,0,0,0,0,0,0,0,0,0,0,0,0,0,0,0,0,0,0,0,0,0,0,0,0,0,0,0]
[0,0,0,0,0,0,0,0,0,0,0,0,0,0,0,0,0,0,0,0,0,0,0,0,0,0,0,0,0,0,0,0,0,0,0,0,0,0,0,0,0,0,0,0,0,0,0,0,0,0,0,0,0]
[0,0,0,0,0,0,0,0,0,0,0,0,0,0,0,0,0,0,0,0,0,0,0,0,0,0,0,0,0,0,0,0,0,0,0,0,0,0,0,0,0,0,0,0,0,0,0,0,0,0,0,0,0]
[0,0,0,0,0,0,0,0,0,0,0,0,0,0,0,0,0,0,0,0,0,0,0,0,0,0,0,0,0,0,0,0,0,0,0,0,0,0,0,0,0,0,0,0,0,0,0,0,0,0,0,0,0]
[0,0,0,0,0,0,0,0,0,0,0,0,0,0,0,0,0,0,0,0,0,0,0,0,0,0,0,0,0,0,0,0,0,0,0,0,0,0,0,0,0,0,0,0,0,0,0,0,0,0,0,0,0]
[0,0,0,0,0,0,0,0,0,0,0,0,0,0,0,0,0,0,0,0,0,0,0,0,0,0,0,0,0,0,0,0,0,0,0,0,0,0,0,0,0,0,0,0,0,0,0,0,0,0,0,0,0]
[0,0,0,0,0,0,0,0,0,0,0,0,0,0,0,0,0,0,0,0,0,0,0,0,0,0,0,0,0,0,0,0,0,0,0,0,0,0,0,0,0,0,0,0,0,0,0,0,0,0,0,0,0]
[0,0,0,0,0,0,0,0,0,0,0,0,0,0,0,0,0,0,0,0,0,0,0,0,0,0,0,0,0,0,0,0,0,0,0,0,0,0,0,0,0,0,0,0,0,0,0,0,0,0,0,0,0]
[0,0,0,0,0,0,0,0,0,0,0,0,0,0,0,0,0,0,0,0,0,0,0,0,0,0,0,0,0,0,0,0,0,0,0,0,0,0,0,0,0,0,0,0,0,0,0,0,0,0,0,0,0]
[0,0,0,0,0,0,0,0,0,0,0,0,0,0,0,0,0,0,0,0,0,0,0,0,0,0,0,0,0,0,0,0,0,0,0,0,0,0,0,0,0,0,0,0,0,0,0,0,0,0,0,0,0]
[0,0,0,0,0,0,0,0,0,0,0,0,0,0,0,0,0,0,0,0,0,0,0,0,0,0,0,0,0,0,0,0,0,0,0,0,0,0,0,0,0,0,0,0,0,0,0,0,0,0,0,0,0]
[0,0,0,0,0,0,0,0,0,0,0,0,0,0,0,0,0,0,0,0,0,0,0,0,0,0,0,0,0,0,0,0,0,0,0,0,0,0,0,0,0,0,0,0,0,0,0,0,0,0,0,0,0]
[0,0,0,0,0,0,0,0,0,0,0,0,0,0,0,0,0,0,0,0,0,0,0,0,0,0,0,0,0,0,0,0,0,0,0,0,0,0,0,0,0,0,0,0,0,0,0,0,0,0,0,0,0]
[0,0,0,0,0,0,0,0,0,0,0,0,0,0,0,0,0,0,0,0,0,0,0,0,0,0,0,0,0,0,0,0,0,0,0,0,0,0,0,0,0,0,0,0,0,0,0,0,0,0,0,0,0]
[0,0,0,0,0,0,0,0,0,0,0,0,0,0,0,0,0,0,0,0,0,0,0,0,0,0,0,0,0,0,0,0,0,0,0,0,0,0,0,0,0,0,0,0,0,0,0,0,0,0,0,0,0]
[0,0,0,0,0,0,0,0,0,0,0,0,0,0,0,0,0,0,0,0,0,0,0,0,0,0,0,0,0,0,0,0,0,0,0,0,0,0,0,0,0,0,0,0,0,0,0,0,0,0,0,0,0]
[0,0,0,0,0,0,0,0,0,0,0,0,0,0,0,0,0,0,0,0,0,0,0,0,0,0,0,0,0,0,0,0,0,0,0,0,0,0,0,0,0,0,0,0,0,0,0,0,0,0,0,0,0]
[0,0,0,0,0,0,0,0,0,0,0,0,0,0,0,0,0,0,0,0,0,0,0,0,0,0,0,0,0,0,0,0,0,0,0,0,0,0,0,0,0,0,0,0,0,0,0,0,0,0,0,0,0]
[0,0,0,0,0,0,0,0,0,0,0,0,0,0,0,0,0,0,0,0,0,0,0,0,0,0,0,0,0,0,0,0,0,0,0,0,0,0,0,0,0,0,0,0,0,0,0,0,0,0,0,0,0]
[0,0,0,0,0,0,0,0,0,0,0,0,0,0,0,0,0,0,0,0,0,0,0,0,0,0,0,0,0,0,0,0,0,0,0,0,0,0,0,0,0,0,0,0,0,0,0,0,0,0,0,0,0]
[0,0,0,0,0,0,0,0,0,0,0,0,0,0,0,0,0,0,0,0,0,0,0,0,0,0,0,0,0,0,0,0,0,0,0,0,0,0,0,0,0,0,0,0,0,0,0,0,0,0,0,0,0]
[0,0,0,0,0,0,0,0,0,0,0,0,0,0,0,0,0,0,0,0,0,0,0,0,0,0,0,0,0,0,0,0,0,0,0,0,0,0,0,0,0,0,0,0,0,0,0,0,0,0,0,0,0]
[0,0,0,0,0,0,0,0,0,0,0,0,0,0,0,0,0,0,0,0,0,0,0,0,0,0,0,0,0,0,0,0,0,0,0,0,0,0,0,0,0,0,0,0,0,0,0,0,0,0,0,0,0]
[0,0,0,0,0,0,0,0,0,0,0,0,0,0,0,0,0,0,0,0,0,0,0,0,0,0,0,0,0,0,0,0,0,0,0,0,0,0,0,0,0,0,0,0,0,0,0,0,0,0,0,0,0]
[0,0,0,0,0,0,0,0,0,0,0,0,0,0,0,0,0,0,0,0,0,0,0,0,0,0,0,0,0,0,0,0,0,0,0,0,0,0,0,0,0,0,0,0,0,0,0,0,0,0,0,0,0]
[0,0,0,0,0,0,0,0,0,0,0,0,0,0,0,0,0,0,0,0,0,0,0,0,0,0,0,0,0,0,0,0,0,0,0,0,0,0,0,0,0,0,0,0,0,0,0,0,0,0,0,0,0]
[0,0,0,0,0,0,0,0,0,0,0,0,0,0,0,0,0,0,0,0,0,0,0,0,0,0,0,0,0,0,0,0,0,0,0,0,0,0,0,0,0,0,0,0,0,0,0,0,0,0,0,0,0]
[0,0,0,0,0,0,0,0,0,0,0,0,0,0,0,0,0,0,0,0,0,0,0,0,0,0,0,0,0,0,0,0,0,0,0,0,0,0,0,0,0,0,0,0,0,0,0,0,0,0,0,0,0]
[0,0,0,0,0,0,0,0,0,0,0,0,0,0,0,0,0,0,0,0,0,0,0,0,0,0,0,0,0,0,0,0,0,0,0,0,0,0,0,0,0,0,0,0,0,0,0,0,0,0,0,0,0]
[0,0,0,0,0,0,0,0,0,0,0,0,0,0,0,0,0,0,0,0,0,0,0,0,0,0,0,0,0,0,0,0,0,0,0,0,0,0,0,0,0,0,0,0,0,0,0,0,0,0,0,0,0]
[0,0,0,0,0,0,0,0,0,0,0,0,0,0,0,0,0,0,0,0,0,0,0,0,0,0,0,0,0,0,0,0,0,0,0,0,0,0,0,0,0,0,0,0,0,0,0,0,0,0,0,0,0]
[0,0,0,0,0,0,0,0,0,0,0,0,0,0,0,0,0,0,0,0,0,0,0,0,0,0,0,0,0,0,0,0,0,0,0,0,0,0,0,0,0,0,0,0,0,0,0,0,0,0,0,0,0]
[0,0,0,0,0,0,0,0,0,0,0,0,0,0,0,0,0,0,0,0,0,0,0,0,0,0,0,0,0,0,0,0,0,0,0,0,0,0,0,0,0,0,0,0,0,0,0,0,0,0,0,0,0]
[0,0,0,0,0,0,0,0,0,0,0,0,0,0,0,0,0,0,0,0,0,0,0,0,0,0,0,0,0,0,0,0,0,0,0,0,0,0,0,0,0,0,0,0,0,0,0,0,0,0,0,0,0]
[0,0,0,0,0,0,0,0,0,0,0,0,0,0,0,0,0,0,0,0,0,0,0,0,0,0,0,0,0,0,0,0,0,0,0,0,0,0,0,0,0,0,0,0,0,0,0,0,0,0,0,0,0]
[0,0,0,0,0,0,0,0,0,0,0,0,0,0,0,0,0,0,0,0,0,0,0,0,0,0,0,0,0,0,0,0,0,0,0,0,0,0,0,0,0,0,0,0,0,0,0,0,0,0,0,0,0]
[0,0,0,0,0,0,0,0,0,0,0,0,0,0,0,0,0,0,0,0,0,0,0,0,0,0,0,0,0,0,0,0,0,0,0,0,0,0,0,0,0,0,0,0,0,0,0,0,0,0,0,0,0]
[0,0,0,0,0,0,0,0,0,0,0,0,0,0,0,0,0,0,0,0,0,0,0,0,0,0,0,0,0,0,0,0,0,0,0,0,0,0,0,0,0,0,0,0,0,0,0,0,0,0,0,0,0]
[0,0,0,0,0,0,0,0,0,0,0,0,0,0,0,0,0,0,0,0,0,0,0,0,0,0,0,0,0,0,0,0,0,0,0,0,0,0,0,0,0,0,0,0,0,0,0,0,0,0,0,0,0]
[0,0,0,0,0,0,0,0,0,0,0,0,0,0,0,0,0,0,0,0,0,0,0,0,0,0,0,0,0,0,0,0,0,0,0,0,0,0,0,0,0,0,0,0,0,0,0,0,0,0,0,0,0]
[0,0,0,0,0,0,0,0,0,0,0,0,0,0,0,0,0,0,0,0,0,0,0,0,0,0,0,0,0,0,0,0,0,0,0,0,0,0,0,0,0,0,0,0,0,0,0,0,0,0,0,0,0]
[0,0,0,0,0,0,0,0,0,0,0,0,0,0,0,0,0,0,0,0,0,0,0,0,0,0,0,0,0,0,0,0,0,0,0,0,0,0,0,0,0,0,0,0,0,0,0,0,0,0,0,0,0]
[0,0,0,0,0,0,0,0,0,0,0,0,0,0,0,0,0,0,0,0,0,0,0,0,0,0,0,0,0,0,0,0,0,0,0,0,0,0,0,0,0,0,0,0,0,0,0,0,0,0,0,0,0]
[0,0,0,0,0,0,0,0,0,0,0,0,0,0,0,0,0,0,0,0,0,0,0,0,0,0,0,0,0,0,0,0,0,0,0,0,0,0,0,0,0,0,0,0,0,0,0,0,0,0,0,0,0]
[0,0,0,0,0,0,0,0,0,0,0,0,0,0,0,0,0,0,0,0,0,0,0,0,0,0,0,0,0,0,0,0,0,0,0,0,0,0,0,0,0,0,0,0,0,0,0,0,0,0,0,0,0]
[0,0,0,0,0,0,0,0,0,0,0,0,0,0,0,0,0,0,0,0,0,0,0,0,0,0,0,0,0,0,0,0,0,0,0,0,0,0,0,0,0,0,0,0,0,0,0,0,0,0,0,0,0]
[0,0,0,0,0,0,0,0,0,0,0,0,0,0,0,0,0,0,0,0,0,0,0,0,0,0,0,0,0,0,0,0,0,0,0,0,0,0,0,0,0,0,0,0,0,0,0,0,0,0,0,0,0]
[0,0,0,0,0,0,0,0,0,0,0,0,0,0,0,0,0,0,0,0,0,0,0,0,0,0,0,0,0,0,0,0,0,0,0,0,0,0,0,0,0,0,0,0,0,0,0,0,0,0,0,0,0]
[0,0,0,0,0,0,0,0,0,0,0,0,0,0,0,0,0,0,0,0,0,0,0,0,0,0,0,0,0,0,0,0,0,0,0,0,0,0,0,0,0,0,0,0,0,0,0,0,0,0,0,0,0]
[0,0,0,0,0,0,0,0,0,0,0,0,0,0,0,0,0,0,0,0,0,0,0,0,0,0,0,0,0,0,0,0,0,0,0,0,0,0,0,0,0,0,0,0,0,0,0,0,0,0,0,0,0]
[0,0,0,0,0,0,0,0,0,0,0,0,0,0,0,0,0,0,0,0,0,0,0,0,0,0,0,0,0,0,0,0,0,0,0,0,0,0,0,0,0,0,0,0,0,0,0,0,0,0,0,0,0]
[0,0,0,0,0,0,0,0,0,0,0,0,0,0,0,0,0,0,0,0,0,0,0,0,0,0,0,0,0,0,0,0,0,0,0,0,0,0,0,0,0,0,0,0,0,0,0,0,0,0,0,0,0]
[0,0,0,0,0,0,0,0,0,0,0,0,0,0,0,0,0,0,0,0,0,0,0,0,0,0,0,0,0,0,0,0,0,0,0,0,0,0,0,0,0,0,0,0,0,0,0,0,0,0,0,0,0]
[0,0,0,0,0,0,0,0,0,0,0,0,0,0,0,0,0,0,0,0,0,0,0,0,0,0,0,0,0,0,0,0,0,0,0,0,0,0,0,0,0,0,0,0,0,0,0,0,0,0,0,0,0]
[0,0,0,0,0,0,0,0,0,0,0,0,0,0,0,0,0,0,0,0,0,0,0,0,0,0,0,0,0,0,0,0,0,0,0,0,0,0,0,0,0,0,0,0,0,0,0,0,0,0,0,0,0]
[0,0,0,0,0,0,0,0,0,0,0,0,0,0,0,0,0,0,0,0,0,0,0,0,0,0,0,0,0,0,0,0,0,0,0,0,0,0,0,0,0,0,0,0,0,0,0,0,0,0,0,0,0]
[0,0,0,0,0,0,0,0,0,0,0,0,0,0,0,0,0,0,0,0,0,0,0,0,0,0,0,0,0,0,0,0,0,0,0,0,0,0,0,0,0,0,0,0,0,0,0,0,0,0,0,0,0]
[0,0,0,0,0,0,0,0,0,0,0,0,0,0,0,0,0,0,0,0,0,0,0,0,0,0,0,0,0,0,0,0,0,0,0,0,0,0,0,0,0,0,0,0,0,0,0,0,0,0,0,0,0]
[0,0,0,0,0,0,0,0,0,0,0,0,0,0,0,0,0,0,0,0,0,0,0,0,0,0,0,0,0,0,0,0,0,0,0,0,0,0,0,0,0,0,0,0,0,0,0,0,0,0,0,0,0]
[0,0,0,0,0,0,0,0,0,0,0,0,0,0,0,0,0,0,0,0,0,0,0,0,0,0,0,0,0,0,0,0,0,0,0,0,0,0,0,0,0,0,0,0,0,0,0,0,0,0,0,0,0]
[0,0,0,0,0,0,0,0,0,0,0,0,0,0,0,0,0,0,0,0,0,0,0,0,0,0,0,0,0,0,0,0,0,0,0,0,0,0,0,0,0,0,0,0,0,0,0,0,0,0,0,0,0]
[0,0,0,0,0,0,0,0,0,0,0,0,0,0,0,0,0,0,0,0,0,0,0,0,0,0,0,0,0,0,0,0,0,0,0,0,0,0,0,0,0,0,0,0,0,0,0,0,0,0,0,0,0]
[0,0,0,0,0,0,0,0,0,0,0,0,0,0,0,0,0,0,0,0,0,0,0,0,0,0,0,0,0,0,0,0,0,0,0,0,0,0,0,0,0,0,0,0,0,0,0,0,0,0,0,0,0]
[0,0,0,0,0,0,0,0,0,0,0,0,0,0,0,0,0,0,0,0,0,0,0,0,0,0,0,0,0,0,0,0,0,0,0,0,0,0,0,0,0,0,0,0,0,0,0,0,0,0,0,0,0]
[0,0,0,0,0,0,0,0,0,0,0,0,0,0,0,0,0,0,0,0,0,0,0,0,0,0,0,0,0,0,0,0,0,0,0,0,0,0,0,0,0,0,0,0,0,0,0,0,0,0,0,0,0]
[0,0,0,0,0,0,0,0,0,0,0,0,0,0,0,0,0,0,0,0,0,0,0,0,0,0,0,0,0,0,0,0,0,0,0,0,0,0,0,0,0,0,0,0,0,0,0,0,0,0,0,0,0]
[0,0,0,0,0,0,0,0,0,0,0,0,0,0,0,0,0,0,0,0,0,0,0,0,0,0,0,0,0,0,0,0,0,0,0,0,0,0,0,0,0,0,0,0,0,0,0,0,0,0,0,0,0]
[0,0,0,0,0,0,0,0,0,0,0,0,0,0,0,0,0,0,0,0,0,0,0,0,0,0,0,0,0,0,0,0,0,0,0,0,0,0,0,0,0,0,0,0,0,0,0,0,0,0,0,0,0]
[0,0,0,0,0,0,0,0,0,0,0,0,0,0,0,0,0,0,0,0,0,0,0,0,0,0,0,0,0,0,0,0,0,0,0,0,0,0,0,0,0,0,0,0,0,0,0,0,0,0,0,0,0]
[0,0,0,0,0,0,0,0,0,0,0,0,0,0,0,0,0,0,0,0,0,0,0,0,0,0,0,0,0,0,0,0,0,0,0,0,0,0,0,0,0,0,0,0,0,0,0,0,0,0,0,0,0]
[0,0,0,0,0,0,0,0,0,0,0,0,0,0,0,0,0,0,0,0,0,0,0,0,0,0,0,0,0,0,0,0,0,0,0,0,0,0,0,0,0,0,0,0,0,0,0,0,0,0,0,0,0]
[0,0,0,0,0,0,0,0,0,0,0,0,0,0,0,0,0,0,0,0,0,0,0,0,0,0,0,0,0,0,0,0,0,0,0,0,0,0,0,0,0,0,0,0,0,0,0,0,0,0,0,0,0]
[0,0,0,0,0,0,0,0,0,0,0,0,0,0,0,0,0,0,0,0,0,0,0,0,0,0,0,0,0,0,0,0,0,0,0,0,0,0,0,0,0,0,0,0,0,0,0,0,0,0,0,0,0]
[0,0,0,0,0,0,0,0,0,0,0,0,0,0,0,0,0,0,0,0,0,0,0,0,0,0,0,0,0,0,0,0,0,0,0,0,0,0,0,0,0,0,0,0,0,0,0,0,0,0,0,0,0]
[0,0,0,0,0,0,0,0,0,0,0,0,0,0,0,0,0,0,0,0,0,0,0,0,0,0,0,0,0,0,0,0,0,0,0,0,0,0,0,0,0,0,0,0,0,0,0,0,0,0,0,0,0]
[0,0,0,0,0,0,0,0,0,0,0,0,0,0,0,0,0,0,0,0,0,0,0,0,0,0,0,0,0,0,0,0,0,0,0,0,0,0,0,0,0,0,0,0,0,0,0,0,0,0,0,0,0]
[0,0,0,0,0,0,0,0,0,0,0,0,0,0,0,0,0,0,0,0,0,0,0,0,0,0,0,0,0,0,0,0,0,0,0,0,0,0,0,0,0,0,0,0,0,0,0,0,0,0,0,0,0]
[0,0,0,0,0,0,0,0,0,0,0,0,0,0,0,0,0,0,0,0,0,0,0,0,0,0,0,0,0,0,0,0,0,0,0,0,0,0,0,0,0,0,0,0,0,0,0,0,0,0,0,0,0]
[0,0,0,0,0,0,0,0,0,0,0,0,0,0,0,0,0,0,0,0,0,0,0,0,0,0,0,0,0,0,0,0,0,0,0,0,0,0,0,0,0,0,0,0,0,0,0,0,0,0,0,0,0]
[0,0,0,0,0,0,0,0,0,0,0,0,0,0,0,0,0,0,0,0,0,0,0,0,0,0,0,0,0,0,0,0,0,0,0,0,0,0,0,0,0,0,0,0,0,0,0,0,0,0,0,0,0]
[0,0,0,0,0,0,0,0,0,0,0,0,0,0,0,0,0,0,0,0,0,0,0,0,0,0,0,0,0,0,0,0,0,0,0,0,0,0,0,0,0,0,0,0,0,0,0,0,0,0,0,0,0]
[0,0,0,0,0,0,0,0,0,0,0,0,0,0,0,0,0,0,0,0,0,0,0,0,0,0,0,0,0,0,0,0,0,0,0,0,0,0,0,0,0,0,0,0,0,0,0,0,0,0,0,0,0]
[0,0,0,0,0,0,0,0,0,0,0,0,0,0,0,0,0,0,0,0,0,0,0,0,0,0,0,0,0,0,0,0,0,0,0,0,0,0,0,0,0,0,0,0,0,0,0,0,0,0,0,0,0]
[0,0,0,0,0,0,0,0,0,0,0,0,0,0,0,0,0,0,0,0,0,0,0,0,0,0,0,0,0,0,0,0,0,0,0,0,0,0,0,0,0,0,0,0,0,0,0,0,0,0,0,0,0]
[0,0,0,0,0,0,0,0,0,0,0,0,0,0,0,0,0,0,0,0,0,0,0,0,0,0,0,0,0,0,0,0,0,0,0,0,0,0,0,0,0,0,0,0,0,0,0,0,0,0,0,0,0]
[0,0,0,0,0,0,0,0,0,0,0,0,0,0,0,0,0,0,0,0,0,0,0,0,0,0,0,0,0,0,0,0,0,0,0,0,0,0,0,0,0,0,0,0,0,0,0,0,0,0,0,0,0]
[0,0,0,0,0,0,0,0,0,0,0,0,0,0,0,0,0,0,0,0,0,0,0,0,0,0,0,0,0,0,0,0,0,0,0,0,0,0,0,0,0,0,0,0,0,0,0,0,0,0,0,0,0]
[0,0,0,0,0,0,0,0,0,0,0,0,0,0,0,0,0,0,0,0,0,0,0,0,0,0,0,0,0,0,0,0,0,0,0,0,0,0,0,0,0,0,0,0,0,0,0,0,0,0,0,0,0]
[0,0,0,0,0,0,0,0,0,0,0,0,0,0,0,0,0,0,0,0,0,0,0,0,0,0,0,0,0,0,0,0,0,0,0,0,0,0,0,0,0,0,0,0,0,0,0,0,0,0,0,0,0]
[0,0,0,0,0,0,0,0,0,0,0,0,0,0,0,0,0,0,0,0,0,0,0,0,0,0,0,0,0,0,0,0,0,0,0,0,0,0,0,0,0,0,0,0,0,0,0,0,0,0,0,0,0]
[0,0,0,0,0,0,0,0,0,0,0,0,0,0,0,0,0,0,0,0,0,0,0,0,0,0,0,0,0,0,0,0,0,0,0,0,0,0,0,0,0,0,0,0,0,0,0,0,0,0,0,0,0]
[0,0,0,0,0,0,0,0,0,0,0,0,0,0,0,0,0,0,0,0,0,0,0,0,0,0,0,0,0,0,0,0,0,0,0,0,0,0,0,0,0,0,0,0,0,0,0,0,0,0,0,0,0]
[0,0,0,0,0,0,0,0,0,0,0,0,0,0,0,0,0,0,0,0,0,0,0,0,0,0,0,0,0,0,0,0,0,0,0,0,0,0,0,0,0,0,0,0,0,0,0,0,0,0,0,0,0]
[0,0,0,0,0,0,0,0,0,0,0,0,0,0,0,0,0,0,0,0,0,0,0,0,0,0,0,0,0,0,0,0,0,0,0,0,0,0,0,0,0,0,0,0,0,0,0,0,0,0,0,0,0]
[0,0,0,0,0,0,0,0,0,0,0,0,0,0,0,0,0,0,0,0,0,0,0,0,0,0,0,0,0,0,0,0,0,0,0,0,0,0,0,0,0,0,0,0,0,0,0,0,0,0,0,0,0]
[0,0,0,0,0,0,0,0,0,0,0,0,0,0,0,0,0,0,0,0,0,0,0,0,0,0,0,0,0,0,0,0,0,0,0,0,0,0,0,0,0,0,0,0,0,0,0,0,0,0,0,0,0]
[0,0,0,0,0,0,0,0,0,0,0,0,0,0,0,0,0,0,0,0,0,0,0,0,0,0,0,0,0,0,0,0,0,0,0,0,0,0,0,0,0,0,0,0,0,0,0,0,0,0,0,0,0]
[0,0,0,0,0,0,0,0,0,0,0,0,0,0,0,0,0,0,0,0,0,0,0,0,0,0,0,0,0,0,0,0,0,0,0,0,0,0,0,0,0,0,0,0,0,0,0,0,0,0,0,0,0]
[0,0,0,0,0,0,0,0,0,0,0,0,0,0,0,0,0,0,0,0,0,0,0,0,0,0,0,0,0,0,0,0,0,0,0,0,0,0,0,0,0,0,0,0,0,0,0,0,0,0,0,0,0]
[0,0,0,0,0,0,0,0,0,0,0,0,0,0,0,0,0,0,0,0,0,0,0,0,0,0,0,0,0,0,0,0,0,0,0,0,0,0,0,0,0,0,0,0,0,0,0,0,0,0,0,0,0]
[0,0,0,0,0,0,0,0,0,0,0,0,0,0,0,0,0,0,0,0,0,0,0,0,0,0,0,0,0,0,0,0,0,0,0,0,0,0,0,0,0,0,0,0,0,0,0,0,0,0,0,0,0]
[0,0,0,0,0,0,0,0,0,0,0,0,0,0,0,0,0,0,0,0,0,0,0,0,0,0,0,0,0,0,0,0,0,0,0,0,0,0,0,0,0,0,0,0,0,0,0,0,0,0,0,0,0]
[0,0,0,0,0,0,0,0,0,0,0,0,0,0,0,0,0,0,0,0,0,0,0,0,0,0,0,0,0,0,0,0,0,0,0,0,0,0,0,0,0,0,0,0,0,0,0,0,0,0,0,0,0]
[0,0,0,0,0,0,0,0,0,0,0,0,0,0,0,0,0,0,0,0,0,0,0,0,0,0,0,0,0,0,0,0,0,0,0,0,0,0,0,0,0,0,0,0,0,0,0,0,0,0,0,0,0]
[0,0,0,0,0,0,0,0,0,0,0,0,0,0,0,0,0,0,0,0,0,0,0,0,0,0,0,0,0,0,0,0,0,0,0,0,0,0,0,0,0,0,0,0,0,0,0,0,0,0,0,0,0]
[0,0,0,0,0,0,0,0,0,0,0,0,0,0,0,0,0,0,0,0,0,0,0,0,0,0,0,0,0,0,0,0,0,0,0,0,0,0,0,0,0,0,0,0,0,0,0,0,0,0,0,0,0]
[0,0,0,0,0,0,0,0,0,0,0,0,0,0,0,0,0,0,0,0,0,0,0,0,0,0,0,0,0,0,0,0,0,0,0,0,0,0,0,0,0,0,0,0,0,0,0,0,0,0,0,0,0]
[0,0,0,0,0,0,0,0,0,0,0,0,0,0,0,0,0,0,0,0,0,0,0,0,0,0,0,0,0,0,0,0,0,0,0,0,0,0,0,0,0,0,0,0,0,0,0,0,0,0,0,0,0]
[0,0,0,0,0,0,0,0,0,0,0,0,0,0,0,0,0,0,0,0,0,0,0,0,0,0,0,0,0,0,0,0,0,0,0,0,0,0,0,0,0,0,0,0,0,0,0,0,0,0,0,0,0]
[0,0,0,0,0,0,0,0,0,0,0,0,0,0,0,0,0,0,0,0,0,0,0,0,0,0,0,0,0,0,0,0,0,0,0,0,0,0,0,0,0,0,0,0,0,0,0,0,0,0,0,0,0]
[0,0,0,0,0,0,0,0,0,0,0,0,0,0,0,0,0,0,0,0,0,0,0,0,0,0,0,0,0,0,0,0,0,0,0,0,0,0,0,0,0,0,0,0,0,0,0,0,0,0,0,0,0]
[0,0,0,0,0,0,0,0,0,0,0,0,0,0,0,0,0,0,0,0,0,0,0,0,0,0,0,0,0,0,0,0,0,0,0,0,0,0,0,0,0,0,0,0,0,0,0,0,0,0,0,0,0]
[0,0,0,0,0,0,0,0,0,0,0,0,0,0,0,0,0,0,0,0,0,0,0,0,0,0,0,0,0,0,0,0,0,0,0,0,0,0,0,0,0,0,0,0,0,0,0,0,0,0,0,0,0]
[0,0,0,0,0,0,0,0,0,0,0,0,0,0,0,0,0,0,0,0,0,0,0,0,0,0,0,0,0,0,0,0,0,0,0,0,0,0,0,0,0,0,0,0,0,0,0,0,0,0,0,0,0]
[0,0,0,0,0,0,0,0,0,0,0,0,0,0,0,0,0,0,0,0,0,0,0,0,0,0,0,0,0,0,0,0,0,0,0,0,0,0,0,0,0,0,0,0,0,0,0,0,0,0,0,0,0]
[0,0,0,0,0,0,0,0,0,0,0,0,0,0,0,0,0,0,0,0,0,0,0,0,0,0,0,0,0,0,0,0,0,0,0,0,0,0,0,0,0,0,0,0,0,0,0,0,0,0,0,0,0]
[0,0,0,0,0,0,0,0,0,0,0,0,0,0,0,0,0,0,0,0,0,0,0,0,0,0,0,0,0,0,0,0,0,0,0,0,0,0,0,0,0,0,0,0,0,0,0,0,0,0,0,0,0]
[0,0,0,0,0,0,0,0,0,0,0,0,0,0,0,0,0,0,0,0,0,0,0,0,0,0,0,0,0,0,0,0,0,0,0,0,0,0,0,0,0,0,0,0,0,0,0,0,0,0,0,0,0]
[0,0,0,0,0,0,0,0,0,0,0,0,0,0,0,0,0,0,0,0,0,0,0,0,0,0,0,0,0,0,0,0,0,0,0,0,0,0,0,0,0,0,0,0,0,0,0,0,0,0,0,0,0]
[0,0,0,0,0,0,0,0,0,0,0,0,0,0,0,0,0,0,0,0,0,0,0,0,0,0,0,0,0,0,0,0,0,0,0,0,0,0,0,0,0,0,0,0,0,0,0,0,0,0,0,0,0]
[0,0,0,0,0,0,0,0,0,0,0,0,0,0,0,0,0,0,0,0,0,0,0,0,0,0,0,0,0,0,0,0,0,0,0,0,0,0,0,0,0,0,0,0,0,0,0,0,0,0,0,0,0]
[0,0,0,0,0,0,0,0,0,0,0,0,0,0,0,0,0,0,0,0,0,0,0,0,0,0,0,0,0,0,0,0,0,0,0,0,0,0,0,0,0,0,0,0,0,0,0,0,0,0,0,0,0]
[0,0,0,0,0,0,0,0,0,0,0,0,0,0,0,0,0,0,0,0,0,0,0,0,0,0,0,0,0,0,0,0,0,0,0,0,0,0,0,0,0,0,0,0,0,0,0,0,0,0,0,0,0]
[0,0,0,0,0,0,0,0,0,0,0,0,0,0,0,0,0,0,0,0,0,0,0,0,0,0,0,0,0,0,0,0,0,0,0,0,0,0,0,0,0,0,0,0,0,0,0,0,0,0,0,0,0]
[0,0,0,0,0,0,0,0,0,0,0,0,0,0,0,0,0,0,0,0,0,0,0,0,0,0,0,0,0,0,0,0,0,0,0,0,0,0,0,0,0,0,0,0,0,0,0,0,0,0,0,0,0]
[0,0,0,0,0,0,0,0,0,0,0,0,0,0,0,0,0,0,0,0,0,0,0,0,0,0,0,0,0,0,0,0,0,0,0,0,0,0,0,0,0,0,0,0,0,0,0,0,0,0,0,0,0]
[0,0,0,0,0,0,0,0,0,0,0,0,0,0,0,0,0,0,0,0,0,0,0,0,0,0,0,0,0,0,0,0,0,0,0,0,0,0,0,0,0,0,0,0,0,0,0,0,0,0,0,0,0]
[0,0,0,0,0,0,0,0,0,0,0,0,0,0,0,0,0,0,0,0,0,0,0,0,0,0,0,0,0,0,0,0,0,0,0,0,0,0,0,0,0,0,0,0,0,0,0,0,0,0,0,0,0]
[0,0,0,0,0,0,0,0,0,0,0,0,0,0,0,0,0,0,0,0,0,0,0,0,0,0,0,0,0,0,0,0,0,0,0,0,0,0,0,0,0,0,0,0,0,0,0,0,0,0,0,0,0]
[0,0,0,0,0,0,0,0,0,0,0,0,0,0,0,0,0,0,0,0,0,0,0,0,0,0,0,0,0,0,0,0,0,0,0,0,0,0,0,0,0,0,0,0,0,0,0,0,0,0,0,0,0]
[0,0,0,0,0,0,0,0,0,0,0,0,0,0,0,0,0,0,0,0,0,0,0,0,0,0,0,0,0,0,0,0,0,0,0,0,0,0,0,0,0,0,0,0,0,0,0,0,0,0,0,0,0]
[0,0,0,0,0,0,0,0,0,0,0,0,0,0,0,0,0,0,0,0,0,0,0,0,0,0,0,0,0,0,0,0,0,0,0,0,0,0,0,0,0,0,0,0,0,0,0,0,0,0,0,0,0]
[0,0,0,0,0,0,0,0,0,0,0,0,0,0,0,0,0,0,0,0,0,0,0,0,0,0,0,0,0,0,0,0,0,0,0,0,0,0,0,0,0,0,0,0,0,0,0,0,0,0,0,0,0]
[0,0,0,0,0,0,0,0,0,0,0,0,0,0,0,0,0,0,0,0,0,0,0,0,0,0,0,0,0,0,0,0,0,0,0,0,0,0,0,0,0,0,0,0,0,0,0,0,0,0,0,0,0]
[0,0,0,0,0,0,0,0,0,0,0,0,0,0,0,0,0,0,0,0,0,0,0,0,0,0,0,0,0,0,0,0,0,0,0,0,0,0,0,0,0,0,0,0,0,0,0,0,0,0,0,0,0]
[0,0,0,0,0,0,0,0,0,0,0,0,0,0,0,0,0,0,0,0,0,0,0,0,0,0,0,0,0,0,0,0,0,0,0,0,0,0,0,0,0,0,0,0,0,0,0,0,0,0,0,0,0]
[0,0,0,0,0,0,0,0,0,0,0,0,0,0,0,0,0,0,0,0,0,0,0,0,0,0,0,0,0,0,0,0,0,0,0,0,0,0,0,0,0,0,0,0,0,0,0,0,0,0,0,0,0]
[0,0,0,0,0,0,0,0,0,0,0,0,0,0,0,0,0,0,0,0,0,0,0,0,0,0,0,0,0,0,0,0,0,0,0,0,0,0,0,0,0,0,0,0,0,0,0,0,0,0,0,0,0]
[0,0,0,0,0,0,0,0,0,0,0,0,0,0,0,0,0,0,0,0,0,0,0,0,0,0,0,0,0,0,0,0,0,0,0,0,0,0,0,0,0,0,0,0,0,0,0,0,0,0,0,0,0]
[0,0,0,0,0,0,0,0,0,0,0,0,0,0,0,0,0,0,0,0,0,0,0,0,0,0,0,0,0,0,0,0,0,0,0,0,0,0,0,0,0,0,0,0,0,0,0,0,0,0,0,0,0]
[0,0,0,0,0,0,0,0,0,0,0,0,0,0,0,0,0,0,0,0,0,0,0,0,0,0,0,0,0,0,0,0,0,0,0,0,0,0,0,0,0,0,0,0,0,0,0,0,0,0,0,0,0]
[0,0,0,0,0,0,0,0,0,0,0,0,0,0,0,0,0,0,0,0,0,0,0,0,0,0,0,0,0,0,0,0,0,0,0,0,0,0,0,0,0,0,0,0,0,0,0,0,0,0,0,0,0]
[0,0,0,0,0,0,0,0,0,0,0,0,0,0,0,0,0,0,0,0,0,0,0,0,0,0,0,0,0,0,0,0,0,0,0,0,0,0,0,0,0,0,0,0,0,0,0,0,0,0,0,0,0]
[0,0,0,0,0,0,0,0,0,0,0,0,0,0,0,0,0,0,0,0,0,0,0,0,0,0,0,0,0,0,0,0,0,0,0,0,0,0,0,0,0,0,0,0,0,0,0,0,0,0,0,0,0]
[0,0,0,0,0,0,0,0,0,0,0,0,0,0,0,0,0,0,0,0,0,0,0,0,0,0,0,0,0,0,0,0,0,0,0,0,0,0,0,0,0,0,0,0,0,0,0,0,0,0,0,0,0]
[0,0,0,0,0,0,0,0,0,0,0,0,0,0,0,0,0,0,0,0,0,0,0,0,0,0,0,0,0,0,0,0,0,0,0,0,0,0,0,0,0,0,0,0,0,0,0,0,0,0,0,0,0]
[0,0,0,0,0,0,0,0,0,0,0,0,0,0,0,0,0,0,0,0,0,0,0,0,0,0,0,0,0,0,0,0,0,0,0,0,0,0,0,0,0,0,0,0,0,0,0,0,0,0,0,0,0]
[0,0,0,0,0,0,0,0,0,0,0,0,0,0,0,0,0,0,0,0,0,0,0,0,0,0,0,0,0,0,0,0,0,0,0,0,0,0,0,0,0,0,0,0,0,0,0,0,0,0,0,0,0]
[0,0,0,0,0,0,0,0,0,0,0,0,0,0,0,0,0,0,0,0,0,0,0,0,0,0,0,0,0,0,0,0,0,0,0,0,0,0,0,0,0,0,0,0,0,0,0,0,0,0,0,0,0]
[0,0,0,0,0,0,0,0,0,0,0,0,0,0,0,0,0,0,0,0,0,0,0,0,0,0,0,0,0,0,0,0,0,0,0,0,0,0,0,0,0,0,0,0,0,0,0,0,0,0,0,0,0]
[0,0,0,0,0,0,0,0,0,0,0,0,0,0,0,0,0,0,0,0,0,0,0,0,0,0,0,0,0,0,0,0,0,0,0,0,0,0,0,0,0,0,0,0,0,0,0,0,0,0,0,0,0]
[0,0,0,0,0,0,0,0,0,0,0,0,0,0,0,0,0,0,0,0,0,0,0,0,0,0,0,0,0,0,0,0,0,0,0,0,0,0,0,0,0,0,0,0,0,0,0,0,0,0,0,0,0]
[0,0,0,0,0,0,0,0,0,0,0,0,0,0,0,0,0,0,0,0,0,0,0,0,0,0,0,0,0,0,0,0,0,0,0,0,0,0,0,0,0,0,0,0,0,0,0,0,0,0,0,0,0]
[0,0,0,0,0,0,0,0,0,0,0,0,0,0,0,0,0,0,0,0,0,0,0,0,0,0,0,0,0,0,0,0,0,0,0,0,0,0,0,0,0,0,0,0,0,0,0,0,0,0,0,0,0]
[0,0,0,0,0,0,0,0,0,0,0,0,0,0,0,0,0,0,0,0,0,0,0,0,0,0,0,0,0,0,0,0,0,0,0,0,0,0,0,0,0,0,0,0,0,0,0,0,0,0,0,0,0]
[0,0,0,0,0,0,0,0,0,0,0,0,0,0,0,0,0,0,0,0,0,0,0,0,0,0,0,0,0,0,0,0,0,0,0,0,0,0,0,0,0,0,0,0,0,0,0,0,0,0,0,0,0]
[0,0,0,0,0,0,0,0,0,0,0,0,0,0,0,0,0,0,0,0,0,0,0,0,0,0,0,0,0,0,0,0,0,0,0,0,0,0,0,0,0,0,0,0,0,0,0,0,0,0,0,0,0]
[0,0,0,0,0,0,0,0,0,0,0,0,0,0,0,0,0,0,0,0,0,0,0,0,0,0,0,0,0,0,0,0,0,0,0,0,0,0,0,0,0,0,0,0,0,0,0,0,0,0,0,0,0]
[0,0,0,0,0,0,0,0,0,0,0,0,0,0,0,0,0,0,0,0,0,0,0,0,0,0,0,0,0,0,0,0,0,0,0,0,0,0,0,0,0,0,0,0,0,0,0,0,0,0,0,0,0]
[0,0,0,0,0,0,0,0,0,0,0,0,0,0,0,0,0,0,0,0,0,0,0,0,0,0,0,0,0,0,0,0,0,0,0,0,0,0,0,0,0,0,0,0,0,0,0,0,0,0,0,0,0]
[0,0,0,0,0,0,0,0,0,0,0,0,0,0,0,0,0,0,0,0,0,0,0,0,0,0,0,0,0,0,0,0,0,0,0,0,0,0,0,0,0,0,0,0,0,0,0,0,0,0,0,0,0]
[0,0,0,0,0,0,0,0,0,0,0,0,0,0,0,0,0,0,0,0,0,0,0,0,0,0,0,0,0,0,0,0,0,0,0,0,0,0,0,0,0,0,0,0,0,0,0,0,0,0,0,0,0]
[0,0,0,0,0,0,0,0,0,0,0,0,0,0,0,0,0,0,0,0,0,0,0,0,0,0,0,0,0,0,0,0,0,0,0,0,0,0,0,0,0,0,0,0,0,0,0,0,0,0,0,0,0]
[0,0,0,0,0,0,0,0,0,0,0,0,0,0,0,0,0,0,0,0,0,0,0,0,0,0,0,0,0,0,0,0,0,0,0,0,0,0,0,0,0,0,0,0,0,0,0,0,0,0,0,0,0]
[0,0,0,0,0,0,0,0,0,0,0,0,0,0,0,0,0,0,0,0,0,0,0,0,0,0,0,0,0,0,0,0,0,0,0,0,0,0,0,0,0,0,0,0,0,0,0,0,0,0,0,0,0]
[0,0,0,0,0,0,0,0,0,0,0,0,0,0,0,0,0,0,0,0,0,0,0,0,0,0,0,0,0,0,0,0,0,0,0,0,0,0,0,0,0,0,0,0,0,0,0,0,0,0,0,0,0]
[0,0,0,0,0,0,0,0,0,0,0,0,0,0,0,0,0,0,0,0,0,0,0,0,0,0,0,0,0,0,0,0,0,0,0,0,0,0,0,0,0,0,0,0,0,0,0,0,0,0,0,0,0]
[0,0,0,0,0,0,0,0,0,0,0,0,0,0,0,0,0,0,0,0,0,0,0,0,0,0,0,0,0,0,0,0,0,0,0,0,0,0,0,0,0,0,0,0,0,0,0,0,0,0,0,0,0]
[0,0,0,0,0,0,0,0,0,0,0,0,0,0,0,0,0,0,0,0,0,0,0,0,0,0,0,0,0,0,0,0,0,0,0,0,0,0,0,0,0,0,0,0,0,0,0,0,0,0,0,0,0]
[0,0,0,0,0,0,0,0,0,0,0,0,0,0,0,0,0,0,0,0,0,0,0,0,0,0,0,0,0,0,0,0,0,0,0,0,0,0,0,0,0,0,0,0,0,0,0,0,0,0,0,0,0]
[0,0,0,0,0,0,0,0,0,0,0,0,0,0,0,0,0,0,0,0,0,0,0,0,0,0,0,0,0,0,0,0,0,0,0,0,0,0,0,0,0,0,0,0,0,0,0,0,0,0,0,0,0]
[0,0,0,0,0,0,0,0,0,0,0,0,0,0,0,0,0,0,0,0,0,0,0,0,0,0,0,0,0,0,0,0,0,0,0,0,0,0,0,0,0,0,0,0,0,0,0,0,0,0,0,0,0]
[0,0,0,0,0,0,0,0,0,0,0,0,0,0,0,0,0,0,0,0,0,0,0,0,0,0,0,0,0,0,0,0,0,0,0,0,0,0,0,0,0,0,0,0,0,0,0,0,0,0,0,0,0]
[0,0,0,0,0,0,0,0,0,0,0,0,0,0,0,0,0,0,0,0,0,0,0,0,0,0,0,0,0,0,0,0,0,0,0,0,0,0,0,0,0,0,0,0,0,0,0,0,0,0,0,0,0]
[0,0,0,0,0,0,0,0,0,0,0,0,0,0,0,0,0,0,0,0,0,0,0,0,0,0,0,0,0,0,0,0,0,0,0,0,0,0,0,0,0,0,0,0,0,0,0,0,0,0,0,0,0]
[0,0,0,0,0,0,0,0,0,0,0,0,0,0,0,0,0,0,0,0,0,0,0,0,0,0,0,0,0,0,0,0,0,0,0,0,0,0,0,0,0,0,0,0,0,0,0,0,0,0,0,0,0]
[0,0,0,0,0,0,0,0,0,0,0,0,0,0,0,0,0,0,0,0,0,0,0,0,0,0,0,0,0,0,0,0,0,0,0,0,0,0,0,0,0,0,0,0,0,0,0,0,0,0,0,0,0]
[0,0,0,0,0,0,0,0,0,0,0,0,0,0,0,0,0,0,0,0,0,0,0,0,0,0,0,0,0,0,0,0,0,0,0,0,0,0,0,0,0,0,0,0,0,0,0,0,0,0,0,0,0]
[0,0,0,0,0,0,0,0,0,0,0,0,0,0,0,0,0,0,0,0,0,0,0,0,0,0,0,0,0,0,0,0,0,0,0,0,0,0,0,0,0,0,0,0,0,0,0,0,0,0,0,0,0]
[0,0,0,0,0,0,0,0,0,0,0,0,0,0,0,0,0,0,0,0,0,0,0,0,0,0,0,0,0,0,0,0,0,0,0,0,0,0,0,0,0,0,0,0,0,0,0,0,0,0,0,0,0]
[0,0,0,0,0,0,0,0,0,0,0,0,0,0,0,0,0,0,0,0,0,0,0,0,0,0,0,0,0,0,0,0,0,0,0,0,0,0,0,0,0,0,0,0,0,0,0,0,0,0,0,0,0]
[0,0,0,0,0,0,0,0,0,0,0,0,0,0,0,0,0,0,0,0,0,0,0,0,0,0,0,0,0,0,0,0,0,0,0,0,0,0,0,0,0,0,0,0,0,0,0,0,0,0,0,0,0]
[0,0,0,0,0,0,0,0,0,0,0,0,0,0,0,0,0,0,0,0,0,0,0,0,0,0,0,0,0,0,0,0,0,0,0,0,0,0,0,0,0,0,0,0,0,0,0,0,0,0,0,0,0]
[0,0,0,0,0,0,0,0,0,0,0,0,0,0,0,0,0,0,0,0,0,0,0,0,0,0,0,0,0,0,0,0,0,0,0,0,0,0,0,0,0,0,0,0,0,0,0,0,0,0,0,0,0]
[0,0,0,0,0,0,0,0,0,0,0,0,0,0,0,0,0,0,0,0,0,0,0,0,0,0,0,0,0,0,0,0,0,0,0,0,0,0,0,0,0,0,0,0,0,0,0,0,0,0,0,0,0]
[0,0,0,0,0,0,0,0,0,0,0,0,0,0,0,0,0,0,0,0,0,0,0,0,0,0,0,0,0,0,0,0,0,0,0,0,0,0,0,0,0,0,0,0,0,0,0,0,0,0,0,0,0]
[0,0,0,0,0,0,0,0,0,0,0,0,0,0,0,0,0,0,0,0,0,0,0,0,0,0,0,0,0,0,0,0,0,0,0,0,0,0,0,0,0,0,0,0,0,0,0,0,0,0,0,0,0]
[0,0,0,0,0,0,0,0,0,0,0,0,0,0,0,0,0,0,0,0,0,0,0,0,0,0,0,0,0,0,0,0,0,0,0,0,0,0,0,0,0,0,0,0,0,0,0,0,0,0,0,0,0]
[0,0,0,0,0,0,0,0,0,0,0,0,0,0,0,0,0,0,0,0,0,0,0,0,0,0,0,0,0,0,0,0,0,0,0,0,0,0,0,0,0,0,0,0,0,0,0,0,0,0,0,0,0]
[0,0,0,0,0,0,0,0,0,0,0,0,0,0,0,0,0,0,0,0,0,0,0,0,0,0,0,0,0,0,0,0,0,0,0,0,0,0,0,0,0,0,0,0,0,0,0,0,0,0,0,0,0]
[0,0,0,0,0,0,0,0,0,0,0,0,0,0,0,0,0,0,0,0,0,0,0,0,0,0,0,0,0,0,0,0,0,0,0,0,0,0,0,0,0,0,0,0,0,0,0,0,0,0,0,0,0]
[0,0,0,0,0,0,0,0,0,0,0,0,0,0,0,0,0,0,0,0,0,0,0,0,0,0,0,0,0,0,0,0,0,0,0,0,0,0,0,0,0,0,0,0,0,0,0,0,0,0,0,0,0]
[0,0,0,0,0,0,0,0,0,0,0,0,0,0,0,0,0,0,0,0,0,0,0,0,0,0,0,0,0,0,0,0,0,0,0,0,0,0,0,0,0,0,0,0,0,0,0,0,0,0,0,0,0]
[0,0,0,0,0,0,0,0,0,0,0,0,0,0,0,0,0,0,0,0,0,0,0,0,0,0,0,0,0,0,0,0,0,0,0,0,0,0,0,0,0,0,0,0,0,0,0,0,0,0,0,0,0]
[0,0,0,0,0,0,0,0,0,0,0,0,0,0,0,0,0,0,0,0,0,0,0,0,0,0,0,0,0,0,0,0,0,0,0,0,0,0,0,0,0,0,0,0,0,0,0,0,0,0,0,0,0]
[0,0,0,0,0,0,0,0,0,0,0,0,0,0,0,0,0,0,0,0,0,0,0,0,0,0,0,0,0,0,0,0,0,0,0,0,0,0,0,0,0,0,0,0,0,0,0,0,0,0,0,0,0]
[0,0,0,0,0,0,0,0,0,0,0,0,0,0,0,0,0,0,0,0,0,0,0,0,0,0,0,0,0,0,0,0,0,0,0,0,0,0,0,0,0,0,0,0,0,0,0,0,0,0,0,0,0]
[0,0,0,0,0,0,0,0,0,0,0,0,0,0,0,0,0,0,0,0,0,0,0,0,0,0,0,0,0,0,0,0,0,0,0,0,0,0,0,0,0,0,0,0,0,0,0,0,0,0,0,0,0]
[0,0,0,0,0,0,0,0,0,0,0,0,0,0,0,0,0,0,0,0,0,0,0,0,0,0,0,0,0,0,0,0,0,0,0,0,0,0,0,0,0,0,0,0,0,0,0,0,0,0,0,0,0]
[0,0,0,0,0,0,0,0,0,0,0,0,0,0,0,0,0,0,0,0,0,0,0,0,0,0,0,0,0,0,0,0,0,0,0,0,0,0,0,0,0,0,0,0,0,0,0,0,0,0,0,0,0]
[0,0,0,0,0,0,0,0,0,0,0,0,0,0,0,0,0,0,0,0,0,0,0,0,0,0,0,0,0,0,0,0,0,0,0,0,0,0,0,0,0,0,0,0,0,0,0,0,0,0,0,0,0]
[0,0,0,0,0,0,0,0,0,0,0,0,0,0,0,0,0,0,0,0,0,0,0,0,0,0,0,0,0,0,0,0,0,0,0,0,0,0,0,0,0,0,0,0,0,0,0,0,0,0,0,0,0]
[0,0,0,0,0,0,0,0,0,0,0,0,0,0,0,0,0,0,0,0,0,0,0,0,0,0,0,0,0,0,0,0,0,0,0,0,0,0,0,0,0,0,0,0,0,0,0,0,0,0,0,0,0]
[0,0,0,0,0,0,0,0,0,0,0,0,0,0,0,0,0,0,0,0,0,0,0,0,0,0,0,0,0,0,0,0,0,0,0,0,0,0,0,0,0,0,0,0,0,0,0,0,0,0,0,0,0]
[0,0,0,0,0,0,0,0,0,0,0,0,0,0,0,0,0,0,0,0,0,0,0,0,0,0,0,0,0,0,0,0,0,0,0,0,0,0,0,0,0,0,0,0,0,0,0,0,0,0,0,0,0]
[0,0,0,0,0,0,0,0,0,0,0,0,0,0,0,0,0,0,0,0,0,0,0,0,0,0,0,0,0,0,0,0,0,0,0,0,0,0,0,0,0,0,0,0,0,0,0,0,0,0,0,0,0]
[0,0,0,0,0,0,0,0,0,0,0,0,0,0,0,0,0,0,0,0,0,0,0,0,0,0,0,0,0,0,0,0,0,0,0,0,0,0,0,0,0,0,0,0,0,0,0,0,0,0,0,0,0]
[0,0,0,0,0,0,0,0,0,0,0,0,0,0,0,0,0,0,0,0,0,0,0,0,0,0,0,0,0,0,0,0,0,0,0,0,0,0,0,0,0,0,0,0,0,0,0,0,0,0,0,0,0]
[0,0,0,0,0,0,0,0,0,0,0,0,0,0,0,0,0,0,0,0,0,0,0,0,0,0,0,0,0,0,0,0,0,0,0,0,0,0,0,0,0,0,0,0,0,0,0,0,0,0,0,0,0]
[0,0,0,0,0,0,0,0,0,0,0,0,0,0,0,0,0,0,0,0,0,0,0,0,0,0,0,0,0,0,0,0,0,0,0,0,0,0,0,0,0,0,0,0,0,0,0,0,0,0,0,0,0]
[0,0,0,0,0,0,0,0,0,0,0,0,0,0,0,0,0,0,0,0,0,0,0,0,0,0,0,0,0,0,0,0,0,0,0,0,0,0,0,0,0,0,0,0,0,0,0,0,0,0,0,0,0]
[0,0,0,0,0,0,0,0,0,0,0,0,0,0,0,0,0,0,0,0,0,0,0,0,0,0,0,0,0,0,0,0,0,0,0,0,0,0,0,0,0,0,0,0,0,0,0,0,0,0,0,0,0]
[0,0,0,0,0,0,0,0,0,0,0,0,0,0,0,0,0,0,0,0,0,0,0,0,0,0,0,0,0,0,0,0,0,0,0,0,0,0,0,0,0,0,0,0,0,0,0,0,0,0,0,0,0]
[0,0,0,0,0,0,0,0,0,0,0,0,0,0,0,0,0,0,0,0,0,0,0,0,0,0,0,0,0,0,0,0,0,0,0,0,0,0,0,0,0,0,0,0,0,0,0,0,0,0,0,0,0]
[0,0,0,0,0,0,0,0,0,0,0,0,0,0,0,0,0,0,0,0,0,0,0,0,0,0,0,0,0,0,0,0,0,0,0,0,0,0,0,0,0,0,0,0,0,0,0,0,0,0,0,0,0]
[0,0,0,0,0,0,0,0,0,0,0,0,0,0,0,0,0,0,0,0,0,0,0,0,0,0,0,0,0,0,0,0,0,0,0,0,0,0,0,0,0,0,0,0,0,0,0,0,0,0,0,0,0]
[0,0,0,0,0,0,0,0,0,0,0,0,0,0,0,0,0,0,0,0,0,0,0,0,0,0,0,0,0,0,0,0,0,0,0,0,0,0,0,0,0,0,0,0,0,0,0,0,0,0,0,0,0]
[0,0,0,0,0,0,0,0,0,0,0,0,0,0,0,0,0,0,0,0,0,0,0,0,0,0,0,0,0,0,0,0,0,0,0,0,0,0,0,0,0,0,0,0,0,0,0,0,0,0,0,0,0]
[0,0,0,0,0,0,0,0,0,0,0,0,0,0,0,0,0,0,0,0,0,0,0,0,0,0,0,0,0,0,0,0,0,0,0,0,0,0,0,0,0,0,0,0,0,0,0,0,0,0,0,0,0]
[0,0,0,0,0,0,0,0,0,0,0,0,0,0,0,0,0,0,0,0,0,0,0,0,0,0,0,0,0,0,0,0,0,0,0,0,0,0,0,0,0,0,0,0,0,0,0,0,0,0,0,0,0]
[0,0,0,0,0,0,0,0,0,0,0,0,0,0,0,0,0,0,0,0,0,0,0,0,0,0,0,0,0,0,0,0,0,0,0,0,0,0,0,0,0,0,0,0,0,0,0,0,0,0,0,0,0]
[0,0,0,0,0,0,0,0,0,0,0,0,0,0,0,0,0,0,0,0,0,0,0,0,0,0,0,0,0,0,0,0,0,0,0,0,0,0,0,0,0,0,0,0,0,0,0,0,0,0,0,0,0]
[0,0,0,0,0,0,0,0,0,0,0,0,0,0,0,0,0,0,0,0,0,0,0,0,0,0,0,0,0,0,0,0,0,0,0,0,0,0,0,0,0,0,0,0,0,0,0,0,0,0,0,0,0]
[0,0,0,0,0,0,0,0,0,0,0,0,0,0,0,0,0,0,0,0,0,0,0,0,0,0,0,0,0,0,0,0,0,0,0,0,0,0,0,0,0,0,0,0,0,0,0,0,0,0,0,0,0]
[0,0,0,0,0,0,0,0,0,0,0,0,0,0,0,0,0,0,0,0,0,0,0,0,0,0,0,0,0,0,0,0,0,0,0,0,0,0,0,0,0,0,0,0,0,0,0,0,0,0,0,0,0]
[0,0,0,0,0,0,0,0,0,0,0,0,0,0,0,0,0,0,0,0,0,0,0,0,0,0,0,0,0,0,0,0,0,0,0,0,0,0,0,0,0,0,0,0,0,0,0,0,0,0,0,0,0]
[0,0,0,0,0,0,0,0,0,0,0,0,0,0,0,0,0,0,0,0,0,0,0,0,0,0,0,0,0,0,0,0,0,0,0,0,0,0,0,0,0,0,0,0,0,0,0,0,0,0,0,0,0]
[0,0,0,0,0,0,0,0,0,0,0,0,0,0,0,0,0,0,0,0,0,0,0,0,0,0,0,0,0,0,0,0,0,0,0,0,0,0,0,0,0,0,0,0,0,0,0,0,0,0,0,0,0]
[0,0,0,0,0,0,0,0,0,0,0,0,0,0,0,0,0,0,0,0,0,0,0,0,0,0,0,0,0,0,0,0,0,0,0,0,0,0,0,0,0,0,0,0,0,0,0,0,0,0,0,0,0]
[0,0,0,0,0,0,0,0,0,0,0,0,0,0,0,0,0,0,0,0,0,0,0,0,0,0,0,0,0,0,0,0,0,0,0,0,0,0,0,0,0,0,0,0,0,0,0,0,0,0,0,0,0]
[0,0,0,0,0,0,0,0,0,0,0,0,0,0,0,0,0,0,0,0,0,0,0,0,0,0,0,0,0,0,0,0,0,0,0,0,0,0,0,0,0,0,0,0,0,0,0,0,0,0,0,0,0]
[0,0,0,0,0,0,0,0,0,0,0,0,0,0,0,0,0,0,0,0,0,0,0,0,0,0,0,0,0,0,0,0,0,0,0,0,0,0,0,0,0,0,0,0,0,0,0,0,0,0,0,0,0]
[0,0,0,0,0,0,0,0,0,0,0,0,0,0,0,0,0,0,0,0,0,0,0,0,0,0,0,0,0,0,0,0,0,0,0,0,0,0,0,0,0,0,0,0,0,0,0,0,0,0,0,0,0]
[0,0,0,0,0,0,0,0,0,0,0,0,0,0,0,0,0,0,0,0,0,0,0,0,0,0,0,0,0,0,0,0,0,0,0,0,0,0,0,0,0,0,0,0,0,0,0,0,0,0,0,0,0]
[0,0,0,0,0,0,0,0,0,0,0,0,0,0,0,0,0,0,0,0,0,0,0,0,0,0,0,0,0,0,0,0,0,0,0,0,0,0,0,0,0,0,0,0,0,0,0,0,0,0,0,0,0]
[0,0,0,0,0,0,0,0,0,0,0,0,0,0,0,0,0,0,0,0,0,0,0,0,0,0,0,0,0,0,0,0,0,0,0,0,0,0,0,0,0,0,0,0,0,0,0,0,0,0,0,0,0]
[0,0,0,0,0,0,0,0,0,0,0,0,0,0,0,0,0,0,0,0,0,0,0,0,0,0,0,0,0,0,0,0,0,0,0,0,0,0,0,0,0,0,0,0,0,0,0,0,0,0,0,0,0]
[0,0,0,0,0,0,0,0,0,0,0,0,0,0,0,0,0,0,0,0,0,0,0,0,0,0,0,0,0,0,0,0,0,0,0,0,0,0,0,0,0,0,0,0,0,0,0,0,0,0,0,0,0]
[0,0,0,0,0,0,0,0,0,0,0,0,0,0,0,0,0,0,0,0,0,0,0,0,0,0,0,0,0,0,0,0,0,0,0,0,0,0,0,0,0,0,0,0,0,0,0,0,0,0,0,0,0]
[0,0,0,0,0,0,0,0,0,0,0,0,0,0,0,0,0,0,0,0,0,0,0,0,0,0,0,0,0,0,0,0,0,0,0,0,0,0,0,0,0,0,0,0,0,0,0,0,0,0,0,0,0]
[0,0,0,0,0,0,0,0,0,0,0,0,0,0,0,0,0,0,0,0,0,0,0,0,0,0,0,0,0,0,0,0,0,0,0,0,0,0,0,0,0,0,0,0,0,0,0,0,0,0,0,0,0]
[0,0,0,0,0,0,0,0,0,0,0,0,0,0,0,0,0,0,0,0,0,0,0,0,0,0,0,0,0,0,0,0,0,0,0,0,0,0,0,0,0,0,0,0,0,0,0,0,0,0,0,0,0]
[0,0,0,0,0,0,0,0,0,0,0,0,0,0,0,0,0,0,0,0,0,0,0,0,0,0,0,0,0,0,0,0,0,0,0,0,0,0,0,0,0,0,0,0,0,0,0,0,0,0,0,0,0]
[0,0,0,0,0,0,0,0,0,0,0,0,0,0,0,0,0,0,0,0,0,0,0,0,0,0,0,0,0,0,0,0,0,0,0,0,0,0,0,0,0,0,0,0,0,0,0,0,0,0,0,0,0]
[0,0,0,0,0,0,0,0,0,0,0,0,0,0,0,0,0,0,0,0,0,0,0,0,0,0,0,0,0,0,0,0,0,0,0,0,0,0,0,0,0,0,0,0,0,0,0,0,0,0,0,0,0]
[0,0,0,0,0,0,0,0,0,0,0,0,0,0,0,0,0,0,0,0,0,0,0,0,0,0,0,0,0,0,0,0,0,0,0,0,0,0,0,0,0,0,0,0,0,0,0,0,0,0,0,0,0]
[0,0,0,0,0,0,0,0,0,0,0,0,0,0,0,0,0,0,0,0,0,0,0,0,0,0,0,0,0,0,0,0,0,0,0,0,0,0,0,0,0,0,0,0,0,0,0,0,0,0,0,0,0]
[0,0,0,0,0,0,0,0,0,0,0,0,0,0,0,0,0,0,0,0,0,0,0,0,0,0,0,0,0,0,0,0,0,0,0,0,0,0,0,0,0,0,0,0,0,0,0,0,0,0,0,0,0]
[0,0,0,0,0,0,0,0,0,0,0,0,0,0,0,0,0,0,0,0,0,0,0,0,0,0,0,0,0,0,0,0,0,0,0,0,0,0,0,0,0,0,0,0,0,0,0,0,0,0,0,0,0]
[0,0,0,0,0,0,0,0,0,0,0,0,0,0,0,0,0,0,0,0,0,0,0,0,0,0,0,0,0,0,0,0,0,0,0,0,0,0,0,0,0,0,0,0,0,0,0,0,0,0,0,0,0]
[0,0,0,0,0,0,0,0,0,0,0,0,0,0,0,0,0,0,0,0,0,0,0,0,0,0,0,0,0,0,0,0,0,0,0,0,0,0,0,0,0,0,0,0,0,0,0,0,0,0,0,0,0]
[0,0,0,0,0,0,0,0,0,0,0,0,0,0,0,0,0,0,0,0,0,0,0,0,0,0,0,0,0,0,0,0,0,0,0,0,0,0,0,0,0,0,0,0,0,0,0,0,0,0,0,0,0]
[0,0,0,0,0,0,0,0,0,0,0,0,0,0,0,0,0,0,0,0,0,0,0,0,0,0,0,0,0,0,0,0,0,0,0,0,0,0,0,0,0,0,0,0,0,0,0,0,0,0,0,0,0]
[0,0,0,0,0,0,0,0,0,0,0,0,0,0,0,0,0,0,0,0,0,0,0,0,0,0,0,0,0,0,0,0,0,0,0,0,0,0,0,0,0,0,0,0,0,0,0,0,0,0,0,0,0]
[0,0,0,0,0,0,0,0,0,0,0,0,0,0,0,0,0,0,0,0,0,0,0,0,0,0,0,0,0,0,0,0,0,0,0,0,0,0,0,0,0,0,0,0,0,0,0,0,0,0,0,0,0]
[0,0,0,0,0,0,0,0,0,0,0,0,0,0,0,0,0,0,0,0,0,0,0,0,0,0,0,0,0,0,0,0,0,0,0,0,0,0,0,0,0,0,0,0,0,0,0,0,0,0,0,0,0]
[0,0,0,0,0,0,0,0,0,0,0,0,0,0,0,0,0,0,0,0,0,0,0,0,0,0,0,0,0,0,0,0,0,0,0,0,0,0,0,0,0,0,0,0,0,0,0,0,0,0,0,0,0]
[0,0,0,0,0,0,0,0,0,0,0,0,0,0,0,0,0,0,0,0,0,0,0,0,0,0,0,0,0,0,0,0,0,0,0,0,0,0,0,0,0,0,0,0,0,0,0,0,0,0,0,0,0]
[0,0,0,0,0,0,0,0,0,0,0,0,0,0,0,0,0,0,0,0,0,0,0,0,0,0,0,0,0,0,0,0,0,0,0,0,0,0,0,0,0,0,0,0,0,0,0,0,0,0,0,0,0]
[0,0,0,0,0,0,0,0,0,0,0,0,0,0,0,0,0,0,0,0,0,0,0,0,0,0,0,0,0,0,0,0,0,0,0,0,0,0,0,0,0,0,0,0,0,0,0,0,0,0,0,0,0]
[0,0,0,0,0,0,0,0,0,0,0,0,0,0,0,0,0,0,0,0,0,0,0,0,0,0,0,0,0,0,0,0,0,0,0,0,0,0,0,0,0,0,0,0,0,0,0,0,0,0,0,0,0]
[0,0,0,0,0,0,0,0,0,0,0,0,0,0,0,0,0,0,0,0,0,0,0,0,0,0,0,0,0,0,0,0,0,0,0,0,0,0,0,0,0,0,0,0,0,0,0,0,0,0,0,0,0]
[0,0,0,0,0,0,0,0,0,0,0,0,0,0,0,0,0,0,0,0,0,0,0,0,0,0,0,0,0,0,0,0,0,0,0,0,0,0,0,0,0,0,0,0,0,0,0,0,0,0,0,0,0]
[0,0,0,0,0,0,0,0,0,0,0,0,0,0,0,0,0,0,0,0,0,0,0,0,0,0,0,0,0,0,0,0,0,0,0,0,0,0,0,0,0,0,0,0,0,0,0,0,0,0,0,0,0]
[0,0,0,0,0,0,0,0,0,0,0,0,0,0,0,0,0,0,0,0,0,0,0,0,0,0,0,0,0,0,0,0,0,0,0,0,0,0,0,0,0,0,0,0,0,0,0,0,0,0,0,0,0]
[0,0,0,0,0,0,0,0,0,0,0,0,0,0,0,0,0,0,0,0,0,0,0,0,0,0,0,0,0,0,0,0,0,0,0,0,0,0,0,0,0,0,0,0,0,0,0,0,0,0,0,0,0]
[0,0,0,0,0,0,0,0,0,0,0,0,0,0,0,0,0,0,0,0,0,0,0,0,0,0,0,0,0,0,0,0,0,0,0,0,0,0,0,0,0,0,0,0,0,0,0,0,0,0,0,0,0]
[0,0,0,0,0,0,0,0,0,0,0,0,0,0,0,0,0,0,0,0,0,0,0,0,0,0,0,0,0,0,0,0,0,0,0,0,0,0,0,0,0,0,0,0,0,0,0,0,0,0,0,0,0]
[0,0,0,0,0,0,0,0,0,0,0,0,0,0,0,0,0,0,0,0,0,0,0,0,0,0,0,0,0,0,0,0,0,0,0,0,0,0,0,0,0,0,0,0,0,0,0,0,0,0,0,0,0]
[0,0,0,0,0,0,0,0,0,0,0,0,0,0,0,0,0,0,0,0,0,0,0,0,0,0,0,0,0,0,0,0,0,0,0,0,0,0,0,0,0,0,0,0,0,0,0,0,0,0,0,0,0]
[0,0,0,0,0,0,0,0,0,0,0,0,0,0,0,0,0,0,0,0,0,0,0,0,0,0,0,0,0,0,0,0,0,0,0,0,0,0,0,0,0,0,0,0,0,0,0,0,0,0,0,0,0]
[0,0,0,0,0,0,0,0,0,0,0,0,0,0,0,0,0,0,0,0,0,0,0,0,0,0,0,0,0,0,0,0,0,0,0,0,0,0,0,0,0,0,0,0,0,0,0,0,0,0,0,0,0]
[0,0,0,0,0,0,0,0,0,0,0,0,0,0,0,0,0,0,0,0,0,0,0,0,0,0,0,0,0,0,0,0,0,0,0,0,0,0,0,0,0,0,0,0,0,0,0,0,0,0,0,0,0]
[0,0,0,0,0,0,0,0,0,0,0,0,0,0,0,0,0,0,0,0,0,0,0,0,0,0,0,0,0,0,0,0,0,0,0,0,0,0,0,0,0,0,0,0,0,0,0,0,0,0,0,0,0]
[0,0,0,0,0,0,0,0,0,0,0,0,0,0,0,0,0,0,0,0,0,0,0,0,0,0,0,0,0,0,0,0,0,0,0,0,0,0,0,0,0,0,0,0,0,0,0,0,0,0,0,0,0]
[0,0,0,0,0,0,0,0,0,0,0,0,0,0,0,0,0,0,0,0,0,0,0,0,0,0,0,0,0,0,0,0,0,0,0,0,0,0,0,0,0,0,0,0,0,0,0,0,0,0,0,0,0]
[0,0,0,0,0,0,0,0,0,0,0,0,0,0,0,0,0,0,0,0,0,0,0,0,0,0,0,0,0,0,0,0,0,0,0,0,0,0,0,0,0,0,0,0,0,0,0,0,0,0,0,0,0]
[0,0,0,0,0,0,0,0,0,0,0,0,0,0,0,0,0,0,0,0,0,0,0,0,0,0,0,0,0,0,0,0,0,0,0,0,0,0,0,0,0,0,0,0,0,0,0,0,0,0,0,0,0]
[0,0,0,0,0,0,0,0,0,0,0,0,0,0,0,0,0,0,0,0,0,0,0,0,0,0,0,0,0,0,0,0,0,0,0,0,0,0,0,0,0,0,0,0,0,0,0,0,0,0,0,0,0]
[0,0,0,0,0,0,0,0,0,0,0,0,0,0,0,0,0,0,0,0,0,0,0,0,0,0,0,0,0,0,0,0,0,0,0,0,0,0,0,0,0,0,0,0,0,0,0,0,0,0,0,0,0]
[0,0,0,0,0,0,0,0,0,0,0,0,0,0,0,0,0,0,0,0,0,0,0,0,0,0,0,0,0,0,0,0,0,0,0,0,0,0,0,0,0,0,0,0,0,0,0,0,0,0,0,0,0]
[0,0,0,0,0,0,0,0,0,0,0,0,0,0,0,0,0,0,0,0,0,0,0,0,0,0,0,0,0,0,0,0,0,0,0,0,0,0,0,0,0,0,0,0,0,0,0,0,0,0,0,0,0]
[0,0,0,0,0,0,0,0,0,0,0,0,0,0,0,0,0,0,0,0,0,0,0,0,0,0,0,0,0,0,0,0,0,0,0,0,0,0,0,0,0,0,0,0,0,0,0,0,0,0,0,0,0]
[0,0,0,0,0,0,0,0,0,0,0,0,0,0,0,0,0,0,0,0,0,0,0,0,0,0,0,0,0,0,0,0,0,0,0,0,0,0,0,0,0,0,0,0,0,0,0,0,0,0,0,0,0]
[0,0,0,0,0,0,0,0,0,0,0,0,0,0,0,0,0,0,0,0,0,0,0,0,0,0,0,0,0,0,0,0,0,0,0,0,0,0,0,0,0,0,0,0,0,0,0,0,0,0,0,0,0]
[0,0,0,0,0,0,0,0,0,0,0,0,0,0,0,0,0,0,0,0,0,0,0,0,0,0,0,0,0,0,0,0,0,0,0,0,0,0,0,0,0,0,0,0,0,0,0,0,0,0,0,0,0]
[0,0,0,0,0,0,0,0,0,0,0,0,0,0,0,0,0,0,0,0,0,0,0,0,0,0,0,0,0,0,0,0,0,0,0,0,0,0,0,0,0,0,0,0,0,0,0,0,0,0,0,0,0]
[0,0,0,0,0,0,0,0,0,0,0,0,0,0,0,0,0,0,0,0,0,0,0,0,0,0,0,0,0,0,0,0,0,0,0,0,0,0,0,0,0,0,0,0,0,0,0,0,0,0,0,0,0]
[0,0,0,0,0,0,0,0,0,0,0,0,0,0,0,0,0,0,0,0,0,0,0,0,0,0,0,0,0,0,0,0,0,0,0,0,0,0,0,0,0,0,0,0,0,0,0,0,0,0,0,0,0]
[0,0,0,0,0,0,0,0,0,0,0,0,0,0,0,0,0,0,0,0,0,0,0,0,0,0,0,0,0,0,0,0,0,0,0,0,0,0,0,0,0,0,0,0,0,0,0,0,0,0,0,0,0]
[0,0,0,0,0,0,0,0,0,0,0,0,0,0,0,0,0,0,0,0,0,0,0,0,0,0,0,0,0,0,0,0,0,0,0,0,0,0,0,0,0,0,0,0,0,0,0,0,0,0,0,0,0]
[0,0,0,0,0,0,0,0,0,0,0,0,0,0,0,0,0,0,0,0,0,0,0,0,0,0,0,0,0,0,0,0,0,0,0,0,0,0,0,0,0,0,0,0,0,0,0,0,0,0,0,0,0]
[0,0,0,0,0,0,0,0,0,0,0,0,0,0,0,0,0,0,0,0,0,0,0,0,0,0,0,0,0,0,0,0,0,0,0,0,0,0,0,0,0,0,0,0,0,0,0,0,0,0,0,0,0]
[0,0,0,0,0,0,0,0,0,0,0,0,0,0,0,0,0,0,0,0,0,0,0,0,0,0,0,0,0,0,0,0,0,0,0,0,0,0,0,0,0,0,0,0,0,0,0,0,0,0,0,0,0]
[0,0,0,0,0,0,0,0,0,0,0,0,0,0,0,0,0,0,0,0,0,0,0,0,0,0,0,0,0,0,0,0,0,0,0,0,0,0,0,0,0,0,0,0,0,0,0,0,0,0,0,0,0]
[0,0,0,0,0,0,0,0,0,0,0,0,0,0,0,0,0,0,0,0,0,0,0,0,0,0,0,0,0,0,0,0,0,0,0,0,0,0,0,0,0,0,0,0,0,0,0,0,0,0,0,0,0]
[0,0,0,0,0,0,0,0,0,0,0,0,0,0,0,0,0,0,0,0,0,0,0,0,0,0,0,0,0,0,0,0,0,0,0,0,0,0,0,0,0,0,0,0,0,0,0,0,0,0,0,0,0]
[0,0,0,0,0,0,0,0,0,0,0,0,0,0,0,0,0,0,0,0,0,0,0,0,0,0,0,0,0,0,0,0,0,0,0,0,0,0,0,0,0,0,0,0,0,0,0,0,0,0,0,0,0]
[0,0,0,0,0,0,0,0,0,0,0,0,0,0,0,0,0,0,0,0,0,0,0,0,0,0,0,0,0,0,0,0,0,0,0,0,0,0,0,0,0,0,0,0,0,0,0,0,0,0,0,0,0]
[0,0,0,0,0,0,0,0,0,0,0,0,0,0,0,0,0,0,0,0,0,0,0,0,0,0,0,0,0,0,0,0,0,0,0,0,0,0,0,0,0,0,0,0,0,0,0,0,0,0,0,0,0]
[0,0,0,0,0,0,0,0,0,0,0,0,0,0,0,0,0,0,0,0,0,0,0,0,0,0,0,0,0,0,0,0,0,0,0,0,0,0,0,0,0,0,0,0,0,0,0,0,0,0,0,0,0]
[0,0,0,0,0,0,0,0,0,0,0,0,0,0,0,0,0,0,0,0,0,0,0,0,0,0,0,0,0,0,0,0,0,0,0,0,0,0,0,0,0,0,0,0,0,0,0,0,0,0,0,0,0]
[0,0,0,0,0,0,0,0,0,0,0,0,0,0,0,0,0,0,0,0,0,0,0,0,0,0,0,0,0,0,0,0,0,0,0,0,0,0,0,0,0,0,0,0,0,0,0,0,0,0,0,0,0]
[0,0,0,0,0,0,0,0,0,0,0,0,0,0,0,0,0,0,0,0,0,0,0,0,0,0,0,0,0,0,0,0,0,0,0,0,0,0,0,0,0,0,0,0,0,0,0,0,0,0,0,0,0]
[0,0,0,0,0,0,0,0,0,0,0,0,0,0,0,0,0,0,0,0,0,0,0,0,0,0,0,0,0,0,0,0,0,0,0,0,0,0,0,0,0,0,0,0,0,0,0,0,0,0,0,0,0]
[0,0,0,0,0,0,0,0,0,0,0,0,0,0,0,0,0,0,0,0,0,0,0,0,0,0,0,0,0,0,0,0,0,0,0,0,0,0,0,0,0,0,0,0,0,0,0,0,0,0,0,0,0]
[0,0,0,0,0,0,0,0,0,0,0,0,0,0,0,0,0,0,0,0,0,0,0,0,0,0,0,0,0,0,0,0,0,0,0,0,0,0,0,0,0,0,0,0,0,0,0,0,0,0,0,0,0]
[0,0,0,0,0,0,0,0,0,0,0,0,0,0,0,0,0,0,0,0,0,0,0,0,0,0,0,0,0,0,0,0,0,0,0,0,0,0,0,0,0,0,0,0,0,0,0,0,0,0,0,0,0]
[0,0,0,0,0,0,0,0,0,0,0,0,0,0,0,0,0,0,0,0,0,0,0,0,0,0,0,0,0,0,0,0,0,0,0,0,0,0,0,0,0,0,0,0,0,0,0,0,0,0,0,0,0]
[0,0,0,0,0,0,0,0,0,0,0,0,0,0,0,0,0,0,0,0,0,0,0,0,0,0,0,0,0,0,0,0,0,0,0,0,0,0,0,0,0,0,0,0,0,0,0,0,0,0,0,0,0]
[0,0,0,0,0,0,0,0,0,0,0,0,0,0,0,0,0,0,0,0,0,0,0,0,0,0,0,0,0,0,0,0,0,0,0,0,0,0,0,0,0,0,0,0,0,0,0,0,0,0,0,0,0]
[0,0,0,0,0,0,0,0,0,0,0,0,0,0,0,0,0,0,0,0,0,0,0,0,0,0,0,0,0,0,0,0,0,0,0,0,0,0,0,0,0,0,0,0,0,0,0,0,0,0,0,0,0]
[0,0,0,0,0,0,0,0,0,0,0,0,0,0,0,0,0,0,0,0,0,0,0,0,0,0,0,0,0,0,0,0,0,0,0,0,0,0,0,0,0,0,0,0,0,0,0,0,0,0,0,0,0]
[0,0,0,0,0,0,0,0,0,0,0,0,0,0,0,0,0,0,0,0,0,0,0,0,0,0,0,0,0,0,0,0,0,0,0,0,0,0,0,0,0,0,0,0,0,0,0,0,0,0,0,0,0]
[0,0,0,0,0,0,0,0,0,0,0,0,0,0,0,0,0,0,0,0,0,0,0,0,0,0,0,0,0,0,0,0,0,0,0,0,0,0,0,0,0,0,0,0,0,0,0,0,0,0,0,0,0]
[0,0,0,0,0,0,0,0,0,0,0,0,0,0,0,0,0,0,0,0,0,0,0,0,0,0,0,0,0,0,0,0,0,0,0,0,0,0,0,0,0,0,0,0,0,0,0,0,0,0,0,0,0]
[0,0,0,0,0,0,0,0,0,0,0,0,0,0,0,0,0,0,0,0,0,0,0,0,0,0,0,0,0,0,0,0,0,0,0,0,0,0,0,0,0,0,0,0,0,0,0,0,0,0,0,0,0]
[0,0,0,0,0,0,0,0,0,0,0,0,0,0,0,0,0,0,0,0,0,0,0,0,0,0,0,0,0,0,0,0,0,0,0,0,0,0,0,0,0,0,0,0,0,0,0,0,0,0,0,0,0]
[0,0,0,0,0,0,0,0,0,0,0,0,0,0,0,0,0,0,0,0,0,0,0,0,0,0,0,0,0,0,0,0,0,0,0,0,0,0,0,0,0,0,0,0,0,0,0,0,0,0,0,0,0]
[0,0,0,0,0,0,0,0,0,0,0,0,0,0,0,0,0,0,0,0,0,0,0,0,0,0,0,0,0,0,0,0,0,0,0,0,0,0,0,0,0,0,0,0,0,0,0,0,0,0,0,0,0]
[0,0,0,0,0,0,0,0,0,0,0,0,0,0,0,0,0,0,0,0,0,0,0,0,0,0,0,0,0,0,0,0,0,0,0,0,0,0,0,0,0,0,0,0,0,0,0,0,0,0,0,0,0]
[0,0,0,0,0,0,0,0,0,0,0,0,0,0,0,0,0,0,0,0,0,0,0,0,0,0,0,0,0,0,0,0,0,0,0,0,0,0,0,0,0,0,0,0,0,0,0,0,0,0,0,0,0]
[0,0,0,0,0,0,0,0,0,0,0,0,0,0,0,0,0,0,0,0,0,0,0,0,0,0,0,0,0,0,0,0,0,0,0,0,0,0,0,0,0,0,0,0,0,0,0,0,0,0,0,0,0]
[0,0,0,0,0,0,0,0,0,0,0,0,0,0,0,0,0,0,0,0,0,0,0,0,0,0,0,0,0,0,0,0,0,0,0,0,0,0,0,0,0,0,0,0,0,0,0,0,0,0,0,0,0]
[0,0,0,0,0,0,0,0,0,0,0,0,0,0,0,0,0,0,0,0,0,0,0,0,0,0,0,0,0,0,0,0,0,0,0,0,0,0,0,0,0,0,0,0,0,0,0,0,0,0,0,0,0]
[0,0,0,0,0,0,0,0,0,0,0,0,0,0,0,0,0,0,0,0,0,0,0,0,0,0,0,0,0,0,0,0,0,0,0,0,0,0,0,0,0,0,0,0,0,0,0,0,0,0,0,0,0]
[0,0,0,0,0,0,0,0,0,0,0,0,0,0,0,0,0,0,0,0,0,0,0,0,0,0,0,0,0,0,0,0,0,0,0,0,0,0,0,0,0,0,0,0,0,0,0,0,0,0,0,0,0]
[0,0,0,0,0,0,0,0,0,0,0,0,0,0,0,0,0,0,0,0,0,0,0,0,0,0,0,0,0,0,0,0,0,0,0,0,0,0,0,0,0,0,0,0,0,0,0,0,0,0,0,0,0]
[0,0,0,0,0,0,0,0,0,0,0,0,0,0,0,0,0,0,0,0,0,0,0,0,0,0,0,0,0,0,0,0,0,0,0,0,0,0,0,0,0,0,0,0,0,0,0,0,0,0,0,0,0]
[0,0,0,0,0,0,0,0,0,0,0,0,0,0,0,0,0,0,0,0,0,0,0,0,0,0,0,0,0,0,0,0,0,0,0,0,0,0,0,0,0,0,0,0,0,0,0,0,0,0,0,0,0]
[0,0,0,0,0,0,0,0,0,0,0,0,0,0,0,0,0,0,0,0,0,0,0,0,0,0,0,0,0,0,0,0,0,0,0,0,0,0,0,0,0,0,0,0,0,0,0,0,0,0,0,0,0]
[0,0,0,0,0,0,0,0,0,0,0,0,0,0,0,0,0,0,0,0,0,0,0,0,0,0,0,0,0,0,0,0,0,0,0,0,0,0,0,0,0,0,0,0,0,0,0,0,0,0,0,0,0]
[0,0,0,0,0,0,0,0,0,0,0,0,0,0,0,0,0,0,0,0,0,0,0,0,0,0,0,0,0,0,0,0,0,0,0,0,0,0,0,0,0,0,0,0,0,0,0,0,0,0,0,0,0]
[0,0,0,0,0,0,0,0,0,0,0,0,0,0,0,0,0,0,0,0,0,0,0,0,0,0,0,0,0,0,0,0,0,0,0,0,0,0,0,0,0,0,0,0,0,0,0,0,0,0,0,0,0]
[0,0,0,0,0,0,0,0,0,0,0,0,0,0,0,0,0,0,0,0,0,0,0,0,0,0,0,0,0,0,0,0,0,0,0,0,0,0,0,0,0,0,0,0,0,0,0,0,0,0,0,0,0]
[0,0,0,0,0,0,0,0,0,0,0,0,0,0,0,0,0,0,0,0,0,0,0,0,0,0,0,0,0,0,0,0,0,0,0,0,0,0,0,0,0,0,0,0,0,0,0,0,0,0,0,0,0]
[0,0,0,0,0,0,0,0,0,0,0,0,0,0,0,0,0,0,0,0,0,0,0,0,0,0,0,0,0,0,0,0,0,0,0,0,0,0,0,0,0,0,0,0,0,0,0,0,0,0,0,0,0]
[0,0,0,0,0,0,0,0,0,0,0,0,0,0,0,0,0,0,0,0,0,0,0,0,0,0,0,0,0,0,0,0,0,0,0,0,0,0,0,0,0,0,0,0,0,0,0,0,0,0,0,0,0]
[0,0,0,0,0,0,0,0,0,0,0,0,0,0,0,0,0,0,0,0,0,0,0,0,0,0,0,0,0,0,0,0,0,0,0,0,0,0,0,0,0,0,0,0,0,0,0,0,0,0,0,0,0]
[0,0,0,0,0,0,0,0,0,0,0,0,0,0,0,0,0,0,0,0,0,0,0,0,0,0,0,0,0,0,0,0,0,0,0,0,0,0,0,0,0,0,0,0,0,0,0,0,0,0,0,0,0]
[0,0,0,0,0,0,0,0,0,0,0,0,0,0,0,0,0,0,0,0,0,0,0,0,0,0,0,0,0,0,0,0,0,0,0,0,0,0,0,0,0,0,0,0,0,0,0,0,0,0,0,0,0]
[0,0,0,0,0,0,0,0,0,0,0,0,0,0,0,0,0,0,0,0,0,0,0,0,0,0,0,0,0,0,0,0,0,0,0,0,0,0,0,0,0,0,0,0,0,0,0,0,0,0,0,0,0]
[0,0,0,0,0,0,0,0,0,0,0,0,0,0,0,0,0,0,0,0,0,0,0,0,0,0,0,0,0,0,0,0,0,0,0,0,0,0,0,0,0,0,0,0,0,0,0,0,0,0,0,0,0]
[0,0,0,0,0,0,0,0,0,0,0,0,0,0,0,0,0,0,0,0,0,0,0,0,0,0,0,0,0,0,0,0,0,0,0,0,0,0,0,0,0,0,0,0,0,0,0,0,0,0,0,0,0]
[0,0,0,0,0,0,0,0,0,0,0,0,0,0,0,0,0,0,0,0,0,0,0,0,0,0,0,0,0,0,0,0,0,0,0,0,0,0,0,0,0,0,0,0,0,0,0,0,0,0,0,0,0]
[0,0,0,0,0,0,0,0,0,0,0,0,0,0,0,0,0,0,0,0,0,0,0,0,0,0,0,0,0,0,0,0,0,0,0,0,0,0,0,0,0,0,0,0,0,0,0,0,0,0,0,0,0]
[0,0,0,0,0,0,0,0,0,0,0,0,0,0,0,0,0,0,0,0,0,0,0,0,0,0,0,0,0,0,0,0,0,0,0,0,0,0,0,0,0,0,0,0,0,0,0,0,0,0,0,0,0]
[0,0,0,0,0,0,0,0,0,0,0,0,0,0,0,0,0,0,0,0,0,0,0,0,0,0,0,0,0,0,0,0,0,0,0,0,0,0,0,0,0,0,0,0,0,0,0,0,0,0,0,0,0]
[0,0,0,0,0,0,0,0,0,0,0,0,0,0,0,0,0,0,0,0,0,0,0,0,0,0,0,0,0,0,0,0,0,0,0,0,0,0,0,0,0,0,0,0,0,0,0,0,0,0,0,0,0]
[0,0,0,0,0,0,0,0,0,0,0,0,0,0,0,0,0,0,0,0,0,0,0,0,0,0,0,0,0,0,0,0,0,0,0,0,0,0,0,0,0,0,0,0,0,0,0,0,0,0,0,0,0]
[0,0,0,0,0,0,0,0,0,0,0,0,0,0,0,0,0,0,0,0,0,0,0,0,0,0,0,0,0,0,0,0,0,0,0,0,0,0,0,0,0,0,0,0,0,0,0,0,0,0,0,0,0]
[0,0,0,0,0,0,0,0,0,0,0,0,0,0,0,0,0,0,0,0,0,0,0,0,0,0,0,0,0,0,0,0,0,0,0,0,0,0,0,0,0,0,0,0,0,0,0,0,0,0,0,0,0]
[0,0,0,0,0,0,0,0,0,0,0,0,0,0,0,0,0,0,0,0,0,0,0,0,0,0,0,0,0,0,0,0,0,0,0,0,0,0,0,0,0,0,0,0,0,0,0,0,0,0,0,0,0]
[0,0,0,0,0,0,0,0,0,0,0,0,0,0,0,0,0,0,0,0,0,0,0,0,0,0,0,0,0,0,0,0,0,0,0,0,0,0,0,0,0,0,0,0,0,0,0,0,0,0,0,0,0]
[0,0,0,0,0,0,0,0,0,0,0,0,0,0,0,0,0,0,0,0,0,0,0,0,0,0,0,0,0,0,0,0,0,0,0,0,0,0,0,0,0,0,0,0,0,0,0,0,0,0,0,0,0]
[0,0,0,0,0,0,0,0,0,0,0,0,0,0,0,0,0,0,0,0,0,0,0,0,0,0,0,0,0,0,0,0,0,0,0,0,0,0,0,0,0,0,0,0,0,0,0,0,0,0,0,0,0]
[0,0,0,0,0,0,0,0,0,0,0,0,0,0,0,0,0,0,0,0,0,0,0,0,0,0,0,0,0,0,0,0,0,0,0,0,0,0,0,0,0,0,0,0,0,0,0,0,0,0,0,0,0]
[0,0,0,0,0,0,0,0,0,0,0,0,0,0,0,0,0,0,0,0,0,0,0,0,0,0,0,0,0,0,0,0,0,0,0,0,0,0,0,0,0,0,0,0,0,0,0,0,0,0,0,0,0]
[0,0,0,0,0,0,0,0,0,0,0,0,0,0,0,0,0,0,0,0,0,0,0,0,0,0,0,0,0,0,0,0,0,0,0,0,0,0,0,0,0,0,0,0,0,0,0,0,0,0,0,0,0]
[0,0,0,0,0,0,0,0,0,0,0,0,0,0,0,0,0,0,0,0,0,0,0,0,0,0,0,0,0,0,0,0,0,0,0,0,0,0,0,0,0,0,0,0,0,0,0,0,0,0,0,0,0]
[0,0,0,0,0,0,0,0,0,0,0,0,0,0,0,0,0,0,0,0,0,0,0,0,0,0,0,0,0,0,0,0,0,0,0,0,0,0,0,0,0,0,0,0,0,0,0,0,0,0,0,0,0]
[0,0,0,0,0,0,0,0,0,0,0,0,0,0,0,0,0,0,0,0,0,0,0,0,0,0,0,0,0,0,0,0,0,0,0,0,0,0,0,0,0,0,0,0,0,0,0,0,0,0,0,0,0]
[0,0,0,0,0,0,0,0,0,0,0,0,0,0,0,0,0,0,0,0,0,0,0,0,0,0,0,0,0,0,0,0,0,0,0,0,0,0,0,0,0,0,0,0,0,0,0,0,0,0,0,0,0]
[0,0,0,0,0,0,0,0,0,0,0,0,0,0,0,0,0,0,0,0,0,0,0,0,0,0,0,0,0,0,0,0,0,0,0,0,0,0,0,0,0,0,0,0,0,0,0,0,0,0,0,0,0]
[0,0,0,0,0,0,0,0,0,0,0,0,0,0,0,0,0,0,0,0,0,0,0,0,0,0,0,0,0,0,0,0,0,0,0,0,0,0,0,0,0,0,0,0,0,0,0,0,0,0,0,0,0]
[0,0,0,0,0,0,0,0,0,0,0,0,0,0,0,0,0,0,0,0,0,0,0,0,0,0,0,0,0,0,0,0,0,0,0,0,0,0,0,0,0,0,0,0,0,0,0,0,0,0,0,0,0]
[0,0,0,0,0,0,0,0,0,0,0,0,0,0,0,0,0,0,0,0,0,0,0,0,0,0,0,0,0,0,0,0,0,0,0,0,0,0,0,0,0,0,0,0,0,0,0,0,0,0,0,0,0]
[0,0,0,0,0,0,0,0,0,0,0,0,0,0,0,0,0,0,0,0,0,0,0,0,0,0,0,0,0,0,0,0,0,0,0,0,0,0,0,0,0,0,0,0,0,0,0,0,0,0,0,0,0]
[0,0,0,0,0,0,0,0,0,0,0,0,0,0,0,0,0,0,0,0,0,0,0,0,0,0,0,0,0,0,0,0,0,0,0,0,0,0,0,0,0,0,0,0,0,0,0,0,0,0,0,0,0]
[0,0,0,0,0,0,0,0,0,0,0,0,0,0,0,0,0,0,0,0,0,0,0,0,0,0,0,0,0,0,0,0,0,0,0,0,0,0,0,0,0,0,0,0,0,0,0,0,0,0,0,0,0]
[0,0,0,0,0,0,0,0,0,0,0,0,0,0,0,0,0,0,0,0,0,0,0,0,0,0,0,0,0,0,0,0,0,0,0,0,0,0,0,0,0,0,0,0,0,0,0,0,0,0,0,0,0]
[0,0,0,0,0,0,0,0,0,0,0,0,0,0,0,0,0,0,0,0,0,0,0,0,0,0,0,0,0,0,0,0,0,0,0,0,0,0,0,0,0,0,0,0,0,0,0,0,0,0,0,0,0]
[0,0,0,0,0,0,0,0,0,0,0,0,0,0,0,0,0,0,0,0,0,0,0,0,0,0,0,0,0,0,0,0,0,0,0,0,0,0,0,0,0,0,0,0,0,0,0,0,0,0,0,0,0]
[0,0,0,0,0,0,0,0,0,0,0,0,0,0,0,0,0,0,0,0,0,0,0,0,0,0,0,0,0,0,0,0,0,0,0,0,0,0,0,0,0,0,0,0,0,0,0,0,0,0,0,0,0]
[0,0,0,0,0,0,0,0,0,0,0,0,0,0,0,0,0,0,0,0,0,0,0,0,0,0,0,0,0,0,0,0,0,0,0,0,0,0,0,0,0,0,0,0,0,0,0,0,0,0,0,0,0]
[0,0,0,0,0,0,0,0,0,0,0,0,0,0,0,0,0,0,0,0,0,0,0,0,0,0,0,0,0,0,0,0,0,0,0,0,0,0,0,0,0,0,0,0,0,0,0,0,0,0,0,0,0]
[0,0,0,0,0,0,0,0,0,0,0,0,0,0,0,0,0,0,0,0,0,0,0,0,0,0,0,0,0,0,0,0,0,0,0,0,0,0,0,0,0,0,0,0,0,0,0,0,0,0,0,0,0]
[0,0,0,0,0,0,0,0,0,0,0,0,0,0,0,0,0,0,0,0,0,0,0,0,0,0,0,0,0,0,0,0,0,0,0,0,0,0,0,0,0,0,0,0,0,0,0,0,0,0,0,0,0]
[0,0,0,0,0,0,0,0,0,0,0,0,0,0,0,0,0,0,0,0,0,0,0,0,0,0,0,0,0,0,0,0,0,0,0,0,0,0,0,0,0,0,0,0,0,0,0,0,0,0,0,0,0]
[0,0,0,0,0,0,0,0,0,0,0,0,0,0,0,0,0,0,0,0,0,0,0,0,0,0,0,0,0,0,0,0,0,0,0,0,0,0,0,0,0,0,0,0,0,0,0,0,0,0,0,0,0]
[0,0,0,0,0,0,0,0,0,0,0,0,0,0,0,0,0,0,0,0,0,0,0,0,0,0,0,0,0,0,0,0,0,0,0,0,0,0,0,0,0,0,0,0,0,0,0,0,0,0,0,0,0]
[0,0,0,0,0,0,0,0,0,0,0,0,0,0,0,0,0,0,0,0,0,0,0,0,0,0,0,0,0,0,0,0,0,0,0,0,0,0,0,0,0,0,0,0,0,0,0,0,0,0,0,0,0]
[0,0,0,0,0,0,0,0,0,0,0,0,0,0,0,0,0,0,0,0,0,0,0,0,0,0,0,0,0,0,0,0,0,0,0,0,0,0,0,0,0,0,0,0,0,0,0,0,0,0,0,0,0]
[0,0,0,0,0,0,0,0,0,0,0,0,0,0,0,0,0,0,0,0,0,0,0,0,0,0,0,0,0,0,0,0,0,0,0,0,0,0,0,0,0,0,0,0,0,0,0,0,0,0,0,0,0]
[0,0,0,0,0,0,0,0,0,0,0,0,0,0,0,0,0,0,0,0,0,0,0,0,0,0,0,0,0,0,0,0,0,0,0,0,0,0,0,0,0,0,0,0,0,0,0,0,0,0,0,0,0]
[0,0,0,0,0,0,0,0,0,0,0,0,0,0,0,0,0,0,0,0,0,0,0,0,0,0,0,0,0,0,0,0,0,0,0,0,0,0,0,0,0,0,0,0,0,0,0,0,0,0,0,0,0]
[0,0,0,0,0,0,0,0,0,0,0,0,0,0,0,0,0,0,0,0,0,0,0,0,0,0,0,0,0,0,0,0,0,0,0,0,0,0,0,0,0,0,0,0,0,0,0,0,0,0,0,0,0]
[0,0,0,0,0,0,0,0,0,0,0,0,0,0,0,0,0,0,0,0,0,0,0,0,0,0,0,0,0,0,0,0,0,0,0,0,0,0,0,0,0,0,0,0,0,0,0,0,0,0,0,0,0]
[0,0,0,0,0,0,0,0,0,0,0,0,0,0,0,0,0,0,0,0,0,0,0,0,0,0,0,0,0,0,0,0,0,0,0,0,0,0,0,0,0,0,0,0,0,0,0,0,0,0,0,0,0]
[0,0,0,0,0,0,0,0,0,0,0,0,0,0,0,0,0,0,0,0,0,0,0,0,0,0,0,0,0,0,0,0,0,0,0,0,0,0,0,0,0,0,0,0,0,0,0,0,0,0,0,0,0]
[0,0,0,0,0,0,0,0,0,0,0,0,0,0,0,0,0,0,0,0,0,0,0,0,0,0,0,0,0,0,0,0,0,0,0,0,0,0,0,0,0,0,0,0,0,0,0,0,0,0,0,0,0]
[0,0,0,0,0,0,0,0,0,0,0,0,0,0,0,0,0,0,0,0,0,0,0,0,0,0,0,0,0,0,0,0,0,0,0,0,0,0,0,0,0,0,0,0,0,0,0,0,0,0,0,0,0]
[0,0,0,0,0,0,0,0,0,0,0,0,0,0,0,0,0,0,0,0,0,0,0,0,0,0,0,0,0,0,0,0,0,0,0,0,0,0,0,0,0,0,0,0,0,0,0,0,0,0,0,0,0]
[0,0,0,0,0,0,0,0,0,0,0,0,0,0,0,0,0,0,0,0,0,0,0,0,0,0,0,0,0,0,0,0,0,0,0,0,0,0,0,0,0,0,0,0,0,0,0,0,0,0,0,0,0]
[0,0,0,0,0,0,0,0,0,0,0,0,0,0,0,0,0,0,0,0,0,0,0,0,0,0,0,0,0,0,0,0,0,0,0,0,0,0,0,0,0,0,0,0,0,0,0,0,0,0,0,0,0]
[0,0,0,0,0,0,0,0,0,0,0,0,0,0,0,0,0,0,0,0,0,0,0,0,0,0,0,0,0,0,0,0,0,0,0,0,0,0,0,0,0,0,0,0,0,0,0,0,0,0,0,0,0]
[0,0,0,0,0,0,0,0,0,0,0,0,0,0,0,0,0,0,0,0,0,0,0,0,0,0,0,0,0,0,0,0,0,0,0,0,0,0,0,0,0,0,0,0,0,0,0,0,0,0,0,0,0]
[0,0,0,0,0,0,0,0,0,0,0,0,0,0,0,0,0,0,0,0,0,0,0,0,0,0,0,0,0,0,0,0,0,0,0,0,0,0,0,0,0,0,0,0,0,0,0,0,0,0,0,0,0]
[0,0,0,0,0,0,0,0,0,0,0,0,0,0,0,0,0,0,0,0,0,0,0,0,0,0,0,0,0,0,0,0,0,0,0,0,0,0,0,0,0,0,0,0,0,0,0,0,0,0,0,0,0]
[0,0,0,0,0,0,0,0,0,0,0,0,0,0,0,0,0,0,0,0,0,0,0,0,0,0,0,0,0,0,0,0,0,0,0,0,0,0,0,0,0,0,0,0,0,0,0,0,0,0,0,0,0]
[0,0,0,0,0,0,0,0,0,0,0,0,0,0,0,0,0,0,0,0,0,0,0,0,0,0,0,0,0,0,0,0,0,0,0,0,0,0,0,0,0,0,0,0,0,0,0,0,0,0,0,0,0]
[0,0,0,0,0,0,0,0,0,0,0,0,0,0,0,0,0,0,0,0,0,0,0,0,0,0,0,0,0,0,0,0,0,0,0,0,0,0,0,0,0,0,0,0,0,0,0,0,0,0,0,0,0]
[0,0,0,0,0,0,0,0,0,0,0,0,0,0,0,0,0,0,0,0,0,0,0,0,0,0,0,0,0,0,0,0,0,0,0,0,0,0,0,0,0,0,0,0,0,0,0,0,0,0,0,0,0]
[0,0,0,0,0,0,0,0,0,0,0,0,0,0,0,0,0,0,0,0,0,0,0,0,0,0,0,0,0,0,0,0,0,0,0,0,0,0,0,0,0,0,0,0,0,0,0,0,0,0,0,0,0]
[0,0,0,0,0,0,0,0,0,0,0,0,0,0,0,0,0,0,0,0,0,0,0,0,0,0,0,0,0,0,0,0,0,0,0,0,0,0,0,0,0,0,0,0,0,0,0,0,0,0,0,0,0]
[0,0,0,0,0,0,0,0,0,0,0,0,0,0,0,0,0,0,0,0,0,0,0,0,0,0,0,0,0,0,0,0,0,0,0,0,0,0,0,0,0,0,0,0,0,0,0,0,0,0,0,0,0]
[0,0,0,0,0,0,0,0,0,0,0,0,0,0,0,0,0,0,0,0,0,0,0,0,0,0,0,0,0,0,0,0,0,0,0,0,0,0,0,0,0,0,0,0,0,0,0,0,0,0,0,0,0]
[0,0,0,0,0,0,0,0,0,0,0,0,0,0,0,0,0,0,0,0,0,0,0,0,0,0,0,0,0,0,0,0,0,0,0,0,0,0,0,0,0,0,0,0,0,0,0,0,0,0,0,0,0]
[0,0,0,0,0,0,0,0,0,0,0,0,0,0,0,0,0,0,0,0,0,0,0,0,0,0,0,0,0,0,0,0,0,0,0,0,0,0,0,0,0,0,0,0,0,0,0,0,0,0,0,0,0]
[0,0,0,0,0,0,0,0,0,0,0,0,0,0,0,0,0,0,0,0,0,0,0,0,0,0,0,0,0,0,0,0,0,0,0,0,0,0,0,0,0,0,0,0,0,0,0,0,0,0,0,0,0]
[0,0,0,0,0,0,0,0,0,0,0,0,0,0,0,0,0,0,0,0,0,0,0,0,0,0,0,0,0,0,0,0,0,0,0,0,0,0,0,0,0,0,0,0,0,0,0,0,0,0,0,0,0]
[0,0,0,0,0,0,0,0,0,0,0,0,0,0,0,0,0,0,0,0,0,0,0,0,0,0,0,0,0,0,0,0,0,0,0,0,0,0,0,0,0,0,0,0,0,0,0,0,0,0,0,0,0]
[0,0,0,0,0,0,0,0,0,0,0,0,0,0,0,0,0,0,0,0,0,0,0,0,0,0,0,0,0,0,0,0,0,0,0,0,0,0,0,0,0,0,0,0,0,0,0,0,0,0,0,0,0]
[0,0,0,0,0,0,0,0,0,0,0,0,0,0,0,0,0,0,0,0,0,0,0,0,0,0,0,0,0,0,0,0,0,0,0,0,0,0,0,0,0,0,0,0,0,0,0,0,0,0,0,0,0]
[0,0,0,0,0,0,0,0,0,0,0,0,0,0,0,0,0,0,0,0,0,0,0,0,0,0,0,0,0,0,0,0,0,0,0,0,0,0,0,0,0,0,0,0,0,0,0,0,0,0,0,0,0]
[0,0,0,0,0,0,0,0,0,0,0,0,0,0,0,0,0,0,0,0,0,0,0,0,0,0,0,0,0,0,0,0,0,0,0,0,0,0,0,0,0,0,0,0,0,0,0,0,0,0,0,0,0]
[0,0,0,0,0,0,0,0,0,0,0,0,0,0,0,0,0,0,0,0,0,0,0,0,0,0,0,0,0,0,0,0,0,0,0,0,0,0,0,0,0,0,0,0,0,0,0,0,0,0,0,0,0]
[0,0,0,0,0,0,0,0,0,0,0,0,0,0,0,0,0,0,0,0,0,0,0,0,0,0,0,0,0,0,0,0,0,0,0,0,0,0,0,0,0,0,0,0,0,0,0,0,0,0,0,0,0]
[0,0,0,0,0,0,0,0,0,0,0,0,0,0,0,0,0,0,0,0,0,0,0,0,0,0,0,0,0,0,0,0,0,0,0,0,0,0,0,0,0,0,0,0,0,0,0,0,0,0,0,0,0]
[0,0,0,0,0,0,0,0,0,0,0,0,0,0,0,0,0,0,0,0,0,0,0,0,0,0,0,0,0,0,0,0,0,0,0,0,0,0,0,0,0,0,0,0,0,0,0,0,0,0,0,0,0]
[0,0,0,0,0,0,0,0,0,0,0,0,0,0,0,0,0,0,0,0,0,0,0,0,0,0,0,0,0,0,0,0,0,0,0,0,0,0,0,0,0,0,0,0,0,0,0,0,0,0,0,0,0]
[0,0,0,0,0,0,0,0,0,0,0,0,0,0,0,0,0,0,0,0,0,0,0,0,0,0,0,0,0,0,0,0,0,0,0,0,0,0,0,0,0,0,0,0,0,0,0,0,0,0,0,0,0]
[0,0,0,0,0,0,0,0,0,0,0,0,0,0,0,0,0,0,0,0,0,0,0,0,0,0,0,0,0,0,0,0,0,0,0,0,0,0,0,0,0,0,0,0,0,0,0,0,0,0,0,0,0]
[0,0,0,0,0,0,0,0,0,0,0,0,0,0,0,0,0,0,0,0,0,0,0,0,0,0,0,0,0,0,0,0,0,0,0,0,0,0,0,0,0,0,0,0,0,0,0,0,0,0,0,0,0]
[0,0,0,0,0,0,0,0,0,0,0,0,0,0,0,0,0,0,0,0,0,0,0,0,0,0,0,0,0,0,0,0,0,0,0,0,0,0,0,0,0,0,0,0,0,0,0,0,0,0,0,0,0]
[0,0,0,0,0,0,0,0,0,0,0,0,0,0,0,0,0,0,0,0,0,0,0,0,0,0,0,0,0,0,0,0,0,0,0,0,0,0,0,0,0,0,0,0,0,0,0,0,0,0,0,0,0]
[0,0,0,0,0,0,0,0,0,0,0,0,0,0,0,0,0,0,0,0,0,0,0,0,0,0,0,0,0,0,0,0,0,0,0,0,0,0,0,0,0,0,0,0,0,0,0,0,0,0,0,0,0]
[0,0,0,0,0,0,0,0,0,0,0,0,0,0,0,0,0,0,0,0,0,0,0,0,0,0,0,0,0,0,0,0,0,0,0,0,0,0,0,0,0,0,0,0,0,0,0,0,0,0,0,0,0]
[0,0,0,0,0,0,0,0,0,0,0,0,0,0,0,0,0,0,0,0,0,0,0,0,0,0,0,0,0,0,0,0,0,0,0,0,0,0,0,0,0,0,0,0,0,0,0,0,0,0,0,0,0]
[0,0,0,0,0,0,0,0,0,0,0,0,0,0,0,0,0,0,0,0,0,0,0,0,0,0,0,0,0,0,0,0,0,0,0,0,0,0,0,0,0,0,0,0,0,0,0,0,0,0,0,0,0]
[0,0,0,0,0,0,0,0,0,0,0,0,0,0,0,0,0,0,0,0,0,0,0,0,0,0,0,0,0,0,0,0,0,0,0,0,0,0,0,0,0,0,0,0,0,0,0,0,0,0,0,0,0]
[0,0,0,0,0,0,0,0,0,0,0,0,0,0,0,0,0,0,0,0,0,0,0,0,0,0,0,0,0,0,0,0,0,0,0,0,0,0,0,0,0,0,0,0,0,0,0,0,0,0,0,0,0]
[0,0,0,0,0,0,0,0,0,0,0,0,0,0,0,0,0,0,0,0,0,0,0,0,0,0,0,0,0,0,0,0,0,0,0,0,0,0,0,0,0,0,0,0,0,0,0,0,0,0,0,0,0]
[0,0,0,0,0,0,0,0,0,0,0,0,0,0,0,0,0,0,0,0,0,0,0,0,0,0,0,0,0,0,0,0,0,0,0,0,0,0,0,0,0,0,0,0,0,0,0,0,0,0,0,0,0]
[0,0,0,0,0,0,0,0,0,0,0,0,0,0,0,0,0,0,0,0,0,0,0,0,0,0,0,0,0,0,0,0,0,0,0,0,0,0,0,0,0,0,0,0,0,0,0,0,0,0,0,0,0]
[0,0,0,0,0,0,0,0,0,0,0,0,0,0,0,0,0,0,0,0,0,0,0,0,0,0,0,0,0,0,0,0,0,0,0,0,0,0,0,0,0,0,0,0,0,0,0,0,0,0,0,0,0]
[0,0,0,0,0,0,0,0,0,0,0,0,0,0,0,0,0,0,0,0,0,0,0,0,0,0,0,0,0,0,0,0,0,0,0,0,0,0,0,0,0,0,0,0,0,0,0,0,0,0,0,0,0]
[0,0,0,0,0,0,0,0,0,0,0,0,0,0,0,0,0,0,0,0,0,0,0,0,0,0,0,0,0,0,0,0,0,0,0,0,0,0,0,0,0,0,0,0,0,0,0,0,0,0,0,0,0]
[0,0,0,0,0,0,0,0,0,0,0,0,0,0,0,0,0,0,0,0,0,0,0,0,0,0,0,0,0,0,0,0,0,0,0,0,0,0,0,0,0,0,0,0,0,0,0,0,0,0,0,0,0]
[0,0,0,0,0,0,0,0,0,0,0,0,0,0,0,0,0,0,0,0,0,0,0,0,0,0,0,0,0,0,0,0,0,0,0,0,0,0,0,0,0,0,0,0,0,0,0,0,0,0,0,0,0]
[0,0,0,0,0,0,0,0,0,0,0,0,0,0,0,0,0,0,0,0,0,0,0,0,0,0,0,0,0,0,0,0,0,0,0,0,0,0,0,0,0,0,0,0,0,0,0,0,0,0,0,0,0]
[0,0,0,0,0,0,0,0,0,0,0,0,0,0,0,0,0,0,0,0,0,0,0,0,0,0,0,0,0,0,0,0,0,0,0,0,0,0,0,0,0,0,0,0,0,0,0,0,0,0,0,0,0]
[0,0,0,0,0,0,0,0,0,0,0,0,0,0,0,0,0,0,0,0,0,0,0,0,0,0,0,0,0,0,0,0,0,0,0,0,0,0,0,0,0,0,0,0,0,0,0,0,0,0,0,0,0]
[0,0,0,0,0,0,0,0,0,0,0,0,0,0,0,0,0,0,0,0,0,0,0,0,0,0,0,0,0,0,0,0,0,0,0,0,0,0,0,0,0,0,0,0,0,0,0,0,0,0,0,0,0]
[0,0,0,0,0,0,0,0,0,0,0,0,0,0,0,0,0,0,0,0,0,0,0,0,0,0,0,0,0,0,0,0,0,0,0,0,0,0,0,0,0,0,0,0,0,0,0,0,0,0,0,0,0]
[0,0,0,0,0,0,0,0,0,0,0,0,0,0,0,0,0,0,0,0,0,0,0,0,0,0,0,0,0,0,0,0,0,0,0,0,0,0,0,0,0,0,0,0,0,0,0,0,0,0,0,0,0]
[0,0,0,0,0,0,0,0,0,0,0,0,0,0,0,0,0,0,0,0,0,0,0,0,0,0,0,0,0,0,0,0,0,0,0,0,0,0,0,0,0,0,0,0,0,0,0,0,0,0,0,0,0]
[0,0,0,0,0,0,0,0,0,0,0,0,0,0,0,0,0,0,0,0,0,0,0,0,0,0,0,0,0,0,0,0,0,0,0,0,0,0,0,0,0,0,0,0,0,0,0,0,0,0,0,0,0]
[0,0,0,0,0,0,0,0,0,0,0,0,0,0,0,0,0,0,0,0,0,0,0,0,0,0,0,0,0,0,0,0,0,0,0,0,0,0,0,0,0,0,0,0,0,0,0,0,0,0,0,0,0]
[0,0,0,0,0,0,0,0,0,0,0,0,0,0,0,0,0,0,0,0,0,0,0,0,0,0,0,0,0,0,0,0,0,0,0,0,0,0,0,0,0,0,0,0,0,0,0,0,0,0,0,0,0]
[0,0,0,0,0,0,0,0,0,0,0,0,0,0,0,0,0,0,0,0,0,0,0,0,0,0,0,0,0,0,0,0,0,0,0,0,0,0,0,0,0,0,0,0,0,0,0,0,0,0,0,0,0]
[0,0,0,0,0,0,0,0,0,0,0,0,0,0,0,0,0,0,0,0,0,0,0,0,0,0,0,0,0,0,0,0,0,0,0,0,0,0,0,0,0,0,0,0,0,0,0,0,0,0,0,0,0]
[0,0,0,0,0,0,0,0,0,0,0,0,0,0,0,0,0,0,0,0,0,0,0,0,0,0,0,0,0,0,0,0,0,0,0,0,0,0,0,0,0,0,0,0,0,0,0,0,0,0,0,0,0]
[0,0,0,0,0,0,0,0,0,0,0,0,0,0,0,0,0,0,0,0,0,0,0,0,0,0,0,0,0,0,0,0,0,0,0,0,0,0,0,0,0,0,0,0,0,0,0,0,0,0,0,0,0]
[0,0,0,0,0,0,0,0,0,0,0,0,0,0,0,0,0,0,0,0,0,0,0,0,0,0,0,0,0,0,0,0,0,0,0,0,0,0,0,0,0,0,0,0,0,0,0,0,0,0,0,0,0]
[0,0,0,0,0,0,0,0,0,0,0,0,0,0,0,0,0,0,0,0,0,0,0,0,0,0,0,0,0,0,0,0,0,0,0,0,0,0,0,0,0,0,0,0,0,0,0,0,0,0,0,0,0]
[0,0,0,0,0,0,0,0,0,0,0,0,0,0,0,0,0,0,0,0,0,0,0,0,0,0,0,0,0,0,0,0,0,0,0,0,0,0,0,0,0,0,0,0,0,0,0,0,0,0,0,0,0]
[0,0,0,0,0,0,0,0,0,0,0,0,0,0,0,0,0,0,0,0,0,0,0,0,0,0,0,0,0,0,0,0,0,0,0,0,0,0,0,0,0,0,0,0,0,0,0,0,0,0,0,0,0]
[0,0,0,0,0,0,0,0,0,0,0,0,0,0,0,0,0,0,0,0,0,0,0,0,0,0,0,0,0,0,0,0,0,0,0,0,0,0,0,0,0,0,0,0,0,0,0,0,0,0,0,0,0]
[0,0,0,0,0,0,0,0,0,0,0,0,0,0,0,0,0,0,0,0,0,0,0,0,0,0,0,0,0,0,0,0,0,0,0,0,0,0,0,0,0,0,0,0,0,0,0,0,0,0,0,0,0]
[0,0,0,0,0,0,0,0,0,0,0,0,0,0,0,0,0,0,0,0,0,0,0,0,0,0,0,0,0,0,0,0,0,0,0,0,0,0,0,0,0,0,0,0,0,0,0,0,0,0,0,0,0]
[0,0,0,0,0,0,0,0,0,0,0,0,0,0,0,0,0,0,0,0,0,0,0,0,0,0,0,0,0,0,0,0,0,0,0,0,0,0,0,0,0,0,0,0,0,0,0,0,0,0,0,0,0]
[0,0,0,0,0,0,0,0,0,0,0,0,0,0,0,0,0,0,0,0,0,0,0,0,0,0,0,0,0,0,0,0,0,0,0,0,0,0,0,0,0,0,0,0,0,0,0,0,0,0,0,0,0]
[0,0,0,0,0,0,0,0,0,0,0,0,0,0,0,0,0,0,0,0,0,0,0,0,0,0,0,0,0,0,0,0,0,0,0,0,0,0,0,0,0,0,0,0,0,0,0,0,0,0,0,0,0]
[0,0,0,0,0,0,0,0,0,0,0,0,0,0,0,0,0,0,0,0,0,0,0,0,0,0,0,0,0,0,0,0,0,0,0,0,0,0,0,0,0,0,0,0,0,0,0,0,0,0,0,0,0]
[0,0,0,0,0,0,0,0,0,0,0,0,0,0,0,0,0,0,0,0,0,0,0,0,0,0,0,0,0,0,0,0,0,0,0,0,0,0,0,0,0,0,0,0,0,0,0,0,0,0,0,0,0]
[0,0,0,0,0,0,0,0,0,0,0,0,0,0,0,0,0,0,0,0,0,0,0,0,0,0,0,0,0,0,0,0,0,0,0,0,0,0,0,0,0,0,0,0,0,0,0,0,0,0,0,0,0]
[0,0,0,0,0,0,0,0,0,0,0,0,0,0,0,0,0,0,0,0,0,0,0,0,0,0,0,0,0,0,0,0,0,0,0,0,0,0,0,0,0,0,0,0,0,0,0,0,0,0,0,0,0]
[0,0,0,0,0,0,0,0,0,0,0,0,0,0,0,0,0,0,0,0,0,0,0,0,0,0,0,0,0,0,0,0,0,0,0,0,0,0,0,0,0,0,0,0,0,0,0,0,0,0,0,0,0]
[0,0,0,0,0,0,0,0,0,0,0,0,0,0,0,0,0,0,0,0,0,0,0,0,0,0,0,0,0,0,0,0,0,0,0,0,0,0,0,0,0,0,0,0,0,0,0,0,0,0,0,0,0]
[0,0,0,0,0,0,0,0,0,0,0,0,0,0,0,0,0,0,0,0,0,0,0,0,0,0,0,0,0,0,0,0,0,0,0,0,0,0,0,0,0,0,0,0,0,0,0,0,0,0,0,0,0]
[0,0,0,0,0,0,0,0,0,0,0,0,0,0,0,0,0,0,0,0,0,0,0,0,0,0,0,0,0,0,0,0,0,0,0,0,0,0,0,0,0,0,0,0,0,0,0,0,0,0,0,0,0]
[0,0,0,0,0,0,0,0,0,0,0,0,0,0,0,0,0,0,0,0,0,0,0,0,0,0,0,0,0,0,0,0,0,0,0,0,0,0,0,0,0,0,0,0,0,0,0,0,0,0,0,0,0]
[0,0,0,0,0,0,0,0,0,0,0,0,0,0,0,0,0,0,0,0,0,0,0,0,0,0,0,0,0,0,0,0,0,0,0,0,0,0,0,0,0,0,0,0,0,0,0,0,0,0,0,0,0]
[0,0,0,0,0,0,0,0,0,0,0,0,0,0,0,0,0,0,0,0,0,0,0,0,0,0,0,0,0,0,0,0,0,0,0,0,0,0,0,0,0,0,0,0,0,0,0,0,0,0,0,0,0]
[0,0,0,0,0,0,0,0,0,0,0,0,0,0,0,0,0,0,0,0,0,0,0,0,0,0,0,0,0,0,0,0,0,0,0,0,0,0,0,0,0,0,0,0,0,0,0,0,0,0,0,0,0]
[0,0,0,0,0,0,0,0,0,0,0,0,0,0,0,0,0,0,0,0,0,0,0,0,0,0,0,0,0,0,0,0,0,0,0,0,0,0,0,0,0,0,0,0,0,0,0,0,0,0,0,0,0]
[0,0,0,0,0,0,0,0,0,0,0,0,0,0,0,0,0,0,0,0,0,0,0,0,0,0,0,0,0,0,0,0,0,0,0,0,0,0,0,0,0,0,0,0,0,0,0,0,0,0,0,0,0]
[0,0,0,0,0,0,0,0,0,0,0,0,0,0,0,0,0,0,0,0,0,0,0,0,0,0,0,0,0,0,0,0,0,0,0,0,0,0,0,0,0,0,0,0,0,0,0,0,0,0,0,0,0]
[0,0,0,0,0,0,0,0,0,0,0,0,0,0,0,0,0,0,0,0,0,0,0,0,0,0,0,0,0,0,0,0,0,0,0,0,0,0,0,0,0,0,0,0,0,0,0,0,0,0,0,0,0]
[0,0,0,0,0,0,0,0,0,0,0,0,0,0,0,0,0,0,0,0,0,0,0,0,0,0,0,0,0,0,0,0,0,0,0,0,0,0,0,0,0,0,0,0,0,0,0,0,0,0,0,0,0]
[0,0,0,0,0,0,0,0,0,0,0,0,0,0,0,0,0,0,0,0,0,0,0,0,0,0,0,0,0,0,0,0,0,0,0,0,0,0,0,0,0,0,0,0,0,0,0,0,0,0,0,0,0]
[0,0,0,0,0,0,0,0,0,0,0,0,0,0,0,0,0,0,0,0,0,0,0,0,0,0,0,0,0,0,0,0,0,0,0,0,0,0,0,0,0,0,0,0,0,0,0,0,0,0,0,0,0]
[0,0,0,0,0,0,0,0,0,0,0,0,0,0,0,0,0,0,0,0,0,0,0,0,0,0,0,0,0,0,0,0,0,0,0,0,0,0,0,0,0,0,0,0,0,0,0,0,0,0,0,0,0]
[0,0,0,0,0,0,0,0,0,0,0,0,0,0,0,0,0,0,0,0,0,0,0,0,0,0,0,0,0,0,0,0,0,0,0,0,0,0,0,0,0,0,0,0,0,0,0,0,0,0,0,0,0]
[0,0,0,0,0,0,0,0,0,0,0,0,0,0,0,0,0,0,0,0,0,0,0,0,0,0,0,0,0,0,0,0,0,0,0,0,0,0,0,0,0,0,0,0,0,0,0,0,0,0,0,0,0]
[0,0,0,0,0,0,0,0,0,0,0,0,0,0,0,0,0,0,0,0,0,0,0,0,0,0,0,0,0,0,0,0,0,0,0,0,0,0,0,0,0,0,0,0,0,0,0,0,0,0,0,0,0]
[0,0,0,0,0,0,0,0,0,0,0,0,0,0,0,0,0,0,0,0,0,0,0,0,0,0,0,0,0,0,0,0,0,0,0,0,0,0,0,0,0,0,0,0,0,0,0,0,0,0,0,0,0]
[0,0,0,0,0,0,0,0,0,0,0,0,0,0,0,0,0,0,0,0,0,0,0,0,0,0,0,0,0,0,0,0,0,0,0,0,0,0,0,0,0,0,0,0,0,0,0,0,0,0,0,0,0]
[0,0,0,0,0,0,0,0,0,0,0,0,0,0,0,0,0,0,0,0,0,0,0,0,0,0,0,0,0,0,0,0,0,0,0,0,0,0,0,0,0,0,0,0,0,0,0,0,0,0,0,0,0]
[0,0,0,0,0,0,0,0,0,0,0,0,0,0,0,0,0,0,0,0,0,0,0,0,0,0,0,0,0,0,0,0,0,0,0,0,0,0,0,0,0,0,0,0,0,0,0,0,0,0,0,0,0]
[0,0,0,0,0,0,0,0,0,0,0,0,0,0,0,0,0,0,0,0,0,0,0,0,0,0,0,0,0,0,0,0,0,0,0,0,0,0,0,0,0,0,0,0,0,0,0,0,0,0,0,0,0]
[0,0,0,0,0,0,0,0,0,0,0,0,0,0,0,0,0,0,0,0,0,0,0,0,0,0,0,0,0,0,0,0,0,0,0,0,0,0,0,0,0,0,0,0,0,0,0,0,0,0,0,0,0]
[0,0,0,0,0,0,0,0,0,0,0,0,0,0,0,0,0,0,0,0,0,0,0,0,0,0,0,0,0,0,0,0,0,0,0,0,0,0,0,0,0,0,0,0,0,0,0,0,0,0,0,0,0]
[0,0,0,0,0,0,0,0,0,0,0,0,0,0,0,0,0,0,0,0,0,0,0,0,0,0,0,0,0,0,0,0,0,0,0,0,0,0,0,0,0,0,0,0,0,0,0,0,0,0,0,0,0]
[0,0,0,0,0,0,0,0,0,0,0,0,0,0,0,0,0,0,0,0,0,0,0,0,0,0,0,0,0,0,0,0,0,0,0,0,0,0,0,0,0,0,0,0,0,0,0,0,0,0,0,0,0]
[0,0,0,0,0,0,0,0,0,0,0,0,0,0,0,0,0,0,0,0,0,0,0,0,0,0,0,0,0,0,0,0,0,0,0,0,0,0,0,0,0,0,0,0,0,0,0,0,0,0,0,0,0]
[0,0,0,0,0,0,0,0,0,0,0,0,0,0,0,0,0,0,0,0,0,0,0,0,0,0,0,0,0,0,0,0,0,0,0,0,0,0,0,0,0,0,0,0,0,0,0,0,0,0,0,0,0]
[0,0,0,0,0,0,0,0,0,0,0,0,0,0,0,0,0,0,0,0,0,0,0,0,0,0,0,0,0,0,0,0,0,0,0,0,0,0,0,0,0,0,0,0,0,0,0,0,0,0,0,0,0]
[0,0,0,0,0,0,0,0,0,0,0,0,0,0,0,0,0,0,0,0,0,0,0,0,0,0,0,0,0,0,0,0,0,0,0,0,0,0,0,0,0,0,0,0,0,0,0,0,0,0,0,0,0]
[0,0,0,0,0,0,0,0,0,0,0,0,0,0,0,0,0,0,0,0,0,0,0,0,0,0,0,0,0,0,0,0,0,0,0,0,0,0,0,0,0,0,0,0,0,0,0,0,0,0,0,0,0]
[0,0,0,0,0,0,0,0,0,0,0,0,0,0,0,0,0,0,0,0,0,0,0,0,0,0,0,0,0,0,0,0,0,0,0,0,0,0,0,0,0,0,0,0,0,0,0,0,0,0,0,0,0]
[0,0,0,0,0,0,0,0,0,0,0,0,0,0,0,0,0,0,0,0,0,0,0,0,0,0,0,0,0,0,0,0,0,0,0,0,0,0,0,0,0,0,0,0,0,0,0,0,0,0,0,0,0]
[0,0,0,0,0,0,0,0,0,0,0,0,0,0,0,0,0,0,0,0,0,0,0,0,0,0,0,0,0,0,0,0,0,0,0,0,0,0,0,0,0,0,0,0,0,0,0,0,0,0,0,0,0]
[0,0,0,0,0,0,0,0,0,0,0,0,0,0,0,0,0,0,0,0,0,0,0,0,0,0,0,0,0,0,0,0,0,0,0,0,0,0,0,0,0,0,0,0,0,0,0,0,0,0,0,0,0]
[0,0,0,0,0,0,0,0,0,0,0,0,0,0,0,0,0,0,0,0,0,0,0,0,0,0,0,0,0,0,0,0,0,0,0,0,0,0,0,0,0,0,0,0,0,0,0,0,0,0,0,0,0]
[0,0,0,0,0,0,0,0,0,0,0,0,0,0,0,0,0,0,0,0,0,0,0,0,0,0,0,0,0,0,0,0,0,0,0,0,0,0,0,0,0,0,0,0,0,0,0,0,0,0,0,0,0]
[0,0,0,0,0,0,0,0,0,0,0,0,0,0,0,0,0,0,0,0,0,0,0,0,0,0,0,0,0,0,0,0,0,0,0,0,0,0,0,0,0,0,0,0,0,0,0,0,0,0,0,0,0]
[0,0,0,0,0,0,0,0,0,0,0,0,0,0,0,0,0,0,0,0,0,0,0,0,0,0,0,0,0,0,0,0,0,0,0,0,0,0,0,0,0,0,0,0,0,0,0,0,0,0,0,0,0]
[0,0,0,0,0,0,0,0,0,0,0,0,0,0,0,0,0,0,0,0,0,0,0,0,0,0,0,0,0,0,0,0,0,0,0,0,0,0,0,0,0,0,0,0,0,0,0,0,0,0,0,0,0]
[0,0,0,0,0,0,0,0,0,0,0,0,0,0,0,0,0,0,0,0,0,0,0,0,0,0,0,0,0,0,0,0,0,0,0,0,0,0,0,0,0,0,0,0,0,0,0,0,0,0,0,0,0]
[0,0,0,0,0,0,0,0,0,0,0,0,0,0,0,0,0,0,0,0,0,0,0,0,0,0,0,0,0,0,0,0,0,0,0,0,0,0,0,0,0,0,0,0,0,0,0,0,0,0,0,0,0]
[0,0,0,0,0,0,0,0,0,0,0,0,0,0,0,0,0,0,0,0,0,0,0,0,0,0,0,0,0,0,0,0,0,0,0,0,0,0,0,0,0,0,0,0,0,0,0,0,0,0,0,0,0]
[0,0,0,0,0,0,0,0,0,0,0,0,0,0,0,0,0,0,0,0,0,0,0,0,0,0,0,0,0,0,0,0,0,0,0,0,0,0,0,0,0,0,0,0,0,0,0,0,0,0,0,0,0]
[0,0,0,0,0,0,0,0,0,0,0,0,0,0,0,0,0,0,0,0,0,0,0,0,0,0,0,0,0,0,0,0,0,0,0,0,0,0,0,0,0,0,0,0,0,0,0,0,0,0,0,0,0]
[0,0,0,0,0,0,0,0,0,0,0,0,0,0,0,0,0,0,0,0,0,0,0,0,0,0,0,0,0,0,0,0,0,0,0,0,0,0,0,0,0,0,0,0,0,0,0,0,0,0,0,0,0]
[0,0,0,0,0,0,0,0,0,0,0,0,0,0,0,0,0,0,0,0,0,0,0,0,0,0,0,0,0,0,0,0,0,0,0,0,0,0,0,0,0,0,0,0,0,0,0,0,0,0,0,0,0]
[0,0,0,0,0,0,0,0,0,0,0,0,0,0,0,0,0,0,0,0,0,0,0,0,0,0,0,0,0,0,0,0,0,0,0,0,0,0,0,0,0,0,0,0,0,0,0,0,0,0,0,0,0]
[0,0,0,0,0,0,0,0,0,0,0,0,0,0,0,0,0,0,0,0,0,0,0,0,0,0,0,0,0,0,0,0,0,0,0,0,0,0,0,0,0,0,0,0,0,0,0,0,0,0,0,0,0]
[0,0,0,0,0,0,0,0,0,0,0,0,0,0,0,0,0,0,0,0,0,0,0,0,0,0,0,0,0,0,0,0,0,0,0,0,0,0,0,0,0,0,0,0,0,0,0,0,0,0,0,0,0]
[0,0,0,0,0,0,0,0,0,0,0,0,0,0,0,0,0,0,0,0,0,0,0,0,0,0,0,0,0,0,0,0,0,0,0,0,0,0,0,0,0,0,0,0,0,0,0,0,0,0,0,0,0]
[0,0,0,0,0,0,0,0,0,0,0,0,0,0,0,0,0,0,0,0,0,0,0,0,0,0,0,0,0,0,0,0,0,0,0,0,0,0,0,0,0,0,0,0,0,0,0,0,0,0,0,0,0]
[0,0,0,0,0,0,0,0,0,0,0,0,0,0,0,0,0,0,0,0,0,0,0,0,0,0,0,0,0,0,0,0,0,0,0,0,0,0,0,0,0,0,0,0,0,0,0,0,0,0,0,0,0]
[0,0,0,0,0,0,0,0,0,0,0,0,0,0,0,0,0,0,0,0,0,0,0,0,0,0,0,0,0,0,0,0,0,0,0,0,0,0,0,0,0,0,0,0,0,0,0,0,0,0,0,0,0]
[0,0,0,0,0,0,0,0,0,0,0,0,0,0,0,0,0,0,0,0,0,0,0,0,0,0,0,0,0,0,0,0,0,0,0,0,0,0,0,0,0,0,0,0,0,0,0,0,0,0,0,0,0]
[0,0,0,0,0,0,0,0,0,0,0,0,0,0,0,0,0,0,0,0,0,0,0,0,0,0,0,0,0,0,0,0,0,0,0,0,0,0,0,0,0,0,0,0,0,0,0,0,0,0,0,0,0]
[0,0,0,0,0,0,0,0,0,0,0,0,0,0,0,0,0,0,0,0,0,0,0,0,0,0,0,0,0,0,0,0,0,0,0,0,0,0,0,0,0,0,0,0,0,0,0,0,0,0,0,0,0]
[0,0,0,0,0,0,0,0,0,0,0,0,0,0,0,0,0,0,0,0,0,0,0,0,0,0,0,0,0,0,0,0,0,0,0,0,0,0,0,0,0,0,0,0,0,0,0,0,0,0,0,0,0]
[0,0,0,0,0,0,0,0,0,0,0,0,0,0,0,0,0,0,0,0,0,0,0,0,0,0,0,0,0,0,0,0,0,0,0,0,0,0,0,0,0,0,0,0,0,0,0,0,0,0,0,0,0]
[0,0,0,0,0,0,0,0,0,0,0,0,0,0,0,0,0,0,0,0,0,0,0,0,0,0,0,0,0,0,0,0,0,0,0,0,0,0,0,0,0,0,0,0,0,0,0,0,0,0,0,0,0]
[0,0,0,0,0,0,0,0,0,0,0,0,0,0,0,0,0,0,0,0,0,0,0,0,0,0,0,0,0,0,0,0,0,0,0,0,0,0,0,0,0,0,0,0,0,0,0,0,0,0,0,0,0]
[0,0,0,0,0,0,0,0,0,0,0,0,0,0,0,0,0,0,0,0,0,0,0,0,0,0,0,0,0,0,0,0,0,0,0,0,0,0,0,0,0,0,0,0,0,0,0,0,0,0,0,0,0]
[0,0,0,0,0,0,0,0,0,0,0,0,0,0,0,0,0,0,0,0,0,0,0,0,0,0,0,0,0,0,0,0,0,0,0,0,0,0,0,0,0,0,0,0,0,0,0,0,0,0,0,0,0]
[0,0,0,0,0,0,0,0,0,0,0,0,0,0,0,0,0,0,0,0,0,0,0,0,0,0,0,0,0,0,0,0,0,0,0,0,0,0,0,0,0,0,0,0,0,0,0,0,0,0,0,0,0]
[0,0,0,0,0,0,0,0,0,0,0,0,0,0,0,0,0,0,0,0,0,0,0,0,0,0,0,0,0,0,0,0,0,0,0,0,0,0,0,0,0,0,0,0,0,0,0,0,0,0,0,0,0]
[0,0,0,0,0,0,0,0,0,0,0,0,0,0,0,0,0,0,0,0,0,0,0,0,0,0,0,0,0,0,0,0,0,0,0,0,0,0,0,0,0,0,0,0,0,0,0,0,0,0,0,0,0]
[0,0,0,0,0,0,0,0,0,0,0,0,0,0,0,0,0,0,0,0,0,0,0,0,0,0,0,0,0,0,0,0,0,0,0,0,0,0,0,0,0,0,0,0,0,0,0,0,0,0,0,0,0]
[0,0,0,0,0,0,0,0,0,0,0,0,0,0,0,0,0,0,0,0,0,0,0,0,0,0,0,0,0,0,0,0,0,0,0,0,0,0,0,0,0,0,0,0,0,0,0,0,0,0,0,0,0]
[0,0,0,0,0,0,0,0,0,0,0,0,0,0,0,0,0,0,0,0,0,0,0,0,0,0,0,0,0,0,0,0,0,0,0,0,0,0,0,0,0,0,0,0,0,0,0,0,0,0,0,0,0]
[0,0,0,0,0,0,0,0,0,0,0,0,0,0,0,0,0,0,0,0,0,0,0,0,0,0,0,0,0,0,0,0,0,0,0,0,0,0,0,0,0,0,0,0,0,0,0,0,0,0,0,0,0]
[0,0,0,0,0,0,0,0,0,0,0,0,0,0,0,0,0,0,0,0,0,0,0,0,0,0,0,0,0,0,0,0,0,0,0,0,0,0,0,0,0,0,0,0,0,0,0,0,0,0,0,0,0]
[0,0,0,0,0,0,0,0,0,0,0,0,0,0,0,0,0,0,0,0,0,0,0,0,0,0,0,0,0,0,0,0,0,0,0,0,0,0,0,0,0,0,0,0,0,0,0,0,0,0,0,0,0]
[0,0,0,0,0,0,0,0,0,0,0,0,0,0,0,0,0,0,0,0,0,0,0,0,0,0,0,0,0,0,0,0,0,0,0,0,0,0,0,0,0,0,0,0,0,0,0,0,0,0,0,0,0]
[0,0,0,0,0,0,0,0,0,0,0,0,0,0,0,0,0,0,0,0,0,0,0,0,0,0,0,0,0,0,0,0,0,0,0,0,0,0,0,0,0,0,0,0,0,0,0,0,0,0,0,0,0]
[0,0,0,0,0,0,0,0,0,0,0,0,0,0,0,0,0,0,0,0,0,0,0,0,0,0,0,0,0,0,0,0,0,0,0,0,0,0,0,0,0,0,0,0,0,0,0,0,0,0,0,0,0]
[0,0,0,0,0,0,0,0,0,0,0,0,0,0,0,0,0,0,0,0,0,0,0,0,0,0,0,0,0,0,0,0,0,0,0,0,0,0,0,0,0,0,0,0,0,0,0,0,0,0,0,0,0]
[0,0,0,0,0,0,0,0,0,0,0,0,0,0,0,0,0,0,0,0,0,0,0,0,0,0,0,0,0,0,0,0,0,0,0,0,0,0,0,0,0,0,0,0,0,0,0,0,0,0,0,0,0]
[0,0,0,0,0,0,0,0,0,0,0,0,0,0,0,0,0,0,0,0,0,0,0,0,0,0,0,0,0,0,0,0,0,0,0,0,0,0,0,0,0,0,0,0,0,0,0,0,0,0,0,0,0]
[0,0,0,0,0,0,0,0,0,0,0,0,0,0,0,0,0,0,0,0,0,0,0,0,0,0,0,0,0,0,0,0,0,0,0,0,0,0,0,0,0,0,0,0,0,0,0,0,0,0,0,0,0]
[0,0,0,0,0,0,0,0,0,0,0,0,0,0,0,0,0,0,0,0,0,0,0,0,0,0,0,0,0,0,0,0,0,0,0,0,0,0,0,0,0,0,0,0,0,0,0,0,0,0,0,0,0]
[0,0,0,0,0,0,0,0,0,0,0,0,0,0,0,0,0,0,0,0,0,0,0,0,0,0,0,0,0,0,0,0,0,0,0,0,0,0,0,0,0,0,0,0,0,0,0,0,0,0,0,0,0]
[0,0,0,0,0,0,0,0,0,0,0,0,0,0,0,0,0,0,0,0,0,0,0,0,0,0,0,0,0,0,0,0,0,0,0,0,0,0,0,0,0,0,0,0,0,0,0,0,0,0,0,0,0]
[0,0,0,0,0,0,0,0,0,0,0,0,0,0,0,0,0,0,0,0,0,0,0,0,0,0,0,0,0,0,0,0,0,0,0,0,0,0,0,0,0,0,0,0,0,0,0,0,0,0,0,0,0]
[0,0,0,0,0,0,0,0,0,0,0,0,0,0,0,0,0,0,0,0,0,0,0,0,0,0,0,0,0,0,0,0,0,0,0,0,0,0,0,0,0,0,0,0,0,0,0,0,0,0,0,0,0]
[0,0,0,0,0,0,0,0,0,0,0,0,0,0,0,0,0,0,0,0,0,0,0,0,0,0,0,0,0,0,0,0,0,0,0,0,0,0,0,0,0,0,0,0,0,0,0,0,0,0,0,0,0]
[0,0,0,0,0,0,0,0,0,0,0,0,0,0,0,0,0,0,0,0,0,0,0,0,0,0,0,0,0,0,0,0,0,0,0,0,0,0,0,0,0,0,0,0,0,0,0,0,0,0,0,0,0]
[0,0,0,0,0,0,0,0,0,0,0,0,0,0,0,0,0,0,0,0,0,0,0,0,0,0,0,0,0,0,0,0,0,0,0,0,0,0,0,0,0,0,0,0,0,0,0,0,0,0,0,0,0]
[0,0,0,0,0,0,0,0,0,0,0,0,0,0,0,0,0,0,0,0,0,0,0,0,0,0,0,0,0,0,0,0,0,0,0,0,0,0,0,0,0,0,0,0,0,0,0,0,0,0,0,0,0]
[0,0,0,0,0,0,0,0,0,0,0,0,0,0,0,0,0,0,0,0,0,0,0,0,0,0,0,0,0,0,0,0,0,0,0,0,0,0,0,0,0,0,0,0,0,0,0,0,0,0,0,0,0]
[0,0,0,0,0,0,0,0,0,0,0,0,0,0,0,0,0,0,0,0,0,0,0,0,0,0,0,0,0,0,0,0,0,0,0,0,0,0,0,0,0,0,0,0,0,0,0,0,0,0,0,0,0]
[0,0,0,0,0,0,0,0,0,0,0,0,0,0,0,0,0,0,0,0,0,0,0,0,0,0,0,0,0,0,0,0,0,0,0,0,0,0,0,0,0,0,0,0,0,0,0,0,0,0,0,0,0]
[0,0,0,0,0,0,0,0,0,0,0,0,0,0,0,0,0,0,0,0,0,0,0,0,0,0,0,0,0,0,0,0,0,0,0,0,0,0,0,0,0,0,0,0,0,0,0,0,0,0,0,0,0]
[0,0,0,0,0,0,0,0,0,0,0,0,0,0,0,0,0,0,0,0,0,0,0,0,0,0,0,0,0,0,0,0,0,0,0,0,0,0,0,0,0,0,0,0,0,0,0,0,0,0,0,0,0]
[0,0,0,0,0,0,0,0,0,0,0,0,0,0,0,0,0,0,0,0,0,0,0,0,0,0,0,0,0,0,0,0,0,0,0,0,0,0,0,0,0,0,0,0,0,0,0,0,0,0,0,0,0]
[0,0,0,0,0,0,0,0,0,0,0,0,0,0,0,0,0,0,0,0,0,0,0,0,0,0,0,0,0,0,0,0,0,0,0,0,0,0,0,0,0,0,0,0,0,0,0,0,0,0,0,0,0]
[0,0,0,0,0,0,0,0,0,0,0,0,0,0,0,0,0,0,0,0,0,0,0,0,0,0,0,0,0,0,0,0,0,0,0,0,0,0,0,0,0,0,0,0,0,0,0,0,0,0,0,0,0]
[0,0,0,0,0,0,0,0,0,0,0,0,0,0,0,0,0,0,0,0,0,0,0,0,0,0,0,0,0,0,0,0,0,0,0,0,0,0,0,0,0,0,0,0,0,0,0,0,0,0,0,0,0]
[0,0,0,0,0,0,0,0,0,0,0,0,0,0,0,0,0,0,0,0,0,0,0,0,0,0,0,0,0,0,0,0,0,0,0,0,0,0,0,0,0,0,0,0,0,0,0,0,0,0,0,0,0]
[0,0,0,0,0,0,0,0,0,0,0,0,0,0,0,0,0,0,0,0,0,0,0,0,0,0,0,0,0,0,0,0,0,0,0,0,0,0,0,0,0,0,0,0,0,0,0,0,0,0,0,0,0]
[0,0,0,0,0,0,0,0,0,0,0,0,0,0,0,0,0,0,0,0,0,0,0,0,0,0,0,0,0,0,0,0,0,0,0,0,0,0,0,0,0,0,0,0,0,0,0,0,0,0,0,0,0]
[0,0,0,0,0,0,0,0,0,0,0,0,0,0,0,0,0,0,0,0,0,0,0,0,0,0,0,0,0,0,0,0,0,0,0,0,0,0,0,0,0,0,0,0,0,0,0,0,0,0,0,0,0]
[0,0,0,0,0,0,0,0,0,0,0,0,0,0,0,0,0,0,0,0,0,0,0,0,0,0,0,0,0,0,0,0,0,0,0,0,0,0,0,0,0,0,0,0,0,0,0,0,0,0,0,0,0]
[0,0,0,0,0,0,0,0,0,0,0,0,0,0,0,0,0,0,0,0,0,0,0,0,0,0,0,0,0,0,0,0,0,0,0,0,0,0,0,0,0,0,0,0,0,0,0,0,0,0,0,0,0]
[0,0,0,0,0,0,0,0,0,0,0,0,0,0,0,0,0,0,0,0,0,0,0,0,0,0,0,0,0,0,0,0,0,0,0,0,0,0,0,0,0,0,0,0,0,0,0,0,0,0,0,0,0]
[0,0,0,0,0,0,0,0,0,0,0,0,0,0,0,0,0,0,0,0,0,0,0,0,0,0,0,0,0,0,0,0,0,0,0,0,0,0,0,0,0,0,0,0,0,0,0,0,0,0,0,0,0]
[0,0,0,0,0,0,0,0,0,0,0,0,0,0,0,0,0,0,0,0,0,0,0,0,0,0,0,0,0,0,0,0,0,0,0,0,0,0,0,0,0,0,0,0,0,0,0,0,0,0,0,0,0]
[0,0,0,0,0,0,0,0,0,0,0,0,0,0,0,0,0,0,0,0,0,0,0,0,0,0,0,0,0,0,0,0,0,0,0,0,0,0,0,0,0,0,0,0,0,0,0,0,0,0,0,0,0]
[0,0,0,0,0,0,0,0,0,0,0,0,0,0,0,0,0,0,0,0,0,0,0,0,0,0,0,0,0,0,0,0,0,0,0,0,0,0,0,0,0,0,0,0,0,0,0,0,0,0,0,0,0]
[0,0,0,0,0,0,0,0,0,0,0,0,0,0,0,0,0,0,0,0,0,0,0,0,0,0,0,0,0,0,0,0,0,0,0,0,0,0,0,0,0,0,0,0,0,0,0,0,0,0,0,0,0]
[0,0,0,0,0,0,0,0,0,0,0,0,0,0,0,0,0,0,0,0,0,0,0,0,0,0,0,0,0,0,0,0,0,0,0,0,0,0,0,0,0,0,0,0,0,0,0,0,0,0,0,0,0]
[0,0,0,0,0,0,0,0,0,0,0,0,0,0,0,0,0,0,0,0,0,0,0,0,0,0,0,0,0,0,0,0,0,0,0,0,0,0,0,0,0,0,0,0,0,0,0,0,0,0,0,0,0]
[0,0,0,0,0,0,0,0,0,0,0,0,0,0,0,0,0,0,0,0,0,0,0,0,0,0,0,0,0,0,0,0,0,0,0,0,0,0,0,0,0,0,0,0,0,0,0,0,0,0,0,0,0]
[0,0,0,0,0,0,0,0,0,0,0,0,0,0,0,0,0,0,0,0,0,0,0,0,0,0,0,0,0,0,0,0,0,0,0,0,0,0,0,0,0,0,0,0,0,0,0,0,0,0,0,0,0]
[0,0,0,0,0,0,0,0,0,0,0,0,0,0,0,0,0,0,0,0,0,0,0,0,0,0,0,0,0,0,0,0,0,0,0,0,0,0,0,0,0,0,0,0,0,0,0,0,0,0,0,0,0]
[0,0,0,0,0,0,0,0,0,0,0,0,0,0,0,0,0,0,0,0,0,0,0,0,0,0,0,0,0,0,0,0,0,0,0,0,0,0,0,0,0,0,0,0,0,0,0,0,0,0,0,0,0]
[0,0,0,0,0,0,0,0,0,0,0,0,0,0,0,0,0,0,0,0,0,0,0,0,0,0,0,0,0,0,0,0,0,0,0,0,0,0,0,0,0,0,0,0,0,0,0,0,0,0,0,0,0]
[0,0,0,0,0,0,0,0,0,0,0,0,0,0,0,0,0,0,0,0,0,0,0,0,0,0,0,0,0,0,0,0,0,0,0,0,0,0,0,0,0,0,0,0,0,0,0,0,0,0,0,0,0]
[0,0,0,0,0,0,0,0,0,0,0,0,0,0,0,0,0,0,0,0,0,0,0,0,0,0,0,0,0,0,0,0,0,0,0,0,0,0,0,0,0,0,0,0,0,0,0,0,0,0,0,0,0]
[0,0,0,0,0,0,0,0,0,0,0,0,0,0,0,0,0,0,0,0,0,0,0,0,0,0,0,0,0,0,0,0,0,0,0,0,0,0,0,0,0,0,0,0,0,0,0,0,0,0,0,0,0]
[0,0,0,0,0,0,0,0,0,0,0,0,0,0,0,0,0,0,0,0,0,0,0,0,0,0,0,0,0,0,0,0,0,0,0,0,0,0,0,0,0,0,0,0,0,0,0,0,0,0,0,0,0]
[0,0,0,0,0,0,0,0,0,0,0,0,0,0,0,0,0,0,0,0,0,0,0,0,0,0,0,0,0,0,0,0,0,0,0,0,0,0,0,0,0,0,0,0,0,0,0,0,0,0,0,0,0]
[0,0,0,0,0,0,0,0,0,0,0,0,0,0,0,0,0,0,0,0,0,0,0,0,0,0,0,0,0,0,0,0,0,0,0,0,0,0,0,0,0,0,0,0,0,0,0,0,0,0,0,0,0]
[0,0,0,0,0,0,0,0,0,0,0,0,0,0,0,0,0,0,0,0,0,0,0,0,0,0,0,0,0,0,0,0,0,0,0,0,0,0,0,0,0,0,0,0,0,0,0,0,0,0,0,0,0]
[0,0,0,0,0,0,0,0,0,0,0,0,0,0,0,0,0,0,0,0,0,0,0,0,0,0,0,0,0,0,0,0,0,0,0,0,0,0,0,0,0,0,0,0,0,0,0,0,0,0,0,0,0]
[0,0,0,0,0,0,0,0,0,0,0,0,0,0,0,0,0,0,0,0,0,0,0,0,0,0,0,0,0,0,0,0,0,0,0,0,0,0,0,0,0,0,0,0,0,0,0,0,0,0,0,0,0]
[0,0,0,0,0,0,0,0,0,0,0,0,0,0,0,0,0,0,0,0,0,0,0,0,0,0,0,0,0,0,0,0,0,0,0,0,0,0,0,0,0,0,0,0,0,0,0,0,0,0,0,0,0]
[0,0,0,0,0,0,0,0,0,0,0,0,0,0,0,0,0,0,0,0,0,0,0,0,0,0,0,0,0,0,0,0,0,0,0,0,0,0,0,0,0,0,0,0,0,0,0,0,0,0,0,0,0]
[0,0,0,0,0,0,0,0,0,0,0,0,0,0,0,0,0,0,0,0,0,0,0,0,0,0,0,0,0,0,0,0,0,0,0,0,0,0,0,0,0,0,0,0,0,0,0,0,0,0,0,0,0]
[0,0,0,0,0,0,0,0,0,0,0,0,0,0,0,0,0,0,0,0,0,0,0,0,0,0,0,0,0,0,0,0,0,0,0,0,0,0,0,0,0,0,0,0,0,0,0,0,0,0,0,0,0]
[0,0,0,0,0,0,0,0,0,0,0,0,0,0,0,0,0,0,0,0,0,0,0,0,0,0,0,0,0,0,0,0,0,0,0,0,0,0,0,0,0,0,0,0,0,0,0,0,0,0,0,0,0]
[0,0,0,0,0,0,0,0,0,0,0,0,0,0,0,0,0,0,0,0,0,0,0,0,0,0,0,0,0,0,0,0,0,0,0,0,0,0,0,0,0,0,0,0,0,0,0,0,0,0,0,0,0]
[0,0,0,0,0,0,0,0,0,0,0,0,0,0,0,0,0,0,0,0,0,0,0,0,0,0,0,0,0,0,0,0,0,0,0,0,0,0,0,0,0,0,0,0,0,0,0,0,0,0,0,0,0]
[0,0,0,0,0,0,0,0,0,0,0,0,0,0,0,0,0,0,0,0,0,0,0,0,0,0,0,0,0,0,0,0,0,0,0,0,0,0,0,0,0,0,0,0,0,0,0,0,0,0,0,0,0]
[0,0,0,0,0,0,0,0,0,0,0,0,0,0,0,0,0,0,0,0,0,0,0,0,0,0,0,0,0,0,0,0,0,0,0,0,0,0,0,0,0,0,0,0,0,0,0,0,0,0,0,0,0]
[0,0,0,0,0,0,0,0,0,0,0,0,0,0,0,0,0,0,0,0,0,0,0,0,0,0,0,0,0,0,0,0,0,0,0,0,0,0,0,0,0,0,0,0,0,0,0,0,0,0,0,0,0]
[0,0,0,0,0,0,0,0,0,0,0,0,0,0,0,0,0,0,0,0,0,0,0,0,0,0,0,0,0,0,0,0,0,0,0,0,0,0,0,0,0,0,0,0,0,0,0,0,0,0,0,0,0]
[0,0,0,0,0,0,0,0,0,0,0,0,0,0,0,0,0,0,0,0,0,0,0,0,0,0,0,0,0,0,0,0,0,0,0,0,0,0,0,0,0,0,0,0,0,0,0,0,0,0,0,0,0]
[0,0,0,0,0,0,0,0,0,0,0,0,0,0,0,0,0,0,0,0,0,0,0,0,0,0,0,0,0,0,0,0,0,0,0,0,0,0,0,0,0,0,0,0,0,0,0,0,0,0,0,0,0]
[0,0,0,0,0,0,0,0,0,0,0,0,0,0,0,0,0,0,0,0,0,0,0,0,0,0,0,0,0,0,0,0,0,0,0,0,0,0,0,0,0,0,0,0,0,0,0,0,0,0,0,0,0]
[0,0,0,0,0,0,0,0,0,0,0,0,0,0,0,0,0,0,0,0,0,0,0,0,0,0,0,0,0,0,0,0,0,0,0,0,0,0,0,0,0,0,0,0,0,0,0,0,0,0,0,0,0]
[0,0,0,0,0,0,0,0,0,0,0,0,0,0,0,0,0,0,0,0,0,0,0,0,0,0,0,0,0,0,0,0,0,0,0,0,0,0,0,0,0,0,0,0,0,0,0,0,0,0,0,0,0]
[0,0,0,0,0,0,0,0,0,0,0,0,0,0,0,0,0,0,0,0,0,0,0,0,0,0,0,0,0,0,0,0,0,0,0,0,0,0,0,0,0,0,0,0,0,0,0,0,0,0,0,0,0]
[0,0,0,0,0,0,0,0,0,0,0,0,0,0,0,0,0,0,0,0,0,0,0,0,0,0,0,0,0,0,0,0,0,0,0,0,0,0,0,0,0,0,0,0,0,0,0,0,0,0,0,0,0]

{"sheet":"ENLACES DATOS","index":2,"n_rows":1599,"n_cols":24,"rows_kept":1599,"cut":false,"hidden":false,"merged":[[285,2,286,2],[281,9,282,9],[278,12,279,12]]}
["SIMULACION PRODUCCION EQ Y %EQ POR ECUACIONES",null,null,null,null,"CAPRINO",null,"FLORIDA","INVIERNO",{"$f":"'SIMULACION DATOS PRODUCTIVOS'!C11","v":0},{"$f":"'SIMULACION DATOS PRODUCTIVOS'!C12","v":0},{"$f":"'SIMULACION DATOS PRODUCTIVOS'!C14","v":""},{"$f":"CONCATENATE(J1,K1,L1)","v":"00"}]
[null,null,null,"REFERENCIA",null,"OVINO",null,"MALAGUEÑA","TEMPLADO"]
[null,null,null,{"$f":"CONCATENATE(A3,B3,C3)","v":""},null,null,null,"MURCIANA","VERANO"]
[null,null,null,"",null,null,null,"ASSAF"]
[null,null,null,"",null,null,null,"LACAUNE"]
[null,null,null,"",null,null,null,"MANCHEGA"]
[null,null,null,"",null,null,null,"SAANEN"]
[null,null,null,"",null,null,null,"ALPINA"]
[null,null,null,""]
[null,null,null,""]
[null,null,null,""]
[null,null,null,""]
[null,null,null,""]
[null,null,null,""]
[null,null,null,""]
[null,null,null,""]
[null,null,null,""]
[null,null,null,""]
[null,null,null,""]
[null,null,null,"",1,2,null,3,4,5,6]
[null,null,null,null,"REFERENCIA","A",null,"B","FC RAZA","FC EPOCA","R2","LITROS","PROD EQ","EQ(%)","EQ(%)","PROD EQ"]
[null,null,null,"CALCULO PROD EQ ESPERADO",{"$f":"M1","v":"00"},{"$f":"VLOOKUP($E$22,ECUACIONES!$A$3:$F$20,F20,FALSE)","v":{"$error":"#N/A"}},null,{"$f":"VLOOKUP($E$22,ECUACIONES!$A$3:$F$20,H20,FALSE)","v":{"$error":"#N/A"}},{"$f":"VLOOKUP($E$22,ECUACIONES!$A$3:$F$20,I20,FALSE)","v":{"$error":"#N/A"}},{"$f":"VLOOKUP($E$22,ECUACIONES!$A$3:$F$20,J20,FALSE)","v":{"$error":"#N/A"}},{"$f":"VLOOKUP($E$22,ECUACIONES!$A$3:$F$20,K20,FALSE)","v":{"$error":"#N/A"}},{"$f":"IF('SIMULACION DATOS PRODUCTIVOS'!C17=\"\",\"\",'SIMULACION DATOS PRODUCTIVOS'!C17)","v":""},{"$f":"IF(L22=\"\",\"\",((F22*L22)+H22)*I22*J22)","v":""},{"$f":"IF(L22=\"\",\"\",(M22/L22)/10)","v":""},{"$f":"IF('SIMULACION DATOS PRODUCTIVOS'!C18=\"\",\"\",'SIMULACION DATOS PRODUCTIVOS'!C18)","v":""},{"$f":"IF(O22=\"\",\"\",M22/(O22*10))","v":""}]
[]
[]
["SIMULACION PRODUCCION EQ Y %EQ POR BBDD"]
[{"$f":"'HOJA DE DATOS'!A2","v":"CAPRINO"},{"$f":"'HOJA DE DATOS'!B2","v":"FLORIDA"},{"$f":"'HOJA DE DATOS'!C2","v":"INVIERNO"},"REFERENCIA",{"$f":"'HOJA DE DATOS'!D2","v":43},{"$f":"'HOJA DE DATOS'!E2","v":1.86551532140278},{"$f":"'HOJA DE DATOS'!F2","v":9.5441860465116299},{"$f":"'HOJA DE DATOS'!G2","v":178.20407956742099},{"$f":"'HOJA DE DATOS'!H2","v":49.500988805479103},null,null,null,"GRAFICO","grEQ/dia"]
[{"$f":"'HOJA DE DATOS'!A3","v":"CAPRINO"},{"$f":"'HOJA DE DATOS'!B3","v":"FLORIDA"},{"$f":"'HOJA DE DATOS'!C3","v":"TEMPLADO"},{"$f":"CONCATENATE(A27,B27,C27)","v":"CAPRINOFLORIDATEMPLADO"},{"$f":"'HOJA DE DATOS'!D3","v":43},{"$f":"'HOJA DE DATOS'!E3","v":1.98822104731886},{"$f":"'HOJA DE DATOS'!F3","v":8.4418604651162799},{"$f":"'HOJA DE DATOS'!G3","v":167.86365297385001},{"$f":"'HOJA DE DATOS'!H3","v":28.616113285180301},null,null,null,"REAL",{"$f":"IF('SIMULACION DATOS PRODUCTIVOS'!C15=\"\",\"\",'ENLACES DATOS'!K54)","v":""}]
[{"$f":"'HOJA DE DATOS'!A4","v":"CAPRINO"},{"$f":"'HOJA DE DATOS'!B4","v":"FLORIDA"},{"$f":"'HOJA DE DATOS'!C4","v":"VERANO"},{"$f":"CONCATENATE(A28,B28,C28)","v":"CAPRINOFLORIDAVERANO"},{"$f":"'HOJA DE DATOS'!D4","v":23},{"$f":"'HOJA DE DATOS'!E4","v":2.3804102763739898},{"$f":"'HOJA DE DATOS'!F4","v":7.6608695652173902},{"$f":"'HOJA DE DATOS'!G4","v":182.69845889737701},{"$f":"'HOJA DE DATOS'!H4","v":39.026074895351798},null,null,null,"OBTENIDO",{"$f":"IF('SIMULACION DATOS PRODUCTIVOS'!C15=\"\",\"\",'ENLACES DATOS'!H54)","v":""}]
[{"$f":"'HOJA DE DATOS'!A5","v":"CAPRINO"},{"$f":"'HOJA DE DATOS'!B5","v":"MALAGUEÑA"},{"$f":"'HOJA DE DATOS'!C5","v":"INVIERNO"},"CAPRINOMALAGUEÑAINVIERNO",{"$f":"'HOJA DE DATOS'!D5","v":54},{"$f":"'HOJA DE DATOS'!E5","v":1.9162754534490001},{"$f":"'HOJA DE DATOS'!F5","v":9.1907407407407398},{"$f":"'HOJA DE DATOS'!G5","v":177.786152994654},{"$f":"'HOJA DE DATOS'!H5","v":67.753210987055695},null,null,null,"CALCULADO",{"$f":"IF('SIMULACION DATOS PRODUCTIVOS'!C17=\"\",\"\",'ENLACES DATOS'!M22)","v":""}]
[{"$f":"'HOJA DE DATOS'!A6","v":"CAPRINO"},{"$f":"'HOJA DE DATOS'!B6","v":"MALAGUEÑA"},{"$f":"'HOJA DE DATOS'!C6","v":"TEMPLADO"},"CAPRINOMALAGUEÑATEMPLADO",{"$f":"'HOJA DE DATOS'!D6","v":50},{"$f":"'HOJA DE DATOS'!E6","v":1.86277516487682},{"$f":"'HOJA DE DATOS'!F6","v":8.6265999999999998},{"$f":"'HOJA DE DATOS'!G6","v":161.780239596661},{"$f":"'HOJA DE DATOS'!H6","v":70.463664956088195}]
[{"$f":"'HOJA DE DATOS'!A7","v":"CAPRINO"},{"$f":"'HOJA DE DATOS'!B7","v":"MALAGUEÑA"},{"$f":"'HOJA DE DATOS'!C7","v":"VERANO"},"CAPRINOMALAGUEÑAVERANO",{"$f":"'HOJA DE DATOS'!D7","v":29},{"$f":"'HOJA DE DATOS'!E7","v":2.2402378610110598},{"$f":"'HOJA DE DATOS'!F7","v":8.0379310344827601},{"$f":"'HOJA DE DATOS'!G7","v":181.75544396296601},{"$f":"'HOJA DE DATOS'!H7","v":96.036157103412606}]
[{"$f":"'HOJA DE DATOS'!A8","v":"CAPRINO"},{"$f":"'HOJA DE DATOS'!B8","v":"MURCIANA"},{"$f":"'HOJA DE DATOS'!C8","v":"INVIERNO"},"CAPRINOMURCIANAINVIERNO",{"$f":"'HOJA DE DATOS'!D8","v":166},{"$f":"'HOJA DE DATOS'!E8","v":1.8510401434822501},{"$f":"'HOJA DE DATOS'!F8","v":9.6451807228915598},{"$f":"'HOJA DE DATOS'!G8","v":177.24429224642299},{"$f":"'HOJA DE DATOS'!H8","v":42.397509251335499}]
[{"$f":"'HOJA DE DATOS'!A9","v":"CAPRINO"},{"$f":"'HOJA DE DATOS'!B9","v":"MURCIANA"},{"$f":"'HOJA DE DATOS'!C9","v":"TEMPLADO"},"CAPRINOMURCIANATEMPLADO",{"$f":"'HOJA DE DATOS'!D9","v":207},{"$f":"'HOJA DE DATOS'!E9","v":1.9380219273588699},{"$f":"'HOJA DE DATOS'!F9","v":8.8990821256038597},{"$f":"'HOJA DE DATOS'!G9","v":171.60440961667001},{"$f":"'HOJA DE DATOS'!H9","v":38.469837882753303}]
[{"$f":"'HOJA DE DATOS'!A10","v":"CAPRINO"},{"$f":"'HOJA DE DATOS'!B10","v":"MURCIANA"},{"$f":"'HOJA DE DATOS'!C10","v":"VERANO"},"CAPRINOMURCIANAVERANO",{"$f":"'HOJA DE DATOS'!D10","v":118},{"$f":"'HOJA DE DATOS'!E10","v":1.9025808491046201},{"$f":"'HOJA DE DATOS'!F10","v":8.2924576271186403},{"$f":"'HOJA DE DATOS'!G10","v":157.268906680057},{"$f":"'HOJA DE DATOS'!H10","v":34.6850268871816}]
[{"$f":"'HOJA DE DATOS'!A11","v":"OVINO"},{"$f":"'HOJA DE DATOS'!B11","v":"ASSAF"},{"$f":"'HOJA DE DATOS'!C11","v":"INVIERNO"},"OVINOASSAFINVIERNO",{"$f":"'HOJA DE DATOS'!D11","v":218},{"$f":"'HOJA DE DATOS'!E11","v":1.5344746690858599},{"$f":"'HOJA DE DATOS'!F11","v":12.3922018348624},{"$f":"'HOJA DE DATOS'!G11","v":188.889022752172},{"$f":"'HOJA DE DATOS'!H11","v":69.024462136129998}]
[{"$f":"'HOJA DE DATOS'!A12","v":"OVINO"},{"$f":"'HOJA DE DATOS'!B12","v":"ASSAF"},{"$f":"'HOJA DE DATOS'!C12","v":"TEMPLADO"},"OVINOASSAFTEMPLADO",{"$f":"'HOJA DE DATOS'!D12","v":274},{"$f":"'HOJA DE DATOS'!E12","v":1.7466475280049401},{"$f":"'HOJA DE DATOS'!F12","v":11.559124087591201},{"$f":"'HOJA DE DATOS'!G12","v":198.608948211974},{"$f":"'HOJA DE DATOS'!H12","v":65.864595938933206}]
[{"$f":"'HOJA DE DATOS'!A13","v":"OVINO"},{"$f":"'HOJA DE DATOS'!B13","v":"ASSAF"},{"$f":"'HOJA DE DATOS'!C13","v":"VERANO"},"OVINOASSAFVERANO",{"$f":"'HOJA DE DATOS'!D13","v":157},{"$f":"'HOJA DE DATOS'!E13","v":1.79841040637775},{"$f":"'HOJA DE DATOS'!F13","v":10.991082802547799},{"$f":"'HOJA DE DATOS'!G13","v":196.161300500663},{"$f":"'HOJA DE DATOS'!H13","v":48.326269885973304}]
[{"$f":"'HOJA DE DATOS'!A14","v":"OVINO"},{"$f":"'HOJA DE DATOS'!B14","v":"LACAUNE"},{"$f":"'HOJA DE DATOS'!C14","v":"INVIERNO"},"OVINOLACAUNEINVIERNO",{"$f":"'HOJA DE DATOS'!D14","v":151},{"$f":"'HOJA DE DATOS'!E14","v":1.62572251468292},{"$f":"'HOJA DE DATOS'!F14","v":12.6966887417218},{"$f":"'HOJA DE DATOS'!G14","v":206.07996608189799},{"$f":"'HOJA DE DATOS'!H14","v":59.265722475771099}]
[{"$f":"'HOJA DE DATOS'!A15","v":"OVINO"},{"$f":"'HOJA DE DATOS'!B15","v":"LACAUNE"},{"$f":"'HOJA DE DATOS'!C15","v":"TEMPLADO"},"OVINOLACAUNETEMPLADO",{"$f":"'HOJA DE DATOS'!D15","v":181},{"$f":"'HOJA DE DATOS'!E15","v":1.86192596947379},{"$f":"'HOJA DE DATOS'!F15","v":11.8944751381215},{"$f":"'HOJA DE DATOS'!G15","v":219.8154523741},{"$f":"'HOJA DE DATOS'!H15","v":62.927695629366497}]
[{"$f":"'HOJA DE DATOS'!A16","v":"OVINO"},{"$f":"'HOJA DE DATOS'!B16","v":"LACAUNE"},{"$f":"'HOJA DE DATOS'!C16","v":"VERANO"},"OVINOLACAUNEVERANO",{"$f":"'HOJA DE DATOS'!D16","v":107},{"$f":"'HOJA DE DATOS'!E16","v":1.8156617460901801},{"$f":"'HOJA DE DATOS'!F16","v":11.4738317757009},{"$f":"'HOJA DE DATOS'!G16","v":206.47686486138801},{"$f":"'HOJA DE DATOS'!H16","v":57.131409332912703}]
[{"$f":"'HOJA DE DATOS'!A17","v":"OVINO"},{"$f":"'HOJA DE DATOS'!B17","v":"MANCHEGA"},{"$f":"'HOJA DE DATOS'!C17","v":"INVIERNO"},"OVINOMANCHEGAINVIERNO",{"$f":"'HOJA DE DATOS'!D17","v":36},{"$f":"'HOJA DE DATOS'!E17","v":1.1511196914982},{"$f":"'HOJA DE DATOS'!F17","v":13.4416666666667},{"$f":"'HOJA DE DATOS'!G17","v":154.52860739591301},{"$f":"'HOJA DE DATOS'!H17","v":38.518505791442003}]
[{"$f":"'HOJA DE DATOS'!A18","v":"OVINO"},{"$f":"'HOJA DE DATOS'!B18","v":"MANCHEGA"},{"$f":"'HOJA DE DATOS'!C18","v":"TEMPLADO"},"OVINOMANCHEGATEMPLADO",{"$f":"'HOJA DE DATOS'!D18","v":44},{"$f":"'HOJA DE DATOS'!E18","v":1.2383356732931201},{"$f":"'HOJA DE DATOS'!F18","v":12.7522727272727},{"$f":"'HOJA DE DATOS'!G18","v":157.686879157362},{"$f":"'HOJA DE DATOS'!H18","v":24.363066244984601}]
[{"$f":"'HOJA DE DATOS'!A19","v":"OVINO"},{"$f":"'HOJA DE DATOS'!B19","v":"MANCHEGA"},{"$f":"'HOJA DE DATOS'!C19","v":"VERANO"},"OVINOMANCHEGAVERANO",{"$f":"'HOJA DE DATOS'!D19","v":24},{"$f":"'HOJA DE DATOS'!E19","v":1.2856444150306401},{"$f":"'HOJA DE DATOS'!F19","v":12.383333333333301},{"$f":"'HOJA DE DATOS'!G19","v":159.41698236572799},{"$f":"'HOJA DE DATOS'!H19","v":31.407396696059902}]
[{"$f":"'HOJA DE DATOS'!A20","v":0},{"$f":"'HOJA DE DATOS'!B20","v":0},{"$f":"'HOJA DE DATOS'!C20","v":0},"000",{"$f":"'HOJA DE DATOS'!D20","v":0},{"$f":"'HOJA DE DATOS'!E20","v":0},{"$f":"'HOJA DE DATOS'!F20","v":0},{"$f":"'HOJA DE DATOS'!G20","v":0},{"$f":"'HOJA DE DATOS'!H20","v":0}]
[{"$f":"'HOJA DE DATOS'!A21","v":0},{"$f":"'HOJA DE DATOS'!B21","v":0},{"$f":"'HOJA DE DATOS'!C21","v":0},"000",{"$f":"'HOJA DE DATOS'!D21","v":0},{"$f":"'HOJA DE DATOS'!E21","v":0},{"$f":"'HOJA DE DATOS'!F21","v":0},{"$f":"'HOJA DE DATOS'!G21","v":0},{"$f":"'HOJA DE DATOS'!H21","v":0}]
[{"$f":"'HOJA DE DATOS'!A22","v":0},{"$f":"'HOJA DE DATOS'!B22","v":0},{"$f":"'HOJA DE DATOS'!C22","v":0},"000",{"$f":"'HOJA DE DATOS'!D22","v":0},{"$f":"'HOJA DE DATOS'!E22","v":0},{"$f":"'HOJA DE DATOS'!F22","v":0},{"$f":"'HOJA DE DATOS'!G22","v":0},{"$f":"'HOJA DE DATOS'!H22","v":0}]
[{"$f":"'HOJA DE DATOS'!A23","v":"ESPECIE"},{"$f":"'HOJA DE DATOS'!B23","v":"MES CONTROL"},{"$f":"'HOJA DE DATOS'!C23","v":"PromedioDeANIMALES  EN ORDEÑO"},"ESPECIEMES CONTROLPromedioDeANIMALES  EN ORDEÑO",{"$f":"'HOJA DE DATOS'!D23","v":"PromedioDeLITROS TOTAL MES"},{"$f":"'HOJA DE DATOS'!E23","v":"PromedioDeGRAMOS GRASA"},{"$f":"'HOJA DE DATOS'!F23","v":"PromedioDeGRAMOS PROTEINA"},{"$f":"'HOJA DE DATOS'!G23","v":"LITROS/ANIMAL DIA"},{"$f":"'HOJA DE DATOS'!H23","v":"EQ"}]
[{"$f":"'HOJA DE DATOS'!A24","v":"CAPRINO"},{"$f":"'HOJA DE DATOS'!B24","v":1},{"$f":"'HOJA DE DATOS'!C24","v":352.16666666666703},"CAPRINO1352.166666666667",{"$f":"'HOJA DE DATOS'!D24","v":20889},{"$f":"'HOJA DE DATOS'!E24","v":55.428571428571402},{"$f":"'HOJA DE DATOS'!F24","v":38.285714285714299},{"$f":"'HOJA DE DATOS'!G24","v":1.97718883104591},{"$f":"'HOJA DE DATOS'!H24","v":9.3714285714285701}]
[{"$f":"'HOJA DE DATOS'!A25","v":"CAPRINO"},{"$f":"'HOJA DE DATOS'!B25","v":2},{"$f":"'HOJA DE DATOS'!C25","v":352.28750000000002},"CAPRINO2352.2875",{"$f":"'HOJA DE DATOS'!D25","v":19679.827160493802},{"$f":"'HOJA DE DATOS'!E25","v":53.679012345678998},{"$f":"'HOJA DE DATOS'!F25","v":37.3333333333333},{"$f":"'HOJA DE DATOS'!G25","v":1.8620991056541201},{"$f":"'HOJA DE DATOS'!H25","v":9.1012345679012405}]
[{"$f":"'HOJA DE DATOS'!A26","v":"CAPRINO"},{"$f":"'HOJA DE DATOS'!B26","v":3},{"$f":"'HOJA DE DATOS'!C26","v":379.52},"CAPRINO3379.52",{"$f":"'HOJA DE DATOS'!D26","v":24457.106666666699},{"$f":"'HOJA DE DATOS'!E26","v":50.891891891891902},{"$f":"'HOJA DE DATOS'!F26","v":36.175675675675699},{"$f":"'HOJA DE DATOS'!G26","v":2.1480735900318502},{"$f":"'HOJA DE DATOS'!H26","v":8.7067567567567608}]
[]
[null,null,null,1,2,3,4,5,6]
[null,"CALCULO PROD EQ OBTENIDO",null,"REFERENCIA","CuentaDeNºREGISTRO","PromedioDeLECHE/ANIMALDIA","PromedioDe%EQ","PromedioDegrEQ/ANIMALDIA","DesvEstDegrEQ/ANIMALDIA","DesvST %EQ","PROD. REAL EQ"]
[null,null,null,{"$f":"M1","v":"00"},{"$f":"VLOOKUP($D$54,$D$27:$I$50,E52,FALSE)","v":{"$error":"#N/A"}},{"$f":"VLOOKUP($D$54,$D$27:$I$50,F52,FALSE)","v":{"$error":"#N/A"}},{"$f":"VLOOKUP($D$54,$D$27:$I$50,G52,FALSE)","v":{"$error":"#N/A"}},{"$f":"VLOOKUP($D$54,$D$27:$I$50,H52,FALSE)","v":{"$error":"#N/A"}},{"$f":"VLOOKUP($D$54,$D$27:$I$50,I52,FALSE)","v":{"$error":"#N/A"}},{"$f":"(I54/F54)/10","v":{"$error":"#N/A"}},{"$f":"('SIMULACION DATOS PRODUCTIVOS'!C15*'SIMULACION DATOS PRODUCTIVOS'!C16)*10","v":0}]
[]
[]
["EVOLUCION PRODUCCION POR MESES BBDD (ESPECIES)",null,null,null,null,null,null,"GRAFICOS",null,null,null,null,null,null,null,null,null,null,{"$f":"IF('EXPLOTACION TIPO'!L6=\"\",\"\",'EXPLOTACION TIPO'!L6)","v":""}]
[null,null,null,"PROD LECHE","%EQ",null,null,"MES","LITROS/DIA","EQ","%SECOS","%PREPARTO","%ORDEÑO","% ABORTOS","% BAJAS + ELIMINACION","% MAMITIS","PARTOS/ANIMAL",null,{"$f":"IF(S57=\"\",\"\",HLOOKUP($S$57,$N$58:$P$70,H59,FALSE))","v":""}]
[{"$f":"'HOJA DE DATOS'!A24","v":"CAPRINO"},{"$f":"'HOJA DE DATOS'!B24","v":1},{"$f":"CONCATENATE(,A59,B59)","v":"CAPRINO1"},{"$f":"'HOJA DE DATOS'!G24","v":1.97718883104591},{"$f":"'HOJA DE DATOS'!H24","v":9.3714285714285701},null,null,1,{"$f":"IF($A$84=\"CAPRINO\",D59,IF($A$84=\"OVINO\",D71,\"\"))","v":""},{"$f":"IF($A$84=\"CAPRINO\",E59,IF($A$84=\"OVINO\",E71,\"\"))","v":""},{"$f":"IF($A$84=\"CAPRINO\",'HOJA DE DATOS'!G58,IF($A$84=\"OVINO\",'HOJA DE DATOS'!G70,\"\"))","v":""},{"$f":"IF($A$84=\"CAPRINO\",'HOJA DE DATOS'!H58,IF($A$84=\"OVINO\",'HOJA DE DATOS'!H70,\"\"))","v":""},{"$f":"IF($A$84=\"CAPRINO\",'HOJA DE DATOS'!I58,IF($A$84=\"OVINO\",'HOJA DE DATOS'!I70,\"\"))","v":""},{"$f":"IF($A$84=\"CAPRINO\",'HOJA DE DATOS'!M92,IF($A$84=\"OVINO\",'HOJA DE DATOS'!M104,\"\"))","v":""},{"$f":"IF($A$84=\"CAPRINO\",'HOJA DE DATOS'!N92,IF($A$84=\"OVINO\",'HOJA DE DATOS'!N104,\"\"))","v":""},{"$f":"IF($A$84=\"CAPRINO\",'HOJA DE DATOS'!O92,IF($A$84=\"OVINO\",'HOJA DE DATOS'!O104,\"\"))","v":""},{"$f":"IF($A$84=\"CAPRINO\",'HOJA DE DATOS'!L92,IF($A$84=\"OVINO\",'HOJA DE DATOS'!L104,\"\"))","v":""},null,{"$f":"IF(S58=\"\",\"\",HLOOKUP($S$57,$N$58:$P$70,H60,FALSE))","v":""}]
[{"$f":"'HOJA DE DATOS'!A25","v":"CAPRINO"},{"$f":"'HOJA DE DATOS'!B25","v":2},{"$f":"CONCATENATE(,A60,B60)","v":"CAPRINO2"},{"$f":"'HOJA DE DATOS'!G25","v":1.8620991056541201},{"$f":"'HOJA DE DATOS'!H25","v":9.1012345679012405},null,null,2,{"$f":"IF($A$84=\"CAPRINO\",D60,IF($A$84=\"OVINO\",D72,\"\"))","v":""},{"$f":"IF($A$84=\"CAPRINO\",E60,IF($A$84=\"OVINO\",E72,\"\"))","v":""},{"$f":"IF($A$84=\"CAPRINO\",'HOJA DE DATOS'!G59,IF($A$84=\"OVINO\",'HOJA DE DATOS'!G71,\"\"))","v":""},{"$f":"IF($A$84=\"CAPRINO\",'HOJA DE DATOS'!H59,IF($A$84=\"OVINO\",'HOJA DE DATOS'!H71,\"\"))","v":""},{"$f":"IF($A$84=\"CAPRINO\",'HOJA DE DATOS'!I59,IF($A$84=\"OVINO\",'HOJA DE DATOS'!I71,\"\"))","v":""},{"$f":"IF($A$84=\"CAPRINO\",'HOJA DE DATOS'!M93,IF($A$84=\"OVINO\",'HOJA DE DATOS'!M105,\"\"))","v":""},{"$f":"IF($A$84=\"CAPRINO\",'HOJA DE DATOS'!N93,IF($A$84=\"OVINO\",'HOJA DE DATOS'!N105,\"\"))","v":""},{"$f":"IF($A$84=\"CAPRINO\",'HOJA DE DATOS'!O93,IF($A$84=\"OVINO\",'HOJA DE DATOS'!O105,\"\"))","v":""},{"$f":"IF($A$84=\"CAPRINO\",'HOJA DE DATOS'!L93,IF($A$84=\"OVINO\",'HOJA DE DATOS'!L105,\"\"))","v":""},null,""]
[{"$f":"'HOJA DE DATOS'!A26","v":"CAPRINO"},{"$f":"'HOJA DE DATOS'!B26","v":3},"CAPRINO3",{"$f":"'HOJA DE DATOS'!G26","v":2.1480735900318502},{"$f":"'HOJA DE DATOS'!H26","v":8.7067567567567608},null,null,3,"","",{"$f":"IF($A$84=\"CAPRINO\",'HOJA DE DATOS'!G60,IF($A$84=\"OVINO\",'HOJA DE DATOS'!G72,\"\"))","v":""},{"$f":"IF($A$84=\"CAPRINO\",'HOJA DE DATOS'!H60,IF($A$84=\"OVINO\",'HOJA DE DATOS'!H72,\"\"))","v":""},{"$f":"IF($A$84=\"CAPRINO\",'HOJA DE DATOS'!I60,IF($A$84=\"OVINO\",'HOJA DE DATOS'!I72,\"\"))","v":""},{"$f":"IF($A$84=\"CAPRINO\",'HOJA DE DATOS'!M94,IF($A$84=\"OVINO\",'HOJA DE DATOS'!M106,\"\"))","v":""},{"$f":"IF($A$84=\"CAPRINO\",'HOJA DE DATOS'!N94,IF($A$84=\"OVINO\",'HOJA DE DATOS'!N106,\"\"))","v":""},{"$f":"IF($A$84=\"CAPRINO\",'HOJA DE DATOS'!O94,IF($A$84=\"OVINO\",'HOJA DE DATOS'!O106,\"\"))","v":""},{"$f":"IF($A$84=\"CAPRINO\",'HOJA DE DATOS'!L94,IF($A$84=\"OVINO\",'HOJA DE DATOS'!L106,\"\"))","v":""},null,""]
[{"$f":"'HOJA DE DATOS'!A27","v":"CAPRINO"},{"$f":"'HOJA DE DATOS'!B27","v":4},"CAPRINO4",{"$f":"'HOJA DE DATOS'!G27","v":2.24682938502034},{"$f":"'HOJA DE DATOS'!H27","v":8.5205479452054806},null,null,4,"","",{"$f":"IF($A$84=\"CAPRINO\",'HOJA DE DATOS'!G61,IF($A$84=\"OVINO\",'HOJA DE DATOS'!G73,\"\"))","v":""},{"$f":"IF($A$84=\"CAPRINO\",'HOJA DE DATOS'!H61,IF($A$84=\"OVINO\",'HOJA DE DATOS'!H73,\"\"))","v":""},{"$f":"IF($A$84=\"CAPRINO\",'HOJA DE DATOS'!I61,IF($A$84=\"OVINO\",'HOJA DE DATOS'!I73,\"\"))","v":""},{"$f":"IF($A$84=\"CAPRINO\",'HOJA DE DATOS'!M95,IF($A$84=\"OVINO\",'HOJA DE DATOS'!M107,\"\"))","v":""},{"$f":"IF($A$84=\"CAPRINO\",'HOJA DE DATOS'!N95,IF($A$84=\"OVINO\",'HOJA DE DATOS'!N107,\"\"))","v":""},{"$f":"IF($A$84=\"CAPRINO\",'HOJA DE DATOS'!O95,IF($A$84=\"OVINO\",'HOJA DE DATOS'!O107,\"\"))","v":""},{"$f":"IF($A$84=\"CAPRINO\",'HOJA DE DATOS'!L95,IF($A$84=\"OVINO\",'HOJA DE DATOS'!L107,\"\"))","v":""},null,""]
[{"$f":"'HOJA DE DATOS'!A28","v":"CAPRINO"},{"$f":"'HOJA DE DATOS'!B28","v":5},"CAPRINO5",{"$f":"'HOJA DE DATOS'!G28","v":2.4673380997464398},{"$f":"'HOJA DE DATOS'!H28","v":8.3242857142857094},null,null,5,"","",{"$f":"IF($A$84=\"CAPRINO\",'HOJA DE DATOS'!G62,IF($A$84=\"OVINO\",'HOJA DE DATOS'!G74,\"\"))","v":""},{"$f":"IF($A$84=\"CAPRINO\",'HOJA DE DATOS'!H62,IF($A$84=\"OVINO\",'HOJA DE DATOS'!H74,\"\"))","v":""},{"$f":"IF($A$84=\"CAPRINO\",'HOJA DE DATOS'!I62,IF($A$84=\"OVINO\",'HOJA DE DATOS'!I74,\"\"))","v":""},{"$f":"IF($A$84=\"CAPRINO\",'HOJA DE DATOS'!M96,IF($A$84=\"OVINO\",'HOJA DE DATOS'!M108,\"\"))","v":""},{"$f":"IF($A$84=\"CAPRINO\",'HOJA DE DATOS'!N96,IF($A$84=\"OVINO\",'HOJA DE DATOS'!N108,\"\"))","v":""},{"$f":"IF($A$84=\"CAPRINO\",'HOJA DE DATOS'!O96,IF($A$84=\"OVINO\",'HOJA DE DATOS'!O108,\"\"))","v":""},{"$f":"IF($A$84=\"CAPRINO\",'HOJA DE DATOS'!L96,IF($A$84=\"OVINO\",'HOJA DE DATOS'!L108,\"\"))","v":""},null,""]
[{"$f":"'HOJA DE DATOS'!A29","v":"CAPRINO"},{"$f":"'HOJA DE DATOS'!B29","v":6},"CAPRINO6",{"$f":"'HOJA DE DATOS'!G29","v":2.3748489059823501},{"$f":"'HOJA DE DATOS'!H29","v":8.0573529411764699},null,null,6,"","",{"$f":"IF($A$84=\"CAPRINO\",'HOJA DE DATOS'!G63,IF($A$84=\"OVINO\",'HOJA DE DATOS'!G75,\"\"))","v":""},{"$f":"IF($A$84=\"CAPRINO\",'HOJA DE DATOS'!H63,IF($A$84=\"OVINO\",'HOJA DE DATOS'!H75,\"\"))","v":""},{"$f":"IF($A$84=\"CAPRINO\",'HOJA DE DATOS'!I63,IF($A$84=\"OVINO\",'HOJA DE DATOS'!I75,\"\"))","v":""},{"$f":"IF($A$84=\"CAPRINO\",'HOJA DE DATOS'!M97,IF($A$84=\"OVINO\",'HOJA DE DATOS'!M109,\"\"))","v":""},{"$f":"IF($A$84=\"CAPRINO\",'HOJA DE DATOS'!N97,IF($A$84=\"OVINO\",'HOJA DE DATOS'!N109,\"\"))","v":""},{"$f":"IF($A$84=\"CAPRINO\",'HOJA DE DATOS'!O97,IF($A$84=\"OVINO\",'HOJA DE DATOS'!O109,\"\"))","v":""},{"$f":"IF($A$84=\"CAPRINO\",'HOJA DE DATOS'!L97,IF($A$84=\"OVINO\",'HOJA DE DATOS'!L109,\"\"))","v":""},null,""]
[{"$f":"'HOJA DE DATOS'!A30","v":"CAPRINO"},{"$f":"'HOJA DE DATOS'!B30","v":7},"CAPRINO7",{"$f":"'HOJA DE DATOS'!G30","v":2.3739043089219001},{"$f":"'HOJA DE DATOS'!H30","v":7.99677419354839},null,null,7,"","",{"$f":"IF($A$84=\"CAPRINO\",'HOJA DE DATOS'!G64,IF($A$84=\"OVINO\",'HOJA DE DATOS'!G76,\"\"))","v":""},{"$f":"IF($A$84=\"CAPRINO\",'HOJA DE DATOS'!H64,IF($A$84=\"OVINO\",'HOJA DE DATOS'!H76,\"\"))","v":""},{"$f":"IF($A$84=\"CAPRINO\",'HOJA DE DATOS'!I64,IF($A$84=\"OVINO\",'HOJA DE DATOS'!I76,\"\"))","v":""},{"$f":"IF($A$84=\"CAPRINO\",'HOJA DE DATOS'!M98,IF($A$84=\"OVINO\",'HOJA DE DATOS'!M110,\"\"))","v":""},{"$f":"IF($A$84=\"CAPRINO\",'HOJA DE DATOS'!N98,IF($A$84=\"OVINO\",'HOJA DE DATOS'!N110,\"\"))","v":""},{"$f":"IF($A$84=\"CAPRINO\",'HOJA DE DATOS'!O98,IF($A$84=\"OVINO\",'HOJA DE DATOS'!O110,\"\"))","v":""},{"$f":"IF($A$84=\"CAPRINO\",'HOJA DE DATOS'!L98,IF($A$84=\"OVINO\",'HOJA DE DATOS'!L110,\"\"))","v":""},null,""]
[{"$f":"'HOJA DE DATOS'!A31","v":"CAPRINO"},{"$f":"'HOJA DE DATOS'!B31","v":8},"CAPRINO8",{"$f":"'HOJA DE DATOS'!G31","v":2.3222439811081701},{"$f":"'HOJA DE DATOS'!H31","v":8.0275862068965491},null,null,8,"","",{"$f":"IF($A$84=\"CAPRINO\",'HOJA DE DATOS'!G65,IF($A$84=\"OVINO\",'HOJA DE DATOS'!G77,\"\"))","v":""},{"$f":"IF($A$84=\"CAPRINO\",'HOJA DE DATOS'!H65,IF($A$84=\"OVINO\",'HOJA DE DATOS'!H77,\"\"))","v":""},{"$f":"IF($A$84=\"CAPRINO\",'HOJA DE DATOS'!I65,IF($A$84=\"OVINO\",'HOJA DE DATOS'!I77,\"\"))","v":""},{"$f":"IF($A$84=\"CAPRINO\",'HOJA DE DATOS'!M99,IF($A$84=\"OVINO\",'HOJA DE DATOS'!M111,\"\"))","v":""},{"$f":"IF($A$84=\"CAPRINO\",'HOJA DE DATOS'!N99,IF($A$84=\"OVINO\",'HOJA DE DATOS'!N111,\"\"))","v":""},{"$f":"IF($A$84=\"CAPRINO\",'HOJA DE DATOS'!O99,IF($A$84=\"OVINO\",'HOJA DE DATOS'!O111,\"\"))","v":""},{"$f":"IF($A$84=\"CAPRINO\",'HOJA DE DATOS'!L99,IF($A$84=\"OVINO\",'HOJA DE DATOS'!L111,\"\"))","v":""},null,""]
[{"$f":"'HOJA DE DATOS'!A32","v":"CAPRINO"},{"$f":"'HOJA DE DATOS'!B32","v":9},"CAPRINO9",{"$f":"'HOJA DE DATOS'!G32","v":2.10816786368117},{"$f":"'HOJA DE DATOS'!H32","v":8.5446428571428594},null,null,9,"","",{"$f":"IF($A$84=\"CAPRINO\",'HOJA DE DATOS'!G66,IF($A$84=\"OVINO\",'HOJA DE DATOS'!G78,\"\"))","v":""},{"$f":"IF($A$84=\"CAPRINO\",'HOJA DE DATOS'!H66,IF($A$84=\"OVINO\",'HOJA DE DATOS'!H78,\"\"))","v":""},{"$f":"IF($A$84=\"CAPRINO\",'HOJA DE DATOS'!I66,IF($A$84=\"OVINO\",'HOJA DE DATOS'!I78,\"\"))","v":""},{"$f":"IF($A$84=\"CAPRINO\",'HOJA DE DATOS'!M100,IF($A$84=\"OVINO\",'HOJA DE DATOS'!M112,\"\"))","v":""},{"$f":"IF($A$84=\"CAPRINO\",'HOJA DE DATOS'!N100,IF($A$84=\"OVINO\",'HOJA DE DATOS'!N112,\"\"))","v":""},{"$f":"IF($A$84=\"CAPRINO\",'HOJA DE DATOS'!O100,IF($A$84=\"OVINO\",'HOJA DE DATOS'!O112,\"\"))","v":""},{"$f":"IF($A$84=\"CAPRINO\",'HOJA DE DATOS'!L100,IF($A$84=\"OVINO\",'HOJA DE DATOS'!L112,\"\"))","v":""},null,""]
[{"$f":"'HOJA DE DATOS'!A33","v":"CAPRINO"},{"$f":"'HOJA DE DATOS'!B33","v":10},"CAPRINO10",{"$f":"'HOJA DE DATOS'!G33","v":2.1145398864452498},{"$f":"'HOJA DE DATOS'!H33","v":9.2338983050847503},null,null,10,"","",{"$f":"IF($A$84=\"CAPRINO\",'HOJA DE DATOS'!G67,IF($A$84=\"OVINO\",'HOJA DE DATOS'!G79,\"\"))","v":""},{"$f":"IF($A$84=\"CAPRINO\",'HOJA DE DATOS'!H67,IF($A$84=\"OVINO\",'HOJA DE DATOS'!H79,\"\"))","v":""},{"$f":"IF($A$84=\"CAPRINO\",'HOJA DE DATOS'!I67,IF($A$84=\"OVINO\",'HOJA DE DATOS'!I79,\"\"))","v":""},{"$f":"IF($A$84=\"CAPRINO\",'HOJA DE DATOS'!M101,IF($A$84=\"OVINO\",'HOJA DE DATOS'!M113,\"\"))","v":""},{"$f":"IF($A$84=\"CAPRINO\",'HOJA DE DATOS'!N101,IF($A$84=\"OVINO\",'HOJA DE DATOS'!N113,\"\"))","v":""},{"$f":"IF($A$84=\"CAPRINO\",'HOJA DE DATOS'!O101,IF($A$84=\"OVINO\",'HOJA DE DATOS'!O113,\"\"))","v":""},{"$f":"IF($A$84=\"CAPRINO\",'HOJA DE DATOS'!L101,IF($A$84=\"OVINO\",'HOJA DE DATOS'!L113,\"\"))","v":""},null,""]
[{"$f":"'HOJA DE DATOS'!A34","v":"CAPRINO"},{"$f":"'HOJA DE DATOS'!B34","v":11},"CAPRINO11",{"$f":"'HOJA DE DATOS'!G34","v":1.9919751976994999},{"$f":"'HOJA DE DATOS'!H34","v":9.6775862068965495},null,null,11,"","",{"$f":"IF($A$84=\"CAPRINO\",'HOJA DE DATOS'!G68,IF($A$84=\"OVINO\",'HOJA DE DATOS'!G80,\"\"))","v":""},{"$f":"IF($A$84=\"CAPRINO\",'HOJA DE DATOS'!H68,IF($A$84=\"OVINO\",'HOJA DE DATOS'!H80,\"\"))","v":""},{"$f":"IF($A$84=\"CAPRINO\",'HOJA DE DATOS'!I68,IF($A$84=\"OVINO\",'HOJA DE DATOS'!I80,\"\"))","v":""},{"$f":"IF($A$84=\"CAPRINO\",'HOJA DE DATOS'!M102,IF($A$84=\"OVINO\",'HOJA DE DATOS'!M114,\"\"))","v":""},{"$f":"IF($A$84=\"CAPRINO\",'HOJA DE DATOS'!N102,IF($A$84=\"OVINO\",'HOJA DE DATOS'!N114,\"\"))","v":""},{"$f":"IF($A$84=\"CAPRINO\",'HOJA DE DATOS'!O102,IF($A$84=\"OVINO\",'HOJA DE DATOS'!O114,\"\"))","v":""},{"$f":"IF($A$84=\"CAPRINO\",'HOJA DE DATOS'!L102,IF($A$84=\"OVINO\",'HOJA DE DATOS'!L114,\"\"))","v":""},null,""]
[{"$f":"'HOJA DE DATOS'!A35","v":"CAPRINO"},{"$f":"'HOJA DE DATOS'!B35","v":12},"CAPRINO12",{"$f":"'HOJA DE DATOS'!G35","v":2.1696740678967301},{"$f":"'HOJA DE DATOS'!H35","v":9.5982758620689594},null,null,12,"","",{"$f":"IF($A$84=\"CAPRINO\",'HOJA DE DATOS'!G69,IF($A$84=\"OVINO\",'HOJA DE DATOS'!G81,\"\"))","v":""},{"$f":"IF($A$84=\"CAPRINO\",'HOJA DE DATOS'!H69,IF($A$84=\"OVINO\",'HOJA DE DATOS'!H81,\"\"))","v":""},{"$f":"IF($A$84=\"CAPRINO\",'HOJA DE DATOS'!I69,IF($A$84=\"OVINO\",'HOJA DE DATOS'!I81,\"\"))","v":""},{"$f":"IF($A$84=\"CAPRINO\",'HOJA DE DATOS'!M103,IF($A$84=\"OVINO\",'HOJA DE DATOS'!M115,\"\"))","v":""},{"$f":"IF($A$84=\"CAPRINO\",'HOJA DE DATOS'!N103,IF($A$84=\"OVINO\",'HOJA DE DATOS'!N115,\"\"))","v":""},{"$f":"IF($A$84=\"CAPRINO\",'HOJA DE DATOS'!O103,IF($A$84=\"OVINO\",'HOJA DE DATOS'!O115,\"\"))","v":""},{"$f":"IF($A$84=\"CAPRINO\",'HOJA DE DATOS'!L103,IF($A$84=\"OVINO\",'HOJA DE DATOS'!L115,\"\"))","v":""},null,""]
[{"$f":"'HOJA DE DATOS'!A36","v":"OVINO"},{"$f":"'HOJA DE DATOS'!B36","v":1},"OVINO1",{"$f":"'HOJA DE DATOS'!G36","v":1.5366369004228},{"$f":"'HOJA DE DATOS'!H36","v":12.4482142857143},null,null,13]
[{"$f":"'HOJA DE DATOS'!A37","v":"OVINO"},{"$f":"'HOJA DE DATOS'!B37","v":2},"OVINO2",{"$f":"'HOJA DE DATOS'!G37","v":1.63282376598554},{"$f":"'HOJA DE DATOS'!H37","v":12.154128440367}]
[{"$f":"'HOJA DE DATOS'!A38","v":"OVINO"},{"$f":"'HOJA DE DATOS'!B38","v":3},"OVINO3",{"$f":"'HOJA DE DATOS'!G38","v":1.80872894470092},{"$f":"'HOJA DE DATOS'!H38","v":11.5485714285714}]
[{"$f":"'HOJA DE DATOS'!A39","v":"OVINO"},{"$f":"'HOJA DE DATOS'!B39","v":4},"OVINO4",{"$f":"'HOJA DE DATOS'!G39","v":1.8926376164458001},{"$f":"'HOJA DE DATOS'!H39","v":11.370192307692299}]
[{"$f":"'HOJA DE DATOS'!A40","v":"OVINO"},{"$f":"'HOJA DE DATOS'!B40","v":5},"OVINO5",{"$f":"'HOJA DE DATOS'!G40","v":1.9997808677450399},{"$f":"'HOJA DE DATOS'!H40","v":11.291262135922301}]
[{"$f":"'HOJA DE DATOS'!A41","v":"OVINO"},{"$f":"'HOJA DE DATOS'!B41","v":6},"OVINO6",{"$f":"'HOJA DE DATOS'!G41","v":1.90670258436813},{"$f":"'HOJA DE DATOS'!H41","v":11.204000000000001}]
[{"$f":"'HOJA DE DATOS'!A42","v":"OVINO"},{"$f":"'HOJA DE DATOS'!B42","v":7},"OVINO7",{"$f":"'HOJA DE DATOS'!G42","v":1.84617391117278},{"$f":"'HOJA DE DATOS'!H42","v":11.2432989690722}]
[{"$f":"'HOJA DE DATOS'!A43","v":"OVINO"},{"$f":"'HOJA DE DATOS'!B43","v":8},"OVINO8",{"$f":"'HOJA DE DATOS'!G43","v":1.67246968188421},{"$f":"'HOJA DE DATOS'!H43","v":11.451041666666701}]
[{"$f":"'HOJA DE DATOS'!A44","v":"OVINO"},{"$f":"'HOJA DE DATOS'!B44","v":9},"OVINO9",{"$f":"'HOJA DE DATOS'!G44","v":1.5147666856328299},{"$f":"'HOJA DE DATOS'!H44","v":12.095918367346901}]
[{"$f":"'HOJA DE DATOS'!A45","v":"OVINO"},{"$f":"'HOJA DE DATOS'!B45","v":10},"OVINO10",{"$f":"'HOJA DE DATOS'!G45","v":1.45456353568748},{"$f":"'HOJA DE DATOS'!H45","v":12.715151515151501}]
[{"$f":"'HOJA DE DATOS'!A46","v":"OVINO"},{"$f":"'HOJA DE DATOS'!B46","v":11},"OVINO11",{"$f":"'HOJA DE DATOS'!G46","v":1.3562470262149799},{"$f":"'HOJA DE DATOS'!H46","v":13.227083333333301}]
[{"$f":"'HOJA DE DATOS'!A47","v":"OVINO"},{"$f":"'HOJA DE DATOS'!B47","v":12},"OVINO12",{"$f":"'HOJA DE DATOS'!G47","v":1.5390888184473901},{"$f":"'HOJA DE DATOS'!H47","v":12.7268817204301}]
[]
[{"$f":"IF('EXPLOTACION TIPO'!C11=\"\",\"\",'EXPLOTACION TIPO'!C11)","v":""},{"$f":"'BUSCAR FECHA'!F3","v":{"$error":"#N/A"}},{"$f":"CONCATENATE(,A84,B84)","v":{"$error":"#N/A"}},{"$f":"VLOOKUP($C$84,$C$59:$E$82,2,FALSE)","v":{"$error":"#N/A"}},{"$f":"VLOOKUP($C$84,$C$59:$E$82,3,FALSE)","v":{"$error":"#N/A"}}]
[]
[]
["ESTADO DE LOS ANIMALES & INCIDENCIAS"]
[]
[null,"SECOS","PREPARTO","ORDEÑO","%ABORTOS","%BAJAS",null,"%MAMITIS","PARTOS/ANIMAL"]
[null,{"$f":"VLOOKUP($A$84,'HOJA DE DATOS'!$A$52:$I$53,7,FALSE)","v":{"$error":"#N/A"}},{"$f":"VLOOKUP($A$84,'HOJA DE DATOS'!$A$52:$I$53,8,FALSE)","v":{"$error":"#N/A"}},{"$f":"VLOOKUP($A$84,'HOJA DE DATOS'!$A$52:$I$53,9,FALSE)","v":{"$error":"#N/A"}},{"$f":"VLOOKUP($A$84,'HOJA DE DATOS'!$A$86:$O$87,13,FALSE)","v":{"$error":"#N/A"}},{"$f":"VLOOKUP($A$84,'HOJA DE DATOS'!$A$86:$O$87,14,FALSE)","v":{"$error":"#N/A"}},null,{"$f":"VLOOKUP($A$84,'HOJA DE DATOS'!$A$86:$O$87,15,FALSE)","v":{"$error":"#N/A"}},{"$f":"VLOOKUP($A$84,'HOJA DE DATOS'!$A$86:$O$87,12,FALSE)","v":{"$error":"#N/A"}}]
[]
[]
[null,{"$f":"IF('BIENESTAR ANIMAL'!E9=\"\",1,'BIENESTAR ANIMAL'!E9)","v":1},"RANGO CONFIANZA MAXIMO"]
["BIENESTAR",{"$f":"IF('BIENESTAR ANIMAL'!E10=\"\",1,'BIENESTAR ANIMAL'!E10)","v":1},"RANGO CONFIANZA MINIMO"]
[]
[null,null,null,null,null,null,null,null,"PROMEDIO","MAXIMO","MINIMO"]
["ESPECIE","INDICADOR","PROMEDIO","MAX","MIN","CAPRINO",null,"BA AMBIENTE",{"$f":"AVERAGE(C98:C101)","v":5.8272727272727298},{"$f":"AVERAGE(D98:D101)","v":6.7684286179517752},{"$f":"AVERAGE(E98:E101)","v":4.8861168365936845}]
[{"$f":"'HOJA DE DATOS'!B124","v":"CAPRINO"},"TEMPERATURA",{"$f":"'HOJA DE DATOS'!D119","v":6.1454545454545499},{"$f":"(C98+('HOJA DE DATOS'!D124*B93))","v":7.1207114030474106},{"$f":"(C98-('HOJA DE DATOS'!D124*B94))","v":5.1701976878616893},"CAPRINO",null,"BA MANEJO",{"$f":"AVERAGE(C102:C106,C112)","v":6.0891006842619717},{"$f":"AVERAGE(D102:D106,D112)","v":7.0124290263096114},{"$f":"AVERAGE(E102:E106,E112)","v":5.1657723422143329}]
["CAPRINO","CORRIENTES",{"$f":"'HOJA DE DATOS'!E119","v":6.2454545454545496},{"$f":"C99+('HOJA DE DATOS'!E124*B93)","v":7.0139436342295989},{"$f":"C99-('HOJA DE DATOS'!E124*B94)","v":5.4769654566795003},"CAPRINO",null,"BA INSTALACIONES",{"$f":"AVERAGE(C107:C109)","v":5.9696969696969697},{"$f":"AVERAGE(D107:D109)","v":6.9642922002075025},{"$f":"AVERAGE(E107:E109)","v":4.9751017391864378}]
["CAPRINO","VENTILACION",{"$f":"'HOJA DE DATOS'!F119","v":5.4454545454545498},{"$f":"C100+('HOJA DE DATOS'!F124*B93)","v":6.4644157329316094},{"$f":"C100-('HOJA DE DATOS'!F124*B94)","v":4.4264933579774901},"CAPRINO",null,"BA GLOBAL",{"$f":"AVERAGE(I97:I99)","v":5.9620234604105571},{"$f":"AVERAGE(J97:J99)","v":6.9150499481562973},5.0089969726648187]
["CAPRINO","AMBIENTE",{"$f":"'HOJA DE DATOS'!G119","v":5.47272727272727},{"$f":"C101+('HOJA DE DATOS'!G124*B93)","v":6.4746437015984801},{"$f":"C101-('HOJA DE DATOS'!G124*B94)","v":4.4708108438560599}]
["CAPRINO","DENSIDAD",{"$f":"'HOJA DE DATOS'!H119","v":6.1818181818181799},{"$f":"C102+('HOJA DE DATOS'!H124*B93)","v":7.1122597084756993},{"$f":"C102-('HOJA DE DATOS'!H124*B94)","v":5.2513766551606604},"OVINO",null,"BA AMBIENTE",{"$f":"AVERAGE(C114:C117)","v":5.992},{"$f":"AVERAGE(D114:D117)","v":6.8836482974863946},{"$f":"AVERAGE(E114:E117)","v":5.1003517025136063}]
["CAPRINO","CAMA",{"$f":"'HOJA DE DATOS'!I119","v":5.97272727272727},{"$f":"C103+('HOJA DE DATOS'!I124*B93)","v":7.0770066127120703},{"$f":"C103-('HOJA DE DATOS'!I124*B94)","v":4.8684479327424697},"OVINO",null,"BA MANEJO",{"$f":"AVERAGE(C118:C122,C128)","v":5.8940952380952387},{"$f":"AVERAGE(D118:D122,D128)","v":6.9452838515928237},4.842906624597652]
["CAPRINO","CONFORT",{"$f":"'HOJA DE DATOS'!J119","v":5.8909090909090898},{"$f":"C104+('HOJA DE DATOS'!J124*B93)","v":6.7827215382325168},{"$f":"C104-('HOJA DE DATOS'!J124*B94)","v":4.9990966435856627},"OVINO",null,"BA INSTALACIONES",{"$f":"AVERAGE(C123:C125)","v":5.8373333333333335},{"$f":"AVERAGE(D123:D125)","v":6.8298137671149375},{"$f":"AVERAGE(E123:E125)","v":4.8448528995517295}]
["CAPRINO","ESTRÉS",{"$f":"'HOJA DE DATOS'!K119","v":5.7636363636363601},{"$f":"C105+('HOJA DE DATOS'!K124*B93)","v":6.5978505214225223},{"$f":"C105-('HOJA DE DATOS'!K124*B94)","v":4.929422205850198},"OVINO",null,"BA GLOBAL",{"$f":"AVERAGE(I102:I104)","v":5.9078095238095232},{"$f":"AVERAGE(J102:J104)","v":6.8862486387313853},4.9293704088876629]
["CAPRINO","LIMPIEZA",{"$f":"'HOJA DE DATOS'!Q119","v":6.8545454545454501},{"$f":"C106+('HOJA DE DATOS'!Q124*B93)","v":7.457844696198503},{"$f":"C106-('HOJA DE DATOS'!Q124*B94)","v":6.2512462128923971}]
["CAPRINO","PIENSO",{"$f":"'HOJA DE DATOS'!L119","v":5.9363636363636401},{"$f":"C107+('HOJA DE DATOS'!L124*B93)","v":6.9615266149238799},{"$f":"C107-('HOJA DE DATOS'!L124*B94)","v":4.9112006578034002},"GRAFICOS",null,null,"REAL","BBDD","MAXIMO","MINIMO"]
["CAPRINO","PAJA",{"$f":"'HOJA DE DATOS'!M119","v":6.2727272727272698},{"$f":"C108+('HOJA DE DATOS'!M124*B93)","v":7.1600393762027856},{"$f":"C108-('HOJA DE DATOS'!M124*B94)","v":5.385415169251754},null,null,{"$f":"B98","v":"TEMPERATURA"},{"$f":"IF('BIENESTAR ANIMAL'!C13=\"\",\"\",'BIENESTAR ANIMAL'!C13)","v":""},{"$f":"IF($A$131=\"OVINO\",C114,IF($A$131=\"CAPRINO\",C98,\"\"))","v":""},"",""]
["CAPRINO","BEBEDEROS",{"$f":"'HOJA DE DATOS'!N119","v":5.7},{"$f":"C109+('HOJA DE DATOS'!N124*B93)","v":6.7713106094958402},{"$f":"C109-('HOJA DE DATOS'!N124*B94)","v":4.6286893905041602},null,null,{"$f":"B99","v":"CORRIENTES"},{"$f":"IF('BIENESTAR ANIMAL'!C14=\"\",\"\",'BIENESTAR ANIMAL'!C14)","v":""},"","",""]
["CAPRINO","CONDICION CORPORAL",{"$f":"'HOJA DE DATOS'!A119","v":2.92818181818182},{"$f":"C110+('HOJA DE DATOS'!A124*B93)","v":3.296386442729025},{"$f":"C110-('HOJA DE DATOS'!A124*B94)","v":2.559977193634615},null,null,"VENTILACION",{"$f":"IF('BIENESTAR ANIMAL'!C15=\"\",\"\",'BIENESTAR ANIMAL'!C15)","v":""},"","",""]
["CAPRINO","CONSISTENCIA HECES",{"$f":"'HOJA DE DATOS'!O119","v":3.3727272727272699},{"$f":"C111+('HOJA DE DATOS'!O124*B93)","v":4.0203636373002176},{"$f":"C111-('HOJA DE DATOS'!O124*B94)","v":2.7250909081543218},null,null,"AMBIENTE",{"$f":"IF('BIENESTAR ANIMAL'!C16=\"\",\"\",'BIENESTAR ANIMAL'!C16)","v":""},"","",""]
["CAPRINO","ESTADO PEZUÑAS",{"$f":"'HOJA DE DATOS'!S119","v":5.8709677419354804},{"$f":"C112+('HOJA DE DATOS'!R124*B93)","v":7.0468910808163505},{"$f":"C112-('HOJA DE DATOS'!R124*B94)","v":4.6950444030546103},null,null,"ESTADO PEZUÑAS",{"$f":"IF('BIENESTAR ANIMAL'!C22=\"\",\"\",'BIENESTAR ANIMAL'!C22)","v":""},{"$f":"IF($A$131=\"OVINO\",C128,IF($A$131=\"CAPRINO\",C112,\"\"))","v":""},{"$f":"IF($A$131=\"OVINO\",D128,IF($A$131=\"CAPRINO\",D112,\"\"))","v":""},""]
["CAPRINO","Nº CHEQUEOS",{"$f":"'HOJA DE DATOS'!R119","v":110},null,null,null,null,{"$f":"B102","v":"DENSIDAD"},{"$f":"IF('BIENESTAR ANIMAL'!C17=\"\",\"\",'BIENESTAR ANIMAL'!C17)","v":""},{"$f":"IF($A$131=\"OVINO\",C118,IF($A$131=\"CAPRINO\",C102,\"\"))","v":""},{"$f":"IF($A$131=\"OVINO\",D118,IF($A$131=\"CAPRINO\",D102,\"\"))","v":""},{"$f":"IF($A$131=\"OVINO\",E118,IF($A$131=\"CAPRINO\",E102,\"\"))","v":""}]
[{"$f":"'HOJA DE DATOS'!B120","v":"OVINO"},"TEMPERATURA",{"$f":"'HOJA DE DATOS'!D120","v":6.1280000000000001},{"$f":"C114+('HOJA DE DATOS'!D125*B93)","v":7.0866280519239382},{"$f":"C114-('HOJA DE DATOS'!D125*B94)","v":5.169371948076062},null,null,"CAMA",{"$f":"IF('BIENESTAR ANIMAL'!C18=\"\",\"\",'BIENESTAR ANIMAL'!C18)","v":""},"","",""]
["OVINO","CORRIENTES",{"$f":"'HOJA DE DATOS'!E120","v":6.28},{"$f":"C115+('HOJA DE DATOS'!E125*B93)","v":7.0587500323616208},{"$f":"C115-('HOJA DE DATOS'!E125*B94)","v":5.5012499676383797},null,null,"CONFORT",{"$f":"IF('BIENESTAR ANIMAL'!C19=\"\",\"\",'BIENESTAR ANIMAL'!C19)","v":""},"","",""]
["OVINO","VENTILACION",{"$f":"'HOJA DE DATOS'!F120","v":5.8479999999999999},{"$f":"C116+('HOJA DE DATOS'!F125*B93)","v":6.728395805415694},{"$f":"C116-('HOJA DE DATOS'!F125*B94)","v":4.9676041945843057},null,null,"ESTRÉS",{"$f":"IF('BIENESTAR ANIMAL'!C20=\"\",\"\",'BIENESTAR ANIMAL'!C20)","v":""},"","",""]
["OVINO","AMBIENTE",{"$f":"'HOJA DE DATOS'!G120","v":5.7119999999999997},{"$f":"C117+('HOJA DE DATOS'!G125*B93)","v":6.6608193002443237},{"$f":"C117-('HOJA DE DATOS'!G125*B94)","v":4.7631806997556758},null,null,"LIMPIEZA",{"$f":"IF('BIENESTAR ANIMAL'!C21=\"\",\"\",'BIENESTAR ANIMAL'!C21)","v":""},"","",""]
["OVINO","DENSIDAD",{"$f":"'HOJA DE DATOS'!H120","v":6.0880000000000001},{"$f":"C118+('HOJA DE DATOS'!H125*B93)","v":7.1582426616607604},{"$f":"C118-('HOJA DE DATOS'!H125*B94)","v":5.0177573383392398},null,null,"PIENSO",{"$f":"IF('BIENESTAR ANIMAL'!C23=\"\",\"\",'BIENESTAR ANIMAL'!C23)","v":""},"","",""]
["OVINO","CAMA",{"$f":"'HOJA DE DATOS'!I120","v":5.9039999999999999},{"$f":"C119+('HOJA DE DATOS'!I125*B93)","v":6.9697724746595497},{"$f":"C119-('HOJA DE DATOS'!I125*B94)","v":4.8382275253404501},null,null,"PAJA",{"$f":"IF('BIENESTAR ANIMAL'!C24=\"\",\"\",'BIENESTAR ANIMAL'!C24)","v":""},"","",""]
["OVINO","CONFORT",{"$f":"'HOJA DE DATOS'!J120","v":5.9279999999999999},{"$f":"C120+('HOJA DE DATOS'!J125*B93)","v":6.8094943324063504},{"$f":"C120-('HOJA DE DATOS'!J125*B94)","v":5.0465056675936495},null,null,"BEBEDEROS",{"$f":"IF('BIENESTAR ANIMAL'!C25=\"\",\"\",'BIENESTAR ANIMAL'!C25)","v":""},"","",""]
["OVINO","ESTRÉS",{"$f":"'HOJA DE DATOS'!K120","v":5.6559999999999997},{"$f":"C121+('HOJA DE DATOS'!K125*B93)","v":6.5901547844390258},{"$f":"C121-('HOJA DE DATOS'!K125*B94)","v":4.7218452155609736},null,null,"CONDICION CORPORAL",{"$f":"IF('BIENESTAR ANIMAL'!C26=\"\",\"\",'BIENESTAR ANIMAL'!C26)","v":""},"","",""]
["OVINO","LIMPIEZA",{"$f":"'HOJA DE DATOS'!Q120","v":6.16},{"$f":"C122+('HOJA DE DATOS'!Q125*B93)","v":7.1632206202541999},{"$f":"C122-('HOJA DE DATOS'!Q125*B94)","v":5.1567793797458004},null,null,"CONSISTENCIA HECES",{"$f":"IF('BIENESTAR ANIMAL'!C27=\"\",\"\",'BIENESTAR ANIMAL'!C27)","v":""},"","",""]
["OVINO","PIENSO",{"$f":"'HOJA DE DATOS'!L120","v":5.992},{"$f":"C123+('HOJA DE DATOS'!L125*B93)","v":6.920891118311193},{"$f":"C123-('HOJA DE DATOS'!L125*B94)","v":5.063108881688807},null,null,"Nº CHEQUEOS",null,{"$f":"IF($A$131=\"OVINO\",C129,IF($A$131=\"CAPRINO\",C113,\"\"))","v":""}]
["OVINO","PAJA",{"$f":"'HOJA DE DATOS'!M120","v":6.008},{"$f":"C124+('HOJA DE DATOS'!M125*B93)","v":7.0199926048435701},{"$f":"C124-('HOJA DE DATOS'!M125*B94)","v":4.9960073951564299}]
["OVINO","BEBEDEROS",{"$f":"'HOJA DE DATOS'!N120","v":5.5119999999999996},{"$f":"C125+('HOJA DE DATOS'!N125*B93)","v":6.5485575781900494},{"$f":"C125-('HOJA DE DATOS'!N125*B94)","v":4.4754424218099498},null,null,null,"REAL","BBDD","MAXIMO","MINIMO"]
["OVINO","CONDICION CORPORAL",{"$f":"'HOJA DE DATOS'!A120","v":3.1},{"$f":"C126+('HOJA DE DATOS'!A125*B93)","v":3.4345073411605833},{"$f":"C126-('HOJA DE DATOS'!A125*B94)","v":2.7654926588394169},null,null,{"$f":"H97","v":"BA AMBIENTE"},{"$f":"IF('BIENESTAR ANIMAL'!C32=\"\",\"\",'BIENESTAR ANIMAL'!C32)","v":""},{"$f":"IF($A$131=\"OVINO\",I102,IF($A$131=\"CAPRINO\",I97,\"\"))","v":""},"",""]
["OVINO","CONSISTENCIA HECES",{"$f":"'HOJA DE DATOS'!O120","v":3.44},{"$f":"C127+('HOJA DE DATOS'!O125*B93)","v":4.0673343503242698},{"$f":"C127-('HOJA DE DATOS'!O125*B94)","v":2.8126656496757301},null,null,{"$f":"H98","v":"BA MANEJO"},{"$f":"IF('BIENESTAR ANIMAL'!C33=\"\",\"\",'BIENESTAR ANIMAL'!C33)","v":""},"","",""]
["OVINO","ESTADO PEZUÑAS",{"$f":"'HOJA DE DATOS'!S120","v":5.6285714285714299},{"$f":"C128+('HOJA DE DATOS'!R125*B93)","v":6.9808182361370594},{"$f":"C128-('HOJA DE DATOS'!R125*B94)","v":4.2763246210058004},null,null,{"$f":"H99","v":"BA INSTALACIONES"},{"$f":"IF('BIENESTAR ANIMAL'!C34=\"\",\"\",'BIENESTAR ANIMAL'!C34)","v":""},"","",""]
["OVINO","Nº CHEQUEOS",{"$f":"'HOJA DE DATOS'!R120","v":125}," ",null,null,null,{"$f":"H100","v":"BA GLOBAL"},{"$f":"IF('BIENESTAR ANIMAL'!C35=\"\",\"\",'BIENESTAR ANIMAL'!C35)","v":""},"","",""]
[]
[{"$f":"IF('BIENESTAR ANIMAL'!C11=\"\",\"\",'BIENESTAR ANIMAL'!C11)","v":""}]
[]
[]
[]
["PPCC OVINO",{"$f":"IF('PPCC OVINO'!D11=\"\",1,'PPCC OVINO'!D11)","v":1}]
[]
["COMPETENCIAS","PONDERACION","VALORACION GRANJA","REAL PONDERADA","PROMEDIO","MAXIMO",null,"MINIMO","MEDIA PONDERADA","MAX POND","MIN POND"]
["Sistemas de alimentación",3,{"$f":"IF('PPCC OVINO'!C13=\"\",\"\",'PPCC OVINO'!C13)","v":""},{"$f":"IF(C138=\"\",\"\",B138*C138)","v":""},{"$f":"'HOJA DE DATOS'!A129","v":3.0392156862745101},{"$f":"E138+('HOJA DE DATOS'!A132*B135)","v":3.7592374724372761},null,{"$f":"E138-('HOJA DE DATOS'!A132*B135)","v":2.3191939001117441},{"$f":"E138*B138","v":9.1176470588235308},{"$f":"F138*B138","v":11.277712417311829},{"$f":"H138*B138","v":6.9575817003352327}]
["Calidad y disponibilidad e forrajes",3,{"$f":"IF('PPCC OVINO'!C14=\"\",\"\",'PPCC OVINO'!C14)","v":""},{"$f":"IF(C139=\"\",\"\",B139*C139)","v":""},{"$f":"'HOJA DE DATOS'!B129","v":2.9411764705882399},{"$f":"E139+('HOJA DE DATOS'!B132*B135)","v":3.7757246047514492},null,{"$f":"E139-('HOJA DE DATOS'!B132*B135)","v":2.1066283364250307},{"$f":"E139*B139","v":8.8235294117647207},{"$f":"F139*B139","v":11.327173814254348},{"$f":"H139*B139","v":6.319885009275092}]
["Lotes de alimentacion",6,{"$f":"IF('PPCC OVINO'!C15=\"\",\"\",'PPCC OVINO'!C15)","v":""},"",{"$f":"'HOJA DE DATOS'!C129","v":2.9019607843137298},{"$f":"E140+('HOJA DE DATOS'!C132*B135)","v":3.7327411875680268},null,{"$f":"E140-('HOJA DE DATOS'!C132*B135)","v":2.0711803810594329},17.41176470588238,22.396447125408159,12.427082286356598]
["Aprovechamiento recursos naturales",4,{"$f":"IF('PPCC OVINO'!C16=\"\",\"\",'PPCC OVINO'!C16)","v":""},"",{"$f":"'HOJA DE DATOS'!D129","v":2.3529411764705901},{"$f":"E141+('HOJA DE DATOS'!D132*B135)","v":3.8998546118219601},null,{"$f":"E141-('HOJA DE DATOS'!D132*B135)","v":0.80602774111922004},9.4117647058823604,15.599418447287841,3.2241109644768802]
["Automatización",3,{"$f":"IF('PPCC OVINO'!C17=\"\",\"\",'PPCC OVINO'!C17)","v":""},"",{"$f":"'HOJA DE DATOS'!E129","v":2.9411764705882399},{"$f":"E142+('HOJA DE DATOS'!E132*B135)","v":4.0258287596815201},null,{"$f":"E142-('HOJA DE DATOS'!E132*B135)","v":1.85652418149496},8.8235294117647207,12.07748627904456,5.5695725444848803]
["Existencia de protocolo sanitario",5,{"$f":"IF('PPCC OVINO'!C18=\"\",\"\",'PPCC OVINO'!C18)","v":""},"",{"$f":"'HOJA DE DATOS'!F129","v":3.3333333333333299},{"$f":"E143+('HOJA DE DATOS'!F132*B135)","v":4.2642826695845928},null,{"$f":"E143-('HOJA DE DATOS'!F132*B135)","v":2.4023839970820671},16.66666666666665,21.321413347922963,12.011919985410335]
["Mortalidad en corderos",5,{"$f":"IF('PPCC OVINO'!C19=\"\",\"\",'PPCC OVINO'!C19)","v":""},"",{"$f":"'HOJA DE DATOS'!G129","v":2.8627450980392202},{"$f":"E144+('HOJA DE DATOS'!G132*B135)","v":3.9401421064467499},null,{"$f":"E144-('HOJA DE DATOS'!G132*B135)","v":1.7853480896316902},14.3137254901961,19.700710532233749,8.9267404481584514]
["Mortalidad en adultos",5,{"$f":"IF('PPCC OVINO'!C20=\"\",\"\",'PPCC OVINO'!C20)","v":""},"",{"$f":"'HOJA DE DATOS'!H129","v":3.2352941176470602},{"$f":"E145+('HOJA DE DATOS'!H132*B135)","v":4.2665697412146404},null,{"$f":"E145-('HOJA DE DATOS'!H132*B135)","v":2.20401849407948},16.176470588235301,21.3328487060732,11.020092470397401]
["Incidencia patologia más frecuente",2,{"$f":"IF('PPCC OVINO'!C21=\"\",\"\",'PPCC OVINO'!C21)","v":""},"",{"$f":"'HOJA DE DATOS'!I129","v":2.7843137254902},{"$f":"E146+('HOJA DE DATOS'!I132*B135)","v":3.6402045010029651},null,{"$f":"E146-('HOJA DE DATOS'!I132*B135)","v":1.9284229499774348},5.5686274509803999,7.2804090020059302,3.8568458999548696]
["Porcentaje de mamitis",3,{"$f":"IF('PPCC OVINO'!C22=\"\",\"\",'PPCC OVINO'!C22)","v":""},"",{"$f":"'HOJA DE DATOS'!J129","v":2.5686274509803901},{"$f":"E147+('HOJA DE DATOS'!J132*B135)","v":3.5536127698716782},null,{"$f":"E147-('HOJA DE DATOS'!J132*B135)","v":1.5836421320891021},7.7058823529411704,10.660838309615034,4.7509263962673067]
["Lactancia Artificial",2,{"$f":"IF('PPCC OVINO'!C23=\"\",\"\",'PPCC OVINO'!C23)","v":""},"",{"$f":"'HOJA DE DATOS'!K129","v":1.54901960784314},{"$f":"E148+('HOJA DE DATOS'!K132*B135)","v":3.1022578444339901},null,{"$f":"E148-('HOJA DE DATOS'!K132*B135)","v":-4.2186287477099516E-3},3.0980392156862799,6.2045156888679802,-8.4372574954199031E-3]
["Tipo sala de ordeño",3,{"$f":"IF('PPCC OVINO'!C24=\"\",\"\",'PPCC OVINO'!C24)","v":""},"",{"$f":"'HOJA DE DATOS'!L129","v":2.9411764705882399},{"$f":"E149+('HOJA DE DATOS'!L132*B135)","v":3.6736179960599289},null,{"$f":"E149-('HOJA DE DATOS'!L132*B135)","v":2.208734945116551},8.8235294117647207,11.020853988179788,6.626204835349653]
["Control ambiental en naves",3,{"$f":"IF('PPCC OVINO'!C25=\"\",\"\",'PPCC OVINO'!C25)","v":""},"",{"$f":"'HOJA DE DATOS'!M129","v":2.47058823529412},{"$f":"E150+('HOJA DE DATOS'!M132*B135)","v":3.2542448227473377},null,{"$f":"E150-('HOJA DE DATOS'!M132*B135)","v":1.686931647840902},7.4117647058823604,9.7627344682420123,5.0607949435227058]
["Parques por lotes",3,{"$f":"IF('PPCC OVINO'!C26=\"\",\"\",'PPCC OVINO'!C26)","v":""},"",{"$f":"'HOJA DE DATOS'!N129","v":2.2745098039215699},{"$f":"E151+('HOJA DE DATOS'!N132*B135)","v":3.2760772030026102},null,{"$f":"E151-('HOJA DE DATOS'!N132*B135)","v":1.2729424048405298},6.8235294117647101,9.8282316090078297,3.8188272145215896]
["Comederos/Bebederos",3,{"$f":"IF('PPCC OVINO'!C27=\"\",\"\",'PPCC OVINO'!C27)","v":""},"",{"$f":"'HOJA DE DATOS'!O129","v":2.7450980392156898},{"$f":"E152+('HOJA DE DATOS'!O132*B135)","v":3.8558300006699699},null,{"$f":"E152-('HOJA DE DATOS'!O132*B135)","v":1.6343660777614097},8.2352941176470686,11.56749000200991,4.9030982332842292]
["Leche oveja/año",7,{"$f":"IF('PPCC OVINO'!C28=\"\",\"\",'PPCC OVINO'!C28)","v":""},"",{"$f":"'HOJA DE DATOS'!P129","v":2.5490196078431402},{"$f":"E153+('HOJA DE DATOS'!P132*B135)","v":3.7542370237510903},null,{"$f":"E153-('HOJA DE DATOS'!P132*B135)","v":1.3438021919351901},17.843137254901983,26.27965916625763,9.4066153435463313]
["Corderos vendidos",3,{"$f":"IF('PPCC OVINO'!C29=\"\",\"\",'PPCC OVINO'!C29)","v":""},"",{"$f":"'HOJA DE DATOS'!Q129","v":2.37254901960784},{"$f":"E154+('HOJA DE DATOS'!Q132*B135)","v":3.4301081775508},null,{"$f":"E154-('HOJA DE DATOS'!Q132*B135)","v":1.3149898616648801},7.1176470588235201,10.2903245326524,3.9449695849946402]
["Ovejas/UTH",4,{"$f":"IF('PPCC OVINO'!C30=\"\",\"\",'PPCC OVINO'!C30)","v":""},"",{"$f":"'HOJA DE DATOS'!R129","v":2.52941176470588},{"$f":"E155+('HOJA DE DATOS'!R132*B135)","v":3.6670046826949201},null,{"$f":"E155-('HOJA DE DATOS'!R132*B135)","v":1.39181884671684},10.11764705882352,14.66801873077968,5.5672753868673599]
["Calidad de leche",5,{"$f":"IF('PPCC OVINO'!C31=\"\",\"\",'PPCC OVINO'!C31)","v":""},"",{"$f":"'HOJA DE DATOS'!S129","v":2.0588235294117601},{"$f":"E156+('HOJA DE DATOS'!S132*B135)","v":3.0866710804791802},null,{"$f":"E156-('HOJA DE DATOS'!S132*B135)","v":1.03097597834434},10.294117647058801,15.4333554023959,5.1548798917217002]
["Tasa de reposición",3,{"$f":"IF('PPCC OVINO'!C32=\"\",\"\",'PPCC OVINO'!C32)","v":""},"",{"$f":"'HOJA DE DATOS'!T129","v":2.68627450980392},{"$f":"E157+('HOJA DE DATOS'!T132*B135)","v":3.8262779497712103},null,{"$f":"E157-('HOJA DE DATOS'!T132*B135)","v":1.54627106983663},8.0588235294117609,11.478833849313631,4.6388132095098902]
["Ingresos brutos por leche",8,{"$f":"IF('PPCC OVINO'!C33=\"\",\"\",'PPCC OVINO'!C33)","v":""},"",{"$f":"'HOJA DE DATOS'!U129","v":3.0980392156862702},{"$f":"E158+('HOJA DE DATOS'!U132*B135)","v":3.7690057412532112},null,{"$f":"E158-('HOJA DE DATOS'!U132*B135)","v":2.4270726901193291},24.784313725490161,30.15204593002569,19.416581520954633]
["Ingresos brutos por venta animales (corderos, desvieje, machos)",3,{"$f":"IF('PPCC OVINO'!C34=\"\",\"\",'PPCC OVINO'!C34)","v":""},"",{"$f":"'HOJA DE DATOS'!V129","v":3.1764705882352899},{"$f":"E159+('HOJA DE DATOS'!V132*B135)","v":3.7995558906760127},null,{"$f":"E159-('HOJA DE DATOS'!V132*B135)","v":2.5533852857945671},9.5294117647058698,11.398667672028038,7.6601558573837014]
["Gastos de alimentación (concentrados + forrajes)",6,{"$f":"IF('PPCC OVINO'!C35=\"\",\"\",'PPCC OVINO'!C35)","v":""},"",{"$f":"'HOJA DE DATOS'!W129","v":3.1372549019607798},{"$f":"E160+('HOJA DE DATOS'!W132*B135)","v":4.0968299713146532},null,{"$f":"E160-('HOJA DE DATOS'!W132*B135)","v":2.1776798326069069},18.823529411764678,24.580979827887919,13.06607899564144]
["Amortizaciones (maquinaria, naves...).",4,{"$f":"IF('PPCC OVINO'!C36=\"\",\"\",'PPCC OVINO'!C36)","v":""},"",{"$f":"'HOJA DE DATOS'!X129","v":2.8627450980392202},{"$f":"E161+('HOJA DE DATOS'!X132*B135)","v":4.0292717002757401},null,{"$f":"E161-('HOJA DE DATOS'!X132*B135)","v":1.6962184958027002},11.450980392156881,16.11708680110296,6.7848739832108009]
["Mano de obra (costes por UTH)",4,{"$f":"IF('PPCC OVINO'!C37=\"\",\"\",'PPCC OVINO'!C37)","v":""},"",{"$f":"'HOJA DE DATOS'!Y129","v":2.9215686274509798},{"$f":"E162+('HOJA DE DATOS'!Y132*B135)","v":3.8774585218405369},null,{"$f":"E162-('HOJA DE DATOS'!Y132*B135)","v":1.9656787330614227},11.686274509803919,15.509834087362147,7.8627149322456908]
["TOTAL CHEQUEOS",{"$f":"SUM(B138:B162)","v":100},{"$f":"SUM(C138:C162)","v":0},{"$f":"SUM(D138:D162)","v":0},{"$f":"'HOJA DE DATOS'!Z129","v":51},null,null,null,{"$f":"SUM(I138:I162)","v":278.11764705882359},{"$f":"SUM(J138:J162)","v":377.26708973727108},{"$f":"SUM(K138:K162)","v":178.96820438037599}]
[]
[]
[null,"REAL","MEDIA BBDD","MAXIMO","MINIMO"]
["ALIMENTACION",{"$f":"AVERAGE(D138:D142)","v":{"$error":"#DIV/0!"}},{"$f":"AVERAGE(I138:I142)","v":10.717647058823545},{"$f":"AVERAGE(J138:J142)","v":14.535647616661347},{"$f":"AVERAGE(K138:K142)","v":6.8996465009857362},null,null,"REAL",{"$f":"D163","v":0}]
["SANIDAD",{"$f":"AVERAGE(D143:D147)","v":{"$error":"#DIV/0!"}},{"$f":"AVERAGE(I143:I147)","v":12.086274509803925},{"$f":"AVERAGE(J143:J147)","v":16.059243979570176},{"$f":"AVERAGE(K143:K147)","v":8.1133050400376732},null,null,"PROMEDIO BBDD",{"$f":"I163","v":278.11764705882359}]
["INSTALACIONES Y B.A.",{"$f":"AVERAGE(D148:D152)","v":{"$error":"#DIV/0!"}},{"$f":"AVERAGE(I148:I152)","v":6.878431372549028},{"$f":"AVERAGE(J148:J152)","v":9.6767651512615043},{"$f":"AVERAGE(K148:K152)","v":4.0800975938365518},null,null,"MAXIMO",{"$f":"J163","v":377.26708973727108}]
["PRODUCCIONES-INDICES",{"$f":"AVERAGE(D153:D157)","v":{"$error":"#DIV/0!"}},{"$f":"AVERAGE(I153:I157)","v":10.686274509803919},{"$f":"AVERAGE(J153:J157)","v":15.630038336279847},{"$f":"AVERAGE(K153:K157)","v":5.7425106833279838},null,null,"MINIMO",{"$f":"K163","v":178.96820438037599}]
["CONDICIONES ECONOMICAS",{"$f":"AVERAGE(D158:D162)","v":{"$error":"#DIV/0!"}},{"$f":"AVERAGE(I158:I162)","v":15.254901960784304},{"$f":"AVERAGE(J158:J162)","v":19.551722863681352},{"$f":"AVERAGE(K158:K162)","v":10.958081057887252}]
[]
[]
[]
[]
["PPCC CAPRINO",{"$f":"IF('PPCC CAPRINO'!D11=\"\",1,'PPCC CAPRINO'!D11)","v":1}]
[]
["COMPETENCIAS","PONDERACION","VALORACION GRANJA","REAL PONDERADA","PROMEDIO","MAXIMO",null,"MINIMO","MEDIA PONDERADA","MAX POND","MIN POND"]
["Sistemas de alimentación",5,{"$f":"IF('PPCC CAPRINO'!C13=\"\",\"\",'PPCC CAPRINO'!C13)","v":""},{"$f":"IF(C179=\"\",\"\",B179*C179)","v":""},{"$f":"'HOJA DE DATOS'!A135","v":3.4693877551020398},{"$f":"E179+('HOJA DE DATOS'!A138*B176)","v":4.2884838223291615},null,{"$f":"E179-('HOJA DE DATOS'!A138*B176)","v":2.6502916878749176},{"$f":"E179*B179","v":17.3469387755102},{"$f":"F179*B179","v":21.442419111645808},{"$f":"H179*B179","v":13.251458439374588}]
["Calidad y disponibilidad e forrajes",4,{"$f":"IF('PPCC CAPRINO'!C14=\"\",\"\",'PPCC CAPRINO'!C14)","v":""},{"$f":"IF(C180=\"\",\"\",B180*C180)","v":""},{"$f":"'HOJA DE DATOS'!B135","v":3.1020408163265301},{"$f":"E180+('HOJA DE DATOS'!B138*B176)","v":3.973937646021795},null,{"$f":"E180-('HOJA DE DATOS'!B138*B176)","v":2.2301439866312651},{"$f":"E180*B180","v":12.40816326530612},{"$f":"F180*B180","v":15.89575058408718},{"$f":"H180*B180","v":8.9205759465250605}]
["Lotes de alimentacion",7,{"$f":"IF('PPCC CAPRINO'!C15=\"\",\"\",'PPCC CAPRINO'!C15)","v":""},"",{"$f":"'HOJA DE DATOS'!C135","v":2.7959183673469399},{"$f":"E181+('HOJA DE DATOS'!C138*B176)","v":3.6851969100604207},null,{"$f":"E181-('HOJA DE DATOS'!C138*B176)","v":1.906639824633459},19.57142857142858,25.796378370422946,13.346478772434214]
["Aprovechamiento recursos naturales",3,{"$f":"IF('PPCC CAPRINO'!C16=\"\",\"\",'PPCC CAPRINO'!C16)","v":""},"",{"$f":"'HOJA DE DATOS'!D135","v":1.3673469387755099},{"$f":"E182+('HOJA DE DATOS'!D138*B176)","v":2.87695336583716},null,{"$f":"E182-('HOJA DE DATOS'!D138*B176)","v":-0.1422594882861401},4.1020408163265296,8.63086009751148,-0.4267784648584203]
["Automatización",2,{"$f":"IF('PPCC CAPRINO'!C17=\"\",\"\",'PPCC CAPRINO'!C17)","v":""},"",{"$f":"'HOJA DE DATOS'!E135","v":2.22448979591837},{"$f":"E183+('HOJA DE DATOS'!E138*B176)","v":2.9393705004899138},null,{"$f":"E183-('HOJA DE DATOS'!E138*B176)","v":1.5096090913468261},4.4489795918367401,5.8787410009798275,3.0192181826936522]
["Existencia de protocolo sanitario",5,{"$f":"IF('PPCC CAPRINO'!C18=\"\",\"\",'PPCC CAPRINO'!C18)","v":""},"",{"$f":"'HOJA DE DATOS'!F135","v":2.9591836734693899},{"$f":"E184+('HOJA DE DATOS'!F138*B176)","v":4.2970797779538001},null,{"$f":"E184-('HOJA DE DATOS'!F138*B176)","v":1.6212875689849799},14.79591836734695,21.485398889769002,8.1064378449248995]
["Mortalidad en chivos",4,{"$f":"IF('PPCC CAPRINO'!C19=\"\",\"\",'PPCC CAPRINO'!C19)","v":""},"",{"$f":"'HOJA DE DATOS'!G135","v":2.8979591836734699},{"$f":"E185+('HOJA DE DATOS'!G138*B176)","v":3.9235666857420299},null,{"$f":"E185-('HOJA DE DATOS'!G138*B176)","v":1.8723516816049099},11.59183673469388,15.69426674296812,7.4894067264196398]
["Mortalidad en adultos",5,{"$f":"IF('PPCC CAPRINO'!C20=\"\",\"\",'PPCC CAPRINO'!C20)","v":""},"",{"$f":"'HOJA DE DATOS'!H135","v":2.87755102040816},{"$f":"E186+('HOJA DE DATOS'!H138*B176)","v":3.9309711063904897},null,{"$f":"E186-('HOJA DE DATOS'!H138*B176)","v":1.8241309344258301},14.387755102040799,19.65485553195245,9.1206546721291506]
["Incidencia patologia más frecuente",2,{"$f":"IF('PPCC CAPRINO'!C21=\"\",\"\",'PPCC CAPRINO'!C21)","v":""},"",{"$f":"'HOJA DE DATOS'!I135","v":2.3673469387755102},{"$f":"E187+('HOJA DE DATOS'!I138*B176)","v":3.2499066051017311},null,{"$f":"E187-('HOJA DE DATOS'!I138*B176)","v":1.4847872724492892},4.7346938775510203,6.4998132102034623,2.9695745448985784]
["Porcentaje de mamitis",3,{"$f":"IF('PPCC CAPRINO'!C22=\"\",\"\",'PPCC CAPRINO'!C22)","v":""},"",{"$f":"'HOJA DE DATOS'!J135","v":2.4081632653061198},{"$f":"E188+('HOJA DE DATOS'!J138*B176)","v":3.4672188065577498},null,{"$f":"E188-('HOJA DE DATOS'!J138*B176)","v":1.3491077240544898},7.2244897959183589,10.40165641967325,4.0473231721634697]
["Lactancia Artificial",2,{"$f":"IF('PPCC CAPRINO'!C23=\"\",\"\",'PPCC CAPRINO'!C23)","v":""},"",{"$f":"'HOJA DE DATOS'!K135","v":2.0204081632653099},{"$f":"E189+('HOJA DE DATOS'!K138*B176)","v":3.2191887228056997},null,{"$f":"E189-('HOJA DE DATOS'!K138*B176)","v":0.82162760372491994},4.0408163265306198,6.4383774456113994,1.6432552074498399]
["Tipo sala de ordeño",4,{"$f":"IF('PPCC CAPRINO'!C24=\"\",\"\",'PPCC CAPRINO'!C24)","v":""},"",{"$f":"'HOJA DE DATOS'!L135","v":2.6938775510204098},{"$f":"E190+('HOJA DE DATOS'!L138*B176)","v":3.4356120507082766},null,{"$f":"E190-('HOJA DE DATOS'!L138*B176)","v":1.9521430513325428},10.775510204081639,13.742448202833106,7.8085722053301714]
["Control ambiental en naves",3,{"$f":"IF('PPCC CAPRINO'!C25=\"\",\"\",'PPCC CAPRINO'!C25)","v":""},"",{"$f":"'HOJA DE DATOS'!M135","v":2.3265306122449001},{"$f":"E191+('HOJA DE DATOS'!M138*B176)","v":3.0449709107979772},null,{"$f":"E191-('HOJA DE DATOS'!M138*B176)","v":1.608090313691823},6.9795918367347003,9.1349127323939321,4.8242709410754685]
["Parques por lotes",3,{"$f":"IF('PPCC CAPRINO'!C26=\"\",\"\",'PPCC CAPRINO'!C26)","v":""},"",{"$f":"'HOJA DE DATOS'!N135","v":2.22448979591837},{"$f":"E192+('HOJA DE DATOS'!N138*B176)","v":2.9954552653799018},null,{"$f":"E192-('HOJA DE DATOS'!N138*B176)","v":1.453524326456838},6.6734693877551106,8.9863657961397045,4.3605729793705139]
["Comederos/Bebederos",3,{"$f":"IF('PPCC CAPRINO'!C27=\"\",\"\",'PPCC CAPRINO'!C27)","v":""},"",{"$f":"'HOJA DE DATOS'!O135","v":2.5510204081632701},{"$f":"E193+('HOJA DE DATOS'!O138*B176)","v":3.4652875210692833},null,{"$f":"E193-('HOJA DE DATOS'!O138*B176)","v":1.636753295257257},7.6530612244898109,10.395862563207849,4.9102598857717705]
["Porcentaje de reposición",3,{"$f":"IF('PPCC CAPRINO'!C28=\"\",\"\",'PPCC CAPRINO'!C28)","v":""},"",{"$f":"'HOJA DE DATOS'!P135","v":3.4285714285714302},{"$f":"E194+('HOJA DE DATOS'!P138*B176)","v":4.1356782097579785},null,{"$f":"E194-('HOJA DE DATOS'!P138*B176)","v":2.7214646473848823},10.28571428571429,12.407034629273936,8.1643939421546463]
["Producción media",8,{"$f":"IF('PPCC CAPRINO'!C29=\"\",\"\",'PPCC CAPRINO'!C29)","v":""},"",{"$f":"'HOJA DE DATOS'!Q135","v":2.22448979591837},{"$f":"E195+('HOJA DE DATOS'!Q138*B176)","v":3.2903483333278603},null,{"$f":"E195-('HOJA DE DATOS'!Q138*B176)","v":1.15863125850888},17.79591836734696,26.322786666622882,9.2690500680710404]
["Calidad Media",7,{"$f":"IF('PPCC CAPRINO'!C30=\"\",\"\",'PPCC CAPRINO'!C30)","v":""},"",{"$f":"'HOJA DE DATOS'!R135","v":2.6938775510204098},{"$f":"E196+('HOJA DE DATOS'!R138*B176)","v":3.6113941637822049},null,{"$f":"E196-('HOJA DE DATOS'!R138*B176)","v":1.7763609382586147},18.857142857142868,25.279759146475435,12.434526567810304]
["Cabritos vendidos",3,{"$f":"IF('PPCC CAPRINO'!C31=\"\",\"\",'PPCC CAPRINO'!C31)","v":""},"",{"$f":"'HOJA DE DATOS'!S135","v":1.6122448979591799},{"$f":"E197+('HOJA DE DATOS'!S138*B176)","v":2.6888198398197902},null,{"$f":"E197-('HOJA DE DATOS'!S138*B176)","v":0.53566995609856982},4.8367346938775402,8.0664595194593716,1.6070098682957095]
["Cabras por UTH",3,{"$f":"IF('PPCC CAPRINO'!C32=\"\",\"\",'PPCC CAPRINO'!C32)","v":""},"",{"$f":"'HOJA DE DATOS'!T135","v":1.77551020408163},{"$f":"E198+('HOJA DE DATOS'!T138*B176)","v":2.9876932575442803},null,{"$f":"E198-('HOJA DE DATOS'!T138*B176)","v":0.56332715061897987},5.3265306122448894,8.9630797726328417,1.6899814518569396]
["Ingresos por leche",7,{"$f":"IF('PPCC CAPRINO'!C33=\"\",\"\",'PPCC CAPRINO'!C33)","v":""},"",{"$f":"'HOJA DE DATOS'!U135","v":2.83673469387755},{"$f":"E199+('HOJA DE DATOS'!U138*B176)","v":3.711066314209861},null,{"$f":"E199-('HOJA DE DATOS'!U138*B176)","v":1.9624030735452389},19.857142857142851,25.977464199469026,13.736821514816672]
["Ingresos por animales vendidos",2,{"$f":"IF('PPCC CAPRINO'!C34=\"\",\"\",'PPCC CAPRINO'!C34)","v":""},"",{"$f":"'HOJA DE DATOS'!V135","v":2.3265306122449001},{"$f":"E200+('HOJA DE DATOS'!V138*B176)","v":3.1777002756601131},null,{"$f":"E200-('HOJA DE DATOS'!V138*B176)","v":1.475360948829687},4.6530612244898002,6.3554005513202263,2.9507218976593741]
["Coste mano de obra",3,{"$f":"IF('PPCC CAPRINO'!C35=\"\",\"\",'PPCC CAPRINO'!C35)","v":""},"",{"$f":"'HOJA DE DATOS'!W135","v":2.5714285714285698},{"$f":"E201+('HOJA DE DATOS'!W138*B176)","v":3.6122615711616399},null,{"$f":"E201-('HOJA DE DATOS'!W138*B176)","v":1.5305955716954998},7.71428571428571,10.836784713484921,4.5917867150864993]
["Coste alimentación",6,{"$f":"IF('PPCC CAPRINO'!C36=\"\",\"\",'PPCC CAPRINO'!C36)","v":""},"",{"$f":"'HOJA DE DATOS'!X135","v":3.0816326530612201},{"$f":"E202+('HOJA DE DATOS'!X138*B176)","v":3.840928782542266},null,{"$f":"E202-('HOJA DE DATOS'!X138*B176)","v":2.3223365235801743},18.489795918367321,23.045572695253597,13.934019141481045]
["Amortizaciones /Subvenciones",3,{"$f":"IF('PPCC CAPRINO'!C37=\"\",\"\",'PPCC CAPRINO'!C37)","v":""},"",{"$f":"'HOJA DE DATOS'!Y135","v":2.4897959183673501},{"$f":"E203+('HOJA DE DATOS'!Y138*B176)","v":3.6285534463262201},null,{"$f":"E203-('HOJA DE DATOS'!Y138*B176)","v":1.3510383904084802},7.4693877551020504,10.88566033897866,4.053115171225441]
["TOTAL CHEQUEOS",{"$f":"SUM(B179:B203)","v":100},{"$f":"SUM(C179:C203)","v":0},{"$f":"SUM(D179:D203)","v":0},{"$f":"'HOJA DE DATOS'!Z135","v":49},null,null,null,{"$f":"SUM(I179:I203)","v":262.02040816326536},{"$f":"SUM(J179:J203)","v":358.2181089323704},{"$f":"SUM(K179:K203)","v":165.82270739416026}]
[]
[]
[null,"REAL","MEDIA BBDD","MAXIMO","MINIMO"]
["ALIMENTACION",{"$f":"AVERAGE(D179:D183)","v":{"$error":"#DIV/0!"}},{"$f":"AVERAGE(I179:I183)","v":11.575510204081633},{"$f":"AVERAGE(J179:J183)","v":15.52882983292945},{"$f":"AVERAGE(K179:K183)","v":7.6221905752338177},null,null,"REAL",{"$f":"D204","v":0}]
["SANIDAD",{"$f":"AVERAGE(D184:D188)","v":{"$error":"#DIV/0!"}},{"$f":"AVERAGE(I184:I188)","v":10.546938775510203},{"$f":"AVERAGE(J184:J188)","v":14.747198158913255},{"$f":"AVERAGE(K184:K188)","v":6.3466793921071476},null,null,"PROMEDIO BBDD",{"$f":"I204","v":262.02040816326536}]
["INSTALACIONES Y B.A.",{"$f":"AVERAGE(D189:D193)","v":{"$error":"#DIV/0!"}},{"$f":"AVERAGE(I189:I193)","v":7.2244897959183758},{"$f":"AVERAGE(J189:J193)","v":9.7395933480371983},{"$f":"AVERAGE(K189:K193)","v":4.7093862437995524},null,null,"MAXIMO",{"$f":"J204","v":358.2181089323704}]
["PRODUCCIONES-INDICES",{"$f":"AVERAGE(D194:D198)","v":{"$error":"#DIV/0!"}},{"$f":"AVERAGE(I194:I198)","v":11.420408163265309},{"$f":"AVERAGE(J194:J198)","v":16.207823946892894},{"$f":"AVERAGE(K194:K198)","v":6.6329923796377273},null,null,"MINIMO",{"$f":"K204","v":165.82270739416026}]
["CONDICIONES ECONOMICAS",{"$f":"AVERAGE(D199:D203)","v":{"$error":"#DIV/0!"}},{"$f":"AVERAGE(I199:I203)","v":11.636734693877546},{"$f":"AVERAGE(J199:J203)","v":15.420176499701284},{"$f":"AVERAGE(K199:K203)","v":7.8532928880538062}]
[]
[]
["PLAN EXPLOTACION",null,null,"TIEMPO ENTRE PARIDERAS","Nº BANDAS","M2 NAVE",{"$f":"IF('PLAN DE EXPLOTACIÓN'!C14=\"\",\"\",'PLAN DE EXPLOTACIÓN'!C14)","v":""}]
[null,1," 1 paridera/año",365,null,"OVEJAS TOTAL",{"$f":"IF('PLAN DE EXPLOTACIÓN'!C12=\"\",\"\",'PLAN DE EXPLOTACIÓN'!C12)","v":""}]
["LACTANCIA NATURAL",2,"2 parideras/año",{"$f":"$D$216/B217","v":182.5},null,"Ovejas /paridera",{"$f":"IF('PLAN DE EXPLOTACIÓN'!C28=\"\",\"\",'PLAN DE EXPLOTACIÓN'!C28)","v":""}]
["LACTANCIA ARTIFICIAL",3,"3 parideras/año",{"$f":"$D$216/B218","v":121.66666666666667}]
[{"$f":"IF('PLAN DE EXPLOTACIÓN'!B10=\"\",\"\",'PLAN DE EXPLOTACIÓN'!B10)","v":""},4,"4 paridera/año",{"$f":"$D$216/B219","v":91.25},null,"m2 nevesarios tot",{"$f":"G216*1.5","v":{"$error":"#VALUE!"}}]
[null,5,"Sistema STAR",{"$f":"$D$216/B220","v":73},null,"m2 disp LN",{"$f":"IF(G215=\"\",\"\",G215-((G216-G217)*1.5))","v":""}]
[null,6,"Sisitema CAMAL",{"$f":"$D$216/B221","v":60.833333333333336},null,null,{"$f":"IF('PLAN DE EXPLOTACIÓN'!D34=\"\",\"\",'PLAN DE EXPLOTACIÓN'!D34)","v":""}]
[]
[null,"PARIDERAS MIN",{"$f":"IF('PLAN DE EXPLOTACIÓN'!C16=\"\",\"\",('PLAN DE EXPLOTACIÓN'!C12*'PLAN DE EXPLOTACIÓN'!C16)/('PLAN DE EXPLOTACIÓN'!C14/'PLAN DE EXPLOTACIÓN'!C24))","v":""},{"$f":"C223+0.25","v":{"$error":"#VALUE!"}}]
[]
[null,"TIPO","TIEMPO","FECHA PARTO PLANIF."]
[null,{"$f":"'PLAN DE EXPLOTACIÓN'!C19","v":""},{"$f":"VLOOKUP(B226,C216:D221,2,FALSE)","v":{"$error":"#N/A"}},{"$f":"'PLAN DE EXPLOTACIÓN'!C13","v":"00:00:00"}]
[]
[null,"BANDA 1",{"$f":"D226","v":"00:00:00"}]
[null,"BANDA 2",{"$f":"C228+$C$226","v":{"$error":"#N/A"}}]
[null,"BANDA 3",{"$f":"C229+$C$226","v":{"$error":"#N/A"}}]
[null,"BANDA 4",{"$f":"C230+$C$226","v":{"$error":"#N/A"}}]
[]
[null,"BANDA ELEGIDA"]
[null,{"$f":"'PLAN DE EXPLOTACIÓN'!G9","v":0},{"$f":"VLOOKUP(B234,B228:C231,2,FALSE)","v":{"$error":"#N/A"}}]
[]
[]
["CALENDARIO REPRODUCTIVO"]
[]
[]
[]
["Cría",{"$f":"'CALENDARIO REPRODUCTIVO'!C12","v":0},"d"]
["Gestación",148,"d"]
[null,"Duraciuon","Colocar","Retirar/Soltar machos","Cubrición","d100 gestac","Parto","Destete","d1 ordeño","d90 ordeño","d150 ordeño","d240 ordeño"]
["ESPONJAS",12,{"$f":"'CALENDARIO REPRODUCTIVO'!C13","v":"00:00:00"},{"$f":"C244+B$244-1","v":"1900-01-11"},{"$f":"D244+2","v":"1900-01-13"},{"$f":"E244+100","v":"1900-04-22"},{"$f":"E244+B$242","v":"1900-06-09"},{"$f":"G244+B$241","v":"1900-06-09"},{"$f":"H244+1","v":"1900-06-10"},{"$f":"I244+89","v":"1900-09-07"},{"$f":"I244+149","v":"1900-11-06"},{"$f":"I244+239","v":"1901-02-04"}]
["EFECTO MACHO",45,{"$f":"C244","v":"00:00:00"},{"$f":"C245+B245","v":"1900-02-14"},{"$f":"D245+2","v":"1900-02-16"},{"$f":"E245+100","v":"1900-05-26"},{"$f":"E245+B$242","v":"1900-07-13"},{"$f":"G245+B$241","v":"1900-07-13"},{"$f":"H245+1","v":"1900-07-14"},{"$f":"I245+89","v":"1900-10-11"},{"$f":"I245+149","v":"1900-12-10"},{"$f":"I245+239","v":"1901-03-10"}]
["IMPLANTES MELATONINA",45,{"$f":"C244","v":"00:00:00"},{"$f":"C246+B246","v":"1900-02-14"},{"$f":"D246+2","v":"1900-02-16"},{"$f":"E246+100","v":"1900-05-26"},{"$f":"E246+B$242","v":"1900-07-13"},{"$f":"G246+B$241","v":"1900-07-13"},{"$f":"H246+1","v":"1900-07-14"},{"$f":"I246+89","v":"1900-10-11"},{"$f":"I246+149","v":"1900-12-10"},{"$f":"I246+239","v":"1901-03-10"}]
[]
[]
[null,2,3,4,5,6,7,8,9,10,11,12]
[]
[{"$f":"'CALENDARIO REPRODUCTIVO'!C11","v":0},{"$f":"VLOOKUP($A$251,$A$244:$L$246,B249,FALSE)","v":{"$error":"#N/A"}},{"$error":"#N/A"},{"$error":"#N/A"},{"$error":"#N/A"},{"$error":"#N/A"},{"$error":"#N/A"},{"$error":"#N/A"},{"$error":"#N/A"},{"$error":"#N/A"},{"$error":"#N/A"},{"$error":"#N/A"}]
[]
[]
[]
[]
["MOMENTO DE SECADO"]
[]
["PRECIO LECHE",{"$f":"'MOMENTO DE SECADO'!C11","v":0}]
["DIAS",{"$f":"'MOMENTO DE SECADO'!C13-'MOMENTO DE SECADO'!C12","v":0}]
["PRODUCCION CONTROL",{"$f":"('MOMENTO DE SECADO'!C14/2)*1000","v":0}]
["EQ",{"$f":"'MOMENTO DE SECADO'!C15","v":0}]
["COSTE",{"$f":"'MOMENTO DE SECADO'!C16","v":0}]
["ECUACION 1",{"$f":"(ECUACIONES!B25*'ENLACES DATOS'!B260)+(ECUACIONES!C25*'ENLACES DATOS'!B259)","v":0}]
["ECUACION 2",{"$f":"(ECUACIONES!B26*'ENLACES DATOS'!B260)+(ECUACIONES!C26*'ENLACES DATOS'!B259)","v":0}]
["LITROS /DIA",{"$f":"(B260*2)/1000","v":0}]
["PRODUCCION EQ (GR)",{"$f":"(B261*1000)*B265","v":0}]
["PRECIO LITRO LECHE",{"$f":"B268/B265","v":{"$error":"#DIV/0!"}}]
["INGRESOS",{"$f":"(B258*B266)/10000","v":0}]
["UMBRAL",{"$f":"B262/B267","v":{"$error":"#DIV/0!"}}]
["CONTROL UNBRAL",{"$f":"B269/2","v":{"$error":"#DIV/0!"}}]
["DIAS HASTA SECADO",{"$f":"(B264-((ECUACIONES!B26)*('ENLACES DATOS'!B270*1000)))/ECUACIONES!C26","v":{"$error":"#DIV/0!"}}]
["DIAS HASTA CUBRICION",{"$f":"B271-90","v":{"$error":"#DIV/0!"}}]
[]
[]
["CURVA DE LACTACION OVEJA",null,null,null,null,null,null,"CURVA DE LACTACION OVEJA CSIC"]
[]
["DIAS LACTACION","FECHA","OVEJA","DIAS SIMULACION","PRODUCCION SIMULACION",null,null,"FECHA PARTO",{"$f":"IF('CURVA DE LACTACION OVINO CSIC'!C11=\"\",\"\",'CURVA DE LACTACION OVINO CSIC'!C11)","v":""},null,"FECHA SIMULACION",{"$f":"IF('CURVA DE LACTACION OVINO CSIC'!C14=\"\",\"\",'CURVA DE LACTACION OVINO CSIC'!C14)","v":""}]
[{"$f":"IF('CURVA DE LACTACION OVINO'!C12=\"\",\"\",'CURVA DE LACTACION OVINO'!C12-'CURVA DE LACTACION OVINO'!C11)","v":""},{"$f":"IF('CURVA DE LACTACION OVINO'!C12=\"\",\"\",'CURVA DE LACTACION OVINO'!C12)","v":""},{"$f":"IF('CURVA DE LACTACION OVINO'!C13=\"\",\"\",'CURVA DE LACTACION OVINO'!C13)","v":""},{"$f":"'CURVA DE LACTACION OVINO'!C14-'CURVA DE LACTACION OVINO'!C11","v":0},{"$f":"VLOOKUP(D278,A289:C463,3,FALSE)","v":{"$error":"#N/A"}},null,null,"FECHA CONTROL",{"$f":"IF('CURVA DE LACTACION OVINO CSIC'!C12=\"\",\"\",'CURVA DE LACTACION OVINO CSIC'!C12)","v":""},null,"DML",{"$f":"IF(L277=\"\",\"\",L277-I277)","v":""}]
[{"$f":"IF(A278=\"\",\"\",IF(A278>45,(A278+30),45))","v":""},{"$f":"IF(A279=\"\",\"\",(A279-A278)+B278)","v":""},{"$f":"IF(B279=\"\",\"\",IF($A$278>45,C278-0.45,(((A279-A278)/10)*0.18)+C278))","v":""},null,null,null,null,"PRODUCCION CONTROL (dia)",{"$f":"IF('CURVA DE LACTACION OVINO CSIC'!C13=\"\",\"\",'CURVA DE LACTACION OVINO CSIC'!C13)","v":""},null,"PRODUCCION 1",{"$f":"IF(L278=\"\",\"\",((I290-(J290*L278))*2)/1000)","v":""},{"$f":"IF(L279=\"\",\"\",AVERAGE(L279:L280))","v":""}]
[{"$f":"IF(A279=\"\",\"\",A279+30)","v":""},"",{"$f":"IF(B280=\"\",\"\",C279-0.45)","v":""},null,null,null,null,"DML",{"$f":"IF(I278=\"\",\"\",I278-I277)","v":""},null,"PRODUCCION 2",{"$f":"IF(L278=\"\",\"\",((I291-(J291*L278))*2)/1000)","v":""}]
["","",{"$f":"IF(B281=\"\",\"\",C280-0.45)","v":""}]
["","",{"$f":"IF(B282=\"\",\"\",C281-0.45)","v":""},null,null,null,null,"PROD.LACTACION1",{"$f":"IF(I279=\"\",\"\",(ECUACIONES!B26*(('ENLACES DATOS'!I279/2)*1000))+(ECUACIONES!C26*'ENLACES DATOS'!I280))","v":""},{"$f":"IF(I282=\"\",\"\",AVERAGE(I282:I283))","v":""}]
["","",{"$f":"IF(B283=\"\",\"\",C282-0.45)","v":""},null,null,null,null,"PROD LACTACION 2",{"$f":"IF(I279=\"\",\"\",(ECUACIONES!B25*(('ENLACES DATOS'!I279/2)*1000))+(ECUACIONES!C25*'ENLACES DATOS'!I280))","v":""}]
["","",{"$f":"IF(B284=\"\",\"\",C283-0.45)","v":""}]
[]
["PRODUCCION EC2",{"$f":"(ECUACIONES!B26*(('ENLACES DATOS'!C278/2)*1000))+(ECUACIONES!C26*'ENLACES DATOS'!A278)","v":{"$error":"#VALUE!"}},{"$f":"AVERAGE(B286:B287)","v":{"$error":"#VALUE!"}}]
["PRODUCCION EC 1",{"$f":"(ECUACIONES!B25*(('ENLACES DATOS'!C278/2)*1000))+(ECUACIONES!C25*'ENLACES DATOS'!A278)","v":{"$error":"#VALUE!"}},null,null,null,null,null,"codigo",{"$f":"IF(J282=\"\",\"\",IF(J282<200,2,IF(J282<350,3,IF(J282<500,4,IF(J282<700,5,6)))))","v":""}]
[]
[{"$f":"B289-'CURVA DE LACTACION OVINO'!$C$11","v":{"$error":"#VALUE!"}},{"$f":"B278","v":""},{"$f":"C278","v":""},null,null,null,null,null,"A","B","n"]
[{"$f":"B290-'CURVA DE LACTACION OVINO'!$C$11","v":{"$error":"#VALUE!"}},{"$f":"B289+1","v":{"$error":"#VALUE!"}},{"$f":"IF(A290>45,(C289-0.015),(C289+0.0166))","v":{"$error":"#VALUE!"}},null,null,null,null,"ecuacion1",{"$f":"IF(I287=\"\",\"\",VLOOKUP(I287,ECUACIONES!B40:D45,2,FALSE))","v":""},{"$f":"IF(I287=\"\",\"\",VLOOKUP($I$287,ECUACIONES!$B$40:$E$45,3,FALSE))","v":""},{"$f":"IF(I287=\"\",\"\",VLOOKUP($I$287,ECUACIONES!$B$40:$E$45,4,FALSE))","v":""}]
[{"$f":"IF(C290=\"\",\"\",IF(C290<0,\"\",A290+1))","v":{"$error":"#VALUE!"}},{"$f":"IF(C290=\"\",\"\",IF(C290<0,\"\",B290+1))","v":{"$error":"#VALUE!"}},{"$f":"IF(B291=\"\",\"\",IF(A291>45,(C290-0.015),(C290+0.0166)))","v":{"$error":"#VALUE!"}},null,null,null,null,1,{"$f":"IF(I279=\"\",\"\",VLOOKUP(H291,ECUACIONES!B40:D45,2,FALSE))","v":""},{"$f":"IF(I279=\"\",\"\",VLOOKUP($H$291,ECUACIONES!B40:E45,3,FALSE))","v":""},{"$f":"IF(I279=\"\",\"\",VLOOKUP($H$291,ECUACIONES!B40:E45,4,FALSE))","v":""},"global"]
[{"$f":"IF(C291=\"\",\"\",IF(C291<0,\"\",A291+1))","v":{"$error":"#VALUE!"}},{"$f":"IF(C291=\"\",\"\",IF(C291<0,\"\",B291+1))","v":{"$error":"#VALUE!"}},{"$f":"IF(B292=\"\",\"\",IF(A292>45,(C291-0.015),(C291+0.0166)))","v":{"$error":"#VALUE!"}}]
[{"$error":"#VALUE!"},{"$error":"#VALUE!"},{"$error":"#VALUE!"},null,null,null,null,"CURVA LACTACION"]
[{"$error":"#VALUE!"},{"$error":"#VALUE!"},{"$error":"#VALUE!"},null,null,null,null,"dias"]
[{"$error":"#VALUE!"},{"$error":"#VALUE!"},{"$error":"#VALUE!"},null,null,null,null,{"$f":"IF(I280=\"\",\"\",I280)","v":""},{"$f":"IF(H295=\"\",\"\",(($I$290-$J$290*H295)*2)/1000)","v":""}]
[{"$error":"#VALUE!"},{"$error":"#VALUE!"},{"$error":"#VALUE!"},null,null,null,null,{"$f":"IF(H295=\"\",\"\",H295+30)","v":""},""]
[{"$error":"#VALUE!"},{"$error":"#VALUE!"},{"$error":"#VALUE!"},null,null,null,null,{"$f":"IF(H296=\"\",\"\",H296+30)","v":""},""]
[{"$error":"#VALUE!"},{"$error":"#VALUE!"},{"$error":"#VALUE!"},null,null,null,null,"",""]
[{"$error":"#VALUE!"},{"$error":"#VALUE!"},{"$error":"#VALUE!"},null,null,null,null,"",""]
[{"$error":"#VALUE!"},{"$error":"#VALUE!"},{"$error":"#VALUE!"},null,null,null,null,"",""]
[{"$error":"#VALUE!"},{"$error":"#VALUE!"},{"$error":"#VALUE!"},null,null,null,null,"",""]
[{"$error":"#VALUE!"},{"$error":"#VALUE!"},{"$error":"#VALUE!"},null,null,null,null,"",""]
[{"$error":"#VALUE!"},{"$error":"#VALUE!"},{"$error":"#VALUE!"}]
[{"$error":"#VALUE!"},{"$error":"#VALUE!"},{"$error":"#VALUE!"}]
[{"$error":"#VALUE!"},{"$error":"#VALUE!"},{"$error":"#VALUE!"}]
[{"$error":"#VALUE!"},{"$error":"#VALUE!"},{"$error":"#VALUE!"}]
[{"$error":"#VALUE!"},{"$error":"#VALUE!"},{"$error":"#VALUE!"}]
[{"$error":"#VALUE!"},{"$error":"#VALUE!"},{"$error":"#VALUE!"}]
[{"$error":"#VALUE!"},{"$error":"#VALUE!"},{"$error":"#VALUE!"}]
[{"$error":"#VALUE!"},{"$error":"#VALUE!"},{"$error":"#VALUE!"}]
[{"$error":"#VALUE!"},{"$error":"#VALUE!"},{"$error":"#VALUE!"}]
[{"$error":"#VALUE!"},{"$error":"#VALUE!"},{"$error":"#VALUE!"}]
[{"$error":"#VALUE!"},{"$error":"#VALUE!"},{"$error":"#VALUE!"}]
[{"$error":"#VALUE!"},{"$error":"#VALUE!"},{"$error":"#VALUE!"}]
[{"$error":"#VALUE!"},{"$error":"#VALUE!"},{"$error":"#VALUE!"}]
[{"$error":"#VALUE!"},{"$error":"#VALUE!"},{"$error":"#VALUE!"}]
[{"$error":"#VALUE!"},{"$error":"#VALUE!"},{"$error":"#VALUE!"}]
[{"$error":"#VALUE!"},{"$error":"#VALUE!"},{"$error":"#VALUE!"}]
[{"$error":"#VALUE!"},{"$error":"#VALUE!"},{"$error":"#VALUE!"}]
[{"$error":"#VALUE!"},{"$error":"#VALUE!"},{"$error":"#VALUE!"}]
[{"$error":"#VALUE!"},{"$error":"#VALUE!"},{"$error":"#VALUE!"}]
[{"$error":"#VALUE!"},{"$error":"#VALUE!"},{"$error":"#VALUE!"}]
[{"$error":"#VALUE!"},{"$error":"#VALUE!"},{"$error":"#VALUE!"}]
[{"$error":"#VALUE!"},{"$error":"#VALUE!"},{"$error":"#VALUE!"}]
[{"$error":"#VALUE!"},{"$error":"#VALUE!"},{"$error":"#VALUE!"}]
[{"$error":"#VALUE!"},{"$error":"#VALUE!"},{"$error":"#VALUE!"}]
[{"$error":"#VALUE!"},{"$error":"#VALUE!"},{"$error":"#VALUE!"}]
[{"$error":"#VALUE!"},{"$error":"#VALUE!"},{"$error":"#VALUE!"}]
[{"$error":"#VALUE!"},{"$error":"#VALUE!"},{"$error":"#VALUE!"}]
[{"$error":"#VALUE!"},{"$error":"#VALUE!"},{"$error":"#VALUE!"}]
[{"$error":"#VALUE!"},{"$error":"#VALUE!"},{"$error":"#VALUE!"}]
[{"$error":"#VALUE!"},{"$error":"#VALUE!"},{"$error":"#VALUE!"}]
[{"$error":"#VALUE!"},{"$error":"#VALUE!"},{"$error":"#VALUE!"}]
[{"$error":"#VALUE!"},{"$error":"#VALUE!"},{"$error":"#VALUE!"}]
[{"$error":"#VALUE!"},{"$error":"#VALUE!"},{"$error":"#VALUE!"}]
[{"$error":"#VALUE!"},{"$error":"#VALUE!"},{"$error":"#VALUE!"}]
[{"$error":"#VALUE!"},{"$error":"#VALUE!"},{"$error":"#VALUE!"}]
[{"$error":"#VALUE!"},{"$error":"#VALUE!"},{"$error":"#VALUE!"}]
[{"$error":"#VALUE!"},{"$error":"#VALUE!"},{"$error":"#VALUE!"}]
[{"$error":"#VALUE!"},{"$error":"#VALUE!"},{"$error":"#VALUE!"}]
[{"$error":"#VALUE!"},{"$error":"#VALUE!"},{"$error":"#VALUE!"}]
[{"$error":"#VALUE!"},{"$error":"#VALUE!"},{"$error":"#VALUE!"}]
[{"$error":"#VALUE!"},{"$error":"#VALUE!"},{"$error":"#VALUE!"}]
[{"$error":"#VALUE!"},{"$error":"#VALUE!"},{"$error":"#VALUE!"}]
[{"$error":"#VALUE!"},{"$error":"#VALUE!"},{"$error":"#VALUE!"}]
[{"$error":"#VALUE!"},{"$error":"#VALUE!"},{"$error":"#VALUE!"}]
[{"$error":"#VALUE!"},{"$error":"#VALUE!"},{"$error":"#VALUE!"}]
[{"$error":"#VALUE!"},{"$error":"#VALUE!"},{"$error":"#VALUE!"}]
[{"$error":"#VALUE!"},{"$error":"#VALUE!"},{"$error":"#VALUE!"}]
[{"$error":"#VALUE!"},{"$error":"#VALUE!"},{"$error":"#VALUE!"}]
[{"$error":"#VALUE!"},{"$error":"#VALUE!"},{"$error":"#VALUE!"}]
[{"$error":"#VALUE!"},{"$error":"#VALUE!"},{"$error":"#VALUE!"}]
[{"$error":"#VALUE!"},{"$error":"#VALUE!"},{"$error":"#VALUE!"}]
[{"$error":"#VALUE!"},{"$error":"#VALUE!"},{"$error":"#VALUE!"}]
[{"$error":"#VALUE!"},{"$error":"#VALUE!"},{"$error":"#VALUE!"}]
[{"$f":"IF(C355=\"\",\"\",IF(C355<0,\"\",A355+1))","v":{"$error":"#VALUE!"}},{"$f":"IF(C355=\"\",\"\",IF(C355<0,\"\",B355+1))","v":{"$error":"#VALUE!"}},{"$f":"IF(B356=\"\",\"\",IF(A356>45,(C355-0.015),(C355+0.0166)))","v":{"$error":"#VALUE!"}}]
[{"$error":"#VALUE!"},{"$error":"#VALUE!"},{"$error":"#VALUE!"}]
[{"$error":"#VALUE!"},{"$error":"#VALUE!"},{"$error":"#VALUE!"}]
[{"$error":"#VALUE!"},{"$error":"#VALUE!"},{"$error":"#VALUE!"}]
[{"$error":"#VALUE!"},{"$error":"#VALUE!"},{"$error":"#VALUE!"}]
[{"$error":"#VALUE!"},{"$error":"#VALUE!"},{"$error":"#VALUE!"}]
[{"$error":"#VALUE!"},{"$error":"#VALUE!"},{"$error":"#VALUE!"}]
[{"$error":"#VALUE!"},{"$error":"#VALUE!"},{"$error":"#VALUE!"}]
[{"$error":"#VALUE!"},{"$error":"#VALUE!"},{"$error":"#VALUE!"}]
[{"$error":"#VALUE!"},{"$error":"#VALUE!"},{"$error":"#VALUE!"}]
[{"$error":"#VALUE!"},{"$error":"#VALUE!"},{"$error":"#VALUE!"}]
[{"$error":"#VALUE!"},{"$error":"#VALUE!"},{"$error":"#VALUE!"}]
[{"$error":"#VALUE!"},{"$error":"#VALUE!"},{"$error":"#VALUE!"}]
[{"$error":"#VALUE!"},{"$error":"#VALUE!"},{"$error":"#VALUE!"}]
[{"$error":"#VALUE!"},{"$error":"#VALUE!"},{"$error":"#VALUE!"}]
[{"$error":"#VALUE!"},{"$error":"#VALUE!"},{"$error":"#VALUE!"}]
[{"$error":"#VALUE!"},{"$error":"#VALUE!"},{"$error":"#VALUE!"}]
[{"$error":"#VALUE!"},{"$error":"#VALUE!"},{"$error":"#VALUE!"}]
[{"$error":"#VALUE!"},{"$error":"#VALUE!"},{"$error":"#VALUE!"}]
[{"$error":"#VALUE!"},{"$error":"#VALUE!"},{"$error":"#VALUE!"}]
[{"$error":"#VALUE!"},{"$error":"#VALUE!"},{"$error":"#VALUE!"}]
[{"$error":"#VALUE!"},{"$error":"#VALUE!"},{"$error":"#VALUE!"}]
[{"$error":"#VALUE!"},{"$error":"#VALUE!"},{"$error":"#VALUE!"}]
[{"$error":"#VALUE!"},{"$error":"#VALUE!"},{"$error":"#VALUE!"}]
[{"$error":"#VALUE!"},{"$error":"#VALUE!"},{"$error":"#VALUE!"}]
[{"$error":"#VALUE!"},{"$error":"#VALUE!"},{"$error":"#VALUE!"}]
[{"$error":"#VALUE!"},{"$error":"#VALUE!"},{"$error":"#VALUE!"}]
[{"$error":"#VALUE!"},{"$error":"#VALUE!"},{"$error":"#VALUE!"}]
[{"$error":"#VALUE!"},{"$error":"#VALUE!"},{"$error":"#VALUE!"}]
[{"$error":"#VALUE!"},{"$error":"#VALUE!"},{"$error":"#VALUE!"}]
[{"$error":"#VALUE!"},{"$error":"#VALUE!"},{"$error":"#VALUE!"}]
[{"$error":"#VALUE!"},{"$error":"#VALUE!"},{"$error":"#VALUE!"}]
[{"$error":"#VALUE!"},{"$error":"#VALUE!"},{"$error":"#VALUE!"}]
[{"$error":"#VALUE!"},{"$error":"#VALUE!"},{"$error":"#VALUE!"}]
[{"$error":"#VALUE!"},{"$error":"#VALUE!"},{"$error":"#VALUE!"}]
[{"$error":"#VALUE!"},{"$error":"#VALUE!"},{"$error":"#VALUE!"}]
[{"$error":"#VALUE!"},{"$error":"#VALUE!"},{"$error":"#VALUE!"}]
[{"$error":"#VALUE!"},{"$error":"#VALUE!"},{"$error":"#VALUE!"}]
[{"$error":"#VALUE!"},{"$error":"#VALUE!"},{"$error":"#VALUE!"}]
[{"$error":"#VALUE!"},{"$error":"#VALUE!"},{"$error":"#VALUE!"}]
[{"$error":"#VALUE!"},{"$error":"#VALUE!"},{"$error":"#VALUE!"}]
[{"$error":"#VALUE!"},{"$error":"#VALUE!"},{"$error":"#VALUE!"}]
[{"$error":"#VALUE!"},{"$error":"#VALUE!"},{"$error":"#VALUE!"}]
[{"$error":"#VALUE!"},{"$error":"#VALUE!"},{"$error":"#VALUE!"}]
[{"$error":"#VALUE!"},{"$error":"#VALUE!"},{"$error":"#VALUE!"}]
[{"$error":"#VALUE!"},{"$error":"#VALUE!"},{"$error":"#VALUE!"}]
[{"$error":"#VALUE!"},{"$error":"#VALUE!"},{"$error":"#VALUE!"}]
[{"$error":"#VALUE!"},{"$error":"#VALUE!"},{"$error":"#VALUE!"}]
[{"$error":"#VALUE!"},{"$error":"#VALUE!"},{"$error":"#VALUE!"}]
[{"$error":"#VALUE!"},{"$error":"#VALUE!"},{"$error":"#VALUE!"}]
[{"$error":"#VALUE!"},{"$error":"#VALUE!"},{"$error":"#VALUE!"}]
[{"$error":"#VALUE!"},{"$error":"#VALUE!"},{"$error":"#VALUE!"}]
[{"$error":"#VALUE!"},{"$error":"#VALUE!"},{"$error":"#VALUE!"}]
[{"$error":"#VALUE!"},{"$error":"#VALUE!"},{"$error":"#VALUE!"}]
[{"$f":"IF(C409=\"\",\"\",IF(C409<0,\"\",A409+1))","v":{"$error":"#VALUE!"}},{"$f":"IF(C409=\"\",\"\",IF(C409<0,\"\",B409+1))","v":{"$error":"#VALUE!"}},{"$error":"#VALUE!"}]
[{"$error":"#VALUE!"},{"$error":"#VALUE!"},{"$error":"#VALUE!"}]
[{"$error":"#VALUE!"},{"$error":"#VALUE!"},{"$error":"#VALUE!"}]
[{"$error":"#VALUE!"},{"$error":"#VALUE!"},{"$error":"#VALUE!"}]
[{"$error":"#VALUE!"},{"$error":"#VALUE!"},{"$error":"#VALUE!"}]
[{"$error":"#VALUE!"},{"$error":"#VALUE!"},{"$error":"#VALUE!"}]
[{"$error":"#VALUE!"},{"$error":"#VALUE!"},{"$error":"#VALUE!"}]
[{"$error":"#VALUE!"},{"$error":"#VALUE!"},{"$error":"#VALUE!"}]
[{"$error":"#VALUE!"},{"$error":"#VALUE!"},{"$error":"#VALUE!"}]
[{"$error":"#VALUE!"},{"$error":"#VALUE!"},{"$error":"#VALUE!"}]
[{"$error":"#VALUE!"},{"$error":"#VALUE!"},{"$f":"IF(B420=\"\",\"\",IF(A420>45,(C419-0.015),(C419+0.0166)))","v":{"$error":"#VALUE!"}}]
[{"$error":"#VALUE!"},{"$error":"#VALUE!"},{"$error":"#VALUE!"}]
[{"$error":"#VALUE!"},{"$error":"#VALUE!"},{"$error":"#VALUE!"}]
[{"$error":"#VALUE!"},{"$error":"#VALUE!"},{"$error":"#VALUE!"}]
[{"$error":"#VALUE!"},{"$error":"#VALUE!"},{"$error":"#VALUE!"}]
[{"$error":"#VALUE!"},{"$error":"#VALUE!"},{"$error":"#VALUE!"}]
[{"$error":"#VALUE!"},{"$error":"#VALUE!"},{"$error":"#VALUE!"}]
[{"$error":"#VALUE!"},{"$error":"#VALUE!"},{"$error":"#VALUE!"}]
[{"$error":"#VALUE!"},{"$error":"#VALUE!"},{"$error":"#VALUE!"}]
[{"$error":"#VALUE!"},{"$error":"#VALUE!"},{"$error":"#VALUE!"}]
[{"$error":"#VALUE!"},{"$error":"#VALUE!"},{"$error":"#VALUE!"}]
[{"$error":"#VALUE!"},{"$error":"#VALUE!"},{"$error":"#VALUE!"}]
[{"$error":"#VALUE!"},{"$error":"#VALUE!"},{"$error":"#VALUE!"}]
[{"$error":"#VALUE!"},{"$error":"#VALUE!"},{"$error":"#VALUE!"}]
[{"$error":"#VALUE!"},{"$error":"#VALUE!"},{"$error":"#VALUE!"}]
[{"$error":"#VALUE!"},{"$error":"#VALUE!"},{"$error":"#VALUE!"}]
[{"$error":"#VALUE!"},{"$error":"#VALUE!"},{"$error":"#VALUE!"}]
[{"$error":"#VALUE!"},{"$error":"#VALUE!"},{"$error":"#VALUE!"}]
[{"$error":"#VALUE!"},{"$error":"#VALUE!"},{"$error":"#VALUE!"}]
[{"$f":"IF(C438=\"\",\"\",IF(C438<0,\"\",A438+1))","v":{"$error":"#VALUE!"}},{"$f":"IF(C438=\"\",\"\",IF(C438<0,\"\",B438+1))","v":{"$error":"#VALUE!"}},{"$error":"#VALUE!"}]
[{"$error":"#VALUE!"},{"$error":"#VALUE!"},{"$error":"#VALUE!"}]
[{"$error":"#VALUE!"},{"$error":"#VALUE!"},{"$error":"#VALUE!"}]
[{"$error":"#VALUE!"},{"$error":"#VALUE!"},{"$error":"#VALUE!"}]
[{"$error":"#VALUE!"},{"$error":"#VALUE!"},{"$error":"#VALUE!"}]
[{"$error":"#VALUE!"},{"$error":"#VALUE!"},{"$error":"#VALUE!"}]
[{"$error":"#VALUE!"},{"$error":"#VALUE!"},{"$error":"#VALUE!"}]
[{"$error":"#VALUE!"},{"$error":"#VALUE!"},{"$error":"#VALUE!"}]
[{"$error":"#VALUE!"},{"$error":"#VALUE!"},{"$error":"#VALUE!"}]
[{"$error":"#VALUE!"},{"$error":"#VALUE!"},{"$error":"#VALUE!"}]
[{"$error":"#VALUE!"},{"$error":"#VALUE!"},{"$error":"#VALUE!"}]
[{"$error":"#VALUE!"},{"$error":"#VALUE!"},{"$error":"#VALUE!"}]
[{"$error":"#VALUE!"},{"$error":"#VALUE!"},{"$error":"#VALUE!"}]
[{"$error":"#VALUE!"},{"$error":"#VALUE!"},{"$error":"#VALUE!"}]
[{"$error":"#VALUE!"},{"$error":"#VALUE!"},{"$error":"#VALUE!"}]
[{"$error":"#VALUE!"},{"$error":"#VALUE!"},{"$error":"#VALUE!"}]
[{"$error":"#VALUE!"},{"$error":"#VALUE!"},{"$error":"#VALUE!"}]
[{"$error":"#VALUE!"},{"$error":"#VALUE!"},{"$error":"#VALUE!"}]
[{"$error":"#VALUE!"},{"$error":"#VALUE!"},{"$error":"#VALUE!"}]
[{"$error":"#VALUE!"},{"$error":"#VALUE!"},{"$error":"#VALUE!"}]
[{"$f":"IF(C458=\"\",\"\",IF(C458<0,\"\",A458+1))","v":{"$error":"#VALUE!"}},{"$f":"IF(C458=\"\",\"\",IF(C458<0,\"\",B458+1))","v":{"$error":"#VALUE!"}},{"$error":"#VALUE!"}]
[{"$f":"IF(C459=\"\",\"\",IF(C459<0,\"\",A459+1))","v":{"$error":"#VALUE!"}},{"$f":"IF(C459=\"\",\"\",IF(C459<0,\"\",B459+1))","v":{"$error":"#VALUE!"}},{"$error":"#VALUE!"}]
[{"$f":"IF(C460=\"\",\"\",IF(C460<0,\"\",A460+1))","v":{"$error":"#VALUE!"}},{"$f":"IF(C460=\"\",\"\",IF(C460<0,\"\",B460+1))","v":{"$error":"#VALUE!"}},{"$error":"#VALUE!"}]
[{"$f":"IF(C461=\"\",\"\",IF(C461<0,\"\",A461+1))","v":{"$error":"#VALUE!"}},{"$f":"IF(C461=\"\",\"\",IF(C461<0,\"\",B461+1))","v":{"$error":"#VALUE!"}},{"$error":"#VALUE!"}]
[{"$f":"IF(C462=\"\",\"\",IF(C462<0,\"\",A462+1))","v":{"$error":"#VALUE!"}},{"$f":"IF(C462=\"\",\"\",IF(C462<0,\"\",B462+1))","v":{"$error":"#VALUE!"}},{"$f":"IF(B463=\"\",\"\",IF(A463>45,(C462-0.015),(C462+0.0166)))","v":{"$error":"#VALUE!"}}]
[]
[]
[null,null,{"$f":"SUM(C289:C463)","v":{"$error":"#VALUE!"}}]
[]
[]
[]
[]
[]
[]
["CURVA DE LACTACION CABRA"]
[]
["DIAS LACTACION","FECHA","CABRA","DIAS SIMULACION","PRODUCCION SIMULACION"]
[{"$f":"IF('CURVA DE LACTACION CAPRINO'!C12=\"\",\"\",'CURVA DE LACTACION CAPRINO'!C12-'CURVA DE LACTACION CAPRINO'!C11)","v":""},{"$f":"IF('CURVA DE LACTACION CAPRINO'!C12=\"\",\"\",'CURVA DE LACTACION CAPRINO'!C12)","v":""},{"$f":"IF('CURVA DE LACTACION CAPRINO'!C13=\"\",\"\",'CURVA DE LACTACION CAPRINO'!C13)","v":""},{"$f":"'CURVA DE LACTACION CAPRINO'!C14-'CURVA DE LACTACION CAPRINO'!C11","v":0},{"$f":"VLOOKUP(D476,A487:C767,3,FALSE)","v":{"$error":"#N/A"}}]
[{"$f":"IF(A476=\"\",\"\",IF(A476>45,(A476+30),45))","v":""},{"$f":"IF(A477=\"\",\"\",(A477-A476)+B476)","v":""},{"$f":"IF(B477=\"\",\"\",IF($A476>45,C476-0.255,(((A477-A476)/10)*0.16)+C476))","v":""}]
[{"$f":"IF(A477=\"\",\"\",A477+30)","v":""},{"$f":"IF(B477=\"\",\"\",B477+30)","v":""},{"$f":"IF(B478=\"\",\"\",C477-0.255)","v":""}]
[{"$f":"IF(A478=\"\",\"\",A478+30)","v":""},"",{"$f":"IF(B479=\"\",\"\",C478-0.255)","v":""}]
["","",{"$f":"IF(B480=\"\",\"\",C479-0.255)","v":""}]
["",{"$f":"IF(B480=\"\",\"\",B480+30)","v":""},{"$f":"IF(B481=\"\",\"\",C480-0.255)","v":""}]
["",{"$f":"IF(B481=\"\",\"\",B481+30)","v":""},{"$f":"IF(B482=\"\",\"\",C481-0.255)","v":""}]
[]
["PRODUCCION"]
[]
[]
[{"$f":"B487-'CURVA DE LACTACION CAPRINO'!C11","v":{"$error":"#VALUE!"}},{"$f":"B476","v":""},{"$f":"C476","v":""}]
[{"$f":"B488-'CURVA DE LACTACION CAPRINO'!C11","v":{"$error":"#VALUE!"}},{"$f":"B487+1","v":{"$error":"#VALUE!"}},{"$f":"IF(A488>45,(C487-0.0085),(C487+0.015))","v":{"$error":"#VALUE!"}}]
[{"$f":"IF(C488=\"\",\"\",IF(C488<0,\"\",A488+1))","v":{"$error":"#VALUE!"}},{"$f":"IF(C488=\"\",\"\",IF(C488<0,\"\",B488+1))","v":{"$error":"#VALUE!"}},{"$f":"IF(B489=\"\",\"\",IF(A489>45,(C488-0.0085),(C488+0.015)))","v":{"$error":"#VALUE!"}}]
[{"$f":"IF(C489=\"\",\"\",IF(C489<0,\"\",A489+1))","v":{"$error":"#VALUE!"}},{"$f":"IF(C489=\"\",\"\",IF(C489<0,\"\",B489+1))","v":{"$error":"#VALUE!"}},{"$f":"IF(B490=\"\",\"\",IF(A490>45,(C489-0.0085),(C489+0.015)))","v":{"$error":"#VALUE!"}}]
[{"$error":"#VALUE!"},{"$error":"#VALUE!"},{"$error":"#VALUE!"}]
[{"$error":"#VALUE!"},{"$error":"#VALUE!"},{"$error":"#VALUE!"}]
[{"$error":"#VALUE!"},{"$error":"#VALUE!"},{"$error":"#VALUE!"}]
[{"$error":"#VALUE!"},{"$error":"#VALUE!"},{"$error":"#VALUE!"}]
[{"$error":"#VALUE!"},{"$error":"#VALUE!"},{"$error":"#VALUE!"}]
[{"$error":"#VALUE!"},{"$error":"#VALUE!"},{"$error":"#VALUE!"}]
[{"$error":"#VALUE!"},{"$error":"#VALUE!"},{"$error":"#VALUE!"}]
[{"$error":"#VALUE!"},{"$error":"#VALUE!"},{"$error":"#VALUE!"}]
[{"$error":"#VALUE!"},{"$error":"#VALUE!"},{"$error":"#VALUE!"}]
[{"$error":"#VALUE!"},{"$error":"#VALUE!"},{"$error":"#VALUE!"}]
[{"$error":"#VALUE!"},{"$error":"#VALUE!"},{"$error":"#VALUE!"}]
[{"$error":"#VALUE!"},{"$error":"#VALUE!"},{"$error":"#VALUE!"}]
[{"$error":"#VALUE!"},{"$error":"#VALUE!"},{"$error":"#VALUE!"}]
[{"$error":"#VALUE!"},{"$error":"#VALUE!"},{"$error":"#VALUE!"}]
[{"$error":"#VALUE!"},{"$error":"#VALUE!"},{"$error":"#VALUE!"}]
[{"$error":"#VALUE!"},{"$error":"#VALUE!"},{"$error":"#VALUE!"}]
[{"$error":"#VALUE!"},{"$error":"#VALUE!"},{"$error":"#VALUE!"}]
[{"$error":"#VALUE!"},{"$error":"#VALUE!"},{"$error":"#VALUE!"}]
[{"$error":"#VALUE!"},{"$error":"#VALUE!"},{"$error":"#VALUE!"}]
[{"$error":"#VALUE!"},{"$error":"#VALUE!"},{"$error":"#VALUE!"}]
[{"$error":"#VALUE!"},{"$error":"#VALUE!"},{"$error":"#VALUE!"}]
[{"$error":"#VALUE!"},{"$error":"#VALUE!"},{"$error":"#VALUE!"}]
[{"$error":"#VALUE!"},{"$error":"#VALUE!"},{"$error":"#VALUE!"}]
[{"$error":"#VALUE!"},{"$error":"#VALUE!"},{"$error":"#VALUE!"}]
[{"$error":"#VALUE!"},{"$error":"#VALUE!"},{"$error":"#VALUE!"}]
[{"$error":"#VALUE!"},{"$error":"#VALUE!"},{"$error":"#VALUE!"}]
[{"$error":"#VALUE!"},{"$error":"#VALUE!"},{"$error":"#VALUE!"}]
[{"$error":"#VALUE!"},{"$error":"#VALUE!"},{"$error":"#VALUE!"}]
[{"$error":"#VALUE!"},{"$error":"#VALUE!"},{"$error":"#VALUE!"}]
[{"$error":"#VALUE!"},{"$error":"#VALUE!"},{"$error":"#VALUE!"}]
[{"$error":"#VALUE!"},{"$error":"#VALUE!"},{"$error":"#VALUE!"}]
[{"$error":"#VALUE!"},{"$error":"#VALUE!"},{"$error":"#VALUE!"}]
[{"$error":"#VALUE!"},{"$error":"#VALUE!"},{"$error":"#VALUE!"}]
[{"$error":"#VALUE!"},{"$error":"#VALUE!"},{"$error":"#VALUE!"}]
[{"$error":"#VALUE!"},{"$error":"#VALUE!"},{"$error":"#VALUE!"}]
[{"$error":"#VALUE!"},{"$error":"#VALUE!"},{"$error":"#VALUE!"}]
[{"$error":"#VALUE!"},{"$error":"#VALUE!"},{"$error":"#VALUE!"}]
[{"$error":"#VALUE!"},{"$error":"#VALUE!"},{"$error":"#VALUE!"}]
[{"$error":"#VALUE!"},{"$error":"#VALUE!"},{"$error":"#VALUE!"}]
[{"$error":"#VALUE!"},{"$error":"#VALUE!"},{"$error":"#VALUE!"}]
[{"$error":"#VALUE!"},{"$error":"#VALUE!"},{"$error":"#VALUE!"}]
[{"$error":"#VALUE!"},{"$error":"#VALUE!"},{"$error":"#VALUE!"}]
[{"$error":"#VALUE!"},{"$error":"#VALUE!"},{"$error":"#VALUE!"}]
[{"$error":"#VALUE!"},{"$error":"#VALUE!"},{"$error":"#VALUE!"}]
[{"$error":"#VALUE!"},{"$error":"#VALUE!"},{"$error":"#VALUE!"}]
[{"$error":"#VALUE!"},{"$error":"#VALUE!"},{"$error":"#VALUE!"}]
[{"$error":"#VALUE!"},{"$error":"#VALUE!"},{"$error":"#VALUE!"}]
[{"$error":"#VALUE!"},{"$error":"#VALUE!"},{"$error":"#VALUE!"}]
[{"$error":"#VALUE!"},{"$error":"#VALUE!"},{"$error":"#VALUE!"}]
[{"$error":"#VALUE!"},{"$error":"#VALUE!"},{"$error":"#VALUE!"}]
[{"$error":"#VALUE!"},{"$error":"#VALUE!"},{"$error":"#VALUE!"}]
[{"$error":"#VALUE!"},{"$error":"#VALUE!"},{"$error":"#VALUE!"}]
[{"$error":"#VALUE!"},{"$error":"#VALUE!"},{"$error":"#VALUE!"}]
[{"$error":"#VALUE!"},{"$error":"#VALUE!"},{"$error":"#VALUE!"}]
[{"$error":"#VALUE!"},{"$error":"#VALUE!"},{"$error":"#VALUE!"}]
[{"$error":"#VALUE!"},{"$error":"#VALUE!"},{"$error":"#VALUE!"}]
[{"$error":"#VALUE!"},{"$error":"#VALUE!"},{"$error":"#VALUE!"}]
[{"$error":"#VALUE!"},{"$error":"#VALUE!"},{"$error":"#VALUE!"}]
[{"$error":"#VALUE!"},{"$error":"#VALUE!"},{"$error":"#VALUE!"}]
[{"$error":"#VALUE!"},{"$error":"#VALUE!"},{"$error":"#VALUE!"}]
[{"$error":"#VALUE!"},{"$error":"#VALUE!"},{"$error":"#VALUE!"}]
[{"$error":"#VALUE!"},{"$error":"#VALUE!"},{"$error":"#VALUE!"}]
[{"$error":"#VALUE!"},{"$error":"#VALUE!"},{"$error":"#VALUE!"}]
[{"$f":"IF(C553=\"\",\"\",IF(C553<0,\"\",A553+1))","v":{"$error":"#VALUE!"}},{"$f":"IF(C553=\"\",\"\",IF(C553<0,\"\",B553+1))","v":{"$error":"#VALUE!"}},{"$f":"IF(B554=\"\",\"\",IF(A554>45,(C553-0.0085),(C553+0.015)))","v":{"$error":"#VALUE!"}}]
[{"$error":"#VALUE!"},{"$error":"#VALUE!"},{"$error":"#VALUE!"}]
[{"$error":"#VALUE!"},{"$error":"#VALUE!"},{"$error":"#VALUE!"}]
[{"$error":"#VALUE!"},{"$error":"#VALUE!"},{"$error":"#VALUE!"}]
[{"$error":"#VALUE!"},{"$error":"#VALUE!"},{"$error":"#VALUE!"}]
[{"$error":"#VALUE!"},{"$error":"#VALUE!"},{"$error":"#VALUE!"}]
[{"$error":"#VALUE!"},{"$error":"#VALUE!"},{"$error":"#VALUE!"}]
[{"$error":"#VALUE!"},{"$error":"#VALUE!"},{"$error":"#VALUE!"}]
[{"$error":"#VALUE!"},{"$error":"#VALUE!"},{"$error":"#VALUE!"}]
[{"$error":"#VALUE!"},{"$error":"#VALUE!"},{"$error":"#VALUE!"}]
[{"$error":"#VALUE!"},{"$error":"#VALUE!"},{"$error":"#VALUE!"}]
[{"$error":"#VALUE!"},{"$error":"#VALUE!"},{"$error":"#VALUE!"}]
[{"$error":"#VALUE!"},{"$error":"#VALUE!"},{"$error":"#VALUE!"}]
[{"$error":"#VALUE!"},{"$error":"#VALUE!"},{"$error":"#VALUE!"}]
[{"$error":"#VALUE!"},{"$error":"#VALUE!"},{"$error":"#VALUE!"}]
[{"$error":"#VALUE!"},{"$error":"#VALUE!"},{"$error":"#VALUE!"}]
[{"$error":"#VALUE!"},{"$error":"#VALUE!"},{"$error":"#VALUE!"}]
[{"$error":"#VALUE!"},{"$error":"#VALUE!"},{"$error":"#VALUE!"}]
[{"$error":"#VALUE!"},{"$error":"#VALUE!"},{"$error":"#VALUE!"}]
[{"$error":"#VALUE!"},{"$error":"#VALUE!"},{"$error":"#VALUE!"}]
[{"$error":"#VALUE!"},{"$error":"#VALUE!"},{"$error":"#VALUE!"}]
[{"$error":"#VALUE!"},{"$error":"#VALUE!"},{"$error":"#VALUE!"}]
[{"$error":"#VALUE!"},{"$error":"#VALUE!"},{"$error":"#VALUE!"}]
[{"$error":"#VALUE!"},{"$error":"#VALUE!"},{"$error":"#VALUE!"}]
[{"$error":"#VALUE!"},{"$error":"#VALUE!"},{"$error":"#VALUE!"}]
[{"$error":"#VALUE!"},{"$error":"#VALUE!"},{"$error":"#VALUE!"}]
[{"$error":"#VALUE!"},{"$error":"#VALUE!"},{"$error":"#VALUE!"}]
[{"$error":"#VALUE!"},{"$error":"#VALUE!"},{"$error":"#VALUE!"}]
[{"$error":"#VALUE!"},{"$error":"#VALUE!"},{"$error":"#VALUE!"}]
[{"$error":"#VALUE!"},{"$error":"#VALUE!"},{"$error":"#VALUE!"}]
[{"$error":"#VALUE!"},{"$error":"#VALUE!"},{"$error":"#VALUE!"}]
[{"$error":"#VALUE!"},{"$error":"#VALUE!"},{"$error":"#VALUE!"}]
[{"$error":"#VALUE!"},{"$error":"#VALUE!"},{"$error":"#VALUE!"}]
[{"$error":"#VALUE!"},{"$error":"#VALUE!"},{"$error":"#VALUE!"}]
[{"$error":"#VALUE!"},{"$error":"#VALUE!"},{"$error":"#VALUE!"}]
[{"$error":"#VALUE!"},{"$error":"#VALUE!"},{"$error":"#VALUE!"}]
[{"$error":"#VALUE!"},{"$error":"#VALUE!"},{"$error":"#VALUE!"}]
[{"$error":"#VALUE!"},{"$error":"#VALUE!"},{"$error":"#VALUE!"}]
[{"$error":"#VALUE!"},{"$error":"#VALUE!"},{"$error":"#VALUE!"}]
[{"$error":"#VALUE!"},{"$error":"#VALUE!"},{"$error":"#VALUE!"}]
[{"$error":"#VALUE!"},{"$error":"#VALUE!"},{"$error":"#VALUE!"}]
[{"$error":"#VALUE!"},{"$error":"#VALUE!"},{"$error":"#VALUE!"}]
[{"$error":"#VALUE!"},{"$error":"#VALUE!"},{"$error":"#VALUE!"}]
[{"$error":"#VALUE!"},{"$error":"#VALUE!"},{"$error":"#VALUE!"}]
[{"$error":"#VALUE!"},{"$error":"#VALUE!"},{"$error":"#VALUE!"}]
[{"$error":"#VALUE!"},{"$error":"#VALUE!"},{"$error":"#VALUE!"}]
[{"$error":"#VALUE!"},{"$error":"#VALUE!"},{"$error":"#VALUE!"}]
[{"$error":"#VALUE!"},{"$error":"#VALUE!"},{"$error":"#VALUE!"}]
[{"$error":"#VALUE!"},{"$error":"#VALUE!"},{"$error":"#VALUE!"}]
[{"$error":"#VALUE!"},{"$error":"#VALUE!"},{"$error":"#VALUE!"}]
[{"$error":"#VALUE!"},{"$error":"#VALUE!"},{"$error":"#VALUE!"}]
[{"$error":"#VALUE!"},{"$error":"#VALUE!"},{"$error":"#VALUE!"}]
[{"$error":"#VALUE!"},{"$error":"#VALUE!"},{"$error":"#VALUE!"}]
[{"$error":"#VALUE!"},{"$error":"#VALUE!"},{"$error":"#VALUE!"}]
[{"$f":"IF(C607=\"\",\"\",IF(C607<0,\"\",A607+1))","v":{"$error":"#VALUE!"}},{"$f":"IF(C607=\"\",\"\",IF(C607<0,\"\",B607+1))","v":{"$error":"#VALUE!"}},{"$f":"IF(B608=\"\",\"\",IF(A608>45,(C607-0.0085),(C607+0.015)))","v":{"$error":"#VALUE!"}}]
[{"$error":"#VALUE!"},{"$error":"#VALUE!"},{"$error":"#VALUE!"}]
[{"$error":"#VALUE!"},{"$error":"#VALUE!"},{"$error":"#VALUE!"}]
[{"$error":"#VALUE!"},{"$error":"#VALUE!"},{"$error":"#VALUE!"}]
[{"$error":"#VALUE!"},{"$error":"#VALUE!"},{"$error":"#VALUE!"}]
[{"$error":"#VALUE!"},{"$error":"#VALUE!"},{"$error":"#VALUE!"}]
[{"$error":"#VALUE!"},{"$error":"#VALUE!"},{"$error":"#VALUE!"}]
[{"$error":"#VALUE!"},{"$error":"#VALUE!"},{"$error":"#VALUE!"}]
[{"$error":"#VALUE!"},{"$error":"#VALUE!"},{"$error":"#VALUE!"}]
[{"$error":"#VALUE!"},{"$error":"#VALUE!"},{"$error":"#VALUE!"}]
[{"$error":"#VALUE!"},{"$error":"#VALUE!"},{"$error":"#VALUE!"}]
[{"$error":"#VALUE!"},{"$error":"#VALUE!"},{"$error":"#VALUE!"}]
[{"$error":"#VALUE!"},{"$error":"#VALUE!"},{"$error":"#VALUE!"}]
[{"$error":"#VALUE!"},{"$error":"#VALUE!"},{"$error":"#VALUE!"}]
[{"$error":"#VALUE!"},{"$error":"#VALUE!"},{"$error":"#VALUE!"}]
[{"$error":"#VALUE!"},{"$error":"#VALUE!"},{"$error":"#VALUE!"}]
[{"$error":"#VALUE!"},{"$error":"#VALUE!"},{"$error":"#VALUE!"}]
[{"$error":"#VALUE!"},{"$error":"#VALUE!"},{"$error":"#VALUE!"}]
[{"$error":"#VALUE!"},{"$error":"#VALUE!"},{"$error":"#VALUE!"}]
[{"$error":"#VALUE!"},{"$error":"#VALUE!"},{"$error":"#VALUE!"}]
[{"$error":"#VALUE!"},{"$error":"#VALUE!"},{"$error":"#VALUE!"}]
[{"$error":"#VALUE!"},{"$error":"#VALUE!"},{"$error":"#VALUE!"}]
[{"$error":"#VALUE!"},{"$error":"#VALUE!"},{"$error":"#VALUE!"}]
[{"$error":"#VALUE!"},{"$error":"#VALUE!"},{"$error":"#VALUE!"}]
[{"$error":"#VALUE!"},{"$error":"#VALUE!"},{"$error":"#VALUE!"}]
[{"$f":"IF(C632=\"\",\"\",IF(C632<0,\"\",A632+1))","v":{"$error":"#VALUE!"}},{"$f":"IF(C632=\"\",\"\",IF(C632<0,\"\",B632+1))","v":{"$error":"#VALUE!"}},{"$f":"IF(B633=\"\",\"\",IF(A633>45,(C632-0.0085),(C632+0.015)))","v":{"$error":"#VALUE!"}}]
[{"$error":"#VALUE!"},{"$error":"#VALUE!"},{"$error":"#VALUE!"}]
[{"$error":"#VALUE!"},{"$error":"#VALUE!"},{"$error":"#VALUE!"}]
[{"$error":"#VALUE!"},{"$error":"#VALUE!"},{"$error":"#VALUE!"}]
[{"$error":"#VALUE!"},{"$error":"#VALUE!"},{"$error":"#VALUE!"}]
[{"$error":"#VALUE!"},{"$error":"#VALUE!"},{"$error":"#VALUE!"}]
[{"$error":"#VALUE!"},{"$error":"#VALUE!"},{"$error":"#VALUE!"}]
[{"$error":"#VALUE!"},{"$error":"#VALUE!"},{"$error":"#VALUE!"}]
[{"$error":"#VALUE!"},{"$error":"#VALUE!"},{"$error":"#VALUE!"}]
[{"$error":"#VALUE!"},{"$error":"#VALUE!"},{"$error":"#VALUE!"}]
[{"$error":"#VALUE!"},{"$error":"#VALUE!"},{"$error":"#VALUE!"}]
[{"$error":"#VALUE!"},{"$error":"#VALUE!"},{"$error":"#VALUE!"}]
[{"$error":"#VALUE!"},{"$error":"#VALUE!"},{"$error":"#VALUE!"}]
[{"$error":"#VALUE!"},{"$error":"#VALUE!"},{"$error":"#VALUE!"}]
[{"$error":"#VALUE!"},{"$error":"#VALUE!"},{"$error":"#VALUE!"}]
[{"$error":"#VALUE!"},{"$error":"#VALUE!"},{"$error":"#VALUE!"}]
[{"$error":"#VALUE!"},{"$error":"#VALUE!"},{"$error":"#VALUE!"}]
[{"$error":"#VALUE!"},{"$error":"#VALUE!"},{"$error":"#VALUE!"}]
[{"$error":"#VALUE!"},{"$error":"#VALUE!"},{"$error":"#VALUE!"}]
[{"$error":"#VALUE!"},{"$error":"#VALUE!"},{"$error":"#VALUE!"}]
[{"$error":"#VALUE!"},{"$error":"#VALUE!"},{"$error":"#VALUE!"}]
[{"$error":"#VALUE!"},{"$error":"#VALUE!"},{"$error":"#VALUE!"}]
[{"$error":"#VALUE!"},{"$error":"#VALUE!"},{"$error":"#VALUE!"}]
[{"$error":"#VALUE!"},{"$error":"#VALUE!"},{"$error":"#VALUE!"}]
[{"$error":"#VALUE!"},{"$error":"#VALUE!"},{"$error":"#VALUE!"}]
[{"$error":"#VALUE!"},{"$error":"#VALUE!"},{"$error":"#VALUE!"}]
[{"$error":"#VALUE!"},{"$error":"#VALUE!"},{"$error":"#VALUE!"}]
[{"$error":"#VALUE!"},{"$error":"#VALUE!"},{"$error":"#VALUE!"}]
[{"$error":"#VALUE!"},{"$error":"#VALUE!"},{"$error":"#VALUE!"}]
[{"$error":"#VALUE!"},{"$error":"#VALUE!"},{"$error":"#VALUE!"}]
[{"$error":"#VALUE!"},{"$error":"#VALUE!"},{"$error":"#VALUE!"}]
[{"$error":"#VALUE!"},{"$error":"#VALUE!"},{"$error":"#VALUE!"}]
[{"$error":"#VALUE!"},{"$error":"#VALUE!"},{"$error":"#VALUE!"}]
[{"$error":"#VALUE!"},{"$error":"#VALUE!"},{"$error":"#VALUE!"}]
[{"$error":"#VALUE!"},{"$error":"#VALUE!"},{"$error":"#VALUE!"}]
[{"$error":"#VALUE!"},{"$error":"#VALUE!"},{"$error":"#VALUE!"}]
[{"$error":"#VALUE!"},{"$error":"#VALUE!"},{"$error":"#VALUE!"}]
[{"$error":"#VALUE!"},{"$error":"#VALUE!"},{"$error":"#VALUE!"}]
[{"$error":"#VALUE!"},{"$error":"#VALUE!"},{"$error":"#VALUE!"}]
[{"$error":"#VALUE!"},{"$error":"#VALUE!"},{"$error":"#VALUE!"}]
[{"$error":"#VALUE!"},{"$error":"#VALUE!"},{"$error":"#VALUE!"}]
[{"$error":"#VALUE!"},{"$error":"#VALUE!"},{"$error":"#VALUE!"}]
[{"$error":"#VALUE!"},{"$error":"#VALUE!"},{"$error":"#VALUE!"}]
[{"$f":"IF(C675=\"\",\"\",IF(C675<0,\"\",A675+1))","v":{"$error":"#VALUE!"}},{"$f":"IF(C675=\"\",\"\",IF(C675<0,\"\",B675+1))","v":{"$error":"#VALUE!"}},{"$f":"IF(B676=\"\",\"\",IF(A676>45,(C675-0.0085),(C675+0.015)))","v":{"$error":"#VALUE!"}}]
[{"$error":"#VALUE!"},{"$error":"#VALUE!"},{"$error":"#VALUE!"}]
[{"$error":"#VALUE!"},{"$error":"#VALUE!"},{"$error":"#VALUE!"}]
[{"$error":"#VALUE!"},{"$error":"#VALUE!"},{"$error":"#VALUE!"}]
[{"$error":"#VALUE!"},{"$error":"#VALUE!"},{"$error":"#VALUE!"}]
[{"$error":"#VALUE!"},{"$error":"#VALUE!"},{"$error":"#VALUE!"}]
[{"$error":"#VALUE!"},{"$error":"#VALUE!"},{"$error":"#VALUE!"}]
[{"$error":"#VALUE!"},{"$error":"#VALUE!"},{"$error":"#VALUE!"}]
[{"$error":"#VALUE!"},{"$error":"#VALUE!"},{"$error":"#VALUE!"}]
[{"$error":"#VALUE!"},{"$error":"#VALUE!"},{"$error":"#VALUE!"}]
[{"$error":"#VALUE!"},{"$error":"#VALUE!"},{"$error":"#VALUE!"}]
[{"$error":"#VALUE!"},{"$error":"#VALUE!"},{"$error":"#VALUE!"}]
[{"$error":"#VALUE!"},{"$error":"#VALUE!"},{"$error":"#VALUE!"}]
[{"$error":"#VALUE!"},{"$error":"#VALUE!"},{"$error":"#VALUE!"}]
[{"$error":"#VALUE!"},{"$error":"#VALUE!"},{"$error":"#VALUE!"}]
[{"$error":"#VALUE!"},{"$error":"#VALUE!"},{"$error":"#VALUE!"}]
[{"$error":"#VALUE!"},{"$error":"#VALUE!"},{"$error":"#VALUE!"}]
[{"$error":"#VALUE!"},{"$error":"#VALUE!"},{"$error":"#VALUE!"}]
[{"$error":"#VALUE!"},{"$error":"#VALUE!"},{"$error":"#VALUE!"}]
[{"$error":"#VALUE!"},{"$error":"#VALUE!"},{"$error":"#VALUE!"}]
[{"$error":"#VALUE!"},{"$error":"#VALUE!"},{"$error":"#VALUE!"}]
[{"$error":"#VALUE!"},{"$error":"#VALUE!"},{"$error":"#VALUE!"}]
[{"$error":"#VALUE!"},{"$error":"#VALUE!"},{"$error":"#VALUE!"}]
[{"$error":"#VALUE!"},{"$error":"#VALUE!"},{"$error":"#VALUE!"}]
[{"$error":"#VALUE!"},{"$error":"#VALUE!"},{"$error":"#VALUE!"}]
[{"$error":"#VALUE!"},{"$error":"#VALUE!"},{"$error":"#VALUE!"}]
[{"$error":"#VALUE!"},{"$error":"#VALUE!"},{"$error":"#VALUE!"}]
[{"$f":"IF(C702=\"\",\"\",IF(C702<0,\"\",A702+1))","v":{"$error":"#VALUE!"}},{"$f":"IF(C702=\"\",\"\",IF(C702<0,\"\",B702+1))","v":{"$error":"#VALUE!"}},{"$f":"IF(B703=\"\",\"\",IF(A703>45,(C702-0.0085),(C702+0.015)))","v":{"$error":"#VALUE!"}}]
[{"$error":"#VALUE!"},{"$error":"#VALUE!"},{"$error":"#VALUE!"}]
[{"$error":"#VALUE!"},{"$error":"#VALUE!"},{"$error":"#VALUE!"}]
[{"$error":"#VALUE!"},{"$error":"#VALUE!"},{"$error":"#VALUE!"}]
[{"$error":"#VALUE!"},{"$error":"#VALUE!"},{"$error":"#VALUE!"}]
[{"$error":"#VALUE!"},{"$error":"#VALUE!"},{"$error":"#VALUE!"}]
[{"$error":"#VALUE!"},{"$error":"#VALUE!"},{"$error":"#VALUE!"}]
[{"$error":"#VALUE!"},{"$error":"#VALUE!"},{"$error":"#VALUE!"}]
[{"$error":"#VALUE!"},{"$error":"#VALUE!"},{"$error":"#VALUE!"}]
[{"$error":"#VALUE!"},{"$error":"#VALUE!"},{"$error":"#VALUE!"}]
[{"$error":"#VALUE!"},{"$error":"#VALUE!"},{"$error":"#VALUE!"}]
[{"$error":"#VALUE!"},{"$error":"#VALUE!"},{"$error":"#VALUE!"}]
[{"$error":"#VALUE!"},{"$error":"#VALUE!"},{"$error":"#VALUE!"}]
[{"$error":"#VALUE!"},{"$error":"#VALUE!"},{"$error":"#VALUE!"}]
[{"$error":"#VALUE!"},{"$error":"#VALUE!"},{"$error":"#VALUE!"}]
[{"$error":"#VALUE!"},{"$error":"#VALUE!"},{"$error":"#VALUE!"}]
[{"$error":"#VALUE!"},{"$error":"#VALUE!"},{"$error":"#VALUE!"}]
[{"$error":"#VALUE!"},{"$error":"#VALUE!"},{"$error":"#VALUE!"}]
[{"$f":"IF(C720=\"\",\"\",IF(C720<0,\"\",A720+1))","v":{"$error":"#VALUE!"}},{"$f":"IF(C720=\"\",\"\",IF(C720<0,\"\",B720+1))","v":{"$error":"#VALUE!"}},{"$f":"IF(B721=\"\",\"\",IF(A721>45,(C720-0.0085),(C720+0.015)))","v":{"$error":"#VALUE!"}}]
[{"$error":"#VALUE!"},{"$error":"#VALUE!"},{"$error":"#VALUE!"}]
[{"$error":"#VALUE!"},{"$error":"#VALUE!"},{"$error":"#VALUE!"}]
[{"$error":"#VALUE!"},{"$error":"#VALUE!"},{"$error":"#VALUE!"}]
[{"$error":"#VALUE!"},{"$error":"#VALUE!"},{"$error":"#VALUE!"}]
[{"$error":"#VALUE!"},{"$error":"#VALUE!"},{"$error":"#VALUE!"}]
[{"$error":"#VALUE!"},{"$error":"#VALUE!"},{"$error":"#VALUE!"}]
[{"$error":"#VALUE!"},{"$error":"#VALUE!"},{"$error":"#VALUE!"}]
[{"$error":"#VALUE!"},{"$error":"#VALUE!"},{"$error":"#VALUE!"}]
[{"$error":"#VALUE!"},{"$error":"#VALUE!"},{"$error":"#VALUE!"}]
[{"$error":"#VALUE!"},{"$error":"#VALUE!"},{"$error":"#VALUE!"}]
[{"$error":"#VALUE!"},{"$error":"#VALUE!"},{"$error":"#VALUE!"}]
[{"$error":"#VALUE!"},{"$error":"#VALUE!"},{"$error":"#VALUE!"}]
[{"$f":"IF(C733=\"\",\"\",IF(C733<0,\"\",A733+1))","v":{"$error":"#VALUE!"}},{"$f":"IF(C733=\"\",\"\",IF(C733<0,\"\",B733+1))","v":{"$error":"#VALUE!"}},{"$f":"IF(B734=\"\",\"\",IF(A734>45,(C733-0.0085),(C733+0.015)))","v":{"$error":"#VALUE!"}}]
[{"$error":"#VALUE!"},{"$error":"#VALUE!"},{"$error":"#VALUE!"}]
[{"$error":"#VALUE!"},{"$error":"#VALUE!"},{"$error":"#VALUE!"}]
[{"$error":"#VALUE!"},{"$error":"#VALUE!"},{"$error":"#VALUE!"}]
[{"$error":"#VALUE!"},{"$error":"#VALUE!"},{"$error":"#VALUE!"}]
[{"$error":"#VALUE!"},{"$error":"#VALUE!"},{"$error":"#VALUE!"}]
[{"$error":"#VALUE!"},{"$error":"#VALUE!"},{"$error":"#VALUE!"}]
[{"$error":"#VALUE!"},{"$error":"#VALUE!"},{"$error":"#VALUE!"}]
[{"$error":"#VALUE!"},{"$error":"#VALUE!"},{"$error":"#VALUE!"}]
[{"$error":"#VALUE!"},{"$error":"#VALUE!"},{"$error":"#VALUE!"}]
[{"$error":"#VALUE!"},{"$error":"#VALUE!"},{"$error":"#VALUE!"}]
[{"$error":"#VALUE!"},{"$error":"#VALUE!"},{"$error":"#VALUE!"}]
[{"$error":"#VALUE!"},{"$error":"#VALUE!"},{"$error":"#VALUE!"}]
[{"$error":"#VALUE!"},{"$error":"#VALUE!"},{"$error":"#VALUE!"}]
[{"$error":"#VALUE!"},{"$error":"#VALUE!"},{"$error":"#VALUE!"}]
[{"$error":"#VALUE!"},{"$error":"#VALUE!"},{"$error":"#VALUE!"}]
[{"$error":"#VALUE!"},{"$error":"#VALUE!"},{"$error":"#VALUE!"}]
[{"$error":"#VALUE!"},{"$error":"#VALUE!"},{"$error":"#VALUE!"}]
[{"$error":"#VALUE!"},{"$error":"#VALUE!"},{"$error":"#VALUE!"}]
[{"$error":"#VALUE!"},{"$error":"#VALUE!"},{"$error":"#VALUE!"}]
[{"$f":"IF(C753=\"\",\"\",IF(C753<0,\"\",A753+1))","v":{"$error":"#VALUE!"}},{"$f":"IF(C753=\"\",\"\",IF(C753<0,\"\",B753+1))","v":{"$error":"#VALUE!"}},{"$f":"IF(B754=\"\",\"\",IF(A754>45,(C753-0.0085),(C753+0.015)))","v":{"$error":"#VALUE!"}}]
[{"$error":"#VALUE!"},{"$error":"#VALUE!"},{"$error":"#VALUE!"}]
[{"$error":"#VALUE!"},{"$error":"#VALUE!"},{"$error":"#VALUE!"}]
[{"$error":"#VALUE!"},{"$error":"#VALUE!"},{"$error":"#VALUE!"}]
[{"$error":"#VALUE!"},{"$error":"#VALUE!"},{"$error":"#VALUE!"}]
[{"$error":"#VALUE!"},{"$error":"#VALUE!"},{"$error":"#VALUE!"}]
[{"$error":"#VALUE!"},{"$error":"#VALUE!"},{"$error":"#VALUE!"}]
[{"$error":"#VALUE!"},{"$error":"#VALUE!"},{"$error":"#VALUE!"}]
[{"$error":"#VALUE!"},{"$error":"#VALUE!"},{"$error":"#VALUE!"}]
[{"$error":"#VALUE!"},{"$error":"#VALUE!"},{"$error":"#VALUE!"}]
[{"$error":"#VALUE!"},{"$error":"#VALUE!"},{"$error":"#VALUE!"}]
[{"$error":"#VALUE!"},{"$error":"#VALUE!"},{"$error":"#VALUE!"}]
[{"$error":"#VALUE!"},{"$error":"#VALUE!"},{"$error":"#VALUE!"}]
[{"$error":"#VALUE!"},{"$error":"#VALUE!"},{"$error":"#VALUE!"}]
[]
[]
[null,null,{"$f":"SUM(C487:C767)","v":{"$error":"#VALUE!"}}]
[]
[]
[]
[]
["VALORACION ALIMENTOS INRA 2007"]
[]
[]
["VALORES ENERGIA"]
[]
[]
[]
[null,"ALIMENTO A VALORAR"]
[null,{"$f":"IF('VALORACION ALIMENTOS INRA'!C18=\"\",\"\",'VALORACION ALIMENTOS INRA'!C18)","v":""}]
[]
[]
[null,"MATERIA SECA",{"$f":"'VALORACION ALIMENTOS INRA'!D19","v":0}]
[null,null,"SSS","SSF"]
[null,"FIBRA BRUTA",{"$f":"IF($C$786=\"\",\"\",D788/$C$786)","v":{"$error":"#DIV/0!"}},{"$f":"'VALORACION ALIMENTOS INRA'!D21","v":0},"%"]
[null,"PROTEINA BRUTA",{"$f":"IF($C$786=\"\",\"\",D789/$C$786)","v":{"$error":"#DIV/0!"}},{"$f":"'VALORACION ALIMENTOS INRA'!D22","v":0},"%"]
[null,"GRASA BRUTA",{"$f":"IF($C$786=\"\",\"\",D790/$C$786)","v":{"$error":"#DIV/0!"}},{"$f":"'VALORACION ALIMENTOS INRA'!D23","v":0},"%"]
[null,"CENIZAS",{"$f":"IF($C$786=\"\",\"\",D791/$C$786)","v":{"$error":"#DIV/0!"}},{"$f":"'VALORACION ALIMENTOS INRA'!D24","v":0},"%"]
[]
[]
[null,null,"SSS","SSF"]
[null,"ENERGIA BRUTA",{"$f":"IF($B$783=\"\",\"\",(VLOOKUP($B$783,$B$818:$O$838,5,FALSE)))","v":""},{"$f":"IF($B$783=\"\",\"\",C795*$C$786)","v":""},"Kcal"]
[null,"ENERGIA DIGESTIBLE",{"$f":"IF($B$783=\"\",\"\",(VLOOKUP($B$783,$B$818:$O$838,6,FALSE)))","v":""},{"$f":"IF($B$783=\"\",\"\",C796*$C$786)","v":""},"Kcal"]
[null,"ENERGIA METABOLIZABLE",{"$f":"IF($B$783=\"\",\"\",(VLOOKUP($B$783,$B$818:$O$838,9,FALSE)))","v":""},"","Kcal"]
[null,"ENERGIA NETA LACTACION",{"$f":"IF($B$783=\"\",\"\",$C$797*C806)","v":""},"","Kcal"]
[null,"ENERGIA NETA MANT Y CEBO",{"$f":"IF($B$783=\"\",\"\",$C$797*C807)","v":""},"","Kcal"]
[null,"UFL",{"$f":"IF($B$783=\"\",\"\",C798/1700)","v":""},""]
[null,"UFC",{"$f":"IF($B$783=\"\",\"\",C799/1820)","v":""},""]
[]
[]
[null,"dE",{"$f":"IF($B$783=\"\",\"\",(VLOOKUP($B$783,$B$818:$O$838,3,FALSE)))","v":""}]
[null,"NA",{"$f":"IF($B$783=\"\",\"\",(VLOOKUP($B$783,$B$818:$O$838,7,FALSE)))","v":""}]
[null,"kl",{"$f":"IF($B$783=\"\",\"\",(VLOOKUP($B$783,$B$818:$O$838,14,FALSE)))","v":""}]
[null,"kmf",{"$f":"IF($B$783=\"\",\"\",(VLOOKUP($B$783,$B$818:$O$838,11,FALSE)))","v":""}]
[null,"q",{"$f":"IF($B$783=\"\",\"\",(VLOOKUP($B$783,$B$818:$O$838,10,FALSE)))","v":""}]
[]
[null,null,"gr/KgMS","gr/KgMO"]
[null,"fb",{"$f":"C788*1000","v":{"$error":"#DIV/0!"}},{"$f":"IF(C811=\"\",\"\",C811/(1-($C$814/1000)))","v":{"$error":"#DIV/0!"}}]
[null,"pb",{"$f":"C789*1000","v":{"$error":"#DIV/0!"}},{"$f":"IF(C812=\"\",\"\",C812/(1-($C$814/1000)))","v":{"$error":"#DIV/0!"}}]
[null,"gb",{"$f":"C790*1000","v":{"$error":"#DIV/0!"}},{"$f":"IF(C813=\"\",\"\",C813/(1-($C$814/1000)))","v":{"$error":"#DIV/0!"}}]
[null,"mm",{"$f":"C791*1000","v":{"$error":"#DIV/0!"}},{"$f":"IF(C814=\"\",\"\",C814/(1-($C$814/1000)))","v":{"$error":"#DIV/0!"}}]
[]
[]
[null,null,"dMO","dE","EB(smo)","EB(sss)","ED (sss)","NA","EM/ED","EM","q","kl","km","kf","kmf"]
[null,"PRADERA PERMANENTE VERDE",{"$f":"IF(B783=\"\",\"\",90.1-(0.095*C811)+(0.044*C812))","v":""},{"$f":"IF(B783=\"\",\"\",(0.957*C818)-0.068)/100","v":{"$error":"#VALUE!"}},{"$f":"IF(B783=\"\",\"\",4531+(1.735*$C$812)-11)","v":""},{"$f":"IF($B$783=\"\",\"\",(E818*(1000-$C$814))/1000)","v":""},{"$f":"IF($B$783=\"\",\"\",F818*D818)","v":""},1.7,{"$f":"IF($B$783=\"\",\"\",(84.17-(0.0099*$D$811)-(0.0196*$D$812)+(2.2*H818))/100)","v":""},{"$f":"IF($B$783=\"\",\"\",G818*I818)","v":""},{"$f":"IF($B$783=\"\",\"\",J818/F818)","v":""},{"$f":"IF($B$783=\"\",\"\",0.6+(0.24*(K818-0.57)))","v":""},{"$f":"IF($B$783=\"\",\"\",(0.287*K818)+0.554)","v":""},{"$f":"IF($B$783=\"\",\"\",(0.78*K818)+0.006)","v":""},{"$f":"IF($B$783=\"\",\"\",(M818*N818*1.5)/(N818+(0.5*M818)))","v":""}]
[null,"FORRAJE GRAMINEAS VERDE",{"$f":"IF(B783=\"\",\"\",90.8-(0.091*C811)+(0.035*C812))","v":""},{"$f":"IF(B783=\"\",\"\",(0.957*C819)-0.068)/100","v":{"$error":"#VALUE!"}},{"$f":"IF(B783=\"\",\"\",4531+(1.735*$C$812)-71)","v":""},"","",1.7,"",{"$f":"IF($B$783=\"\",\"\",G819*I819)","v":""},"",{"$f":"IF($B$783=\"\",\"\",0.6+(0.24*(K819-0.57)))","v":""},{"$f":"IF($B$783=\"\",\"\",(0.287*K819)+0.554)","v":""},{"$f":"IF($B$783=\"\",\"\",(0.78*K819)+0.006)","v":""},{"$f":"IF($B$783=\"\",\"\",(M819*N819*1.5)/(N819+(0.5*M819)))","v":""}]
[null,"LEGUMINOSA FORRAJERA VERDE",{"$f":"IF(B783=\"\",\"\",95.5-(0.101*$C$811))","v":""},{"$f":"IF(B783=\"\",\"\",(0.957*C820)-0.068)/100","v":{"$error":"#VALUE!"}},{"$f":"IF(B783=\"\",\"\",4531+(1.735*$C$812)+82)","v":""},"","",1.7,"","","","","","",""]
[null,"MAIZ FORRAJERO",{"$f":"IF(B783=\"\",\"\",90.8-(0.091*$C$811)+(0.035*$C$812))","v":""},{"$f":"IF(B783=\"\",\"\",(0.997*C821)-2.35)/100","v":{"$error":"#VALUE!"}},{"$f":"IF(B783=\"\",\"\",4487+(2.019*$C$812))","v":""},"","",1.2,"","","","","","",""]
[null,"SILO PRADERA PERMANENTE",{"$f":"IF(B783=\"\",\"\",105.1-(0.123*$C$811))","v":""},{"$f":"IF(B783=\"\",\"\",(1.0263*C822)-5.723)/100","v":{"$error":"#VALUE!"}},{"$f":"IF(B783=\"\",\"\",3910+(2.45*$C$812)+(169*3.5))","v":""},"","",1.5,"","","","","","",""]
[null,"SILO GRAMINEAS",{"$f":"IF(B783=\"\",\"\",114.51-(0.153*$C$811))","v":""},{"$f":"IF(B783=\"\",\"\",(1.0263*C823)-5.723)/100","v":{"$error":"#VALUE!"}},{"$f":"IF(B783=\"\",\"\",3910+(2.45*$C$812)+(169*3.5))","v":""},"","",1.5,"","","","","","",""]
[null,"SILO LEGUMINOSAS",{"$f":"IF(B783=\"\",\"\",96.2-(0.102*$C$811))","v":""},{"$f":"IF(B783=\"\",\"\",(1.0263*C824)-5.723)/100","v":{"$error":"#VALUE!"}},{"$f":"IF(B783=\"\",\"\",3910+(2.45*$C$812)+(169*3.5))","v":""},"","",1.5,"","","","","","",""]
[null,"SILO MAIZ",{"$f":"IF(B783=\"\",\"\",114.51-(0.153*$C$811))","v":""},{"$f":"IF(B783=\"\",\"\",((1.01*C825)-2.86)/100)","v":""},{"$f":"IF(B783=\"\",\"\",IF(C786<30,1.02*(4487+(2.019*C812)),(4487+(2.019*$C$812))+25))","v":""},"","",1.2,"","","","","","",""]
[null,"HENO PRADERA PERMANENTE",{"$f":"IF(B783=\"\",\"\",56.5-(0.022*$C$811)+(0.104*$C$812))","v":""},{"$f":"IF(B783=\"\",\"\",((0.985*C826)-2.556)/100)","v":""},{"$f":"IF(B783=\"\",\"\",4531+(1.735*$C$812)+82)","v":""},"","",1.35,"","","","","","",""]
[null,"HENO GRAMINEAS",{"$f":"IF(B783=\"\",\"\",93.2-(0.104*$C$811)+(0.025*$C$812))","v":""},{"$f":"IF(B783=\"\",\"\",((0.985*C827)-2.556)/100)","v":""},{"$f":"IF(B783=\"\",\"\",4531+(1.735*$C$812)+82)","v":""},"","",1.35,"","","","","","",""]
[null,"HENO LEGUMINOSAS",{"$f":"IF(B783=\"\",\"\",78.9-(0.059*$C$811))","v":""},{"$f":"IF(B783=\"\",\"\",((0.985*C828)-2.556)/100)","v":""},{"$f":"IF(B783=\"\",\"\",4531+(1.735*$C$812)+82)","v":""},"","",1.35,"","","","","","",""]
[null,"ALFALFAS DESHIDRATADAS",{"$f":"IF(B783=\"\",\"\",78.9-(0.059*$C811))","v":""},{"$f":"IF(B783=\"\",\"\",((1.003*C829)-3)/100)","v":""},{"$f":"IF(B783=\"\",\"\",4618+(2.051*$C$812))","v":""},"","",1.35,"","","","","","",""]
[null,"PAJAS (NORMALES O TRATADAS)",{"$f":"IF(B783=\"\",\"\",93.2-(0.104*$C$811)+(0.025*$C$812))","v":""},{"$f":"IF(B783=\"\",\"\",((0.985*C830)-2.949)/100)","v":""},{"$f":"IF(B783=\"\",\"\",4531+(1.735*$C$812+82))","v":""},"","",0.75,"","","","","","",""]
[null,"CEREALES Y SUBPRODUCTOS",{"$f":"IF(B783=\"\",\"\",95.8-(0.191*$C$811)-2.54)","v":""},{"$f":"IF(B783=\"\",\"\",((C831-3.5+(0.0046*$C$812)+(0.0155*$C$813))/100))","v":""},{"$f":"IF(B783=\"\",\"\",4134+(1.473*$C$812)+(5.239*$C$813)+(0.925*$C811)-(4.44*$C$814))","v":""},"","",1,"","","","","","",""]
[null,"MAIZ Y SUBPRODUCTOS",{"$f":"IF(B783=\"\",\"\",95.8-(0.191*$C$811)+2.54)","v":""},{"$f":"IF(B783=\"\",\"\",((C832-3.5+(0.0046*$C$812)+(0.0155*$C$813))/100))","v":""},{"$f":"IF(B783=\"\",\"\",4134+(1.473*$C$812)+(5.239*$C$813)+(0.925*$C$811)-(4.44*$C$814))","v":""},"","",1,"","","","","","",""]
[null,"TORTA DE COLZA, GIRASOL",{"$f":"IF(B783=\"\",\"\",97.51-(0.14981*$C$811))","v":""},{"$f":"IF(B783=\"\",\"\",((C833-2.9+(0.0051*$C$812))/100))","v":""},{"$f":"IF(B783=\"\",\"\",4134+(1.473*$C$812)+(5.239*$C$813)+(0.925*$C$811)-(4.44*$C$814))","v":""},"","",1,"","","","","","",""]
[null,"SEMILLA ALGODÓN",{"$f":"IF(B783=\"\",\"\",97.51-(0.14981*$C$811))","v":""},{"$f":"IF(B783=\"\",\"\",((C834-3.5+(0.0046*$C$812)+(0.0155*$C$813))/100))","v":""},{"$f":"IF(B783=\"\",\"\",4134+(1.473*$C$812)+(5.239*$C$813)+(0.925*$C$811)-(4.44*$C$814))","v":""},"","",1,"","","","","","",""]
[null,"TORTA DE SOJA",{"$f":"IF(B783=\"\",\"\",87.75-(0.03114*$C$811)+6.22)","v":""},{"$f":"IF(B783=\"\",\"\",((C835-2.9+(0.0051*$C$812))/100))","v":""},{"$f":"IF(B783=\"\",\"\",4134+(1.473*$C$812)+(5.239*$C$813)+(0.925*$C$811)-(4.44*$C$814))","v":""},"","",1,"","","","","","",""]
[null,"GRANOS LEGUMINOSAS",{"$f":"IF(B783=\"\",\"\",87.75-(0.03114*$C$811)+6.22)","v":""},{"$f":"IF(B783=\"\",\"\",((C836-3.5+(0.0046*$C$812)+(0.0155*$C$813))/100))","v":""},{"$f":"IF(B783=\"\",\"\",4134+(1.473*$C$812)+(5.239*$C$813)+(0.925*$C$811)-(4.44*$C$814))","v":""},"","",1,"","","","","","",""]
[null,"PULPA REMOLACHA",{"$f":"IF(B783=\"\",\"\",87.2-(0.0951*($C$811-166.9)))","v":""},{"$f":"IF(B783=\"\",\"\",((C837-3.5+(0.0046*$C$812)+(0.0155*$C$813))/100))","v":""},{"$f":"IF(B783=\"\",\"\",4134+(1.473*$C$812)+(5.239*$C$813)+(0.925*$C$811)-(4.44*$C$814))","v":""},"","",1,"","","","","","",""]
[null,"PIENSOS COMPUESTOS",{"$f":"IF(B783=\"\",\"\",95.8-(0.191*$C$811)-2.54)","v":""},{"$f":"IF(B783=\"\",\"\",((C838-3.5+(0.0046*$C$812)+(0.0155*$C$813))/100))","v":""},{"$f":"IF(B783=\"\",\"\",4134+(1.473*$C$812)+(5.239*$C$812)+(0.925*$C$813)-(4.44*$C$814))","v":""},"","",1,"","","","","","",""]
[]
[]
[]
["PROTEINA (PDI)"]
[]
[null,"ALIMENTO A VALORAR"]
[null,{"$f":"'ENLACES DATOS'!B783","v":""}]
[]
[]
[null,"MATERIA SECA",{"$f":"C786","v":0}]
[null,null,"SSS","SSF"]
[null,"FIBRA BRUTA",{"$f":"IF(B845=\"\",\"\",D850/$C$848)","v":""},{"$f":"'VALORACION ALIMENTOS INRA'!D21","v":0},"%"]
[null,"PROTEINA BRUTA",{"$f":"IF(B845=\"\",\"\",D851/$C$848)","v":""},{"$f":"'VALORACION ALIMENTOS INRA'!D22","v":0},"%"]
[null,"GRASA BRUTA",{"$f":"IF(B845=\"\",\"\",D852/$C$848)","v":""},{"$f":"'VALORACION ALIMENTOS INRA'!D23","v":0},"%"]
[null,"CENIZAS",{"$f":"IF(B845=\"\",\"\",D853/$C$848)","v":""},{"$f":"'VALORACION ALIMENTOS INRA'!D24","v":0},"%"]
[]
[null,null,"SSS","SSF"]
[]
[null,"PDIE",{"$f":"IF($B$845=\"\",\"\",C861+C859)","v":""},{"$f":"IF($B$845=\"\",\"\",C857*$C$848)","v":""}]
[null,"PDIN",{"$f":"IF(B845=\"\",\"\",C862+C859)","v":""},{"$f":"IF($B$845=\"\",\"\",C858*$C$848)","v":""}]
[null,"PDIA",{"$f":"IF(B845=\"\",\"\",(C873*(1.11*(1-C867)))*C866)","v":""},""]
[]
[null,"PDIME",{"$f":"IF(B845=\"\",\"\",C865*0.093)","v":""}]
[null,"PDIMN",{"$f":"IF(B845=\"\",\"\",(C873*(1-(1.11*(1-C867)))*0.576))","v":""}]
[]
[]
[null,"MATRIA ORGANICA FERMENCESTIBLE (MOF)",{"$f":"IF(B845=\"\",\"\",((1000-C875)*C868))-(C874)-((C873)*(1-C867))","v":{"$error":"#VALUE!"}},"SSS"]
[null,"DIGESTIBILIDAD REAL (dr)",{"$f":"IF($B$845=\"\",\"\",(VLOOKUP($B$845,$B$878:$G$912,6,FALSE)/100))","v":""}]
[null,"DEGRADABILIDAD TEORICA (DT)",{"$f":"IF($B$845=\"\",\"\",(VLOOKUP($B$845,$B$878:$G$912,2,FALSE)/100))","v":""}]
[null,"DIGESTIBILIDAD M.O. (dMO)",{"$f":"IF($B$845=\"\",\"\",(VLOOKUP($B$845,$B$878:$G$912,4,FALSE)/100))","v":""}]
[]
[]
[null,"PB)2",{"$f":"POWER((C851*1000),2)","v":{"$error":"#VALUE!"}}]
[null,"FB",{"$f":"IF(B845=\"\",\"\",C850*1000)","v":""}]
[null,"PB",{"$f":"IF(B845=\"\",\"\",C851*1000)","v":""}]
[null,"gb",{"$f":"IF(B845=\"\",\"\",C852*1000)","v":""}]
[null,"mm",{"$f":"IF(B845=\"\",\"\",C853*1000)","v":""}]
[]
[null,null,"DT","INC","dMO","PANDI","dr"]
[null,"MAIZ FORRAJERO",{"$f":"IF($B$845=\"\",\"\",(51.2+(0.14*$C$873)-(0.00017*$C$871)+D878))","v":""},8.8000000000000007,{"$f":"IF($B$845=\"\",\"\",90.8-(0.091*$C$872+(0.035*$C$873)))","v":""},{"$f":"7.9+(0.08*$C$873)-(0.00033*$C$871)-1.9-2.3-2","v":{"$error":"#VALUE!"}},{"$f":"100*(1.11*(1-(C878/100)/100)*$C$873-F878)/(1.11*(1-(C878/100)/100)*(($C$873)))","v":{"$error":"#VALUE!"}}]
[null,"FORRAJE GRAMINEAS VERDE",{"$f":"IF($B$845=\"\",\"\",(51.2+(0.14*$C$873)-(0.00017*$C$871)+D879))","v":""},4.5999999999999996,{"$f":"IF($B$845=\"\",\"\",90.8-(0.091*$C$872+(0.035*$C$873)))","v":""},{"$f":"7.9+(0.08*$C$873)-(0.00033*$C$871)-2.3-2","v":{"$error":"#VALUE!"}},{"$error":"#VALUE!"}]
[null,"LEGUMINOSA FORRAJERA VERDE",{"$f":"IF($B$845=\"\",\"\",(51.2+(0.14*$C$873)-(0.00017*$C$871)+D880))","v":""},6.8,{"$f":"IF($B$845=\"\",\"\",95.5-(0.101*$C$872))","v":""},{"$f":"7.9+(0.08*$C$873)-(0.00033*$C$871)-2","v":{"$error":"#VALUE!"}},{"$error":"#VALUE!"}]
[null,"PRADERA PERMANENTE VERDE",{"$f":"IF($B$845=\"\",\"\",(51.2+(0.14*$C$873)-(0.00017*$C$871)+D881))","v":""},4.4000000000000004,{"$f":"IF($B$845=\"\",\"\",90.1-(0.095*$C$872)+(0.044*$C$873))","v":""},{"$f":"7.9+(0.08*$C$873)-(0.00033*$C$871)-1.9-2.3-2","v":{"$error":"#VALUE!"}},{"$error":"#VALUE!"}]
[null,"PRADERAS OPERMANENTES OTROS CICLOS VERDE",{"$f":"IF($B$845=\"\",\"\",(51.2+(0.14*$C$873)-(0.00017*$C$871)+D882))","v":""},0,{"$f":"IF($B$845=\"\",\"\",90.1-(0.095*$C$872)+(0.044*$C$873))","v":""},{"$f":"7.9+(0.08*$C$873)-(0.00033*$C$871)-2.3-2","v":{"$error":"#VALUE!"}},{"$error":"#VALUE!"}]
[null,"GRAMINEA 1º CICLO SILO",{"$f":"IF($B$845=\"\",\"\",(73.7+(0.088*$C$873)-(0.00011*$C$871)-(0.25*$C$848)+D883))","v":""},4.9000000000000004,{"$f":"IF($B$813=\"\",\"\",114.51-(0.153*$C$872))","v":{"$error":"#VALUE!"}},{"$f":"7.9+(0.08*$C$873)-(0.00033*$C$871)-1.9-2.3","v":{"$error":"#VALUE!"}},{"$error":"#VALUE!"}]
[null,"SILO GRAMINEAS",{"$f":"IF($B$845=\"\",\"\",(73.7+(0.088*$C$873)-(0.00011*$C$871)-(0.25*$C$848)+D884))","v":""},2.5,{"$f":"IF($B$813=\"\",\"\",114.51-(0.153*$C$872))","v":{"$error":"#VALUE!"}},{"$f":"7.9+(0.08*$C$873)-(0.00033*$C$871)-2.3","v":{"$error":"#VALUE!"}},{"$error":"#VALUE!"}]
[null,"SILO LEGUMINOSAS",{"$f":"IF($B$845=\"\",\"\",(73.7+(0.088*$C$873)-(0.00011*$C$871)-(0.25*$C$848)+D885))","v":""},4.2,{"$f":"IF($B$845=\"\",\"\",96.2-(0.102*$C$872))","v":""},{"$f":"7.9+(0.08*$C$873)-(0.00033*$C$871)","v":{"$error":"#VALUE!"}},{"$error":"#VALUE!"}]
[null,"PRADERA PERMANENTE 1º CICLO SILO",{"$f":"IF($B$845=\"\",\"\",(73.7+(0.088*$C$873)-(0.00011*$C$871)-(0.25*$C$848)+D886))","v":""},2.5,{"$f":"IF($B$845=\"\",\"\",105.1-(0.123*$C$872))","v":""},{"$f":"7.9+(0.08*$C$873)-(0.00033*$C$871)-1.9-2.3","v":{"$error":"#VALUE!"}},{"$error":"#VALUE!"}]
[null,"SILO PRADERA PERMANENTE",{"$f":"IF($B$845=\"\",\"\",(73.7+(0.088*$C$873)-(0.00011*$C$871)-(0.25*$C$848)+D887))","v":""},0,{"$f":"IF($B$845=\"\",\"\",105.1-(0.123*$C$872))","v":""},{"$f":"7.9+(0.08*$C$873)-(0.00033*$C$871)-2.3","v":{"$error":"#VALUE!"}},{"$error":"#VALUE!"}]
[null,"GRAMINEA 1º CICLO HENO",{"$f":"IF($B$845=\"\",\"\",(50.8+(0.12*$C$873)-(0.00018*$C$871)+D888))","v":""},6.2,{"$f":"IF($B$845=\"\",\"\",93.2-(0.104*$C$872)+(0.025*$C$873))","v":""},{"$f":"7.9+(0.08*$C$873)-(0.00033*$C$871)-1.9-2.3","v":{"$error":"#VALUE!"}},{"$error":"#VALUE!"}]
[null,"HENO GRAMINEAS",{"$f":"IF($B$845=\"\",\"\",(50.8+(0.12*$C$873)-(0.00018*$C$871)+D889))","v":""},3.2,{"$f":"IF($B$845=\"\",\"\",93.2-(0.104*$C$872)+(0.025*$C$873))","v":""},{"$f":"7.9+(0.08*$C$873)-(0.00033*$C$871)-2.3","v":{"$error":"#VALUE!"}},{"$error":"#VALUE!"}]
[null,"HENO LEGUMINOSAS",{"$f":"IF($B$845=\"\",\"\",(50.8+(0.12*$C$873)-(0.00018*$C$871)+D890))","v":""},5,{"$f":"IF($B$845=\"\",\"\",78.9-(0.059*$C$872))","v":""},{"$f":"7.9+(0.08*$C$873)-(0.00033*$C$871)","v":{"$error":"#VALUE!"}},{"$error":"#VALUE!"}]
[null,"HENO PRADERA PERMANENTE",{"$f":"IF($B$845=\"\",\"\",(50.8+(0.12*$C$873)-(0.00018*$C$871)+D891))","v":""},1.9,{"$f":"IF($B$845=\"\",\"\",56.5-(0.022*$C$872)+(0.104*$C$873))","v":""},{"$f":"7.9+(0.08*$C$873)-(0.00033*$C$871)-1.9-2.3","v":{"$error":"#VALUE!"}},{"$error":"#VALUE!"}]
[null,"PRADERAS OPERMANENTES OTROS CICLOS HENO",{"$f":"IF($B$845=\"\",\"\",(50.8+(0.12*$C$873)-(0.00018*$C$871)+D892))","v":""},0,{"$f":"IF($B$845=\"\",\"\",56.5-(0.022*$C$872)+(0.104*$C$873))","v":""},{"$f":"7.9+(0.08*$C$873)-(0.00033*$C$871)-2.3","v":{"$error":"#VALUE!"}},{"$error":"#VALUE!"}]
[null,"PAJAS (NORMALES O TRATADAS)",60,null,{"$f":"IF($B$845=\"\",\"\",56.5-(0.022*$C$872)+(0.104*$C$873))","v":""},null,70]
[null,"SILO MAIZ",72,null,{"$f":"IF($B$845=\"\",\"\",114.51-(0.153*$C$872))","v":""},null,70]
[null,"SILO DE MAIZ CAÑAS",78,null,{"$f":"IF($B$845=\"\",\"\",114.51-(0.153*$C$872))","v":""},null,60]
[null,"SILO TRIGO INMADURO",72,null,{"$f":"IF($B$845=\"\",\"\",114.51-(0.153*$C$872))","v":""},null,70]
[null,"SILO GUISANTE",70,null,{"$f":"IF($B$845=\"\",\"\",96.2-(0.102*$C$872))","v":""},null,70]
[null,"REMOLACHA",85,null,{"$f":"IF($B$845=\"\",\"\",87.2-(0.0951*($C$872-166.9)))","v":""},null,85]
[null,"ZANAHORIAS",85,null,"",null,80]
[null,"PATATAS",65,null,"",null,85]
[null,"PULPA REMOLACHA SILO",60,null,"",null,80]
[null,"HOJAS Y CUELLOS REMOLACHA",75,null,"",null,80]
[null,"PULPA PATATA",65,null,"",null,95]
[null,"CEREALES Y SUBPRODUCTOS",75,null,{"$f":"IF($B$845=\"\",\"\",95.8-(0.191*$C$872)-2.54)","v":""},null,90]
[null,"MAIZ Y SUBPRODUCTOS",56,null,{"$f":"IF($B$845=\"\",\"\",95.8-(0.191*$C$872)-2.54)","v":""},null,93]
[null,"TORTA DE COLZA, GIRASOL",60,null,{"$f":"IF($B$845=\"\",\"\",97.51-(0.14981*$C$872))","v":""},null,85]
[null,"SEMILLA ALGODÓN",37,null,{"$f":"IF($B$845=\"\",\"\",97.51-(0.14981*$C$872))","v":""},null,85]
[null,"TORTA DE SOJA",67,null,{"$f":"IF($B$845=\"\",\"\",87.75-(0.03114*$C$872)+6.22)","v":""},null,95]
[null,"GRANOS LEGUMINOSAS",76,null,{"$f":"IF($B$845=\"\",\"\",87.75-(0.03114*$C$872)+6.22)","v":""},null,85]
[null,"PULPA REMOLACHA",59,null,{"$f":"IF($B$845=\"\",\"\",87.2-(0.0951*($C$872-166.9)))","v":""},null,85]
[null,"PIENSOS COMPUESTOS",72,null,{"$f":"IF($B$845=\"\",\"\",((95.8-(0.191*$C$872)-2.54)*0.77)+(87.75-(0.03114*$C$872)+6.22)*0.23)","v":""},null,92]
[null,"ALFALFAS DESHIDRATADAS",{"$f":"IF($C$33=\"\",\"\",(50.8+(0.12*$C$131)-(0.00018*$C$129)+D912))","v":55.777499999999996},5,{"$f":"IF($B$845=\"\",\"\",78.9-(0.059*$C$872))","v":""},{"$f":"7.9+(0.08*$C$131)-(0.00033*$C$129)","v":7.8587500000000006},92]
[]
[]
[]
[]
[]
[]
["COMPARATIVA KOMPLET"]
[]
[{"$f":"'COMPARATIVA KOMPLET'!B8","v":"PRECIO EQ (Euros/grado)"},{"$f":"'COMPARATIVA KOMPLET'!C8","v":0},null,"COSTE","BENEFICIO"]
[{"$f":"'COMPARATIVA KOMPLET'!B9","v":"LITROS"},{"$f":"'COMPARATIVA KOMPLET'!C9","v":0},"TRADICIONAL",{"$f":"F930","v":0},{"$f":"C937-D922","v":0}]
[{"$f":"'COMPARATIVA KOMPLET'!B10","v":"GRASA"},{"$f":"'COMPARATIVA KOMPLET'!C10","v":0},"KOMPLET",{"$f":"F933","v":0},{"$f":"C938-D923","v":0}]
[{"$f":"'COMPARATIVA KOMPLET'!B11","v":"PROTEINA"},{"$f":"'COMPARATIVA KOMPLET'!C11","v":0}]
[{"$f":"'COMPARATIVA KOMPLET'!B12","v":"EXTRA KOMPLET"},{"$f":"'COMPARATIVA KOMPLET'!C12","v":0}]
[]
[null,"TRADICIONAL",{"$f":"'COMPARATIVA KOMPLET'!B15","v":"PAJA"},{"$f":"'COMPARATIVA KOMPLET'!C15","v":0},{"$f":"'COMPARATIVA KOMPLET'!D15","v":0},{"$f":"((D927/1000)*E927)","v":0}]
[null,null,{"$f":"'COMPARATIVA KOMPLET'!B16","v":"ALFALFA HENO/FORRAJE/UNIFEED"},{"$f":"'COMPARATIVA KOMPLET'!C16","v":0},{"$f":"'COMPARATIVA KOMPLET'!D16","v":0},{"$f":"((D928/1000)*E928)","v":0}]
[null,null,{"$f":"'COMPARATIVA KOMPLET'!B17","v":"CONCENTRADO"},{"$f":"'COMPARATIVA KOMPLET'!C17","v":0},{"$f":"'COMPARATIVA KOMPLET'!D17","v":0},{"$f":"((D929/1000)*E929)","v":0}]
[null,null,null,null,null,{"$f":"SUM(F927:F929)","v":0}]
[null,"KOMPLET",{"$f":"'COMPARATIVA KOMPLET'!B20","v":"PAJA"},{"$f":"'COMPARATIVA KOMPLET'!C20","v":0},{"$f":"'COMPARATIVA KOMPLET'!D20","v":0},{"$f":"((D931/1000)*E931)","v":0}]
[null,null,{"$f":"'COMPARATIVA KOMPLET'!B21","v":"KOMPLET"},{"$f":"'COMPARATIVA KOMPLET'!C21","v":0},{"$f":"'COMPARATIVA KOMPLET'!D21","v":0},{"$f":"((D932/1000)*E932)","v":0}]
[null,null,null,null,null,{"$f":"SUM(F931:F932)","v":0}]
[]
[null,"PRODUCCION EQ TRADICIONAL",{"$f":"((B922*(B923+B924)*1000))","v":0}]
[null,"PRODUCCION EQ KOMPLET",{"$f":"C935*(1+B925)","v":0}]
[null,"INGRESOS TRADICIONAL",{"$f":"C935*(B921/1000)","v":0}]
[null,"INGRESOS KOMPLET",{"$f":"C936*(B921/1000)","v":0}]
[null,"BENEFICIO KOMPLET",{"$f":"E923-E922","v":0}]
[]
[null,"PRECIO KOMPLET + BENEFICIO",{"$f":"F932+C939","v":0}]
[null,"PRECIO ALFALFA - BENEFICIO",{"$f":"F928-C939","v":0}]
[]
[null,"PRECIO UMBRAL KOMPLET",{"$f":"(C941/E932)*1000","v":{"$error":"#DIV/0!"}}]
[null,"PRECIO UMBRAL ALFALFA",{"$f":"(C942/E928)*1000","v":{"$error":"#DIV/0!"}}]
[]
[null,"MARGEN KOMPLET",{"$f":"IF('COMPARATIVA KOMPLET'!C28=\"\",\"\",C944-D932)","v":""}]
[]
["ELECCION  PRODUCTO KOMPLET"]
[]
[null,"DATOS ANIMALES"]
["OBJETIVOS PRODUCTIVOS",{"$f":"'PRODUCTOS KOMPLET'!C8","v":0}]
[null,{"$f":"'PRODUCTOS KOMPLET'!C9","v":0}]
["PREPARTO",{"$f":"'PRODUCTOS KOMPLET'!C11","v":0}]
["PRODUCCION EFICAZ",{"$f":"'PRODUCTOS KOMPLET'!C10","v":0}]
["MEJORA CALIDAD"]
["ESTADO CORPORAL"]
["RECRIA"]
[]
[]
["PAJA"]
["HENO"]
["SILO"]
[]
["ESPECIE","RAZA","OBJETIVO","FORRAJE","CONCATENAR","PIENSO"]
["CAPRINO","FLORIDA","PREPARTO","PAJA",{"$f":"CONCATENATE(A966,B966,C966,D966)","v":"CAPRINOFLORIDAPREPARTOPAJA"},413]
["CAPRINO","FLORIDA","PREPARTO","HENO",{"$f":"CONCATENATE(A967,B967,C967,D967)","v":"CAPRINOFLORIDAPREPARTOHENO"},374]
["CAPRINO","FLORIDA","PREPARTO","SILO","CAPRINOFLORIDAPREPARTOSILO",374]
["CAPRINO","FLORIDA","PRODUCCION EFICAZ","PAJA","CAPRINOFLORIDAPRODUCCION EFICAZPAJA",299]
["CAPRINO","FLORIDA","PRODUCCION EFICAZ","HENO","CAPRINOFLORIDAPRODUCCION EFICAZHENO",397]
["CAPRINO","FLORIDA","PRODUCCION EFICAZ","SILO","CAPRINOFLORIDAPRODUCCION EFICAZSILO",397]
["CAPRINO","FLORIDA","MEJORA CALIDAD","PAJA","CAPRINOFLORIDAMEJORA CALIDADPAJA",298]
["CAPRINO","FLORIDA","MEJORA CALIDAD","HENO","CAPRINOFLORIDAMEJORA CALIDADHENO",397]
["CAPRINO","FLORIDA","MEJORA CALIDAD","SILO","CAPRINOFLORIDAMEJORA CALIDADSILO",397]
["CAPRINO","FLORIDA","ESTADO CORPORAL","PAJA","CAPRINOFLORIDAESTADO CORPORALPAJA",999]
["CAPRINO","FLORIDA","ESTADO CORPORAL","HENO","CAPRINOFLORIDAESTADO CORPORALHENO",397]
["CAPRINO","FLORIDA","ESTADO CORPORAL","SILO","CAPRINOFLORIDAESTADO CORPORALSILO",397]
["CAPRINO","FLORIDA","RECRIA","PAJA","CAPRINOFLORIDARECRIAPAJA",414]
["CAPRINO","FLORIDA","RECRIA","HENO","CAPRINOFLORIDARECRIAHENO",285]
["CAPRINO","FLORIDA","RECRIA","SILO","CAPRINOFLORIDARECRIASILO",285]
["CAPRINO","MALAGUEÑA","PREPARTO","PAJA","CAPRINOMALAGUEÑAPREPARTOPAJA",413]
["CAPRINO","MALAGUEÑA","PREPARTO","HENO","CAPRINOMALAGUEÑAPREPARTOHENO",374]
["CAPRINO","MALAGUEÑA","PREPARTO","SILO","CAPRINOMALAGUEÑAPREPARTOSILO",374]
["CAPRINO","MALAGUEÑA","PRODUCCION EFICAZ","PAJA","CAPRINOMALAGUEÑAPRODUCCION EFICAZPAJA",299]
["CAPRINO","MALAGUEÑA","PRODUCCION EFICAZ","HENO","CAPRINOMALAGUEÑAPRODUCCION EFICAZHENO",397]
["CAPRINO","MALAGUEÑA","PRODUCCION EFICAZ","SILO","CAPRINOMALAGUEÑAPRODUCCION EFICAZSILO",397]
["CAPRINO","MALAGUEÑA","MEJORA CALIDAD","PAJA","CAPRINOMALAGUEÑAMEJORA CALIDADPAJA",298]
["CAPRINO","MALAGUEÑA","MEJORA CALIDAD","HENO","CAPRINOMALAGUEÑAMEJORA CALIDADHENO",397]
["CAPRINO","MALAGUEÑA","MEJORA CALIDAD","SILO","CAPRINOMALAGUEÑAMEJORA CALIDADSILO",397]
["CAPRINO","MALAGUEÑA","ESTADO CORPORAL","PAJA","CAPRINOMALAGUEÑAESTADO CORPORALPAJA",999]
["CAPRINO","MALAGUEÑA","ESTADO CORPORAL","HENO","CAPRINOMALAGUEÑAESTADO CORPORALHENO",397]
["CAPRINO","MALAGUEÑA","ESTADO CORPORAL","SILO","CAPRINOMALAGUEÑAESTADO CORPORALSILO",397]
["CAPRINO","MALAGUEÑA","RECRIA","PAJA","CAPRINOMALAGUEÑARECRIAPAJA",414]
["CAPRINO","MALAGUEÑA","RECRIA","HENO","CAPRINOMALAGUEÑARECRIAHENO",285]
["CAPRINO","MALAGUEÑA","RECRIA","SILO","CAPRINOMALAGUEÑARECRIASILO",285]
["CAPRINO","MURCIANA","PREPARTO","PAJA","CAPRINOMURCIANAPREPARTOPAJA",413]
["CAPRINO","MURCIANA","PREPARTO","HENO","CAPRINOMURCIANAPREPARTOHENO",374]
["CAPRINO","MURCIANA","PREPARTO","SILO","CAPRINOMURCIANAPREPARTOSILO",374]
["CAPRINO","MURCIANA","PRODUCCION EFICAZ","PAJA","CAPRINOMURCIANAPRODUCCION EFICAZPAJA",299]
["CAPRINO","MURCIANA","PRODUCCION EFICAZ","HENO","CAPRINOMURCIANAPRODUCCION EFICAZHENO",397]
["CAPRINO","MURCIANA","PRODUCCION EFICAZ","SILO","CAPRINOMURCIANAPRODUCCION EFICAZSILO",397]
["CAPRINO","MURCIANA","MEJORA CALIDAD","PAJA","CAPRINOMURCIANAMEJORA CALIDADPAJA",298]
["CAPRINO","MURCIANA","MEJORA CALIDAD","HENO","CAPRINOMURCIANAMEJORA CALIDADHENO",397]
["CAPRINO","MURCIANA","MEJORA CALIDAD","SILO","CAPRINOMURCIANAMEJORA CALIDADSILO",397]
["CAPRINO","MURCIANA","ESTADO CORPORAL","PAJA","CAPRINOMURCIANAESTADO CORPORALPAJA",999]
["CAPRINO","MURCIANA","ESTADO CORPORAL","HENO","CAPRINOMURCIANAESTADO CORPORALHENO",397]
["CAPRINO","MURCIANA","ESTADO CORPORAL","SILO","CAPRINOMURCIANAESTADO CORPORALSILO",397]
["CAPRINO","MURCIANA","RECRIA","PAJA","CAPRINOMURCIANARECRIAPAJA",414]
["CAPRINO","MURCIANA","RECRIA","HENO","CAPRINOMURCIANARECRIAHENO",285]
["CAPRINO","MURCIANA","RECRIA","SILO","CAPRINOMURCIANARECRIASILO",285]
["OVINO","ASSAF","PREPARTO","PAJA","OVINOASSAFPREPARTOPAJA",413]
["OVINO","ASSAF","PREPARTO","HENO","OVINOASSAFPREPARTOHENO",374]
["OVINO","ASSAF","PREPARTO","SILO","OVINOASSAFPREPARTOSILO",374]
["OVINO","ASSAF","PRODUCCION EFICAZ","PAJA","OVINOASSAFPRODUCCION EFICAZPAJA",383]
["OVINO","ASSAF","PRODUCCION EFICAZ","HENO","OVINOASSAFPRODUCCION EFICAZHENO",420]
["OVINO","ASSAF","PRODUCCION EFICAZ","SILO","OVINOASSAFPRODUCCION EFICAZSILO",420]
["OVINO","ASSAF","MEJORA CALIDAD","PAJA","OVINOASSAFMEJORA CALIDADPAJA",396]
["OVINO","ASSAF","MEJORA CALIDAD","HENO","OVINOASSAFMEJORA CALIDADHENO",420]
["OVINO","ASSAF","MEJORA CALIDAD","SILO","OVINOASSAFMEJORA CALIDADSILO",420]
["OVINO","ASSAF","ESTADO CORPORAL","PAJA","OVINOASSAFESTADO CORPORALPAJA",391]
["OVINO","ASSAF","ESTADO CORPORAL","HENO","OVINOASSAFESTADO CORPORALHENO",391]
["OVINO","ASSAF","ESTADO CORPORAL","SILO","OVINOASSAFESTADO CORPORALSILO",391]
["OVINO","ASSAF","RECRIA","PAJA","OVINOASSAFRECRIAPAJA",414]
["OVINO","ASSAF","RECRIA","HENO","OVINOASSAFRECRIAHENO",278]
["OVINO","ASSAF","RECRIA","SILO","OVINOASSAFRECRIASILO",278]
["OVINO","LACAUNE","PREPARTO","PAJA","OVINOLACAUNEPREPARTOPAJA",413]
["OVINO","LACAUNE","PREPARTO","HENO","OVINOLACAUNEPREPARTOHENO",374]
["OVINO","LACAUNE","PREPARTO","SILO","OVINOLACAUNEPREPARTOSILO",374]
["OVINO","LACAUNE","PRODUCCION EFICAZ","PAJA","OVINOLACAUNEPRODUCCION EFICAZPAJA",383]
["OVINO","LACAUNE","PRODUCCION EFICAZ","HENO","OVINOLACAUNEPRODUCCION EFICAZHENO",420]
["OVINO","LACAUNE","PRODUCCION EFICAZ","SILO","OVINOLACAUNEPRODUCCION EFICAZSILO",420]
["OVINO","LACAUNE","MEJORA CALIDAD","PAJA","OVINOLACAUNEMEJORA CALIDADPAJA",396]
["OVINO","LACAUNE","MEJORA CALIDAD","HENO","OVINOLACAUNEMEJORA CALIDADHENO",420]
["OVINO","LACAUNE","MEJORA CALIDAD","SILO","OVINOLACAUNEMEJORA CALIDADSILO",420]
["OVINO","LACAUNE","ESTADO CORPORAL","PAJA","OVINOLACAUNEESTADO CORPORALPAJA",391]
["OVINO","LACAUNE","ESTADO CORPORAL","HENO","OVINOLACAUNEESTADO CORPORALHENO",391]
["OVINO","LACAUNE","ESTADO CORPORAL","SILO","OVINOLACAUNEESTADO CORPORALSILO",391]
["OVINO","LACAUNE","RECRIA","PAJA","OVINOLACAUNERECRIAPAJA",414]
["OVINO","LACAUNE","RECRIA","HENO","OVINOLACAUNERECRIAHENO",278]
["OVINO","LACAUNE","RECRIA","SILO","OVINOLACAUNERECRIASILO",278]
["OVINO","MANCHEGA","PREPARTO","PAJA","OVINOMANCHEGAPREPARTOPAJA",413]
["OVINO","MANCHEGA","PREPARTO","HENO","OVINOMANCHEGAPREPARTOHENO",374]
["OVINO","MANCHEGA","PREPARTO","SILO","OVINOMANCHEGAPREPARTOSILO",374]
["OVINO","MANCHEGA","PRODUCCION EFICAZ","PAJA","OVINOMANCHEGAPRODUCCION EFICAZPAJA",396]
["OVINO","MANCHEGA","PRODUCCION EFICAZ","HENO","OVINOMANCHEGAPRODUCCION EFICAZHENO",396]
["OVINO","MANCHEGA","PRODUCCION EFICAZ","SILO","OVINOMANCHEGAPRODUCCION EFICAZSILO",396]
["OVINO","MANCHEGA","MEJORA CALIDAD","PAJA","OVINOMANCHEGAMEJORA CALIDADPAJA",396]
["OVINO","MANCHEGA","MEJORA CALIDAD","HENO","OVINOMANCHEGAMEJORA CALIDADHENO",396]
["OVINO","MANCHEGA","MEJORA CALIDAD","SILO","OVINOMANCHEGAMEJORA CALIDADSILO",396]
["OVINO","MANCHEGA","ESTADO CORPORAL","PAJA","OVINOMANCHEGAESTADO CORPORALPAJA",391]
["OVINO","MANCHEGA","ESTADO CORPORAL","HENO","OVINOMANCHEGAESTADO CORPORALHENO",391]
["OVINO","MANCHEGA","ESTADO CORPORAL","SILO","OVINOMANCHEGAESTADO CORPORALSILO",391]
["OVINO","MANCHEGA","RECRIA","PAJA","OVINOMANCHEGARECRIAPAJA",414]
["OVINO","MANCHEGA","RECRIA","HENO","OVINOMANCHEGARECRIAHENO",278]
["OVINO","MANCHEGA","RECRIA","SILO","OVINOMANCHEGARECRIASILO",278]
["CAPRINO","SAANEN","PREPARTO","PAJA","CAPRINOSAANENPREPARTOPAJA",413]
["CAPRINO","SAANEN","PREPARTO","HENO","CAPRINOSAANENPREPARTOHENO",374]
["CAPRINO","SAANEN","PREPARTO","SILO","CAPRINOSAANENPREPARTOSILO",374]
["CAPRINO","SAANEN","PRODUCCION EFICAZ","PAJA","CAPRINOSAANENPRODUCCION EFICAZPAJA",299]
["CAPRINO","SAANEN","PRODUCCION EFICAZ","HENO","CAPRINOSAANENPRODUCCION EFICAZHENO",397]
["CAPRINO","SAANEN","PRODUCCION EFICAZ","SILO","CAPRINOSAANENPRODUCCION EFICAZSILO",397]
["CAPRINO","SAANEN","MEJORA CALIDAD","PAJA","CAPRINOSAANENMEJORA CALIDADPAJA",298]
["CAPRINO","SAANEN","MEJORA CALIDAD","HENO","CAPRINOSAANENMEJORA CALIDADHENO",397]
["CAPRINO","SAANEN","MEJORA CALIDAD","SILO","CAPRINOSAANENMEJORA CALIDADSILO",397]
["CAPRINO","SAANEN","ESTADO CORPORAL","PAJA","CAPRINOSAANENESTADO CORPORALPAJA",999]
["CAPRINO","SAANEN","ESTADO CORPORAL","HENO","CAPRINOSAANENESTADO CORPORALHENO",397]
["CAPRINO","SAANEN","ESTADO CORPORAL","SILO","CAPRINOSAANENESTADO CORPORALSILO",397]
["CAPRINO","SAANEN","RECRIA","PAJA","CAPRINOSAANENRECRIAPAJA",414]
["CAPRINO","SAANEN","RECRIA","HENO","CAPRINOSAANENRECRIAHENO",285]
["CAPRINO","SAANEN","RECRIA","SILO","CAPRINOSAANENRECRIASILO",285]
["CAPRINO","ALPINA","PREPARTO","PAJA","CAPRINOALPINAPREPARTOPAJA",413]
["CAPRINO","ALPINA","PREPARTO","HENO","CAPRINOALPINAPREPARTOHENO",374]
["CAPRINO","ALPINA","PREPARTO","SILO","CAPRINOALPINAPREPARTOSILO",374]
["CAPRINO","ALPINA","PRODUCCION EFICAZ","PAJA","CAPRINOALPINAPRODUCCION EFICAZPAJA",299]
["CAPRINO","ALPINA","PRODUCCION EFICAZ","HENO","CAPRINOALPINAPRODUCCION EFICAZHENO",397]
["CAPRINO","ALPINA","PRODUCCION EFICAZ","SILO","CAPRINOALPINAPRODUCCION EFICAZSILO",397]
["CAPRINO","ALPINA","MEJORA CALIDAD","PAJA","CAPRINOALPINAMEJORA CALIDADPAJA",298]
["CAPRINO","ALPINA","MEJORA CALIDAD","HENO","CAPRINOALPINAMEJORA CALIDADHENO",397]
["CAPRINO","ALPINA","MEJORA CALIDAD","SILO","CAPRINOALPINAMEJORA CALIDADSILO",397]
["CAPRINO","ALPINA","ESTADO CORPORAL","PAJA","CAPRINOALPINAESTADO CORPORALPAJA",999]
["CAPRINO","ALPINA","ESTADO CORPORAL","HENO","CAPRINOALPINAESTADO CORPORALHENO",397]
["CAPRINO","ALPINA","ESTADO CORPORAL","SILO","CAPRINOALPINAESTADO CORPORALSILO",397]
["CAPRINO","ALPINA","RECRIA","PAJA","CAPRINOALPINARECRIAPAJA",414]
["CAPRINO","ALPINA","RECRIA","HENO",{"$f":"CONCATENATE(A1084,B1084,C1084,D1084)","v":"CAPRINOALPINARECRIAHENO"},285]
["CAPRINO","ALPINA","RECRIA","SILO","CAPRINOALPINARECRIASILO",285]
[]
[]
[]
[{"$f":"B952","v":0},{"$f":"B953","v":0},{"$f":"B954","v":0},{"$f":"B955","v":0},{"$f":"CONCATENATE(A1089,B1089,C1089,D1089)","v":"0000"},{"$f":"VLOOKUP(E1089,$E$966:$F$1085,2,FALSE)","v":{"$error":"#N/A"}}]
[]
[1,2,3,4,5,6,7,8,9,10,11,12]
[{"$f":"'HOJA DE DATOS'!A141","v":"NUMEROREGISTRO"},{"$f":"'HOJA DE DATOS'!B141","v":"GANADO"},{"$f":"'HOJA DE DATOS'!C141","v":"CODIGO IRIS"},{"$f":"'HOJA DE DATOS'!D141","v":"NOMBRE PRODUCTO"},{"$f":"'HOJA DE DATOS'!E141","v":"PRESENTACION"},{"$f":"'HOJA DE DATOS'!F141","v":"UFL/UFV"},{"$f":"'HOJA DE DATOS'!G141","v":"PROTEINA BRUTA"},{"$f":"'HOJA DE DATOS'!H141","v":"FIBRA BRUTA"},{"$f":"'HOJA DE DATOS'!I141","v":"GRASA BRUTA"},{"$f":"'HOJA DE DATOS'!J141","v":"CENIZAS"},{"$f":"'HOJA DE DATOS'!K141","v":"MODO DE EMPLEO"},{"$f":"'HOJA DE DATOS'!L141","v":"OBSERVACIONES"}]
[{"$f":"'HOJA DE DATOS'!A142","v":278},{"$f":"'HOJA DE DATOS'!B142","v":"OVINO"},{"$f":"'HOJA DE DATOS'!C142","v":"1808 GGR"},{"$f":"'HOJA DE DATOS'!D142","v":"OVIRECRIA"},{"$f":"'HOJA DE DATOS'!E142","v":"GRANULADO 3,5"},{"$f":"'HOJA DE DATOS'!F142","v":88},{"$f":"'HOJA DE DATOS'!G142","v":165},{"$f":"'HOJA DE DATOS'!H142","v":82},{"$f":"'HOJA DE DATOS'!I142","v":35},{"$f":"'HOJA DE DATOS'!J142","v":78},{"$f":"'HOJA DE DATOS'!K142","v":"Pienso complementario destinados a corderas de reposición desde los 3 a los 6-7 meses. Se puede suministar a voluntad con paja ad libitumn pero es aconsejable el aporte de forrajes"},{"$f":"'HOJA DE DATOS'!L142","v":"Los animales dispondrán en todo momento de agua limpia y fresca a libre servicio. Consultar a los servicios técnicos."}]
[{"$f":"'HOJA DE DATOS'!A143","v":285},{"$f":"'HOJA DE DATOS'!B143","v":"CAPRINO"},{"$f":"'HOJA DE DATOS'!C143","v":"1610 GGR"},{"$f":"'HOJA DE DATOS'!D143","v":"CAPRIRECRIA"},{"$f":"'HOJA DE DATOS'!E143","v":"GRANULADO 3,5"},{"$f":"'HOJA DE DATOS'!F143","v":89},{"$f":"'HOJA DE DATOS'!G143","v":165},{"$f":"'HOJA DE DATOS'!H143","v":82},{"$f":"'HOJA DE DATOS'!I143","v":35},{"$f":"'HOJA DE DATOS'!J143","v":78},{"$f":"'HOJA DE DATOS'!K143","v":"Pienso complementario destinados a chivas de reposición desde los 3 a los 6-7 meses. Se puede suministar a voluntad con paja ad libitumn pero es aconsejable el aporte de forrajes"},{"$f":"'HOJA DE DATOS'!L143","v":"Los animales dispondrán en todo momento de agua limpia y fresca a libre servicio. Consultar a los servicios técnicos."}]
[{"$f":"'HOJA DE DATOS'!A144","v":298},{"$f":"'HOJA DE DATOS'!B144","v":"CAPRINO"},{"$f":"'HOJA DE DATOS'!C144","v":"1512 GGR"},{"$f":"'HOJA DE DATOS'!D144","v":"CAPRI KOMPLET ESTANDAR"},{"$f":"'HOJA DE DATOS'!E144","v":"GRANULADO 3,5"},{"$f":"'HOJA DE DATOS'!F144","v":90},{"$f":"'HOJA DE DATOS'!G144","v":170},{"$f":"'HOJA DE DATOS'!H144","v":120},{"$f":"'HOJA DE DATOS'!I144","v":35},{"$f":"'HOJA DE DATOS'!J144","v":75},{"$f":"'HOJA DE DATOS'!K144","v":"Pienso complementario destinado a cabras de leche para ser suministrado con paja a voluntad. La paja deberá ser limpia y seca y se administrará ad libitum. Los animales dispondrán de agua limpia y fresca."},{"$f":"'HOJA DE DATOS'!L144","v":"Preferiblemente administrar varias veces al día pero que siempre lo tengan disponible. La transición a este alñimento debe ser lenta (15 días mínimo) y paulatina. Recomendamos tener a los animales desparasitados y vacunados de Enterotoxemia."}]
[{"$f":"'HOJA DE DATOS'!A145","v":299},{"$f":"'HOJA DE DATOS'!B145","v":"CAPRINO"},{"$f":"'HOJA DE DATOS'!C145","v":"1515 GGR"},{"$f":"'HOJA DE DATOS'!D145","v":"CAPRI KOMPLET ESPECIAL"},{"$f":"'HOJA DE DATOS'!E145","v":"GRANULADO 10"},{"$f":"'HOJA DE DATOS'!F145","v":92},{"$f":"'HOJA DE DATOS'!G145","v":170},{"$f":"'HOJA DE DATOS'!H145","v":120},{"$f":"'HOJA DE DATOS'!I145","v":40},{"$f":"'HOJA DE DATOS'!J145","v":83},{"$f":"'HOJA DE DATOS'!K145","v":"Pienso complementario  de paja para cabras en ordeño. Los animales dispondrán en todo momento de paja de cereales limpia y agua limpia y fresca. Puede emplearse racionado o a voluntad. Diseñado especialmente para cabras tipo murciano."},{"$f":"'HOJA DE DATOS'!L145","v":"Preferiblemente administrar varias veces al día pero que siempre lo tengan disponible. La transición a este alimento debe ser lenta (15 días mínimo) y paulatina. Recomendamos tener a los animales desparasitados y vacunados de Enterotoxemia."}]
[{"$f":"'HOJA DE DATOS'!A146","v":374},{"$f":"'HOJA DE DATOS'!B146","v":"OVINO/CAPRINO"},{"$f":"'HOJA DE DATOS'!C146","v":"1669 GGR"},{"$f":"'HOJA DE DATOS'!D146","v":"INOGEST"},{"$f":"'HOJA DE DATOS'!E146","v":"GRANULADO 3,5"},{"$f":"'HOJA DE DATOS'!F146","v":92},{"$f":"'HOJA DE DATOS'!G146","v":143},{"$f":"'HOJA DE DATOS'!H146","v":71},{"$f":"'HOJA DE DATOS'!I146","v":28},{"$f":"'HOJA DE DATOS'!J146","v":67},{"$f":"'HOJA DE DATOS'!K146","v":"Pienso complementario especial para el preparto de ovejas y cabras de ordeño . Utilizar como complementario de forrajes los últimos 45 días de antes del parto."},{"$f":"'HOJA DE DATOS'!L146","v":"No se recomienda la utilización de paja en esta fase sobre todo en razas muy lecheras y prolíficas.Los animales dispondrán de agua limpia y fresca a libre disposición."}]
[{"$f":"'HOJA DE DATOS'!A147","v":383},{"$f":"'HOJA DE DATOS'!B147","v":"OVINO"},{"$f":"'HOJA DE DATOS'!C147","v":"1705 GGR"},{"$f":"'HOJA DE DATOS'!D147","v":"OVIKOMPLET"},{"$f":"'HOJA DE DATOS'!E147","v":"GRANULADO 10"},{"$f":"'HOJA DE DATOS'!F147","v":88},{"$f":"'HOJA DE DATOS'!G147","v":180},{"$f":"'HOJA DE DATOS'!H147","v":120},{"$f":"'HOJA DE DATOS'!I147","v":40},{"$f":"'HOJA DE DATOS'!J147","v":80},{"$f":"'HOJA DE DATOS'!K147","v":"Pienso complementario de paja para ovejas en ordeño. Los animales dispondrán en todo momento de paja de cereales limpia y agua limpia y fresca. Puede emplearse racionado o a voluntad. Consultar cada caso con los servicios técnicos."},{"$f":"'HOJA DE DATOS'!L147","v":"Preferiblemente administrar varias veces al día pero que siempre lo tengan disponible.La transición a este alimento debe ser lenta (15 días mínimo) y paulatina. Necesaria vacunacion Enterotoxemia."}]
[{"$f":"'HOJA DE DATOS'!A148","v":391},{"$f":"'HOJA DE DATOS'!B148","v":"OVINO"},{"$f":"'HOJA DE DATOS'!C148","v":"1777 GGR"},{"$f":"'HOJA DE DATOS'!D148","v":"OVIKOMPLET BASIC"},{"$f":"'HOJA DE DATOS'!E148","v":"GRANULADO 10"},{"$f":"'HOJA DE DATOS'!F148","v":81},{"$f":"'HOJA DE DATOS'!G148","v":165},{"$f":"'HOJA DE DATOS'!H148","v":135},{"$f":"'HOJA DE DATOS'!I148","v":30},{"$f":"'HOJA DE DATOS'!J148","v":87},{"$f":"'HOJA DE DATOS'!K148","v":"Pienso complementario de paja para ovejas en ordeño. Los animales dispondrán en todo momento de paja de cereales limpia y agua limpia y fresca. Puede emplearse racionado. Consultar cada caso con los servicios técnicos."},{"$f":"'HOJA DE DATOS'!L148","v":"Preferiblemente administrar varias veces al día pero que siempre lo tengan disponible.La transición a este alimento debe ser lenta (15 días mínimo) y paulatina. Necesaria vacunacion Enterotoxemia."}]
[{"$f":"'HOJA DE DATOS'!A149","v":396},{"$f":"'HOJA DE DATOS'!B149","v":"OVINO"},{"$f":"'HOJA DE DATOS'!C149","v":"1797 GGR"},{"$f":"'HOJA DE DATOS'!D149","v":"OVIKOMPLET EQ"},{"$f":"'HOJA DE DATOS'!E149","v":"GRANULADO 10"},{"$f":"'HOJA DE DATOS'!F149","v":86},{"$f":"'HOJA DE DATOS'!G149","v":180},{"$f":"'HOJA DE DATOS'!H149","v":155},{"$f":"'HOJA DE DATOS'!I149","v":40},{"$f":"'HOJA DE DATOS'!J149","v":90},{"$f":"'HOJA DE DATOS'!K149","v":"Pienso complementario de paja para ovejas en ordeño. Los animales dispondrán en todo momento de paja de cereales limpia y agua limpia y fresca. Puede emplearse racionado o a voluntad. Consultar cada caso con los servicios técnicos."},{"$f":"'HOJA DE DATOS'!L149","v":"Preferiblemente administrar varias veces al día pero que siempre lo tengan disponible.La transición a este alimento debe ser lenta (15 días mínimo) y paulatina. Necesaria vacunacion Enterotoxemia."}]
[{"$f":"'HOJA DE DATOS'!A150","v":397},{"$f":"'HOJA DE DATOS'!B150","v":"CAPRINO"},{"$f":"'HOJA DE DATOS'!C150","v":""},{"$f":"'HOJA DE DATOS'!D150","v":"CAPRIKOMPLET PLUS"},{"$f":"'HOJA DE DATOS'!E150","v":"GRANULADO 3,5"},{"$f":"'HOJA DE DATOS'!F150","v":94},{"$f":"'HOJA DE DATOS'!G150","v":180},{"$f":"'HOJA DE DATOS'!H150","v":100},{"$f":"'HOJA DE DATOS'!I150","v":38},{"$f":"'HOJA DE DATOS'!J150","v":74},{"$f":"'HOJA DE DATOS'!K150","v":"Pienso complementario  de paja para cabras en ordeño. Los animales dispondrán en todo momento de paja de cereales y algo de forraje y agua limpia y fresca . Puede emplearse racionado o a voluntad. Diseñado especialmente para cabras tipo murciano."},{"$f":"'HOJA DE DATOS'!L150","v":"Preferiblemente administrar varias veces al día pero que siempre lo tengan disponible. La transición a este alimento debe ser lenta (15 días mínimo) y paulatina. Recomendamos tener a los animales desparasitados y vacunados de Enterotoxemia."}]
[{"$f":"'HOJA DE DATOS'!A151","v":413},{"$f":"'HOJA DE DATOS'!B151","v":"OVINO/CAPRINO"},{"$f":"'HOJA DE DATOS'!C151","v":"1818 GGR"},{"$f":"'HOJA DE DATOS'!D151","v":"KOMPLET GESTACION"},{"$f":"'HOJA DE DATOS'!E151","v":"GRANULADO 3,5"},{"$f":"'HOJA DE DATOS'!F151","v":90},{"$f":"'HOJA DE DATOS'!G151","v":175},{"$f":"'HOJA DE DATOS'!H151","v":90},{"$f":"'HOJA DE DATOS'!I151","v":25},{"$f":"'HOJA DE DATOS'!J151","v":83},{"$f":"'HOJA DE DATOS'!K151","v":"Pienso complementario especial para el preparto de ovejas y cabras de ordeño . Utilizar como complementario de forrajes (incluido paja) los últimos 45 días de antes del parto."},{"$f":"'HOJA DE DATOS'!L151","v":"racionar adecuadamente según peso vivo y prolificidad. .Los animales dispondrán de agua limpia y fresca a libre disposición."}]
[{"$f":"'HOJA DE DATOS'!A152","v":414},{"$f":"'HOJA DE DATOS'!B152","v":"OVINO/CAPRINO"},{"$f":"'HOJA DE DATOS'!C152","v":"1819 GGR"},{"$f":"'HOJA DE DATOS'!D152","v":"KOMPLET RECRIA"},{"$f":"'HOJA DE DATOS'!E152","v":"GRANULADO 3,5"},{"$f":"'HOJA DE DATOS'!F152","v":91},{"$f":"'HOJA DE DATOS'!G152","v":170},{"$f":"'HOJA DE DATOS'!H152","v":100},{"$f":"'HOJA DE DATOS'!I152","v":38},{"$f":"'HOJA DE DATOS'!J152","v":74},{"$f":"'HOJA DE DATOS'!K152","v":"Pienso complementario destinados a corderas y chivas de reposición desde los 3 hasta el preparto. Se puede suministar a voluntad con paja ad libitumn en la primera fase- Despues racionado.  El aporte de forrajes es siempre preferible."},{"$f":"'HOJA DE DATOS'!L152","v":"Los animales dispondrán en todo momento de agua limpia y fresca a libre servicio. Consultar a los servicios técnicos."}]
[{"$f":"'HOJA DE DATOS'!A153","v":420},{"$f":"'HOJA DE DATOS'!B153","v":"OVINO"},{"$f":"'HOJA DE DATOS'!C153","v":"1856 GGR"},{"$f":"'HOJA DE DATOS'!D153","v":"OVIKOMPLET PLUS"},{"$f":"'HOJA DE DATOS'!E153","v":"GRANULADO 10"},{"$f":"'HOJA DE DATOS'!F153","v":90},{"$f":"'HOJA DE DATOS'!G153","v":185},{"$f":"'HOJA DE DATOS'!H153","v":110},{"$f":"'HOJA DE DATOS'!I153","v":38},{"$f":"'HOJA DE DATOS'!J153","v":81},{"$f":"'HOJA DE DATOS'!K153","v":"Pienso complementario de paja y forrajes para ovejas en ordeño. Los animales dispondrán en todo momento de paja de cereales limpia y agua limpia y fresca. Puede emplearse racionado o a voluntad. Consultar cada caso con los servicios técnicos."},{"$f":"'HOJA DE DATOS'!L153","v":"Preferiblemente administrar varias veces al día pero que siempre lo tengan disponible.La transición a este alimento debe ser lenta (15 días mínimo) y paulatina. Necesaria vacunacion Enterotoxemia."}]
[{"$f":"'HOJA DE DATOS'!A154","v":0},{"$f":"'HOJA DE DATOS'!B154","v":0},{"$f":"'HOJA DE DATOS'!C154","v":0},{"$f":"'HOJA DE DATOS'!D154","v":0},{"$f":"'HOJA DE DATOS'!E154","v":0},{"$f":"'HOJA DE DATOS'!F154","v":0},{"$f":"'HOJA DE DATOS'!G154","v":0},{"$f":"'HOJA DE DATOS'!H154","v":0},{"$f":"'HOJA DE DATOS'!I154","v":0},{"$f":"'HOJA DE DATOS'!J154","v":0},{"$f":"'HOJA DE DATOS'!K154","v":0},{"$f":"'HOJA DE DATOS'!L154","v":0}]
[{"$f":"'HOJA DE DATOS'!A155","v":0},{"$f":"'HOJA DE DATOS'!B155","v":0},{"$f":"'HOJA DE DATOS'!C155","v":0},{"$f":"'HOJA DE DATOS'!D155","v":0},{"$f":"'HOJA DE DATOS'!E155","v":0},{"$f":"'HOJA DE DATOS'!F155","v":0},{"$f":"'HOJA DE DATOS'!G155","v":0},{"$f":"'HOJA DE DATOS'!H155","v":0},{"$f":"'HOJA DE DATOS'!I155","v":0},{"$f":"'HOJA DE DATOS'!J155","v":0},{"$f":"'HOJA DE DATOS'!K155","v":0},{"$f":"'HOJA DE DATOS'!L155","v":0}]
[999,{"$f":"'HOJA DE DATOS'!B156","v":0},{"$f":"'HOJA DE DATOS'!C156","v":0},"NO EXISTE PIENSO",{"$f":"'HOJA DE DATOS'!E156","v":0},{"$f":"'HOJA DE DATOS'!F156","v":0},{"$f":"'HOJA DE DATOS'!G156","v":0},{"$f":"'HOJA DE DATOS'!H156","v":0},{"$f":"'HOJA DE DATOS'!I156","v":0},{"$f":"'HOJA DE DATOS'!J156","v":0},{"$f":"'HOJA DE DATOS'!K156","v":0},{"$f":"'HOJA DE DATOS'!L156","v":0}]
[]
[{"$f":"F1089","v":{"$error":"#N/A"}},{"$f":"VLOOKUP($A$1109,$A$1093:$L$1107,B1091,FALSE)","v":{"$error":"#N/A"}},{"$f":"VLOOKUP($A$1109,$A$1093:$L$1107,C1091,FALSE)","v":{"$error":"#N/A"}},{"$f":"VLOOKUP($A$1109,$A$1093:$L$1107,D1091,FALSE)","v":{"$error":"#N/A"}},{"$f":"VLOOKUP($A$1109,$A$1093:$L$1107,E1091,FALSE)","v":{"$error":"#N/A"}},{"$error":"#N/A"},{"$error":"#N/A"},{"$error":"#N/A"},{"$error":"#N/A"},{"$error":"#N/A"},{"$error":"#N/A"},{"$error":"#N/A"}]
[]
[]
[]
[]
["RACIONAMIENTO KOMPLET",null,null,"PMET"]
[null,"PESO VIVO (MANTENIMIENTO)",{"$f":"'RACIONAMIENTO KOMPLET'!C9","v":0},{"$f":"POWER(C1115,0.75)","v":0}]
[null,"PRODUCCION LECHE",{"$f":"'RACIONAMIENTO KOMPLET'!C10","v":0}]
[null,"GRASA",{"$f":"'RACIONAMIENTO KOMPLET'!C11","v":0},{"$f":"C1117*1000","v":0}]
[null,"PROTEINA",{"$f":"'RACIONAMIENTO KOMPLET'!C12","v":0},{"$f":"C1118*1000","v":0}]
[]
["OVINO","UFL  MANT",{"$f":"ECUACIONES!B29*'ENLACES DATOS'!D1115","v":0}]
["OVINO","LECHE ESTANDARIZADA",{"$f":"C1116*((ECUACIONES!D29*'ENLACES DATOS'!D1117)+(ECUACIONES!E29*'ENLACES DATOS'!D1118)+ECUACIONES!F29)","v":0}]
["OVINO","UFL/LITRO",{"$f":"ECUACIONES!G29*'ENLACES DATOS'!C1121","v":0}]
["OVINO","UFL TOTAL",{"$f":"(C1120+C1122)*1.12","v":0}]
["CAPRINO","UFL MANT",{"$f":"ECUACIONES!B31+((ECUACIONES!C31*('ENLACES DATOS'!C1115-ECUACIONES!D31)))","v":0.19000000000000006}]
["CAPRINO","UFL LECHE REAL",{"$f":"ECUACIONES!E31+((ECUACIONES!F31*(D1117-ECUACIONES!G31))+(ECUACIONES!H31*('ENLACES DATOS'!D1118-ECUACIONES!I31)))","v":0.10520000000000007}]
["CAPRINO","UFL LECHE REAL",{"$f":"C1116*C1125","v":0}]
["CAPRINO","UFL TOTAL",{"$f":"(C1124+C1126)*1.12","v":0.21280000000000007}]
[]
[{"$f":"'RACIONAMIENTO KOMPLET'!C8","v":0},"NEC TOTALES",{"$f":"IF(A1129=\"\",\"\",IF(A1129=\"CAPRINO\",C1127,C1123))","v":0}]
[]
["OVINO",null,"PIENSO","KILOS","UFL/KG PIENSO","UFL TOTALES","PIENSO NECESARIO"]
["CAPRINO",null,{"$f":"'RACIONAMIENTO KOMPLET'!C15","v":0},{"$f":"'RACIONAMIENTO KOMPLET'!D15","v":0},{"$f":"VLOOKUP(C1132,D1093:F1104,3,FALSE)","v":{"$error":"#N/A"}},{"$f":"(E1132/100)*D1132","v":{"$error":"#N/A"}},{"$f":"(C1129-F1135)/(E1132/100)","v":{"$error":"#N/A"}}]
[null,null,{"$f":"IF('RACIONAMIENTO KOMPLET'!C16=\"\",\"\",'RACIONAMIENTO KOMPLET'!C16)","v":""},{"$f":"IF('RACIONAMIENTO KOMPLET'!D16=\"\",\"\",'RACIONAMIENTO KOMPLET'!D16)","v":""},{"$f":"IF(C1133=\"\",\"\",VLOOKUP(C1133,A1146:B1147,2,FALSE))","v":""},{"$f":"IF(E1133=\"\",0,(E1133)*D1133)","v":0}]
["CAPRI KOMPLET ESTANDAR",null,{"$f":"IF('RACIONAMIENTO KOMPLET'!C17=\"\",\"\",'RACIONAMIENTO KOMPLET'!C17)","v":""},{"$f":"IF('RACIONAMIENTO KOMPLET'!D17=\"\",\"\",'RACIONAMIENTO KOMPLET'!D17)","v":""},{"$f":"IF(C1134=\"\",\"\",VLOOKUP(C1134,A1143:B1144,2,FALSE))","v":""},{"$f":"IF(E1134=\"\",0,(E1134)*D1134)","v":0}]
["CAPRI KOMPLET ESPECIAL",null,null,null,"SUMA UFL FORRAJE",{"$f":"SUM(F1133:F1134)","v":0}]
["OVIKOMPLET",null,null,null,"SUMA UFL",{"$f":"SUM(F1132:F1134)","v":{"$error":"#N/A"}}]
["OVIKOMPLET BASIC"]
["OVIKOMPLET EQ"]
["CAPRIKOMPLET PLUS"]
["OVIKOMPLET PLUS"]
[]
[]
["HENO GRAMINEAS",0.52]
["HENO LEGUMINOSAS",0.56999999999999995]
[]
["PAJA CEBADA",0.3]
["PAJA TRIGO",0.27]
[]
[]
[]
["CUENTA EXPLOTACION"]
[]
["nº REPRODUCTORAS",{"$f":"'CUENTA EXPLOTACION(ID)'!C12","v":0},{"$f":"IF('CUENTA EXPLOTACION(ID)'!C21=\"\",\"\",'CUENTA EXPLOTACION(ID)'!C21)","v":""}]
["Nº MACHOS",{"$f":"B1153*0.05","v":0}]
["RECRIA",{"$f":"B1153*'CUENTA EXPLOTACION(ID)'!C13","v":0}]
[]
["CORDEROS NACIDOS",{"$f":"B1153*'CUENTA EXPLOTACION(ID)'!C20*'CUENTA EXPLOTACION(ID)'!C17*'CUENTA EXPLOTACION(ID)'!C19","v":0}]
["CORDEROS VIABLES",{"$f":"B1157-(B1157*'CUENTA EXPLOTACION(ID)'!C14)","v":0}]
["MACHOS VIABLES",{"$f":"B1158/2","v":0}]
["HEMBRAS VIABLES",{"$f":"B1158/2","v":0}]
["HEMBRAS A CEBO",{"$f":"(B1160-((B1160*'CUENTA EXPLOTACION(ID)'!C15)+'CUENTA EXPLOTACION(ID)'!N28)-B1155)","v":0}]
["MACHOS A CEBO",{"$f":"B1159-((B1159*'CUENTA EXPLOTACION(ID)'!C15)+'CUENTA EXPLOTACION(ID)'!N26)","v":0}]
[]
["RECRIA A VENTA",{"$f":"'CUENTA EXPLOTACION(ID)'!N28","v":0}]
[]
[]
["DIAS LACTACION",{"$f":"365-(B1169+B1168)","v":{"$error":"#VALUE!"}},{"$f":"IF(B1167=\"\",\"\",B1167/365)","v":{"$error":"#VALUE!"}}]
["DIAS PREPARTO",{"$f":"45*'CUENTA EXPLOTACION(ID)'!C17","v":0},{"$f":"B1168/365","v":0}]
["DIAS MANTENIMIENTO",{"$f":"C1153*'CUENTA EXPLOTACION(ID)'!C17","v":{"$error":"#VALUE!"}},{"$error":"#VALUE!"}]
["DIAS LACT AP",{"$f":"B1167/2.5","v":{"$error":"#VALUE!"}}]
["DIAS LACT BP",{"$f":"B1167-B1170","v":{"$error":"#VALUE!"}}]
["DIAS LR",35]
["DIAS CREC",60]
["DIAS RECRIA",{"$f":"360-(B1172+B1173+B1175)","v":220}]
["DIAS PREPARTO",45]
[]
["DIAS LR MACHOS Y HEMBRAS CEBO",{"$f":"28","v":28},null,null,"GASTOS FIJOS",{"$f":"'CUENTA EXPLOTACION(RES)'!$J$18-'CUENTA EXPLOTACION(RES)'!$J$10","v":{"$error":"#VALUE!"}},{"$f":"IF('CUENTA EXPLOTACION(RES)'!$J$18=\"\",\"\",'CUENTA EXPLOTACION(RES)'!$J$18-'CUENTA EXPLOTACION(RES)'!$J$10)","v":""}]
["DIAS CEBO",{"$f":"90-B1177","v":62}]
[null,"POR DIA","POR ANIMAL","TOTAL"]
["COSTO DIA AP",{"$f":"(('CUENTA EXPLOTACION(ID)'!C23*'CUENTA EXPLOTACION(ID)'!I12)+('CUENTA EXPLOTACION(ID)'!C24*'CUENTA EXPLOTACION(ID)'!I13)+('CUENTA EXPLOTACION(ID)'!C25*'CUENTA EXPLOTACION(ID)'!I14))/1000","v":0},{"$f":"B1180*B1170","v":{"$error":"#VALUE!"}},{"$f":"C1180*$B$1153","v":{"$error":"#VALUE!"}},"GASTOS/LITRO",{"$f":"IF('CUENTA EXPLOTACION(RES)'!$O$16=\"\",\"\",'CUENTA EXPLOTACION(RES)'!$O$16)","v":""},{"$f":"IF('CUENTA EXPLOTACION(RES)'!$O$16=\"\",\"\",'CUENTA EXPLOTACION(RES)'!$O$16)","v":""},{"$f":"IF('CUENTA EXPLOTACION(RES)'!O8=\"\",\"\",'CUENTA EXPLOTACION(RES)'!O8)","v":""}]
["COSTO DIABP",{"$f":"(('CUENTA EXPLOTACION(ID)'!C23*'CUENTA EXPLOTACION(ID)'!J12)+('CUENTA EXPLOTACION(ID)'!C24*'CUENTA EXPLOTACION(ID)'!J13)+('CUENTA EXPLOTACION(ID)'!C25*'CUENTA EXPLOTACION(ID)'!J14))/1000","v":0},{"$f":"B1181*B1171","v":{"$error":"#VALUE!"}},{"$f":"C1181*$B$1153","v":{"$error":"#VALUE!"}},"PRECIO LITRO",{"$f":"IF('CUENTA EXPLOTACION(ID)'!$N$21=\"\",\"\",'CUENTA EXPLOTACION(ID)'!$N$21)","v":""},{"$f":"IF(H1181=\"\",(IF('CUENTA EXPLOTACION(ID)'!$N$21=\"\",\"\",'CUENTA EXPLOTACION(ID)'!$N$21)),H1181)","v":""},{"$f":"IF('CUENTA EXPLOTACION(RES)'!P19=\"\",\"\",'CUENTA EXPLOTACION(RES)'!P19)","v":""}]
["COSTO DIA PREPARTO",{"$f":"(('CUENTA EXPLOTACION(ID)'!C23*'CUENTA EXPLOTACION(ID)'!I16)+('CUENTA EXPLOTACION(ID)'!C24*'CUENTA EXPLOTACION(ID)'!I17)+('CUENTA EXPLOTACION(ID)'!C26*'CUENTA EXPLOTACION(ID)'!I18))/1000","v":0},{"$f":"B1182*B1168","v":0},{"$f":"(C1182*$B$1153)+(B1182*B1175*B1155)","v":0},"PRODUCCION OVEJA",{"$f":"IF('CUENTA EXPLOTACION(RES)'!$O$20=\"\",\"\",'CUENTA EXPLOTACION(RES)'!$O$20)","v":""},{"$f":"IF(H1182=\"\",(IF('CUENTA EXPLOTACION(RES)'!$O$20=\"\",\"\",'CUENTA EXPLOTACION(RES)'!$O$20)),H1182)","v":""},{"$f":"IF('CUENTA EXPLOTACION(RES)'!P20=\"\",\"\",'CUENTA EXPLOTACION(RES)'!P20)","v":""}]
["COSTO DIA MANT",{"$f":"(('CUENTA EXPLOTACION(ID)'!C23*'CUENTA EXPLOTACION(ID)'!I20)+('CUENTA EXPLOTACION(ID)'!C24*'CUENTA EXPLOTACION(ID)'!I21)+('CUENTA EXPLOTACION(ID)'!C27*'CUENTA EXPLOTACION(ID)'!I22))/1000","v":0},{"$f":"B1183*B1169","v":{"$error":"#VALUE!"}},{"$error":"#VALUE!"}]
["COSTO DIA LACTORRE",null,{"$f":"('CUENTA EXPLOTACION(ID)'!C28*'CUENTA EXPLOTACION(ID)'!I29)/1000","v":0},{"$f":"C1184*B1155","v":0}]
["COSTO DIA RECRIA",{"$f":"(('CUENTA EXPLOTACION(ID)'!C23*'CUENTA EXPLOTACION(ID)'!I24)+('CUENTA EXPLOTACION(ID)'!C24*'CUENTA EXPLOTACION(ID)'!I25)+('CUENTA EXPLOTACION(ID)'!C30*'CUENTA EXPLOTACION(ID)'!I26))/1000","v":0},{"$f":"B1185*B1174","v":0},{"$f":"C1185*B1155","v":0},"GASTOS TOTALES",{"$f":"IF(F1180=\"\",\"\",F1180*F1182)","v":""},{"$f":"IF(G1180=\"\",\"\",G1177+(H1180*G1182))","v":""}]
["COSTO DIA RECRIA CREC",null,{"$f":"('CUENTA EXPLOTACION(ID)'!C29*'CUENTA EXPLOTACION(ID)'!I30)/1000","v":0},{"$f":"C1186*B1155","v":0},"INGRESOS",{"$f":"IF('CUENTA EXPLOTACION(RES)'!J25=\"\",\"\",'CUENTA EXPLOTACION(RES)'!J25)","v":""},{"$f":"IF(G1181=\"\",\"\",(G1181*G1182)+H1186)","v":""},{"$f":"IF('CUENTA EXPLOTACION(RES)'!J25=\"\",\"\",('CUENTA EXPLOTACION(RES)'!J25-'CUENTA EXPLOTACION(RES)'!J20))","v":""}]
[]
["COSTE CEBO LR",null,{"$f":"C1184*0.9","v":0},{"$f":"C1188*(B1161+B1162)","v":0},"PRECIO UMBRAL LITRO",{"$f":"IF(F1185=\"\",\"\",F1185/F1182)","v":""},{"$f":"IF(G1182=\"\",\"\",((H1180*G1182)+G1177-H1186)/G1182)","v":""}]
["COSTE CEBO PIENSO",null,{"$f":"('CUENTA EXPLOTACION(ID)'!C31*'CUENTA EXPLOTACION(ID)'!I32)/1000","v":0},{"$f":"C1189*(B1161+B1162)","v":0},"PRODUCCION UMBRAL",{"$f":"IF(F1181=\"\",\"\",(F1185/F1181))","v":""},{"$f":"IF(G1181=\"\",\"\",(G1185-H1186)/(G1181))","v":""}]
[]
["ALIMENTACION",null,null,null,"BENEFICIO",null,{"$f":"IF(G1186=\"\",\"\",G1186-G1185)","v":""}]
["ORDEÑO",{"$f":"IF(B1180=0,\"\",D1180+D1181)","v":""}]
["PREPARTO",{"$f":"IF(B1182=0,\"\",D1182)","v":""}]
["MANTENIMIENTO",{"$f":"IF(B1183=0,\"\",D1183)","v":""}]
["CRIA Y RECRIA",{"$f":"IF(B1185=0,\"\",D1184+D1185+D1186)","v":""}]
["CEBO",{"$f":"IF(D1189=0,\"\",D1188+D1189)","v":""}]
["TOTAL",{"$f":"SUM(B1192:B1196)","v":0}]
[]
["MANO DE OBRA",{"$f":"'CUENTA EXPLOTACION(ID)'!C35","v":0}]
[]
["SANITARIOS",{"$f":"SUM('CUENTA EXPLOTACION(ID)'!C37:C41)","v":0}]
[]
["AMORTIZACION"]
["NAVE",{"$f":"(('CUENTA EXPLOTACION(ID)'!C43*'CUENTA EXPLOTACION(ID)'!C46)+'CUENTA EXPLOTACION(ID)'!C43)/'CUENTA EXPLOTACION(ID)'!C47","v":{"$error":"#DIV/0!"}}]
["SALA",{"$f":"('CUENTA EXPLOTACION(ID)'!C45+('CUENTA EXPLOTACION(ID)'!C45*'CUENTA EXPLOTACION(ID)'!C46))/'CUENTA EXPLOTACION(ID)'!C47","v":{"$error":"#DIV/0!"}}]
["MAQUINARIA",{"$f":"('CUENTA EXPLOTACION(ID)'!C44+('CUENTA EXPLOTACION(ID)'!C44*'CUENTA EXPLOTACION(ID)'!C46))/'CUENTA EXPLOTACION(ID)'!C47","v":{"$error":"#DIV/0!"}}]
["TOTAL",{"$f":"SUM(B1204:B1206)","v":{"$error":"#DIV/0!"}}]
[]
["COMPRA ANIMALES"]
["MACHOS",{"$f":"'CUENTA EXPLOTACION(ID)'!I41*'CUENTA EXPLOTACION(ID)'!I42","v":0}]
["HEMBRAS/RECRIA",{"$f":"'CUENTA EXPLOTACION(ID)'!I43*'CUENTA EXPLOTACION(ID)'!I44","v":0}]
["TOTAL",{"$f":"SUM(B1210:B1211)","v":0}]
[]
["COSTE OPORTUNIDAD"]
["INSTALACIONES",{"$f":"('CUENTA EXPLOTACION(ID)'!C43+'CUENTA EXPLOTACION(ID)'!C44+'CUENTA EXPLOTACION(ID)'!C45)*'CUENTA EXPLOTACION(ID)'!C46","v":0}]
["ANIMALES",{"$f":"(('CUENTA EXPLOTACION(ID)'!N12*'ENLACES DATOS'!B1153)+('CUENTA EXPLOTACION(ID)'!N13*'ENLACES DATOS'!B1154)+('CUENTA EXPLOTACION(ID)'!N14*'ENLACES DATOS'!B1155)+('CUENTA EXPLOTACION(ID)'!N15*('ENLACES DATOS'!B1161+'ENLACES DATOS'!B1162)))*'CUENTA EXPLOTACION(ID)'!C46","v":0}]
["TOTAL",{"$f":"SUM(B1215:B1216)","v":0}]
[]
["VENTA ANIMALES"]
["MACHOS",{"$f":"('CUENTA EXPLOTACION(ID)'!N25*'CUENTA EXPLOTACION(ID)'!N26)","v":0}]
["HEMBRAS/RECRIA",{"$f":"'CUENTA EXPLOTACION(ID)'!N27*'CUENTA EXPLOTACION(ID)'!N28","v":0}]
["TPTAL",{"$f":"SUM(B1220:B1221)","v":0}]
[]
[]
["VENTAS CEBO",{"$f":"(B1161+B1162)*'CUENTA EXPLOTACION(ID)'!N23","v":0}]
[]
[]
["EVOLUCION PRODUCCION"]
[null,{"$f":"IF('EVOLUCION PRODUCCION'!B10=\"\",\"\",'EVOLUCION PRODUCCION'!B10)","v":""},"ANIMALES","PRODUCCION","DIAS","% ANIMALES","DIAS x %ANIMALES","PRODUCCION x % ANIMALES","LITROS TOTAL LOTE"]
["LOTE 1",{"$f":"IF('EVOLUCION PRODUCCION'!C13=\"\",\"\",'EVOLUCION PRODUCCION'!C13)","v":""},{"$f":"IF('EVOLUCION PRODUCCION'!D13=\"\",\"\",'EVOLUCION PRODUCCION'!D13)","v":""},{"$f":"IF('EVOLUCION PRODUCCION'!E13=\"\",\"\",'EVOLUCION PRODUCCION'!E13)","v":""},{"$f":"IF(B1230=\"\",\"\",$B$1229-B1230)","v":""},{"$f":"IF(C1230=\"\",\"\",C1230/$C$1234)","v":""},{"$f":"IF(E1230=\"\",\"\",E1230*F1230)","v":""},{"$f":"IF(F1230=\"\",\"\",F1230*D1230)","v":""},{"$f":"IF(C1230=\"\",\"\",C1230*D1230)","v":""}]
["LOTE 2",{"$f":"IF('EVOLUCION PRODUCCION'!C14=\"\",\"\",'EVOLUCION PRODUCCION'!C14)","v":""},{"$f":"IF('EVOLUCION PRODUCCION'!D14=\"\",\"\",'EVOLUCION PRODUCCION'!D14)","v":""},{"$f":"IF('EVOLUCION PRODUCCION'!E14=\"\",\"\",'EVOLUCION PRODUCCION'!E14)","v":""},{"$f":"IF(B1231=\"\",\"\",$B$1229-B1231)","v":""},{"$f":"IF(C1231=\"\",\"\",C1231/$C$1234)","v":""},{"$f":"IF(E1231=\"\",\"\",E1231*F1231)","v":""},{"$f":"IF(F1231=\"\",\"\",F1231*D1231)","v":""},{"$f":"IF(C1231=\"\",\"\",C1231*D1231)","v":""}]
["LOTE 3",{"$f":"IF('EVOLUCION PRODUCCION'!C15=\"\",\"\",'EVOLUCION PRODUCCION'!C15)","v":""},{"$f":"IF('EVOLUCION PRODUCCION'!D15=\"\",\"\",'EVOLUCION PRODUCCION'!D15)","v":""},{"$f":"IF('EVOLUCION PRODUCCION'!E15=\"\",\"\",'EVOLUCION PRODUCCION'!E15)","v":""},"","","","",""]
["LOTE 4",{"$f":"IF('EVOLUCION PRODUCCION'!C16=\"\",\"\",'EVOLUCION PRODUCCION'!C16)","v":""},{"$f":"IF('EVOLUCION PRODUCCION'!D16=\"\",\"\",'EVOLUCION PRODUCCION'!D16)","v":""},{"$f":"IF('EVOLUCION PRODUCCION'!E16=\"\",\"\",'EVOLUCION PRODUCCION'!E16)","v":""},"","","","",{"$f":"IF(C1233=\"\",\"\",C1233*D1233)","v":""}]
[null,null,{"$f":"IF(C1230=\"\",\"\",SUM(C1230:C1233))","v":""},{"$f":"IF(D1230=\"\",\"\",SUM(D1230:D1233))","v":""},null,null,{"$f":"SUM(G1230:G1233)","v":0},{"$f":"SUM(H1230:H1233)","v":0},{"$f":"SUM(I1230:I1233)","v":0}]
[]
[null,"DML",{"$f":"G1234","v":0}]
[null,"PRODUCCION",{"$f":"IF(D1234=\"\",\"\",D1234/C1234)","v":""}]
[null,"LITROS TOTAL",{"$f":"I1234","v":0}]
[]
[null,null,null,null,null,"PROD DIA","DML"]
["ENTREGAS LECHE",{"$f":"IF('EVOLUCION PRODUCCION'!B21=\"\",\"\",'EVOLUCION PRODUCCION'!B21)","v":""},{"$f":"IF('EVOLUCION PRODUCCION'!C21=\"\",\"\",'EVOLUCION PRODUCCION'!C21)","v":""},{"$f":"IF('EVOLUCION PRODUCCION'!D21=\"\",\"\",'EVOLUCION PRODUCCION'!D21)","v":""},{"$f":"IF('EVOLUCION PRODUCCION'!E21=\"\",\"\",'EVOLUCION PRODUCCION'!E21)","v":""},{"$f":"IF(B1241=\"\",\"\",(C1241/D1241))","v":""},{"$f":"IF(E1241=\"\",\"\",E1241)","v":""}]
[null,{"$f":"IF('EVOLUCION PRODUCCION'!B22=\"\",B1241,'EVOLUCION PRODUCCION'!B22)","v":""},{"$f":"IF('EVOLUCION PRODUCCION'!C22=\"\",C1241,'EVOLUCION PRODUCCION'!C22)","v":""},{"$f":"IF('EVOLUCION PRODUCCION'!D22=\"\",D1241,'EVOLUCION PRODUCCION'!D22)","v":""},null,{"$f":"IF(B1242=\"\",\"\",(C1242/D1242))","v":""},{"$f":"IF(B1242=\"\",\"\",G1241+(B1242-B1241))","v":""}]
[null,{"$f":"IF('EVOLUCION PRODUCCION'!B23=\"\",B1242,'EVOLUCION PRODUCCION'!B23)","v":""},{"$f":"IF('EVOLUCION PRODUCCION'!C23=\"\",C1242,'EVOLUCION PRODUCCION'!C23)","v":""},{"$f":"IF('EVOLUCION PRODUCCION'!D23=\"\",D1242,'EVOLUCION PRODUCCION'!D23)","v":""},null,"",{"$f":"IF(B1243=\"\",\"\",G1242+(B1243-B1242))","v":""}]
[null,{"$f":"IF('EVOLUCION PRODUCCION'!B24=\"\",B1243,'EVOLUCION PRODUCCION'!B24)","v":""},{"$f":"IF('EVOLUCION PRODUCCION'!C24=\"\",C1243,'EVOLUCION PRODUCCION'!C24)","v":""},{"$f":"IF('EVOLUCION PRODUCCION'!D24=\"\",D1243,'EVOLUCION PRODUCCION'!D24)","v":""},null,"",""]
[null,{"$f":"IF('EVOLUCION PRODUCCION'!B25=\"\",B1244,'EVOLUCION PRODUCCION'!B25)","v":""},{"$f":"IF('EVOLUCION PRODUCCION'!C25=\"\",C1244,'EVOLUCION PRODUCCION'!C25)","v":""},{"$f":"IF('EVOLUCION PRODUCCION'!D25=\"\",D1244,'EVOLUCION PRODUCCION'!D25)","v":""},null,"",""]
[null,{"$f":"IF('EVOLUCION PRODUCCION'!B26=\"\",B1245,'EVOLUCION PRODUCCION'!B26)","v":""},{"$f":"IF('EVOLUCION PRODUCCION'!C26=\"\",C1245,'EVOLUCION PRODUCCION'!C26)","v":""},{"$f":"IF('EVOLUCION PRODUCCION'!D26=\"\",D1245,'EVOLUCION PRODUCCION'!D26)","v":""},null,"",""]
[null,{"$f":"IF('EVOLUCION PRODUCCION'!B27=\"\",B1246,'EVOLUCION PRODUCCION'!B27)","v":""},{"$f":"IF('EVOLUCION PRODUCCION'!C27=\"\",C1246,'EVOLUCION PRODUCCION'!C27)","v":""},{"$f":"IF('EVOLUCION PRODUCCION'!D27=\"\",D1246,'EVOLUCION PRODUCCION'!D27)","v":""},null,"",""]
[null,{"$f":"IF('EVOLUCION PRODUCCION'!B28=\"\",B1247,'EVOLUCION PRODUCCION'!B28)","v":""},{"$f":"IF('EVOLUCION PRODUCCION'!C28=\"\",C1247,'EVOLUCION PRODUCCION'!C28)","v":""},{"$f":"IF('EVOLUCION PRODUCCION'!D28=\"\",D1247,'EVOLUCION PRODUCCION'!D28)","v":""},null,"",""]
[null,{"$f":"IF('EVOLUCION PRODUCCION'!B29=\"\",B1248,'EVOLUCION PRODUCCION'!B29)","v":""},{"$f":"IF('EVOLUCION PRODUCCION'!C29=\"\",C1248,'EVOLUCION PRODUCCION'!C29)","v":""},{"$f":"IF('EVOLUCION PRODUCCION'!D29=\"\",D1248,'EVOLUCION PRODUCCION'!D29)","v":""},null,"",""]
[null,{"$f":"IF('EVOLUCION PRODUCCION'!B30=\"\",B1249,'EVOLUCION PRODUCCION'!B30)","v":""},{"$f":"IF('EVOLUCION PRODUCCION'!C30=\"\",C1249,'EVOLUCION PRODUCCION'!C30)","v":""},{"$f":"IF('EVOLUCION PRODUCCION'!D30=\"\",D1249,'EVOLUCION PRODUCCION'!D30)","v":""},null,"",""]
[null,{"$f":"IF('EVOLUCION PRODUCCION'!B31=\"\",B1250,'EVOLUCION PRODUCCION'!B31)","v":""},{"$f":"IF('EVOLUCION PRODUCCION'!C31=\"\",C1250,'EVOLUCION PRODUCCION'!C31)","v":""},{"$f":"IF('EVOLUCION PRODUCCION'!D31=\"\",D1250,'EVOLUCION PRODUCCION'!D31)","v":""},null,"",""]
[null,{"$f":"IF('EVOLUCION PRODUCCION'!B32=\"\",B1251,'EVOLUCION PRODUCCION'!B32)","v":""},{"$f":"IF('EVOLUCION PRODUCCION'!C32=\"\",C1251,'EVOLUCION PRODUCCION'!C32)","v":""},{"$f":"IF('EVOLUCION PRODUCCION'!D32=\"\",D1251,'EVOLUCION PRODUCCION'!D32)","v":""},null,"",""]
[null,{"$f":"IF('EVOLUCION PRODUCCION'!B33=\"\",B1252,'EVOLUCION PRODUCCION'!B33)","v":""},{"$f":"IF('EVOLUCION PRODUCCION'!C33=\"\",C1252,'EVOLUCION PRODUCCION'!C33)","v":""},{"$f":"IF('EVOLUCION PRODUCCION'!D33=\"\",D1252,'EVOLUCION PRODUCCION'!D33)","v":""},null,"",""]
[null,{"$f":"IF('EVOLUCION PRODUCCION'!B34=\"\",B1253,'EVOLUCION PRODUCCION'!B34)","v":""},{"$f":"IF('EVOLUCION PRODUCCION'!C34=\"\",C1253,'EVOLUCION PRODUCCION'!C34)","v":""},{"$f":"IF('EVOLUCION PRODUCCION'!D34=\"\",D1253,'EVOLUCION PRODUCCION'!D34)","v":""},null,"",""]
[null,{"$f":"IF('EVOLUCION PRODUCCION'!B35=\"\",B1254,'EVOLUCION PRODUCCION'!B35)","v":""},{"$f":"IF('EVOLUCION PRODUCCION'!C35=\"\",C1254,'EVOLUCION PRODUCCION'!C35)","v":""},{"$f":"IF('EVOLUCION PRODUCCION'!D35=\"\",D1254,'EVOLUCION PRODUCCION'!D35)","v":""},null,"",""]
[null,{"$f":"IF('EVOLUCION PRODUCCION'!B36=\"\",B1255,'EVOLUCION PRODUCCION'!B36)","v":""},{"$f":"IF('EVOLUCION PRODUCCION'!C36=\"\",C1255,'EVOLUCION PRODUCCION'!C36)","v":""},{"$f":"IF('EVOLUCION PRODUCCION'!D36=\"\",D1255,'EVOLUCION PRODUCCION'!D36)","v":""},null,"",""]
[null,{"$f":"IF('EVOLUCION PRODUCCION'!B37=\"\",B1256,'EVOLUCION PRODUCCION'!B37)","v":""},{"$f":"IF('EVOLUCION PRODUCCION'!C37=\"\",C1256,'EVOLUCION PRODUCCION'!C37)","v":""},{"$f":"IF('EVOLUCION PRODUCCION'!D37=\"\",D1256,'EVOLUCION PRODUCCION'!D37)","v":""},null,"",""]
[null,{"$f":"IF('EVOLUCION PRODUCCION'!B38=\"\",B1257,'EVOLUCION PRODUCCION'!B38)","v":""},{"$f":"IF('EVOLUCION PRODUCCION'!C38=\"\",C1257,'EVOLUCION PRODUCCION'!C38)","v":""},{"$f":"IF('EVOLUCION PRODUCCION'!D38=\"\",D1257,'EVOLUCION PRODUCCION'!D38)","v":""},null,"",""]
[null,{"$f":"IF('EVOLUCION PRODUCCION'!B39=\"\",B1258,'EVOLUCION PRODUCCION'!B39)","v":""},{"$f":"IF('EVOLUCION PRODUCCION'!C39=\"\",C1258,'EVOLUCION PRODUCCION'!C39)","v":""},{"$f":"IF('EVOLUCION PRODUCCION'!D39=\"\",D1258,'EVOLUCION PRODUCCION'!D39)","v":""},null,"",""]
[null,{"$f":"IF('EVOLUCION PRODUCCION'!B40=\"\",B1259,'EVOLUCION PRODUCCION'!B40)","v":""},{"$f":"IF('EVOLUCION PRODUCCION'!C40=\"\",C1259,'EVOLUCION PRODUCCION'!C40)","v":""},{"$f":"IF('EVOLUCION PRODUCCION'!D40=\"\",D1259,'EVOLUCION PRODUCCION'!D40)","v":""},null,"",""]
[]
[]
[]
["CHEQUEO DIMENSIONADO NAVES"]
[]
["Nº ANIMALES",{"$f":"IF('CHEQUEO DIMENSIONADO NAVE'!C11=\"\",\"\",'CHEQUEO DIMENSIONADO NAVE'!C11)","v":""}]
["M2 ANIMAL",{"$f":"IF('CHEQUEO DIMENSIONADO NAVE'!C23=\"\",\"\",'CHEQUEO DIMENSIONADO NAVE'!C23)","v":""}]
["LONGITUD",{"$f":"IF('CHEQUEO DIMENSIONADO NAVE'!C12=\"\",\"\",'CHEQUEO DIMENSIONADO NAVE'!C12)","v":""}]
["ANCHURA",{"$f":"IF('CHEQUEO DIMENSIONADO NAVE'!C13=\"\",\"\",'CHEQUEO DIMENSIONADO NAVE'!C13)","v":""}]
["ALTURA LATERAL",{"$f":"IF('CHEQUEO DIMENSIONADO NAVE'!C14=\"\",\"\",'CHEQUEO DIMENSIONADO NAVE'!C14)","v":""}]
["ALTURA CENTRAL",{"$f":"IF('CHEQUEO DIMENSIONADO NAVE'!C15=\"\",\"\",'CHEQUEO DIMENSIONADO NAVE'!C15)","v":""}]
["Nº PASILLOS",{"$f":"IF('CHEQUEO DIMENSIONADO NAVE'!C16=\"\",\"\",'CHEQUEO DIMENSIONADO NAVE'!C16)","v":""}]
["ANCHURA CADA PASILLO",{"$f":"IF('CHEQUEO DIMENSIONADO NAVE'!C17=\"\",\"\",'CHEQUEO DIMENSIONADO NAVE'!C17)","v":""}]
["ENTRADAS DE AIRE",{"$f":"IF('CHEQUEO DIMENSIONADO NAVE'!C20=\"\",\"\",'CHEQUEO DIMENSIONADO NAVE'!C20)","v":""}]
["SALIDAS DE AIRE",{"$f":"IF('CHEQUEO DIMENSIONADO NAVE'!C21=\"\",\"\",'CHEQUEO DIMENSIONADO NAVE'!C21)","v":""}]
["VOLUMEN ESTATICO ANIMAL",{"$f":"IF('CHEQUEO DIMENSIONADO NAVE'!C22=\"\",\"\",'CHEQUEO DIMENSIONADO NAVE'!C22)","v":""}]
[]
["SUPERFICIE TOTAL",{"$f":"IF(B1268=\"\",\"\",B1268*B1269)","v":""}]
["SUPERFICE PASILLOS",{"$f":"IF(B1273=\"\",\"\",(B1272*B1273)*B1268)","v":""}]
["SUPERFICIE ANIMALES",{"$f":"IF(B1268=\"\",\"\",B1278-B1279)","v":""}]
["Nº ANIMALES MAXIMO (SUPERF)",{"$f":"IF(B1267=\"\",\"\",B1280/B1267)","v":""}]
["VOLUMEN  PRISMA NAVE",{"$f":"IF(B1270=\"\",\"\",(B1278*B1270))","v":""}]
["VOLUMEN CUPULA",{"$f":"IF(B1271=\"\",\"\",((B1269*(B1271-B1270))/2)*B1268)","v":""}]
["VOLUMEN ESTATICO",{"$f":"IF(B1282=\"\",\"\",(B1282+B1283))","v":""}]
["Nº ANIMALES MAXIMO (VOL)",{"$f":"IF(B1284=\"\",\"\",B1284/B1276)","v":""}]
["%PENDIENTE",{"$f":"IF(B1271=\"\",\"\",(B1271-B1270)/(B1269/2))","v":""}]
["SUPERFICIE MIN ENTRADA AIRE",{"$f":"IF(B1274=\"\",\"\",(B1274)*B1266)","v":""}]
["SUPERF MAX SALIDA AIR",{"$f":"IF(B1275=\"\",\"\",(B1275)*B1266)","v":""}]
["ANCHURA MINIMA DE VENTANA",{"$f":"IF(B1287=\"\",\"\",((B1287/2)/(0.7*B1268)))","v":""}]
["ANCHURA MINIMA CABALLETE",{"$f":"IF(B1288=\"\",\"\",(B1288/(0.95*B1268)))","v":""}]
[]
[]
[]
["CHEQUEO DIMENSIONADO NAVES"]
["ALTURA",{"$f":"IF('CALCULO DISTANCIA ENTRE NAVES'!C11=\"\",\"\",'CALCULO DISTANCIA ENTRE NAVES'!C11)","v":""}]
["LONGITUD",{"$f":"IF('CALCULO DISTANCIA ENTRE NAVES'!C12=\"\",\"\",'CALCULO DISTANCIA ENTRE NAVES'!C12)","v":""}]
[]
["RAIZ CUADRADA LONG",{"$f":"IF(B1296=\"\",\"\",SQRT(B1296))","v":""}]
["DISTANCIA",{"$f":"IF(B1295=\"\",\"\",(ECUACIONES!B35*'ENLACES DATOS'!B1295)*'ENLACES DATOS'!B1298)","v":""}]
[]
[]
["PRODUCTOS OVINO&CAPRINO LECHE",1,2,3,4,5,6,7,8,9,10,11,12,13,14,15,16,17]
[null,"NOMBRE PRODUCTO","GANADO","CLASE","TIPO","PRESENTACION","TIPO DE PIENSO","DESTINO PIENSO","MODO DE EMPLEO","OBSERVACIONES","MODO EMPLEO ETIQUETA","%HUM","%PB","%FB","GB","%MM","%A+A","UFL"]
[null,{"$f":"IF('HOJA DE DATOS'!C160=0,\"\",'HOJA DE DATOS'!C160)","v":"AMALTEA"},{"$f":"IF('HOJA DE DATOS'!D160=0,\"\",'HOJA DE DATOS'!D160)","v":"CAPRINO"},{"$f":"IF('HOJA DE DATOS'!E160=0,\"\",'HOJA DE DATOS'!E160)","v":"LECHE"},{"$f":"IF('HOJA DE DATOS'!F160=0,\"\",'HOJA DE DATOS'!F160)","v":"ORDEÑO"},{"$f":"IF('HOJA DE DATOS'!G160=0,\"\",'HOJA DE DATOS'!G160)","v":"GRANULADO 3,5"},{"$f":"IF('HOJA DE DATOS'!H160=0,\"\",'HOJA DE DATOS'!H160)","v":"PIENSO COMPLEMENTARIO"},{"$f":"IF('HOJA DE DATOS'!I160=0,\"\",'HOJA DE DATOS'!I160)","v":"CABRAS EN ORDEÑO"},{"$f":"IF('HOJA DE DATOS'!Q160=0,\"\",'HOJA DE DATOS'!Q160)","v":"Pienso  complementario de forrajes para caprino de alta producción en ordeño. Las cantidades a suministrar irán en función del peso, producción y calidad de los forrajes"},{"$f":"IF('HOJA DE DATOS'!R160=0,\"\",'HOJA DE DATOS'!R160)","v":"Puede administrarse en pesebre, en sala de ordeño o en carro mezclador.Los animales dispondrán de agua limpia y fresca a libre disposición."},{"$f":"IF('HOJA DE DATOS'!S160=0,\"\",'HOJA DE DATOS'!S160)","v":"Pienso para caprino de alta producción en ordeño. Las cantidades a suministrar irán en función del peso, producción y calidad de los forrajes.Los animales dispondrán de agua limpia y fresca a libre disposición."},{"$f":"IF('HOJA DE DATOS'!T160=0,\"\",'HOJA DE DATOS'!T160)","v":11},{"$f":"IF('HOJA DE DATOS'!U160=0,\"\",'HOJA DE DATOS'!U160)","v":16.5},{"$f":"IF('HOJA DE DATOS'!V160=0,\"\",'HOJA DE DATOS'!V160)","v":8},{"$f":"IF('HOJA DE DATOS'!W160=0,\"\",'HOJA DE DATOS'!W160)","v":4},{"$f":"IF('HOJA DE DATOS'!X160=0,\"\",'HOJA DE DATOS'!X160)","v":8},{"$f":"IF('HOJA DE DATOS'!Y160=0,\"\",'HOJA DE DATOS'!Y160)","v":31},{"$f":"IF('HOJA DE DATOS'!P160=0,\"\",'HOJA DE DATOS'!P160)","v":96}]
[null,{"$f":"IF('HOJA DE DATOS'!C161=0,\"\",'HOJA DE DATOS'!C161)","v":"AMALTEA L 3000"},{"$f":"IF('HOJA DE DATOS'!D161=0,\"\",'HOJA DE DATOS'!D161)","v":"CAPRINO"},{"$f":"IF('HOJA DE DATOS'!E161=0,\"\",'HOJA DE DATOS'!E161)","v":"LECHE"},{"$f":"IF('HOJA DE DATOS'!F161=0,\"\",'HOJA DE DATOS'!F161)","v":"ORDEÑO"},{"$f":"IF('HOJA DE DATOS'!G161=0,\"\",'HOJA DE DATOS'!G161)","v":"GRANULADO 3,5"},{"$f":"IF('HOJA DE DATOS'!H161=0,\"\",'HOJA DE DATOS'!H161)","v":"PIENSO COMPLEMENTARIO"},{"$f":"IF('HOJA DE DATOS'!I161=0,\"\",'HOJA DE DATOS'!I161)","v":"CABRAS EN ORDEÑO"},{"$f":"IF('HOJA DE DATOS'!Q161=0,\"\",'HOJA DE DATOS'!Q161)","v":"Pienso  complementario de forrajes para caprino de alta producción en ordeño. Las cantidades a suministrar irán en función del peso, producción y calidad de los forrajes"},{"$f":"IF('HOJA DE DATOS'!R161=0,\"\",'HOJA DE DATOS'!R161)","v":"Puede administrarse en pesebre, en sala de ordeño o en carro mezclador. Los animales dispondrán de agua limpia y fresca a libre disposición."},{"$f":"IF('HOJA DE DATOS'!S161=0,\"\",'HOJA DE DATOS'!S161)","v":"Pienso para caprino de alta producción en ordeño. Las cantidades a suministrar irán en función del peso, producción y calidad de los forrajes.Los animales dispondrán de agua limpia y fresca a libre disposición."},{"$f":"IF('HOJA DE DATOS'!T161=0,\"\",'HOJA DE DATOS'!T161)","v":11},{"$f":"IF('HOJA DE DATOS'!U161=0,\"\",'HOJA DE DATOS'!U161)","v":18},{"$f":"IF('HOJA DE DATOS'!V161=0,\"\",'HOJA DE DATOS'!V161)","v":7.5},{"$f":"IF('HOJA DE DATOS'!W161=0,\"\",'HOJA DE DATOS'!W161)","v":4},{"$f":"IF('HOJA DE DATOS'!X161=0,\"\",'HOJA DE DATOS'!X161)","v":7.8},{"$f":"IF('HOJA DE DATOS'!Y161=0,\"\",'HOJA DE DATOS'!Y161)","v":31},{"$f":"IF('HOJA DE DATOS'!P161=0,\"\",'HOJA DE DATOS'!P161)","v":94}]
[null,{"$f":"IF('HOJA DE DATOS'!C162=0,\"\",'HOJA DE DATOS'!C162)","v":"CAPRI KOMPLET ESPECIAL"},{"$f":"IF('HOJA DE DATOS'!D162=0,\"\",'HOJA DE DATOS'!D162)","v":"CAPRINO"},{"$f":"IF('HOJA DE DATOS'!E162=0,\"\",'HOJA DE DATOS'!E162)","v":"LECHE"},{"$f":"IF('HOJA DE DATOS'!F162=0,\"\",'HOJA DE DATOS'!F162)","v":"ORDEÑO"},{"$f":"IF('HOJA DE DATOS'!G162=0,\"\",'HOJA DE DATOS'!G162)","v":"GRANULADO 10"},{"$f":"IF('HOJA DE DATOS'!H162=0,\"\",'HOJA DE DATOS'!H162)","v":"PIENSO COMPLEMENTARIO"},{"$f":"IF('HOJA DE DATOS'!I162=0,\"\",'HOJA DE DATOS'!I162)","v":"CABRAS EN ORDEÑO"},{"$f":"IF('HOJA DE DATOS'!Q162=0,\"\",'HOJA DE DATOS'!Q162)","v":"Pienso complementario  de paja para cabras en ordeño. Los animales dispondrán en todo momento de paja de cereales limpia y agua limpia y fresca. Puede emplearse racionado o a voluntad. Diseñado especialmente para cabras tipo murciano."},{"$f":"IF('HOJA DE DATOS'!R162=0,\"\",'HOJA DE DATOS'!R162)","v":"Preferiblemente administrar varias veces al día pero que siempre lo tengan disponible. La transición a este alimento debe ser lenta (15 días mínimo) y paulatina. Recomendamos tener a los animales desparasitados y vacunados de Enterotoxemia."},{"$f":"IF('HOJA DE DATOS'!S162=0,\"\",'HOJA DE DATOS'!S162)","v":"Pienso  destinado a cabras de leche para ser suministrado con paja a voluntad. La paja deberá ser limpia y seca y se administrará ad libitum. Los animales dispondrán de agua limpia y fresca."},{"$f":"IF('HOJA DE DATOS'!T162=0,\"\",'HOJA DE DATOS'!T162)","v":11},{"$f":"IF('HOJA DE DATOS'!U162=0,\"\",'HOJA DE DATOS'!U162)","v":17},{"$f":"IF('HOJA DE DATOS'!V162=0,\"\",'HOJA DE DATOS'!V162)","v":12},{"$f":"IF('HOJA DE DATOS'!W162=0,\"\",'HOJA DE DATOS'!W162)","v":4},{"$f":"IF('HOJA DE DATOS'!X162=0,\"\",'HOJA DE DATOS'!X162)","v":8.3000000000000007},{"$f":"IF('HOJA DE DATOS'!Y162=0,\"\",'HOJA DE DATOS'!Y162)","v":24},{"$f":"IF('HOJA DE DATOS'!P162=0,\"\",'HOJA DE DATOS'!P162)","v":92}]
[null,{"$f":"IF('HOJA DE DATOS'!C163=0,\"\",'HOJA DE DATOS'!C163)","v":"CAPRI KOMPLET ESTANDAR"},{"$f":"IF('HOJA DE DATOS'!D163=0,\"\",'HOJA DE DATOS'!D163)","v":"CAPRINO"},{"$f":"IF('HOJA DE DATOS'!E163=0,\"\",'HOJA DE DATOS'!E163)","v":"LECHE"},{"$f":"IF('HOJA DE DATOS'!F163=0,\"\",'HOJA DE DATOS'!F163)","v":"ORDEÑO"},{"$f":"IF('HOJA DE DATOS'!G163=0,\"\",'HOJA DE DATOS'!G163)","v":"GRANULADO 3,5"},{"$f":"IF('HOJA DE DATOS'!H163=0,\"\",'HOJA DE DATOS'!H163)","v":"PIENSO COMPLEMENTARIO"},{"$f":"IF('HOJA DE DATOS'!I163=0,\"\",'HOJA DE DATOS'!I163)","v":"CABRAS EN ORDEÑO"},{"$f":"IF('HOJA DE DATOS'!Q163=0,\"\",'HOJA DE DATOS'!Q163)","v":"Pienso complementario destinado a cabras de leche para ser suministrado con paja a voluntad. La paja deberá ser limpia y seca y se administrará ad libitum. Los animales dispondrán de agua limpia y fresca."},{"$f":"IF('HOJA DE DATOS'!R163=0,\"\",'HOJA DE DATOS'!R163)","v":"Preferiblemente administrar varias veces al día pero que siempre lo tengan disponible. La transición a este alñimento debe ser lenta (15 días mínimo) y paulatina. Recomendamos tener a los animales desparasitados y vacunados de Enterotoxemia."},{"$f":"IF('HOJA DE DATOS'!S163=0,\"\",'HOJA DE DATOS'!S163)","v":"Pienso  destinado a cabras de leche para ser suministrado con paja a voluntad. La paja deberá ser limpia y seca y se administrará ad libitum. Los animales dispondrán de agua limpia y fresca."},{"$f":"IF('HOJA DE DATOS'!T163=0,\"\",'HOJA DE DATOS'!T163)","v":11},{"$f":"IF('HOJA DE DATOS'!U163=0,\"\",'HOJA DE DATOS'!U163)","v":17},{"$f":"IF('HOJA DE DATOS'!V163=0,\"\",'HOJA DE DATOS'!V163)","v":12},{"$f":"IF('HOJA DE DATOS'!W163=0,\"\",'HOJA DE DATOS'!W163)","v":3.5},{"$f":"IF('HOJA DE DATOS'!X163=0,\"\",'HOJA DE DATOS'!X163)","v":7.5},{"$f":"IF('HOJA DE DATOS'!Y163=0,\"\",'HOJA DE DATOS'!Y163)","v":22},{"$f":"IF('HOJA DE DATOS'!P163=0,\"\",'HOJA DE DATOS'!P163)","v":90}]
[null,{"$f":"IF('HOJA DE DATOS'!C164=0,\"\",'HOJA DE DATOS'!C164)","v":"CAPRIKOMPLET PLUS"},{"$f":"IF('HOJA DE DATOS'!D164=0,\"\",'HOJA DE DATOS'!D164)","v":"CAPRINO"},{"$f":"IF('HOJA DE DATOS'!E164=0,\"\",'HOJA DE DATOS'!E164)","v":"LECHE"},{"$f":"IF('HOJA DE DATOS'!F164=0,\"\",'HOJA DE DATOS'!F164)","v":"ORDEÑO"},{"$f":"IF('HOJA DE DATOS'!G164=0,\"\",'HOJA DE DATOS'!G164)","v":"GRANULADO 3,5"},{"$f":"IF('HOJA DE DATOS'!H164=0,\"\",'HOJA DE DATOS'!H164)","v":"PIENSO COMPLEMENTARIO"},{"$f":"IF('HOJA DE DATOS'!I164=0,\"\",'HOJA DE DATOS'!I164)","v":"CABRAS EN ORDEÑO"},{"$f":"IF('HOJA DE DATOS'!Q164=0,\"\",'HOJA DE DATOS'!Q164)","v":"Pienso complementario  de paja para cabras en ordeño. Los animales dispondrán en todo momento de paja de cereales y algo de forraje y agua limpia y fresca . Puede emplearse racionado o a voluntad. Diseñado especialmente para cabras tipo murciano."},{"$f":"IF('HOJA DE DATOS'!R164=0,\"\",'HOJA DE DATOS'!R164)","v":"Preferiblemente administrar varias veces al día pero que siempre lo tengan disponible. La transición a este alimento debe ser lenta (15 días mínimo) y paulatina. Recomendamos tener a los animales desparasitados y vacunados de Enterotoxemia."},{"$f":"IF('HOJA DE DATOS'!S164=0,\"\",'HOJA DE DATOS'!S164)","v":"Pienso  destinado a cabras de leche para ser suministrado con paja a voluntad y algo de forraje (mínimo 300gr al día). La paja deberá ser limpia y seca. Los animales dispondrán de agua limpia y fresca."},{"$f":"IF('HOJA DE DATOS'!T164=0,\"\",'HOJA DE DATOS'!T164)","v":11},{"$f":"IF('HOJA DE DATOS'!U164=0,\"\",'HOJA DE DATOS'!U164)","v":18},{"$f":"IF('HOJA DE DATOS'!V164=0,\"\",'HOJA DE DATOS'!V164)","v":10},{"$f":"IF('HOJA DE DATOS'!W164=0,\"\",'HOJA DE DATOS'!W164)","v":3.8},{"$f":"IF('HOJA DE DATOS'!X164=0,\"\",'HOJA DE DATOS'!X164)","v":7.4},{"$f":"IF('HOJA DE DATOS'!Y164=0,\"\",'HOJA DE DATOS'!Y164)","v":21},{"$f":"IF('HOJA DE DATOS'!P164=0,\"\",'HOJA DE DATOS'!P164)","v":94}]
[null,{"$f":"IF('HOJA DE DATOS'!C165=0,\"\",'HOJA DE DATOS'!C165)","v":"CAPRILAC INT. F 1500"},{"$f":"IF('HOJA DE DATOS'!D165=0,\"\",'HOJA DE DATOS'!D165)","v":"CAPRINO"},{"$f":"IF('HOJA DE DATOS'!E165=0,\"\",'HOJA DE DATOS'!E165)","v":"LECHE"},{"$f":"IF('HOJA DE DATOS'!F165=0,\"\",'HOJA DE DATOS'!F165)","v":"ORDEÑO"},{"$f":"IF('HOJA DE DATOS'!G165=0,\"\",'HOJA DE DATOS'!G165)","v":"MEZCLA F"},{"$f":"IF('HOJA DE DATOS'!H165=0,\"\",'HOJA DE DATOS'!H165)","v":"PIENSO COMPLETO"},{"$f":"IF('HOJA DE DATOS'!I165=0,\"\",'HOJA DE DATOS'!I165)","v":"CABRAS EN ORDEÑO"},{"$f":"IF('HOJA DE DATOS'!Q165=0,\"\",'HOJA DE DATOS'!Q165)","v":"Mezcla Integral con fibra larga completa destinada a la alimentacion de cabras de ordeño de media-alta producción."},{"$f":"IF('HOJA DE DATOS'!R165=0,\"\",'HOJA DE DATOS'!R165)","v":"Los animales dispondrán de agua limpia y fresca a libre servicio. Racionar según recomendaciones de los servicios técnicos."},{"$f":"IF('HOJA DE DATOS'!S165=0,\"\",'HOJA DE DATOS'!S165)","v":"Mezcla Integral con fibra larga completa destinada a la alimentacion de cabras de ordeño de media-alta producción.Los animales dispondrán de agua limpia y fresca a libre servicio. Racionar según recomendaciones de los servicios técnicos."},{"$f":"IF('HOJA DE DATOS'!T165=0,\"\",'HOJA DE DATOS'!T165)","v":9},{"$f":"IF('HOJA DE DATOS'!U165=0,\"\",'HOJA DE DATOS'!U165)","v":15.8},{"$f":"IF('HOJA DE DATOS'!V165=0,\"\",'HOJA DE DATOS'!V165)","v":18.2},{"$f":"IF('HOJA DE DATOS'!W165=0,\"\",'HOJA DE DATOS'!W165)","v":2.7},{"$f":"IF('HOJA DE DATOS'!X165=0,\"\",'HOJA DE DATOS'!X165)","v":7.5},{"$f":"IF('HOJA DE DATOS'!Y165=0,\"\",'HOJA DE DATOS'!Y165)","v":16},{"$f":"IF('HOJA DE DATOS'!P165=0,\"\",'HOJA DE DATOS'!P165)","v":82}]
[null,{"$f":"IF('HOJA DE DATOS'!C166=0,\"\",'HOJA DE DATOS'!C166)","v":"CAPRILAC INT. F 2500"},{"$f":"IF('HOJA DE DATOS'!D166=0,\"\",'HOJA DE DATOS'!D166)","v":"CAPRINO"},{"$f":"IF('HOJA DE DATOS'!E166=0,\"\",'HOJA DE DATOS'!E166)","v":"LECHE"},{"$f":"IF('HOJA DE DATOS'!F166=0,\"\",'HOJA DE DATOS'!F166)","v":"ORDEÑO"},{"$f":"IF('HOJA DE DATOS'!G166=0,\"\",'HOJA DE DATOS'!G166)","v":"MEZCLA F"},{"$f":"IF('HOJA DE DATOS'!H166=0,\"\",'HOJA DE DATOS'!H166)","v":"PIENSO COMPLETO"},{"$f":"IF('HOJA DE DATOS'!I166=0,\"\",'HOJA DE DATOS'!I166)","v":"CABRAS EN ORDEÑO"},{"$f":"IF('HOJA DE DATOS'!Q166=0,\"\",'HOJA DE DATOS'!Q166)","v":"Mezcla Integral con fibra larga completa destinada a la alimentacion de cabras de ordeño de alta producción.Pienso completo."},{"$f":"IF('HOJA DE DATOS'!R166=0,\"\",'HOJA DE DATOS'!R166)","v":"Los animales dispondrán de agua limpia y fresca a libre servicio. Racionar según recomendaciones de los servicios técnicos"},{"$f":"IF('HOJA DE DATOS'!S166=0,\"\",'HOJA DE DATOS'!S166)","v":"Mezcla Integral con fibra larga completa destinada a la alimentacion de cabras de ordeño de alta producción.Los animales dispondrán de agua limpia y fresca a libre servicio."},{"$f":"IF('HOJA DE DATOS'!T166=0,\"\",'HOJA DE DATOS'!T166)","v":9},{"$f":"IF('HOJA DE DATOS'!U166=0,\"\",'HOJA DE DATOS'!U166)","v":15.8},{"$f":"IF('HOJA DE DATOS'!V166=0,\"\",'HOJA DE DATOS'!V166)","v":17.5},{"$f":"IF('HOJA DE DATOS'!W166=0,\"\",'HOJA DE DATOS'!W166)","v":3},{"$f":"IF('HOJA DE DATOS'!X166=0,\"\",'HOJA DE DATOS'!X166)","v":7.3},{"$f":"IF('HOJA DE DATOS'!Y166=0,\"\",'HOJA DE DATOS'!Y166)","v":19.5},{"$f":"IF('HOJA DE DATOS'!P166=0,\"\",'HOJA DE DATOS'!P166)","v":80}]
[null,{"$f":"IF('HOJA DE DATOS'!C167=0,\"\",'HOJA DE DATOS'!C167)","v":"CAPRILAC INT. F GESTACION"},{"$f":"IF('HOJA DE DATOS'!D167=0,\"\",'HOJA DE DATOS'!D167)","v":"CAPRINO"},{"$f":"IF('HOJA DE DATOS'!E167=0,\"\",'HOJA DE DATOS'!E167)","v":"LECHE"},{"$f":"IF('HOJA DE DATOS'!F167=0,\"\",'HOJA DE DATOS'!F167)","v":"GESTACION"},{"$f":"IF('HOJA DE DATOS'!G167=0,\"\",'HOJA DE DATOS'!G167)","v":"MEZCLA F"},{"$f":"IF('HOJA DE DATOS'!H167=0,\"\",'HOJA DE DATOS'!H167)","v":"PIENSO COMPLETO"},{"$f":"IF('HOJA DE DATOS'!I167=0,\"\",'HOJA DE DATOS'!I167)","v":"CABRAS EN GESTACION"},{"$f":"IF('HOJA DE DATOS'!Q167=0,\"\",'HOJA DE DATOS'!Q167)","v":"Mezcla Integral con fibra larga completa destinada a la alimentacion de cabras de alta producción de leche en laq época de preparto (7 semanas antes del parto).Pienso completo."},{"$f":"IF('HOJA DE DATOS'!R167=0,\"\",'HOJA DE DATOS'!R167)","v":"Los animales dispondrán de agua limpia y fresca a libre servicio. Racionar según recomendaciones de los servicios técnicos"},{"$f":"IF('HOJA DE DATOS'!S167=0,\"\",'HOJA DE DATOS'!S167)","v":"Mezcla Integral con fibra larga completa destinada a la alimentacion de cabras de alta producción de leche en laq época de preparto (7 semanas antes del parto).Los animales dispondrán de agua limpia y fresca a libre servicio."},{"$f":"IF('HOJA DE DATOS'!T167=0,\"\",'HOJA DE DATOS'!T167)","v":9},{"$f":"IF('HOJA DE DATOS'!U167=0,\"\",'HOJA DE DATOS'!U167)","v":14.5},{"$f":"IF('HOJA DE DATOS'!V167=0,\"\",'HOJA DE DATOS'!V167)","v":17},{"$f":"IF('HOJA DE DATOS'!W167=0,\"\",'HOJA DE DATOS'!W167)","v":3.1},{"$f":"IF('HOJA DE DATOS'!X167=0,\"\",'HOJA DE DATOS'!X167)","v":7.2},{"$f":"IF('HOJA DE DATOS'!Y167=0,\"\",'HOJA DE DATOS'!Y167)","v":22},{"$f":"IF('HOJA DE DATOS'!P167=0,\"\",'HOJA DE DATOS'!P167)","v":78}]
[null,{"$f":"IF('HOJA DE DATOS'!C168=0,\"\",'HOJA DE DATOS'!C168)","v":"CAPRILAC INT. F MANTENIMIENTO"},{"$f":"IF('HOJA DE DATOS'!D168=0,\"\",'HOJA DE DATOS'!D168)","v":"CAPRINO"},{"$f":"IF('HOJA DE DATOS'!E168=0,\"\",'HOJA DE DATOS'!E168)","v":"LECHE"},{"$f":"IF('HOJA DE DATOS'!F168=0,\"\",'HOJA DE DATOS'!F168)","v":"ORDEÑO"},{"$f":"IF('HOJA DE DATOS'!G168=0,\"\",'HOJA DE DATOS'!G168)","v":"MEZCLA F"},{"$f":"IF('HOJA DE DATOS'!H168=0,\"\",'HOJA DE DATOS'!H168)","v":"PIENSO COMPLETO"},{"$f":"IF('HOJA DE DATOS'!I168=0,\"\",'HOJA DE DATOS'!I168)","v":"OVEJAS Y CABRAS EN MANTENIMIENTO Y LACTACION"},{"$f":"IF('HOJA DE DATOS'!Q168=0,\"\",'HOJA DE DATOS'!Q168)","v":"Mezcla Integral con fibra larga completa destinada a la alimentacion de cabras de ordeño en fase de mantenimiento o secado.Pienso completo."},{"$f":"IF('HOJA DE DATOS'!R168=0,\"\",'HOJA DE DATOS'!R168)","v":"Los animales dispondrán de agua limpia y fresca a libre servicio. Racionar según recomendaciones de los servicios técnicos."},{"$f":"IF('HOJA DE DATOS'!S168=0,\"\",'HOJA DE DATOS'!S168)","v":"Mezcla Integral con fibra larga completa destinada a la alimentacion de cabras de ordeño en fase de mantenimiento o secado.Los animales dispondrán de agua limpia y fresca a libre servicio. Racionar según recomendaciones de los servicios técnicos."},{"$f":"IF('HOJA DE DATOS'!T168=0,\"\",'HOJA DE DATOS'!T168)","v":9},{"$f":"IF('HOJA DE DATOS'!U168=0,\"\",'HOJA DE DATOS'!U168)","v":15.8},{"$f":"IF('HOJA DE DATOS'!V168=0,\"\",'HOJA DE DATOS'!V168)","v":18.2},{"$f":"IF('HOJA DE DATOS'!W168=0,\"\",'HOJA DE DATOS'!W168)","v":2.9},{"$f":"IF('HOJA DE DATOS'!X168=0,\"\",'HOJA DE DATOS'!X168)","v":8.1999999999999993},{"$f":"IF('HOJA DE DATOS'!Y168=0,\"\",'HOJA DE DATOS'!Y168)","v":16},{"$f":"IF('HOJA DE DATOS'!P168=0,\"\",'HOJA DE DATOS'!P168)","v":76}]
[null,{"$f":"IF('HOJA DE DATOS'!C169=0,\"\",'HOJA DE DATOS'!C169)","v":"CAPRILAC INT. N 1500"},{"$f":"IF('HOJA DE DATOS'!D169=0,\"\",'HOJA DE DATOS'!D169)","v":"CAPRINO"},{"$f":"IF('HOJA DE DATOS'!E169=0,\"\",'HOJA DE DATOS'!E169)","v":"LECHE"},{"$f":"IF('HOJA DE DATOS'!F169=0,\"\",'HOJA DE DATOS'!F169)","v":"ORDEÑO"},{"$f":"IF('HOJA DE DATOS'!G169=0,\"\",'HOJA DE DATOS'!G169)","v":"MEZCLA N"},{"$f":"IF('HOJA DE DATOS'!H169=0,\"\",'HOJA DE DATOS'!H169)","v":"PIENSO COMPLEMENTARIO"},{"$f":"IF('HOJA DE DATOS'!I169=0,\"\",'HOJA DE DATOS'!I169)","v":"CABRAS EN ORDEÑO"},{"$f":"IF('HOJA DE DATOS'!Q169=0,\"\",'HOJA DE DATOS'!Q169)","v":"Mezcla Integral con fibra larga complementaria de forraje destinada a la alimentacion de cabras de ordeño de media-alta producción.Pienso complementario."},{"$f":"IF('HOJA DE DATOS'!R169=0,\"\",'HOJA DE DATOS'!R169)","v":"Los animales dispondrán de agua limpia y fresca a libre servicio. Racionar según recomendaciones de los servicios técnicos"},{"$f":"IF('HOJA DE DATOS'!S169=0,\"\",'HOJA DE DATOS'!S169)","v":"Mezcla Integral con fibra larga complementaria de forraje destinada a la alimentacion de cabras de ordeño de media-alta producción.Los animales dispondrán de agua limpia y fresca a libre servicio. Racionar según recomendaciones de los servicios técnicos."},{"$f":"IF('HOJA DE DATOS'!T169=0,\"\",'HOJA DE DATOS'!T169)","v":9},{"$f":"IF('HOJA DE DATOS'!U169=0,\"\",'HOJA DE DATOS'!U169)","v":16},{"$f":"IF('HOJA DE DATOS'!V169=0,\"\",'HOJA DE DATOS'!V169)","v":12.9},{"$f":"IF('HOJA DE DATOS'!W169=0,\"\",'HOJA DE DATOS'!W169)","v":3.5},{"$f":"IF('HOJA DE DATOS'!X169=0,\"\",'HOJA DE DATOS'!X169)","v":7.4},{"$f":"IF('HOJA DE DATOS'!Y169=0,\"\",'HOJA DE DATOS'!Y169)","v":24},{"$f":"IF('HOJA DE DATOS'!P169=0,\"\",'HOJA DE DATOS'!P169)","v":86}]
[null,{"$f":"IF('HOJA DE DATOS'!C170=0,\"\",'HOJA DE DATOS'!C170)","v":"CAPRILAC INT. N 2500"},{"$f":"IF('HOJA DE DATOS'!D170=0,\"\",'HOJA DE DATOS'!D170)","v":"CAPRINO"},{"$f":"IF('HOJA DE DATOS'!E170=0,\"\",'HOJA DE DATOS'!E170)","v":"LECHE"},{"$f":"IF('HOJA DE DATOS'!F170=0,\"\",'HOJA DE DATOS'!F170)","v":"ORDEÑO"},{"$f":"IF('HOJA DE DATOS'!G170=0,\"\",'HOJA DE DATOS'!G170)","v":"MEZCLA N"},{"$f":"IF('HOJA DE DATOS'!H170=0,\"\",'HOJA DE DATOS'!H170)","v":"PIENSO COMPLEMENTARIO"},{"$f":"IF('HOJA DE DATOS'!I170=0,\"\",'HOJA DE DATOS'!I170)","v":"CABRAS EN ORDEÑO"},{"$f":"IF('HOJA DE DATOS'!Q170=0,\"\",'HOJA DE DATOS'!Q170)","v":"Mezcla Integral con fibra corta  destinada a la alimentacion de cabras de ordeño de media-alta producción.Pienso complementario."},{"$f":"IF('HOJA DE DATOS'!R170=0,\"\",'HOJA DE DATOS'!R170)","v":"Los animales dispondrán de agua limpia y fresca a libre servicio. Racionar según recomendaciones de los servicios técnicos"},{"$f":"IF('HOJA DE DATOS'!S170=0,\"\",'HOJA DE DATOS'!S170)","v":"Mezcla Integral con fibra corta  destinada a la alimentacion de cabras de ordeño de media-alta producción.Los animales dispondrán de agua limpia y fresca a libre servicio. Racionar según recomendaciones de los servicios técnicos."},{"$f":"IF('HOJA DE DATOS'!T170=0,\"\",'HOJA DE DATOS'!T170)","v":9},{"$f":"IF('HOJA DE DATOS'!U170=0,\"\",'HOJA DE DATOS'!U170)","v":15.2},{"$f":"IF('HOJA DE DATOS'!V170=0,\"\",'HOJA DE DATOS'!V170)","v":11},{"$f":"IF('HOJA DE DATOS'!W170=0,\"\",'HOJA DE DATOS'!W170)","v":4.5},{"$f":"IF('HOJA DE DATOS'!X170=0,\"\",'HOJA DE DATOS'!X170)","v":6.9},{"$f":"IF('HOJA DE DATOS'!Y170=0,\"\",'HOJA DE DATOS'!Y170)","v":29},{"$f":"IF('HOJA DE DATOS'!P170=0,\"\",'HOJA DE DATOS'!P170)","v":93}]
[null,{"$f":"IF('HOJA DE DATOS'!C171=0,\"\",'HOJA DE DATOS'!C171)","v":"CAPRILAC INT. N GESTACION"},{"$f":"IF('HOJA DE DATOS'!D171=0,\"\",'HOJA DE DATOS'!D171)","v":"CAPRINO"},{"$f":"IF('HOJA DE DATOS'!E171=0,\"\",'HOJA DE DATOS'!E171)","v":"LECHE"},{"$f":"IF('HOJA DE DATOS'!F171=0,\"\",'HOJA DE DATOS'!F171)","v":"GESTACION"},{"$f":"IF('HOJA DE DATOS'!G171=0,\"\",'HOJA DE DATOS'!G171)","v":"MEZCLA N"},{"$f":"IF('HOJA DE DATOS'!H171=0,\"\",'HOJA DE DATOS'!H171)","v":"PIENSO COMPLEMENTARIO"},{"$f":"IF('HOJA DE DATOS'!I171=0,\"\",'HOJA DE DATOS'!I171)","v":"CABRAS EN GESTACION"},{"$f":"IF('HOJA DE DATOS'!Q171=0,\"\",'HOJA DE DATOS'!Q171)","v":"Mezcla Integral con fibra corta completa destinada a la alimentacion de cabras de alta producción de leche en laq época de preparto (7 semanas antes del parto).Pienso complementario."},{"$f":"IF('HOJA DE DATOS'!R171=0,\"\",'HOJA DE DATOS'!R171)","v":"Los animales dispondrán de agua limpia y fresca a libre servicio. Racionar según recomendaciones de los servicios técnicos"},{"$f":"IF('HOJA DE DATOS'!S171=0,\"\",'HOJA DE DATOS'!S171)","v":"Mezcla Integral con fibra corta completa destinada a la alimentacion de cabras de alta producción de leche en la época de preparto (7 semanas antes del parto).Complementario de forrajes.Los animales dispondrán de agua limpia y fresca a libre servicio."},{"$f":"IF('HOJA DE DATOS'!T171=0,\"\",'HOJA DE DATOS'!T171)","v":9},{"$f":"IF('HOJA DE DATOS'!U171=0,\"\",'HOJA DE DATOS'!U171)","v":14.5},{"$f":"IF('HOJA DE DATOS'!V171=0,\"\",'HOJA DE DATOS'!V171)","v":9.8000000000000007},{"$f":"IF('HOJA DE DATOS'!W171=0,\"\",'HOJA DE DATOS'!W171)","v":4.0999999999999996},{"$f":"IF('HOJA DE DATOS'!X171=0,\"\",'HOJA DE DATOS'!X171)","v":7.4},{"$f":"IF('HOJA DE DATOS'!Y171=0,\"\",'HOJA DE DATOS'!Y171)","v":30},{"$f":"IF('HOJA DE DATOS'!P171=0,\"\",'HOJA DE DATOS'!P171)","v":92}]
[null,{"$f":"IF('HOJA DE DATOS'!C172=0,\"\",'HOJA DE DATOS'!C172)","v":"CAPRILAC INT. N MANTENIMIENTO"},{"$f":"IF('HOJA DE DATOS'!D172=0,\"\",'HOJA DE DATOS'!D172)","v":"CAPRINO"},{"$f":"IF('HOJA DE DATOS'!E172=0,\"\",'HOJA DE DATOS'!E172)","v":"LECHE"},{"$f":"IF('HOJA DE DATOS'!F172=0,\"\",'HOJA DE DATOS'!F172)","v":"ORDEÑO"},{"$f":"IF('HOJA DE DATOS'!G172=0,\"\",'HOJA DE DATOS'!G172)","v":"MEZCLA N"},{"$f":"IF('HOJA DE DATOS'!H172=0,\"\",'HOJA DE DATOS'!H172)","v":"PIENSO COMPLEMENTARIO"},{"$f":"IF('HOJA DE DATOS'!I172=0,\"\",'HOJA DE DATOS'!I172)","v":"OVEJAS Y CABRAS EN MANTENIMIENTO Y LACTACION"},{"$f":"IF('HOJA DE DATOS'!Q172=0,\"\",'HOJA DE DATOS'!Q172)","v":"Mezcla Integral con fibra larga complementaria de forraje destinada a la alimentacion de cabras en mantenimiento o recuperación de reservas corporales.Pienso complementario."},{"$f":"IF('HOJA DE DATOS'!R172=0,\"\",'HOJA DE DATOS'!R172)","v":"Los animales dispondrán de agua limpia y fresca a libre servicio. Racionar según recomendaciones de los servicios técnicos."},{"$f":"IF('HOJA DE DATOS'!S172=0,\"\",'HOJA DE DATOS'!S172)","v":"Mezcla Integral con fibra larga complementaria de forraje destinada a la alimentacion de cabras en mantenimiento o recuperación de reservas corporales.Los animales dispondrán de agua limpia y fresca a libre servicio."},{"$f":"IF('HOJA DE DATOS'!T172=0,\"\",'HOJA DE DATOS'!T172)","v":9},{"$f":"IF('HOJA DE DATOS'!U172=0,\"\",'HOJA DE DATOS'!U172)","v":15.5},{"$f":"IF('HOJA DE DATOS'!V172=0,\"\",'HOJA DE DATOS'!V172)","v":14.4},{"$f":"IF('HOJA DE DATOS'!W172=0,\"\",'HOJA DE DATOS'!W172)","v":2.8},{"$f":"IF('HOJA DE DATOS'!X172=0,\"\",'HOJA DE DATOS'!X172)","v":8.6},{"$f":"IF('HOJA DE DATOS'!Y172=0,\"\",'HOJA DE DATOS'!Y172)","v":20},{"$f":"IF('HOJA DE DATOS'!P172=0,\"\",'HOJA DE DATOS'!P172)","v":75}]
[null,{"$f":"IF('HOJA DE DATOS'!C173=0,\"\",'HOJA DE DATOS'!C173)","v":"CAPRILACTAL"},{"$f":"IF('HOJA DE DATOS'!D173=0,\"\",'HOJA DE DATOS'!D173)","v":"CAPRINO"},{"$f":"IF('HOJA DE DATOS'!E173=0,\"\",'HOJA DE DATOS'!E173)","v":"LECHE"},{"$f":"IF('HOJA DE DATOS'!F173=0,\"\",'HOJA DE DATOS'!F173)","v":"ORDEÑO"},{"$f":"IF('HOJA DE DATOS'!G173=0,\"\",'HOJA DE DATOS'!G173)","v":"GRANULADO 3,5"},{"$f":"IF('HOJA DE DATOS'!H173=0,\"\",'HOJA DE DATOS'!H173)","v":"PIENSO COMPLEMENTARIO"},{"$f":"IF('HOJA DE DATOS'!I173=0,\"\",'HOJA DE DATOS'!I173)","v":"CABRAS EN ORDEÑO"},{"$f":"IF('HOJA DE DATOS'!Q173=0,\"\",'HOJA DE DATOS'!Q173)","v":"Pienso complementario de cabras destinado a ordeño para animales de media-alta producción. Tambien como puenteo o raciones UNIFEED. Complementario de forrajes"},{"$f":"IF('HOJA DE DATOS'!R173=0,\"\",'HOJA DE DATOS'!R173)","v":"Las dosificaciones deben hacerse atendiendo a la producción y a las caractarísticas de la oveja así como a los forrajes de la ración de base\nAdministrar siempre agua limpia y fresca"},{"$f":"IF('HOJA DE DATOS'!S173=0,\"\",'HOJA DE DATOS'!S173)","v":"Pienso  de cabras destinado a ordeño para animales de media-alta producción. Tambien como puenteo o raciones UNIFEED. Complementario de forrajes.Administrar siempre agua limpia y fresca"},{"$f":"IF('HOJA DE DATOS'!T173=0,\"\",'HOJA DE DATOS'!T173)","v":11},{"$f":"IF('HOJA DE DATOS'!U173=0,\"\",'HOJA DE DATOS'!U173)","v":17.5},{"$f":"IF('HOJA DE DATOS'!V173=0,\"\",'HOJA DE DATOS'!V173)","v":9.6},{"$f":"IF('HOJA DE DATOS'!W173=0,\"\",'HOJA DE DATOS'!W173)","v":4.5},{"$f":"IF('HOJA DE DATOS'!X173=0,\"\",'HOJA DE DATOS'!X173)","v":9.6999999999999993},{"$f":"IF('HOJA DE DATOS'!Y173=0,\"\",'HOJA DE DATOS'!Y173)","v":25},{"$f":"IF('HOJA DE DATOS'!P173=0,\"\",'HOJA DE DATOS'!P173)","v":88}]
[null,{"$f":"IF('HOJA DE DATOS'!C174=0,\"\",'HOJA DE DATOS'!C174)","v":"CAPRILACTAL EXTRA"},{"$f":"IF('HOJA DE DATOS'!D174=0,\"\",'HOJA DE DATOS'!D174)","v":"CAPRINO"},{"$f":"IF('HOJA DE DATOS'!E174=0,\"\",'HOJA DE DATOS'!E174)","v":"LECHE"},{"$f":"IF('HOJA DE DATOS'!F174=0,\"\",'HOJA DE DATOS'!F174)","v":"ORDEÑO"},{"$f":"IF('HOJA DE DATOS'!G174=0,\"\",'HOJA DE DATOS'!G174)","v":"GRANULADO 3,5"},{"$f":"IF('HOJA DE DATOS'!H174=0,\"\",'HOJA DE DATOS'!H174)","v":"PIENSO COMPLEMENTARIO"},{"$f":"IF('HOJA DE DATOS'!I174=0,\"\",'HOJA DE DATOS'!I174)","v":"CABRAS EN ORDEÑO"},{"$f":"IF('HOJA DE DATOS'!Q174=0,\"\",'HOJA DE DATOS'!Q174)","v":"Pienso complementario de cabras destinado a ordeño para animales de media-alta producción. Tambien como puenteo o raciones UNIFEED. Complementario de forrajes"},{"$f":"IF('HOJA DE DATOS'!R174=0,\"\",'HOJA DE DATOS'!R174)","v":"Las dosificaciones deben hacerse atendiendo a la producción y a las caractarísticas de la oveja así como a los forrajes de la ración de base\nAdministrar siempre agua limpia y fresca"},{"$f":"IF('HOJA DE DATOS'!S174=0,\"\",'HOJA DE DATOS'!S174)","v":"Pienso  de cabras destinado a ordeño para animales de media-alta producción. Tambien como puenteo o raciones UNIFEED. Complementario de forrajes.Administrar siempre agua limpia y fresca"},{"$f":"IF('HOJA DE DATOS'!T174=0,\"\",'HOJA DE DATOS'!T174)","v":11},{"$f":"IF('HOJA DE DATOS'!U174=0,\"\",'HOJA DE DATOS'!U174)","v":19.7},{"$f":"IF('HOJA DE DATOS'!V174=0,\"\",'HOJA DE DATOS'!V174)","v":7.8},{"$f":"IF('HOJA DE DATOS'!W174=0,\"\",'HOJA DE DATOS'!W174)","v":3.9},{"$f":"IF('HOJA DE DATOS'!X174=0,\"\",'HOJA DE DATOS'!X174)","v":10},{"$f":"IF('HOJA DE DATOS'!Y174=0,\"\",'HOJA DE DATOS'!Y174)","v":26},{"$f":"IF('HOJA DE DATOS'!P174=0,\"\",'HOJA DE DATOS'!P174)","v":90}]
[null,{"$f":"IF('HOJA DE DATOS'!C175=0,\"\",'HOJA DE DATOS'!C175)","v":"CAPRILACTAL SUPER (CAPRILEITE)"},{"$f":"IF('HOJA DE DATOS'!D175=0,\"\",'HOJA DE DATOS'!D175)","v":"CAPRINO"},{"$f":"IF('HOJA DE DATOS'!E175=0,\"\",'HOJA DE DATOS'!E175)","v":"LECHE"},{"$f":"IF('HOJA DE DATOS'!F175=0,\"\",'HOJA DE DATOS'!F175)","v":"ORDEÑO"},{"$f":"IF('HOJA DE DATOS'!G175=0,\"\",'HOJA DE DATOS'!G175)","v":"GRANULADO 3,5"},{"$f":"IF('HOJA DE DATOS'!H175=0,\"\",'HOJA DE DATOS'!H175)","v":"PIENSO COMPLEMENTARIO"},{"$f":"IF('HOJA DE DATOS'!I175=0,\"\",'HOJA DE DATOS'!I175)","v":"CABRAS EN ORDEÑO"},{"$f":"IF('HOJA DE DATOS'!Q175=0,\"\",'HOJA DE DATOS'!Q175)","v":"Pienso complementario de cabras destinado a ordeño para animales de media-alta producción. Tambien como puenteo o raciones UNIFEED. Complementario de forrajes"},{"$f":"IF('HOJA DE DATOS'!R175=0,\"\",'HOJA DE DATOS'!R175)","v":"Las dosificaciones deben hacerse atendiendo a la producción y a las caractarísticas de la oveja así como a los forrajes de la ración de base. Administrar siempre agua limpia y fresca"},{"$f":"IF('HOJA DE DATOS'!S175=0,\"\",'HOJA DE DATOS'!S175)","v":"Pienso  de cabras destinado a ordeño para animales de media-alta producción. Tambien como puenteo o raciones UNIFEED. Complementario de forrajes.Administrar siempre agua limpia y fresca"},{"$f":"IF('HOJA DE DATOS'!T175=0,\"\",'HOJA DE DATOS'!T175)","v":11},{"$f":"IF('HOJA DE DATOS'!U175=0,\"\",'HOJA DE DATOS'!U175)","v":21},{"$f":"IF('HOJA DE DATOS'!V175=0,\"\",'HOJA DE DATOS'!V175)","v":7},{"$f":"IF('HOJA DE DATOS'!W175=0,\"\",'HOJA DE DATOS'!W175)","v":3},{"$f":"IF('HOJA DE DATOS'!X175=0,\"\",'HOJA DE DATOS'!X175)","v":8.4},{"$f":"IF('HOJA DE DATOS'!Y175=0,\"\",'HOJA DE DATOS'!Y175)","v":35},{"$f":"IF('HOJA DE DATOS'!P175=0,\"\",'HOJA DE DATOS'!P175)","v":93}]
[null,{"$f":"IF('HOJA DE DATOS'!C176=0,\"\",'HOJA DE DATOS'!C176)","v":"CAPRILACTAL TOP"},{"$f":"IF('HOJA DE DATOS'!D176=0,\"\",'HOJA DE DATOS'!D176)","v":"CAPRINO"},{"$f":"IF('HOJA DE DATOS'!E176=0,\"\",'HOJA DE DATOS'!E176)","v":"LECHE"},{"$f":"IF('HOJA DE DATOS'!F176=0,\"\",'HOJA DE DATOS'!F176)","v":"ORDEÑO"},{"$f":"IF('HOJA DE DATOS'!G176=0,\"\",'HOJA DE DATOS'!G176)","v":"GRANULADO 3,5"},{"$f":"IF('HOJA DE DATOS'!H176=0,\"\",'HOJA DE DATOS'!H176)","v":"PIENSO COMPLEMENTARIO"},{"$f":"IF('HOJA DE DATOS'!I176=0,\"\",'HOJA DE DATOS'!I176)","v":"CABRAS EN ORDEÑO"},{"$f":"IF('HOJA DE DATOS'!Q176=0,\"\",'HOJA DE DATOS'!Q176)","v":"Pienso de cabras  lecheras complementario de forraje para suministrar a ovejas de alta producción en ordeño, en pesebre o sala. Racionar según ración de volumen, peso y producción."},{"$f":"IF('HOJA DE DATOS'!R176=0,\"\",'HOJA DE DATOS'!R176)","v":"Los animales dispondrán en todo momento de agua limpia y fresca a libre servicio. Consultar a los servicios técnicos."},{"$f":"IF('HOJA DE DATOS'!S176=0,\"\",'HOJA DE DATOS'!S176)","v":"Pienso de cabras  lecheras  para suministrar a ovejas de alta producción.Complementario de forraje.Los animales dispondrán en todo momento de agua limpia y fresca a libre servicio."},{"$f":"IF('HOJA DE DATOS'!T176=0,\"\",'HOJA DE DATOS'!T176)","v":11},{"$f":"IF('HOJA DE DATOS'!U176=0,\"\",'HOJA DE DATOS'!U176)","v":22},{"$f":"IF('HOJA DE DATOS'!V176=0,\"\",'HOJA DE DATOS'!V176)","v":7.2},{"$f":"IF('HOJA DE DATOS'!W176=0,\"\",'HOJA DE DATOS'!W176)","v":3.5},{"$f":"IF('HOJA DE DATOS'!X176=0,\"\",'HOJA DE DATOS'!X176)","v":8},{"$f":"IF('HOJA DE DATOS'!Y176=0,\"\",'HOJA DE DATOS'!Y176)","v":28},{"$f":"IF('HOJA DE DATOS'!P176=0,\"\",'HOJA DE DATOS'!P176)","v":96}]
[null,{"$f":"IF('HOJA DE DATOS'!C177=0,\"\",'HOJA DE DATOS'!C177)","v":"CAPRILACTAL TRIPLEX"},{"$f":"IF('HOJA DE DATOS'!D177=0,\"\",'HOJA DE DATOS'!D177)","v":"CAPRINO"},{"$f":"IF('HOJA DE DATOS'!E177=0,\"\",'HOJA DE DATOS'!E177)","v":"LECHE"},{"$f":"IF('HOJA DE DATOS'!F177=0,\"\",'HOJA DE DATOS'!F177)","v":"ORDEÑO"},{"$f":"IF('HOJA DE DATOS'!G177=0,\"\",'HOJA DE DATOS'!G177)","v":"GRANULADO 3,5"},{"$f":"IF('HOJA DE DATOS'!H177=0,\"\",'HOJA DE DATOS'!H177)","v":"PIENSO COMPLEMENTARIO"},{"$f":"IF('HOJA DE DATOS'!I177=0,\"\",'HOJA DE DATOS'!I177)","v":"CABRAS EN ORDEÑO"},{"$f":"IF('HOJA DE DATOS'!Q177=0,\"\",'HOJA DE DATOS'!Q177)","v":"Pienso de cabras lecheras complementario de forraje para suministrar a cabras de alta producción en ordeño, en pesebre o sala. Racionar según ración de volumen, peso y producción."},{"$f":"IF('HOJA DE DATOS'!R177=0,\"\",'HOJA DE DATOS'!R177)","v":"Los animales dispondrán en todo momento de agua limpia y fresca a libre servicio. Consultar a los servicios técnicos."},{"$f":"IF('HOJA DE DATOS'!S177=0,\"\",'HOJA DE DATOS'!S177)","v":"Pienso  de cabras destinado a ordeño para animales de alta producción. Tambien como puenteo o raciones UNIFEED. Complementario de forrajes.Administrar siempre agua limpia y fresca"},{"$f":"IF('HOJA DE DATOS'!T177=0,\"\",'HOJA DE DATOS'!T177)","v":11},{"$f":"IF('HOJA DE DATOS'!U177=0,\"\",'HOJA DE DATOS'!U177)","v":19},{"$f":"IF('HOJA DE DATOS'!V177=0,\"\",'HOJA DE DATOS'!V177)","v":5.8},{"$f":"IF('HOJA DE DATOS'!W177=0,\"\",'HOJA DE DATOS'!W177)","v":11.3},{"$f":"IF('HOJA DE DATOS'!X177=0,\"\",'HOJA DE DATOS'!X177)","v":5.6},{"$f":"IF('HOJA DE DATOS'!Y177=0,\"\",'HOJA DE DATOS'!Y177)","v":25},{"$f":"IF('HOJA DE DATOS'!P177=0,\"\",'HOJA DE DATOS'!P177)","v":112}]
[null,{"$f":"IF('HOJA DE DATOS'!C178=0,\"\",'HOJA DE DATOS'!C178)","v":"CAPRINOLAC"},{"$f":"IF('HOJA DE DATOS'!D178=0,\"\",'HOJA DE DATOS'!D178)","v":"CAPRINO"},{"$f":"IF('HOJA DE DATOS'!E178=0,\"\",'HOJA DE DATOS'!E178)","v":"LECHE"},{"$f":"IF('HOJA DE DATOS'!F178=0,\"\",'HOJA DE DATOS'!F178)","v":"ORDEÑO"},{"$f":"IF('HOJA DE DATOS'!G178=0,\"\",'HOJA DE DATOS'!G178)","v":"GRANULADO 3,5"},{"$f":"IF('HOJA DE DATOS'!H178=0,\"\",'HOJA DE DATOS'!H178)","v":"PIENSO COMPLEMENTARIO"},{"$f":"IF('HOJA DE DATOS'!I178=0,\"\",'HOJA DE DATOS'!I178)","v":"CABRAS EN ORDEÑO"},{"$f":"IF('HOJA DE DATOS'!Q178=0,\"\",'HOJA DE DATOS'!Q178)","v":"Pienso complementario de cabras destinado a ordeño para animales de alta producción. Tambien como puenteo o raciones UNIFEED. Complementario de forrajes"},{"$f":"IF('HOJA DE DATOS'!R178=0,\"\",'HOJA DE DATOS'!R178)","v":"Las dosificaciones deben hacerse atendiendo a la producción y a las características de la oveja así como a los forrajes de la ración de base\nAdministrar siempre agua limpia y fresca"},{"$f":"IF('HOJA DE DATOS'!S178=0,\"\",'HOJA DE DATOS'!S178)","v":"Pienso  de cabras destinado a ordeño para animales de alta producción. Tambien como puenteo o raciones UNIFEED. Complementario de forrajes.Administrar siempre agua limpia y fresca"},{"$f":"IF('HOJA DE DATOS'!T178=0,\"\",'HOJA DE DATOS'!T178)","v":11},{"$f":"IF('HOJA DE DATOS'!U178=0,\"\",'HOJA DE DATOS'!U178)","v":17.5},{"$f":"IF('HOJA DE DATOS'!V178=0,\"\",'HOJA DE DATOS'!V178)","v":8},{"$f":"IF('HOJA DE DATOS'!W178=0,\"\",'HOJA DE DATOS'!W178)","v":3.5},{"$f":"IF('HOJA DE DATOS'!X178=0,\"\",'HOJA DE DATOS'!X178)","v":7.3},{"$f":"IF('HOJA DE DATOS'!Y178=0,\"\",'HOJA DE DATOS'!Y178)","v":32},{"$f":"IF('HOJA DE DATOS'!P178=0,\"\",'HOJA DE DATOS'!P178)","v":89}]
[null,{"$f":"IF('HOJA DE DATOS'!C179=0,\"\",'HOJA DE DATOS'!C179)","v":"CAPRINOLAC TOP"},{"$f":"IF('HOJA DE DATOS'!D179=0,\"\",'HOJA DE DATOS'!D179)","v":"CAPRINO"},{"$f":"IF('HOJA DE DATOS'!E179=0,\"\",'HOJA DE DATOS'!E179)","v":"LECHE"},{"$f":"IF('HOJA DE DATOS'!F179=0,\"\",'HOJA DE DATOS'!F179)","v":"ORDEÑO"},{"$f":"IF('HOJA DE DATOS'!G179=0,\"\",'HOJA DE DATOS'!G179)","v":"GRANULADO 3,5"},{"$f":"IF('HOJA DE DATOS'!H179=0,\"\",'HOJA DE DATOS'!H179)","v":"PIENSO COMPLEMENTARIO"},{"$f":"IF('HOJA DE DATOS'!I179=0,\"\",'HOJA DE DATOS'!I179)","v":"CABRAS EN ORDEÑO"},{"$f":"IF('HOJA DE DATOS'!Q179=0,\"\",'HOJA DE DATOS'!Q179)","v":"Pienso complementario de cabras destinado a ordeño para animales de alta producción. Tambien como puenteo o raciones UNIFEED. Complementario de forrajes"},{"$f":"IF('HOJA DE DATOS'!R179=0,\"\",'HOJA DE DATOS'!R179)","v":"Las dosificaciones deben hacerse atendiendo a la producción y a las características de la oveja así como a los forrajes de la ración de base\nAdministrar siempre agua limpia y fresca"},{"$f":"IF('HOJA DE DATOS'!S179=0,\"\",'HOJA DE DATOS'!S179)","v":"Pienso  de cabras destinado a ordeño para animales de alta producción. Tambien como puenteo o raciones UNIFEED. Complementario de forrajes.Administrar siempre agua limpia y fresca"},{"$f":"IF('HOJA DE DATOS'!T179=0,\"\",'HOJA DE DATOS'!T179)","v":11},{"$f":"IF('HOJA DE DATOS'!U179=0,\"\",'HOJA DE DATOS'!U179)","v":22.1},{"$f":"IF('HOJA DE DATOS'!V179=0,\"\",'HOJA DE DATOS'!V179)","v":5.6},{"$f":"IF('HOJA DE DATOS'!W179=0,\"\",'HOJA DE DATOS'!W179)","v":3.5},{"$f":"IF('HOJA DE DATOS'!X179=0,\"\",'HOJA DE DATOS'!X179)","v":6.9},{"$f":"IF('HOJA DE DATOS'!Y179=0,\"\",'HOJA DE DATOS'!Y179)","v":32},{"$f":"IF('HOJA DE DATOS'!P179=0,\"\",'HOJA DE DATOS'!P179)","v":96}]
[null,{"$f":"IF('HOJA DE DATOS'!C180=0,\"\",'HOJA DE DATOS'!C180)","v":"CAPRIRECRIA"},{"$f":"IF('HOJA DE DATOS'!D180=0,\"\",'HOJA DE DATOS'!D180)","v":"CAPRINO"},{"$f":"IF('HOJA DE DATOS'!E180=0,\"\",'HOJA DE DATOS'!E180)","v":"LECHE"},{"$f":"IF('HOJA DE DATOS'!F180=0,\"\",'HOJA DE DATOS'!F180)","v":"REPOSICION"},{"$f":"IF('HOJA DE DATOS'!G180=0,\"\",'HOJA DE DATOS'!G180)","v":"GRANULADO 3,5"},{"$f":"IF('HOJA DE DATOS'!H180=0,\"\",'HOJA DE DATOS'!H180)","v":"PIENSO COMPLEMENTARIO"},{"$f":"IF('HOJA DE DATOS'!I180=0,\"\",'HOJA DE DATOS'!I180)","v":"CHIVAS DE REPOSICION"},{"$f":"IF('HOJA DE DATOS'!Q180=0,\"\",'HOJA DE DATOS'!Q180)","v":"Pienso complementario destinados a chivas de reposición desde los 3 a los 6-7 meses. Se puede suministar a voluntad con paja ad libitumn pero es aconsejable el aporte de forrajes"},{"$f":"IF('HOJA DE DATOS'!R180=0,\"\",'HOJA DE DATOS'!R180)","v":"Los animales dispondrán en todo momento de agua limpia y fresca a libre servicio. Consultar a los servicios técnicos."},{"$f":"IF('HOJA DE DATOS'!S180=0,\"\",'HOJA DE DATOS'!S180)","v":"Pienso destinado a chivas de reposición desde los 3 a los 6-7 meses. Se puede suministar a voluntad con paja ad libitumn pero es aconsejable el aporte de forrajes.Los animales dispondrán en todo momento de agua limpia y fresca a libre servicio."},{"$f":"IF('HOJA DE DATOS'!T180=0,\"\",'HOJA DE DATOS'!T180)","v":11},{"$f":"IF('HOJA DE DATOS'!U180=0,\"\",'HOJA DE DATOS'!U180)","v":16.5},{"$f":"IF('HOJA DE DATOS'!V180=0,\"\",'HOJA DE DATOS'!V180)","v":8.1999999999999993},{"$f":"IF('HOJA DE DATOS'!W180=0,\"\",'HOJA DE DATOS'!W180)","v":3.5},{"$f":"IF('HOJA DE DATOS'!X180=0,\"\",'HOJA DE DATOS'!X180)","v":7.8},{"$f":"IF('HOJA DE DATOS'!Y180=0,\"\",'HOJA DE DATOS'!Y180)","v":31.1},{"$f":"IF('HOJA DE DATOS'!P180=0,\"\",'HOJA DE DATOS'!P180)","v":89}]
[null,{"$f":"IF('HOJA DE DATOS'!C181=0,\"\",'HOJA DE DATOS'!C181)","v":"CAPRIRECRIA CONTINUACION"},{"$f":"IF('HOJA DE DATOS'!D181=0,\"\",'HOJA DE DATOS'!D181)","v":"CAPRINO"},{"$f":"IF('HOJA DE DATOS'!E181=0,\"\",'HOJA DE DATOS'!E181)","v":"LECHE"},{"$f":"IF('HOJA DE DATOS'!F181=0,\"\",'HOJA DE DATOS'!F181)","v":"REPOSICION"},{"$f":"IF('HOJA DE DATOS'!G181=0,\"\",'HOJA DE DATOS'!G181)","v":"GRANULADO 3,5"},{"$f":"IF('HOJA DE DATOS'!H181=0,\"\",'HOJA DE DATOS'!H181)","v":"PIENSO COMPLEMENTARIO"},{"$f":"IF('HOJA DE DATOS'!I181=0,\"\",'HOJA DE DATOS'!I181)","v":"CHIVAS DE REPOSICION"},{"$f":"IF('HOJA DE DATOS'!Q181=0,\"\",'HOJA DE DATOS'!Q181)","v":"Pienso complementario destinados a chivasde reposición desde los 6-7 meses hasta el primer preparto. Suministrar racionado a razón de 0.7 Kg máximo por día como complementario de forrajes."},{"$f":"IF('HOJA DE DATOS'!R181=0,\"\",'HOJA DE DATOS'!R181)","v":"Los animales dispondrán en todo momento de agua limpia y fresca a libre servicio."},{"$f":"IF('HOJA DE DATOS'!S181=0,\"\",'HOJA DE DATOS'!S181)","v":"Pienso destinados a chivasde reposición desde los 6-7 meses hasta el primer preparto. Suministrar racionado a razón de 0.7 Kg máximo por día como complementario de forrajes.Los animales dispondrán en todo momento de agua limpia y fresca a libre servicio."},{"$f":"IF('HOJA DE DATOS'!T181=0,\"\",'HOJA DE DATOS'!T181)","v":11},{"$f":"IF('HOJA DE DATOS'!U181=0,\"\",'HOJA DE DATOS'!U181)","v":16},{"$f":"IF('HOJA DE DATOS'!V181=0,\"\",'HOJA DE DATOS'!V181)","v":9},{"$f":"IF('HOJA DE DATOS'!W181=0,\"\",'HOJA DE DATOS'!W181)","v":2.9},{"$f":"IF('HOJA DE DATOS'!X181=0,\"\",'HOJA DE DATOS'!X181)","v":8.1},{"$f":"IF('HOJA DE DATOS'!Y181=0,\"\",'HOJA DE DATOS'!Y181)","v":28},{"$f":"IF('HOJA DE DATOS'!P181=0,\"\",'HOJA DE DATOS'!P181)","v":82}]
[null,{"$f":"IF('HOJA DE DATOS'!C182=0,\"\",'HOJA DE DATOS'!C182)","v":"CEREGEST"},{"$f":"IF('HOJA DE DATOS'!D182=0,\"\",'HOJA DE DATOS'!D182)","v":"OVINO/CAPRINO"},{"$f":"IF('HOJA DE DATOS'!E182=0,\"\",'HOJA DE DATOS'!E182)","v":"LECHE"},{"$f":"IF('HOJA DE DATOS'!F182=0,\"\",'HOJA DE DATOS'!F182)","v":"GESTACION"},{"$f":"IF('HOJA DE DATOS'!G182=0,\"\",'HOJA DE DATOS'!G182)","v":"GRANULADO 3,5"},{"$f":"IF('HOJA DE DATOS'!H182=0,\"\",'HOJA DE DATOS'!H182)","v":"PIENSO COMPLEMENTARIO"},{"$f":"IF('HOJA DE DATOS'!I182=0,\"\",'HOJA DE DATOS'!I182)","v":"OVEJAS Y CABRAS EN GESTACION"},{"$f":"IF('HOJA DE DATOS'!Q182=0,\"\",'HOJA DE DATOS'!Q182)","v":"Pienso complementario especial para el preparto de ovejas y cabras de ordeño . Utilizar como complementario de cereales los últimos 45 días de antes del parto."},{"$f":"IF('HOJA DE DATOS'!R182=0,\"\",'HOJA DE DATOS'!R182)","v":"No se recomienda la utilización de paja en esta fase sobre todo en razas muy lecheras y prolíficas.Los animales dispondrán de agua limpia y fresca a libre disposición."},{"$f":"IF('HOJA DE DATOS'!S182=0,\"\",'HOJA DE DATOS'!S182)","v":"Pienso  especial para el preparto de ovejas y cabras de ordeño . Utilizar como complementario de cereales los últimos 45 días de antes del parto.Complementario de forrajes. Los animales dispondrán de agua limpia y fresca a libre disposición."},{"$f":"IF('HOJA DE DATOS'!T182=0,\"\",'HOJA DE DATOS'!T182)","v":11},{"$f":"IF('HOJA DE DATOS'!U182=0,\"\",'HOJA DE DATOS'!U182)","v":14.3},{"$f":"IF('HOJA DE DATOS'!V182=0,\"\",'HOJA DE DATOS'!V182)","v":8.1999999999999993},{"$f":"IF('HOJA DE DATOS'!W182=0,\"\",'HOJA DE DATOS'!W182)","v":2.8},{"$f":"IF('HOJA DE DATOS'!X182=0,\"\",'HOJA DE DATOS'!X182)","v":6.5},{"$f":"IF('HOJA DE DATOS'!Y182=0,\"\",'HOJA DE DATOS'!Y182)","v":36},{"$f":"IF('HOJA DE DATOS'!P182=0,\"\",'HOJA DE DATOS'!P182)","v":92}]
[null,{"$f":"IF('HOJA DE DATOS'!C183=0,\"\",'HOJA DE DATOS'!C183)","v":"CEREGEST"},{"$f":"IF('HOJA DE DATOS'!D183=0,\"\",'HOJA DE DATOS'!D183)","v":"OVINO/CAPRINO"},{"$f":"IF('HOJA DE DATOS'!E183=0,\"\",'HOJA DE DATOS'!E183)","v":"LECHE"},{"$f":"IF('HOJA DE DATOS'!F183=0,\"\",'HOJA DE DATOS'!F183)","v":"GESTACION"},{"$f":"IF('HOJA DE DATOS'!G183=0,\"\",'HOJA DE DATOS'!G183)","v":"GRANULADO 3,5"},{"$f":"IF('HOJA DE DATOS'!H183=0,\"\",'HOJA DE DATOS'!H183)","v":"PIENSO COMPLEMENTARIO"},{"$f":"IF('HOJA DE DATOS'!I183=0,\"\",'HOJA DE DATOS'!I183)","v":"OVEJAS Y CABRAS EN GESTACION"},{"$f":"IF('HOJA DE DATOS'!Q183=0,\"\",'HOJA DE DATOS'!Q183)","v":"Concentrado complementar especialmente desenhado, para a altura de preparto (60-45dias antes do parto), para ovelhas e cabras de leite. Pode ser fornecido tambem com outros cereais."},{"$f":"IF('HOJA DE DATOS'!R183=0,\"\",'HOJA DE DATOS'!R183)","v":"Não se recomenda a utilização de palha nesta fase, principlmente em raças muito proliferas e produtivas. Sempre com agua fresca e limpa, á disposição. Consulte serviços tecnicos Nanta."},{"$f":"IF('HOJA DE DATOS'!S183=0,\"\",'HOJA DE DATOS'!S183)","v":"Pienso  especial para el preparto de ovejas y cabras de ordeño . Utilizar como complementario de cereales los últimos 45 días de antes del parto.Complementario de forrajes. Los animales dispondrán de agua limpia y fresca a libre disposición."},{"$f":"IF('HOJA DE DATOS'!T183=0,\"\",'HOJA DE DATOS'!T183)","v":11},{"$f":"IF('HOJA DE DATOS'!U183=0,\"\",'HOJA DE DATOS'!U183)","v":15},{"$f":"IF('HOJA DE DATOS'!V183=0,\"\",'HOJA DE DATOS'!V183)","v":7},{"$f":"IF('HOJA DE DATOS'!W183=0,\"\",'HOJA DE DATOS'!W183)","v":2.7},{"$f":"IF('HOJA DE DATOS'!X183=0,\"\",'HOJA DE DATOS'!X183)","v":7.3},{"$f":"IF('HOJA DE DATOS'!Y183=0,\"\",'HOJA DE DATOS'!Y183)","v":36},{"$f":"IF('HOJA DE DATOS'!P183=0,\"\",'HOJA DE DATOS'!P183)","v":91}]
[null,{"$f":"IF('HOJA DE DATOS'!C184=0,\"\",'HOJA DE DATOS'!C184)","v":"CEREGEST PLUS"},{"$f":"IF('HOJA DE DATOS'!D184=0,\"\",'HOJA DE DATOS'!D184)","v":"OVINO/CAPRINO"},{"$f":"IF('HOJA DE DATOS'!E184=0,\"\",'HOJA DE DATOS'!E184)","v":"LECHE"},{"$f":"IF('HOJA DE DATOS'!F184=0,\"\",'HOJA DE DATOS'!F184)","v":"GESTACION"},{"$f":"IF('HOJA DE DATOS'!G184=0,\"\",'HOJA DE DATOS'!G184)","v":"GRANULADO 3,5"},{"$f":"IF('HOJA DE DATOS'!H184=0,\"\",'HOJA DE DATOS'!H184)","v":"PIENSO COMPLEMENTARIO"},{"$f":"IF('HOJA DE DATOS'!I184=0,\"\",'HOJA DE DATOS'!I184)","v":"OVEJAS Y CABRAS EN GESTACION"},{"$f":"IF('HOJA DE DATOS'!Q184=0,\"\",'HOJA DE DATOS'!Q184)","v":"Pienso complementario para preparto (últimos 45 dias de gestación) de ovejas y cabras de aptitud lechera. Agua ad lib.Se utilizará como complemeto de ración de volumen, con forrajes de calidad. La paja está desaconsejada en este estadío productivo."},{"$f":"IF('HOJA DE DATOS'!R184=0,\"\",'HOJA DE DATOS'!R184)","v":"Debe utilizarse un mínimo de 0,7 Kg de alfalfa heno o deshidratada en rama. No sobredosificar , máxime si el estado de carnes de los animales es alto. Utilizar de 0,7 a 1 Kg dependiendo de la raza, la prolificidad y los rendimientos lecheros."},{"$f":"IF('HOJA DE DATOS'!S184=0,\"\",'HOJA DE DATOS'!S184)","v":"Pienso  especial para el preparto de ovejas y cabras de ordeño . Utilizar como complementario de cereales los últimos 45 días de antes del parto.Complementario de forrajes. Los animales dispondrán de agua limpia y fresca a libre disposición."},{"$f":"IF('HOJA DE DATOS'!T184=0,\"\",'HOJA DE DATOS'!T184)","v":11},{"$f":"IF('HOJA DE DATOS'!U184=0,\"\",'HOJA DE DATOS'!U184)","v":15.4},{"$f":"IF('HOJA DE DATOS'!V184=0,\"\",'HOJA DE DATOS'!V184)","v":8.5},{"$f":"IF('HOJA DE DATOS'!W184=0,\"\",'HOJA DE DATOS'!W184)","v":3},{"$f":"IF('HOJA DE DATOS'!X184=0,\"\",'HOJA DE DATOS'!X184)","v":6.5},{"$f":"IF('HOJA DE DATOS'!Y184=0,\"\",'HOJA DE DATOS'!Y184)","v":35},{"$f":"IF('HOJA DE DATOS'!P184=0,\"\",'HOJA DE DATOS'!P184)","v":91}]
[null,{"$f":"IF('HOJA DE DATOS'!C185=0,\"\",'HOJA DE DATOS'!C185)","v":"CEREGEST PLUS"},{"$f":"IF('HOJA DE DATOS'!D185=0,\"\",'HOJA DE DATOS'!D185)","v":"OVINO/CAPRINO"},{"$f":"IF('HOJA DE DATOS'!E185=0,\"\",'HOJA DE DATOS'!E185)","v":"LECHE"},{"$f":"IF('HOJA DE DATOS'!F185=0,\"\",'HOJA DE DATOS'!F185)","v":"GESTACION"},{"$f":"IF('HOJA DE DATOS'!G185=0,\"\",'HOJA DE DATOS'!G185)","v":"GRANULADO 3,5"},{"$f":"IF('HOJA DE DATOS'!H185=0,\"\",'HOJA DE DATOS'!H185)","v":"PIENSO COMPLEMENTARIO"},{"$f":"IF('HOJA DE DATOS'!I185=0,\"\",'HOJA DE DATOS'!I185)","v":"OVEJAS Y CABRAS EN GESTACION"},{"$f":"IF('HOJA DE DATOS'!Q185=0,\"\",'HOJA DE DATOS'!Q185)","v":"Concentrado complementar especialmente desenhado, para a altura de preparto (60-45dias antes do parto), para ovelhas e cabras de leite. Pode ser fornecido tambem com outros cereais."},{"$f":"IF('HOJA DE DATOS'!R185=0,\"\",'HOJA DE DATOS'!R185)","v":"Não se recomenda a utilização de palha nesta fase, principlmente em raças muito proliferas e produtivas. Recomenda-se 0,7kg feno luzerna, e entre 0,7-1kg concentrado. Sempre com agua fresca e limpa, á disposição. Consulte serviços tecnicos Nanta."},{"$f":"IF('HOJA DE DATOS'!S185=0,\"\",'HOJA DE DATOS'!S185)","v":"Pienso  especial para el preparto de ovejas y cabras de ordeño . Utilizar como complementario de cereales los últimos 45 días de antes del parto.Complementario de forrajes. Los animales dispondrán de agua limpia y fresca a libre disposición."},{"$f":"IF('HOJA DE DATOS'!T185=0,\"\",'HOJA DE DATOS'!T185)","v":11},{"$f":"IF('HOJA DE DATOS'!U185=0,\"\",'HOJA DE DATOS'!U185)","v":14.5},{"$f":"IF('HOJA DE DATOS'!V185=0,\"\",'HOJA DE DATOS'!V185)","v":9.3000000000000007},{"$f":"IF('HOJA DE DATOS'!W185=0,\"\",'HOJA DE DATOS'!W185)","v":2.7},{"$f":"IF('HOJA DE DATOS'!X185=0,\"\",'HOJA DE DATOS'!X185)","v":5.6},{"$f":"IF('HOJA DE DATOS'!Y185=0,\"\",'HOJA DE DATOS'!Y185)","v":34},{"$f":"IF('HOJA DE DATOS'!P185=0,\"\",'HOJA DE DATOS'!P185)","v":92}]
[null,{"$f":"IF('HOJA DE DATOS'!C186=0,\"\",'HOJA DE DATOS'!C186)","v":"CERELACTAL-200"},{"$f":"IF('HOJA DE DATOS'!D186=0,\"\",'HOJA DE DATOS'!D186)","v":"OVINO"},{"$f":"IF('HOJA DE DATOS'!E186=0,\"\",'HOJA DE DATOS'!E186)","v":"LECHE"},{"$f":"IF('HOJA DE DATOS'!F186=0,\"\",'HOJA DE DATOS'!F186)","v":"ORDEÑO"},{"$f":"IF('HOJA DE DATOS'!G186=0,\"\",'HOJA DE DATOS'!G186)","v":"GRANULADO 3,5"},{"$f":"IF('HOJA DE DATOS'!H186=0,\"\",'HOJA DE DATOS'!H186)","v":"PIENSO COMPLEMENTARIO"},{"$f":"IF('HOJA DE DATOS'!I186=0,\"\",'HOJA DE DATOS'!I186)","v":"OVEJAS Y CABRAS EN LACTACION"},{"$f":"IF('HOJA DE DATOS'!Q186=0,\"\",'HOJA DE DATOS'!Q186)","v":"Pienso complementario de forrajes  destinado a ordeño para animales de media-alta producción. Tambien como puenteo o raciones UNIFEED. Complementario de forrajes"},{"$f":"IF('HOJA DE DATOS'!R186=0,\"\",'HOJA DE DATOS'!R186)","v":"Las dosificaciones deben hacerse atendiendo a la producción y a las caractarísticas de la oveja así como a los forrajes de la ración de base. Administrar siempre agua limpia y fresca."},{"$f":"IF('HOJA DE DATOS'!S186=0,\"\",'HOJA DE DATOS'!S186)","v":"Pienso destinado a ordeño para animales de media-alta producción. Tambien como puenteo o raciones UNIFEED.Complementario de forrajes. Administrar siempre agua limpia y fresca."},{"$f":"IF('HOJA DE DATOS'!T186=0,\"\",'HOJA DE DATOS'!T186)","v":11},{"$f":"IF('HOJA DE DATOS'!U186=0,\"\",'HOJA DE DATOS'!U186)","v":17.5},{"$f":"IF('HOJA DE DATOS'!V186=0,\"\",'HOJA DE DATOS'!V186)","v":8},{"$f":"IF('HOJA DE DATOS'!W186=0,\"\",'HOJA DE DATOS'!W186)","v":3},{"$f":"IF('HOJA DE DATOS'!X186=0,\"\",'HOJA DE DATOS'!X186)","v":8.1999999999999993},{"$f":"IF('HOJA DE DATOS'!Y186=0,\"\",'HOJA DE DATOS'!Y186)","v":27},{"$f":"IF('HOJA DE DATOS'!P186=0,\"\",'HOJA DE DATOS'!P186)","v":87}]
[null,{"$f":"IF('HOJA DE DATOS'!C187=0,\"\",'HOJA DE DATOS'!C187)","v":"CERELACTAL-300"},{"$f":"IF('HOJA DE DATOS'!D187=0,\"\",'HOJA DE DATOS'!D187)","v":"OVINO"},{"$f":"IF('HOJA DE DATOS'!E187=0,\"\",'HOJA DE DATOS'!E187)","v":"LECHE"},{"$f":"IF('HOJA DE DATOS'!F187=0,\"\",'HOJA DE DATOS'!F187)","v":"ORDEÑO"},{"$f":"IF('HOJA DE DATOS'!G187=0,\"\",'HOJA DE DATOS'!G187)","v":"GRANULADO 3,5"},{"$f":"IF('HOJA DE DATOS'!H187=0,\"\",'HOJA DE DATOS'!H187)","v":"PIENSO COMPLEMENTARIO"},{"$f":"IF('HOJA DE DATOS'!I187=0,\"\",'HOJA DE DATOS'!I187)","v":"OVEJAS Y CABRAS EN LACTACION"},{"$f":"IF('HOJA DE DATOS'!Q187=0,\"\",'HOJA DE DATOS'!Q187)","v":"Pienso complementario de forrajes  destinado a ordeño para animales de alta producción. Tambien como puenteo o raciones UNIFEED. Complementario de forrajes"},{"$f":"IF('HOJA DE DATOS'!R187=0,\"\",'HOJA DE DATOS'!R187)","v":"Las dosificaciones deben hacerse atendiendo a la producción y a las caractarísticas de la oveja así como a los forrajes de la ración de base.Los animales dispondrán de agua limpia y fresca a libre disposición."},{"$f":"IF('HOJA DE DATOS'!S187=0,\"\",'HOJA DE DATOS'!S187)","v":"Pienso destinado a ordeño para animales de alta producción. Tambien como puenteo o raciones UNIFEED.Complementario de forrajes. Administrar siempre agua limpia y fresca."},{"$f":"IF('HOJA DE DATOS'!T187=0,\"\",'HOJA DE DATOS'!T187)","v":11},{"$f":"IF('HOJA DE DATOS'!U187=0,\"\",'HOJA DE DATOS'!U187)","v":18},{"$f":"IF('HOJA DE DATOS'!V187=0,\"\",'HOJA DE DATOS'!V187)","v":11},{"$f":"IF('HOJA DE DATOS'!W187=0,\"\",'HOJA DE DATOS'!W187)","v":4.8},{"$f":"IF('HOJA DE DATOS'!X187=0,\"\",'HOJA DE DATOS'!X187)","v":8.9},{"$f":"IF('HOJA DE DATOS'!Y187=0,\"\",'HOJA DE DATOS'!Y187)","v":24},{"$f":"IF('HOJA DE DATOS'!P187=0,\"\",'HOJA DE DATOS'!P187)","v":95}]
[null,{"$f":"IF('HOJA DE DATOS'!C188=0,\"\",'HOJA DE DATOS'!C188)","v":"CERERECRIA"},{"$f":"IF('HOJA DE DATOS'!D188=0,\"\",'HOJA DE DATOS'!D188)","v":"OVINO/CAPRINO"},{"$f":"IF('HOJA DE DATOS'!E188=0,\"\",'HOJA DE DATOS'!E188)","v":"LECHE"},{"$f":"IF('HOJA DE DATOS'!F188=0,\"\",'HOJA DE DATOS'!F188)","v":"REPOSICION"},{"$f":"IF('HOJA DE DATOS'!G188=0,\"\",'HOJA DE DATOS'!G188)","v":"GRANULADO 3,5"},{"$f":"IF('HOJA DE DATOS'!H188=0,\"\",'HOJA DE DATOS'!H188)","v":"PIENSO COMPLEMENTARIO"},{"$f":"IF('HOJA DE DATOS'!I188=0,\"\",'HOJA DE DATOS'!I188)","v":"CORDERAS Y CHIVAS DE REPOSICION"},{"$f":"IF('HOJA DE DATOS'!Q188=0,\"\",'HOJA DE DATOS'!Q188)","v":"Concentrado complementar para recria de borregas e chibas de substituição, apartir dos 3 meses de vida até 2 meses antes do parto. Sempre com palha/forragem de boa qualidade, e agua fresca e limpa, á disposição."},{"$f":"IF('HOJA DE DATOS'!R188=0,\"\",'HOJA DE DATOS'!R188)","v":"Concentrado complementar para recria de borregas e chibas de substituição, apartir dos 3 meses de vida até 2 meses antes do parto. Sumnistrar á livre disposição ou restringido dependendo da quantidade e qualidade das forragens disponiveis."},{"$f":"IF('HOJA DE DATOS'!S188=0,\"\",'HOJA DE DATOS'!S188)","v":"Pienso destinados a corderas y chivas de reposición desde los 3 a los 6-7 meses. Se puede suministar a voluntad con paja ad libitumn pero es aconsejable el aporte de forrajes.Los animales dispondrán en todo momento de agua limpia y fresca."},{"$f":"IF('HOJA DE DATOS'!T188=0,\"\",'HOJA DE DATOS'!T188)","v":11},{"$f":"IF('HOJA DE DATOS'!U188=0,\"\",'HOJA DE DATOS'!U188)","v":16.5},{"$f":"IF('HOJA DE DATOS'!V188=0,\"\",'HOJA DE DATOS'!V188)","v":10.4},{"$f":"IF('HOJA DE DATOS'!W188=0,\"\",'HOJA DE DATOS'!W188)","v":2.7},{"$f":"IF('HOJA DE DATOS'!X188=0,\"\",'HOJA DE DATOS'!X188)","v":7.4},{"$f":"IF('HOJA DE DATOS'!Y188=0,\"\",'HOJA DE DATOS'!Y188)","v":29},{"$f":"IF('HOJA DE DATOS'!P188=0,\"\",'HOJA DE DATOS'!P188)","v":88}]
[null,{"$f":"IF('HOJA DE DATOS'!C189=0,\"\",'HOJA DE DATOS'!C189)","v":"INOGEST"},{"$f":"IF('HOJA DE DATOS'!D189=0,\"\",'HOJA DE DATOS'!D189)","v":"OVINO/CAPRINO"},{"$f":"IF('HOJA DE DATOS'!E189=0,\"\",'HOJA DE DATOS'!E189)","v":"LECHE"},{"$f":"IF('HOJA DE DATOS'!F189=0,\"\",'HOJA DE DATOS'!F189)","v":"GESTACION"},{"$f":"IF('HOJA DE DATOS'!G189=0,\"\",'HOJA DE DATOS'!G189)","v":"GRANULADO 3,5"},{"$f":"IF('HOJA DE DATOS'!H189=0,\"\",'HOJA DE DATOS'!H189)","v":"PIENSO COMPLEMENTARIO"},{"$f":"IF('HOJA DE DATOS'!I189=0,\"\",'HOJA DE DATOS'!I189)","v":"OVEJAS Y CABRAS EN GESTACION"},{"$f":"IF('HOJA DE DATOS'!Q189=0,\"\",'HOJA DE DATOS'!Q189)","v":"Pienso complementario especial para el preparto de ovejas y cabras de ordeño . Utilizar como complementario de forrajes los últimos 45 días de antes del parto."},{"$f":"IF('HOJA DE DATOS'!R189=0,\"\",'HOJA DE DATOS'!R189)","v":"No se recomienda la utilización de paja en esta fase sobre todo en razas muy lecheras y prolíficas.Los animales dispondrán de agua limpia y fresca a libre disposición."},{"$f":"IF('HOJA DE DATOS'!S189=0,\"\",'HOJA DE DATOS'!S189)","v":"Pienso  especial para el preparto de ovejas y cabras de ordeño . Utilizar como complementario de forrajes los últimos 45 días de antes del parto. Los animales dispondrán de agua limpia y fresca a libre disposición."},{"$f":"IF('HOJA DE DATOS'!T189=0,\"\",'HOJA DE DATOS'!T189)","v":11},{"$f":"IF('HOJA DE DATOS'!U189=0,\"\",'HOJA DE DATOS'!U189)","v":14.3},{"$f":"IF('HOJA DE DATOS'!V189=0,\"\",'HOJA DE DATOS'!V189)","v":7.1},{"$f":"IF('HOJA DE DATOS'!W189=0,\"\",'HOJA DE DATOS'!W189)","v":2.8},{"$f":"IF('HOJA DE DATOS'!X189=0,\"\",'HOJA DE DATOS'!X189)","v":6.7},{"$f":"IF('HOJA DE DATOS'!Y189=0,\"\",'HOJA DE DATOS'!Y189)","v":37.5},{"$f":"IF('HOJA DE DATOS'!P189=0,\"\",'HOJA DE DATOS'!P189)","v":92}]
[null,{"$f":"IF('HOJA DE DATOS'!C190=0,\"\",'HOJA DE DATOS'!C190)","v":"INOGEST PLUS"},{"$f":"IF('HOJA DE DATOS'!D190=0,\"\",'HOJA DE DATOS'!D190)","v":"OVINO/CAPRINO"},{"$f":"IF('HOJA DE DATOS'!E190=0,\"\",'HOJA DE DATOS'!E190)","v":"LECHE"},{"$f":"IF('HOJA DE DATOS'!F190=0,\"\",'HOJA DE DATOS'!F190)","v":"GESTACION"},{"$f":"IF('HOJA DE DATOS'!G190=0,\"\",'HOJA DE DATOS'!G190)","v":"GRANULADO 3,5"},{"$f":"IF('HOJA DE DATOS'!H190=0,\"\",'HOJA DE DATOS'!H190)","v":"PIENSO COMPLEMENTARIO"},{"$f":"IF('HOJA DE DATOS'!I190=0,\"\",'HOJA DE DATOS'!I190)","v":"OVEJAS Y CABRAS EN GESTACION"},{"$f":"IF('HOJA DE DATOS'!Q190=0,\"\",'HOJA DE DATOS'!Q190)","v":"Pienso complementario para preparto (últimos 45 dias de gestación) de ovejas y cabras de aptitud lechera. Agua ad lib.Se utilizará como complemento de ración de volumen, con forrajes de calidad. La paja está desaconsejada en este estadío productivo."},{"$f":"IF('HOJA DE DATOS'!R190=0,\"\",'HOJA DE DATOS'!R190)","v":"Debe utilizarse un mínimo de 0,7 Kg de alfalfa heno o deshidratada en rama. No sobredosificar , máxime si el estado de carnes de los animales es alto. Utilizar de 0,7 a 1 Kg dependiendo de la raza, la prolificidad y los rendimientos lecheros."},{"$f":"IF('HOJA DE DATOS'!S190=0,\"\",'HOJA DE DATOS'!S190)","v":"Pienso  especial para el preparto de ovejas y cabras de ordeño . Utilizar los últimos 45 días de antes del parto.Complementario de forrajes. Los animales dispondrán de agua limpia y fresca a libre disposición."},{"$f":"IF('HOJA DE DATOS'!T190=0,\"\",'HOJA DE DATOS'!T190)","v":11},{"$f":"IF('HOJA DE DATOS'!U190=0,\"\",'HOJA DE DATOS'!U190)","v":14.3},{"$f":"IF('HOJA DE DATOS'!V190=0,\"\",'HOJA DE DATOS'!V190)","v":7.1},{"$f":"IF('HOJA DE DATOS'!W190=0,\"\",'HOJA DE DATOS'!W190)","v":2.8},{"$f":"IF('HOJA DE DATOS'!X190=0,\"\",'HOJA DE DATOS'!X190)","v":6.5},{"$f":"IF('HOJA DE DATOS'!Y190=0,\"\",'HOJA DE DATOS'!Y190)","v":37.5},{"$f":"IF('HOJA DE DATOS'!P190=0,\"\",'HOJA DE DATOS'!P190)","v":92}]
[null,{"$f":"IF('HOJA DE DATOS'!C191=0,\"\",'HOJA DE DATOS'!C191)","v":"INOLAC"},{"$f":"IF('HOJA DE DATOS'!D191=0,\"\",'HOJA DE DATOS'!D191)","v":"OVINO/CAPRINO"},{"$f":"IF('HOJA DE DATOS'!E191=0,\"\",'HOJA DE DATOS'!E191)","v":"LECHE"},{"$f":"IF('HOJA DE DATOS'!F191=0,\"\",'HOJA DE DATOS'!F191)","v":"ORDEÑO"},{"$f":"IF('HOJA DE DATOS'!G191=0,\"\",'HOJA DE DATOS'!G191)","v":"GRANULADO 3,5"},{"$f":"IF('HOJA DE DATOS'!H191=0,\"\",'HOJA DE DATOS'!H191)","v":"PIENSO COMPLEMENTARIO"},{"$f":"IF('HOJA DE DATOS'!I191=0,\"\",'HOJA DE DATOS'!I191)","v":"OVEJAS Y CABRAS EN LACTACION"},{"$f":"IF('HOJA DE DATOS'!Q191=0,\"\",'HOJA DE DATOS'!Q191)","v":"Pienso complementario de forrajes  destinado a ordeño para animales de alta producción.Especialmente diseñado para altas ingestas de concentrado (forrajes de mala calidad o suministro 2 veces día)"},{"$f":"IF('HOJA DE DATOS'!R191=0,\"\",'HOJA DE DATOS'!R191)","v":"Las dosificaciones deben hacerse atendiendo a la producción y a las caractarísticas de la oveja así como a los forrajes de la ración de base. Administrar siempre agua limpia y fresca."},{"$f":"IF('HOJA DE DATOS'!S191=0,\"\",'HOJA DE DATOS'!S191)","v":"Pienso destinado a ordeño para animales de alta producción según pesdo vivo y nivel productivo. Complementario de forrajes. Administrar siempre agua limpia y fresca."},{"$f":"IF('HOJA DE DATOS'!T191=0,\"\",'HOJA DE DATOS'!T191)","v":11},{"$f":"IF('HOJA DE DATOS'!U191=0,\"\",'HOJA DE DATOS'!U191)","v":17},{"$f":"IF('HOJA DE DATOS'!V191=0,\"\",'HOJA DE DATOS'!V191)","v":9.6},{"$f":"IF('HOJA DE DATOS'!W191=0,\"\",'HOJA DE DATOS'!W191)","v":3.5},{"$f":"IF('HOJA DE DATOS'!X191=0,\"\",'HOJA DE DATOS'!X191)","v":7.6},{"$f":"IF('HOJA DE DATOS'!Y191=0,\"\",'HOJA DE DATOS'!Y191)","v":26},{"$f":"IF('HOJA DE DATOS'!P191=0,\"\",'HOJA DE DATOS'!P191)","v":87}]
[null,{"$f":"IF('HOJA DE DATOS'!C192=0,\"\",'HOJA DE DATOS'!C192)","v":"INOLAC EQ"},{"$f":"IF('HOJA DE DATOS'!D192=0,\"\",'HOJA DE DATOS'!D192)","v":"OVINO/CAPRINO"},{"$f":"IF('HOJA DE DATOS'!E192=0,\"\",'HOJA DE DATOS'!E192)","v":"LECHE"},{"$f":"IF('HOJA DE DATOS'!F192=0,\"\",'HOJA DE DATOS'!F192)","v":"ORDEÑO"},{"$f":"IF('HOJA DE DATOS'!G192=0,\"\",'HOJA DE DATOS'!G192)","v":"GRANULADO 3,5"},{"$f":"IF('HOJA DE DATOS'!H192=0,\"\",'HOJA DE DATOS'!H192)","v":"PIENSO COMPLEMENTARIO"},{"$f":"IF('HOJA DE DATOS'!I192=0,\"\",'HOJA DE DATOS'!I192)","v":"OVEJAS Y CABRAS EN LACTACION"},{"$f":"IF('HOJA DE DATOS'!Q192=0,\"\",'HOJA DE DATOS'!Q192)","v":"Pienso complementario de ovejas/cabras destinado a ordeño para animales de alta producción. Tambien como puenteo o raciones UNIFEED. Complementario de forrajes."},{"$f":"IF('HOJA DE DATOS'!R192=0,\"\",'HOJA DE DATOS'!R192)","v":"Las dosificaciones deben hacerse atendiendo a la producción y a las características de la oveja así como a los forrajes de la ración de base Administrar siempre agua limpia y fresca."},{"$f":"IF('HOJA DE DATOS'!S192=0,\"\",'HOJA DE DATOS'!S192)","v":"Pienso  para animales  destinados a ordeño para animales de alta producción. Tambien como puenteo o raciones UNIFEED.Complementario de forrajes. Administrar siempre agua limpia y fresca."},{"$f":"IF('HOJA DE DATOS'!T192=0,\"\",'HOJA DE DATOS'!T192)","v":11},{"$f":"IF('HOJA DE DATOS'!U192=0,\"\",'HOJA DE DATOS'!U192)","v":19.5},{"$f":"IF('HOJA DE DATOS'!V192=0,\"\",'HOJA DE DATOS'!V192)","v":7},{"$f":"IF('HOJA DE DATOS'!W192=0,\"\",'HOJA DE DATOS'!W192)","v":5.4},{"$f":"IF('HOJA DE DATOS'!X192=0,\"\",'HOJA DE DATOS'!X192)","v":6.8},{"$f":"IF('HOJA DE DATOS'!Y192=0,\"\",'HOJA DE DATOS'!Y192)","v":26},{"$f":"IF('HOJA DE DATOS'!P192=0,\"\",'HOJA DE DATOS'!P192)","v":92}]
[null,{"$f":"IF('HOJA DE DATOS'!C193=0,\"\",'HOJA DE DATOS'!C193)","v":"INOLAC EXTRA"},{"$f":"IF('HOJA DE DATOS'!D193=0,\"\",'HOJA DE DATOS'!D193)","v":"OVINO/CAPRINO"},{"$f":"IF('HOJA DE DATOS'!E193=0,\"\",'HOJA DE DATOS'!E193)","v":"LECHE"},{"$f":"IF('HOJA DE DATOS'!F193=0,\"\",'HOJA DE DATOS'!F193)","v":"ORDEÑO"},{"$f":"IF('HOJA DE DATOS'!G193=0,\"\",'HOJA DE DATOS'!G193)","v":"GRANULADO 3,5"},{"$f":"IF('HOJA DE DATOS'!H193=0,\"\",'HOJA DE DATOS'!H193)","v":"PIENSO COMPLEMENTARIO"},{"$f":"IF('HOJA DE DATOS'!I193=0,\"\",'HOJA DE DATOS'!I193)","v":"OVEJAS Y CABRAS EN LACTACION"},{"$f":"IF('HOJA DE DATOS'!Q193=0,\"\",'HOJA DE DATOS'!Q193)","v":"Pienso complementario de forrajes  destinado a ordeño para animales de alta exigencia productiva.Especialmente diseñado para altas ingestas de concentrado (forrajes de mala calidad o suministro 2 veces día)"},{"$f":"IF('HOJA DE DATOS'!R193=0,\"\",'HOJA DE DATOS'!R193)","v":"Las dosificaciones deben hacerse atendiendo a la producción y a las caractarísticas de la oveja así como a los forrajes de la ración de base. Administrar siempre agua limpia y fresca."},{"$f":"IF('HOJA DE DATOS'!S193=0,\"\",'HOJA DE DATOS'!S193)","v":"Pienso destinado a ordeño para animales de alta producción según peso vivo y nivel productivo. Complementario de forrajes. Administrar siempre agua limpia y fresca."},{"$f":"IF('HOJA DE DATOS'!T193=0,\"\",'HOJA DE DATOS'!T193)","v":11},{"$f":"IF('HOJA DE DATOS'!U193=0,\"\",'HOJA DE DATOS'!U193)","v":18.5},{"$f":"IF('HOJA DE DATOS'!V193=0,\"\",'HOJA DE DATOS'!V193)","v":8.6},{"$f":"IF('HOJA DE DATOS'!W193=0,\"\",'HOJA DE DATOS'!W193)","v":4},{"$f":"IF('HOJA DE DATOS'!X193=0,\"\",'HOJA DE DATOS'!X193)","v":7},{"$f":"IF('HOJA DE DATOS'!Y193=0,\"\",'HOJA DE DATOS'!Y193)","v":25.9},{"$f":"IF('HOJA DE DATOS'!P193=0,\"\",'HOJA DE DATOS'!P193)","v":93}]
[null,{"$f":"IF('HOJA DE DATOS'!C194=0,\"\",'HOJA DE DATOS'!C194)","v":"KOMPLET GESTACION"},{"$f":"IF('HOJA DE DATOS'!D194=0,\"\",'HOJA DE DATOS'!D194)","v":"OVINO/CAPRINO"},{"$f":"IF('HOJA DE DATOS'!E194=0,\"\",'HOJA DE DATOS'!E194)","v":"LECHE"},{"$f":"IF('HOJA DE DATOS'!F194=0,\"\",'HOJA DE DATOS'!F194)","v":"GESTACION"},{"$f":"IF('HOJA DE DATOS'!G194=0,\"\",'HOJA DE DATOS'!G194)","v":"GRANULADO 3,5"},{"$f":"IF('HOJA DE DATOS'!H194=0,\"\",'HOJA DE DATOS'!H194)","v":"PIENSO COMPLEMENTARIO"},{"$f":"IF('HOJA DE DATOS'!I194=0,\"\",'HOJA DE DATOS'!I194)","v":"OVEJAS Y CABRAS EN GESTACION"},{"$f":"IF('HOJA DE DATOS'!Q194=0,\"\",'HOJA DE DATOS'!Q194)","v":"Pienso complementario especial para el preparto de ovejas y cabras de ordeño . Utilizar como complementario de forrajes (incluido paja) los últimos 45 días de antes del parto."},{"$f":"IF('HOJA DE DATOS'!R194=0,\"\",'HOJA DE DATOS'!R194)","v":"racionar adecuadamente según peso vivo y prolificidad. .Los animales dispondrán de agua limpia y fresca a libre disposición."},{"$f":"IF('HOJA DE DATOS'!S194=0,\"\",'HOJA DE DATOS'!S194)","v":"Pienso  especial para el preparto de ovejas y cabras de ordeño . Utilizar como complementario de forrajes (incluso paja) los últimos 45 días de antes del parto. Los animales dispondrán de agua limpia y fresca a libre disposición."},{"$f":"IF('HOJA DE DATOS'!T194=0,\"\",'HOJA DE DATOS'!T194)","v":11},{"$f":"IF('HOJA DE DATOS'!U194=0,\"\",'HOJA DE DATOS'!U194)","v":17.5},{"$f":"IF('HOJA DE DATOS'!V194=0,\"\",'HOJA DE DATOS'!V194)","v":9},{"$f":"IF('HOJA DE DATOS'!W194=0,\"\",'HOJA DE DATOS'!W194)","v":2.5},{"$f":"IF('HOJA DE DATOS'!X194=0,\"\",'HOJA DE DATOS'!X194)","v":8.3000000000000007},{"$f":"IF('HOJA DE DATOS'!Y194=0,\"\",'HOJA DE DATOS'!Y194)","v":29.5},{"$f":"IF('HOJA DE DATOS'!P194=0,\"\",'HOJA DE DATOS'!P194)","v":90}]
[null,{"$f":"IF('HOJA DE DATOS'!C195=0,\"\",'HOJA DE DATOS'!C195)","v":"KOMPLET RECRIA"},{"$f":"IF('HOJA DE DATOS'!D195=0,\"\",'HOJA DE DATOS'!D195)","v":"OVINO/CAPRINO"},{"$f":"IF('HOJA DE DATOS'!E195=0,\"\",'HOJA DE DATOS'!E195)","v":"LECHE"},{"$f":"IF('HOJA DE DATOS'!F195=0,\"\",'HOJA DE DATOS'!F195)","v":"REPOSICION"},{"$f":"IF('HOJA DE DATOS'!G195=0,\"\",'HOJA DE DATOS'!G195)","v":"GRANULADO 3,5"},{"$f":"IF('HOJA DE DATOS'!H195=0,\"\",'HOJA DE DATOS'!H195)","v":"PIENSO COMPLEMENTARIO"},{"$f":"IF('HOJA DE DATOS'!I195=0,\"\",'HOJA DE DATOS'!I195)","v":"CORDERAS Y CHIVAS DE REPOSICION"},{"$f":"IF('HOJA DE DATOS'!Q195=0,\"\",'HOJA DE DATOS'!Q195)","v":"Pienso complementario destinados a corderas y chivas de reposición desde los 3 hasta el preparto. Se puede suministar a voluntad con paja ad libitumn en la primera fase- Despues racionado.  El aporte de forrajes es siempre preferible."},{"$f":"IF('HOJA DE DATOS'!R195=0,\"\",'HOJA DE DATOS'!R195)","v":"Los animales dispondrán en todo momento de agua limpia y fresca a libre servicio. Consultar a los servicios técnicos."},{"$f":"IF('HOJA DE DATOS'!S195=0,\"\",'HOJA DE DATOS'!S195)","v":"Pienso destinados a corderas de reposición Se puede suministrar con paja como único forraje Racionar según servicios técnicos.Los animales dispondrán en todo momento de agua limpia y fresca a libre servicio."},{"$f":"IF('HOJA DE DATOS'!T195=0,\"\",'HOJA DE DATOS'!T195)","v":11},{"$f":"IF('HOJA DE DATOS'!U195=0,\"\",'HOJA DE DATOS'!U195)","v":17},{"$f":"IF('HOJA DE DATOS'!V195=0,\"\",'HOJA DE DATOS'!V195)","v":10},{"$f":"IF('HOJA DE DATOS'!W195=0,\"\",'HOJA DE DATOS'!W195)","v":3.8},{"$f":"IF('HOJA DE DATOS'!X195=0,\"\",'HOJA DE DATOS'!X195)","v":7.4},{"$f":"IF('HOJA DE DATOS'!Y195=0,\"\",'HOJA DE DATOS'!Y195)","v":27},{"$f":"IF('HOJA DE DATOS'!P195=0,\"\",'HOJA DE DATOS'!P195)","v":91}]
[null,{"$f":"IF('HOJA DE DATOS'!C196=0,\"\",'HOJA DE DATOS'!C196)","v":"MERILAC INT. N GESTACION"},{"$f":"IF('HOJA DE DATOS'!D196=0,\"\",'HOJA DE DATOS'!D196)","v":"OVINO"},{"$f":"IF('HOJA DE DATOS'!E196=0,\"\",'HOJA DE DATOS'!E196)","v":"LECHE"},{"$f":"IF('HOJA DE DATOS'!F196=0,\"\",'HOJA DE DATOS'!F196)","v":"GESTACION"},{"$f":"IF('HOJA DE DATOS'!G196=0,\"\",'HOJA DE DATOS'!G196)","v":"MEZCLA N"},{"$f":"IF('HOJA DE DATOS'!H196=0,\"\",'HOJA DE DATOS'!H196)","v":"PIENSO COMPLEMENTARIO"},{"$f":"IF('HOJA DE DATOS'!I196=0,\"\",'HOJA DE DATOS'!I196)","v":"OVEJAS EN GESTACION"},{"$f":"IF('HOJA DE DATOS'!Q196=0,\"\",'HOJA DE DATOS'!Q196)","v":"Mezcla Integral con fibra corta completa destinada a la alimentacion de ovejas de media-alta producción de leche en laq época de preparto (7 semanas antes del parto).Pienso complementario."},{"$f":"IF('HOJA DE DATOS'!R196=0,\"\",'HOJA DE DATOS'!R196)","v":"Los animales dispondrán de agua limpia y fresca a libre servicio. Racionar según recomendaciones de los servicios técnicos"},{"$f":"IF('HOJA DE DATOS'!S196=0,\"\",'HOJA DE DATOS'!S196)","v":"Mezcla Integral con fibra corta completa destinada a la alimentacion de ovejas de media producción de leche en la época de preparto (7 semanas antes del parto).Complementario de forrajes.Los animales dispondrán de agua limpia y fresca a libre servicio."},{"$f":"IF('HOJA DE DATOS'!T196=0,\"\",'HOJA DE DATOS'!T196)","v":9},{"$f":"IF('HOJA DE DATOS'!U196=0,\"\",'HOJA DE DATOS'!U196)","v":14.5},{"$f":"IF('HOJA DE DATOS'!V196=0,\"\",'HOJA DE DATOS'!V196)","v":9},{"$f":"IF('HOJA DE DATOS'!W196=0,\"\",'HOJA DE DATOS'!W196)","v":3.5},{"$f":"IF('HOJA DE DATOS'!X196=0,\"\",'HOJA DE DATOS'!X196)","v":7.1},{"$f":"IF('HOJA DE DATOS'!Y196=0,\"\",'HOJA DE DATOS'!Y196)","v":30},{"$f":"IF('HOJA DE DATOS'!P196=0,\"\",'HOJA DE DATOS'!P196)","v":90}]
[null,{"$f":"IF('HOJA DE DATOS'!C197=0,\"\",'HOJA DE DATOS'!C197)","v":"MERILAC INTEGRAL F 1000"},{"$f":"IF('HOJA DE DATOS'!D197=0,\"\",'HOJA DE DATOS'!D197)","v":"OVINO"},{"$f":"IF('HOJA DE DATOS'!E197=0,\"\",'HOJA DE DATOS'!E197)","v":"LECHE"},{"$f":"IF('HOJA DE DATOS'!F197=0,\"\",'HOJA DE DATOS'!F197)","v":"ORDEÑO"},{"$f":"IF('HOJA DE DATOS'!G197=0,\"\",'HOJA DE DATOS'!G197)","v":"MEZCLA F"},{"$f":"IF('HOJA DE DATOS'!H197=0,\"\",'HOJA DE DATOS'!H197)","v":"PIENSO COMPLETO"},{"$f":"IF('HOJA DE DATOS'!I197=0,\"\",'HOJA DE DATOS'!I197)","v":"OVEJAS EN ORDEÑO"},{"$f":"IF('HOJA DE DATOS'!Q197=0,\"\",'HOJA DE DATOS'!Q197)","v":"Mezcla Integral con fibra larga completa destinada a la alimentacion de ovejas de ordeño de media-alta producción.Pienso complementario"},{"$f":"IF('HOJA DE DATOS'!R197=0,\"\",'HOJA DE DATOS'!R197)","v":"Los animales dispondrán de agua limpia y fresca a libre servicio. Racionar según recomendaciones de los servicios técnicos."},{"$f":"IF('HOJA DE DATOS'!S197=0,\"\",'HOJA DE DATOS'!S197)","v":"Mezcla Integral con fibra larga completa destinada a la alimentacion de ovejas de ordeño de media-alta producción.Los animales dispondrán de agua limpia y fresca a libre servicio. Racionar según recomendaciones de los servicios técnicos"},{"$f":"IF('HOJA DE DATOS'!T197=0,\"\",'HOJA DE DATOS'!T197)","v":9},{"$f":"IF('HOJA DE DATOS'!U197=0,\"\",'HOJA DE DATOS'!U197)","v":17},{"$f":"IF('HOJA DE DATOS'!V197=0,\"\",'HOJA DE DATOS'!V197)","v":15.5},{"$f":"IF('HOJA DE DATOS'!W197=0,\"\",'HOJA DE DATOS'!W197)","v":3.4},{"$f":"IF('HOJA DE DATOS'!X197=0,\"\",'HOJA DE DATOS'!X197)","v":7.9},{"$f":"IF('HOJA DE DATOS'!Y197=0,\"\",'HOJA DE DATOS'!Y197)","v":10.8},{"$f":"IF('HOJA DE DATOS'!P197=0,\"\",'HOJA DE DATOS'!P197)","v":79}]
[null,{"$f":"IF('HOJA DE DATOS'!C198=0,\"\",'HOJA DE DATOS'!C198)","v":"NANTACOR"},{"$f":"IF('HOJA DE DATOS'!D198=0,\"\",'HOJA DE DATOS'!D198)","v":"CORDEROS"},{"$f":"IF('HOJA DE DATOS'!E198=0,\"\",'HOJA DE DATOS'!E198)","v":"LECHE"},{"$f":"IF('HOJA DE DATOS'!F198=0,\"\",'HOJA DE DATOS'!F198)","v":"ESTARTER"},{"$f":"IF('HOJA DE DATOS'!G198=0,\"\",'HOJA DE DATOS'!G198)","v":"GRANULADO 3,5"},{"$f":"IF('HOJA DE DATOS'!H198=0,\"\",'HOJA DE DATOS'!H198)","v":"PIENSO COMPLEMENTARIO"},{"$f":"IF('HOJA DE DATOS'!I198=0,\"\",'HOJA DE DATOS'!I198)","v":"CORDEROS Y CHIVOS  ARRANQUE"},{"$f":"IF('HOJA DE DATOS'!Q198=0,\"\",'HOJA DE DATOS'!Q198)","v":"Pienso complementario para arranque de corderos y cabritos. Desde la primera semana de vida a libre disposición con paja y agua limpia. Se recomienda utilizar hasta una semana tras el destete."},{"$f":"IF('HOJA DE DATOS'!R198=0,\"\",'HOJA DE DATOS'!R198)","v":"Tambien es posible utilizarlo copmo pienso unico de arranque-crecimiento.Los animales dispondrán en todo momento de agua limpia y fresca a libre servicio. Consultar a los servicios técnicos."},{"$f":"IF('HOJA DE DATOS'!S198=0,\"\",'HOJA DE DATOS'!S198)","v":"Pienso para arranque de corderos y cabritos. Desde la primera semana de vida a libre disposición con paja y agua limpia. Se recomienda utilizar hasta una semana tras el destete.Tambien es posible utilizarlo copmo pienso unico de arranque-crecimiento."},{"$f":"IF('HOJA DE DATOS'!T198=0,\"\",'HOJA DE DATOS'!T198)","v":11},{"$f":"IF('HOJA DE DATOS'!U198=0,\"\",'HOJA DE DATOS'!U198)","v":18.399999999999999},{"$f":"IF('HOJA DE DATOS'!V198=0,\"\",'HOJA DE DATOS'!V198)","v":3.5},{"$f":"IF('HOJA DE DATOS'!W198=0,\"\",'HOJA DE DATOS'!W198)","v":4.0999999999999996},{"$f":"IF('HOJA DE DATOS'!X198=0,\"\",'HOJA DE DATOS'!X198)","v":5.6},{"$f":"IF('HOJA DE DATOS'!Y198=0,\"\",'HOJA DE DATOS'!Y198)","v":42},{"$f":"IF('HOJA DE DATOS'!P198=0,\"\",'HOJA DE DATOS'!P198)","v":100}]
[null,{"$f":"IF('HOJA DE DATOS'!C199=0,\"\",'HOJA DE DATOS'!C199)","v":"NANTACOR CEBO INTENSIVO"},{"$f":"IF('HOJA DE DATOS'!D199=0,\"\",'HOJA DE DATOS'!D199)","v":"CORDEROS"},{"$f":"IF('HOJA DE DATOS'!E199=0,\"\",'HOJA DE DATOS'!E199)","v":"LECHE"},{"$f":"IF('HOJA DE DATOS'!F199=0,\"\",'HOJA DE DATOS'!F199)","v":"CEBO"},{"$f":"IF('HOJA DE DATOS'!G199=0,\"\",'HOJA DE DATOS'!G199)","v":"GRANULADO 3,5"},{"$f":"IF('HOJA DE DATOS'!H199=0,\"\",'HOJA DE DATOS'!H199)","v":"PIENSO COMPLEMENTARIO"},{"$f":"IF('HOJA DE DATOS'!I199=0,\"\",'HOJA DE DATOS'!I199)","v":"CORDERAS DE REPOSICION"},{"$f":"IF('HOJA DE DATOS'!Q199=0,\"\",'HOJA DE DATOS'!Q199)","v":"Pienso complementario para cebo de corderos para administrar desde el destete hasta los 3-3.5 meses en corderas de reposición. Siempre con paja a libre disposición y agua limpia."},{"$f":"IF('HOJA DE DATOS'!R199=0,\"\",'HOJA DE DATOS'!R199)","v":"Tambien es posible utilizarlo como pienso unico de arranque-cebo.Los animales dispondrán en todo momnento de agua limpia y fresca a libre disposición.El pienso puede ir medicado."},{"$f":"IF('HOJA DE DATOS'!S199=0,\"\",'HOJA DE DATOS'!S199)","v":"Pienso  para  crecimiento de corderas de reposición. Los animales dispondrán de este pienso y paja a voluntad y en todo momento.Los animales dispondrán en todo momento de agua limpia y fresca a libre servicio. Consultar a los servicios técnicos."},{"$f":"IF('HOJA DE DATOS'!T199=0,\"\",'HOJA DE DATOS'!T199)","v":11},{"$f":"IF('HOJA DE DATOS'!U199=0,\"\",'HOJA DE DATOS'!U199)","v":17.600000000000001},{"$f":"IF('HOJA DE DATOS'!V199=0,\"\",'HOJA DE DATOS'!V199)","v":4.4000000000000004},{"$f":"IF('HOJA DE DATOS'!W199=0,\"\",'HOJA DE DATOS'!W199)","v":2.5},{"$f":"IF('HOJA DE DATOS'!X199=0,\"\",'HOJA DE DATOS'!X199)","v":6.1},{"$f":"IF('HOJA DE DATOS'!Y199=0,\"\",'HOJA DE DATOS'!Y199)","v":45},{"$f":"IF('HOJA DE DATOS'!P199=0,\"\",'HOJA DE DATOS'!P199)","v":100}]
[null,{"$f":"IF('HOJA DE DATOS'!C200=0,\"\",'HOJA DE DATOS'!C200)","v":"NANTADIET-50"},{"$f":"IF('HOJA DE DATOS'!D200=0,\"\",'HOJA DE DATOS'!D200)","v":"OVINO"},{"$f":"IF('HOJA DE DATOS'!E200=0,\"\",'HOJA DE DATOS'!E200)","v":"LECHE"},{"$f":"IF('HOJA DE DATOS'!F200=0,\"\",'HOJA DE DATOS'!F200)","v":"ORDEÑO"},{"$f":"IF('HOJA DE DATOS'!G200=0,\"\",'HOJA DE DATOS'!G200)","v":"GRANULADO 3,5"},{"$f":"IF('HOJA DE DATOS'!H200=0,\"\",'HOJA DE DATOS'!H200)","v":"PIENSO COMPLEMENTARIO"},{"$f":"IF('HOJA DE DATOS'!I200=0,\"\",'HOJA DE DATOS'!I200)","v":"OVEJAS Y CABRAS EN LACTACION"},{"$f":"IF('HOJA DE DATOS'!Q200=0,\"\",'HOJA DE DATOS'!Q200)","v":"Concentrado destinado a ovejas  y cabras de ordeño de alta producción. Es posible mezclar con cereales.Pienso complementario. Complementario de forrajes También en carro mezclador. Siempre como complementario de forrajes"},{"$f":"IF('HOJA DE DATOS'!R200=0,\"\",'HOJA DE DATOS'!R200)","v":"Las dosificaciones deben hacerse atendiendo a la producción y a las caractarísticas de la oveja así como a los forrajes de la ración de base"},{"$f":"IF('HOJA DE DATOS'!S200=0,\"\",'HOJA DE DATOS'!S200)","v":"Concentrado destinado a ovejas  y cabras de ordeño de alta producción. Es posible mezclar con cereales.  Complementario de forrajes También en carro mezclador. Siempre como complementario de forrajes. Agua limpia ad lib."},{"$f":"IF('HOJA DE DATOS'!T200=0,\"\",'HOJA DE DATOS'!T200)","v":11},{"$f":"IF('HOJA DE DATOS'!U200=0,\"\",'HOJA DE DATOS'!U200)","v":32.5},{"$f":"IF('HOJA DE DATOS'!V200=0,\"\",'HOJA DE DATOS'!V200)","v":7.6},{"$f":"IF('HOJA DE DATOS'!W200=0,\"\",'HOJA DE DATOS'!W200)","v":3},{"$f":"IF('HOJA DE DATOS'!X200=0,\"\",'HOJA DE DATOS'!X200)","v":11},{"$f":"IF('HOJA DE DATOS'!Y200=0,\"\",'HOJA DE DATOS'!Y200)","v":16},{"$f":"IF('HOJA DE DATOS'!P200=0,\"\",'HOJA DE DATOS'!P200)","v":88}]
[null,{"$f":"IF('HOJA DE DATOS'!C201=0,\"\",'HOJA DE DATOS'!C201)","v":"OVELEITE 2500"},{"$f":"IF('HOJA DE DATOS'!D201=0,\"\",'HOJA DE DATOS'!D201)","v":"OVINO"},{"$f":"IF('HOJA DE DATOS'!E201=0,\"\",'HOJA DE DATOS'!E201)","v":"LECHE"},{"$f":"IF('HOJA DE DATOS'!F201=0,\"\",'HOJA DE DATOS'!F201)","v":"ORDEÑO"},{"$f":"IF('HOJA DE DATOS'!G201=0,\"\",'HOJA DE DATOS'!G201)","v":"GRANULADO 3,5"},{"$f":"IF('HOJA DE DATOS'!H201=0,\"\",'HOJA DE DATOS'!H201)","v":"PIENSO COMPLEMENTARIO"},{"$f":"IF('HOJA DE DATOS'!I201=0,\"\",'HOJA DE DATOS'!I201)","v":"OVEJAS EN ORDEÑO"},{"$f":"IF('HOJA DE DATOS'!Q201=0,\"\",'HOJA DE DATOS'!Q201)","v":"Pienso complementario de ovejas destinado a ordeño para animales de media-alta producción. Tambien como puenteo o raciones UNIFEED. Complementario de forrajes"},{"$f":"IF('HOJA DE DATOS'!R201=0,\"\",'HOJA DE DATOS'!R201)","v":"Las dosificaciones deben hacerse atendiendo a la producción y a las caractarísticas de la oveja así como a los forrajes de la ración de base\nAdministrar siempre agua limpia y fresca"},{"$f":"IF('HOJA DE DATOS'!S201=0,\"\",'HOJA DE DATOS'!S201)","v":"Pienso  de ovejas destinado a ordeño para animales de media-alta producción. Tambien como puenteo o raciones UNIFEED. Complementario de forrajes. Administrar siempre agua limpia y fresca."},{"$f":"IF('HOJA DE DATOS'!T201=0,\"\",'HOJA DE DATOS'!T201)","v":11},{"$f":"IF('HOJA DE DATOS'!U201=0,\"\",'HOJA DE DATOS'!U201)","v":21},{"$f":"IF('HOJA DE DATOS'!V201=0,\"\",'HOJA DE DATOS'!V201)","v":10},{"$f":"IF('HOJA DE DATOS'!W201=0,\"\",'HOJA DE DATOS'!W201)","v":4.2},{"$f":"IF('HOJA DE DATOS'!X201=0,\"\",'HOJA DE DATOS'!X201)","v":8.9},{"$f":"IF('HOJA DE DATOS'!Y201=0,\"\",'HOJA DE DATOS'!Y201)","v":21},{"$f":"IF('HOJA DE DATOS'!P201=0,\"\",'HOJA DE DATOS'!P201)","v":92}]
[null,{"$f":"IF('HOJA DE DATOS'!C202=0,\"\",'HOJA DE DATOS'!C202)","v":"OVIKOMPLET"},{"$f":"IF('HOJA DE DATOS'!D202=0,\"\",'HOJA DE DATOS'!D202)","v":"OVINO"},{"$f":"IF('HOJA DE DATOS'!E202=0,\"\",'HOJA DE DATOS'!E202)","v":"LECHE"},{"$f":"IF('HOJA DE DATOS'!F202=0,\"\",'HOJA DE DATOS'!F202)","v":"ORDEÑO"},{"$f":"IF('HOJA DE DATOS'!G202=0,\"\",'HOJA DE DATOS'!G202)","v":"GRANULADO 10"},{"$f":"IF('HOJA DE DATOS'!H202=0,\"\",'HOJA DE DATOS'!H202)","v":"PIENSO COMPLEMENTARIO"},{"$f":"IF('HOJA DE DATOS'!I202=0,\"\",'HOJA DE DATOS'!I202)","v":"OVEJAS EN ORDEÑO"},{"$f":"IF('HOJA DE DATOS'!Q202=0,\"\",'HOJA DE DATOS'!Q202)","v":"Pienso complementario de paja para ovejas en ordeño. Los animales dispondrán en todo momento de paja de cereales limpia y agua limpia y fresca. Puede emplearse racionado o a voluntad. Consultar cada caso con los servicios técnicos."},{"$f":"IF('HOJA DE DATOS'!R202=0,\"\",'HOJA DE DATOS'!R202)","v":"Preferiblemente administrar varias veces al día pero que siempre lo tengan disponible.La transición a este alimento debe ser lenta (15 días mínimo) y paulatina. Necesaria vacunacion Enterotoxemia."},{"$f":"IF('HOJA DE DATOS'!S202=0,\"\",'HOJA DE DATOS'!S202)","v":"Pienso complementario de paja para ovejas en ordeño. Los animales dispondrán en todo momento de paja de cereales limpia y agua limpia y fresca. Puede emplearse racionado o a voluntad.Vigilar estado corporal. Consultar cada caso con los servicios técnicos."},{"$f":"IF('HOJA DE DATOS'!T202=0,\"\",'HOJA DE DATOS'!T202)","v":11},{"$f":"IF('HOJA DE DATOS'!U202=0,\"\",'HOJA DE DATOS'!U202)","v":18},{"$f":"IF('HOJA DE DATOS'!V202=0,\"\",'HOJA DE DATOS'!V202)","v":12},{"$f":"IF('HOJA DE DATOS'!W202=0,\"\",'HOJA DE DATOS'!W202)","v":4},{"$f":"IF('HOJA DE DATOS'!X202=0,\"\",'HOJA DE DATOS'!X202)","v":8},{"$f":"IF('HOJA DE DATOS'!Y202=0,\"\",'HOJA DE DATOS'!Y202)","v":20},{"$f":"IF('HOJA DE DATOS'!P202=0,\"\",'HOJA DE DATOS'!P202)","v":88}]
[null,{"$f":"IF('HOJA DE DATOS'!C203=0,\"\",'HOJA DE DATOS'!C203)","v":"OVIKOMPLET BASIC"},{"$f":"IF('HOJA DE DATOS'!D203=0,\"\",'HOJA DE DATOS'!D203)","v":"OVINO"},{"$f":"IF('HOJA DE DATOS'!E203=0,\"\",'HOJA DE DATOS'!E203)","v":"LECHE"},{"$f":"IF('HOJA DE DATOS'!F203=0,\"\",'HOJA DE DATOS'!F203)","v":"ORDEÑO"},{"$f":"IF('HOJA DE DATOS'!G203=0,\"\",'HOJA DE DATOS'!G203)","v":"GRANULADO 10"},{"$f":"IF('HOJA DE DATOS'!H203=0,\"\",'HOJA DE DATOS'!H203)","v":"PIENSO COMPLEMENTARIO"},{"$f":"IF('HOJA DE DATOS'!I203=0,\"\",'HOJA DE DATOS'!I203)","v":"OVEJAS EN ORDEÑO"},{"$f":"IF('HOJA DE DATOS'!Q203=0,\"\",'HOJA DE DATOS'!Q203)","v":"Pienso complementario de paja para ovejas en ordeño. Los animales dispondrán en todo momento de paja de cereales limpia y agua limpia y fresca. Puede emplearse racionado. Consultar cada caso con los servicios técnicos."},{"$f":"IF('HOJA DE DATOS'!R203=0,\"\",'HOJA DE DATOS'!R203)","v":"Preferiblemente administrar varias veces al día pero que siempre lo tengan disponible.La transición a este alimento debe ser lenta (15 días mínimo) y paulatina. Necesaria vacunacion Enterotoxemia."},{"$f":"IF('HOJA DE DATOS'!S203=0,\"\",'HOJA DE DATOS'!S203)","v":"Pienso complementario de paja para ovejas en ordeño. Los animales dispondrán en todo momento de paja de cereales limpia y agua limpia y fresca. Puede emplearse racionado.Vigilar estado corporal. Consultar cada caso con los servicios técnicos."},{"$f":"IF('HOJA DE DATOS'!T203=0,\"\",'HOJA DE DATOS'!T203)","v":11},{"$f":"IF('HOJA DE DATOS'!U203=0,\"\",'HOJA DE DATOS'!U203)","v":16.5},{"$f":"IF('HOJA DE DATOS'!V203=0,\"\",'HOJA DE DATOS'!V203)","v":13.5},{"$f":"IF('HOJA DE DATOS'!W203=0,\"\",'HOJA DE DATOS'!W203)","v":3},{"$f":"IF('HOJA DE DATOS'!X203=0,\"\",'HOJA DE DATOS'!X203)","v":8.6999999999999993},{"$f":"IF('HOJA DE DATOS'!Y203=0,\"\",'HOJA DE DATOS'!Y203)","v":19},{"$f":"IF('HOJA DE DATOS'!P203=0,\"\",'HOJA DE DATOS'!P203)","v":81}]
[null,{"$f":"IF('HOJA DE DATOS'!C204=0,\"\",'HOJA DE DATOS'!C204)","v":"OVIKOMPLET EQ"},{"$f":"IF('HOJA DE DATOS'!D204=0,\"\",'HOJA DE DATOS'!D204)","v":"OVINO"},{"$f":"IF('HOJA DE DATOS'!E204=0,\"\",'HOJA DE DATOS'!E204)","v":"LECHE"},{"$f":"IF('HOJA DE DATOS'!F204=0,\"\",'HOJA DE DATOS'!F204)","v":"ORDEÑO"},{"$f":"IF('HOJA DE DATOS'!G204=0,\"\",'HOJA DE DATOS'!G204)","v":"GRANULADO 10"},{"$f":"IF('HOJA DE DATOS'!H204=0,\"\",'HOJA DE DATOS'!H204)","v":"PIENSO COMPLEMENTARIO"},{"$f":"IF('HOJA DE DATOS'!I204=0,\"\",'HOJA DE DATOS'!I204)","v":"OVEJAS EN ORDEÑO"},{"$f":"IF('HOJA DE DATOS'!Q204=0,\"\",'HOJA DE DATOS'!Q204)","v":"Pienso complementario de paja para ovejas en ordeño. Los animales dispondrán en todo momento de paja de cereales limpia y agua limpia y fresca. Puede emplearse racionado o a voluntad. Consultar cada caso con los servicios técnicos."},{"$f":"IF('HOJA DE DATOS'!R204=0,\"\",'HOJA DE DATOS'!R204)","v":"Preferiblemente administrar varias veces al día pero que siempre lo tengan disponible.La transición a este alimento debe ser lenta (15 días mínimo) y paulatina. Necesaria vacunacion Enterotoxemia."},{"$f":"IF('HOJA DE DATOS'!S204=0,\"\",'HOJA DE DATOS'!S204)","v":"Pienso complementario de paja para ovejas en ordeño. Los animales dispondrán en todo momento de paja de cereales limpia y agua limpia y fresca. Puede emplearse racionado o a voluntad.Vigilar estado corporal. Consultar cada caso con los servicios técnicos."},{"$f":"IF('HOJA DE DATOS'!T204=0,\"\",'HOJA DE DATOS'!T204)","v":11},{"$f":"IF('HOJA DE DATOS'!U204=0,\"\",'HOJA DE DATOS'!U204)","v":18},{"$f":"IF('HOJA DE DATOS'!V204=0,\"\",'HOJA DE DATOS'!V204)","v":15.5},{"$f":"IF('HOJA DE DATOS'!W204=0,\"\",'HOJA DE DATOS'!W204)","v":4},{"$f":"IF('HOJA DE DATOS'!X204=0,\"\",'HOJA DE DATOS'!X204)","v":9},{"$f":"IF('HOJA DE DATOS'!Y204=0,\"\",'HOJA DE DATOS'!Y204)","v":15},{"$f":"IF('HOJA DE DATOS'!P204=0,\"\",'HOJA DE DATOS'!P204)","v":86}]
[null,{"$f":"IF('HOJA DE DATOS'!C205=0,\"\",'HOJA DE DATOS'!C205)","v":"OVIKOMPLET PLUS"},{"$f":"IF('HOJA DE DATOS'!D205=0,\"\",'HOJA DE DATOS'!D205)","v":"OVINO"},{"$f":"IF('HOJA DE DATOS'!E205=0,\"\",'HOJA DE DATOS'!E205)","v":"LECHE"},{"$f":"IF('HOJA DE DATOS'!F205=0,\"\",'HOJA DE DATOS'!F205)","v":"ORDEÑO"},{"$f":"IF('HOJA DE DATOS'!G205=0,\"\",'HOJA DE DATOS'!G205)","v":"GRANULADO 10"},{"$f":"IF('HOJA DE DATOS'!H205=0,\"\",'HOJA DE DATOS'!H205)","v":"PIENSO COMPLEMENTARIO"},{"$f":"IF('HOJA DE DATOS'!I205=0,\"\",'HOJA DE DATOS'!I205)","v":"OVEJAS EN ORDEÑO"},{"$f":"IF('HOJA DE DATOS'!Q205=0,\"\",'HOJA DE DATOS'!Q205)","v":"Pienso complementario de paja y forrajes para ovejas en ordeño. Los animales dispondrán en todo momento de paja de cereales limpia y agua limpia y fresca. Puede emplearse racionado o a voluntad. Consultar cada caso con los servicios técnicos."},{"$f":"IF('HOJA DE DATOS'!R205=0,\"\",'HOJA DE DATOS'!R205)","v":"Preferiblemente administrar varias veces al día pero que siempre lo tengan disponible.La transición a este alimento debe ser lenta (15 días mínimo) y paulatina. Necesaria vacunacion Enterotoxemia."},{"$f":"IF('HOJA DE DATOS'!S205=0,\"\",'HOJA DE DATOS'!S205)","v":"Pienso complementario de paja y forrajes para ovejas en ordeño. Los animales dispondrán en todo momento de  agua limpia y fresca. Puede emplearse racionado o a voluntad.Vigilar estado corporal. Consultar servicios técnicos"},{"$f":"IF('HOJA DE DATOS'!T205=0,\"\",'HOJA DE DATOS'!T205)","v":11},{"$f":"IF('HOJA DE DATOS'!U205=0,\"\",'HOJA DE DATOS'!U205)","v":18.5},{"$f":"IF('HOJA DE DATOS'!V205=0,\"\",'HOJA DE DATOS'!V205)","v":11},{"$f":"IF('HOJA DE DATOS'!W205=0,\"\",'HOJA DE DATOS'!W205)","v":3.8},{"$f":"IF('HOJA DE DATOS'!X205=0,\"\",'HOJA DE DATOS'!X205)","v":8.1},{"$f":"IF('HOJA DE DATOS'!Y205=0,\"\",'HOJA DE DATOS'!Y205)","v":20},{"$f":"IF('HOJA DE DATOS'!P205=0,\"\",'HOJA DE DATOS'!P205)","v":90}]
[null,{"$f":"IF('HOJA DE DATOS'!C206=0,\"\",'HOJA DE DATOS'!C206)","v":"OVILAC 50"},{"$f":"IF('HOJA DE DATOS'!D206=0,\"\",'HOJA DE DATOS'!D206)","v":"OVINO"},{"$f":"IF('HOJA DE DATOS'!E206=0,\"\",'HOJA DE DATOS'!E206)","v":"LECHE"},{"$f":"IF('HOJA DE DATOS'!F206=0,\"\",'HOJA DE DATOS'!F206)","v":"ORDEÑO"},{"$f":"IF('HOJA DE DATOS'!G206=0,\"\",'HOJA DE DATOS'!G206)","v":"GRANULADO 3,5"},{"$f":"IF('HOJA DE DATOS'!H206=0,\"\",'HOJA DE DATOS'!H206)","v":"PIENSO COMPLEMENTARIO"},{"$f":"IF('HOJA DE DATOS'!I206=0,\"\",'HOJA DE DATOS'!I206)","v":"OVEJAS Y CABRAS EN LACTACION"},{"$f":"IF('HOJA DE DATOS'!Q206=0,\"\",'HOJA DE DATOS'!Q206)","v":"Concentrado destinado a ovejas y cabras de producción lechera. Es posible mezclar con cereales. Pienso complementario. Complementario de forrajes. También en carro mezclador. Siempre como complementario de forrajes"},{"$f":"IF('HOJA DE DATOS'!R206=0,\"\",'HOJA DE DATOS'!R206)","v":"Las dosificaciones deben hacerse atendiendo a la producción y a las caractarísticas de la oveja así como a los forrajes de la ración de base"},{"$f":"IF('HOJA DE DATOS'!S206=0,\"\",'HOJA DE DATOS'!S206)","v":"Concentrado destinado a ovejas  y cabras de ordeño de media-alta producción. Es posible mezclar con cereales.Pienso complementario. Complementario de forrajes También en carro mezclador. Siempre como complementario de forrajes. Agua limpia ad lib."},{"$f":"IF('HOJA DE DATOS'!T206=0,\"\",'HOJA DE DATOS'!T206)","v":11},{"$f":"IF('HOJA DE DATOS'!U206=0,\"\",'HOJA DE DATOS'!U206)","v":23},{"$f":"IF('HOJA DE DATOS'!V206=0,\"\",'HOJA DE DATOS'!V206)","v":11},{"$f":"IF('HOJA DE DATOS'!W206=0,\"\",'HOJA DE DATOS'!W206)","v":3},{"$f":"IF('HOJA DE DATOS'!X206=0,\"\",'HOJA DE DATOS'!X206)","v":11},{"$f":"IF('HOJA DE DATOS'!Y206=0,\"\",'HOJA DE DATOS'!Y206)","v":16},{"$f":"IF('HOJA DE DATOS'!P206=0,\"\",'HOJA DE DATOS'!P206)","v":77}]
[null,{"$f":"IF('HOJA DE DATOS'!C207=0,\"\",'HOJA DE DATOS'!C207)","v":"OVILAC INT. F 1500"},{"$f":"IF('HOJA DE DATOS'!D207=0,\"\",'HOJA DE DATOS'!D207)","v":"OVINO"},{"$f":"IF('HOJA DE DATOS'!E207=0,\"\",'HOJA DE DATOS'!E207)","v":"LECHE"},{"$f":"IF('HOJA DE DATOS'!F207=0,\"\",'HOJA DE DATOS'!F207)","v":"ORDEÑO"},{"$f":"IF('HOJA DE DATOS'!G207=0,\"\",'HOJA DE DATOS'!G207)","v":"MEZCLA F"},{"$f":"IF('HOJA DE DATOS'!H207=0,\"\",'HOJA DE DATOS'!H207)","v":"PIENSO COMPLETO"},{"$f":"IF('HOJA DE DATOS'!I207=0,\"\",'HOJA DE DATOS'!I207)","v":"OVEJAS EN ORDEÑO"},{"$f":"IF('HOJA DE DATOS'!Q207=0,\"\",'HOJA DE DATOS'!Q207)","v":"Mezcla Integral con fibra larga completa destinada a la alimentacion de ovejas de ordeño de media-alta producción.Pienso complementario"},{"$f":"IF('HOJA DE DATOS'!R207=0,\"\",'HOJA DE DATOS'!R207)","v":"Los animales dispondrán de agua limpia y fresca a libre servicio. Racionar según recomendaciones de los servicios técnicos."},{"$f":"IF('HOJA DE DATOS'!S207=0,\"\",'HOJA DE DATOS'!S207)","v":"Mezcla Integral con fibra larga completa destinada a la alimentacion de ovejas de ordeño de media-alta producción.Los animales dispondrán de agua limpia y fresca a libre servicio. Racionar según recomendaciones de los servicios técnicos"},{"$f":"IF('HOJA DE DATOS'!T207=0,\"\",'HOJA DE DATOS'!T207)","v":9},{"$f":"IF('HOJA DE DATOS'!U207=0,\"\",'HOJA DE DATOS'!U207)","v":15.8},{"$f":"IF('HOJA DE DATOS'!V207=0,\"\",'HOJA DE DATOS'!V207)","v":18.2},{"$f":"IF('HOJA DE DATOS'!W207=0,\"\",'HOJA DE DATOS'!W207)","v":2.7},{"$f":"IF('HOJA DE DATOS'!X207=0,\"\",'HOJA DE DATOS'!X207)","v":7.5},{"$f":"IF('HOJA DE DATOS'!Y207=0,\"\",'HOJA DE DATOS'!Y207)","v":16},{"$f":"IF('HOJA DE DATOS'!P207=0,\"\",'HOJA DE DATOS'!P207)","v":82}]
[null,{"$f":"IF('HOJA DE DATOS'!C208=0,\"\",'HOJA DE DATOS'!C208)","v":"OVILAC INT. F 2500"},{"$f":"IF('HOJA DE DATOS'!D208=0,\"\",'HOJA DE DATOS'!D208)","v":"OVINO"},{"$f":"IF('HOJA DE DATOS'!E208=0,\"\",'HOJA DE DATOS'!E208)","v":"LECHE"},{"$f":"IF('HOJA DE DATOS'!F208=0,\"\",'HOJA DE DATOS'!F208)","v":"ORDEÑO"},{"$f":"IF('HOJA DE DATOS'!G208=0,\"\",'HOJA DE DATOS'!G208)","v":"MEZCLA F"},{"$f":"IF('HOJA DE DATOS'!H208=0,\"\",'HOJA DE DATOS'!H208)","v":"PIENSO COMPLETO"},{"$f":"IF('HOJA DE DATOS'!I208=0,\"\",'HOJA DE DATOS'!I208)","v":"OVEJAS EN ORDEÑO"},{"$f":"IF('HOJA DE DATOS'!Q208=0,\"\",'HOJA DE DATOS'!Q208)","v":"Mezcla Integral con fibra larga completa destinada a la alimentacion de ovejas de ordeño de alta producción.Pienso completo."},{"$f":"IF('HOJA DE DATOS'!R208=0,\"\",'HOJA DE DATOS'!R208)","v":"Los animales dispondrán de agua limpia y fresca a libre servicio. Racionar según recomendaciones de los servicios técnicos"},{"$f":"IF('HOJA DE DATOS'!S208=0,\"\",'HOJA DE DATOS'!S208)","v":"Mezcla Integral con fibra larga completa destinada a la alimentacion de ovejas de ordeño de alta producción. Los animales dispondrán de agua limpia y fresca a libre servicio. Racionar según recomendaciones de los servicios técnicos."},{"$f":"IF('HOJA DE DATOS'!T208=0,\"\",'HOJA DE DATOS'!T208)","v":9},{"$f":"IF('HOJA DE DATOS'!U208=0,\"\",'HOJA DE DATOS'!U208)","v":16},{"$f":"IF('HOJA DE DATOS'!V208=0,\"\",'HOJA DE DATOS'!V208)","v":17.600000000000001},{"$f":"IF('HOJA DE DATOS'!W208=0,\"\",'HOJA DE DATOS'!W208)","v":3},{"$f":"IF('HOJA DE DATOS'!X208=0,\"\",'HOJA DE DATOS'!X208)","v":7.4},{"$f":"IF('HOJA DE DATOS'!Y208=0,\"\",'HOJA DE DATOS'!Y208)","v":17},{"$f":"IF('HOJA DE DATOS'!P208=0,\"\",'HOJA DE DATOS'!P208)","v":85}]
[null,{"$f":"IF('HOJA DE DATOS'!C209=0,\"\",'HOJA DE DATOS'!C209)","v":"OVILAC INT. F GESTACION"},{"$f":"IF('HOJA DE DATOS'!D209=0,\"\",'HOJA DE DATOS'!D209)","v":"OVINO"},{"$f":"IF('HOJA DE DATOS'!E209=0,\"\",'HOJA DE DATOS'!E209)","v":"LECHE"},{"$f":"IF('HOJA DE DATOS'!F209=0,\"\",'HOJA DE DATOS'!F209)","v":"GESTACION"},{"$f":"IF('HOJA DE DATOS'!G209=0,\"\",'HOJA DE DATOS'!G209)","v":"MEZCLA F"},{"$f":"IF('HOJA DE DATOS'!H209=0,\"\",'HOJA DE DATOS'!H209)","v":"PIENSO COMPLETO"},{"$f":"IF('HOJA DE DATOS'!I209=0,\"\",'HOJA DE DATOS'!I209)","v":"OVEJAS EN GESTACION"},{"$f":"IF('HOJA DE DATOS'!Q209=0,\"\",'HOJA DE DATOS'!Q209)","v":"Mezcla Integral con fibra larga completa destinada a la alimentacion de ovejas de alta producción de leche en laq época de preparto (7 semanas antes del parto).Pienso completo."},{"$f":"IF('HOJA DE DATOS'!R209=0,\"\",'HOJA DE DATOS'!R209)","v":"Los animales dispondrán de agua limpia y fresca a libre servicio. Racionar según recomendaciones de los servicios técnicos"},{"$f":"IF('HOJA DE DATOS'!S209=0,\"\",'HOJA DE DATOS'!S209)","v":"Mezcla Integral con fibra larga completa destinada a la alimentacion de ovejas de alta producción de leche en laq época de preparto (7 semanas antes del parto).Los animales dispondrán de agua limpia y fresca a libre servicio."},{"$f":"IF('HOJA DE DATOS'!T209=0,\"\",'HOJA DE DATOS'!T209)","v":9},{"$f":"IF('HOJA DE DATOS'!U209=0,\"\",'HOJA DE DATOS'!U209)","v":14.7},{"$f":"IF('HOJA DE DATOS'!V209=0,\"\",'HOJA DE DATOS'!V209)","v":16.5},{"$f":"IF('HOJA DE DATOS'!W209=0,\"\",'HOJA DE DATOS'!W209)","v":3.3},{"$f":"IF('HOJA DE DATOS'!X209=0,\"\",'HOJA DE DATOS'!X209)","v":7.3},{"$f":"IF('HOJA DE DATOS'!Y209=0,\"\",'HOJA DE DATOS'!Y209)","v":21.1},{"$f":"IF('HOJA DE DATOS'!P209=0,\"\",'HOJA DE DATOS'!P209)","v":87}]
[null,{"$f":"IF('HOJA DE DATOS'!C210=0,\"\",'HOJA DE DATOS'!C210)","v":"OVILAC INT. F MANTENIMIENTO"},{"$f":"IF('HOJA DE DATOS'!D210=0,\"\",'HOJA DE DATOS'!D210)","v":"OVINO"},{"$f":"IF('HOJA DE DATOS'!E210=0,\"\",'HOJA DE DATOS'!E210)","v":"LECHE"},{"$f":"IF('HOJA DE DATOS'!F210=0,\"\",'HOJA DE DATOS'!F210)","v":"ORDEÑO"},{"$f":"IF('HOJA DE DATOS'!G210=0,\"\",'HOJA DE DATOS'!G210)","v":"MEZCLA F"},{"$f":"IF('HOJA DE DATOS'!H210=0,\"\",'HOJA DE DATOS'!H210)","v":"PIENSO COMPLETO"},{"$f":"IF('HOJA DE DATOS'!I210=0,\"\",'HOJA DE DATOS'!I210)","v":"OVEJAS Y CABRAS EN MANTENIMIENTO Y LACTACION"},{"$f":"IF('HOJA DE DATOS'!Q210=0,\"\",'HOJA DE DATOS'!Q210)","v":"Mezcla Integral con fibra larga completa destinada a la alimentacion de ovejas de ordeño en fase de mantenimiento o secado.Pienso completo."},{"$f":"IF('HOJA DE DATOS'!R210=0,\"\",'HOJA DE DATOS'!R210)","v":"Los animales dispondrán de agua limpia y fresca a libre servicio. Racionar según recomendaciones de los servicios técnicos."},{"$f":"IF('HOJA DE DATOS'!S210=0,\"\",'HOJA DE DATOS'!S210)","v":"Mezcla Integral con fibra larga completa destinada a la alimentacion de ovejas de ordeño en fase de mantenimiento o secado. Los animales dispondrán de agua limpia y fresca a libre servicio. Racionar según recomendaciones de los servicios técnicos."},{"$f":"IF('HOJA DE DATOS'!T210=0,\"\",'HOJA DE DATOS'!T210)","v":9},{"$f":"IF('HOJA DE DATOS'!U210=0,\"\",'HOJA DE DATOS'!U210)","v":15.8},{"$f":"IF('HOJA DE DATOS'!V210=0,\"\",'HOJA DE DATOS'!V210)","v":18.2},{"$f":"IF('HOJA DE DATOS'!W210=0,\"\",'HOJA DE DATOS'!W210)","v":2.9},{"$f":"IF('HOJA DE DATOS'!X210=0,\"\",'HOJA DE DATOS'!X210)","v":8.1999999999999993},{"$f":"IF('HOJA DE DATOS'!Y210=0,\"\",'HOJA DE DATOS'!Y210)","v":16},{"$f":"IF('HOJA DE DATOS'!P210=0,\"\",'HOJA DE DATOS'!P210)","v":76}]
[null,{"$f":"IF('HOJA DE DATOS'!C211=0,\"\",'HOJA DE DATOS'!C211)","v":"OVILAC INT. N 1500"},{"$f":"IF('HOJA DE DATOS'!D211=0,\"\",'HOJA DE DATOS'!D211)","v":"OVINO"},{"$f":"IF('HOJA DE DATOS'!E211=0,\"\",'HOJA DE DATOS'!E211)","v":"LECHE"},{"$f":"IF('HOJA DE DATOS'!F211=0,\"\",'HOJA DE DATOS'!F211)","v":"ORDEÑO"},{"$f":"IF('HOJA DE DATOS'!G211=0,\"\",'HOJA DE DATOS'!G211)","v":"MEZCLA N"},{"$f":"IF('HOJA DE DATOS'!H211=0,\"\",'HOJA DE DATOS'!H211)","v":"PIENSO COMPLEMENTARIO"},{"$f":"IF('HOJA DE DATOS'!I211=0,\"\",'HOJA DE DATOS'!I211)","v":"OVEJAS EN ORDEÑO"},{"$f":"IF('HOJA DE DATOS'!Q211=0,\"\",'HOJA DE DATOS'!Q211)","v":"Mezcla Integral con fibra corta complementaria de forraje destinada a la alimentacion de ovejas de ordeño de media-alta producción.Pienso complementario."},{"$f":"IF('HOJA DE DATOS'!R211=0,\"\",'HOJA DE DATOS'!R211)","v":"Los animales dispondrán de agua limpia y fresca a libre servicio. Racionar según recomendaciones de los servicios técnicos"},{"$f":"IF('HOJA DE DATOS'!S211=0,\"\",'HOJA DE DATOS'!S211)","v":"Mezcla Integral con fibra larga complementaria de forraje destinada a la alimentacion de ovejas de ordeño de alta producción.Complementario de forrajes.Los animales dispondrán de agua limpia y fresca a libre servicio."},{"$f":"IF('HOJA DE DATOS'!T211=0,\"\",'HOJA DE DATOS'!T211)","v":9},{"$f":"IF('HOJA DE DATOS'!U211=0,\"\",'HOJA DE DATOS'!U211)","v":16},{"$f":"IF('HOJA DE DATOS'!V211=0,\"\",'HOJA DE DATOS'!V211)","v":12.9},{"$f":"IF('HOJA DE DATOS'!W211=0,\"\",'HOJA DE DATOS'!W211)","v":3.5},{"$f":"IF('HOJA DE DATOS'!X211=0,\"\",'HOJA DE DATOS'!X211)","v":7.4},{"$f":"IF('HOJA DE DATOS'!Y211=0,\"\",'HOJA DE DATOS'!Y211)","v":24},{"$f":"IF('HOJA DE DATOS'!P211=0,\"\",'HOJA DE DATOS'!P211)","v":86}]
[null,{"$f":"IF('HOJA DE DATOS'!C212=0,\"\",'HOJA DE DATOS'!C212)","v":"OVILAC INT. N 2500"},{"$f":"IF('HOJA DE DATOS'!D212=0,\"\",'HOJA DE DATOS'!D212)","v":"OVINO"},{"$f":"IF('HOJA DE DATOS'!E212=0,\"\",'HOJA DE DATOS'!E212)","v":"LECHE"},{"$f":"IF('HOJA DE DATOS'!F212=0,\"\",'HOJA DE DATOS'!F212)","v":"ORDEÑO"},{"$f":"IF('HOJA DE DATOS'!G212=0,\"\",'HOJA DE DATOS'!G212)","v":"MEZCLA N"},{"$f":"IF('HOJA DE DATOS'!H212=0,\"\",'HOJA DE DATOS'!H212)","v":"PIENSO COMPLEMENTARIO"},{"$f":"IF('HOJA DE DATOS'!I212=0,\"\",'HOJA DE DATOS'!I212)","v":"OVEJAS EN ORDEÑO"},{"$f":"IF('HOJA DE DATOS'!Q212=0,\"\",'HOJA DE DATOS'!Q212)","v":"Mezcla Integral con fibra corta complementaria de forraje destinada a la alimentacion de ovejas de ordeño de alta producción..Pienso complementario."},{"$f":"IF('HOJA DE DATOS'!R212=0,\"\",'HOJA DE DATOS'!R212)","v":"Los animales dispondrán de agua limpia y fresca a libre servicio. Racionar según recomendaciones de los servicios técnicos"},{"$f":"IF('HOJA DE DATOS'!S212=0,\"\",'HOJA DE DATOS'!S212)","v":"Mezcla Integral con fibra corta complementaria de forraje destinada a la alimentacion de ovejas de ordeño de alta producción.Complementario de forrajes.Los animales dispondrán de agua limpia y fresca a libre servicio."},{"$f":"IF('HOJA DE DATOS'!T212=0,\"\",'HOJA DE DATOS'!T212)","v":9},{"$f":"IF('HOJA DE DATOS'!U212=0,\"\",'HOJA DE DATOS'!U212)","v":18},{"$f":"IF('HOJA DE DATOS'!V212=0,\"\",'HOJA DE DATOS'!V212)","v":11.1},{"$f":"IF('HOJA DE DATOS'!W212=0,\"\",'HOJA DE DATOS'!W212)","v":3.6},{"$f":"IF('HOJA DE DATOS'!X212=0,\"\",'HOJA DE DATOS'!X212)","v":7.5},{"$f":"IF('HOJA DE DATOS'!Y212=0,\"\",'HOJA DE DATOS'!Y212)","v":22.2},{"$f":"IF('HOJA DE DATOS'!P212=0,\"\",'HOJA DE DATOS'!P212)","v":93}]
[null,{"$f":"IF('HOJA DE DATOS'!C213=0,\"\",'HOJA DE DATOS'!C213)","v":"OVILAC INT. N GESTACION"},{"$f":"IF('HOJA DE DATOS'!D213=0,\"\",'HOJA DE DATOS'!D213)","v":"OVINO"},{"$f":"IF('HOJA DE DATOS'!E213=0,\"\",'HOJA DE DATOS'!E213)","v":"LECHE"},{"$f":"IF('HOJA DE DATOS'!F213=0,\"\",'HOJA DE DATOS'!F213)","v":"GESTACION"},{"$f":"IF('HOJA DE DATOS'!G213=0,\"\",'HOJA DE DATOS'!G213)","v":"MEZCLA N"},{"$f":"IF('HOJA DE DATOS'!H213=0,\"\",'HOJA DE DATOS'!H213)","v":"PIENSO COMPLEMENTARIO"},{"$f":"IF('HOJA DE DATOS'!I213=0,\"\",'HOJA DE DATOS'!I213)","v":"OVEJAS Y CABRAS EN GESTACION"},{"$f":"IF('HOJA DE DATOS'!Q213=0,\"\",'HOJA DE DATOS'!Q213)","v":"Mezcla Integral con fibra corta completa destinada a la alimentacion de ovejas de alta producción de leche en laq época de preparto (7 semanas antes del parto).Pienso complementario."},{"$f":"IF('HOJA DE DATOS'!R213=0,\"\",'HOJA DE DATOS'!R213)","v":"Los animales dispondrán de agua limpia y fresca a libre servicio. Racionar según recomendaciones de los servicios técnicos"},{"$f":"IF('HOJA DE DATOS'!S213=0,\"\",'HOJA DE DATOS'!S213)","v":"Mezcla Integral con fibra corta completa destinada a la alimentacion de ovejas de alta producción de leche en la época de preparto (7 semanas antes del parto).Complementario de forrajes.Los animales dispondrán de agua limpia y fresca a libre servicio."},{"$f":"IF('HOJA DE DATOS'!T213=0,\"\",'HOJA DE DATOS'!T213)","v":9},{"$f":"IF('HOJA DE DATOS'!U213=0,\"\",'HOJA DE DATOS'!U213)","v":14.7},{"$f":"IF('HOJA DE DATOS'!V213=0,\"\",'HOJA DE DATOS'!V213)","v":7.8},{"$f":"IF('HOJA DE DATOS'!W213=0,\"\",'HOJA DE DATOS'!W213)","v":2.8},{"$f":"IF('HOJA DE DATOS'!X213=0,\"\",'HOJA DE DATOS'!X213)","v":7.3},{"$f":"IF('HOJA DE DATOS'!Y213=0,\"\",'HOJA DE DATOS'!Y213)","v":28},{"$f":"IF('HOJA DE DATOS'!P213=0,\"\",'HOJA DE DATOS'!P213)","v":90}]
[null,{"$f":"IF('HOJA DE DATOS'!C214=0,\"\",'HOJA DE DATOS'!C214)","v":"OVILAC INT. N MANTENIMIENTO"},{"$f":"IF('HOJA DE DATOS'!D214=0,\"\",'HOJA DE DATOS'!D214)","v":"OVINO"},{"$f":"IF('HOJA DE DATOS'!E214=0,\"\",'HOJA DE DATOS'!E214)","v":"LECHE"},{"$f":"IF('HOJA DE DATOS'!F214=0,\"\",'HOJA DE DATOS'!F214)","v":"ORDEÑO"},{"$f":"IF('HOJA DE DATOS'!G214=0,\"\",'HOJA DE DATOS'!G214)","v":"MEZCLA N"},{"$f":"IF('HOJA DE DATOS'!H214=0,\"\",'HOJA DE DATOS'!H214)","v":"PIENSO COMPLEMENTARIO"},{"$f":"IF('HOJA DE DATOS'!I214=0,\"\",'HOJA DE DATOS'!I214)","v":"OVEJAS Y CABRAS EN MANTENIMIENTO Y LACTACION"},{"$f":"IF('HOJA DE DATOS'!Q214=0,\"\",'HOJA DE DATOS'!Q214)","v":"Mezcla Integral con fibra larga complementaria de forraje destinada a la alimentacion de ovejas en mantenimiento o recuperación de reservas corporales.Pienso complementario."},{"$f":"IF('HOJA DE DATOS'!R214=0,\"\",'HOJA DE DATOS'!R214)","v":"Los animales dispondrán de agua limpia y fresca a libre servicio. Racionar según recomendaciones de los servicios técnicos"},{"$f":"IF('HOJA DE DATOS'!S214=0,\"\",'HOJA DE DATOS'!S214)","v":"Mezcla Integral con fibra larga complementaria de forraje destinada a la alimentacion de ovejas en mantenimiento o recuperación de reservas corporales.Los animales dispondrán de agua limpia y fresca a libre servicio."},{"$f":"IF('HOJA DE DATOS'!T214=0,\"\",'HOJA DE DATOS'!T214)","v":9},{"$f":"IF('HOJA DE DATOS'!U214=0,\"\",'HOJA DE DATOS'!U214)","v":15.5},{"$f":"IF('HOJA DE DATOS'!V214=0,\"\",'HOJA DE DATOS'!V214)","v":14.4},{"$f":"IF('HOJA DE DATOS'!W214=0,\"\",'HOJA DE DATOS'!W214)","v":2.8},{"$f":"IF('HOJA DE DATOS'!X214=0,\"\",'HOJA DE DATOS'!X214)","v":8.6},{"$f":"IF('HOJA DE DATOS'!Y214=0,\"\",'HOJA DE DATOS'!Y214)","v":20},{"$f":"IF('HOJA DE DATOS'!P214=0,\"\",'HOJA DE DATOS'!P214)","v":75}]
[null,{"$f":"IF('HOJA DE DATOS'!C215=0,\"\",'HOJA DE DATOS'!C215)","v":"OVILACTAL"},{"$f":"IF('HOJA DE DATOS'!D215=0,\"\",'HOJA DE DATOS'!D215)","v":"OVINO"},{"$f":"IF('HOJA DE DATOS'!E215=0,\"\",'HOJA DE DATOS'!E215)","v":"LECHE"},{"$f":"IF('HOJA DE DATOS'!F215=0,\"\",'HOJA DE DATOS'!F215)","v":"ORDEÑO"},{"$f":"IF('HOJA DE DATOS'!G215=0,\"\",'HOJA DE DATOS'!G215)","v":"GRANULADO 3,5"},{"$f":"IF('HOJA DE DATOS'!H215=0,\"\",'HOJA DE DATOS'!H215)","v":"PIENSO COMPLEMENTARIO"},{"$f":"IF('HOJA DE DATOS'!I215=0,\"\",'HOJA DE DATOS'!I215)","v":"OVEJAS EN ORDEÑO"},{"$f":"IF('HOJA DE DATOS'!Q215=0,\"\",'HOJA DE DATOS'!Q215)","v":"Pienso complementario de ovejas destinado a ordeño para animales de media-alta producción. Tambien como puenteo o raciones UNIFEED. Complementario de forrajes"},{"$f":"IF('HOJA DE DATOS'!R215=0,\"\",'HOJA DE DATOS'!R215)","v":"Las dosificaciones deben hacerse atendiendo a la producción y a las características de la oveja así como a los forrajes de la ración de base Administrar siempre agua limpia y fresca"},{"$f":"IF('HOJA DE DATOS'!S215=0,\"\",'HOJA DE DATOS'!S215)","v":"Pienso  de ovejas destinado a ordeño para animales de media-alta producción. Tambien como puenteo o raciones UNIFEED.Complementario de forrajes. Administrar siempre agua limpia y fresca."},{"$f":"IF('HOJA DE DATOS'!T215=0,\"\",'HOJA DE DATOS'!T215)","v":11},{"$f":"IF('HOJA DE DATOS'!U215=0,\"\",'HOJA DE DATOS'!U215)","v":18},{"$f":"IF('HOJA DE DATOS'!V215=0,\"\",'HOJA DE DATOS'!V215)","v":9.3000000000000007},{"$f":"IF('HOJA DE DATOS'!W215=0,\"\",'HOJA DE DATOS'!W215)","v":3.5},{"$f":"IF('HOJA DE DATOS'!X215=0,\"\",'HOJA DE DATOS'!X215)","v":6.6},{"$f":"IF('HOJA DE DATOS'!Y215=0,\"\",'HOJA DE DATOS'!Y215)","v":28},{"$f":"IF('HOJA DE DATOS'!P215=0,\"\",'HOJA DE DATOS'!P215)","v":88}]
[null,{"$f":"IF('HOJA DE DATOS'!C216=0,\"\",'HOJA DE DATOS'!C216)","v":"OVILACTAL"},{"$f":"IF('HOJA DE DATOS'!D216=0,\"\",'HOJA DE DATOS'!D216)","v":"OVINO"},{"$f":"IF('HOJA DE DATOS'!E216=0,\"\",'HOJA DE DATOS'!E216)","v":"LECHE"},{"$f":"IF('HOJA DE DATOS'!F216=0,\"\",'HOJA DE DATOS'!F216)","v":"ORDEÑO"},{"$f":"IF('HOJA DE DATOS'!G216=0,\"\",'HOJA DE DATOS'!G216)","v":"GRANULADO 3,5"},{"$f":"IF('HOJA DE DATOS'!H216=0,\"\",'HOJA DE DATOS'!H216)","v":"PIENSO COMPLEMENTARIO"},{"$f":"IF('HOJA DE DATOS'!I216=0,\"\",'HOJA DE DATOS'!I216)","v":"OVEJAS EN ORDEÑO"},{"$f":"IF('HOJA DE DATOS'!Q216=0,\"\",'HOJA DE DATOS'!Q216)","v":"Pienso complementario de ovejas destinado a ordeño para animales de media-alta producción. Tambien como puenteo o raciones UNIFEED. Complementario de forrajes"},{"$f":"IF('HOJA DE DATOS'!R216=0,\"\",'HOJA DE DATOS'!R216)","v":"Las dosificaciones deben hacerse atendiendo a la producción y a las características de la oveja así como a los forrajes de la ración de base Administrar siempre agua limpia y fresca"},{"$f":"IF('HOJA DE DATOS'!S216=0,\"\",'HOJA DE DATOS'!S216)","v":"Pienso  de ovejas destinado a ordeño para animales de media-alta producción. Tambien como puenteo o raciones UNIFEED.Complementario de forrajes. Administrar siempre agua limpia y fresca."},{"$f":"IF('HOJA DE DATOS'!T216=0,\"\",'HOJA DE DATOS'!T216)","v":11},{"$f":"IF('HOJA DE DATOS'!U216=0,\"\",'HOJA DE DATOS'!U216)","v":18},{"$f":"IF('HOJA DE DATOS'!V216=0,\"\",'HOJA DE DATOS'!V216)","v":9.3000000000000007},{"$f":"IF('HOJA DE DATOS'!W216=0,\"\",'HOJA DE DATOS'!W216)","v":3.5},{"$f":"IF('HOJA DE DATOS'!X216=0,\"\",'HOJA DE DATOS'!X216)","v":6.6},{"$f":"IF('HOJA DE DATOS'!Y216=0,\"\",'HOJA DE DATOS'!Y216)","v":28},{"$f":"IF('HOJA DE DATOS'!P216=0,\"\",'HOJA DE DATOS'!P216)","v":88}]
[null,{"$f":"IF('HOJA DE DATOS'!C217=0,\"\",'HOJA DE DATOS'!C217)","v":"OVILACTAL EXTRA"},{"$f":"IF('HOJA DE DATOS'!D217=0,\"\",'HOJA DE DATOS'!D217)","v":"OVINO"},{"$f":"IF('HOJA DE DATOS'!E217=0,\"\",'HOJA DE DATOS'!E217)","v":"LECHE"},{"$f":"IF('HOJA DE DATOS'!F217=0,\"\",'HOJA DE DATOS'!F217)","v":"ORDEÑO"},{"$f":"IF('HOJA DE DATOS'!G217=0,\"\",'HOJA DE DATOS'!G217)","v":"GRANULADO 3,5"},{"$f":"IF('HOJA DE DATOS'!H217=0,\"\",'HOJA DE DATOS'!H217)","v":"PIENSO COMPLEMENTARIO"},{"$f":"IF('HOJA DE DATOS'!I217=0,\"\",'HOJA DE DATOS'!I217)","v":"OVEJAS EN ORDEÑO"},{"$f":"IF('HOJA DE DATOS'!Q217=0,\"\",'HOJA DE DATOS'!Q217)","v":"Pienso complementario de ovejas destinado a ordeño para animales de media-alta producción. Tambien como puenteo o raciones UNIFEED. Complementario de forrajes"},{"$f":"IF('HOJA DE DATOS'!R217=0,\"\",'HOJA DE DATOS'!R217)","v":"Las dosificaciones deben hacerse atendiendo a la producción y a las caractarísticas de la oveja así como a los forrajes de la ración de base Administrar siempre agua limpia y fresca"},{"$f":"IF('HOJA DE DATOS'!S217=0,\"\",'HOJA DE DATOS'!S217)","v":"Pienso  de ovejas destinado a ordeño para animales de media-alta producción. Tambien como puenteo o raciones UNIFEED.Complementario de forrajes.  Administrar siempre agua limpia y fresca."},{"$f":"IF('HOJA DE DATOS'!T217=0,\"\",'HOJA DE DATOS'!T217)","v":11},{"$f":"IF('HOJA DE DATOS'!U217=0,\"\",'HOJA DE DATOS'!U217)","v":18},{"$f":"IF('HOJA DE DATOS'!V217=0,\"\",'HOJA DE DATOS'!V217)","v":7.4},{"$f":"IF('HOJA DE DATOS'!W217=0,\"\",'HOJA DE DATOS'!W217)","v":3.5},{"$f":"IF('HOJA DE DATOS'!X217=0,\"\",'HOJA DE DATOS'!X217)","v":7.4},{"$f":"IF('HOJA DE DATOS'!Y217=0,\"\",'HOJA DE DATOS'!Y217)","v":32},{"$f":"IF('HOJA DE DATOS'!P217=0,\"\",'HOJA DE DATOS'!P217)","v":90}]
[null,{"$f":"IF('HOJA DE DATOS'!C218=0,\"\",'HOJA DE DATOS'!C218)","v":"OVILACTAL SUPER"},{"$f":"IF('HOJA DE DATOS'!D218=0,\"\",'HOJA DE DATOS'!D218)","v":"OVINO"},{"$f":"IF('HOJA DE DATOS'!E218=0,\"\",'HOJA DE DATOS'!E218)","v":"LECHE"},{"$f":"IF('HOJA DE DATOS'!F218=0,\"\",'HOJA DE DATOS'!F218)","v":"ORDEÑO"},{"$f":"IF('HOJA DE DATOS'!G218=0,\"\",'HOJA DE DATOS'!G218)","v":"GRANULADO 3,5"},{"$f":"IF('HOJA DE DATOS'!H218=0,\"\",'HOJA DE DATOS'!H218)","v":"PIENSO COMPLEMENTARIO"},{"$f":"IF('HOJA DE DATOS'!I218=0,\"\",'HOJA DE DATOS'!I218)","v":"OVEJAS EN ORDEÑO"},{"$f":"IF('HOJA DE DATOS'!Q218=0,\"\",'HOJA DE DATOS'!Q218)","v":"Pienso complementario de ovejas destinado a ordeño para animales de media-alta producción. Tambien como puenteo o raciones UNIFEED. Complementario de forrajes"},{"$f":"IF('HOJA DE DATOS'!R218=0,\"\",'HOJA DE DATOS'!R218)","v":"Las dosificaciones deben hacerse atendiendo a la producción y a las caractarísticas de la oveja así como a los forrajes de la ración de base\nAdministrar siempre agua limpia y fresca"},{"$f":"IF('HOJA DE DATOS'!S218=0,\"\",'HOJA DE DATOS'!S218)","v":"Pienso  de ovejas destinado a ordeño para animales de media-alta producción. Tambien como puenteo o raciones UNIFEED. Complementario de forrajes. Administrar siempre agua limpia y fresca."},{"$f":"IF('HOJA DE DATOS'!T218=0,\"\",'HOJA DE DATOS'!T218)","v":11},{"$f":"IF('HOJA DE DATOS'!U218=0,\"\",'HOJA DE DATOS'!U218)","v":21},{"$f":"IF('HOJA DE DATOS'!V218=0,\"\",'HOJA DE DATOS'!V218)","v":7},{"$f":"IF('HOJA DE DATOS'!W218=0,\"\",'HOJA DE DATOS'!W218)","v":3},{"$f":"IF('HOJA DE DATOS'!X218=0,\"\",'HOJA DE DATOS'!X218)","v":8.4},{"$f":"IF('HOJA DE DATOS'!Y218=0,\"\",'HOJA DE DATOS'!Y218)","v":35},{"$f":"IF('HOJA DE DATOS'!P218=0,\"\",'HOJA DE DATOS'!P218)","v":93}]
[null,{"$f":"IF('HOJA DE DATOS'!C219=0,\"\",'HOJA DE DATOS'!C219)","v":"OVILACTAL TOP"},{"$f":"IF('HOJA DE DATOS'!D219=0,\"\",'HOJA DE DATOS'!D219)","v":"OVINO"},{"$f":"IF('HOJA DE DATOS'!E219=0,\"\",'HOJA DE DATOS'!E219)","v":"LECHE"},{"$f":"IF('HOJA DE DATOS'!F219=0,\"\",'HOJA DE DATOS'!F219)","v":"ORDEÑO"},{"$f":"IF('HOJA DE DATOS'!G219=0,\"\",'HOJA DE DATOS'!G219)","v":"GRANULADO 3,5"},{"$f":"IF('HOJA DE DATOS'!H219=0,\"\",'HOJA DE DATOS'!H219)","v":"PIENSO COMPLEMENTARIO"},{"$f":"IF('HOJA DE DATOS'!I219=0,\"\",'HOJA DE DATOS'!I219)","v":"OVEJAS EN ORDEÑO"},{"$f":"IF('HOJA DE DATOS'!Q219=0,\"\",'HOJA DE DATOS'!Q219)","v":"Pienso de ovejas lecheras complementario de forraje para suministrar a ovejas de alta producción en ordeño, en pesebre o sala. Racionar según ración de volumen, peso y producción."},{"$f":"IF('HOJA DE DATOS'!R219=0,\"\",'HOJA DE DATOS'!R219)","v":"Los animales dispondrán en todo momento de agua limpia y fresca a libre servicio. Consultar a los servicios técnicos."},{"$f":"IF('HOJA DE DATOS'!S219=0,\"\",'HOJA DE DATOS'!S219)","v":"Pienso de ovejas lecheras para ovejas de alta producción. Complementario de forrajes.Racionar según ración de volumen, peso y producción.Los animales dispondrán en todo momento de agua limpia y fresca a libre servicio."},{"$f":"IF('HOJA DE DATOS'!T219=0,\"\",'HOJA DE DATOS'!T219)","v":11},{"$f":"IF('HOJA DE DATOS'!U219=0,\"\",'HOJA DE DATOS'!U219)","v":21},{"$f":"IF('HOJA DE DATOS'!V219=0,\"\",'HOJA DE DATOS'!V219)","v":7},{"$f":"IF('HOJA DE DATOS'!W219=0,\"\",'HOJA DE DATOS'!W219)","v":3.5},{"$f":"IF('HOJA DE DATOS'!X219=0,\"\",'HOJA DE DATOS'!X219)","v":7.4},{"$f":"IF('HOJA DE DATOS'!Y219=0,\"\",'HOJA DE DATOS'!Y219)","v":30},{"$f":"IF('HOJA DE DATOS'!P219=0,\"\",'HOJA DE DATOS'!P219)","v":96}]
[null,{"$f":"IF('HOJA DE DATOS'!C220=0,\"\",'HOJA DE DATOS'!C220)","v":"OVILACTAL TOP"},{"$f":"IF('HOJA DE DATOS'!D220=0,\"\",'HOJA DE DATOS'!D220)","v":"OVINO"},{"$f":"IF('HOJA DE DATOS'!E220=0,\"\",'HOJA DE DATOS'!E220)","v":"LECHE"},{"$f":"IF('HOJA DE DATOS'!F220=0,\"\",'HOJA DE DATOS'!F220)","v":"ORDEÑO"},{"$f":"IF('HOJA DE DATOS'!G220=0,\"\",'HOJA DE DATOS'!G220)","v":"GRANULADO 3,5"},{"$f":"IF('HOJA DE DATOS'!H220=0,\"\",'HOJA DE DATOS'!H220)","v":"PIENSO COMPLEMENTARIO"},{"$f":"IF('HOJA DE DATOS'!I220=0,\"\",'HOJA DE DATOS'!I220)","v":"OVEJAS EN ORDEÑO"},{"$f":"IF('HOJA DE DATOS'!Q220=0,\"\",'HOJA DE DATOS'!Q220)","v":"Concentrado complementar, de forragens, para ovelhas em ordenho de media-alta produção. Para utilizar na sala de odenho ou carro unifeed.  Sempre com  agua fresca e limpa, á disposição."},{"$f":"IF('HOJA DE DATOS'!R220=0,\"\",'HOJA DE DATOS'!R220)","v":"Concentrado complementar para ovelhas em ordenho. Fornecer em função da produção, número de borregos e quantidade e qualidade das forragens disponiveis. Sempre com  agua fresca e limpa, á disposição. Recomenda-se a utilização de Nantarum."},{"$f":"IF('HOJA DE DATOS'!S220=0,\"\",'HOJA DE DATOS'!S220)","v":"Pienso de ovejas lecheras para ovejas de alta producción. Complementario de forrajes.Racionar según ración de volumen, peso y producción.Los animales dispondrán en todo momento de agua limpia y fresca a libre servicio."},{"$f":"IF('HOJA DE DATOS'!T220=0,\"\",'HOJA DE DATOS'!T220)","v":11},{"$f":"IF('HOJA DE DATOS'!U220=0,\"\",'HOJA DE DATOS'!U220)","v":23},{"$f":"IF('HOJA DE DATOS'!V220=0,\"\",'HOJA DE DATOS'!V220)","v":5.6},{"$f":"IF('HOJA DE DATOS'!W220=0,\"\",'HOJA DE DATOS'!W220)","v":4.4000000000000004},{"$f":"IF('HOJA DE DATOS'!X220=0,\"\",'HOJA DE DATOS'!X220)","v":9.6},{"$f":"IF('HOJA DE DATOS'!Y220=0,\"\",'HOJA DE DATOS'!Y220)","v":29},{"$f":"IF('HOJA DE DATOS'!P220=0,\"\",'HOJA DE DATOS'!P220)","v":96}]
[null,{"$f":"IF('HOJA DE DATOS'!C221=0,\"\",'HOJA DE DATOS'!C221)","v":"OVILACTAL TRIPLEX"},{"$f":"IF('HOJA DE DATOS'!D221=0,\"\",'HOJA DE DATOS'!D221)","v":"OVINO"},{"$f":"IF('HOJA DE DATOS'!E221=0,\"\",'HOJA DE DATOS'!E221)","v":"LECHE"},{"$f":"IF('HOJA DE DATOS'!F221=0,\"\",'HOJA DE DATOS'!F221)","v":"ORDEÑO"},{"$f":"IF('HOJA DE DATOS'!G221=0,\"\",'HOJA DE DATOS'!G221)","v":"GRANULADO 3,5"},{"$f":"IF('HOJA DE DATOS'!H221=0,\"\",'HOJA DE DATOS'!H221)","v":"PIENSO COMPLEMENTARIO"},{"$f":"IF('HOJA DE DATOS'!I221=0,\"\",'HOJA DE DATOS'!I221)","v":"OVEJAS EN ORDEÑO"},{"$f":"IF('HOJA DE DATOS'!Q221=0,\"\",'HOJA DE DATOS'!Q221)","v":"Pienso de ovejas lecheras complementario de forraje para suministrar a ovejas de alta producción en ordeño, en pesebre o sala. Racionar según ración de volumen, peso y producción."},{"$f":"IF('HOJA DE DATOS'!R221=0,\"\",'HOJA DE DATOS'!R221)","v":"Los animales dispondrán en todo momento de agua limpia y fresca a libre servicio. Consultar a los servicios técnicos."},{"$f":"IF('HOJA DE DATOS'!S221=0,\"\",'HOJA DE DATOS'!S221)","v":"Pienso  de ovejas destinado a ordeño para animales de alta producción. Tambien como puenteo o raciones UNIFEED. Complementario de forrajes. Administrar siempre agua limpia y fresca."},{"$f":"IF('HOJA DE DATOS'!T221=0,\"\",'HOJA DE DATOS'!T221)","v":11},{"$f":"IF('HOJA DE DATOS'!U221=0,\"\",'HOJA DE DATOS'!U221)","v":20},{"$f":"IF('HOJA DE DATOS'!V221=0,\"\",'HOJA DE DATOS'!V221)","v":8.6999999999999993},{"$f":"IF('HOJA DE DATOS'!W221=0,\"\",'HOJA DE DATOS'!W221)","v":5.8},{"$f":"IF('HOJA DE DATOS'!X221=0,\"\",'HOJA DE DATOS'!X221)","v":7},{"$f":"IF('HOJA DE DATOS'!Y221=0,\"\",'HOJA DE DATOS'!Y221)","v":24},{"$f":"IF('HOJA DE DATOS'!P221=0,\"\",'HOJA DE DATOS'!P221)","v":95}]
[null,{"$f":"IF('HOJA DE DATOS'!C222=0,\"\",'HOJA DE DATOS'!C222)","v":"OVINANTA 50"},{"$f":"IF('HOJA DE DATOS'!D222=0,\"\",'HOJA DE DATOS'!D222)","v":"OVINO"},{"$f":"IF('HOJA DE DATOS'!E222=0,\"\",'HOJA DE DATOS'!E222)","v":"LECHE"},{"$f":"IF('HOJA DE DATOS'!F222=0,\"\",'HOJA DE DATOS'!F222)","v":"ORDEÑO"},{"$f":"IF('HOJA DE DATOS'!G222=0,\"\",'HOJA DE DATOS'!G222)","v":"GRANULADO 3,5"},{"$f":"IF('HOJA DE DATOS'!H222=0,\"\",'HOJA DE DATOS'!H222)","v":"PIENSO COMPLEMENTARIO"},{"$f":"IF('HOJA DE DATOS'!I222=0,\"\",'HOJA DE DATOS'!I222)","v":"OVEJAS Y CABRAS EN MANTENIMIENTO Y LACTACION"},{"$f":"IF('HOJA DE DATOS'!Q222=0,\"\",'HOJA DE DATOS'!Q222)","v":"Concentrado destinado a ovejas y cabras de producción lechera. Es posible mezclar con cereales.Pienso complementario. Complementario de forrajes. También en carro mezclador.\nSiempre como complementario de forrajes"},{"$f":"IF('HOJA DE DATOS'!R222=0,\"\",'HOJA DE DATOS'!R222)","v":"Las dosificaciones deben hacerse atendiendo a la producción y a las caractarísticas de la oveja así como a los forrajes de la ración de base"},{"$f":"IF('HOJA DE DATOS'!S222=0,\"\",'HOJA DE DATOS'!S222)","v":"Concentrado destinado a ovejas y cabras de producción lechera. Es posible mezclar con cerealesComplementario de forrajes. También en carro mezclador.Siempre como complementario de forrajes"},{"$f":"IF('HOJA DE DATOS'!T222=0,\"\",'HOJA DE DATOS'!T222)","v":11},{"$f":"IF('HOJA DE DATOS'!U222=0,\"\",'HOJA DE DATOS'!U222)","v":21},{"$f":"IF('HOJA DE DATOS'!V222=0,\"\",'HOJA DE DATOS'!V222)","v":10.9},{"$f":"IF('HOJA DE DATOS'!W222=0,\"\",'HOJA DE DATOS'!W222)","v":4.7},{"$f":"IF('HOJA DE DATOS'!X222=0,\"\",'HOJA DE DATOS'!X222)","v":14.6},{"$f":"IF('HOJA DE DATOS'!Y222=0,\"\",'HOJA DE DATOS'!Y222)","v":17},{"$f":"IF('HOJA DE DATOS'!P222=0,\"\",'HOJA DE DATOS'!P222)","v":75}]
[null,{"$f":"IF('HOJA DE DATOS'!C223=0,\"\",'HOJA DE DATOS'!C223)","v":"OVINOLAC"},{"$f":"IF('HOJA DE DATOS'!D223=0,\"\",'HOJA DE DATOS'!D223)","v":"OVINO"},{"$f":"IF('HOJA DE DATOS'!E223=0,\"\",'HOJA DE DATOS'!E223)","v":"LECHE"},{"$f":"IF('HOJA DE DATOS'!F223=0,\"\",'HOJA DE DATOS'!F223)","v":"ORDEÑO"},{"$f":"IF('HOJA DE DATOS'!G223=0,\"\",'HOJA DE DATOS'!G223)","v":"GRANULADO 3,5"},{"$f":"IF('HOJA DE DATOS'!H223=0,\"\",'HOJA DE DATOS'!H223)","v":"PIENSO COMPLEMENTARIO"},{"$f":"IF('HOJA DE DATOS'!I223=0,\"\",'HOJA DE DATOS'!I223)","v":"OVEJAS EN ORDEÑO"},{"$f":"IF('HOJA DE DATOS'!Q223=0,\"\",'HOJA DE DATOS'!Q223)","v":"Pienso complementario de ovejas destinado a ordeño para animales de alta producción. Tambien como puenteo o raciones UNIFEED. Complementario de forrajes"},{"$f":"IF('HOJA DE DATOS'!R223=0,\"\",'HOJA DE DATOS'!R223)","v":"Las dosificaciones deben hacerse atendiendo a la producción y a las características de la oveja así como a los forrajes de la ración de base Administrar siempre agua limpia y fresca."},{"$f":"IF('HOJA DE DATOS'!S223=0,\"\",'HOJA DE DATOS'!S223)","v":"Pienso  de ovejas destinado a ordeño para animales de alta producción. Tambien como puenteo o raciones UNIFEED.Complementario de forrajes. Administrar siempre agua limpia y fresca."},{"$f":"IF('HOJA DE DATOS'!T223=0,\"\",'HOJA DE DATOS'!T223)","v":11},{"$f":"IF('HOJA DE DATOS'!U223=0,\"\",'HOJA DE DATOS'!U223)","v":18.5},{"$f":"IF('HOJA DE DATOS'!V223=0,\"\",'HOJA DE DATOS'!V223)","v":8.6999999999999993},{"$f":"IF('HOJA DE DATOS'!W223=0,\"\",'HOJA DE DATOS'!W223)","v":3.5},{"$f":"IF('HOJA DE DATOS'!X223=0,\"\",'HOJA DE DATOS'!X223)","v":6.8},{"$f":"IF('HOJA DE DATOS'!Y223=0,\"\",'HOJA DE DATOS'!Y223)","v":29},{"$f":"IF('HOJA DE DATOS'!P223=0,\"\",'HOJA DE DATOS'!P223)","v":87}]
[null,{"$f":"IF('HOJA DE DATOS'!C224=0,\"\",'HOJA DE DATOS'!C224)","v":"OVINOLAC TOP"},{"$f":"IF('HOJA DE DATOS'!D224=0,\"\",'HOJA DE DATOS'!D224)","v":"OVINO"},{"$f":"IF('HOJA DE DATOS'!E224=0,\"\",'HOJA DE DATOS'!E224)","v":"LECHE"},{"$f":"IF('HOJA DE DATOS'!F224=0,\"\",'HOJA DE DATOS'!F224)","v":"ORDEÑO"},{"$f":"IF('HOJA DE DATOS'!G224=0,\"\",'HOJA DE DATOS'!G224)","v":"GRANULADO 3,5"},{"$f":"IF('HOJA DE DATOS'!H224=0,\"\",'HOJA DE DATOS'!H224)","v":"PIENSO COMPLEMENTARIO"},{"$f":"IF('HOJA DE DATOS'!I224=0,\"\",'HOJA DE DATOS'!I224)","v":"OVEJAS EN ORDEÑO"},{"$f":"IF('HOJA DE DATOS'!Q224=0,\"\",'HOJA DE DATOS'!Q224)","v":"Pienso complementario de ovejas destinado a ordeño para animales de alta producción. Tambien como puenteo o raciones UNIFEED. Complementario de forrajes"},{"$f":"IF('HOJA DE DATOS'!R224=0,\"\",'HOJA DE DATOS'!R224)","v":"Las dosificaciones deben hacerse atendiendo a la producción y a las características de la oveja así como a los forrajes de la ración de base Administrar siempre agua limpia y fresca."},{"$f":"IF('HOJA DE DATOS'!S224=0,\"\",'HOJA DE DATOS'!S224)","v":"Pienso  de ovejas destinado a ordeño para animales de alta producción. Tambien como puenteo o raciones UNIFEED.Complementario de forrajes. Administrar siempre agua limpia y fresca."},{"$f":"IF('HOJA DE DATOS'!T224=0,\"\",'HOJA DE DATOS'!T224)","v":11},{"$f":"IF('HOJA DE DATOS'!U224=0,\"\",'HOJA DE DATOS'!U224)","v":21},{"$f":"IF('HOJA DE DATOS'!V224=0,\"\",'HOJA DE DATOS'!V224)","v":6.5},{"$f":"IF('HOJA DE DATOS'!W224=0,\"\",'HOJA DE DATOS'!W224)","v":3.5},{"$f":"IF('HOJA DE DATOS'!X224=0,\"\",'HOJA DE DATOS'!X224)","v":6.6},{"$f":"IF('HOJA DE DATOS'!Y224=0,\"\",'HOJA DE DATOS'!Y224)","v":31},{"$f":"IF('HOJA DE DATOS'!P224=0,\"\",'HOJA DE DATOS'!P224)","v":96}]
[null,{"$f":"IF('HOJA DE DATOS'!C225=0,\"\",'HOJA DE DATOS'!C225)","v":"OVIRECRIA"},{"$f":"IF('HOJA DE DATOS'!D225=0,\"\",'HOJA DE DATOS'!D225)","v":"OVINO"},{"$f":"IF('HOJA DE DATOS'!E225=0,\"\",'HOJA DE DATOS'!E225)","v":"LECHE"},{"$f":"IF('HOJA DE DATOS'!F225=0,\"\",'HOJA DE DATOS'!F225)","v":"REPOSICION"},{"$f":"IF('HOJA DE DATOS'!G225=0,\"\",'HOJA DE DATOS'!G225)","v":"GRANULADO 3,5"},{"$f":"IF('HOJA DE DATOS'!H225=0,\"\",'HOJA DE DATOS'!H225)","v":"PIENSO COMPLEMENTARIO"},{"$f":"IF('HOJA DE DATOS'!I225=0,\"\",'HOJA DE DATOS'!I225)","v":"CORDERAS DE REPOSICION"},{"$f":"IF('HOJA DE DATOS'!Q225=0,\"\",'HOJA DE DATOS'!Q225)","v":"Pienso complementario destinados a corderas de reposición desde los 3 a los 6-7 meses. Se puede suministar a voluntad con paja ad libitumn pero es aconsejable el aporte de forrajes"},{"$f":"IF('HOJA DE DATOS'!R225=0,\"\",'HOJA DE DATOS'!R225)","v":"Los animales dispondrán en todo momento de agua limpia y fresca a libre servicio. Consultar a los servicios técnicos."},{"$f":"IF('HOJA DE DATOS'!S225=0,\"\",'HOJA DE DATOS'!S225)","v":"Pienso destinados a corderas de reposición desde los 3 a los 6-7 meses. Se puede suministar a voluntad con paja ad libitumn pero es aconsejable el aporte de forrajes.Los animales dispondrán en todo momento de agua limpia y fresca a libre servicio."},{"$f":"IF('HOJA DE DATOS'!T225=0,\"\",'HOJA DE DATOS'!T225)","v":11},{"$f":"IF('HOJA DE DATOS'!U225=0,\"\",'HOJA DE DATOS'!U225)","v":16.5},{"$f":"IF('HOJA DE DATOS'!V225=0,\"\",'HOJA DE DATOS'!V225)","v":8.1999999999999993},{"$f":"IF('HOJA DE DATOS'!W225=0,\"\",'HOJA DE DATOS'!W225)","v":3.5},{"$f":"IF('HOJA DE DATOS'!X225=0,\"\",'HOJA DE DATOS'!X225)","v":7.8},{"$f":"IF('HOJA DE DATOS'!Y225=0,\"\",'HOJA DE DATOS'!Y225)","v":31.1},{"$f":"IF('HOJA DE DATOS'!P225=0,\"\",'HOJA DE DATOS'!P225)","v":88}]
[null,{"$f":"IF('HOJA DE DATOS'!C226=0,\"\",'HOJA DE DATOS'!C226)","v":"OVIRECRIA CONTINUACION"},{"$f":"IF('HOJA DE DATOS'!D226=0,\"\",'HOJA DE DATOS'!D226)","v":"OVINO"},{"$f":"IF('HOJA DE DATOS'!E226=0,\"\",'HOJA DE DATOS'!E226)","v":"LECHE"},{"$f":"IF('HOJA DE DATOS'!F226=0,\"\",'HOJA DE DATOS'!F226)","v":"REPOSICION"},{"$f":"IF('HOJA DE DATOS'!G226=0,\"\",'HOJA DE DATOS'!G226)","v":"GRANULADO 3,5"},{"$f":"IF('HOJA DE DATOS'!H226=0,\"\",'HOJA DE DATOS'!H226)","v":"PIENSO COMPLEMENTARIO"},{"$f":"IF('HOJA DE DATOS'!I226=0,\"\",'HOJA DE DATOS'!I226)","v":"CORDERAS DE REPOSICION"},{"$f":"IF('HOJA DE DATOS'!Q226=0,\"\",'HOJA DE DATOS'!Q226)","v":"Pienso complementario destinados a corderas de reposición desde los 6-7 meses hasta el primer preparto. Suministrar racionado a razón de 0.7 Kg máximo por día como complementario de forrajes."},{"$f":"IF('HOJA DE DATOS'!R226=0,\"\",'HOJA DE DATOS'!R226)","v":"Los animales dispondrán en todo momento de agua limpia y fresca a libre servicio. Consultar a los servicios técnicos."},{"$f":"IF('HOJA DE DATOS'!S226=0,\"\",'HOJA DE DATOS'!S226)","v":"Pienso destinados a corderas de reposición desde los 6-7 meses hasta el primer preparto. Suministrar racionado a razón de 0.7 Kg máximo por día .Complementario de forrajes. Los animales dispondrán en todo momento de agua limpia y fresca a libre servicio."},{"$f":"IF('HOJA DE DATOS'!T226=0,\"\",'HOJA DE DATOS'!T226)","v":11},{"$f":"IF('HOJA DE DATOS'!U226=0,\"\",'HOJA DE DATOS'!U226)","v":16},{"$f":"IF('HOJA DE DATOS'!V226=0,\"\",'HOJA DE DATOS'!V226)","v":9},{"$f":"IF('HOJA DE DATOS'!W226=0,\"\",'HOJA DE DATOS'!W226)","v":2.9},{"$f":"IF('HOJA DE DATOS'!X226=0,\"\",'HOJA DE DATOS'!X226)","v":8.1},{"$f":"IF('HOJA DE DATOS'!Y226=0,\"\",'HOJA DE DATOS'!Y226)","v":28},{"$f":"IF('HOJA DE DATOS'!P226=0,\"\",'HOJA DE DATOS'!P226)","v":82}]
[null,{"$f":"IF('HOJA DE DATOS'!C227=0,\"\",'HOJA DE DATOS'!C227)","v":"VITACOR BABY"},{"$f":"IF('HOJA DE DATOS'!D227=0,\"\",'HOJA DE DATOS'!D227)","v":"CORDEROS/CABRITOS"},{"$f":"IF('HOJA DE DATOS'!E227=0,\"\",'HOJA DE DATOS'!E227)","v":"CARNE Y LECHE"},{"$f":"IF('HOJA DE DATOS'!F227=0,\"\",'HOJA DE DATOS'!F227)","v":"PRESTARTER"},{"$f":"IF('HOJA DE DATOS'!G227=0,\"\",'HOJA DE DATOS'!G227)","v":"HARINA"},{"$f":"IF('HOJA DE DATOS'!H227=0,\"\",'HOJA DE DATOS'!H227)","v":"PIENSO COMPLEMENTARIO"},{"$f":"IF('HOJA DE DATOS'!I227=0,\"\",'HOJA DE DATOS'!I227)","v":"CORDEROS Y CHIVOS  ARRANQUE"},{"$f":"IF('HOJA DE DATOS'!Q227=0,\"\",'HOJA DE DATOS'!Q227)","v":"Pienso complementario. Alimento de arranque granulado prestarter para corderos y cabritos . Ideal para animales que se sacrifican de lechales."},{"$f":"IF('HOJA DE DATOS'!R227=0,\"\",'HOJA DE DATOS'!R227)","v":"A libre disposición desde los primeros días de vida . Paja limpia y fresca a libre servicio.Los animales dispondrán en todo momento de agua limpia y fresca a libre servicio. Consultar a los servicios técnicos."},{"$f":"IF('HOJA DE DATOS'!S227=0,\"\",'HOJA DE DATOS'!S227)","v":"Alimento de arranque granulado prestarter para corderos y cabritos . Ideal para animales que se sacrifican de lechales. A libre disposición desde los primeros días de vida . Paja limpia y fresca a libre servicio."},{"$f":"IF('HOJA DE DATOS'!T227=0,\"\",'HOJA DE DATOS'!T227)","v":11},{"$f":"IF('HOJA DE DATOS'!U227=0,\"\",'HOJA DE DATOS'!U227)","v":18.7},{"$f":"IF('HOJA DE DATOS'!V227=0,\"\",'HOJA DE DATOS'!V227)","v":2.8},{"$f":"IF('HOJA DE DATOS'!W227=0,\"\",'HOJA DE DATOS'!W227)","v":7.1},{"$f":"IF('HOJA DE DATOS'!X227=0,\"\",'HOJA DE DATOS'!X227)","v":7.8},{"$f":"IF('HOJA DE DATOS'!Y227=0,\"\",'HOJA DE DATOS'!Y227)","v":26.3},{"$f":"IF('HOJA DE DATOS'!P227=0,\"\",'HOJA DE DATOS'!P227)","v":105}]
[null,{"$f":"IF('HOJA DE DATOS'!C228=0,\"\",'HOJA DE DATOS'!C228)","v":""},{"$f":"IF('HOJA DE DATOS'!D228=0,\"\",'HOJA DE DATOS'!D228)","v":""},{"$f":"IF('HOJA DE DATOS'!E228=0,\"\",'HOJA DE DATOS'!E228)","v":""},{"$f":"IF('HOJA DE DATOS'!F228=0,\"\",'HOJA DE DATOS'!F228)","v":""},{"$f":"IF('HOJA DE DATOS'!G228=0,\"\",'HOJA DE DATOS'!G228)","v":""},{"$f":"IF('HOJA DE DATOS'!H228=0,\"\",'HOJA DE DATOS'!H228)","v":""},{"$f":"IF('HOJA DE DATOS'!I228=0,\"\",'HOJA DE DATOS'!I228)","v":""},{"$f":"IF('HOJA DE DATOS'!Q228=0,\"\",'HOJA DE DATOS'!Q228)","v":""},{"$f":"IF('HOJA DE DATOS'!R228=0,\"\",'HOJA DE DATOS'!R228)","v":""},{"$f":"IF('HOJA DE DATOS'!S228=0,\"\",'HOJA DE DATOS'!S228)","v":""},{"$f":"IF('HOJA DE DATOS'!T228=0,\"\",'HOJA DE DATOS'!T228)","v":""},{"$f":"IF('HOJA DE DATOS'!U228=0,\"\",'HOJA DE DATOS'!U228)","v":""},{"$f":"IF('HOJA DE DATOS'!V228=0,\"\",'HOJA DE DATOS'!V228)","v":""},{"$f":"IF('HOJA DE DATOS'!W228=0,\"\",'HOJA DE DATOS'!W228)","v":""},{"$f":"IF('HOJA DE DATOS'!X228=0,\"\",'HOJA DE DATOS'!X228)","v":""},{"$f":"IF('HOJA DE DATOS'!Y228=0,\"\",'HOJA DE DATOS'!Y228)","v":""},{"$f":"IF('HOJA DE DATOS'!P228=0,\"\",'HOJA DE DATOS'!P228)","v":""}]
[null,{"$f":"IF('HOJA DE DATOS'!C229=0,\"\",'HOJA DE DATOS'!C229)","v":""},{"$f":"IF('HOJA DE DATOS'!D229=0,\"\",'HOJA DE DATOS'!D229)","v":""},{"$f":"IF('HOJA DE DATOS'!E229=0,\"\",'HOJA DE DATOS'!E229)","v":""},{"$f":"IF('HOJA DE DATOS'!F229=0,\"\",'HOJA DE DATOS'!F229)","v":""},{"$f":"IF('HOJA DE DATOS'!G229=0,\"\",'HOJA DE DATOS'!G229)","v":""},{"$f":"IF('HOJA DE DATOS'!H229=0,\"\",'HOJA DE DATOS'!H229)","v":""},{"$f":"IF('HOJA DE DATOS'!I229=0,\"\",'HOJA DE DATOS'!I229)","v":""},{"$f":"IF('HOJA DE DATOS'!Q229=0,\"\",'HOJA DE DATOS'!Q229)","v":""},{"$f":"IF('HOJA DE DATOS'!R229=0,\"\",'HOJA DE DATOS'!R229)","v":""},{"$f":"IF('HOJA DE DATOS'!S229=0,\"\",'HOJA DE DATOS'!S229)","v":""},{"$f":"IF('HOJA DE DATOS'!T229=0,\"\",'HOJA DE DATOS'!T229)","v":""},{"$f":"IF('HOJA DE DATOS'!U229=0,\"\",'HOJA DE DATOS'!U229)","v":""},{"$f":"IF('HOJA DE DATOS'!V229=0,\"\",'HOJA DE DATOS'!V229)","v":""},{"$f":"IF('HOJA DE DATOS'!W229=0,\"\",'HOJA DE DATOS'!W229)","v":""},{"$f":"IF('HOJA DE DATOS'!X229=0,\"\",'HOJA DE DATOS'!X229)","v":""},{"$f":"IF('HOJA DE DATOS'!Y229=0,\"\",'HOJA DE DATOS'!Y229)","v":""},{"$f":"IF('HOJA DE DATOS'!P229=0,\"\",'HOJA DE DATOS'!P229)","v":""}]
[null,{"$f":"IF('HOJA DE DATOS'!C230=0,\"\",'HOJA DE DATOS'!C230)","v":""},{"$f":"IF('HOJA DE DATOS'!D230=0,\"\",'HOJA DE DATOS'!D230)","v":""},{"$f":"IF('HOJA DE DATOS'!E230=0,\"\",'HOJA DE DATOS'!E230)","v":""},{"$f":"IF('HOJA DE DATOS'!F230=0,\"\",'HOJA DE DATOS'!F230)","v":""},{"$f":"IF('HOJA DE DATOS'!G230=0,\"\",'HOJA DE DATOS'!G230)","v":""},{"$f":"IF('HOJA DE DATOS'!H230=0,\"\",'HOJA DE DATOS'!H230)","v":""},{"$f":"IF('HOJA DE DATOS'!I230=0,\"\",'HOJA DE DATOS'!I230)","v":""},{"$f":"IF('HOJA DE DATOS'!Q230=0,\"\",'HOJA DE DATOS'!Q230)","v":""},{"$f":"IF('HOJA DE DATOS'!R230=0,\"\",'HOJA DE DATOS'!R230)","v":""},{"$f":"IF('HOJA DE DATOS'!S230=0,\"\",'HOJA DE DATOS'!S230)","v":""},{"$f":"IF('HOJA DE DATOS'!T230=0,\"\",'HOJA DE DATOS'!T230)","v":""},{"$f":"IF('HOJA DE DATOS'!U230=0,\"\",'HOJA DE DATOS'!U230)","v":""},{"$f":"IF('HOJA DE DATOS'!V230=0,\"\",'HOJA DE DATOS'!V230)","v":""},{"$f":"IF('HOJA DE DATOS'!W230=0,\"\",'HOJA DE DATOS'!W230)","v":""},{"$f":"IF('HOJA DE DATOS'!X230=0,\"\",'HOJA DE DATOS'!X230)","v":""},{"$f":"IF('HOJA DE DATOS'!Y230=0,\"\",'HOJA DE DATOS'!Y230)","v":""},{"$f":"IF('HOJA DE DATOS'!P230=0,\"\",'HOJA DE DATOS'!P230)","v":""}]
[null,{"$f":"IF('HOJA DE DATOS'!C231=0,\"\",'HOJA DE DATOS'!C231)","v":"PromedioDePromedioDeEXTERIOR TEMPERATURA"},{"$f":"IF('HOJA DE DATOS'!D231=0,\"\",'HOJA DE DATOS'!D231)","v":"PromedioDePromedioDeCUADRA TEMPERATURA"},{"$f":"IF('HOJA DE DATOS'!E231=0,\"\",'HOJA DE DATOS'!E231)","v":"DesvEstDePromedioDeCUADRA TEMPERATURA"},{"$f":"IF('HOJA DE DATOS'!F231=0,\"\",'HOJA DE DATOS'!F231)","v":"PromedioDePromedioDeANIMALES TEMPERATURA"},{"$f":"IF('HOJA DE DATOS'!G231=0,\"\",'HOJA DE DATOS'!G231)","v":"DesvEstDePromedioDeANIMALES TEMPERATURA"},{"$f":"IF('HOJA DE DATOS'!H231=0,\"\",'HOJA DE DATOS'!H231)","v":"PromedioDePromedioDeCAMA TEMPERATURA"},{"$f":"IF('HOJA DE DATOS'!I231=0,\"\",'HOJA DE DATOS'!I231)","v":"DesvEstDePromedioDeCAMA TEMPERATURA"},{"$f":"IF('HOJA DE DATOS'!Q231=0,\"\",'HOJA DE DATOS'!Q231)","v":"PromedioDePromedioDeEXTERIOR VELOCIDAD AIRE"},{"$f":"IF('HOJA DE DATOS'!R231=0,\"\",'HOJA DE DATOS'!R231)","v":"PromedioDePromedioDeCUADRA VELOCIDAD AIRE"},{"$f":"IF('HOJA DE DATOS'!S231=0,\"\",'HOJA DE DATOS'!S231)","v":"DesvEstDePromedioDeCUADRA VELOCIDAD AIRE"},{"$f":"IF('HOJA DE DATOS'!T231=0,\"\",'HOJA DE DATOS'!T231)","v":"PromedioDePromedioDeANIMALES VELOCIDAD AIRE"},{"$f":"IF('HOJA DE DATOS'!U231=0,\"\",'HOJA DE DATOS'!U231)","v":"DesvEstDePromedioDeANIMALES VELOCIDAD AIRE"},{"$f":"IF('HOJA DE DATOS'!V231=0,\"\",'HOJA DE DATOS'!V231)","v":"T AISLAM NAVE"},{"$f":"IF('HOJA DE DATOS'!W231=0,\"\",'HOJA DE DATOS'!W231)","v":"T DENSIDAD"},{"$f":"IF('HOJA DE DATOS'!X231=0,\"\",'HOJA DE DATOS'!X231)","v":"T CAMA"},{"$f":"IF('HOJA DE DATOS'!Y231=0,\"\",'HOJA DE DATOS'!Y231)","v":"H VENTILACION"},{"$f":"IF('HOJA DE DATOS'!P231=0,\"\",'HOJA DE DATOS'!P231)","v":"DesvEstDePromedioDeCAMA HUMEDAD"}]
[null,{"$f":"IF('HOJA DE DATOS'!C232=0,\"\",'HOJA DE DATOS'!C232)","v":183.57894736842101},{"$f":"IF('HOJA DE DATOS'!D232=0,\"\",'HOJA DE DATOS'!D232)","v":195.07894736842101},{"$f":"IF('HOJA DE DATOS'!E232=0,\"\",'HOJA DE DATOS'!E232)","v":41.651084805765599},{"$f":"IF('HOJA DE DATOS'!F232=0,\"\",'HOJA DE DATOS'!F232)","v":194.68421052631601},{"$f":"IF('HOJA DE DATOS'!G232=0,\"\",'HOJA DE DATOS'!G232)","v":41.653067956339498},{"$f":"IF('HOJA DE DATOS'!H232=0,\"\",'HOJA DE DATOS'!H232)","v":194.894736842105},{"$f":"IF('HOJA DE DATOS'!I232=0,\"\",'HOJA DE DATOS'!I232)","v":40.898783922211997},{"$f":"IF('HOJA DE DATOS'!Q232=0,\"\",'HOJA DE DATOS'!Q232)","v":15.526315789473699},{"$f":"IF('HOJA DE DATOS'!R232=0,\"\",'HOJA DE DATOS'!R232)","v":3.3947368421052602},{"$f":"IF('HOJA DE DATOS'!S232=0,\"\",'HOJA DE DATOS'!S232)","v":6.9892356667005},{"$f":"IF('HOJA DE DATOS'!T232=0,\"\",'HOJA DE DATOS'!T232)","v":1.34210526315789},{"$f":"IF('HOJA DE DATOS'!U232=0,\"\",'HOJA DE DATOS'!U232)","v":3.4723216360037301},{"$f":"IF('HOJA DE DATOS'!V232=0,\"\",'HOJA DE DATOS'!V232)","v":21.105759364035901},{"$f":"IF('HOJA DE DATOS'!W232=0,\"\",'HOJA DE DATOS'!W232)","v":29.4334633589114},{"$f":"IF('HOJA DE DATOS'!X232=0,\"\",'HOJA DE DATOS'!X232)","v":28.481780324495801},{"$f":"IF('HOJA DE DATOS'!Y232=0,\"\",'HOJA DE DATOS'!Y232)","v":110.22776265215001},{"$f":"IF('HOJA DE DATOS'!P232=0,\"\",'HOJA DE DATOS'!P232)","v":96.650747328017701}]
[null,{"$f":"IF('HOJA DE DATOS'!C233=0,\"\",'HOJA DE DATOS'!C233)","v":287.04761904761898},{"$f":"IF('HOJA DE DATOS'!D233=0,\"\",'HOJA DE DATOS'!D233)","v":281.517857142857},{"$f":"IF('HOJA DE DATOS'!E233=0,\"\",'HOJA DE DATOS'!E233)","v":39.125926783635897},{"$f":"IF('HOJA DE DATOS'!F233=0,\"\",'HOJA DE DATOS'!F233)","v":283.41071428571399},{"$f":"IF('HOJA DE DATOS'!G233=0,\"\",'HOJA DE DATOS'!G233)","v":39.174151691999},{"$f":"IF('HOJA DE DATOS'!H233=0,\"\",'HOJA DE DATOS'!H233)","v":273.46428571428601},{"$f":"IF('HOJA DE DATOS'!I233=0,\"\",'HOJA DE DATOS'!I233)","v":61.535502100921001},{"$f":"IF('HOJA DE DATOS'!Q233=0,\"\",'HOJA DE DATOS'!Q233)","v":16.244047619047599},{"$f":"IF('HOJA DE DATOS'!R233=0,\"\",'HOJA DE DATOS'!R233)","v":3.61904761904762},{"$f":"IF('HOJA DE DATOS'!S233=0,\"\",'HOJA DE DATOS'!S233)","v":4.1103245350770896},{"$f":"IF('HOJA DE DATOS'!T233=0,\"\",'HOJA DE DATOS'!T233)","v":1.7083333333333299},{"$f":"IF('HOJA DE DATOS'!U233=0,\"\",'HOJA DE DATOS'!U233)","v":2.9015481180710201},{"$f":"IF('HOJA DE DATOS'!V233=0,\"\",'HOJA DE DATOS'!V233)","v":31.258982081878401},{"$f":"IF('HOJA DE DATOS'!W233=0,\"\",'HOJA DE DATOS'!W233)","v":26.096906184399302},{"$f":"IF('HOJA DE DATOS'!X233=0,\"\",'HOJA DE DATOS'!X233)","v":50.037351470644701},{"$f":"IF('HOJA DE DATOS'!Y233=0,\"\",'HOJA DE DATOS'!Y233)","v":87.180067318826303},{"$f":"IF('HOJA DE DATOS'!P233=0,\"\",'HOJA DE DATOS'!P233)","v":114.13863618484}]
[null,{"$f":"IF('HOJA DE DATOS'!C234=0,\"\",'HOJA DE DATOS'!C234)","v":""},{"$f":"IF('HOJA DE DATOS'!D234=0,\"\",'HOJA DE DATOS'!D234)","v":""},{"$f":"IF('HOJA DE DATOS'!E234=0,\"\",'HOJA DE DATOS'!E234)","v":""},{"$f":"IF('HOJA DE DATOS'!F234=0,\"\",'HOJA DE DATOS'!F234)","v":""},{"$f":"IF('HOJA DE DATOS'!G234=0,\"\",'HOJA DE DATOS'!G234)","v":""},{"$f":"IF('HOJA DE DATOS'!H234=0,\"\",'HOJA DE DATOS'!H234)","v":""},{"$f":"IF('HOJA DE DATOS'!I234=0,\"\",'HOJA DE DATOS'!I234)","v":""},{"$f":"IF('HOJA DE DATOS'!Q234=0,\"\",'HOJA DE DATOS'!Q234)","v":""},{"$f":"IF('HOJA DE DATOS'!R234=0,\"\",'HOJA DE DATOS'!R234)","v":""},{"$f":"IF('HOJA DE DATOS'!S234=0,\"\",'HOJA DE DATOS'!S234)","v":""},{"$f":"IF('HOJA DE DATOS'!T234=0,\"\",'HOJA DE DATOS'!T234)","v":""},{"$f":"IF('HOJA DE DATOS'!U234=0,\"\",'HOJA DE DATOS'!U234)","v":""},{"$f":"IF('HOJA DE DATOS'!V234=0,\"\",'HOJA DE DATOS'!V234)","v":""},{"$f":"IF('HOJA DE DATOS'!W234=0,\"\",'HOJA DE DATOS'!W234)","v":""},{"$f":"IF('HOJA DE DATOS'!X234=0,\"\",'HOJA DE DATOS'!X234)","v":""},{"$f":"IF('HOJA DE DATOS'!Y234=0,\"\",'HOJA DE DATOS'!Y234)","v":""},{"$f":"IF('HOJA DE DATOS'!P234=0,\"\",'HOJA DE DATOS'!P234)","v":""}]
[null,{"$f":"IF('HOJA DE DATOS'!C235=0,\"\",'HOJA DE DATOS'!C235)","v":""},{"$f":"IF('HOJA DE DATOS'!D235=0,\"\",'HOJA DE DATOS'!D235)","v":""},{"$f":"IF('HOJA DE DATOS'!E235=0,\"\",'HOJA DE DATOS'!E235)","v":""},{"$f":"IF('HOJA DE DATOS'!F235=0,\"\",'HOJA DE DATOS'!F235)","v":""},{"$f":"IF('HOJA DE DATOS'!G235=0,\"\",'HOJA DE DATOS'!G235)","v":""},{"$f":"IF('HOJA DE DATOS'!H235=0,\"\",'HOJA DE DATOS'!H235)","v":""},{"$f":"IF('HOJA DE DATOS'!I235=0,\"\",'HOJA DE DATOS'!I235)","v":""},{"$f":"IF('HOJA DE DATOS'!Q235=0,\"\",'HOJA DE DATOS'!Q235)","v":""},{"$f":"IF('HOJA DE DATOS'!R235=0,\"\",'HOJA DE DATOS'!R235)","v":""},{"$f":"IF('HOJA DE DATOS'!S235=0,\"\",'HOJA DE DATOS'!S235)","v":""},{"$f":"IF('HOJA DE DATOS'!T235=0,\"\",'HOJA DE DATOS'!T235)","v":""},{"$f":"IF('HOJA DE DATOS'!U235=0,\"\",'HOJA DE DATOS'!U235)","v":""},{"$f":"IF('HOJA DE DATOS'!V235=0,\"\",'HOJA DE DATOS'!V235)","v":""},{"$f":"IF('HOJA DE DATOS'!W235=0,\"\",'HOJA DE DATOS'!W235)","v":""},{"$f":"IF('HOJA DE DATOS'!X235=0,\"\",'HOJA DE DATOS'!X235)","v":""},{"$f":"IF('HOJA DE DATOS'!Y235=0,\"\",'HOJA DE DATOS'!Y235)","v":""},{"$f":"IF('HOJA DE DATOS'!P235=0,\"\",'HOJA DE DATOS'!P235)","v":""}]
[null,{"$f":"IF('HOJA DE DATOS'!C236=0,\"\",'HOJA DE DATOS'!C236)","v":""},{"$f":"IF('HOJA DE DATOS'!D236=0,\"\",'HOJA DE DATOS'!D236)","v":""},{"$f":"IF('HOJA DE DATOS'!E236=0,\"\",'HOJA DE DATOS'!E236)","v":""},{"$f":"IF('HOJA DE DATOS'!F236=0,\"\",'HOJA DE DATOS'!F236)","v":""},{"$f":"IF('HOJA DE DATOS'!G236=0,\"\",'HOJA DE DATOS'!G236)","v":""},{"$f":"IF('HOJA DE DATOS'!H236=0,\"\",'HOJA DE DATOS'!H236)","v":""},{"$f":"IF('HOJA DE DATOS'!I236=0,\"\",'HOJA DE DATOS'!I236)","v":""},{"$f":"IF('HOJA DE DATOS'!Q236=0,\"\",'HOJA DE DATOS'!Q236)","v":""},{"$f":"IF('HOJA DE DATOS'!R236=0,\"\",'HOJA DE DATOS'!R236)","v":""},{"$f":"IF('HOJA DE DATOS'!S236=0,\"\",'HOJA DE DATOS'!S236)","v":""},{"$f":"IF('HOJA DE DATOS'!T236=0,\"\",'HOJA DE DATOS'!T236)","v":""},{"$f":"IF('HOJA DE DATOS'!U236=0,\"\",'HOJA DE DATOS'!U236)","v":""},{"$f":"IF('HOJA DE DATOS'!V236=0,\"\",'HOJA DE DATOS'!V236)","v":""},{"$f":"IF('HOJA DE DATOS'!W236=0,\"\",'HOJA DE DATOS'!W236)","v":""},{"$f":"IF('HOJA DE DATOS'!X236=0,\"\",'HOJA DE DATOS'!X236)","v":""},{"$f":"IF('HOJA DE DATOS'!Y236=0,\"\",'HOJA DE DATOS'!Y236)","v":""},{"$f":"IF('HOJA DE DATOS'!P236=0,\"\",'HOJA DE DATOS'!P236)","v":""}]
[null,{"$f":"IF('HOJA DE DATOS'!C237=0,\"\",'HOJA DE DATOS'!C237)","v":""},{"$f":"IF('HOJA DE DATOS'!D237=0,\"\",'HOJA DE DATOS'!D237)","v":""},{"$f":"IF('HOJA DE DATOS'!E237=0,\"\",'HOJA DE DATOS'!E237)","v":""},{"$f":"IF('HOJA DE DATOS'!F237=0,\"\",'HOJA DE DATOS'!F237)","v":""},{"$f":"IF('HOJA DE DATOS'!G237=0,\"\",'HOJA DE DATOS'!G237)","v":""},{"$f":"IF('HOJA DE DATOS'!H237=0,\"\",'HOJA DE DATOS'!H237)","v":""},{"$f":"IF('HOJA DE DATOS'!I237=0,\"\",'HOJA DE DATOS'!I237)","v":""},{"$f":"IF('HOJA DE DATOS'!Q237=0,\"\",'HOJA DE DATOS'!Q237)","v":""},{"$f":"IF('HOJA DE DATOS'!R237=0,\"\",'HOJA DE DATOS'!R237)","v":""},{"$f":"IF('HOJA DE DATOS'!S237=0,\"\",'HOJA DE DATOS'!S237)","v":""},{"$f":"IF('HOJA DE DATOS'!T237=0,\"\",'HOJA DE DATOS'!T237)","v":""},{"$f":"IF('HOJA DE DATOS'!U237=0,\"\",'HOJA DE DATOS'!U237)","v":""},{"$f":"IF('HOJA DE DATOS'!V237=0,\"\",'HOJA DE DATOS'!V237)","v":""},{"$f":"IF('HOJA DE DATOS'!W237=0,\"\",'HOJA DE DATOS'!W237)","v":""},{"$f":"IF('HOJA DE DATOS'!X237=0,\"\",'HOJA DE DATOS'!X237)","v":""},{"$f":"IF('HOJA DE DATOS'!Y237=0,\"\",'HOJA DE DATOS'!Y237)","v":""},{"$f":"IF('HOJA DE DATOS'!P237=0,\"\",'HOJA DE DATOS'!P237)","v":""}]
[null,{"$f":"IF('HOJA DE DATOS'!C238=0,\"\",'HOJA DE DATOS'!C238)","v":""},{"$f":"IF('HOJA DE DATOS'!D238=0,\"\",'HOJA DE DATOS'!D238)","v":""},{"$f":"IF('HOJA DE DATOS'!E238=0,\"\",'HOJA DE DATOS'!E238)","v":""},{"$f":"IF('HOJA DE DATOS'!F238=0,\"\",'HOJA DE DATOS'!F238)","v":""},{"$f":"IF('HOJA DE DATOS'!G238=0,\"\",'HOJA DE DATOS'!G238)","v":""},{"$f":"IF('HOJA DE DATOS'!H238=0,\"\",'HOJA DE DATOS'!H238)","v":""},{"$f":"IF('HOJA DE DATOS'!I238=0,\"\",'HOJA DE DATOS'!I238)","v":""},{"$f":"IF('HOJA DE DATOS'!Q238=0,\"\",'HOJA DE DATOS'!Q238)","v":""},{"$f":"IF('HOJA DE DATOS'!R238=0,\"\",'HOJA DE DATOS'!R238)","v":""},{"$f":"IF('HOJA DE DATOS'!S238=0,\"\",'HOJA DE DATOS'!S238)","v":""},{"$f":"IF('HOJA DE DATOS'!T238=0,\"\",'HOJA DE DATOS'!T238)","v":""},{"$f":"IF('HOJA DE DATOS'!U238=0,\"\",'HOJA DE DATOS'!U238)","v":""},{"$f":"IF('HOJA DE DATOS'!V238=0,\"\",'HOJA DE DATOS'!V238)","v":""},{"$f":"IF('HOJA DE DATOS'!W238=0,\"\",'HOJA DE DATOS'!W238)","v":""},{"$f":"IF('HOJA DE DATOS'!X238=0,\"\",'HOJA DE DATOS'!X238)","v":""},{"$f":"IF('HOJA DE DATOS'!Y238=0,\"\",'HOJA DE DATOS'!Y238)","v":""},{"$f":"IF('HOJA DE DATOS'!P238=0,\"\",'HOJA DE DATOS'!P238)","v":""}]
[null,{"$f":"IF('HOJA DE DATOS'!C239=0,\"\",'HOJA DE DATOS'!C239)","v":""},{"$f":"IF('HOJA DE DATOS'!D239=0,\"\",'HOJA DE DATOS'!D239)","v":""},{"$f":"IF('HOJA DE DATOS'!E239=0,\"\",'HOJA DE DATOS'!E239)","v":""},{"$f":"IF('HOJA DE DATOS'!F239=0,\"\",'HOJA DE DATOS'!F239)","v":""},{"$f":"IF('HOJA DE DATOS'!G239=0,\"\",'HOJA DE DATOS'!G239)","v":""},{"$f":"IF('HOJA DE DATOS'!H239=0,\"\",'HOJA DE DATOS'!H239)","v":""},{"$f":"IF('HOJA DE DATOS'!I239=0,\"\",'HOJA DE DATOS'!I239)","v":""},{"$f":"IF('HOJA DE DATOS'!Q239=0,\"\",'HOJA DE DATOS'!Q239)","v":""},{"$f":"IF('HOJA DE DATOS'!R239=0,\"\",'HOJA DE DATOS'!R239)","v":""},{"$f":"IF('HOJA DE DATOS'!S239=0,\"\",'HOJA DE DATOS'!S239)","v":""},{"$f":"IF('HOJA DE DATOS'!T239=0,\"\",'HOJA DE DATOS'!T239)","v":""},{"$f":"IF('HOJA DE DATOS'!U239=0,\"\",'HOJA DE DATOS'!U239)","v":""},{"$f":"IF('HOJA DE DATOS'!V239=0,\"\",'HOJA DE DATOS'!V239)","v":""},{"$f":"IF('HOJA DE DATOS'!W239=0,\"\",'HOJA DE DATOS'!W239)","v":""},{"$f":"IF('HOJA DE DATOS'!X239=0,\"\",'HOJA DE DATOS'!X239)","v":""},{"$f":"IF('HOJA DE DATOS'!Y239=0,\"\",'HOJA DE DATOS'!Y239)","v":""},{"$f":"IF('HOJA DE DATOS'!P239=0,\"\",'HOJA DE DATOS'!P239)","v":""}]
[null,{"$f":"IF('HOJA DE DATOS'!C240=0,\"\",'HOJA DE DATOS'!C240)","v":""},{"$f":"IF('HOJA DE DATOS'!D240=0,\"\",'HOJA DE DATOS'!D240)","v":""},{"$f":"IF('HOJA DE DATOS'!E240=0,\"\",'HOJA DE DATOS'!E240)","v":""},{"$f":"IF('HOJA DE DATOS'!F240=0,\"\",'HOJA DE DATOS'!F240)","v":""},{"$f":"IF('HOJA DE DATOS'!G240=0,\"\",'HOJA DE DATOS'!G240)","v":""},{"$f":"IF('HOJA DE DATOS'!H240=0,\"\",'HOJA DE DATOS'!H240)","v":""},{"$f":"IF('HOJA DE DATOS'!I240=0,\"\",'HOJA DE DATOS'!I240)","v":""},{"$f":"IF('HOJA DE DATOS'!Q240=0,\"\",'HOJA DE DATOS'!Q240)","v":""},{"$f":"IF('HOJA DE DATOS'!R240=0,\"\",'HOJA DE DATOS'!R240)","v":""},{"$f":"IF('HOJA DE DATOS'!S240=0,\"\",'HOJA DE DATOS'!S240)","v":""},{"$f":"IF('HOJA DE DATOS'!T240=0,\"\",'HOJA DE DATOS'!T240)","v":""},{"$f":"IF('HOJA DE DATOS'!U240=0,\"\",'HOJA DE DATOS'!U240)","v":""},{"$f":"IF('HOJA DE DATOS'!V240=0,\"\",'HOJA DE DATOS'!V240)","v":""},{"$f":"IF('HOJA DE DATOS'!W240=0,\"\",'HOJA DE DATOS'!W240)","v":""},{"$f":"IF('HOJA DE DATOS'!X240=0,\"\",'HOJA DE DATOS'!X240)","v":""},{"$f":"IF('HOJA DE DATOS'!Y240=0,\"\",'HOJA DE DATOS'!Y240)","v":""},{"$f":"IF('HOJA DE DATOS'!P240=0,\"\",'HOJA DE DATOS'!P240)","v":""}]
[null,{"$f":"IF('HOJA DE DATOS'!C241=0,\"\",'HOJA DE DATOS'!C241)","v":""},{"$f":"IF('HOJA DE DATOS'!D241=0,\"\",'HOJA DE DATOS'!D241)","v":""},{"$f":"IF('HOJA DE DATOS'!E241=0,\"\",'HOJA DE DATOS'!E241)","v":""},{"$f":"IF('HOJA DE DATOS'!F241=0,\"\",'HOJA DE DATOS'!F241)","v":""},{"$f":"IF('HOJA DE DATOS'!G241=0,\"\",'HOJA DE DATOS'!G241)","v":""},{"$f":"IF('HOJA DE DATOS'!H241=0,\"\",'HOJA DE DATOS'!H241)","v":""},{"$f":"IF('HOJA DE DATOS'!I241=0,\"\",'HOJA DE DATOS'!I241)","v":""},{"$f":"IF('HOJA DE DATOS'!Q241=0,\"\",'HOJA DE DATOS'!Q241)","v":""},{"$f":"IF('HOJA DE DATOS'!R241=0,\"\",'HOJA DE DATOS'!R241)","v":""},{"$f":"IF('HOJA DE DATOS'!S241=0,\"\",'HOJA DE DATOS'!S241)","v":""},{"$f":"IF('HOJA DE DATOS'!T241=0,\"\",'HOJA DE DATOS'!T241)","v":""},{"$f":"IF('HOJA DE DATOS'!U241=0,\"\",'HOJA DE DATOS'!U241)","v":""},{"$f":"IF('HOJA DE DATOS'!V241=0,\"\",'HOJA DE DATOS'!V241)","v":""},{"$f":"IF('HOJA DE DATOS'!W241=0,\"\",'HOJA DE DATOS'!W241)","v":""},{"$f":"IF('HOJA DE DATOS'!X241=0,\"\",'HOJA DE DATOS'!X241)","v":""},{"$f":"IF('HOJA DE DATOS'!Y241=0,\"\",'HOJA DE DATOS'!Y241)","v":""},{"$f":"IF('HOJA DE DATOS'!P241=0,\"\",'HOJA DE DATOS'!P241)","v":""}]
[null,{"$f":"IF('HOJA DE DATOS'!C242=0,\"\",'HOJA DE DATOS'!C242)","v":""},{"$f":"IF('HOJA DE DATOS'!D242=0,\"\",'HOJA DE DATOS'!D242)","v":""},{"$f":"IF('HOJA DE DATOS'!E242=0,\"\",'HOJA DE DATOS'!E242)","v":""},{"$f":"IF('HOJA DE DATOS'!F242=0,\"\",'HOJA DE DATOS'!F242)","v":""},{"$f":"IF('HOJA DE DATOS'!G242=0,\"\",'HOJA DE DATOS'!G242)","v":""},{"$f":"IF('HOJA DE DATOS'!H242=0,\"\",'HOJA DE DATOS'!H242)","v":""},{"$f":"IF('HOJA DE DATOS'!I242=0,\"\",'HOJA DE DATOS'!I242)","v":""},{"$f":"IF('HOJA DE DATOS'!Q242=0,\"\",'HOJA DE DATOS'!Q242)","v":""},{"$f":"IF('HOJA DE DATOS'!R242=0,\"\",'HOJA DE DATOS'!R242)","v":""},{"$f":"IF('HOJA DE DATOS'!S242=0,\"\",'HOJA DE DATOS'!S242)","v":""},{"$f":"IF('HOJA DE DATOS'!T242=0,\"\",'HOJA DE DATOS'!T242)","v":""},{"$f":"IF('HOJA DE DATOS'!U242=0,\"\",'HOJA DE DATOS'!U242)","v":""},{"$f":"IF('HOJA DE DATOS'!V242=0,\"\",'HOJA DE DATOS'!V242)","v":""},{"$f":"IF('HOJA DE DATOS'!W242=0,\"\",'HOJA DE DATOS'!W242)","v":""},{"$f":"IF('HOJA DE DATOS'!X242=0,\"\",'HOJA DE DATOS'!X242)","v":""},{"$f":"IF('HOJA DE DATOS'!Y242=0,\"\",'HOJA DE DATOS'!Y242)","v":""},{"$f":"IF('HOJA DE DATOS'!P242=0,\"\",'HOJA DE DATOS'!P242)","v":""}]
[null,{"$f":"IF('HOJA DE DATOS'!C243=0,\"\",'HOJA DE DATOS'!C243)","v":""},{"$f":"IF('HOJA DE DATOS'!D243=0,\"\",'HOJA DE DATOS'!D243)","v":""},{"$f":"IF('HOJA DE DATOS'!E243=0,\"\",'HOJA DE DATOS'!E243)","v":""},{"$f":"IF('HOJA DE DATOS'!F243=0,\"\",'HOJA DE DATOS'!F243)","v":""},{"$f":"IF('HOJA DE DATOS'!G243=0,\"\",'HOJA DE DATOS'!G243)","v":""},{"$f":"IF('HOJA DE DATOS'!H243=0,\"\",'HOJA DE DATOS'!H243)","v":""},{"$f":"IF('HOJA DE DATOS'!I243=0,\"\",'HOJA DE DATOS'!I243)","v":""},{"$f":"IF('HOJA DE DATOS'!Q243=0,\"\",'HOJA DE DATOS'!Q243)","v":""},{"$f":"IF('HOJA DE DATOS'!R243=0,\"\",'HOJA DE DATOS'!R243)","v":""},{"$f":"IF('HOJA DE DATOS'!S243=0,\"\",'HOJA DE DATOS'!S243)","v":""},{"$f":"IF('HOJA DE DATOS'!T243=0,\"\",'HOJA DE DATOS'!T243)","v":""},{"$f":"IF('HOJA DE DATOS'!U243=0,\"\",'HOJA DE DATOS'!U243)","v":""},{"$f":"IF('HOJA DE DATOS'!V243=0,\"\",'HOJA DE DATOS'!V243)","v":""},{"$f":"IF('HOJA DE DATOS'!W243=0,\"\",'HOJA DE DATOS'!W243)","v":""},{"$f":"IF('HOJA DE DATOS'!X243=0,\"\",'HOJA DE DATOS'!X243)","v":""},{"$f":"IF('HOJA DE DATOS'!Y243=0,\"\",'HOJA DE DATOS'!Y243)","v":""},{"$f":"IF('HOJA DE DATOS'!P243=0,\"\",'HOJA DE DATOS'!P243)","v":""}]
[null,{"$f":"IF('HOJA DE DATOS'!C244=0,\"\",'HOJA DE DATOS'!C244)","v":""},{"$f":"IF('HOJA DE DATOS'!D244=0,\"\",'HOJA DE DATOS'!D244)","v":""},{"$f":"IF('HOJA DE DATOS'!E244=0,\"\",'HOJA DE DATOS'!E244)","v":""},{"$f":"IF('HOJA DE DATOS'!F244=0,\"\",'HOJA DE DATOS'!F244)","v":""},{"$f":"IF('HOJA DE DATOS'!G244=0,\"\",'HOJA DE DATOS'!G244)","v":""},{"$f":"IF('HOJA DE DATOS'!H244=0,\"\",'HOJA DE DATOS'!H244)","v":""},{"$f":"IF('HOJA DE DATOS'!I244=0,\"\",'HOJA DE DATOS'!I244)","v":""},{"$f":"IF('HOJA DE DATOS'!Q244=0,\"\",'HOJA DE DATOS'!Q244)","v":""},{"$f":"IF('HOJA DE DATOS'!R244=0,\"\",'HOJA DE DATOS'!R244)","v":""},{"$f":"IF('HOJA DE DATOS'!S244=0,\"\",'HOJA DE DATOS'!S244)","v":""},{"$f":"IF('HOJA DE DATOS'!T244=0,\"\",'HOJA DE DATOS'!T244)","v":""},{"$f":"IF('HOJA DE DATOS'!U244=0,\"\",'HOJA DE DATOS'!U244)","v":""},{"$f":"IF('HOJA DE DATOS'!V244=0,\"\",'HOJA DE DATOS'!V244)","v":""},{"$f":"IF('HOJA DE DATOS'!W244=0,\"\",'HOJA DE DATOS'!W244)","v":""},{"$f":"IF('HOJA DE DATOS'!X244=0,\"\",'HOJA DE DATOS'!X244)","v":""},{"$f":"IF('HOJA DE DATOS'!Y244=0,\"\",'HOJA DE DATOS'!Y244)","v":""},{"$f":"IF('HOJA DE DATOS'!P244=0,\"\",'HOJA DE DATOS'!P244)","v":""}]
[null,{"$f":"IF('HOJA DE DATOS'!C245=0,\"\",'HOJA DE DATOS'!C245)","v":""},{"$f":"IF('HOJA DE DATOS'!D245=0,\"\",'HOJA DE DATOS'!D245)","v":""},{"$f":"IF('HOJA DE DATOS'!E245=0,\"\",'HOJA DE DATOS'!E245)","v":""},{"$f":"IF('HOJA DE DATOS'!F245=0,\"\",'HOJA DE DATOS'!F245)","v":""},{"$f":"IF('HOJA DE DATOS'!G245=0,\"\",'HOJA DE DATOS'!G245)","v":""},{"$f":"IF('HOJA DE DATOS'!H245=0,\"\",'HOJA DE DATOS'!H245)","v":""},{"$f":"IF('HOJA DE DATOS'!I245=0,\"\",'HOJA DE DATOS'!I245)","v":""},{"$f":"IF('HOJA DE DATOS'!Q245=0,\"\",'HOJA DE DATOS'!Q245)","v":""},{"$f":"IF('HOJA DE DATOS'!R245=0,\"\",'HOJA DE DATOS'!R245)","v":""},{"$f":"IF('HOJA DE DATOS'!S245=0,\"\",'HOJA DE DATOS'!S245)","v":""},{"$f":"IF('HOJA DE DATOS'!T245=0,\"\",'HOJA DE DATOS'!T245)","v":""},{"$f":"IF('HOJA DE DATOS'!U245=0,\"\",'HOJA DE DATOS'!U245)","v":""},{"$f":"IF('HOJA DE DATOS'!V245=0,\"\",'HOJA DE DATOS'!V245)","v":""},{"$f":"IF('HOJA DE DATOS'!W245=0,\"\",'HOJA DE DATOS'!W245)","v":""},{"$f":"IF('HOJA DE DATOS'!X245=0,\"\",'HOJA DE DATOS'!X245)","v":""},{"$f":"IF('HOJA DE DATOS'!Y245=0,\"\",'HOJA DE DATOS'!Y245)","v":""},{"$f":"IF('HOJA DE DATOS'!P245=0,\"\",'HOJA DE DATOS'!P245)","v":""}]
[null,null,null,null,null,null,null,null,null,null,null,null,null,null,null,null,null,{"$f":"IF('HOJA DE DATOS'!P246=0,\"\",'HOJA DE DATOS'!P246)","v":""}]
[null,null,null,null,null,null,null,null,null,null,null,null,null,null,null,null,null,{"$f":"IF('HOJA DE DATOS'!P247=0,\"\",'HOJA DE DATOS'!P247)","v":""}]
[]
[null,{"$f":"IF('PIENSOS OVINO Y CAPRINO LECHE'!B9:D9=\"\",\"\",'PIENSOS OVINO Y CAPRINO LECHE'!B9:D9)","v":""},{"$f":"IF($B$1393=\"\",\"\",VLOOKUP($B$1393,$B$1304:$R$1389,C1302,FALSE))","v":""},{"$f":"IF($B$1393=\"\",\"\",VLOOKUP($B$1393,$B$1304:$R$1389,D1302,FALSE))","v":""},"","","","","","","","","","","","","",""]
[]
[]
[]
[]
[]
[]
[]
["CALCULO DEL INDICE THI (TEMPERATURE HUMIDITY INDEX)"]
[]
[null,null,0,5,10,15,20,25,30,35,40,45,50,55,60,65,70,75,80,85,90,95,100,"%HUMEDAD"]
[null,22.2,0,0,0,0,0,0,0,0,0,0,0,0,0,0,0,0,0,0,0,72,72]
[null,22.8,0,0,0,0,0,0,0,0,0,0,0,0,0,0,0,0,0,72,72,73,73]
[null,23.3,0,0,0,0,0,0,0,0,0,0,0,0,0,0,0,72,72,73,73,74,74]
[null,23.9,0,0,0,0,0,0,0,0,0,0,0,0,0,72,72,73,73,74,74,75,75]
[null,24.4,0,0,0,0,0,0,0,0,0,0,0,72,72,73,73,74,74,75,75,76,76]
[null,25,0,0,0,0,0,0,0,0,0,0,72,72,73,73,74,74,75,75,76,76,77]
[null,25.6,0,0,0,0,0,0,0,0,0,72,73,73,74,74,75,75,76,76,77,77,77]
[null,26.1,0,0,0,0,0,0,0,0,72,73,73,74,74,75,76,76,77,77,78,78,79]
[null,27.7,0,0,0,0,0,0,72,72,73,73,74,74,75,76,76,77,78,78,78,79,80]
[null,27.2,0,0,0,0,0,72,72,73,73,74,74,75,76,77,77,78,78,79,80,80,81]
[null,27.8,0,0,0,0,0,72,73,73,74,75,75,76,77,77,78,79,79,80,81,81,82]
[null,28.3,0,0,0,0,72,73,73,74,74,75,76,77,78,78,79,80,80,81,82,82,83]
[null,28.9,0,0,0,72,73,73,74,75,75,76,77,78,78,79,80,80,81,82,83,83,84]
[null,29.4,0,0,72,72,73,74,75,75,76,77,78,79,79,80,81,81,82,83,84,84,85]
[null,30,0,0,72,73,74,74,75,76,77,78,78,79,80,81,81,82,83,84,84,85,86]
[null,30.6,0,72,73,73,74,75,76,77,77,78,79,80,81,81,82,83,84,85,85,86,87]
[null,31.1,72,72,73,74,75,75,76,77,78,79,80,81,81,82,83,84,85,86,86,87,88]
[null,31.7,72,73,74,75,76,76,77,78,79,80,80,81,82,83,84,85,86,86,87,88,89]
[null,32.200000000000003,72,73,74,75,76,77,78,79,79,80,81,82,83,84,85,86,86,87,88,89,90]
[null,32.799999999999997,73,74,75,76,76,77,78,79,80,81,82,83,84,85,86,86,87,88,89,90,91]
[null,33.299999999999997,73,74,75,76,77,78,79,80,81,82,83,84,85,85,86,87,88,89,90,91,92]
[null,33.9,74,75,76,77,78,80,80,81,82,83,84,84,85,86,87,88,89,90,91,92,93]
[null,34.4,74,75,76,77,78,79,80,81,82,83,84,85,86,87,88,89,90,91,92,93,94]
[null,35,75,76,77,78,79,80,81,82,83,84,85,86,87,88,89,90,91,92,93,94,95]
[null,35.6,75,76,77,78,79,80,81,82,83,85,86,87,88,89,90,91,92,93,94,95,96]
[null,36.1,76,77,78,79,80,81,82,83,84,85,86,87,88,89,91,92,93,94,95,96,97]
[null,36.700000000000003,76,77,78,79,80,82,83,84,85,86,87,88,89,90,91,93,94,95,96,97,98]
[null,37.200000000000003,76,78,79,80,81,82,83,84,85,87,88,89,90,91,92,93,94,96,97,98,99]
[null,37.700000000000003,77,78,79,80,82,83,84,85,86,88,89,90,91,92,93,94,95,97,98,99,100]
[null,38.299999999999997,77,79,80,81,82,83,86,86,87,88,89,90,92,93,94,95,96,98,99,100,100]
[null,38.9,78,79,80,81,83,84,85,86,87,89,90,91,92,94,95,96,97,99,100,100,100]
[null,39.6,78,79,81,82,83,86,86,87,88,89,91,92,93,94,96,97,100,100,100,100,100]
[null,40,79,80,81,82,84,85,86,88,90,91,92,93,94,95,97,100,100,100,100,100,100]
[null,40.6,79,80,82,83,84,86,87,88,90,91,92,94,94,96,98,100,100,100,100,100,100]
[null,41.1,80,81,82,84,85,86,88,89,90,91,93,94,95,97,100,100,100,100,100,100,100]
[null,41.7,80,81,83,84,85,87,88,89,91,92,94,95,96,98,100,100,100,100,100,100,100]
[null,42.2,81,82,83,85,86,87,89,90,92,93,94,96,97,100,100,100,100,100,100,100,100]
[null,42.7,81,82,84,85,87,88,89,91,92,94,95,96,98,100,100,100,100,100,100,100,100]
[null,43.3,81,83,84,86,87,89,90,91,93,94,96,97,100,100,100,100,100,100,100,100,100]
[null,43.9,82,83,85,86,88,88,91,93,94,95,96,98,100,100,100,100,100,100,100,100,100]
[null,44.4,82,84,85,87,88,90,91,94,94,96,97,100,100,100,100,100,100,100,100,100,100]
[null,45,83,84,86,87,89,90,92,95,95,96,98,100,100,100,100,100,100,100,100,100,100]
[null,45.4,83,85,86,88,89,91,92,94,96,97,100,100,100,100,100,100,100,100,100,100,100]
[null,46.1,84,85,87,88,90,92,94,95,97,100,100,100,100,100,100,100,100,100,100,100,100]
[null,46.7,84,86,87,89,90,92,94,95,97,100,100,100,100,100,100,100,100,100,100,100,100]
[null,47.2,85,86,88,89,91,93,94,96,98,100,100,100,100,100,100,100,100,100,100,100,100]
[null,47.7,85,87,88,90,92,93,95,97,100,100,100,100,100,100,100,100,100,100,100,100,100]
[null,48.3,85,87,89,90,92,94,96,97,100,100,100,100,100,100,100,100,100,100,100,100,100]
[null,48.9,86,88,89,91,93,94,96,98,100,100,100,100,100,100,100,100,100,100,100,100,100]
[null,49.4,86,88,90,92,93,95,97,100,100,100,100,100,100,100,100,100,100,100,100,100,100]
[null,"TEMPERATURA ºc"]
[]
[]
[]
[]
["TEMPERATURA",{"$f":"IF('CALCULO THI'!C13=\"\",\"\",'CALCULO THI'!C13)","v":""}]
["HUMEDAD",{"$f":"IF('CALCULO THI'!C14=\"\",\"\",'CALCULO THI'!C14)","v":""}]
[]
[null,null,2,3,4,5,6,7,8,9,10,11,12,13,14,15,16,17,18,19,20,21,22]
[null,null,0,5,10,15,20,25,30,35,40,45,50,55,60,65,70,75,80,85,90,95,100,"%HUMEDAD"]
[null,"THIs A ESA TEMPERATURA",{"$f":"VLOOKUP($B$1459,$B$1403:$W$1453,C1462,TRUE)","v":{"$error":"#N/A"}},{"$f":"VLOOKUP($B$1459,$B$1403:$W$1453,D1462,TRUE)","v":{"$error":"#N/A"}},{"$f":"VLOOKUP($B$1459,$B$1403:$W$1453,E1462,TRUE)","v":{"$error":"#N/A"}},{"$error":"#N/A"},{"$error":"#N/A"},{"$error":"#N/A"},{"$error":"#N/A"},{"$error":"#N/A"},{"$error":"#N/A"},{"$error":"#N/A"},{"$error":"#N/A"},{"$error":"#N/A"},{"$error":"#N/A"},{"$error":"#N/A"},{"$error":"#N/A"},{"$error":"#N/A"},{"$error":"#N/A"},{"$error":"#N/A"},{"$error":"#N/A"},{"$error":"#N/A"},{"$error":"#N/A"}]
[null,"THI A ESA HUMEDAD",{"$f":"IF(B1459=\"\",\"\",HLOOKUP($B$1460,C1463:W1464,2,TRUE))","v":""}]
[]
[]
[]
[]
[null,null,{"$f":"IF(B1459<22.2,\"AUSENCIA DE ESTRÉS\",IF(C1465<72,\"AUSENCIA DE ESTRÉS\",IF(C1465<78,\"ESTRÉS MODERADO\",IF(C1465<89,\"ESTRÉS ALTO\",IF(C1465<98,\"ESTRÉS SEVERO\",\"MUERTE DEL ANIMAL\")))))","v":"MUERTE DEL ANIMAL"}]
[]
[]
[]
[]
["CREDITOS"]
[]
[null,"MESES GESTIMILK ESPECIES","OVINO",{"$f":"'HOJA DE DATOS'!B53","v":1227}]
[null,null,"CAPRINO",{"$f":"'HOJA DE DATOS'!B52","v":810}]
[null,"MESES GESTIMILK RAZAS",{"$f":"'HOJA DE DATOS'!B2","v":"FLORIDA"},{"$f":"SUM('HOJA DE DATOS'!D2:D4)","v":109}]
[null,null,{"$f":"'HOJA DE DATOS'!B5","v":"MALAGUEÑA"},{"$f":"SUM('HOJA DE DATOS'!D5:D7)","v":133}]
[null,null,{"$f":"'HOJA DE DATOS'!B8","v":"MURCIANA"},{"$f":"SUM('HOJA DE DATOS'!D8:D10)","v":491}]
[null,null,{"$f":"'HOJA DE DATOS'!B11","v":"ASSAF"},{"$f":"SUM('HOJA DE DATOS'!D11:D13)","v":649}]
[null,null,{"$f":"'HOJA DE DATOS'!B14","v":"LACAUNE"},{"$f":"SUM('HOJA DE DATOS'!D14:D16)","v":439}]
[null,null,{"$f":"'HOJA DE DATOS'!B17","v":"MANCHEGA"},{"$f":"SUM('HOJA DE DATOS'!D17:D19)","v":104}]
[null,"Nº  CHEQUEOS BA","OVINO",{"$f":"'HOJA DE DATOS'!R120","v":125}]
[null,null,"CAPRINO",{"$f":"'HOJA DE DATOS'!R119","v":110}]
[null,"Nº  AUDITORIAS PPCC","OVINO",{"$f":"'HOJA DE DATOS'!Z129","v":51}]
[null,null,"CAPRINO",{"$f":"'HOJA DE DATOS'!Z135","v":49}]
[null,"Nº PIENSOS","OVINO",{"$f":"COUNTIF('HOJA DE DATOS'!$D$160:$D$255,\"OVINO\")","v":31}]
[null,null,"CAPRINO",{"$f":"COUNTIF('HOJA DE DATOS'!$D$160:$D$255,\"CAPRINO\")","v":22}]
[null,null,"OVINO/CAPRINO",{"$f":"COUNTIF('HOJA DE DATOS'!$D$160:$D$255,\"OVINO/CAPRINO\")","v":12}]
[]
[]
[]
[]
[]
["AMBIENTALE ADMISIBLES"]
[]
["ESTACION",{"$f":"IF('AMBIENTALES ADMISIBLES'!B11=\"\",\"\",'AMBIENTALES ADMISIBLES'!B11)","v":""},null,null,"VERANO"]
[null,null,null,null,"INVIERNO"]
[null,"TEMPERATURA","HUMEDAD","VELOC AIRE"]
["EXTERIOR",{"$f":"IF('AMBIENTALES ADMISIBLES'!C13=\"\",\"\",'AMBIENTALES ADMISIBLES'!C13)","v":""},{"$f":"IF('AMBIENTALES ADMISIBLES'!C18=\"\",\"\",'AMBIENTALES ADMISIBLES'!C18)","v":""},{"$f":"IF('AMBIENTALES ADMISIBLES'!C23=\"\",\"\",'AMBIENTALES ADMISIBLES'!C23)","v":""},{"$f":"IF('AMBIENTALES ADMISIBLES'!D13=\"\",1,'AMBIENTALES ADMISIBLES'!D13)","v":1},"TEMÈRATURA"]
["CUADRA",{"$f":"IF('AMBIENTALES ADMISIBLES'!C14=\"\",\"\",'AMBIENTALES ADMISIBLES'!C14)","v":""},{"$f":"IF('AMBIENTALES ADMISIBLES'!C19=\"\",\"\",'AMBIENTALES ADMISIBLES'!C19)","v":""},{"$f":"IF('AMBIENTALES ADMISIBLES'!C24=\"\",\"\",'AMBIENTALES ADMISIBLES'!C24)","v":""},{"$f":"IF('AMBIENTALES ADMISIBLES'!D18=\"\",1,'AMBIENTALES ADMISIBLES'!D18)","v":1},"HUMEDAD"]
["ANIMALES",{"$f":"IF('AMBIENTALES ADMISIBLES'!C15=\"\",\"\",'AMBIENTALES ADMISIBLES'!C15)","v":""},{"$f":"IF('AMBIENTALES ADMISIBLES'!C20=\"\",\"\",'AMBIENTALES ADMISIBLES'!C20)","v":""},{"$f":"IF('AMBIENTALES ADMISIBLES'!C25=\"\",\"\",'AMBIENTALES ADMISIBLES'!C25)","v":""},{"$f":"IF('AMBIENTALES ADMISIBLES'!D23=\"\",1,'AMBIENTALES ADMISIBLES'!D23)","v":1},"CORRIENTES"]
["CAMA",{"$f":"IF('AMBIENTALES ADMISIBLES'!C16=\"\",\"\",'AMBIENTALES ADMISIBLES'!C16)","v":""},{"$f":"IF('AMBIENTALES ADMISIBLES'!C21=\"\",\"\",'AMBIENTALES ADMISIBLES'!C21)","v":""},{"$f":"IF('AMBIENTALES ADMISIBLES'!C27=\"\",\"\",'AMBIENTALES ADMISIBLES'!C27)","v":""}]
[]
[null,null,null,"RANGO ADMISIBLE","VALOR ADMISIBLE"]
["VERANO","AISLAMIENTO",{"$f":"CONCATENATE(A1508,B1508)","v":"VERANOAISLAMIENTO"},{"$f":"IF(B1503=\"\",\"\",('HOJA DE DATOS'!V233/10)*$E$1502)","v":""},{"$f":"IF(D1508=\"\",\"\",B1502+D1508)","v":""},{"$f":"IF($B$1499=\"\",\"\",$B$1499)","v":""},"AISLAMIENTO",{"$f":"CONCATENATE(F1508,G1508)","v":"AISLAMIENTO"},{"$f":"VLOOKUP(H1508,$C$1508:$E$1521,3,FALSE)","v":{"$error":"#N/A"}}]
["VERANO","TDENSIDAD",{"$f":"CONCATENATE(A1509,B1509)","v":"VERANOTDENSIDAD"},{"$f":"IF(B1504=\"\",\"\",('HOJA DE DATOS'!W233/10)*$E$1502)","v":""},{"$f":"IF(D1509=\"\",\"\",B1503+D1509)","v":""},{"$f":"IF($B$1499=\"\",\"\",$B$1499)","v":""},"TDENSIDAD",{"$f":"CONCATENATE(F1509,G1509)","v":"TDENSIDAD"},{"$f":"VLOOKUP(H1509,$C$1508:$E$1521,3,FALSE)","v":{"$error":"#N/A"}}]
["VERANO","TCAMA","VERANOTCAMA",{"$f":"IF(B1505=\"\",\"\",('HOJA DE DATOS'!X233/10)*$E$1502)","v":""},{"$f":"IF(D1510=\"\",\"\",B1504+D1510)","v":""},"","TCAMA","TCAMA",{"$error":"#N/A"}]
["VERANO","HVENTILACION","VERANOHVENTILACION",{"$f":"IF(C1503=\"\",\"\",('HOJA DE DATOS'!Y233/10)*$E$1503)","v":""},{"$f":"IF(D1511=\"\",\"\",C1502+D1511)","v":""},"","HVENTILACION","HVENTILACION",{"$error":"#N/A"}]
["VERANO","HDENSIDAD","VERANOHDENSIDAD",{"$f":"IF(C1504=\"\",\"\",('HOJA DE DATOS'!Z233/10)*$E$1503)","v":""},{"$f":"IF(D1512=\"\",\"\",C1503+D1512)","v":""},"","HDENSIDAD","HDENSIDAD",{"$error":"#N/A"}]
["VERANO","HCAMA","VERANOHCAMA",{"$f":"IF(C1505=\"\",\"\",('HOJA DE DATOS'!AA233/10)*$E$1503)","v":""},{"$f":"IF(D1513=\"\",\"\",C1504+D1513)","v":""},"","HCAMA","HCAMA",{"$error":"#N/A"}]
["VERANO","CORRIENTES","VERANOCORRIENTES",{"$f":"IF(D1504=\"\",\"\",('HOJA DE DATOS'!AB233/10)*$E$1504)","v":""},{"$f":"IF(D1514=\"\",\"\",D1503+D1514)","v":""},"","CORRIENTES","CORRIENTES",{"$error":"#N/A"}]
["INVIERNO","AISLAMIENTO","INVIERNOAISLAMIENTO",{"$f":"IF(B1503=\"\",\"\",('HOJA DE DATOS'!V232/10)*$E$1502)","v":""},{"$f":"IF(D1515=\"\",\"\",B1502+D1515)","v":""}]
["INVIERNO","TDENSIDAD","INVIERNOTDENSIDAD",{"$f":"IF(B1504=\"\",\"\",('HOJA DE DATOS'!W232/10)*$E$1502)","v":""},{"$f":"IF(D1516=\"\",\"\",B1503+D1516)","v":""}]
["INVIERNO","TCAMA","INVIERNOTCAMA",{"$f":"IF(B1505=\"\",\"\",('HOJA DE DATOS'!X232/10)*$E$1502)","v":""},{"$f":"IF(D1517=\"\",\"\",B1504+D1517)","v":""}]
["INVIERNO","HVENTILACION","INVIERNOHVENTILACION",{"$f":"IF(C1503=\"\",\"\",('HOJA DE DATOS'!Y232/10)*$E$1503)","v":""},{"$f":"IF(D1518=\"\",\"\",C1502+D1518)","v":""},null,null,"AISLAMIENTO",{"$f":"IF(B1503=\"\",\"\",IF(B1499=\"INVIERNO\",K1518,J1518))","v":""},{"$f":"IF(B1503=\"\",\"\",IF(B1503<I1508,\"ESTADISTICAMENTE ADMISIBLE\", \"MEJORAR AISLAMIENTO\"))","v":""},{"$f":"IF(B1503<I1508,\"MEJORAR AISLAMIENTO\",\"ESTADISTICAMENTE ADMISIBLE\")","v":{"$error":"#N/A"}}]
["INVIERNO","HDENSIDAD","INVIERNOHDENSIDAD",{"$f":"IF(C1504=\"\",\"\",('HOJA DE DATOS'!Z232/10)*$E$1503)","v":""},{"$f":"IF(D1519=\"\",\"\",C1503+D1519)","v":""},null,null,"VENTILACION",{"$f":"IF(C1503=\"\",\"\",IF(C1503<I1511,\"ESTADISTICAMENTE ADMISIBLE\",\"MEJORAR AISLAMIENTO\"))","v":""}]
["INVIERNO","HCAMA","INVIERNOHCAMA",{"$f":"IF(C1505=\"\",\"\",('HOJA DE DATOS'!AA232/10)*$E$1503)","v":""},{"$f":"IF(D1520=\"\",\"\",C1504+D1520)","v":""}]
["INVIERNO","CORRIENTES","INVIERNOCORRIENTES",{"$f":"IF(D1504=\"\",\"\",('HOJA DE DATOS'!AB232/10)*$E$1504)","v":""},{"$f":"IF(D1521=\"\",\"\",D1503+D1521)","v":""},null,null,"DENSIDAD",{"$f":"IF(C1504=\"\",\"\",IF(I1529=2,\"ESTADISTICAMENTE ADMISIBLE\",\"MEJORAR DENSIDAD\"))","v":""}]
[]
[null,null,null,null,null,null,null,"CORRIENTES",{"$f":"IF(D1504=\"\",\"\",IF(D1504<I1514,\"ESTADISTICAMENTE ADMISIBLE\",\"REVISAR CORRIENTES DE AIRE\"))","v":""}]
[]
[null,null,null,null,null,null,null,"CAMA",{"$f":"IF(C1505=\"\",\"\",IF(I1532=2,\"ESTADISTICAMENTE ADMISIBLE\",\"MEJORAR CAMA\"))","v":""}]
[]
[null,null,null,null,null,null,null,"TDENSIDAD",{"$f":"IF(B1504<I1509,1,0)","v":{"$error":"#N/A"}}]
[null,null,null,null,null,null,null,"HDENSIDAD",{"$f":"IF(C1504<I1512,1,0)","v":{"$error":"#N/A"}}]
[null,null,null,null,null,null,null,null,{"$f":"SUM(I1527:I1528)","v":{"$error":"#N/A"}}]
[null,null,null,null,null,null,null,"TCAMA",{"$f":"IF(B1505<I1510,1,0)","v":{"$error":"#N/A"}}]
[null,null,null,null,null,null,null,"HCAMA",{"$f":"IF(C1505<I1513,1,0)","v":{"$error":"#N/A"}}]
[null,null,null,null,null,null,null,null,{"$f":"SUM(I1530:I1531)","v":{"$error":"#N/A"}}]
[]
[]
[]
["VALORACION PIENSOS ECUACIONES NANTA"]
[null,{"$f":"ECUACIONES!C51","v":"UFC"},{"$f":"ECUACIONES!D51","v":"UFL"},null,"GRAMOS","UFC","UFL"]
[{"$f":"ECUACIONES!B52","v":"MS"},{"$f":"ECUACIONES!C52","v":1.149},{"$f":"ECUACIONES!D52","v":1.141},{"$f":"IF('PIENSOS OVINO Y CAPRINO LECHE'!G11=\"\",\"\",(1-'PIENSOS OVINO Y CAPRINO LECHE'!G11))","v":0.99},{"$f":"D1538*1000","v":990},{"$f":"IF(D1538=\"\",\"\",E1538*B1538)","v":1137.51},{"$f":"IF(D1538=\"\",\"\",E1538*C1538)","v":1129.5899999999999}]
[{"$f":"ECUACIONES!B53","v":"Cenizas"},{"$f":"ECUACIONES!C53","v":-2.0110000000000001},{"$f":"ECUACIONES!D53","v":-1.88},{"$f":"IF('PIENSOS OVINO Y CAPRINO LECHE'!G15=\"\",\"\",'PIENSOS OVINO Y CAPRINO LECHE'!G15)","v":7.0999999999999994E-2},{"$f":"D1539*1000","v":71},{"$f":"IF(D1539=\"\",\"\",E1539*B1539)","v":-142.78100000000001},{"$f":"IF(D1539=\"\",\"\",E1539*C1539)","v":-133.47999999999999}]
[{"$f":"ECUACIONES!B54","v":"PB"},{"$f":"ECUACIONES!C54","v":0.44600000000000001},{"$f":"ECUACIONES!D54","v":0.441},{"$f":"IF('PIENSOS OVINO Y CAPRINO LECHE'!G12=\"\",\"\",'PIENSOS OVINO Y CAPRINO LECHE'!G12)","v":0.25},250,111.5,110.25]
[{"$f":"ECUACIONES!B55","v":"FB"},{"$f":"ECUACIONES!C55","v":-1.962},{"$f":"ECUACIONES!D55","v":-1.623},{"$f":"IF('PIENSOS OVINO Y CAPRINO LECHE'!G13=\"\",\"\",'PIENSOS OVINO Y CAPRINO LECHE'!G13)","v":0},0,0,0]
[{"$f":"ECUACIONES!B56","v":"GB"},{"$f":"ECUACIONES!C56","v":2.6240000000000001},{"$f":"ECUACIONES!D56","v":2.5089999999999999},{"$f":"IF('PIENSOS OVINO Y CAPRINO LECHE'!G14=\"\",\"\",'PIENSOS OVINO Y CAPRINO LECHE'!G14)","v":0.25},250,656,627.25]
[null,null,null,null,null,{"$f":"SUM(F1538:F1542)","v":1762.229},{"$f":"SUM(G1538:G1542)","v":1733.61}]
[]
[]
[]
[]
[]
["COMPARATIVA RACIONES "]
[]
[{"$f":"'COMPARATIVA RACIONES'!B8","v":"PRECIO EQ (Euros/grado)"},{"$f":"'COMPARATIVA RACIONES'!C8","v":0},null,"COSTE","BENEFICIO",null,"EQ"]
[{"$f":"'COMPARATIVA RACIONES'!B9","v":"LITROS"},{"$f":"'COMPARATIVA RACIONES'!C9","v":0},"TESTIGO",{"$f":"E1560","v":{"$error":"#VALUE!"}},{"$f":"C1567-D1552","v":{"$error":"#VALUE!"}},null,{"$f":"SUM(B1553:B1554)","v":0}]
[{"$f":"'COMPARATIVA RACIONES'!B10","v":"GRASA"},{"$f":"'COMPARATIVA RACIONES'!C10","v":0},"CONTROL",{"$f":"E1564","v":{"$error":"#VALUE!"}},{"$f":"C1568-D1553","v":{"$error":"#VALUE!"}},null,{"$f":"C1566/(G1552*1000)","v":{"$error":"#DIV/0!"}}]
[{"$f":"'COMPARATIVA RACIONES'!B11","v":"PROTEINA"},{"$f":"'COMPARATIVA RACIONES'!C11","v":0}]
[{"$f":"'COMPARATIVA RACIONES'!B12","v":"EXTRA BENEFICIO"},{"$f":"'COMPARATIVA RACIONES'!C12","v":0}]
[]
[null,"TESTIGO",{"$f":"IF('COMPARATIVA RACIONES'!C15=\"\",\"\",'COMPARATIVA RACIONES'!C15)","v":""},{"$f":"IF('COMPARATIVA RACIONES'!D15=\"\",\"\",'COMPARATIVA RACIONES'!D15)","v":""},{"$f":"(C1557/1000)*D1557","v":{"$error":"#VALUE!"}},{"$f":"C1557*D1557","v":{"$error":"#VALUE!"}}]
[null,null,{"$f":"IF('COMPARATIVA RACIONES'!C16=\"\",\"\",'COMPARATIVA RACIONES'!C16)","v":""},{"$f":"IF('COMPARATIVA RACIONES'!D16=\"\",\"\",'COMPARATIVA RACIONES'!D16)","v":""},{"$f":"(C1558/1000)*D1558","v":{"$error":"#VALUE!"}},{"$f":"C1558*D1558","v":{"$error":"#VALUE!"}}]
[null,null,{"$f":"IF('COMPARATIVA RACIONES'!C17=\"\",\"\",'COMPARATIVA RACIONES'!C17)","v":""},{"$f":"IF('COMPARATIVA RACIONES'!D17=\"\",\"\",'COMPARATIVA RACIONES'!D17)","v":""},{"$error":"#VALUE!"},{"$error":"#VALUE!"}]
[null,null,null,null,{"$f":"SUM(E1557:E1559)","v":{"$error":"#VALUE!"}}]
[null,"CONTROL",{"$f":"IF('COMPARATIVA RACIONES'!C20=\"\",\"\",'COMPARATIVA RACIONES'!C20)","v":""},{"$f":"IF('COMPARATIVA RACIONES'!D20=\"\",\"\",'COMPARATIVA RACIONES'!D20)","v":""},{"$f":"(C1561/1000)*D1561","v":{"$error":"#VALUE!"}},{"$error":"#VALUE!"}]
[null,null,{"$f":"IF('COMPARATIVA RACIONES'!C21=\"\",\"\",'COMPARATIVA RACIONES'!C21)","v":""},{"$f":"IF('COMPARATIVA RACIONES'!D21=\"\",\"\",'COMPARATIVA RACIONES'!D21)","v":""},{"$f":"(C1562/1000)*D1562","v":{"$error":"#VALUE!"}},{"$error":"#VALUE!"}]
[null,null,{"$f":"IF('COMPARATIVA RACIONES'!C22=\"\",\"\",'COMPARATIVA RACIONES'!C22)","v":""},{"$f":"IF('COMPARATIVA RACIONES'!D22=\"\",\"\",'COMPARATIVA RACIONES'!D22)","v":""},{"$error":"#VALUE!"},{"$error":"#VALUE!"}]
[null,null,null,null,{"$f":"SUM(E1561:E1563)","v":{"$error":"#VALUE!"}}]
[null,"PRODUCCION EQ  TESTIGO",{"$f":"((B1552*(B1553+B1554)*1000))","v":0}]
[null,"PRODUCCION EQ CONTROL",{"$f":"C1565*(1+B1555)","v":0}]
[null,"INGRESOS TESTIGO",{"$f":"C1565*(B1551/1000)","v":0}]
[null,"INGRESOS CONTROL",{"$f":"C1566*(B1551/1000)","v":0}]
[null,"BENEFICIO TESTIGO",{"$f":"E1552","v":{"$error":"#VALUE!"}}]
[null,"BENEFICIO CONTROL",{"$f":"E1553","v":{"$error":"#VALUE!"}}]
[null,"EXTRA BENEFICIO CONTROL",{"$f":"IF(C1563=\"\",\"\",C1570-C1569)","v":""}]
[]
[]
[null,"PRECIO KOMPLET + BENEFICIO"]
[null,"PRECIO ALFALFA - BENEFICIO"]
[]
[null,"PRECIO UMBRAL TESTIGO",{"$f":"(C1570-C1567+E1557+E1558)/-D1559","v":{"$error":"#VALUE!"}}]
[null,"PRECIO UMBRAL CONTROL",{"$f":"(C1569-C1568+E1561+E1562)/-D1563","v":{"$error":"#VALUE!"}}]
[]
[null,"MARGEN CONTROL",{"$f":"IF('COMPARATIVA KOMPLET'!C658=\"\",\"\",#REF!-D1562)","v":""}]
[]
[]
[]
[]
[]
[]
[]
["PREDICCION UREA EN LECHE","(VER \"ECUACIONES\")"]
[]
[]
[null,"RMIC (PDIN-PDIE)/UFL)",{"$f":"IF('UREA EN LECHE'!C10=\"\",\"\",'UREA EN LECHE'!C10)","v":""}]
[null,"PRODUCCION (l/dia)",{"$f":"IF('UREA EN LECHE'!C11=\"\",\"\",'UREA EN LECHE'!C11)","v":""}]
[null,"UREA (mg/l)",{"$f":"(200+(C1591*15)+(C1592*23.5))","v":{"$error":"#VALUE!"}},"\"1\""]
[null,"UREA (mg/l)",{"$f":"377+(13.4*C1591)","v":{"$error":"#VALUE!"}},"\"2\""]
[null,"UREA (mg/l)",{"$f":"391+(8.28=C1591*C1592)","v":{"$error":"#VALUE!"}},"\"3\""]
[null,"grPB/KgMS",{"$f":"IF('UREA EN LECHE'!C16=\"\",\"\",'UREA EN LECHE'!C16)","v":""}]
[null,"PDIN balance",{"$f":"IF('UREA EN LECHE'!C17=\"\",\"\",'UREA EN LECHE'!C17)","v":""}]
[null,"UREA (mg/l)",{"$f":"((C1596*0.56)-57.5)*10","v":{"$error":"#VALUE!"}},"\"4\""]
[null,"UREA (mg/l)",{"$f":"((C1597*0.35)+25)*10","v":{"$error":"#VALUE!"}},"\"5\""]

{"sheet":"ECUACIONES","index":3,"n_rows":67,"n_cols":10,"rows_kept":67,"cut":false,"hidden":false,"merged":[]}
["ECUACIONES CALCULO PROD EQ A PARTIR DE LITROS/DIA",null,null,"Y=AX+B"]
["REFERENCIA","A","B","FC RAZA","FC EPOCA","R2"]
["CAPRINOFLORIDAINVIERNO",79.177999999999997,20.652999999999999,1,1,0.9587]
["CAPRINOFLORIDATEMPLADO",78.927000000000007,14.682,1,1,0.74480000000000002]
["CAPRINOFLORIDAVERANO",78.927000000000007,14.682,1,0.94,0.74480000000000002]
["CAPRINOMALAGUEÑAINVIERNO",81.599000000000004,17.251999999999999,1,1,0.87109999999999999]
["CAPRINOMALAGUEÑATEMPLADO",78.92,11.474,1,1,0.95640000000000003]
["CAPRINOMALAGUEÑAVERANO",80.087000000000003,2.5579999999999998,1,1,0.91649999999999998]
["CAPRINOMURCIANAINVIERNO",87.379000000000005,18.988,1,1,0.91569999999999996]
["CAPRINOMURCIANATEMPLADO",82.215999999999994,13.965999999999999,1,1,0.88500000000000001]
["CAPRINOMURCIANAVERANO",71.408000000000001,22.722000000000001,1,1,0.87560000000000004]
["OVINOASSAFINVIERNO",116.55,10.054,1,1,0.96]
["OVINOASSAFTEMPLADO",99.69,24.49,1,1,0.95799999999999996]
["OVINOASSAFVERANO",99.912000000000006,16.478999999999999,1,1,0.95169999999999999]
["OVINOLACAUNEINVIERNO",122.97,6.1580000000000004,1,1,0.92510000000000003]
["OVINOLACAUNETEMPLADO",108.42,17.942,1,1,0.95199999999999996]
["OVINOLACAUNEVERANO",106.35,13.379,1,1,0.93820000000000003]
["OVINOMANCHEGAINVIERNO",130.35,6.2657999999999996,1,1,0.91890000000000005]
["OVINOMANCHEGATEMPLADO",119.67,10.48,1,1,0.88339999999999996]
["OVINOMANCHEGAVERANO",130.58000000000001,-7.0624000000000002,1,0.93,0.96699999999999997]
[]
[]
["ECUACIONES PREDICCION PRODUCCION LECHE (MANTECON)"]
[null,"A","B"," Y= AxProd + BxDias"]
["ECUACION 1 /1º CONTROL)",0.25900000000000001,0.75]
["ECUACION2 (CONTROL CUALQUIERA)",0.255,1.319]
[]
["NECESIDADES INRA","FACTOR MANT UFL","CI","FACTOR PLS x GB","FACTOR PLS x PB","FACTOR PLS SUMA","FACTOR LECHE"]
["OVINO",3.3000000000000002E-2,8.5000000000000006E-2,7.1000000000000004E-3,4.3E-3,0.22239999999999999,0.71]
[null,"MANT1","MANT2","MANT3","UFLREAL1","UFLREAL2 GB1","UFLREAL2 GB2","UFLREAL2 PB1","UFLREAL5","UFLREAL2 SUMA"]
["CAPRINO",0.79,0.01,60,0.4,5.4999999999999997E-3,35,3.3E-3,31,0.4]
[]
[]
["DISTANCIUA ENTRE NAVES","FACTOR",null,"Y= FACTORxALTURA + RAIZ CUADRADA DE LONGITUD"]
[null,0.72399999999999998]
[]
["ECUACIONES  PREDICCION PRODUCCION DIARIA (MANTECON)"]
[]
[null,"cod ecuaci","A","B","n","Prod= A- BxDias"]
[null,1,1135,3.05,58160]
[null,2,751,2.82,17091]
[null,3,1126,3.81,21420]
[null,4,1446,4.45,13221]
[null,5,1800,3.99,5659]
[null,6,2163,5.48,769]
[]
["ECUACIONES  PREDICCION ENERGIA PIENSOS"]
[]
[]
[null,null,"SSF","SSF"]
[null,null,"UFC","UFL"]
[null,"MS",1.149,1.141]
[null,"Cenizas",-2.0110000000000001,-1.88]
[null,"PB",0.44600000000000001,0.441]
[null,"FB",-1.962,-1.623]
[null,"GB",2.6240000000000001,2.5089999999999999]
[]
[]
[]
["ECUACIONES  PREDICCION UREA EN LECHE"]
[]
[null,null,"ECUACIÓN","ESPECIE","FUENTE"]
[null,"\"1\"","UL = 200 + (12xRMIC) + (23.5xPL)","OVINO","Martinez 2017","OVEJAS"]
[null,"\"2\"","UL = 377 + 13.4xRMIC","OVINO (LACAUNE)","INRA","OVEJAS"]
[null,"\"3\"","UL = 391+ 8.28xRMIC","OVINO","Centre Départemental de l’Elevage Ovin","OVEJAS"]
[null,"\"4\"","UL = ((grPB/KgMSx0.56)-57.5)x10","CAPRINO","Rapetti 2016","CABRAS"]
[null,"\"5\"","UL =((balance PDINx0.35)+25)x10","CAPRINO","Rapetti 2016","CABRAS"]

{"sheet":"CREDITOS","index":4,"n_rows":34,"n_cols":3,"rows_kept":34,"cut":false,"hidden":false,"merged":[[15,0,20,0],[22,0,24,0],[26,0,28,0],[30,0,33,0],[11,0,13,0]]}
[]
[]
[]
[]
[]
["CRÉDITOS GESTIMILK MODEL"]
[]
[]
[]
[]
[]
["DATOS GESTIMILK","TOTAL MESES",{"$f":"SUM(C13:C14)","v":2037}]
[null,"MESES OVINO",{"$f":"'ENLACES DATOS'!D1477","v":1227}]
[null,"MESES CAPRINO",{"$f":"'ENLACES DATOS'!D1478","v":810}]
[]
["DATOS GESTIMILK RAZAS",{"$f":"'ENLACES DATOS'!C1479","v":"FLORIDA"},{"$f":"'ENLACES DATOS'!D1479","v":109}]
[null,{"$f":"'ENLACES DATOS'!C1480","v":"MALAGUEÑA"},{"$f":"'ENLACES DATOS'!D1480","v":133}]
[null,{"$f":"'ENLACES DATOS'!C1481","v":"MURCIANA"},{"$f":"'ENLACES DATOS'!D1481","v":491}]
[null,{"$f":"'ENLACES DATOS'!C1482","v":"ASSAF"},{"$f":"'ENLACES DATOS'!D1482","v":649}]
[null,{"$f":"'ENLACES DATOS'!C1483","v":"LACAUNE"},{"$f":"'ENLACES DATOS'!D1483","v":439}]
[null,{"$f":"'ENLACES DATOS'!C1484","v":"MANCHEGA"},{"$f":"'ENLACES DATOS'!D1484","v":104}]
[]
["CHEQUEOS BIENESTAR ANIMAL","TOTAL CHEQUEOS",{"$f":"SUM(C24:C25)","v":235}]
[null,"CHEQUEOS OVINO",{"$f":"'ENLACES DATOS'!D1485","v":125}]
[null,"CHEQUEOS CAPRINO",{"$f":"'ENLACES DATOS'!D1486","v":110}]
[]
["AUDITORIAS PUNTOS CRITICOS","TOTAL AUDITORIAS ",{"$f":"SUM(C28:C29)","v":100}]
[null,"AUDITORIAS OVINO",{"$f":"'ENLACES DATOS'!D1487","v":51}]
[null,"AUDITORIAS CAPRINO",{"$f":"'ENLACES DATOS'!D1488","v":49}]
[]
["INFORMACION PIENSOS","TOTAL PIENSOS",{"$f":"SUM(C32:C34)","v":65}]
[null,"PIENSOS OVINO",{"$f":"'ENLACES DATOS'!D1489","v":31}]
[null,"PIENSOS CAPRINO",{"$f":"'ENLACES DATOS'!D1490","v":22}]
[null,"PIENSOS OVINO/CAPRINO",{"$f":"'ENLACES DATOS'!D1491","v":12}]

{"sheet":"UREA EN LECHE","index":5,"n_rows":19,"n_cols":3,"rows_kept":19,"cut":false,"hidden":false,"merged":[[15,0,18,0],[9,0,13,0]]}
[]
[]
[]
[]
["PREDICCION/CALCULO UREA EN LECHE"]
[]
[]
[]
[]
[null,"RMIC (PDIN-PDIE)/UFL)"]
[null,"PRODUCCION (l/dia)"]
[null,"UREA (mg/l)",{"$f":"IF($C$10=\"\",\"\",'ENLACES DATOS'!C1593)","v":""}]
[null,"UREA (mg/l)",{"$f":"IF($C$10=\"\",\"\",'ENLACES DATOS'!C1594)","v":""}]
[null,"UREA (mg/l)",{"$f":"IF($C$10=\"\",\"\",'ENLACES DATOS'!C1595)","v":""}]
[]
[null,"grPB/KgMS"]
[null,"PDIN balance"]
[null,"UREA (mg/l)",{"$f":"IF(C16=\"\",\"\",'ENLACES DATOS'!C1598)","v":""}]
[null,"UREA (mg/l)",{"$f":"IF(C17=\"\",\"\",'ENLACES DATOS'!C1599)","v":""}]

{"sheet":"COMPARATIVA RACIONES","index":6,"n_rows":30,"n_cols":4,"rows_kept":30,"cut":false,"hidden":false,"merged":[[28,3,29,3],[7,0,11,0],[14,0,16,0],[19,0,21,0],[24,0,26,0],[28,0,29,0]]}
[]
[]
[]
[]
[" COMPARATIVA RACIONES"]
[]
[]
["DATOS  ANIMALES Y PRODUCTIVOS","PRECIO EQ (Euros/grado)"]
[null,"LITROS",null,{"$f":"IF(C12=\"\",\"\",'ENLACES DATOS'!G1553)","v":""}]
[null,"GRASA",null,{"$f":"IF(C12=\"\",\"\",(D12-(D11-D12)))","v":""}]
[null,"PROTEINA",null,{"$f":"IF(C12=\"\",\"\",(((D26-C26)/C9)/1000)+(C10+C11))","v":""}]
[null,"EXTRA BENEFICIO",null,{"$f":"IF(C10=\"\",\"\",C10+C11)","v":""}]
[]
[null,null,"EUROS/TM","KG/DIA"]
["RACIÓN TESTIGO","PAJA"]
[null,"ALFALFA HENO/FORRAJE/UNIFEED"]
[null,"CONCENTRADO TESTIGO"]
[]
[null,null,"EUROS/TM","KG/DIA"]
["RACIÓN  CONTROL","PAJA"]
[null,"ALFALFA HENO/FORRAJE/UNIFEED"]
[null,"CONCENTRADO CONTROL"]
[]
[null,null,"TESTIGO","CONTROL"]
["DIFERENCIAS SISTEMAS","COSTE RACIÓN (EUROS DIA)",{"$f":"IF(C16=\"\",\"\",'ENLACES DATOS'!D1552)","v":""},{"$f":"IF(C16=\"\",\"\",'ENLACES DATOS'!D1553)","v":""}]
[null,"PRODUCCIÓN EQ DIA (GR)",{"$f":"IF(C9=\"\",\"\",'ENLACES DATOS'!C1565)","v":""},{"$f":"IF(C9=\"\",\"\",'ENLACES DATOS'!C1566)","v":""}]
[null,"INGRESOS/DIA",{"$f":"IF(C25=\"\",\"\",'ENLACES DATOS'!C1567)","v":""},{"$f":"IF(D25=\"\",\"\",'ENLACES DATOS'!C1568)","v":""}]
[]
["PRECIO UMBRAL","TESTIGO",{"$f":"IF(C17=\"\",\"\",'ENLACES DATOS'!C1577*1000)","v":""},{"$f":"IF('ENLACES DATOS'!C1571=\"\",\"\",IF('ENLACES DATOS'!C1571>0,\"¡CONTROL!\",\"¡TESTIGO!\"))","v":""}]
[null,"CONTROL",{"$f":"IF(C22=\"\",\"\",'ENLACES DATOS'!C1578*1000)","v":""}]

{"sheet":"DIAGRAMA","index":7,"n_rows":29,"n_cols":6,"rows_kept":29,"cut":false,"hidden":false,"merged":[[28,1,28,2],[8,1,8,2],[19,0,21,0],[25,1,25,2],[26,1,26,2],[27,1,27,2],[10,0,15,0]]}
[]
[]
[]
[]
[]
[]
["DIAGRAMA DECISIONES OVINO LECHERO",null,null,null,null,"DIAGRAMA DECISIONES OVINO LECHERO"]
[]
["GANADERO","E"]
[]
["PASO 1 (EUROS/OVEJA Y AÑO)","BENEFICIO OVEJA/AÑO"]
[null,"MANO DE OBRA FAMILIAR",null,80]
[null,"AMORTIZACION",null,18]
[null,"INTERES CAPITAL PROPIO",null,3]
[null,"GASTOS FIJOS",{"$f":"IF(C12=\"\",\"\",SUM(C12:C14))","v":""},{"$f":"SUM(D12:D14)","v":101}]
[null,"RENTA DISPONIBLE",{"$f":"IF(C13=\"\",\"\",C11-C15)","v":""}]
[]
["PASO 2","PARTOS OVEJA/AÑO",null,0.9]
[]
["PASO 3 (EUROS/OVEJA Y AÑO)","INGRESOS PRODUCCIONES"]
[null,"GASTOS ALIMENTACIÓN"]
[null,"INDICE ALIMENTACIÓN",{"$f":"IF(C20=\"\",\"\",C21/C20)","v":""},0.7]
[]
["PASO 4","%ESTACIONALIDAD (2ºSEMESTRE)",null,0.5]
[]
["PASO 1.-",{"$f":"IF(C15=\"\",\"\",IF(C16>0,\"INDICADOR OK;PASO SIGUIENTE\",\"VER PLANIFICACION REPRODUCTIVA\"))","v":""}]
["PASO 2.-",{"$f":"IF(C18=\"\",\"\",IF(C18>D18,\"INDICADOR OK;PASO SIGUIENTE\",\"REVISAR CONTROL REPRODUCTIVO\"))","v":""},null,null,null,"INDICADORES:"]
["PASO 3.-",{"$f":"IF(C22=\"\",\"\",IF(C22<D22,\"INDICADOR OK;PASO SIGUIENTE\",\"REVISAR ALIMENTACION\"))","v":""}]
["PASO 4.-",{"$f":"IF(C24=\"\",\"\",IF(C24>D24,\"INDICADOR OK\",\"REVISAR PLANIFICACION REPRODUCTIVA\"))","v":""}]

{"sheet":"AMBIENTALES ADMISIBLES","index":8,"n_rows":33,"n_cols":4,"rows_kept":33,"cut":false,"hidden":false,"merged":[[30,2,30,3],[32,2,32,3],[27,0,28,0],[17,0,20,0],[8,1,8,2],[22,0,24,0],[12,0,15,0],[27,2,27,3],[28,2,28,3]]}
[]
[]
[]
[]
["CHEQUEO VALORES AMBIENTALES "]
[]
[]
[]
["GANADERO"]
[]
["ESTACION"]
[null,null,"OBTENIDO","ADMISIBLE"]
["TEMPERATURA (ºC)","EXTERIOR",null,1]
[null,"INTERIOR NAVE",null,{"$f":"IF(C14=\"\",\"\",'ENLACES DATOS'!I1508)","v":""}]
[null,"ALTURA ANIMALES",null,{"$f":"IF(C15=\"\",\"\",'ENLACES DATOS'!I1509)","v":""}]
[null,"CAMA",null,{"$f":"IF(C16=\"\",\"\",'ENLACES DATOS'!I1510)","v":""}]
[]
["HUMEDAD RELATIVA (%)","EXTERIOR",null,1]
[null,"INTERIOR NAVE",null,{"$f":"IF(C19=\"\",\"\",'ENLACES DATOS'!I1511)","v":""}]
[null,"ALTURA ANIMALES",null,{"$f":"IF(C20=\"\",\"\",'ENLACES DATOS'!I1512)","v":""}]
[null,"CAMA",null,{"$f":"IF(C21=\"\",\"\",'ENLACES DATOS'!I1513)","v":""}]
[]
["VELOCIDAD AIRE (m/s)","EXTERIOR",null,1]
[null,"INTERIOR NAVE",null,{"$f":"IF(C24=\"\",\"\",'ENLACES DATOS'!I1514)","v":""}]
[null,"ALTURA ANIMALES"]
[]
["RESULTADO CHEQUEO"]
["NAVE","AISLAMIENTO",{"$f":"IF('ENLACES DATOS'!I1518=\"\",\"\",'ENLACES DATOS'!I1518)","v":""}]
[null,"VENTILACION",{"$f":"IF('ENLACES DATOS'!I1519=\"\",\"\",'ENLACES DATOS'!I1519)","v":""}]
[]
["ANIMALES","DENSIDAD",{"$f":"IF('ENLACES DATOS'!I1521=\"\",\"\",'ENLACES DATOS'!I1521)","v":""}]
[]
["CAMA","CAMA",{"$f":"IF('ENLACES DATOS'!I1525=\"\",\"\",'ENLACES DATOS'!I1525)","v":""}]

{"sheet":"PIENSOS OVINO Y CAPRINO LECHE","index":9,"n_rows":31,"n_cols":8,"rows_kept":31,"cut":false,"hidden":false,"merged":[[8,5,8,6],[10,4,15,4],[17,4,18,4],[21,6,22,6],[8,1,8,3],[10,0,12,0],[14,0,20,0],[28,1,28,3],[30,1,30,3],[22,1,22,2],[24,1,24,3],[26,1,26,3]]}
[]
[]
[]
[]
["PIENSOS OVINO&CAPRINO LECHE",null,null,null,"VALORACION ENERGÉTICA PIENSOS"]
[]
[]
[]
["PIENSO",null,null,null,"PIENSO"]
[]
["ESPECIE/APTITUD","GANADO",{"$f":"IF('ENLACES DATOS'!C1393=\"\",\"\",'ENLACES DATOS'!C1393)","v":""},null,"DATOS ANALISIS/ETIQUETA","Humedad (%)",0.01]
[null,"CLASE",{"$f":"IF('ENLACES DATOS'!D1393=\"\",\"\",'ENLACES DATOS'!D1393)","v":""},null,null,"Proteína Bruta (%)",0.25]
[null,"TIPO",{"$f":"IF('ENLACES DATOS'!E1393=\"\",\"\",'ENLACES DATOS'!E1393)","v":""},null,null,"Fibra Bruta (%)",0]
[null,null,null,null,null,"Grasa Bruta (%)",0.25]
["PERFIL NUTRICIONAL","Humedad (%)",{"$f":"IF('ENLACES DATOS'!L1393=\"\",\"\",'ENLACES DATOS'!L1393/100)","v":""},null,null,"Cenizas (%)",7.0999999999999994E-2]
[null,"Proteína Bruta (%)",{"$f":"IF('ENLACES DATOS'!M1393=\"\",\"\",'ENLACES DATOS'!M1393/100)","v":""},null,null,"Almidon + Azucar (%)"]
[null,"Fibra Bruta (%)",{"$f":"IF('ENLACES DATOS'!N1393=\"\",\"\",'ENLACES DATOS'!N1393/100)","v":""}]
[null,"Grasa Bruta (%)",{"$f":"IF('ENLACES DATOS'!O1393=\"\",\"\",'ENLACES DATOS'!O1393/100)","v":""},null,"VALORACION ENERGÉTICA","UFL/100 Kg",{"$f":"IF(G12=\"\",\"\",'ENLACES DATOS'!G1543/10)","v":173.36099999999999}]
[null,"Cenizas (%)",{"$f":"IF('ENLACES DATOS'!P1393=\"\",\"\",'ENLACES DATOS'!P1393/100)","v":""},null,null,"UFC/100 Kg",{"$f":"IF(G12=\"\",\"\",'ENLACES DATOS'!F1543/10)","v":176.22290000000001}]
[null,"Almidon + Azucar (%)",{"$f":"IF('ENLACES DATOS'!Q1393=\"\",\"\",'ENLACES DATOS'!Q1393/100)","v":""}]
[null,"UFL/100Kg",{"$f":"IF('ENLACES DATOS'!R1393=\"\",\"\",'ENLACES DATOS'!R1393)","v":""},null,null,null,"UFL/LITRO","ml leche/Kg PIENSO"]
[null,null,null,null,"PIENSO 1 (UFL/100 Kg)",null,null,{"$f":"IF(F22=\"\",\"\",(F22/G22)*10)","v":""}]
["PRESENTACIÓN",{"$f":"IF('ENLACES DATOS'!F1393=\"\",\"\",'ENLACES DATOS'!F1393)","v":""},null,null,"PIENSO 2 (UFL/100 Kg)",null,null,{"$f":"IF(F23=\"\",\"\",(F23/G22)*10)","v":""}]
[null,null,null,null,null,null,null,{"$f":"IF(H23=\"\",\"\",H22-H23)","v":""}]
["MODO DE EMPLEO",{"$f":"IF('ENLACES DATOS'!J1393=\"\",\"\",'ENLACES DATOS'!J1393)","v":""}]
[]
["PRECAUCIONES DE USO",{"$f":"IF('ENLACES DATOS'!K1393=\"\",\"\",'ENLACES DATOS'!K1393)","v":""}]
[]
["DESTINO ETIQUETA",{"$f":"IF('ENLACES DATOS'!H1393=\"\",\"\",'ENLACES DATOS'!H1393)","v":""}]
[]
["TEXTO ETIQUETA",{"$f":"IF('ENLACES DATOS'!I1393=\"\",\"\",'ENLACES DATOS'!I1393)","v":""}]

{"sheet":"CALCULO DISTANCIA ENTRE NAVES","index":10,"n_rows":34,"n_cols":3,"rows_kept":34,"cut":false,"hidden":false,"merged":[[10,0,11,0],[33,1,34,1],[8,1,8,2]]}
[]
[]
[]
[]
["CÁLULO DISTANIA ENTRE NAVES"]
[]
[]
[]
["GANADERO"]
[]
["NAVE QUE CORTA EN VIENTO","ALTURA"]
[null,"LONGITUD"]
[]
["DISTANCIA RECOMENDADA","DISTANCIA ENTRE NAVES (M)",{"$f":"IF('ENLACES DATOS'!B1299=\"\",\"\",'ENLACES DATOS'!B1299)","v":""}]
[]
[]
[]
[]
[]
[]
[]
[]
[]
[]
[]
[]
[]
[]
[]
[]
[]
[]
[]
[null,{"$f":"IF(C14=\"\",\"\",C14)","v":""}]

{"sheet":"CHEQUEO DIMENSIONADO NAVE","index":11,"n_rows":41,"n_cols":15,"rows_kept":41,"cut":false,"hidden":false,"merged":[[40,0,41,2],[25,0,36,0],[38,0,38,2],[39,0,39,2],[23,11,24,12],[39,10,40,11],[8,1,8,2],[10,0,16,0],[19,0,22,0],[23,14,24,15],[15,11,15,13]]}
[]
[]
[]
[]
["CHEQUEO DIMENSIONADO NAVE"]
[]
[]
[null,null,null,null,null,null,null,null,null,null,null,null,{"$f":"IF(C37=\"\",\"\",C37)","v":""}]
["GANADERO"]
[]
["DATOS DE LA INSTALACIÓN","Nº ANIMALES"]
[null,"LONGITUD (M)",null,null,null,null,null,{"$f":"IF(C36=\"\",\"\",C36)","v":""}]
[null,"ANCHURA (M)"]
[null,"ALTURA LATERAL (M)"]
[null,"ALTURA CENTRAL (M)"]
[null,"Nº PASILLOS",null,null,null,null,null,null,null,null,null,{"$f":"IF(C13=\"\",\"\",C13)","v":""}]
[null,"ANCHURA CADA PASILLO (M)"]
[]
[null,null,null,"RECOMENDADOS"]
["DATOS PARA CÁLCULOS","ENTRADAS DE AIRE (M2/ANIMAL)",null,{"$f":"IF(C11=\"\",\"\",0.06)","v":""}]
[null,"SALIDAS DE AIRE (M2/ANIMAL)",null,{"$f":"IF(C11=\"\",\"\",0.03)","v":""}]
[null,"VOLUMEN ESTATICO ANIMAL (M3)",null,{"$f":"IF(C11=\"\",\"\",\"8 a 10\")","v":""}]
[null,"SUPERFICIE/ANIMAL (M2)",null,{"$f":"IF(C11=\"\",\"\",\"1.25 a 1.5\")","v":""}]
[null,null,null,null,null,null,null,null,null,null,null,{"$f":"IF(C12=\"\",\"\",C12)","v":""},null,null,{"$f":"IF(C36=\"\",\"\",C36)","v":""}]
[]
["RECOMENDACIONES DIMENSIONADO NAVE","SUPERFICIE TOTAL (M2)",{"$f":"IF('ENLACES DATOS'!B1278=\"\",\"\",'ENLACES DATOS'!B1278)","v":""}]
[null,"SUPERFICE PASILLOS (M2)",{"$f":"IF('ENLACES DATOS'!B1279=\"\",\"\",'ENLACES DATOS'!B1279)","v":""}]
[null,"SUPERFICIE ANIMALES (M2)",{"$f":"IF('ENLACES DATOS'!B1280=\"\",\"\",'ENLACES DATOS'!B1280)","v":""}]
[null,"Nº ANIMALES MAXIMO (SUPERF)",{"$f":"IF('ENLACES DATOS'!B1281=\"\",\"\",'ENLACES DATOS'!B1281)","v":""}]
[null,"VOLUMEN ESTATICO (M3)REAL",{"$f":"IF('ENLACES DATOS'!B1284=\"\",\"\",'ENLACES DATOS'!B1284)","v":""}]
[null,"VOL ESTATICO (M3) RECOMENDADO",{"$f":"IF(C22=\"\",\"\",C11*C22)","v":""}]
[null,"Nº ANIMALES MAXIMO (VOL EST)",{"$f":"IF('ENLACES DATOS'!B1285=\"\",\"\",'ENLACES DATOS'!B1285)","v":""}]
[null,"%PENDIENTE",{"$f":"IF('ENLACES DATOS'!B1286=\"\",\"\",'ENLACES DATOS'!B1286)","v":""}]
[null,"SUPERFICIE MIN ENTRADA AIRE (M2)",{"$f":"IF('ENLACES DATOS'!B1287=\"\",\"\",'ENLACES DATOS'!B1287)","v":""}]
[null,"SUPERF MAX SALIDA AIRE (M2)",{"$f":"IF('ENLACES DATOS'!B1288=\"\",\"\",'ENLACES DATOS'!B1288)","v":""}]
[null,"ANCHURA MINIMA DE VENTANA (M)",{"$f":"IF('ENLACES DATOS'!B1289=\"\",\"\",'ENLACES DATOS'!B1289)","v":""}]
[null,"ANCHURA MINIMA CABALLETE (M)",{"$f":"IF('ENLACES DATOS'!B1290=\"\",\"\",'ENLACES DATOS'!B1290)","v":""}]
[]
[{"$f":"IF(C33=\"\",\"\",IF($C$33>0.29,\"\",\"La pendiente debería tener al menos un 30% para que funcione el efecto chimenea\"))","v":""}]
[{"$f":"IF(C33=\"\",\"\",IF($C$33>0.29,\"\",\"Tal vez se necesiten sistemas de ventilación añadidos\"))","v":""},null,null,null,null,null,null,null,null,null,{"$f":"IF(C37=\"\",\"\",C37)","v":""}]
[{"$f":"IF(C13=\"\",\"\",IF($C$13>13,\"\",\"Tal vez se necesiten sistemas de ventilación añadidos, ya que la anhura de la nave compromete el funcionamiento del efecto chimenea\"))","v":""}]

{"sheet":"INGESTA MS CAPRINO","index":12,"n_rows":140,"n_cols":10,"rows_kept":140,"cut":false,"hidden":false,"merged":[[20,0,25,0],[28,0,29,0],[8,5,12,5]]}
[]
[]
[]
[]
[]
["INGESTA MATERIA SECA (IMS)",null,null,"FEDNA 2009",null,"INGESTA MATERIA SECA (IMS)"]
[]
[null,null,null,null,null,null,"ECUACIONES IMS"]
[null,null,null,null,null,"CALCULOS INGESTA MATERIA SECA","DIETAS SILO MAIZ",{"$f":"IF(C21=\"\",\"\",((165+(368.6*C22)+(34.8*C29)))/1000)","v":""},"Kg MS","Sauvant 8 primeras semanas"]
[null,null,null,null,null,null,"DIETAS SILO MAIZ",{"$f":"IF(C21=\"\",\"\",(533+(305.2*C22)+(13.3*C21))/1000)","v":""},"Kg MS","Sauvant 8-19 semanas"]
[null,null,null,null,null,null,"DIETAS SILO HIERBA",{"$f":"IF($C$22=\"\",\"\",((0.305*((((38*$C$23)+(24.44*$C$24)+(16.45*$C$25))/1000)*$C$22)/2.84))+(0.062*C29))","v":""},"Kg MS","UK. 2º mes lactacion"]
[null,null,null,null,null,null,"MURCIANA ",{"$f":"IF(C29=\"\",\"\",((0.022*C30)+(0.107*C29))*C137)","v":""},"Kg MS","Fernandez.Ración Completa. Toda la lactacion"]
[null,null,null,null,null,null,"MURCIANA ",{"$f":"IF(C29=\"\",\"\",(0.111*C29)*C140)","v":""},"Kg MS","Fernandez. Ración Completa. Toda la lactacion"]
[]
[]
[]
[]
[]
[]
[]
["ENTRADA DATOS","PV",null,"Kg"]
[null,"PL ",null,"litros"]
[null,"GB",null,"gr"]
[null,"PB",null,"gr"]
[null,"L",null,"gr"]
[null,"t"]
[]
[]
["CÁLCULOS METABOLICOS","PVmetabólico",{"$f":"IF(C21=\"\",\"\",POWER(C21,0.75))","v":""},"Kg"]
[null,"PLE(a 5.88%MG)",{"$f":"IF($C$22=\"\",\"\",((((38*$C$23)+(24.44*$C$24)+(16.45*$C$25))/1000)*$C$22)/3.59)","v":""},"litros"]
[]
[]
[]
[]
[]
[]
[]
[]
[]
[]
[]
[]
[]
[]
[]
[]
[]
[]
[]
[]
[]
[]
[]
[]
[]
[]
[]
[]
[]
[]
[]
[]
[]
[]
[]
[]
[]
[]
[]
[]
[]
[]
[]
[]
[]
[]
[]
[]
[]
[]
[]
[]
[]
[]
[]
[]
[]
[]
[]
[]
[]
[]
[]
[]
[]
[]
[]
[]
[]
[]
[]
[]
[]
[]
[]
[]
[]
[]
[]
[]
[]
[]
[]
[]
[]
[]
[]
[]
[]
[]
[]
[]
[]
[]
[]
[]
[]
[]
[]
[]
[]
[]
[]
[]
[]
[null,null,{"$f":"-0.444*(C26+7.221)","v":-3.206124}]
[null,null,{"$f":"1-(EXP(C136))","v":0.95948666095659396}]
[]
[null,null,{"$f":"-0.8*C26","v":0}]
[null,null,{"$f":"1-(EXP(C139))","v":0}]

{"sheet":"ENERGIA CAPRINO","index":13,"n_rows":146,"n_cols":11,"rows_kept":146,"cut":false,"hidden":false,"merged":[[23,0,30,0],[33,0,41,0],[35,5,39,5]]}
[]
[]
[]
[]
["ENERGÍA",null,null,"FEDNA 2009",null,"ENERGÍA",null,null,null,null,"ENERGÍA"]
[]
[]
[]
[]
[]
[]
[]
[]
[]
[]
[]
[]
[]
[]
[]
[]
[]
[]
["ENTRADA DATOS","PV",null,"Kg"]
[null,"PL ",null,"litros"]
[null,"GB",null,"gr"]
[null,"PB",null,"gr"]
[null,"L",null,"gr"]
[null,"t"]
[null,"d",null,"Km"]
[null,"Mes Gestación",null,"m"]
[]
[null,null,"MJ EM","Mcal ENL","UFL ENL"]
["CÁLCULOS ENERGIA","EM Mantenimiento",{"$f":"IF(C24=\"\",\"\",(0.401*H36))","v":""},{"$f":"IF(C34=\"\",\"\",((C34*0.67)*0.24))","v":""},{"$f":"IF(D34=\"\",\"\",D34/1.7)","v":""}]
[null,"EM Mantenimiento",{"$f":"IF(C24=\"\",\"\",IF(C24>45,0,(0.421*H36)))","v":""},{"$f":"IF(C35=\"\",\"\",((C35*0.67)*0.24))","v":""},""]
[null,"EM Mantenimiento",{"$f":"IF(C24=\"\",\"\",(0.443*H36))","v":""},{"$f":"IF(C36=\"\",\"\",((C36*0.67)*0.24))","v":""},"","CÁLCULOS ENERGIA","PVmetabólico",{"$f":"IF(C24=\"\",\"\",POWER(C24,0.75))","v":""},"Kg"]
[null,"EM Gestacion",{"$f":"IF(C31=\"\",0,VLOOKUP(C31,B140:C143,2,FALSE))","v":0},{"$f":"IF(C37=\"\",\"\",((C37*0.36)*0.24))","v":0},0,null,"ENL leche",{"$f":"IF($C$25=\"\",\"\",((((38*$C$26)+(24.44*$C$27)+(16.45*$C$28))/1000)))","v":""},"MJ/Kg"]
[null,"EM Lactacion",{"$f":"IF(C25=\"\",0,C146)","v":0},{"$f":"IF(C38=\"\",\"\",((C38*0.667)*0.24))","v":0},0,null,"ENL leche",{"$f":"IF(H37=\"\",\"\",H37/7.11)","v":""},"UFL"]
[null,"EM reservas (mov)",{"$f":"IF(C29=\"\",0,IF(C29>5.9,1.12,(IF(C29<1,0,(((7.87-(1.02*C29)+(0.027*(C29*C29)))))*(-1)))))","v":0},{"$f":"IF(C39=\"\",\"\",((C39*0.79)*0.24))","v":0},0,null,"PLE(a 5.88%MG)",{"$f":"IF($C$25=\"\",\"\",((((38*$C$26)+(24.44*$C$27)+(16.45*$C$28))/1000)*$C$25)/3.59)","v":""},"litros"]
[null,"EM Locomoción",{"$f":"IF(C30=\"\",0,((3.35*C24*C30)/1000))","v":0},{"$f":"IF(C40=\"\",\"\",((C40*0.67)*0.24))","v":0},{"$f":"IF(D40=\"\",\"\",D40/1.7)","v":0},null,"PLE(a 3.55%MG)",{"$f":"IF($C$25=\"\",\"\",((((38*$C$26)+(24.44*$C$27)+(16.45*$C$28))/1000)*$C$25)/2.84)","v":""},"litros"]
[null,"EM Termorregulacion",{"$f":"IF(C34=\"\",\"\",1.98*C34)","v":""},{"$f":"IF(C41=\"\",\"\",((C41*0.67)*0.24))","v":""},""]
[null,"NECESIDADES TOTALES",{"$f":"IF(C34=\"\",\"\",C34+C37+C38+C39+C40)","v":""},{"$f":"IF(C42=\"\",\"\",((C42*0.67)*0.24))","v":""},{"$f":"IF(D42=\"\",\"\",D42/1.7)","v":""}]
[]
[]
[]
[]
[]
[]
[]
[]
[]
[]
[]
[]
[]
[]
[]
[]
[]
[]
[]
[]
[]
[]
[]
[]
[]
[]
[]
[]
[]
[]
[]
[]
[]
[]
[]
[]
[]
[]
[]
[]
[]
[]
[]
[]
[]
[]
[]
[]
[]
[]
[]
[]
[]
[]
[]
[]
[]
[]
[]
[]
[]
[]
[]
[]
[]
[]
[]
[]
[]
[]
[]
[]
[]
[]
[]
[]
[]
[]
[]
[]
[]
[]
[]
[]
[]
[]
[]
[]
[]
[]
[]
[]
[]
[]
[]
[]
[]
[null,"4º Mes, 40KgPV",1.04]
[null,"4º Mes, 50KgPV",1.35]
[null,"5º Mes, 40KgPV",2.27]
[null,"5º Mes, 50KgPV",2.59]
[]
[]
[null,"ENERGIA NETA LECHE",{"$f":"IF(C25=\"\",\"\",(((((38*C26)+(24.44*C27)+(16.45*C28)))/0.667))*C25)/1000","v":{"$error":"#VALUE!"}}]

{"sheet":"PROTEINA CAPRINO","index":14,"n_rows":148,"n_cols":4,"rows_kept":148,"cut":false,"hidden":false,"merged":[[34,0,37,0],[39,0,45,0]]}
[]
[]
[]
[]
["PROTEíNA (PDI)",null,null,"FEDNA 2009"]
[]
[]
[]
[]
[]
[]
[]
[]
[]
[]
[]
[]
[]
[]
[]
[]
[]
[]
[]
[]
[]
[]
[]
[]
[]
[]
[]
[]
[]
["ENTRADA DATOS","PV",null,"Kg"]
[null,"PL ",null,"litros"]
[null,"Mes de Gestación"]
[null,"Mes de Lactación"]
[]
["CáLCULOS PROTEINA (PDI)","PVmetabólico",{"$f":"IF(C35=\"\",\"\",POWER(C35,0.75))","v":""},"Kg"]
[null,"grPDI Mantenim.",{"$f":"IF($C$35=\"\",\"\",2.99*$C$40)","v":""},"grPDI"]
[null,"grPDI Mantenim.",{"$f":"IF($C$35=\"\",\"\",2.56*$C$40)","v":""},"grPDI"]
[null,"grPDI Gestación",{"$f":"IF(C37=\"\",0,((VLOOKUP(C37,B147:C148,2,FALSE))*C41)-C41)","v":0},"grPDI"]
[null,"grPDI Lactación",{"$f":"IF(C36=\"\",0,(35*C36)/0.68)","v":0},"grPDI"]
[null,"grPDI Reservas",{"$f":"IF(C38=\"\",0,IF(C38<3.9,-30,4))","v":0},"grPDI"]
[null,"grPDI TOTALES",{"$f":"IF(C35=\"\",\"\",C41+C43+C44+C45)","v":""},"grPDI"]
[]
[]
[]
[]
[]
[]
[]
[]
[]
[]
[]
[]
[]
[]
[]
[]
[]
[]
[]
[]
[]
[]
[]
[]
[]
[]
[]
[]
[]
[]
[]
[]
[]
[]
[]
[]
[]
[]
[]
[]
[]
[]
[]
[]
[]
[]
[]
[]
[]
[]
[]
[]
[]
[]
[]
[]
[]
[]
[]
[]
[]
[]
[]
[]
[]
[]
[]
[]
[]
[]
[]
[]
[]
[]
[]
[]
[]
[]
[]
[]
[]
[]
[]
[]
[]
[]
[]
[]
[]
[]
[]
[]
[]
[]
[]
[]
[]
[]
[]
[]
[null,"4ºMES",1.6]
[null,"5ºMES",2.2000000000000002]

{"sheet":"MINERALES CAPRINO","index":15,"n_rows":165,"n_cols":7,"rows_kept":165,"cut":false,"hidden":false,"merged":[[26,0,42,0]]}
[]
[]
[]
[]
["MINERALES & VITAMINAS",null,null,null,null,"FEDNA 2009","MINERALES & VITAMINAS"]
[]
[]
[]
[]
[]
[]
[]
[]
[]
[]
[]
[]
[]
[]
[]
[]
["NECESIDADES EN GANADO OVINO LECHERO"]
[]
["ENTRADA DATO","IMS",null,"KgMS/dia"]
[]
[null,null,"POR KG/MS","POR DIA"]
["CÁLCULO MINERALES","Ca %MS",{"$f":"IF($C$24=\"\",\"\",VLOOKUP(B27,$B$148:$C$165,2,FALSE))","v":""},{"$f":"IF($C$24=\"\",\"\",(C27*$C$24)*10)","v":""},"gr/dia"]
[null,"P %MS",{"$f":"IF($C$24=\"\",\"\",VLOOKUP(B28,$B$148:$C$165,2,FALSE))","v":""},"","gr/dia"]
[null,"Na %MS","","","gr/dia"]
[null,"Cl %MS","","","gr/dia"]
[null,"K %MS","","","gr/dia"]
[null,"Mg %MS","","","gr/dia"]
[null,"S %MS","","","gr/dia"]
[null,"Co ppm","",{"$f":"IF($C$24=\"\",\"\",(C34*$C$24))","v":""},"mg/dia"]
[null,"Cu ppm","",{"$f":"IF($C$24=\"\",\"\",(C35*$C$24))","v":""},"mg/dia"]
[null,"I ppm","","","mg/dia"]
[null,"Fe ppm","","","mg/dia"]
[null,"Mn ppm","","","mg/dia"]
[null,"Zn ppm",{"$f":"IF($C$24=\"\",\"\",VLOOKUP(B39,$B$148:$C$165,2,FALSE))","v":""},{"$f":"IF($C$24=\"\",\"\",(C39*$C$24))","v":""}]
[null,"Se ppm","","","mg/dia"]
[null,"vit A UI/dia","","","UI/dia"]
[null,"vitD UI/dia","","","UI/dia"]
[null,"vitE UI/dia",{"$f":"IF($C$24=\"\",\"\",VLOOKUP(B43,$B$148:$C$166,2,FALSE))","v":""},"","UI/dia"]
[]
[]
[]
[]
[]
[]
[]
[]
[]
[]
[]
[]
[]
[]
[]
[]
[]
[]
[]
[]
[]
[]
[]
[]
[]
[]
[]
[]
[]
[]
[]
[]
[]
[]
[]
[]
[]
[]
[]
[]
[]
[]
[]
[]
[]
[]
[]
[]
[]
[]
[]
[]
[]
[]
[]
[]
[]
[]
[]
[]
[]
[]
[]
[]
[]
[]
[]
[]
[]
[]
[]
[]
[]
[]
[]
[]
[]
[]
[]
[]
[]
[]
[]
[]
[]
[]
[]
[]
[null,null,{"$f":"-0.00643*C27","v":{"$error":"#VALUE!"}}]
[null,null,{"$f":"EXP(C132)","v":{"$error":"#VALUE!"}}]
[null,null,{"$f":"-11.465*C133","v":{"$error":"#VALUE!"}}]
[null,null,{"$f":"C134-(0.00643*C27)","v":{"$error":"#VALUE!"}}]
[null,null,{"$f":"EXP(C135)","v":{"$error":"#VALUE!"}}]
[]
[]
[]
[]
[]
[]
[]
[]
[]
[]
[]
[null,null,"MINIMO"]
[null,"Ca %MS",0.65]
[null,"P %MS",0.39318415637860082]
[null,"Na %MS",0.1135185185185185]
[null,"Cl %MS",0.11574074074074074]
[null,"K %MS",0.44166666666666671]
[null,"Mg %MS",4.462962962962963E-2]
[null,"S %MS",0.2]
[null,"Co ppm",0.3]
[null,"Cu ppm",14.999999999999998]
[null,"I ppm",0.6]
[null,"Fe ppm",0]
[null,"Mn ppm",50]
[null,"Zn ppm",50]
[null,"Se ppm",0.2]
[null,"vit A UI/dia",3625.9259259259256]
[null,"vitD UI/dia",999.99999999999989]
[null,"vitE UI/dia",122.22222222222221]

{"sheet":"RACIONAMIENTO CAPRINO","index":16,"n_rows":151,"n_cols":6,"rows_kept":151,"cut":false,"hidden":false,"merged":[]}
[]
[]
[]
[]
["RECOMENDACIONES RACIONAMIENTO",null,null,"FEDNA 2009",null,"RECOMENDACIONES RACIONAMIENTO"]
[]
[]
[]
[]
[]
[]
[]
[]
[]
[]
[]
[]
[]
[]
[]
[]
[]
[]
[]
[]
[]
[]
[]
[]
[]
[]
[]
[]
[]
[]
[]
[]
[]
[]
[]
[]
[]
[]
[]
[]
[]
[]
[]
[]
[]
[]
[]
[]
[]
[]
[]
[]
[]
[]
[]
[]
[]
[]
[]
[]
[]
[]
[]
[]
[]
[]
[]
[]
[]
[]
[]
[]
[]
[]
[]
[]
[]
[]
[]
[]
[]
[]
[]
[]
[]
[]
[]
[]
[]
[]
[]
[]
[]
[]
[]
[]
[]
[]
[]
[]
[]
[]
[]
[]
[]
[]
[]
[]
[]
[]
[]
[]
[]
[]
[]
[]
[]
[]
[]
[]
[]
[]
[]
[]
[]
[]
[]
[]
[]
[]
[]
[]
[]
[]
[]
[]
[]
[]
[]
[]
[]
[null,null,{"$f":"-0.444*(C37+7.221)","v":-3.206124}]
[null,null,{"$f":"1-(EXP(C147))","v":0.95948666095659396}]
[]
[null,null,{"$f":"-0.8*C37","v":0}]
[null,null,{"$f":"1-(EXP(C150))","v":0}]

{"sheet":"INGESTA MS OVINO","index":17,"n_rows":39,"n_cols":4,"rows_kept":39,"cut":false,"hidden":false,"merged":[[28,0,32,0],[34,0,38,0]]}
[]
[]
[]
[]
[]
[]
["INGESTA MATERIA SECA (IMS)",null,null,"FEDNA 2009"]
[]
[]
[]
[]
[]
[]
[]
[]
[]
[]
[]
[]
[]
[]
[]
[]
[]
[]
[]
[]
[]
["INTRODUCIR DATOS","PV",null,"Kg"]
[null,"PVc",null,"gr"]
[null,"PLS",null,"litros"]
[null,"K",null," "]
[null,"TEMPERATURA",null,"ºC"]
[]
["RESULTADOS CÁLCULO","PVmetabólico",{"$f":"IF(C29=\"\",\"\",POWER(C29,0.75))","v":""},"Kg"]
[null,"IMS Secas",{"$f":"IF(C29=\"\",\"\",(-0.545+(0.095*C35)+(0.005*C30))*C32)","v":""},"Kg MS"]
[null,"IMS Lactación",{"$f":"IF(C30=\"\",\"\",(-0.545+(0.095*C35)+(0.65*C31)+(0.0025*C30))*C32)","v":""},"Kg MS"]
[null,"Correccion Tª",{"$f":"IF(C29=\"\",\"\",IF(C33=\"\",0,(IF(C33<25,0,(C33-25)*0.02)*C37)))","v":""},"Kg MS"]
[null,"IMS",{"$f":"IF(C37=\"\",\"\",C37-C38)","v":""},"Kg MS"]

{"sheet":"ENERGIA OVINO","index":18,"n_rows":139,"n_cols":11,"rows_kept":139,"cut":false,"hidden":false,"merged":[[9,5,16,5],[18,5,30,5],[22,0,32,0]]}
[]
[]
[]
[]
["ENERGÍA (ENL)",null,null,"FEDNA 2009",null,"ENERGÍA (ENL)",null,null,null,null,"ENERGÍA (ENL)"]
[]
[]
[]
[null,null,null,null,null,null,null,null,null,"UFL"]
[null,null,null,null,null,"CALCULOS ENERGIA","ENL Mantenim",{"$f":"IF(H19=\"\",\"\",((57.5*H19)*1.1))","v":""},"Kcal/día",{"$f":"IF(H10=\"\",\"\",H10/1700)","v":""}]
[null,null,null,null,null,null,"ENL Lactacion",{"$f":"IF(H20=\"\",\"\",1132*H20)","v":""},"Kcal/día",""]
[null,null,null,null,null,null,"ENL Gestación",{"$f":"IF(C27=\"\",\"\",((9248*C27*C139)*4.9))","v":""},"Kcal/día",""]
[null,null,null,null,null,null,"ENL Pérdida Peso",{"$f":"IF(C30=\"\",\"\",((((0.13*C30*C24)*H29)/C31)*1000)*(-1))","v":""},"Kcal/día",""]
[null,null,null,null,null,null,"ENL Ganancia Peso",{"$f":"IF(C32=\"\",\"\",((C32*H30)/C33)*1000)","v":""},"Kcal/día",""]
[null,null,null,null,null,null,"OVEJAS SECAS",{"$f":"IF(H10=\"\",\"\",H10-H13+H14)","v":""},"Kcal/día",""]
[null,null,null,null,null,null,"OVEJAS GESTANTES",{"$f":"IF(H12=\"\",\"\",H10+H12)","v":""},"Kcal/día",""]
[null,null,null,null,null,null,"OVEJAS ORDEÑO",{"$f":"IF(H11=\"\",\"\",H10+H11-H13+H14)","v":""},"Kcal/día",""]
[]
[null,"EB","PLS",null,null,"MOVILIZACION DE RESERVAS CORPORALES","PVmetabólico",{"$f":"IF(C24=\"\",\"\",POWER(C24,0.75))","v":""},"Kg"]
["MANCHEGA",{"$f":"IF(C26=\"\",\"\",(111.1*C26)+409.7)","v":""},{"$f":"IF(C25=\"\",\"\",C25*((0.098*C26)+0.36))","v":""},null,null,null,"PLS",{"$f":"IF(C25=\"\",\"\",VLOOKUP($C$23,$A$19:$C$21,3,FALSE))","v":""},"litros"]
["LACAUNE",{"$f":"IF(C26=\"\",\"\",(99.96*C26)+450.5)","v":""},{"$f":"IF(C25=\"\",\"\",C25*((0.091*C26)+0.41))","v":""},null,null,null,"EB (Energía Bruta de leche)",{"$f":"IF(C26=\"\",\"\",VLOOKUP($C$23,$A$19:$C$21,2,FALSE))","v":""},"Kcal/kg leche"]
[null,null,null,null,null,null,"PVV (PV vacío)",{"$f":"IF(C24=\"\",\"\",0.817*C24)","v":""},"Kg"]
["ENTRADA DATOS","RAZA",null," ",null,null,"AG (% grasa corporal)",{"$f":"IF(C29=\"\",\"\",0.0269+(0.0869*C29))","v":""},"%"]
[null,"PV",null,"Kg",null,null,"AP (% proteína corporal)",{"$f":"IF(C29=\"\",\"\",(-0.0039*(C29*C29))+(0.0279*C29)+0.1449)","v":""},"%"]
[null,"PL",null,"litros",null,null,"TG (total grasa corp)",{"$f":"IF(H23=\"\",\"\",H23*H22)","v":""},"Kg"]
[null,"%MG",null,"%",null,null,"TP(total proteína corp)",{"$f":"IF(H24=\"\",\"\",H24*H22)","v":""},"Kg"]
[null,"Pc",null,"Kg",null,null,"ET (Energia Total)",{"$f":"IF(H25=\"\",\"\",(9.4*H25)+(5.7*H26))","v":""},"Mcal"]
[null,"t (dias gestacion)",null,"dias",null,null,"ET (Energia Total)",{"$f":"IF(H27=\"\",\"\",H27/H22)","v":""},"Mcal"]
[null,"CC (Estado Corporal)",null," ",null,null,"ENL Pérdida Peso",{"$f":"IF(H28=\"\",\"\",H28*0.84)","v":""},"Mcal/Kg PVV"]
[null,"PERDIDA CC",null," ",null,null,"ENL Ganancia Peso",{"$f":"IF(H28=\"\",\"\",1.066*H28)","v":""},"Mcal/Kg PVV"]
[null,"TIEMPO PERDIDA",null,"días",null,null,"Kg perdidos",{"$f":"IF(C30=\"\",\"\",(0.13*C30*C24))","v":""},"KgPV"]
[null,"KG RECUPERACION",null,"KgPV"]
[null,"TIEMPO REC",null,"dias"]
[]
[]
[]
[]
[]
[]
[]
[]
[]
[]
[]
[]
[]
[]
[]
[]
[]
[]
[]
[]
[]
[]
[]
[]
[]
[]
[]
[]
[]
[]
[]
[]
[]
[]
[]
[]
[]
[]
[]
[]
[]
[]
[]
[]
[]
[]
[]
[]
[]
[]
[]
[]
[]
[]
[]
[]
[]
[]
[]
[]
[]
[]
[]
[]
[]
[]
[]
[]
[]
[]
[]
[]
[]
[]
[]
[]
[]
[]
[]
[]
[]
[]
[]
[]
[]
[]
[]
[]
[]
[]
[]
[]
[]
[]
[]
[]
[]
[]
[]
[]
[]
[null,null,{"$f":"-0.00643*C28","v":0}]
[null,null,{"$f":"EXP(C135)","v":1}]
[null,null,{"$f":"-11.465*C136","v":-11.465}]
[null,null,{"$f":"C137-(0.00643*C28)","v":-11.465}]
[null,null,{"$f":"EXP(C138)","v":1.0490924582726865E-5}]

{"sheet":"PROTEINA OVINO","index":19,"n_rows":152,"n_cols":6,"rows_kept":152,"cut":false,"hidden":false,"merged":[[28,0,32,0],[34,0,40,0]]}
[]
[]
[]
[]
["PROTEÍNA (PDI)",null,null,"FEDNA 2009",null,"PROTEÍNA (PDI)"]
[]
[]
[]
[]
[]
[]
[]
[]
[]
[]
[]
[]
[]
[]
[]
[]
[]
[]
[]
[]
[]
[]
[]
["ENTRADA DATOS","PV",null,"Kg"]
[null,"Pc",null,"Kg"]
[null,"t",null,"dias"]
[null,"PL",null,"litros"]
[null,"P",null,"%"]
[]
["CÁLCULOS PROTEINA","PVmetabólico",{"$f":"IF(C29=\"\",\"\",POWER(C29,0.75))","v":""},"Kg"]
[null,"PDI Mant",{"$f":"IF(C35=\"\",\"\",2.5*C35)","v":""},"gr PDI"]
[null,"PDI Gest",{"$f":"IF(C30=\"\",\"\",((1428.06*C30*C152))/0.7)","v":""},"gr PDI"]
[null,"PDI Lact",{"$f":"IF(C32=\"\",\"\",(10*C32*C33)*0.58)","v":""},"gr PDI"]
[null,"OVEJAS SECAS",{"$f":"IF(C36=\"\",\"\",C36)","v":""},"gr PDI"]
[null,"OVEJAS GESTANTES",{"$f":"IF(C37=\"\",\"\",C36+C37)","v":""},"gr PDI"]
[null,"OVEJAS ORDEÑO",{"$f":"IF(C38=\"\",\"\",C36+C38)","v":""},"gr PDI"]
[]
[]
[]
[]
[]
[]
[]
[]
[]
[]
[]
[]
[]
[]
[]
[]
[]
[]
[]
[]
[]
[]
[]
[]
[]
[]
[]
[]
[]
[]
[]
[]
[]
[]
[]
[]
[]
[]
[]
[]
[]
[]
[]
[]
[]
[]
[]
[]
[]
[]
[]
[]
[]
[]
[]
[]
[]
[]
[]
[]
[]
[]
[]
[]
[]
[]
[]
[]
[]
[]
[]
[]
[]
[]
[]
[]
[]
[]
[]
[]
[]
[]
[]
[]
[]
[]
[]
[]
[]
[]
[]
[]
[]
[]
[]
[]
[]
[]
[]
[]
[]
[]
[]
[]
[]
[]
[null,null,{"$f":"-0.00601*C31","v":0}]
[null,null,{"$f":"EXP(C148)","v":1}]
[null,null,{"$f":"-11.22*C149","v":-11.22}]
[null,null,{"$f":"C150-(0.00601*C31)","v":-11.22}]
[null,null,{"$f":"EXP(C151)","v":1.3403428842116915E-5}]

{"sheet":"MINERALES OVINO","index":20,"n_rows":145,"n_cols":8,"rows_kept":145,"cut":false,"hidden":false,"merged":[[12,0,28,0],[7,5,23,5]]}
[]
[]
[]
[]
["MINERALES & VITAMINAS",null,null,null,null,"MINERALES & VITAMINAS"]
[null,null,null,"FEDNA 2009"]
[null,null,null,null,null,null,null,"MINIMO"]
[null,null,null,null,null,"REQUERIMIENTOS MINIMOS","Ca %MS",0.65]
[null,null,null,null,null,null,"P %MS",0.37172619047619049]
["ENTRADA DATO","IMS",null,"KgMS/dia",null,null,"Na %MS",8.4571428571428575E-2]
[null,null,null,null,null,null,"Cl %MS",8.2857142857142865E-2]
[null,null,"POR KG/MS","POR DIA",null,null,"K %MS",0.35]
["CÁLCULOS MINERALES Y VITAMINAS","Ca %MS",{"$f":"IF($C$10=\"\",\"\",VLOOKUP(B13,$G$8:$H$25,2,FALSE))","v":""},{"$f":"IF($C$10=\"\",\"\",(C13*$C$10)*10)","v":""},"gr/dia",null,"Mg %MS",4.3428571428571427E-2]
[null,"P %MS",{"$f":"IF($C$10=\"\",\"\",VLOOKUP(B14,$G$8:$H$25,2,FALSE))","v":""},"","gr/dia",null,"S %MS",0.2]
[null,"Na %MS","","","gr/dia",null,"Co ppm",0.3]
[null,"Cl %MS","","","gr/dia",null,"Cu ppm",0]
[null,"K %MS","","","gr/dia",null,"I ppm",0.6]
[null,"Mg %MS","","","gr/dia",null,"Fe ppm",0]
[null,"S %MS","","","gr/dia",null,"Mn ppm",50]
[null,"Co ppm","","",null,null,"Zn ppm",50]
[null,"Cu ppm","",{"$f":"IF($C$10=\"\",\"\",(C21*$C$10))","v":""},"mg/dia",null,"Se ppm",0.2]
[null,"I ppm","",{"$f":"IF($C$10=\"\",\"\",(C22*$C$10))","v":""},"mg/dia",null,"vit A UI/dia",2797.1428571428573]
[null,"Fe ppm","","","mg/dia",null,"vitD UI/dia",1000]
[null,"Mn ppm","","","mg/dia",null,"vitE UI/dia",94.285714285714292]
[null,"Zn ppm","","","mg/dia"]
[null,"Se ppm","","","mg/dia"]
[null,"vit A UI/dia","","","UI/dia"]
[null,"vitD UI/dia","","","UI/dia"]
[null,"vitE UI/dia","","","UI/dia"]
[]
[]
[]
[]
[]
[]
[]
[]
[]
[]
[]
[]
[]
[]
[]
[]
[]
[]
[]
[]
[]
[]
[]
[]
[]
[]
[]
[]
[]
[]
[]
[]
[]
[]
[]
[]
[]
[]
[]
[]
[]
[]
[]
[]
[]
[]
[]
[]
[]
[]
[]
[]
[]
[]
[]
[]
[]
[]
[]
[]
[]
[]
[]
[]
[]
[]
[]
[]
[]
[]
[]
[]
[]
[]
[]
[]
[]
[]
[]
[]
[]
[]
[]
[]
[]
[]
[]
[]
[]
[]
[]
[]
[]
[]
[]
[]
[]
[]
[]
[]
[]
[]
[]
[]
[]
[]
[]
[]
[]
[]
[]
[null,null,{"$f":"-0.00643*C13","v":{"$error":"#VALUE!"}}]
[null,null,{"$f":"EXP(C141)","v":{"$error":"#VALUE!"}}]
[null,null,{"$f":"-11.465*C142","v":{"$error":"#VALUE!"}}]
[null,null,{"$f":"C143-(0.00643*C13)","v":{"$error":"#VALUE!"}}]
[null,null,{"$f":"EXP(C144)","v":{"$error":"#VALUE!"}}]

{"sheet":"FNDyCNF OV-CAP","index":21,"n_rows":137,"n_cols":4,"rows_kept":137,"cut":false,"hidden":false,"merged":[[22,0,23,0],[26,0,29,0],[31,0,34,0]]}
[]
[]
[]
[]
["FND & CNF",null,null,"FEDNA 2009"]
[]
[]
[]
[]
[]
[]
[]
[]
[]
[]
[]
[]
[]
[]
[]
[]
[]
["INTRODUCCIÓN DATOS","PV",null,"Kg"]
[null,"IMS",null,"Kg/dia"]
[]
[]
["CÁLCULOS FND","Optimo FND (PL)",{"$f":"IF($C$23=\"\",\"\",(0.012*$C$23)*1000)","v":""},"gramos/día"]
[null,"Optimo FND (PL)",{"$f":"IF($C$24=\"\",\"\",(C27/1000)/$C$24)","v":""},"%"]
[null,"Optimo FND (IMS)",{"$f":"IF($C$23=\"\",\"\",(0.0145*$C$23)*1000)","v":""},"gramos/día"]
[null,"Optimo FND (IMS)",{"$f":"IF($C$24=\"\",\"\",(C29/1000)/$C$24)","v":""},"%"]
[]
["CÁLCULOS CNF","Optimo CNF",{"$f":"IF($C$24=\"\",\"\",($C$24*C33)*1000)","v":""},"gramos/día (Inicio lactación)"]
[null,"Optimo CNF",{"$f":"IF($C$24=\"\",\"\",(0.35))","v":""},"%"]
[null,"Máximo CNF",{"$f":"IF($C$24=\"\",\"\",($C$24*C35)*1000)","v":""},"gramos/día (con BEP)"]
[null,"Máximo CNF",{"$f":"IF($C$24=\"\",\"\",(0.38))","v":""},"%"]
[]
[]
[]
[]
[]
[]
[]
[]
[]
[]
[]
[]
[]
[]
[]
[]
[]
[]
[]
[]
[]
[]
[]
[]
[]
[]
[]
[]
[]
[]
[]
[]
[]
[]
[]
[]
[]
[]
[]
[]
[]
[]
[]
[]
[]
[]
[]
[]
[]
[]
[]
[]
[]
[]
[]
[]
[]
[]
[]
[]
[]
[]
[]
[]
[]
[]
[]
[]
[]
[]
[]
[]
[]
[]
[]
[]
[]
[]
[]
[]
[]
[]
[]
[]
[]
[]
[]
[]
[]
[]
[]
[]
[]
[]
[]
[]
[]
[null,null,{"$f":"-0.00643*#REF!","v":{"$error":"#REF!"}}]
[null,null,{"$f":"EXP(C133)","v":{"$error":"#REF!"}}]
[null,null,{"$f":"-11.465*C134","v":{"$error":"#REF!"}}]
[null,null,{"$f":"C135-(0.00643*#REF!)","v":{"$error":"#REF!"}}]
[null,null,{"$f":"EXP(C136)","v":{"$error":"#REF!"}}]

{"sheet":"GRASA OVI-CAP","index":22,"n_rows":143,"n_cols":4,"rows_kept":143,"cut":false,"hidden":false,"merged":[[31,0,34,0]]}
[]
[]
[]
[]
["GRASA AÑADIDA",null,"FEDNA 2009"]
[]
[]
[]
[]
[]
[]
[]
[]
[]
[]
[]
[]
[]
[]
[]
[]
[]
[]
[]
[]
[]
[]
[]
["ENTRADA DATOS","IMS",null,"Kg/dia"]
[]
[]
["CÁLCULOS GRASA","Optimo GRASA AÑADIDA",{"$f":"IF($C$29=\"\",\"\",190)","v":""},"gramos/día"]
[null,"Optimo GRASA AÑADIDA",{"$f":"IF($C$29=\"\",\"\",(190/1000)/C29)","v":""},"%MS"]
[null,"Máximo GRASA ADMIBLE.",{"$f":"IF($C$29=\"\",\"\",(C29*C35)*1000)","v":""},"gramos/día"]
[null,"Máximo GRASA ADMIBLE.",{"$f":"IF($C$29=\"\",\"\",0.07)","v":""},"%MS"]
[]
[]
[]
[]
[]
[]
[]
[]
[]
[]
[]
[]
[]
[]
[]
[]
[]
[]
[]
[]
[]
[]
[]
[]
[]
[]
[]
[]
[]
[]
[]
[]
[]
[]
[]
[]
[]
[]
[]
[]
[]
[]
[]
[]
[]
[]
[]
[]
[]
[]
[]
[]
[]
[]
[]
[]
[]
[]
[]
[]
[]
[]
[]
[]
[]
[]
[]
[]
[]
[]
[]
[]
[]
[]
[]
[]
[]
[]
[]
[]
[]
[]
[]
[]
[]
[]
[]
[]
[]
[]
[]
[]
[]
[]
[]
[]
[]
[]
[]
[]
[]
[]
[]
[null,null,{"$f":"-0.00643*#REF!","v":{"$error":"#REF!"}}]
[null,null,{"$f":"EXP(C139)","v":{"$error":"#REF!"}}]
[null,null,{"$f":"-11.465*C140","v":{"$error":"#REF!"}}]
[null,null,{"$f":"C141-(0.00643*#REF!)","v":{"$error":"#REF!"}}]
[null,null,{"$f":"EXP(C142)","v":{"$error":"#REF!"}}]

{"sheet":"AGUA","index":23,"n_rows":148,"n_cols":4,"rows_kept":148,"cut":false,"hidden":false,"merged":[[30,0,31,0],[35,0,38,0]]}
[]
[]
[]
[]
["AGUA",null,"FEDNA 2009"]
[]
[]
[]
[]
[]
[]
[]
[]
[]
[]
[]
[]
[]
[]
[]
[]
[]
[]
[]
[]
[]
[]
[]
["NECESIDADES DE AGUA PARA GANADO CAPRINO"]
[]
["ENTRADA DATOS","PV",null,"Kg"]
[null,"PL ",null,"litros"]
[]
[]
[]
["CÁLCULO NECESIDADES AGUA","PVmetabólico",{"$f":"IF(C31=\"\",\"\",POWER(C31,0.75))","v":""},"Kg"]
[null,"MANTENIMIENTO",{"$f":"IF(C31=\"\",\"\",0.1456*C36)","v":""},"litros"]
[null,"PRODUCCION",{"$f":"IF(C31=\"\",\"\",1.43*C32)","v":""},"litros"]
[null,"TOTALES",{"$f":"IF(C31=\"\",\"\",C37+C38)","v":""},"litros"]
[]
[]
[]
[]
[]
[]
[]
[]
[]
[]
[]
[]
[]
[]
[]
[]
[]
[]
[]
[]
[]
[]
[]
[]
[]
[]
[]
[]
[]
[]
[]
[]
[]
[]
[]
[]
[]
[]
[]
[]
[]
[]
[]
[]
[]
[]
[]
[]
[]
[]
[]
[]
[]
[]
[]
[]
[]
[]
[]
[]
[]
[]
[]
[]
[]
[]
[]
[]
[]
[]
[]
[]
[]
[]
[]
[]
[]
[]
[]
[]
[]
[]
[]
[]
[]
[]
[]
[]
[]
[]
[]
[]
[]
[]
[]
[]
[]
[]
[]
[]
[]
[]
[]
[]
[null,null,{"$f":"-0.444*(#REF!+7.221)","v":{"$error":"#REF!"}}]
[null,null,{"$f":"1-(EXP(C144))","v":{"$error":"#REF!"}}]
[]
[null,null,{"$f":"-0.8*#REF!","v":{"$error":"#REF!"}}]
[null,null,{"$f":"1-(EXP(C147))","v":{"$error":"#REF!"}}]

{"sheet":"PASTOREO OVINO Y CAPRINO","index":24,"n_rows":142,"n_cols":44,"rows_kept":142,"cut":false,"hidden":false,"merged":[[7,38,10,38],[4,38,6,38],[8,6,12,6],[16,6,21,6],[29,6,35,6],[24,6,26,6]]}
[]
[]
[null,null,null,null,null,null,null,null,null,null,null,null,null,null,null,null,null,null,null,null,null,null,null,null,null,"ANALISIS FORRAJE",null,null,null,"BASE DATOS FORRAJES VERDES",null,null,null,null,null,null,null,null,"NECESIDADES OVINO"]
[null,null,null,null,null,null,null,null,null,null,null,null,null,null,null,null,null,null,null,null,null,null,null,null,null,"FORAGE","PASTURE GRASS ",null,null,"Description short","DM*","CP*","CF*","UEL","NDF**","UFL","Ash*",null,"BW","MILK","ULO","UFL","UFL/ULO","PDI"]
[null,"INRA 2007",null,null,null,null,null,null,null,null,null,null,null,null,null,null,null,null,null,null,null,null,null,null,null,"MS",0.2,null,null,"Pasto de hierba 1 corte, joven",150,173,200,0.95,507,1,80,null,50,2.5,2.7,2.08,{"$f":"AP5/AO5","v":0.77037037037037037},258]
[null,null,null,null,null,null,null,null,null,null,null,null,null,null,null,null,null,null,null,null,null,null,null,null,null,"%PB",0.1235,null,null,"Pasto de hierba 1 corte, largo",200,125,310,1.1499999999999999,660,0.79,85,null,null,2,2.6,1.86,{"$f":"AP6/AO6","v":0.7153846153846154},229]
["PASTOREO OVINO Y CAPRINO",null,null,null,null,null,{"$f":"A7","v":"PASTOREO OVINO Y CAPRINO"},null,null,null,null,null,null,null,null,null,null,null,null,null,null,null,null,null,null,"%FB",0.27400000000000002,null,null,"Pasto de hierba 2 corte joven",150,187,233,0.95,393,0.95,87,null,null,1.6,2.2999999999999998,1.58,0.68695652173913047,189]
[null,null,null,null,null,null,null,null,null,"RACION vs NEC",null,null,null,null,null,null,null,null,null,null,null,null,null,null,null,"%Cz",0.1,null,null,"Pasto de hierba 2 corte, maduro",200,140,270,1,510,0.87,75,null,70,3,3.3,2.57,0.77878787878787881,142]
[null,null,null,null,null,null,"NECESIDADES","UEL",null,{"$f":"IF(I31=\"\",\"\",(I31-I9)/I9)","v":""},null,null,null,null,null,null,null,null,null,null,null,null,null,null,null,null,null,null,null,"Pasto de hierba, en flor",180,144,272,1,600,0.86,83,null,null,2.5,3.1,2.2599999999999998,0.72903225806451599,312]
[null,null,null,null,null,null,null,"UFL",null,{"$f":"IF(I32=\"\",\"\",(I32-I10)/I10)","v":""},null,null,null,null,null,null,null,null,null,null,null,null,null,null,null,"UEL?",1.1499999999999999,null,null,"Pasto hierba 1 corte, brote buena Q",160,188,200,0.95,406,0.98,100,null,null,2,3,2.0299999999999998,0.67666666666666664,278]
[null,null,null,null,null,null,null,"PDI (gr)",null,{"$f":"IF(I34=\"\",\"\",(I34-I11)/I11)","v":""},null,null,null,null,null,null,null,null,null,null,null,null,null,null,null,"UFL?",0.82,null,null,"Pasto hierba 1 corte, espiga buena Q",180,161,239,0.95,472,0.9,100,null,null,1.6,2.8,1.75,0.625,245]
[null,null,null,null,null,null,null,"Ca (gr)",null,{"$f":"IF(I35=\"\",\"\",(I35-I12)/I12)","v":""},null,null,null,null,null,null,null,null,null,null,null,null,null,null,null,null,null,null,null,"Pasto hierba 1 corte, final flor, buena Q",220,109,314,1.1499999999999999,586,0.76,100]
[null,null,null,null,null,null,null,"P (gr)",null,{"$f":"IF(I36=\"\",\"\",(I36-I13)/I13)","v":""},null,null,null,null,null,null,null,null,null,null,null,null,null,null,null,null,null,null,null,"Pasto hierba 1 corte, hojas buena Q",150,207,167,0.9,353,1.05,100]
[null,null,null,null,null,null,null,null,null,null,null,null,null,null,null,null,null,null,null,null,null,null,null,null,null,null,null,null,null,"Pasto hierba 1 corte, inicio flor, buena Q",200,130,280,1.1499999999999999,535,0.82,100]
[null,null,null,null,null,null,null,null,null,null,null,null,null,null,null,null,null,null,null,null,null,null,null,null,null,null,null,null,null,"Pasto hierba 2 corte, brote buena Q",170,194,200,0.95,400,0.98,106]
[null,null,null,null,null,null,null,null,"FORRAJE","CONCENTRADO",null,null,null,null,null,null,null,null,null,null,null,null,null,null,null,null,null,null,null,"Pasto hierba 2 corte, espiga buena Q",180,172,239,1,456,0.9,106]
[null,null,null,null,null,null,"INGREDIENTES","MS (%)",null,null,null,null,null,null,null,null,null,null,null,null,null,null,null,null,null,null,null,null,null,"Pasto hierba 2 corte, hojas, buenas Q",160,206,162,0.9,362,1.05,106]
[null,null,null,null,null,null,null,"UEL",null,{"$f":"IF(I18=\"\",\"\",((3.35-(2.3*I18))*I18))","v":""},null,null,null,null,null,null,null,null,null,null,null,null,null,null,null,null,null,null,null,"Pasto hierba 2 corte, inicio flor, buena Q",200,155,275,1.1000000000000001,505,0.84,105]
[null,null,null,null,null,null,null,"UFL/Kg MS",null,null,null,null,null,null,null,null,null,null,null,null,null,null,null,null,null,null,null,null,null,"Ray grass 2 corte",160,169,250,1,481,0.9,94]
[null,null,null,null,null,null,null,"PDI (gr/KgMS)",null,null,null,null,null,null,null,null,null,null,null,null,null,null,null,null,null,null,null,null,null,"Ray grass en flor",180,133,283,1.1000000000000001,550,0.82,94]
[null,null,null,null,null,null,null,"Ca (gr/Kg MS)",null,null,null,null,null,null,null,null,null,null,null,null,null,null,null,null,null,null,null,null,null,"Ryegrass (pasto ballico)",140,200,200,0.95,414,1,93]
[null,"UEL",1.05,null,null,null,null,"P (gr/Kg MS)",null,null,null,null,null,null,null,null,null,null,null,null,null,null,null,null,null,null,null,null,null,"Trebol rojo + hierba, en flor",160,150,256,1,581,0.88,88]
[null,"ALTURA ENTRADA",12,null,null,null,null,null,null,null,null,null,null,null,null,null,null,null,null,null,null,null,null,null,null,null,null,null,null,"Trebol rojo + hierba, joven",140,207,186,0.9,450,1.03,93]
[null,"ALTURA SALIDA",6,null,null,null,null,null,"DM basis","FRESH basis",null,null,null,null,null,null,null,null,null,null,null,null,null,null,null,null,null,null,null,"Trebol rojo, en flor",200,160,280,1.1000000000000001,580,0.84,95]
[null,null,null,null,null,null,"RACION","FORRAJE (Kg)",null,{"$f":"IF(I25=\"\",\"\",I25/I17)","v":""},null,null,null,null,null,null,null,null,null,null,null,null,null,null,null,null,null,null,null,"Trebol rojo, joven",140,207,200,0.9,471,1,100]
[null,"Suma de INGESTA MS","Total",null,null,null,null,"PAJA (Kg)",null,{"$f":"IF(I26=\"\",\"\",I26/0.9)","v":""},null,null,null,null,null,null,null,null,null,null,null,null,null,null,null,null,null,null,null,"Alfalfa final floración",210,169,331,1.25,530,0.65500000000000003,91]
[null,"Total",1.7710000000000001,null,null,null,null,"CONCENTRADO (Kg)",null,{"$f":"IF(I27=\"\",\"\",I27/J17)","v":""},null,null,null,null,null,null,null,null,null,null,null,null,null,null,null,null,null,null,null,"Alfalfa inicio floración",200,188,277,1.1499999999999999,485,0.70499999999999996,97]
[null,null,null,null,null,null,null,"MS TOTAL",{"$f":"SUM(I25:I27)","v":0},null,null,null,null,null,null,null,null,null,null,null,null,null,null,null,null,null,null,null,null,"Alfalfa pre-floración",180,216,231,1.1499999999999999,419,0.745,110]
[null,null,null,null,null,null,null,null,null,null,null,null,null,null,null,null,null,null,null,null,null,null,null,null,null,null,null,null,null,"Avena verde en flor",240,116.667,308.33300000000003,1.1499999999999999,475,0.75800000000000001,87.5]
[null,null,null,null,null,null,"COMPOSICION RACION","MS (%)",{"$f":"IF(I17=\"\",\"\",(I25+I26+I27)/(J25+J26+J27))","v":""},null,null,null,null,null,null,null,null,null,null,null,null,null,null,null,null,null,null,null,null,"Avena verde, hojas",170,170.58799999999999,258.82400000000001,0.95,411.76499999999999,0.95299999999999996,88.234999999999999]
[null,null,null,null,null,null,null,"UEL",{"$f":"IF(I18=\"\",\"\",(I18*$I$25)+(J18*$I$27)+(I26*2.2))","v":""},null,null,null,null,null,null,null,null,null,null,null,null,null,null,null,null,null,null,null,null,"Centeno verde",170,170.58799999999999,282.35300000000001,1,441.17599999999999,0.871,100]
[null,null,null,null,null,null,null,"UFL",{"$f":"IF(I19=\"\",\"\",(I19*$I$25)+(J19*$I$27)+(I26*0.35))","v":""},null,null,null,null,null,null,null,null,null,null,null,null,null,null,null,null,null,null,null,null,"Colza de invierno",110,200,209.09100000000001,0.95,400,0.99099999999999999,136.364]
[null,null,null,null,null,null,null,"UFL/UEL",{"$f":"IF(I32=\"\",\"\",I32/I31)","v":""},null,null,null,null,null,null,null,null,null,null,null,null,null,null,null,null,null,null,null,null,"Colza de invierno, Perko, joven",100,220,130,0.9,260,1.08,140]
[null,null,null,null,null,null,null,"PDI (gr)",{"$f":"IF(I20=\"\",\"\",(I20*$I$25)+(J20*$I$27))","v":""},null,null,null,null,null,null,null,null,null,null,null,null,null,null,null,null,null,null,null,null,"Colza de invierno, Perko, madura",130,200,184.61500000000001,0.95,353.846,0.99199999999999999,138.46199999999999]
[null,null,null,null,null,null,null,"Ca (gr)",{"$f":"IF(I21=\"\",\"\",(I21*$I$25)+(J21*$I$27))","v":""},null,null,null,null,null,null,null,null,null,null,null,null,null,null,null,null,null,null,null,null,"Colza de verano joven",120,216.667,125,0.9,250,1.083,141.667]
[null,null,null,null,null,null,null,"P (gr)",{"$f":"IF(I22=\"\",\"\",(I22*$I$25)+(J22*$I$27))","v":""},null,null,null,null,null,null,null,null,null,null,null,null,null,null,null,null,null,null,null,null,"Colza de verano madura",140,207.143,164.286,0.9,307.14299999999997,1.0429999999999999,142.857]
[null,null,null,null,null,null,null,null,null,null,null,null,null,null,null,null,null,null,null,null,null,null,null,null,null,null,null,null,null,"Hierba alfalfa en flor",185,167,282,1.2,491,0.69,98]
[null,null,null,null,null,null,null,null,null,null,null,null,null,null,null,null,null,null,null,null,null,null,null,null,null,null,null,null,null,"Hierba alfalfa, pre-floración",150,200,216,1.1499999999999999,395,0.75600000000000001,105]
[null,null,null,null,null,null,null,null,null,null,null,null,null,null,null,null,null,null,null,null,null,null,null,null,null,null,null,null,null,"Hierba Landsb, media, en flor",190,163.15799999999999,268.42099999999999,1,484.21100000000001,0.84699999999999998,110.526]
[null,null,null,null,null,null,null,null,null,null,null,null,null,null,null,null,null,null,null,null,null,null,null,null,null,null,null,null,null,"Hierba Landsb, pre-floración",170,194.11799999999999,217.64699999999999,0.95,370.58800000000002,0.99399999999999999,111.765]
[null,null,null,null,null,null,null,null,null,null,null,null,null,null,null,null,null,null,null,null,null,null,null,null,null,null,null,null,null,"Hojas de remolacha azucarera",160,150,106.25,0.9,225,1.0309999999999999,162.5]
[null,null,null,null,null,null,null,null,null,null,null,null,null,null,null,null,null,null,null,null,null,null,null,null,null,null,null,null,null,"Hojas de remolacha forrajera",120,141.667,116.667,0.9,258.33300000000003,1.008,166.667]
[null,null,null,null,null,null,null,null,null,null,null,null,null,null,null,null,null,null,null,null,null,null,null,null,null,null,null,null,null,"Maíz verde, lechoso",240,83.332999999999998,229.167,1.1000000000000001,487.5,0.88300000000000001,70.832999999999998]
[null,null,null,null,null,null,null,null,null,null,null,null,null,null,null,null,null,null,null,null,null,null,null,null,null,null,null,null,null,"Maiz verde, pastoso",280,85.713999999999999,235.714,1,475,0.90700000000000003,60.713999999999999]
[null,null,null,null,null,null,null,null,null,null,null,null,null,null,null,null,null,null,null,null,null,null,null,null,null,null,null,null,null,"Mezcla de leguminosas",120,200,241.667,1.1000000000000001,358.33300000000003,0.85099999999999998,91.667000000000002]
[null,null,null,null,null,null,null,null,null,null,null,null,null,null,null,null,null,null,null,null,null,null,null,null,null,null,null,null,null,"Mostaza pre-floración",120,216.667,200,0.95,391.66699999999997,0.99199999999999999,133.333]
[null,null,null,null,null,null,null,null,null,null,null,null,null,null,null,null,null,null,null,null,null,null,null,null,null,null,null,null,null,"Nabo en flor",120,191.667,150,0.9,283.33300000000003,1.0669999999999999,133.333]
[null,null,null,null,null,null,null,null,null,null,null,null,null,null,null,null,null,null,null,null,null,null,null,null,null,null,null,null,null,"Nabo para florecer",110,181.81800000000001,109.09099999999999,0.9,209.09100000000001,1.091,154.54499999999999]
[null,null,null,null,null,null,null,null,null,null,null,null,null,null,null,null,null,null,null,null,null,null,null,null,null,null,null,null,null,"Trebol de Alejandría",125,200,240,0.95,496,0.98399999999999999,120]
[null,null,null,null,null,null,null,null,null,null,null,null,null,null,null,null,null,null,null,null,null,null,null,null,null,null,null,null,null,"Trebol joven",118,237.28800000000001,211.864,0.9,440.678,1.042,110.169]
[null,null,null,null,null,null,null,null,null,null,null,null,null,null,null,null,null,null,null,null,null,null,null,null,null,null,null,null,null,"Trebol maduro",130,192.30799999999999,230.76900000000001,0.9,500,1,100]
[null,null,null,null,null,null,null,null,null,null,null,null,null,null,null,null,null,null,null,null,null,null,null,null,null,null,null,null,null,"Alcachofa (fresco)",112,162,275,1.1499999999999999,458,0.79800000000000004,90]
[]
[]
[]
[]
[]
[]
[]
[]
[]
[]
[]
[]
[]
[]
[]
[]
[]
[]
[]
[]
[]
[]
[]
[]
[]
[]
[]
[]
[]
[]
[]
[]
[]
[]
[]
[]
[]
[]
[]
[]
[]
[]
[]
[]
[]
[]
[]
[]
[]
[]
[]
[]
[]
[]
[]
[]
[]
[]
[]
[]
[]
[]
[]
[]
[]
[]
[]
[]
[]
[]
[]
[]
[]
[]
[]
[]
[]
[]
[]
[]
[]
[]
[]
[]
[]
["I nota cc",null,null,null,null,9.5000000000000001E-2]
["PV metabolico",null,null,null,null,8.8999999999999996E-2]
[null,null,null,null,null,8.1000000000000003E-2]
[null,null,null,null,null,7.4999999999999997E-2]
[null,null,null,null,null,7.4999999999999997E-2]

{"sheet":"EVOLUCION RENTABILIDAD","index":25,"n_rows":192,"n_cols":80,"rows_kept":192,"cut":false,"hidden":false,"merged":[[29,0,33,0],[9,0,10,0],[7,1,7,2],[18,5,19,5],[9,5,13,5],[15,5,16,5],[13,0,20,0],[22,0,27,0]]}
[]
[]
[]
[]
["EVOLUCIÓN RENTABILIDAD",null,null,null,null,"EVOLUCIÓN RENTABILIDAD",null,null,null,null,"EVOLUCIÓN RENTABILIDAD"]
[]
[null,null,null,null,null,null,null,null,null,null,"PARAMETRO 1"]
["GANADERO",null,null,null,null,"PERIODO PUNTUAL",null,null,null,null,"PARAMETRO 2"]
[null,null,null,null,null,null,null,null,null,null,"PARAMETRO 3"]
["DATOS GENERALES","PRODUCCION LECHE",null,null,null,"RESULTADO","COSTE ALIMENTACIÓN",{"$f":"IF($G$8=\"\",\"\",B169)","v":""},null,null,"PARAMETRO 4"]
[null,"PRECIO LECHE",null,null,null,null,"COSTE TOTAL",{"$f":"IF($G$8=\"\",\"\",B170)","v":""}]
[null,null,null,null,null,null,"INGRESOS TOTAL",{"$f":"IF($G$8=\"\",\"\",B171)","v":""}]
[null,null,"POR REP/AÑO",null,null,null,"MARGEN/ANIMAL",{"$f":"IF($G$8=\"\",\"\",B173)","v":""}]
["DESGLOSE COSTOS","ALIMENTACION",null,null,null,null,"%ALIMENTACIÓN",{"$f":"IF($G$8=\"\",\"\",B172)","v":""}]
[null,"MANO DE OBRA"]
[null,"SANITARIOS",null,null,null,"RENTABILIDAD","% RENTABILIDAD",{"$f":"IF($G$8=\"\",\"\",B175)","v":""}]
[null,"AMORTIZACION",null,null,null,null,"ALIMENT.vs INGRESOS",{"$f":"IF($G$8=\"\",\"\",B179)","v":""}]
[null,"ANIMALES"]
[null,"OTROS GASTOS",null,null,null,"UMBRALES RENTABILIDAD","UMBRAL PRODUCCION",{"$f":"IF($G$8=\"\",\"\",B177)","v":""},"LITROS/ANIMAL Y AÑO"]
[null,"OPORTUNIDAD",null,null,null,null,"UMBRAL PRECIO LECHE",{"$f":"IF($G$8=\"\",\"\",B178)","v":""},"EUROS/LITRO"]
[null,"TOTAL GASTOS",{"$f":"IF(C14=\"\",\"\",SUM(C14:C20))","v":""}]
[]
["DESGLOSE INGRESOS","VENTA LECHE",null,{"$f":"IF(C10=\"\",\"\",(C10*C11))","v":""}]
[null,"VENTA GENÉTICA"]
[null,"VENTA CEBO"]
[null,"AYUDAS&SUBVENCIONES"]
[null,"OTROS",null,null,null,null,null,null,null,null,"PARAMETRO 1"]
[null,"TOTAL INGRESOS",{"$f":"IF(C23=\"\",\"\",SUM(C23:C27))","v":""},null,null,null,null,null,null,null,"PARAMETRO 2"]
[null,null,null,null,null,null,null,null,null,null,"PARAMETRO 3"]
["RESULTADO","COSTE ALIMENTACIÓN",{"$f":"IF(C14=\"\",\"\",C14)","v":""},null,null,null,null,null,null,null,"PARAMETRO 4"]
[null,"COSTE TOTAL",{"$f":"IF(C21=\"\",\"\",C21)","v":""}]
[null,"INGRESOS TOTAL",{"$f":"IF(C28=\"\",\"\",C28)","v":""}]
[null,"% ALIMENTACIÓN",{"$f":"IF(C31=\"\",\"\",C30/C31)","v":""}]
[null,"MARGEN/ANIMAL",{"$f":"IF(C28=\"\",\"\",(C28-C21))","v":""}]
[]
["RENTABILIDAD","% RENTABILIDAD",{"$f":"IF(C34=\"\",\"\",(C34/C21))","v":""}]
[]
[]
[]
[]
[]
[]
[]
[]
[]
[]
[]
[]
[]
[]
[]
[]
[]
[]
[]
[]
[]
[]
[]
[]
[]
[]
[]
[]
[]
[]
[]
[]
[]
[]
[]
[]
[]
[]
[]
[]
[]
[]
[]
[]
[]
[]
[]
[]
[]
[]
[]
[]
[]
[]
[]
[]
[]
[]
[]
[]
[]
[]
[]
[]
[]
[]
[]
[]
[]
[]
[]
[]
[]
[]
[]
[]
[1,2,3,4,5,6,7,8,9,10,11,12,13,14,15,16,17,18,19,20,21,22,23,24,25,26,27,28,29,30,31,32,33,34,35,36,37,38,39,40,41,42,43,44,45,46,47,48,49,50]
[null,"SIMULADO","2013-01-01","2013-02-01","2013-03-01","2013-04-01","2013-05-01","2013-06-01","2013-07-01","2013-08-01","2013-09-01","2013-10-01","2013-11-01","2013-12-01","2014-01-01","2014-02-01","2014-03-01","2014-04-01","2014-05-01","2014-06-01","2014-07-01","2014-08-01","2014-09-01","2014-10-01","2014-11-01","2014-12-01","2015-01-01","2015-02-01","2015-03-01","2015-04-01","2015-05-01","2015-06-01","2015-07-01","2015-08-01","2015-09-01","2015-10-01","2015-11-01","2015-12-01","2016-01-01","2016-02-01","2016-03-01","2016-04-01","2016-05-01","2016-06-01","2016-07-01","2016-08-01","2016-09-01","2016-10-01","2016-11-01","2016-12-01"]
["PRODUCCION LECHE",420,390,390,390,390,390,390,390,390,390,null,null,null,null,null,null,null,null,null,null,null,null,null,null,null,null,null,null,null,null,null,null,null,null,null,null,null,null,null,null,null,null,null,null,null,null,null,null,null,null,null,null,null,null,null,null,null,null,null,null,null,null,null,null,null,null,null,null,null,null,null,null,null,null,null,null,null,null,2]
["PRECIO LECHE",0.87,0.87,0.87,0.87,0.87,0.87,0.9,0.9,0.9,0.9,null,null,null,null,null,null,null,null,null,null,null,null,null,null,null,null,null,null,null,null,null,null,null,null,null,null,null,null,null,null,null,null,null,null,null,null,null,null,null,null,null,null,null,null,null,null,null,null,null,null,null,null,null,null,null,null,null,null,null,null,null,null,null,null,null,null,null,null,3]
[null,null,null,null,null,null,null,null,null,null,null,null,null,null,null,null,null,null,null,null,null,null,null,null,null,null,null,null,null,null,null,null,null,null,null,null,null,null,null,null,null,null,null,null,null,null,null,null,null,null,null,null,null,null,null,null,null,null,null,null,null,null,null,null,null,null,null,null,null,null,null,null,null,null,null,null,null,null,null,4]
[null,"POR REP/AÑO",null,null,null,null,null,null,null,null,null,null,null,null,null,null,null,null,null,null,null,null,null,null,null,null,null,null,null,null,null,null,null,null,null,null,null,null,null,null,null,null,null,null,null,null,null,null,null,null,null,null,null,null,null,null,null,null,null,null,null,null,null,null,null,null,null,null,null,null,null,null,null,null,null,null,null,null,null,5]
["ALIMENTACION",290,268.93156303999996,290,285,265,255,268.93156303999996,240,268.93156303999996,290,null,null,null,null,null,null,null,null,null,null,null,null,null,null,null,null,null,null,null,null,null,null,null,null,null,null,null,null,null,null,null,null,null,null,null,null,null,null,null,null,null,null,null,null,null,null,null,null,null,null,null,null,null,null,null,null,null,null,null,null,null,null,null,null,null,null,null,null,6]
["MANO DE OBRA",80,80,80,80,80,80,80,80,80,80,null,null,null,null,null,null,null,null,null,null,null,null,null,null,null,null,null,null,null,null,null,null,null,null,null,null,null,null,null,null,null,null,null,null,null,null,null,null,null,null,null,null,null,null,null,null,null,null,null,null,null,null,null,null,null,null,null,null,null,null,null,null,null,null,null,null,null,null,7]
["SANITARIOS",2.1,2.1,2.1,2.1,2.1,2.1,2.1,2.1,2.1,2.1,null,null,null,null,null,null,null,null,null,null,null,null,null,null,null,null,null,null,null,null,null,null,null,null,null,null,null,null,null,null,null,null,null,null,null,null,null,null,null,null,null,null,null,null,null,null,null,null,null,null,null,null,null,null,null,null,null,null,null,null,null,null,null,null,null,null,null,null,8]
["AMORTIZACION",13.52,13.52,13.52,13.52,13.52,13.52,13.52,13.52,13.52,13.52,null,null,null,null,null,null,null,null,null,null,null,null,null,null,null,null,null,null,null,null,null,null,null,null,null,null,null,null,null,null,null,null,null,null,null,null,null,null,null,null,null,null,null,null,null,null,null,null,null,null,null,null,null,null,null,null,null,null,null,null,null,null,null,null,null,null,null,null,9]
["ANIMALES",1.8,1.8,1.8,1.8,1.8,1.8,1.8,1.8,1.8,1.8,null,null,null,null,null,null,null,null,null,null,null,null,null,null,null,null,null,null,null,null,null,null,null,null,null,null,null,null,null,null,null,null,null,null,null,null,null,null,null,null,null,null,null,null,null,null,null,null,null,null,null,null,null,null,null,null,null,null,null,null,null,null,null,null,null,null,null,null,10]
["OTROS GASTOS",5.5,5.5,5.5,5.5,5.5,5.5,5.5,5.5,5.5,5.5,null,null,null,null,null,null,null,null,null,null,null,null,null,null,null,null,null,null,null,null,null,null,null,null,null,null,null,null,null,null,null,null,null,null,null,null,null,null,null,null,null,null,null,null,null,null,null,null,null,null,null,null,null,null,null,null,null,null,null,null,null,null,null,null,null,null,null,null,11]
["OPORTUNIDAD",12.789473600000001,12.789473600000001,12.789473600000001,12.789473600000001,12.789473600000001,12.789473600000001,12.789473600000001,12.789473600000001,12.789473600000001,12.789473600000001,null,null,null,null,null,null,null,null,null,null,null,null,null,null,null,null,null,null,null,null,null,null,null,null,null,null,null,null,null,null,null,null,null,null,null,null,null,null,null,null,null,null,null,null,null,null,null,null,null,null,null,null,null,null,null,null,null,null,null,null,null,null,null,null,null,null,null,null,12]
["TOTAL GASTOS",405.70947360000002,384.64103663999998,405.70947360000002,400.70947360000002,380.70947360000002,370.70947360000002,384.64103663999998,355.70947360000002,384.64103663999998,405.70947360000002,null,null,null,null,null,null,null,null,null,null,null,null,null,null,null,null,null,null,null,null,null,null,null,null,null,null,null,null,null,null,null,null,null,null,null,null,null,null,null,null,null,null,null,null,null,null,null,null,null,null,null,null,null,null,null,null,null,null,null,null,null,null,null,null,null,null,null,null,13]
[null,null,null,null,null,null,null,null,null,null,null,null,null,null,null,null,null,null,null,null,null,null,null,null,null,null,null,null,null,null,null,null,null,null,null,null,null,null,null,null,null,null,null,null,null,null,null,null,null,null,null,null,null,null,null,null,null,null,null,null,null,null,null,null,null,null,null,null,null,null,null,null,null,null,null,null,null,null,null,14]
["VENTA LECHE",370,351,351,351,351,351,351,351,351,351,null,null,null,null,null,null,null,null,null,null,null,null,null,null,null,null,null,null,null,null,null,null,null,null,null,null,null,null,null,null,null,null,null,null,null,null,null,null,null,null,null,null,null,null,null,null,null,null,null,null,null,null,null,null,null,null,null,null,null,null,null,null,null,null,null,null,null,null,15]
["VENTA GENETICA",3.25,3.25,3.25,3.25,3.25,3.25,3.25,3.25,3.25,3.25,null,null,null,null,null,null,null,null,null,null,null,null,null,null,null,null,null,null,null,null,null,null,null,null,null,null,null,null,null,null,null,null,null,null,null,null,null,null,null,null,null,null,null,null,null,null,null,null,null,null,null,null,null,null,null,null,null,null,null,null,null,null,null,null,null,null,null,null,16]
["VENTA CEBO",50.96808,50.96808,50.96808,50.96808,50.96808,50.96808,50.96808,50.96808,50.96808,50.96808,null,null,null,null,null,null,null,null,null,null,null,null,null,null,null,null,null,null,null,null,null,null,null,null,null,null,null,null,null,null,null,null,null,null,null,null,null,null,null,null,null,null,null,null,null,null,null,null,null,null,null,null,null,null,null,null,null,null,null,null,null,null,null,null,null,null,null,null,17]
["AYUDAS&SUBVENCIONES",10,10,10,10,10,10,10,10,10,10,null,null,null,null,null,null,null,null,null,null,null,null,null,null,null,null,null,null,null,null,null,null,null,null,null,null,null,null,null,null,null,null,null,null,null,null,null,null,null,null,null,null,null,null,null,null,null,null,null,null,null,null,null,null,null,null,null,null,null,null,null,null,null,null,null,null,null,null,18]
["OTROS",2,2,2,2,2,2,2,2,2,2,null,null,null,null,null,null,null,null,null,null,null,null,null,null,null,null,null,null,null,null,null,null,null,null,null,null,null,null,null,null,null,null,null,null,null,null,null,null,null,null,null,null,null,null,null,null,null,null,null,null,null,null,null,null,null,null,null,null,null,null,null,null,null,null,null,null,null,null,19]
["TOTAL INGRESOS",436.21807999999999,417.21807999999999,417.21807999999999,417.21807999999999,417.21807999999999,417.21807999999999,417.21807999999999,417.21807999999999,417.21807999999999,417.21807999999999,null,null,null,null,null,null,null,null,null,null,null,null,null,null,null,null,null,null,null,null,null,null,null,null,null,null,null,null,null,null,null,null,null,null,null,null,null,null,null,null,null,null,null,null,null,null,null,null,null,null,null,null,null,null,null,null,null,null,null,null,null,null,null,null,null,null,null,null,20]
[null,null,null,null,null,null,null,null,null,null,null,null,null,null,null,null,null,null,null,null,null,null,null,null,null,null,null,null,null,null,null,null,null,null,null,null,null,null,null,null,null,null,null,null,null,null,null,null,null,null,null,null,null,null,null,null,null,null,null,null,null,null,null,null,null,null,null,null,null,null,null,null,null,null,null,null,null,null,null,21]
["COSTE ALIMENTACION",290,268.93156303999996,290,285,265,255,268.93156303999996,240,268.93156303999996,290,null,null,null,null,null,null,null,null,null,null,null,null,null,null,null,null,null,null,null,null,null,null,null,null,null,null,null,null,null,null,null,null,null,null,null,null,null,null,null,null,null,null,null,null,null,null,null,null,null,null,null,null,null,null,null,null,null,null,null,null,null,null,null,null,null,null,null,null,22]
["COSTE TOTAL",405.70947360000002,384.64103663999998,405.70947360000002,400.70947360000002,380.70947360000002,370.70947360000002,384.64103663999998,355.70947360000002,384.64103663999998,405.70947360000002,null,null,null,null,null,null,null,null,null,null,null,null,null,null,null,null,null,null,null,null,null,null,null,null,null,null,null,null,null,null,null,null,null,null,null,null,null,null,null,null,null,null,null,null,null,null,null,null,null,null,null,null,null,null,null,null,null,null,null,null,null,null,null,null,null,null,null,null,23]
["INGRESOS TOTAL",436.21807999999999,417.21807999999999,417.21807999999999,417.21807999999999,417.21807999999999,417.21807999999999,417.21807999999999,417.21807999999999,417.21807999999999,417.21807999999999,null,null,null,null,null,null,null,null,null,null,null,null,null,null,null,null,null,null,null,null,null,null,null,null,null,null,null,null,null,null,null,null,null,null,null,null,null,null,null,null,null,null,null,null,null,null,null,null,null,null,null,null,null,null,null,null,null,null,null,null,null,null,null,null,null,null,null,null,24]
["% ALIMENTACION",0.71479721049333655,0.69917543221396605,0.71479721049333655,0.71123848767422804,0.69606883562458322,0.68787020068213323,0.69917543221396605,0.67470792265117785,0.69917543221396605,0.71479721049333655,null,null,null,null,null,null,null,null,null,null,null,null,null,null,null,null,null,null,null,null,null,null,null,null,null,null,null,null,null,null,null,null,null,null,null,null,null,null,null,null,null,null,null,null,null,null,null,null,null,null,null,null,null,null,null,null,null,null,null,null,null,null,null,null,null,null,null,null,25]
["MARGEN/ANIMAL",30.508606399999962,32.577043360000005,11.508606399999962,16.508606399999962,36.508606399999962,46.508606399999962,32.577043360000005,61.508606399999962,32.577043360000005,11.508606399999962,null,null,null,null,null,null,null,null,null,null,null,null,null,null,null,null,null,null,null,null,null,null,null,null,null,null,null,null,null,null,null,null,null,null,null,null,null,null,null,null,null,null,null,null,null,null,null,null,null,null,null,null,null,null,null,null,null,null,null,null,null,null,null,null,null,null,null,null,26]
[null,null,null,null,null,null,null,null,null,null,null,null,null,null,null,null,null,null,null,null,null,null,null,null,null,null,null,null,null,null,null,null,null,null,null,null,null,null,null,null,null,null,null,null,null,null,null,null,null,null,null,null,null,null,null,null,null,null,null,null,null,null,null,null,null,null,null,null,null,null,null,null,null,null,null,null,null,null,null,27]
["% RENTABILIDAD",7.5198161209514239E-2,8.4694664003024944E-2,2.83666198323646E-2,4.119844298085984E-2,9.5896238291034636E-2,0.12545837026593851,8.4694664003024944E-2,0.17291810020547049,8.4694664003024944E-2,2.83666198323646E-2,null,null,null,null,null,null,null,null,null,null,null,null,null,null,null,null,null,null,null,null,null,null,null,null,null,null,null,null,null,null,null,null,null,null,null,null,null,null,null,null,null,null,null,null,null,null,null,null,null,null,null,null,null,null,null,null,null,null,null,null,null,null,null,null,null,null,null,null,28]
[null,null,null,null,null,null,null,null,null,null,null,null,null,null,null,null,null,null,null,null,null,null,null,null,null,null,null,null,null,null,null,null,null,null,null,null,null,null,null,null,null,null,null,null,null,null,null,null,null,null,null,null,null,null,null,null,null,null,null,null,null,null,null,null,null,null,null,null,null,null,null,null,null,null,null,null,null,null,null,29]
["UMBRAL PRODUC",{"$f":"IF(B116=\"\",\"\",(B126-B132-B131-B130-B129)/B116)","v":390.21999264367821},{"$f":"IF(C116=\"\",\"\",(C126-C132-C131-C130-C129)/C116)","v":366.00339843678159},390.21999264367821,384.47286620689658,361.48436045977019,349.99010758620693,353.80328515555556,321.65710400000006,353.80328515555556,377.2126595555556,"",{"$f":"IF(M116=\"\",\"\",(M126-M132-M131-M130-M129)/M116)","v":""},"","","","","","","","","","","","","",{"$f":"IF(AA116=\"\",\"\",(AA126-AA132-AA131-AA130-AA129)/AA116)","v":""},"","","","","","","","","","","","","","","","","","","","","","","",null,null,null,null,null,null,null,null,null,null,null,null,null,null,null,null,null,null,null,null,null,null,null,null,null,null,null,null,null,30]
["UMBRAL PRECIO",{"$f":"IF(B115=\"\",\"\",(B126-B132-B131-B130-B129)/B115)","v":0.80831284190476205},{"$f":"IF(C115=\"\",\"\",(C126-C132-C131-C130-C129)/C115)","v":0.81646911958974355},0.87049075282051291,0.85767024000000014,0.80638818871794882,0.78074716307692316,0.81646911958974355,0.74228562461538472,0.81646911958974355,0.87049075282051291,"",{"$f":"IF(M115=\"\",\"\",(M126-M132-M131-M130-M129)/M115)","v":""},"","","","","","","","","","","","","",{"$f":"IF(AA115=\"\",\"\",(AA126-AA132-AA131-AA130-AA129)/AA115)","v":""},"","","","","","","","","","","","","","","","","","","","","","","",null,null,null,null,null,null,null,null,null,null,null,null,null,null,null,null,null,null,null,null,null,null,null,null,null,null,null,null,null,31]
["ALIMN VS INGRESOS (%)",{"$f":"IF(B133=\"\",\"\",(B119/B128))","v":0.78378378378378377},{"$f":"IF(C133=\"\",\"\",(C119/C128))","v":0.76618678928774919},0.8262108262108262,0.81196581196581197,0.75498575498575493,0.72649572649572647,0.76618678928774919,0.68376068376068377,0.76618678928774919,0.8262108262108262,"","","","","","","","","","","","","","","","","","","","","","","","","","","","","","","","","","","","","","","",null,null,null,null,null,null,null,null,null,null,null,null,null,null,null,null,null,null,null,null,null,null,null,null,null,null,null,null,null,32]
[null,null,null,null,null,null,null,null,null,null,null,null,null,null,null,null,null,null,null,null,null,null,null,null,null,null,null,null,null,null,null,null,null,null,null,null,null,null,null,null,null,null,null,null,null,null,null,null,null,null,null,null,null,null,null,null,null,null,null,null,null,null,null,null,null,null,null,null,null,null,null,null,null,null,null,null,null,null,null,33]
[null,null,null,null,null,null,null,null,null,null,null,null,null,null,null,null,null,null,null,null,null,null,null,null,null,null,null,null,null,null,null,null,null,null,null,null,null,null,null,null,null,null,null,null,null,null,null,null,null,null,null,null,null,null,null,null,null,null,null,null,null,null,null,null,null,null,null,null,null,null,null,null,null,null,null,null,null,null,null,34]
[null,"SIMULACION",null,null,null,null,null,null,null,null,null,null,null,null,null,null,null,null,null,null,null,null,null,null,null,null,null,null,null,null,null,null,null,null,null,null,null,null,null,null,null,null,null,null,null,null,null,null,null,null,null,null,null,null,null,null,null,null,null,null,null,null,null,null,null,null,null,null,null,null,null,null,null,null,null,null,null,null,null,35]
["PRODUCCION LECHE",{"$f":"IF($G$8=\"\",\"\",HLOOKUP($G$8,$B$114:$BV$145,CB115,FALSE))","v":""},null,null,null,null,null,null,null,null,null,null,null,null,null,null,null,null,null,null,null,null,null,null,null,null,null,null,null,null,null,null,null,null,null,null,null,null,null,null,null,null,null,null,null,null,null,null,null,null,null,null,null,null,null,null,null,null,null,null,null,null,null,null,null,null,null,null,null,null,null,null,null,null,null,null,null,null,null,36]
["PRECIO LECHE",{"$f":"IF($G$8=\"\",\"\",HLOOKUP($G$8,$B$114:$BV$145,CB116,FALSE))","v":""},null,null,null,null,null,null,null,null,null,null,null,null,null,null,null,null,null,null,null,null,null,null,null,null,null,null,null,null,null,null,null,null,null,null,null,null,null,null,null,null,null,null,null,null,null,null,null,null,null,null,null,null,null,null,null,null,null,null,null,null,null,null,null,null,null,null,null,null,null,null,null,null,null,null,null,null,null,37]
[null,"",null,null,null,null,null,null,null,null,null,null,null,null,null,null,null,null,null,null,null,null,null,null,null,null,null,null,null,null,null,null,null,null,null,null,null,null,null,null,null,null,null,null,null,null,null,null,null,null,null,null,null,null,null,null,null,null,null,null,null,null,null,null,null,null,null,null,null,null,null,null,null,null,null,null,null,null,null,38]
[null,"",null,null,null,null,null,null,null,null,null,null,null,null,null,null,null,null,null,null,null,null,null,null,null,null,null,null,null,null,null,null,null,null,null,null,null,null,null,null,null,null,null,null,null,null,null,null,null,null,null,null,null,null,null,null,null,null,null,null,null,null,null,null,null,null,null,null,null,null,null,null,null,null,null,null,null,null,null,39]
["ALIMENTACION","",null,null,null,null,null,null,null,null,null,null,null,null,null,null,null,null,null,null,null,null,null,null,null,null,null,null,null,null,null,null,null,null,null,null,null,null,null,null,null,null,null,null,null,null,null,null,null,null,null,null,null,null,null,null,null,null,null,null,null,null,null,null,null,null,null,null,null,null,null,null,null,null,null,null,null,null,null,40]
["MANO DE OBRA","",null,null,null,null,null,null,null,null,null,null,null,null,null,null,null,null,null,null,null,null,null,null,null,null,null,null,null,null,null,null,null,null,null,null,null,null,null,null,null,null,null,null,null,null,null,null,null,null,null,null,null,null,null,null,null,null,null,null,null,null,null,null,null,null,null,null,null,null,null,null,null,null,null,null,null,null,null,41]
["SANITARIOS","",null,null,null,null,null,null,null,null,null,null,null,null,null,null,null,null,null,null,null,null,null,null,null,null,null,null,null,null,null,null,null,null,null,null,null,null,null,null,null,null,null,null,null,null,null,null,null,null,null,null,null,null,null,null,null,null,null,null,null,null,null,null,null,null,null,null,null,null,null,null,null,null,null,null,null,null,null,42]
["AMORTIZACION","",null,null,null,null,null,null,null,null,null,null,null,null,null,null,null,null,null,null,null,null,null,null,null,null,null,null,null,null,null,null,null,null,null,null,null,null,null,null,null,null,null,null,null,null,null,null,null,null,null,null,null,null,null,null,null,null,null,null,null,null,null,null,null,null,null,null,null,null,null,null,null,null,null,null,null,null,null,43]
["ANIMALES","",null,null,null,null,null,null,null,null,null,null,null,null,null,null,null,null,null,null,null,null,null,null,null,null,null,null,null,null,null,null,null,null,null,null,null,null,null,null,null,null,null,null,null,null,null,null,null,null,null,null,null,null,null,null,null,null,null,null,null,null,null,null,null,null,null,null,null,null,null,null,null,null,null,null,null,null,null,44]
["OTROS GASTOS","",null,null,null,null,null,null,null,null,null,null,null,null,null,null,null,null,null,null,null,null,null,null,null,null,null,null,null,null,null,null,null,null,null,null,null,null,null,null,null,null,null,null,null,null,null,null,null,null,null,null,null,null,null,null,null,null,null,null,null,null,null,null,null,null,null,null,null,null,null,null,null,null,null,null,null,null,null,45]
["OPORTUNIDAD","",null,null,null,null,null,null,null,null,null,null,null,null,null,null,null,null,null,null,null,null,null,null,null,null,null,null,null,null,null,null,null,null,null,null,null,null,null,null,null,null,null,null,null,null,null,null,null,null,null,null,null,null,null,null,null,null,null,null,null,null,null,null,null,null,null,null,null,null,null,null,null,null,null,null,null,null,null,46]
["TOTAL GASTOS","",null,null,null,null,null,null,null,null,null,null,null,null,null,null,null,null,null,null,null,null,null,null,null,null,null,null,null,null,null,null,null,null,null,null,null,null,null,null,null,null,null,null,null,null,null,null,null,null,null,null,null,null,null,null,null,null,null,null,null,null,null,null,null,null,null,null,null,null,null,null,null,null,null,null,null,null,null,47]
[null,"",null,null,null,null,null,null,null,null,null,null,null,null,null,null,null,null,null,null,null,null,null,null,null,null,null,null,null,null,null,null,null,null,null,null,null,null,null,null,null,null,null,null,null,null,null,null,null,null,null,null,null,null,null,null,null,null,null,null,null,null,null,null,null,null,null,null,null,null,null,null,null,null,null,null,null,null,null,48]
["VENTA LECHE","",null,null,null,null,null,null,null,null,null,null,null,null,null,null,null,null,null,null,null,null,null,null,null,null,null,null,null,null,null,null,null,null,null,null,null,null,null,null,null,null,null,null,null,null,null,null,null,null,null,null,null,null,null,null,null,null,null,null,null,null,null,null,null,null,null,null,null,null,null,null,null,null,null,null,null,null,null,49]
["VENTA GENETICA","",null,null,null,null,null,null,null,null,null,null,null,null,null,null,null,null,null,null,null,null,null,null,null,null,null,null,null,null,null,null,null,null,null,null,null,null,null,null,null,null,null,null,null,null,null,null,null,null,null,null,null,null,null,null,null,null,null,null,null,null,null,null,null,null,null,null,null,null,null,null,null,null,null,null,null,null,null,50]
["VENTA CEBO","",null,null,null,null,null,null,null,null,null,null,null,null,null,null,null,null,null,null,null,null,null,null,null,null,null,null,null,null,null,null,null,null,null,null,null,null,null,null,null,null,null,null,null,null,null,null,null,null,null,null,null,null,null,null,null,null,null,null,null,null,null,null,null,null,null,null,null,null,null,null,null,null,null,null,null,null,null,51]
["AYUDAS&SUBVENCIONES","",null,null,null,null,null,null,null,null,null,null,null,null,null,null,null,null,null,null,null,null,null,null,null,null,null,null,null,null,null,null,null,null,null,null,null,null,null,null,null,null,null,null,null,null,null,null,null,null,null,null,null,null,null,null,null,null,null,null,null,null,null,null,null,null,null,null,null,null,null,null,null,null,null,null,null,null,null,52]
["OTROS","",null,null,null,null,null,null,null,null,null,null,null,null,null,null,null,null,null,null,null,null,null,null,null,null,null,null,null,null,null,null,null,null,null,null,null,null,null,null,null,null,null,null,null,null,null,null,null,null,null,null,null,null,null,null,null,null,null,null,null,null,null,null,null,null,null,null,null,null,null,null,null,null,null,null,null,null,null,53]
["TOTAL INGRESOS","",null,null,null,null,null,null,null,null,null,null,null,null,null,null,null,null,null,null,null,null,null,null,null,null,null,null,null,null,null,null,null,null,null,null,null,null,null,null,null,null,null,null,null,null,null,null,null,null,null,null,null,null,null,null,null,null,null,null,null,null,null,null,null,null,null,null,null,null,null,null,null,null,null,null,null,null,null,54]
[null,"",null,null,null,null,null,null,null,null,null,null,null,null,null,null,null,null,null,null,null,null,null,null,null,null,null,null,null,null,null,null,null,null,null,null,null,null,null,null,null,null,null,null,null,null,null,null,null,null,null,null,null,null,null,null,null,null,null,null,null,null,null,null,null,null,null,null,null,null,null,null,null,null,null,null,null,null,null,55]
["COSTE ALIMENTACION","",null,null,null,null,null,null,null,null,null,null,null,null,null,null,null,null,null,null,null,null,null,null,null,null,null,null,null,null,null,null,null,null,null,null,null,null,null,null,null,null,null,null,null,null,null,null,null,null,null,null,null,null,null,null,null,null,null,null,null,null,null,null,null,null,null,null,null,null,null,null,null,null,null,null,null,null,null,56]
["COSTE TOTAL","",null,null,null,null,null,null,null,null,null,null,null,null,null,null,null,null,null,null,null,null,null,null,null,null,null,null,null,null,null,null,null,null,null,null,null,null,null,null,null,null,null,null,null,null,null,null,null,null,null,null,null,null,null,null,null,null,null,null,null,null,null,null,null,null,null,null,null,null,null,null,null,null,null,null,null,null,null,57]
["INGRESOS TOTAL",""]
["% ALIMENTACION",""]
["MARGEN/ANIMAL",""]
[null,""]
["% RENTABILIDAD",""]
[null,""]
["UMBRAL PRODUC",""]
["UMBRAL PRECIO",""]
["ALIMN VS INGRESOS (%)",""]
[]
[]
["GRAFICO 1"]
[{"$f":"IF(L7=\"\",\"\",L7)","v":""},{"$f":"IF($A$183=\"\",\"\",IF(C119=\"\",\"\",VLOOKUP($A$183,$A$115:$AX$146,C113,FALSE)))","v":""},{"$f":"IF($A$183=\"\",\"\",IF(D119=\"\",\"\",VLOOKUP($A$183,$A$115:$AX$146,D113,FALSE)))","v":""},{"$f":"IF($A$183=\"\",\"\",IF(E119=\"\",\"\",VLOOKUP($A$183,$A$115:$AX$146,E113,FALSE)))","v":""},"","","","","","","","","",{"$f":"IF($A$183=\"\",\"\",IF(O119=\"\",\"\",VLOOKUP($A$183,$A$115:$AX$146,O113,FALSE)))","v":""},"","","","","","","","","","","","","","","","","","","","","","","","","","","","","","","","","","","",""]
[{"$f":"IF(L8=\"\",\"\",L8)","v":""},{"$f":"IF($A$184=\"\",\"\",IF(C119=\"\",\"\",VLOOKUP($A$184,$A$115:$AX$146,C113,FALSE)))","v":""},{"$f":"IF($A$184=\"\",\"\",IF(D119=\"\",\"\",VLOOKUP($A$184,$A$115:$AX$146,D113,FALSE)))","v":""},{"$f":"IF($A$184=\"\",\"\",IF(E119=\"\",\"\",VLOOKUP($A$184,$A$115:$AX$146,E113,FALSE)))","v":""},"","","","","","","","","",{"$f":"IF($A$184=\"\",\"\",IF(O119=\"\",\"\",VLOOKUP($A$184,$A$115:$AX$146,O113,FALSE)))","v":""},"","","","","","","","","","","","","","","","","","","","","","","","","","","","","","","","","","","",""]
["",{"$f":"IF($A$185=\"\",\"\",IF(C119=\"\",\"\",VLOOKUP($A$185,$A$115:$AX$146,C113,FALSE)))","v":""},{"$f":"IF($A$185=\"\",\"\",IF(D119=\"\",\"\",VLOOKUP($A$185,$A$115:$AX$146,D113,FALSE)))","v":""},{"$f":"IF($A$185=\"\",\"\",IF(E119=\"\",\"\",VLOOKUP($A$185,$A$115:$AX$146,E113,FALSE)))","v":""},"","","","","","","","","",{"$f":"IF($A$185=\"\",\"\",IF(O119=\"\",\"\",VLOOKUP($A$185,$A$115:$AX$146,O113,FALSE)))","v":""},"","","","","","","","","","","","","","","","","","","","","","","","","","","","","","","","","","","",""]
["",{"$f":"IF($A$186=\"\",\"\",IF(C119=\"\",\"\",VLOOKUP($A$186,$A$115:$AX$146,C113,FALSE)))","v":""},{"$f":"IF($A$186=\"\",\"\",IF(D119=\"\",\"\",VLOOKUP($A$186,$A$115:$AX$146,D113,FALSE)))","v":""},{"$f":"IF($A$186=\"\",\"\",IF(E119=\"\",\"\",VLOOKUP($A$186,$A$115:$AX$146,E113,FALSE)))","v":""},"","","","","","","","","",{"$f":"IF($A$186=\"\",\"\",IF(O119=\"\",\"\",VLOOKUP($A$186,$A$115:$AX$146,O113,FALSE)))","v":""},"","","","","","","","","","","","","","","","","","","","","","","","","","","","","","","","","","","",""]
[]
["GRAFICO 2"]
[{"$f":"IF(L27=\"\",\"\",L27)","v":""},{"$f":"IF($A$189=\"\",\"\",IF(C135=\"\",\"\",VLOOKUP($A$189,$A$115:$AX$146,C113,FALSE)))","v":""},{"$f":"IF($A$189=\"\",\"\",IF(D135=\"\",\"\",VLOOKUP($A$189,$A$115:$AX$146,D113,FALSE)))","v":""},"","","","","","","",{"$f":"IF($A$189=\"\",\"\",IF(L135=\"\",\"\",VLOOKUP($A$189,$A$115:$AX$146,L113,FALSE)))","v":""},{"$f":"IF($A$189=\"\",\"\",IF(M135=\"\",\"\",VLOOKUP($A$189,$A$115:$AX$146,M113,FALSE)))","v":""},"","","","","","","","","","","","","","","","","","","","","","","","","","","","","","","","","","","","","",""]
[{"$f":"IF(L28=\"\",\"\",L28)","v":""},{"$f":"IF($A$190=\"\",\"\",IF(C135=\"\",\"\",VLOOKUP($A$190,$A$115:$AX$146,C113,FALSE)))","v":""},{"$f":"IF($A$190=\"\",\"\",IF(D135=\"\",\"\",VLOOKUP($A$190,$A$115:$AX$146,D113,FALSE)))","v":""},"","","","","","","",{"$f":"IF($A$190=\"\",\"\",IF(L135=\"\",\"\",VLOOKUP($A$190,$A$115:$AX$146,L113,FALSE)))","v":""},{"$f":"IF($A$190=\"\",\"\",IF(M135=\"\",\"\",VLOOKUP($A$190,$A$115:$AX$146,M113,FALSE)))","v":""},"","","","","","","","","","","","","","","","","","","","","","","","","","","","","","","","","","","","","",""]
["",{"$f":"IF($A$191=\"\",\"\",IF(C135=\"\",\"\",VLOOKUP($A$191,$A$115:$AX$146,C113,FALSE)))","v":""},{"$f":"IF($A$191=\"\",\"\",IF(D135=\"\",\"\",VLOOKUP($A$191,$A$115:$AX$146,D113,FALSE)))","v":""},"","","","","","","",{"$f":"IF($A$191=\"\",\"\",IF(L135=\"\",\"\",VLOOKUP($A$191,$A$115:$AX$146,L113,FALSE)))","v":""},{"$f":"IF($A$191=\"\",\"\",IF(M135=\"\",\"\",VLOOKUP($A$191,$A$115:$AX$146,M113,FALSE)))","v":""},"","","","","","","","","","","","","","","","","","","","","","","","","","","","","","","","","","","","","",""]
["",{"$f":"IF($A$192=\"\",\"\",IF(C135=\"\",\"\",VLOOKUP($A$192,$A$115:$AX$146,C113,FALSE)))","v":""},{"$f":"IF($A$192=\"\",\"\",IF(D135=\"\",\"\",VLOOKUP($A$192,$A$115:$AX$146,D113,FALSE)))","v":""},"","","","","","","",{"$f":"IF($A$192=\"\",\"\",IF(L135=\"\",\"\",VLOOKUP($A$192,$A$115:$AX$146,L113,FALSE)))","v":""},{"$f":"IF($A$192=\"\",\"\",IF(M135=\"\",\"\",VLOOKUP($A$192,$A$115:$AX$146,M113,FALSE)))","v":""},"","","","","","","","","","","","","","","","","","","","","","","","","","","","","","","","","","","","","",""]

{"sheet":"CUENTA EXPLOTACION(RES)","index":26,"n_rows":39,"n_cols":16,"rows_kept":39,"cut":false,"hidden":false,"merged":[[35,0,38,0],[8,0,10,0],[12,0,16,0],[20,0,24,0],[26,0,28,0],[30,0,31,0],[5,1,5,2],[29,8,29,9],[17,12,22,12],[5,13,5,14],[5,7,5,8],[9,6,17,6],[19,6,24,6],[26,6,29,6]]}
[]
[]
["CUENTA DE EXPLOTACIÓN (RESULTADO)"]
[null,null,null,null,null,null,"CUENTA DE EXPLOTACIÓN (RESULTADO)",null,null,null,null,null,"CUENTA DE EXPLOTACIÓN (RESULTADO)"]
[]
["GANADERO",{"$f":"IF('CUENTA EXPLOTACION(ID)'!B8:C8=\"\",\"\",'CUENTA EXPLOTACION(ID)'!B8:C8)","v":""},null,null,null,null,"GANADERO",{"$f":"IF(B6=\"\",\"\",B6)","v":""},null,null,null,null,"GANADERO",{"$f":"IF(B6=\"\",\"\",B6)","v":""}]
[]
[null,null,"TOTAL","POR REP/AÑO",null,null,null,null,null,null,null,null,"COSTES POR LITRO","ALIMENTACIÓN",{"$f":"IF(J10=\"\",\"\",J10/'CUENTA EXPLOTACION(ID)'!$O$22)","v":""}]
["RESULTADOS PRODUCTIVOS","LITROS PRODUCIDOS",{"$f":"IF('CUENTA EXPLOTACION(ID)'!N22=\"\",\"\",'CUENTA EXPLOTACION(ID)'!N22)","v":""},{"$f":"IF(C9=\"\",\"\",C9/'CUENTA EXPLOTACION(ID)'!$C$12)","v":""},null,null,null,null,"TOTAL","POR REP/AÑO","% IMPORTANCIA",null,null,"MANO DE OBRA",{"$f":"IF(J11=\"\",\"\",J11/'CUENTA EXPLOTACION(ID)'!$O$22)","v":""}]
[null,"VENDIDOS GENETICA",{"$f":"IF('CUENTA EXPLOTACION(ID)'!N28=\"\",\"\",'CUENTA EXPLOTACION(ID)'!N26+'CUENTA EXPLOTACION(ID)'!N28)","v":""},{"$f":"IF(C10=\"\",\"\",C10/'CUENTA EXPLOTACION(ID)'!$C$12)","v":""},null,null,"DESGLOSE COSTOS","ALIMENTACIÓN",{"$f":"IF(C13=\"\",\"\",SUM(C13:C17))","v":""},{"$f":"IF(I10=\"\",\"\",I10/'CUENTA EXPLOTACION(ID)'!$C$12)","v":""},{"$f":"IF(I10=\"\",\"\",I10/$I$18)","v":""},null,null,"SANITARIOS",{"$f":"IF(J12=\"\",\"\",J12/'CUENTA EXPLOTACION(ID)'!$O$22)","v":""}]
[null,"VENDIDOS CEBO",{"$f":"IF('CUENTA EXPLOTACION(ID)'!N23=\"\",\"\",'ENLACES DATOS'!B1161+'ENLACES DATOS'!B1162)","v":""},{"$f":"IF(C11=\"\",\"\",C11/'CUENTA EXPLOTACION(ID)'!$C$12)","v":""},null,null,null,"MANO DE OBRA",{"$f":"IF(C19=\"\",\"\",C19)","v":""},{"$f":"IF(I11=\"\",\"\",I11/'CUENTA EXPLOTACION(ID)'!$C$12)","v":""},"",null,null,"AMORTIZACIÓN",{"$f":"IF(J13=\"\",\"\",J13/'CUENTA EXPLOTACION(ID)'!$O$22)","v":""}]
[null,null,null,null,null,null,null,"SANITARIOS",{"$f":"IF(C21=\"\",\"\",SUM(C21:C25))","v":""},{"$f":"IF(I12=\"\",\"\",I12/'CUENTA EXPLOTACION(ID)'!$C$12)","v":""},"",null,null,"PROGRAMA GENETICO",{"$f":"IF(J14=\"\",\"\",J14/'CUENTA EXPLOTACION(ID)'!$O$22)","v":""}]
["COSTES ALIMENTACIÓN","ORDEÑO",{"$f":"IF('ENLACES DATOS'!B1192=\"\",\"\",'ENLACES DATOS'!B1192)","v":""},{"$f":"IF(C13=\"\",\"\",C13/'CUENTA EXPLOTACION(ID)'!$C$12)","v":""},null,null,null,"AMORTIZACIÓN",{"$f":"IF(C27=\"\",\"\",SUM(C27:C29))","v":""},{"$f":"IF(I13=\"\",\"\",I13/'CUENTA EXPLOTACION(ID)'!$C$12)","v":""},"",null,null,"ANIMALES",{"$f":"IF(J15=\"\",\"\",J15/'CUENTA EXPLOTACION(ID)'!$O$22)","v":""}]
[null,"PREPARTO",{"$f":"IF('ENLACES DATOS'!B1193=\"\",\"\",'ENLACES DATOS'!B1193)","v":""},{"$f":"IF(C14=\"\",\"\",C14/'CUENTA EXPLOTACION(ID)'!$C$12)","v":""},null,null,null,"PROGRAMA GENETICO",{"$f":"IF(C34=\"\",\"\",C34)","v":""},{"$f":"IF(I14=\"\",\"\",I14/'CUENTA EXPLOTACION(ID)'!$C$12)","v":""},"",null,null,"OTROS GASTOS",{"$f":"IF(J16=\"\",\"\",J16/'CUENTA EXPLOTACION(ID)'!$O$22)","v":""}]
[null,"MANTENIMIENTO",{"$f":"IF('ENLACES DATOS'!B1194=\"\",\"\",'ENLACES DATOS'!B1194)","v":""},{"$f":"IF(C15=\"\",\"\",C15/'CUENTA EXPLOTACION(ID)'!$C$12)","v":""},null,null,null,"ANIMALES",{"$f":"IF(C31=\"\",\"\",SUM(C31:C32))","v":""},{"$f":"IF(I15=\"\",\"\",I15/'CUENTA EXPLOTACION(ID)'!$C$12)","v":""},"",null,null,"OPORTUNIDAD",{"$f":"IF(J17=\"\",\"\",J17/'CUENTA EXPLOTACION(ID)'!$O$22)","v":""}]
[null,"RECRIA",{"$f":"IF('ENLACES DATOS'!B1195=\"\",\"\",'ENLACES DATOS'!B1195)","v":""},{"$f":"IF(C16=\"\",\"\",C16/'CUENTA EXPLOTACION(ID)'!$C$12)","v":""},null,null,null,"OTROS GASTOS",{"$f":"IF(C36=\"\",\"\",SUM(C36:C39))","v":""},{"$f":"IF(I16=\"\",\"\",I16/'CUENTA EXPLOTACION(ID)'!$C$12)","v":""},"",null,null,"TOTAL GASTOS",{"$f":"IF(J18=\"\",\"\",J18/'CUENTA EXPLOTACION(ID)'!$O$22)","v":""}]
[null,"CEBO",{"$f":"IF('ENLACES DATOS'!B1196=\"\",\"\",'ENLACES DATOS'!B1196)","v":""},{"$f":"IF(C17=\"\",\"\",C17/'CUENTA EXPLOTACION(ID)'!$C$12)","v":""},null,null,null,"OPORTUNIDAD",{"$f":"IF('ENLACES DATOS'!B1217=0,\"\",('ENLACES DATOS'!B1217))","v":""},{"$f":"IF(I17=\"\",\"\",I17/'CUENTA EXPLOTACION(ID)'!$C$12)","v":""},""]
[null,null,null,null,null,null,null,"TOTAL GASTOS",{"$f":"IF(I10=\"\",\"\",SUM(I10:I17))","v":""},{"$f":"IF(I18=\"\",\"\",I18/'CUENTA EXPLOTACION(ID)'!$C$12)","v":""},"",null,"RESUMEN","PRODUCCIÓN TOTAL",{"$f":"IF('CUENTA EXPLOTACION(ID)'!N22=\"\",\"\",'CUENTA EXPLOTACION(ID)'!N22)","v":""},"SIMULAR"]
["MANO DE OBRA","COSTE TOTAL",{"$f":"IF('CUENTA EXPLOTACION(ID)'!C35=\"\",\"\",'CUENTA EXPLOTACION(ID)'!C35)","v":""},{"$f":"IF(C19=\"\",\"\",C19/'CUENTA EXPLOTACION(ID)'!$C$12)","v":""},null,null,null,null,null,null,null,null,null,"PRECIO LITRO",{"$f":"IF('CUENTA EXPLOTACION(ID)'!N21=\"\",\"\",'CUENTA EXPLOTACION(ID)'!N21)","v":""}]
[null,null,null,null,null,null,"DESGLOSE INGRESOS","VENTA LECHE",{"$f":"IF('CUENTA EXPLOTACION(ID)'!N22=\"\",\"\",'CUENTA EXPLOTACION(ID)'!N21*'CUENTA EXPLOTACION(ID)'!N22)","v":""},{"$f":"IF(I20=\"\",\"\",I20/'CUENTA EXPLOTACION(ID)'!$C$12)","v":""},{"$f":"IF(I20=\"\",\"\",I20/$I$25)","v":""},null,null,"PRODUCCIÓN POR ANIMAL",{"$f":"IF('CUENTA EXPLOTACION(ID)'!O22=\"\",\"\",'CUENTA EXPLOTACION(ID)'!O22)","v":""}]
["SANITARIOS ","VACUNAS",{"$f":"IF('CUENTA EXPLOTACION(ID)'!C37=\"\",\"\",'CUENTA EXPLOTACION(ID)'!C37)","v":""},{"$f":"IF(C21=\"\",\"\",C21/'CUENTA EXPLOTACION(ID)'!$C$12)","v":""},null,null,null,"VENTA GENÉTICA",{"$f":"IF('CUENTA EXPLOTACION(ID)'!N28=\"\",\"\",'ENLACES DATOS'!B1222)","v":""},{"$f":"IF(I21=\"\",\"\",I21/'CUENTA EXPLOTACION(ID)'!$C$12)","v":""},"",null,null,"MARGEN POR LITRO",{"$f":"IF(I29=\"\",\"\",I29/O18)","v":""}]
[null,"ANTIPARASITARIOS",{"$f":"IF('CUENTA EXPLOTACION(ID)'!C38=\"\",\"\",'CUENTA EXPLOTACION(ID)'!C38)","v":""},{"$f":"IF(C22=\"\",\"\",C22/'CUENTA EXPLOTACION(ID)'!$C$12)","v":""},null,null,null,"VENTA CEBO",{"$f":"IF('CUENTA EXPLOTACION(ID)'!N23=\"\",\"\",'ENLACES DATOS'!B1225)","v":""},{"$f":"IF(I22=\"\",\"\",I22/'CUENTA EXPLOTACION(ID)'!$C$12)","v":""},"",null,null,"PRECIO LECHE UMBRAL",{"$f":"IF('ENLACES DATOS'!G1188=\"\",\"\",'ENLACES DATOS'!G1188)","v":""}]
[null,"ANTIMAMITICOS",{"$f":"IF('CUENTA EXPLOTACION(ID)'!C39=\"\",\"\",'CUENTA EXPLOTACION(ID)'!C39)","v":""},{"$f":"IF(C23=\"\",\"\",C23/'CUENTA EXPLOTACION(ID)'!$C$12)","v":""},null,null,null,"AYUDAS&SUBVENCIONES",{"$f":"IF('CUENTA EXPLOTACION(ID)'!N19=\"\",\"\",'CUENTA EXPLOTACION(ID)'!N19)","v":""},{"$f":"IF(I23=\"\",\"\",I23/'CUENTA EXPLOTACION(ID)'!$C$12)","v":""},"",null,null,"PRODUCCIÓN UMBRAL (litros/animal)",{"$f":"IF('ENLACES DATOS'!G1189=\"\",\"\",'ENLACES DATOS'!G1189)","v":""}]
[null,"ANTIBIOTICOS",{"$f":"IF('CUENTA EXPLOTACION(ID)'!C40=\"\",\"\",'CUENTA EXPLOTACION(ID)'!C40)","v":""},{"$f":"IF(C24=\"\",\"\",C24/'CUENTA EXPLOTACION(ID)'!$C$12)","v":""},null,null,null,"OTROS",{"$f":"IF('CUENTA EXPLOTACION(ID)'!N30=\"\",\"\",'CUENTA EXPLOTACION(ID)'!N30)","v":""},{"$f":"IF(I24=\"\",\"\",I24/'CUENTA EXPLOTACION(ID)'!$C$12)","v":""},""]
[null,"OTROS TRATAMIENTOS",{"$f":"IF('CUENTA EXPLOTACION(ID)'!C41=\"\",\"\",'CUENTA EXPLOTACION(ID)'!C41)","v":""},{"$f":"IF(C25=\"\",\"\",C25/'CUENTA EXPLOTACION(ID)'!$C$12)","v":""},null,null,null,"TOTAL INGRESOS",{"$f":"IF(I20=\"\",\"\",SUM(I20:I24))","v":""},{"$f":"IF(I25=\"\",\"\",I25/'CUENTA EXPLOTACION(ID)'!$C$12)","v":""},""]
[]
["AMORTIZACIÓN","INSTALACION",{"$f":"IF('CUENTA EXPLOTACION(ID)'!C43=\"\",\"\",'ENLACES DATOS'!B1204)","v":""},{"$f":"IF(C27=\"\",\"\",C27/'CUENTA EXPLOTACION(ID)'!$C$12)","v":""},null,null,"RESULTADO","TOTAL GASTOS",{"$f":"IF(I18=\"\",\"\",I18)","v":""},{"$f":"IF(J18=\"\",\"\",J18)","v":""},"INDICE ALIM"]
[null,"SALA ORDEÑO",{"$f":"IF('CUENTA EXPLOTACION(ID)'!C45=\"\",\"\",'ENLACES DATOS'!B1205)","v":""},{"$f":"IF(C28=\"\",\"\",C28/'CUENTA EXPLOTACION(ID)'!$C$12)","v":""},null,null,null,"TOTAL INGRESOS",{"$f":"IF(I25=\"\",\"\",I25)","v":""},{"$f":"IF(J25=\"\",\"\",J25)","v":""},{"$f":"IF(J10=\"\",\"\",J10/J20)","v":""}]
[null,"MAQUINARIA",{"$f":"IF('CUENTA EXPLOTACION(ID)'!C44=\"\",\"\",'ENLACES DATOS'!B1206)","v":""},{"$f":"IF(C29=\"\",\"\",C29/'CUENTA EXPLOTACION(ID)'!$C$12)","v":""},null,null,null,"BENEFICIO",{"$f":"IF(I27=\"\",\"\",I28-I27)","v":""},{"$f":"IF(J27=\"\",\"\",J28-J27)","v":""},"% EFICACIA"]
[null,null,null,null,null,null,null,"RENTABILIDAD (%)",{"$f":"IF(I27=\"\",\"\",(I28-I27)/I27)","v":""},null,{"$f":"IF('CUENTA EXPLOTACION(ID)'!C17=\"\",\"\",'ENLACES DATOS'!C1167)","v":""}]
["COMPRA ANIMALES","MACHOS",{"$f":"IF('CUENTA EXPLOTACION(ID)'!I42=\"\",\"\",'ENLACES DATOS'!B1210)","v":""},{"$f":"IF(C31=\"\",\"\",C31/'CUENTA EXPLOTACION(ID)'!$C$12)","v":""}]
[null,"HEMBRAS/RECRIA",{"$f":"IF('CUENTA EXPLOTACION(ID)'!I44=\"\",\"\",'ENLACES DATOS'!B1211)","v":""},{"$f":"IF(C32=\"\",\"\",C32/'CUENTA EXPLOTACION(ID)'!$C$12)","v":""}]
[]
["PROGRAMA GENETICO","COSTE TOTAL",{"$f":"IF('CUENTA EXPLOT GENETICA'!C27:E27=\"\",\"\",'CUENTA EXPLOT GENETICA'!C27:E27)","v":""},{"$f":"IF(C34=\"\",\"\",C34/'CUENTA EXPLOTACION(ID)'!$C$12)","v":""}]
[]
["OTROS EXPLOTACIÓN","AGUA",{"$f":"IF('CUENTA EXPLOTACION(ID)'!I35=\"\",\"\",'CUENTA EXPLOTACION(ID)'!I35)","v":""},{"$f":"IF(C36=\"\",\"\",C36/'CUENTA EXPLOTACION(ID)'!$C$12)","v":""}]
[null,"GAS OIL",{"$f":"IF('CUENTA EXPLOTACION(ID)'!I36=\"\",\"\",'CUENTA EXPLOTACION(ID)'!I36)","v":""},{"$f":"IF(C37=\"\",\"\",C37/'CUENTA EXPLOTACION(ID)'!$C$12)","v":""}]
[null,"GESTION",{"$f":"IF('CUENTA EXPLOTACION(ID)'!I37=\"\",\"\",'CUENTA EXPLOTACION(ID)'!I37)","v":""},{"$f":"IF(C38=\"\",\"\",C38/'CUENTA EXPLOTACION(ID)'!$C$12)","v":""}]
[null,"TRIBUTOS",{"$f":"IF('CUENTA EXPLOTACION(ID)'!I38=\"\",\"\",'CUENTA EXPLOTACION(ID)'!I38)","v":""},{"$f":"IF(C39=\"\",\"\",C39/'CUENTA EXPLOTACION(ID)'!$C$12)","v":""}]

{"sheet":"CUENTA EXPLOTACION(ID)","index":27,"n_rows":47,"n_cols":15,"rows_kept":47,"cut":false,"hidden":false,"merged":[[9,8,9,9],[7,12,7,13],[11,11,14,11],[40,6,43,6],[20,11,22,11],[24,11,27,11],[7,7,7,8],[11,6,13,6],[15,6,17,6],[19,6,21,6],[23,6,25,6],[28,6,29,6],[34,6,37,6],[36,0,40,0],[42,0,46,0],[7,1,7,2],[11,0,14,0],[16,0,20,0],[22,0,30,0],[32,0,34,0]]}
[]
[]
[]
[]
["CUENTA DE EXPLOTACIÓN (INTRODUCIR DATOS)"]
[]
[]
["GANADERO",null,null,null,null,null,{"$f":"A8","v":"GANADERO"},{"$f":"IF(B8=\"\",\"\",B8)","v":""},null,null,null,{"$f":"G8","v":"GANADERO"},{"$f":"IF(B8=\"\",\"\",B8)","v":""}]
[]
[null,null,null,null,null,null,null,null,"KG/ANIMAL Y DIA"]
[null,null,null,null,null,null,"DIETAS ANIMALES",null,"ALTA PROD.","BAJA PROD.",null,"VALOR ANIMALES"]
["DATOS ANIMALES","Nº REPRODUCTORAS",null,null,null,null,"DIETA ORDEÑO","ALFALFA/UNIFEED",null,null,null,"STOCK ANIMALES","VALOR REPRODUCTORAS"]
[null,"% REPOSICIÓN",null,null,null,null,null,"PAJA",null,null,null,null,"VALOR  MACHOS"]
[null,"MORTALIDAD PERINATAL (%)",null,null,null,null,null,"CONCENTRADO ORDEÑO",null,null,null,null,"VALOR REPOSICIÓN"]
[null,"MORTALIDAD CEBO (%)",null,null,null,null,null,null,null,null,null,null,"VALOR LACTANTES"]
[null,null,null,null,null,null,"DIETA PREPARTO","ALFALFA/UNIFEED"]
["DATOS  REPRODUCTIVOS","PARTOS ANIMAL/AÑO",null,null,null,null,null,"PAJA"]
[null,"INTERVALO PARTO-PARTO",null,{"$f":"IF(C17=\"\",\"\",365/C17)","v":""},null,null,null,"CONC. PREPARTO",null,null,null,"INGRESOS"]
[null,"FERTILIDAD (%)",null,null,null,null,null,null,null,null,null,"AYUDAS","PRIMAS&SUBVENCIONES"]
[null,"PROLIFICIDAD",null,null,null,null,"DIETA MANTENIMIENTO","ALFALFA/UNIFEED"]
[null,"Nº DIAS SECOS",null,{"$f":"IF(C21=\"\",\"\",60)","v":""},null,null,null,"PAJA",null,null,null,"INGRESOS PRODUCCIONES","PRECIO LITRO (Euros/litro)"]
[null,null,null,null,null,null,null,"CONC. MANTENIMIENTO",null,null,null,null,"LITROS TOTALES",null,{"$f":"IF('CUENTA EXPLOTACION(RES)'!D9=\"\",\"\",'CUENTA EXPLOTACION(RES)'!D9)","v":""}]
["COSTE INGREDIENTES","ALFALFA/UNIFEED",null,null,null,null,null,null,null,null,null,null,"PRECIO VENTA CEBO"]
[null,"PAJA",null,null,null,null,"DIETA RECRIA","ALFALFA/UNIFEED"]
[null,"CONCENTRADO ORDEÑO",null,null,null,null,null,"PAJA",null,null,null,"INGRESOS GENÉTICA","PRECIO MACHOS"]
[null,"CONC. PREPARTO",null,null,null,null,null,"CONC. RECRIA",null,null,null,null,"Nº MACHOS VENDIDOS"]
[null,"CONC. MANTENIMIENTO",null,null,null,null,null,null,null,null,null,null,"PRECIO RECRIA/ADULTAS"]
[null,"LACTORREMPLAZANTE",null,null,null,null,null,null,"KG/ANIMAL TOTAL",null,null,null,"Nº RECRIA/ADULTAS VENDIDAS"]
[null,"CONC. CRECIMIENTO",null,null,null,null,"DIETA ARRANQUE/CREC","LACTORREMPLAZANTE"]
[null,"CONC. RECRIA",null,null,null,null,null,"CONC. CRECIMIENTO",null,null,null,"OTROS INGRESOS","OTROS"]
[null,"CONC. CEBO"]
[null,null,null,null,null,null,"CEBO","CONC. CEBO"]
["MANO DE OBRA","Nº OPERARIOS",null,{"$f":"IF(C12=\"\",\"\",(C12*8)/1785)","v":""}]
[null,"COSTE DE LA HORA",null,null,null,null,"OTROS GASTOS"]
[null,"COSTE MANO DE OBRA",null,{"$f":"IF(C34=\"\",\"\",((C12*8)*C34))","v":""},null,null,"OTROS EXPLOTACIÓN","AGUA",null,{"$f":"IF(I35=\"\",\"\",(I35/$C$12))","v":""}]
[null,null,null,null,null,null,null,"GAS OIL",null,""]
["SANITARIOS ","VACUNAS",null,{"$f":"IF(C37=\"\",\"\",(C37/$C$12))","v":""},null,null,null,"GESTION",null,""]
[null,"ANTIPARASITARIOS",null,{"$f":"IF(C38=\"\",\"\",(C38/$C$12))","v":""},null,null,null,"TRIBUTOS",null,""]
[null,"ANTIMAMITICOS",null,""]
[null,"ANTIBIOTICOS",null,"",null,null,"COMPRA ANIMALES"]
[null,"OTROS TRATAMIENTOS",null,"",null,null,"COMPRAS","PRECIO MACHOS"]
[null,null,null,null,null,null,null,"MACHOS COMPRADOS"]
["AMORTIZACIÓN","VALOR INSTALACION",null,{"$f":"IF(C43=\"\",\"\",(C43/$C$12))","v":""},null,null,null,"PRECIO ADULTAS/RECRIA"]
[null,"VALOR MAQUINARIA",null,"",null,null,null,"ADULTAS/RECRIA COMPRADAS"]
[null,"VALOR SALA ORDEÑO",null,""]
[null,"TIPO INTERES"]
[null,"AÑOS AMORTIZACION"]

{"sheet":"CUENTA EXPLOT GENETICA","index":28,"n_rows":27,"n_cols":6,"rows_kept":27,"cut":false,"hidden":false,"merged":[[7,1,7,2],[26,2,26,4],[14,0,16,0],[18,0,20,0],[22,2,22,4],[24,2,24,4]]}
[]
[]
[]
[]
["CUENTA DE EXPLOTACIÓN (INTRODUCIR DATOS)"]
[]
[]
["GANADERO",{"$f":"IF('CUENTA EXPLOTACION(ID)'!B8:C8=\"\",\"\",'CUENTA EXPLOTACION(ID)'!B8:C8)","v":""}]
[]
[]
[]
["DATOS ANIMALES","Nº REPRODUCTORAS",{"$f":"IF('CUENTA EXPLOTACION(ID)'!C12=\"\",\"\",'CUENTA EXPLOTACION(ID)'!C12)","v":""}]
[]
[null,null,"NUMERO","PRECIO","TOTAL"]
["PROGRAMA","PATERNIDADES",null,7,{"$f":"IF(C15=\"\",\"\",C15*D15)","v":""},{"$f":"IF(E15=\"\",\"\",E15/$C$12)","v":""}]
[null,"CONTROL LECHERO",null,100,{"$f":"IF(C16=\"\",\"\",C16*D16)","v":""},{"$f":"IF(E16=\"\",\"\",E16/$C$12)","v":""}]
[null,"CUOTA DE SOCIO (HEMBRA)",null,2,"",""]
[]
["INSEMINACION","ESPONJAS",null,3,{"$f":"IF(C19=\"\",\"\",C19*D19)","v":""},{"$f":"IF(E19=\"\",\"\",E19/$C$12)","v":""}]
[null,"SEMEN",null,2.5,"",""]
[null,"APLICACIÓN",null,2,"",""]
[]
["ASOCIACION","TRABAJOS VETERINARIOS",null,null,null,{"$f":"IF(C23=\"\",\"\",C23/$C$12)","v":""}]
[]
["OTROS","OTROS CONCEPTOS",null,null,null,{"$f":"IF(C25=\"\",\"\",C25/$C$12)","v":""}]
[]
["TOTAL ","TOTAL PROGRAMA",{"$f":"IF(C17=\"\",\"\",E15+E16+E17+E19+E20+E21+C23+C25)","v":""},null,null,{"$f":"IF(C27=\"\",\"\",C27/$C$12)","v":""}]

{"sheet":"RACIONAMIENTO KOMPLET","index":29,"n_rows":24,"n_cols":4,"rows_kept":24,"cut":false,"hidden":false,"merged":[[14,0,16,0],[18,0,19,0],[7,0,11,0]]}
[]
[]
[]
[]
["RACIONAMIENTO KOMPLET"]
[]
[]
["DATOS  ANIMALES Y PRODUCTIVOS","ESPECIE"]
[null,"PESO VIVO (KG)"]
[null,"LITROS"]
[null,"GRASA"]
[null,"PROTEINA"]
[]
[null,null,"KOMPLET","KG/DIA"]
["RACIONAMIENTO","PIENSO KOMPLET"]
[null,"PAJA"]
[null,"HENO"]
[]
["NECESIDADES","REQUERIMIENTOS UFL",{"$f":"IF(C15=\"\",\"\",'ENLACES DATOS'!C1129)","v":""}]
[null,"UFL APORTADAS",{"$f":"IF(C15=\"\",\"\",'ENLACES DATOS'!F1136)","v":""}]
[]
["RECOMENDACIÓN","KILOS NECESARIOS",{"$f":"IF(C15=\"\",\"\",'ENLACES DATOS'!G1132)","v":""}]
[]
["EFICIENCIA","KG PIENSO/LITRO LECHE",{"$f":"IF(C22=\"\",\"\",C22/C10)","v":""}]

{"sheet":"PRODUCTOS KOMPLET","index":30,"n_rows":26,"n_cols":4,"rows_kept":26,"cut":false,"hidden":false,"merged":[[25,1,25,3],[7,0,10,0],[12,2,12,3],[14,0,19,0],[21,1,21,2],[23,1,23,3]]}
[]
[]
[]
[]
["PRODUCTOS KOMPLET"]
[]
[]
["DATOS  ANIMALES Y PRODUCTIVOS","ESPECIE"]
[null,"RAZA"]
[null,"FORRAJE"]
[null,"OBJETIVO PRODUCTIVO"]
[]
["PIENSO RECOMENDADO",{"$f":"IF($C$11=\"\",\"\",'ENLACES DATOS'!C1109)","v":""},{"$f":"IF($C$11=\"\",\"\",'ENLACES DATOS'!D1109)","v":""},{"$f":"IF($C$11=\"\",\"\",'ENLACES DATOS'!E1109)","v":""}]
[]
["PERFIL NUTRICIONAL","Humedad (%)",{"$f":"IF($C$11=\"\",\"\",0.11)","v":""}]
[null,"Proteína Bruta (%)",{"$f":"IF($C$11=\"\",\"\",'ENLACES DATOS'!G1109/1000)","v":""}]
[null,"Fibra Bruta (%)",{"$f":"IF($C$11=\"\",\"\",'ENLACES DATOS'!H1109/1000)","v":""}]
[null,"Grasa Bruta (%)",{"$f":"IF($C$11=\"\",\"\",'ENLACES DATOS'!I1109/1000)","v":""}]
[null,"Cenizas (%)",{"$f":"IF($C$11=\"\",\"\",'ENLACES DATOS'!J1109/1000)","v":""}]
[null,"UFV(2007)",{"$f":"IF($C$11=\"\",\"\",'ENLACES DATOS'!F1109/100)","v":""}]
[]
["PRESENTACIÓN",{"$f":"IF($C$11=\"\",\"\",'ENLACES DATOS'!E1109)","v":""},{"$f":"IF($C$11=\"\",\"\",'ENLACES DATOS'!D1119)","v":""}]
[]
["MODO DE EMPLEO",{"$f":"IF($C$11=\"\",\"\",'ENLACES DATOS'!K1109)","v":""}]
[]
["PRECAUCIONES DE USO",{"$f":"IF($C$11=\"\",\"\",'ENLACES DATOS'!L1109)","v":""}]

{"sheet":"COMPARATIVA KOMPLET","index":31,"n_rows":29,"n_cols":4,"rows_kept":29,"cut":false,"hidden":false,"merged":[[27,3,28,3],[7,0,11,0],[14,0,16,0],[19,0,20,0],[23,0,25,0],[27,0,28,0]]}
[]
[]
[]
[]
[" COMPARATIVA TRADICIONAL vs KOMPLET CONCEPT"]
[]
[]
["DATOS  ANIMALES Y PRODUCTIVOS","PRECIO EQ (Euros/grado)"]
[null,"LITROS"]
[null,"GRASA"]
[null,"PROTEINA"]
[null,"EXTRA KOMPLET"]
[]
[null,null,"EUROS/TM","KG/DIA"]
["RACIÓN TRADICIONAL","PAJA"]
[null,"ALFALFA HENO/FORRAJE/UNIFEED"]
[null,"CONCENTRADO"]
[]
[null,null,"EUROS/TM","KG/DIA"]
["RACIÓN  KOMPLET","PAJA"]
[null,"KOMPLET"]
[]
[null,null,"TRADICIONAL","KOMPLET"]
["DIFERENCIAS SISTEMAS","COSTE RACIÓN (EUROS DIA)",{"$f":"IF(C16=\"\",\"\",'ENLACES DATOS'!D922)","v":""},{"$f":"IF(C16=\"\",\"\",'ENLACES DATOS'!D923)","v":""}]
[null,"PRODUCCIÓN EQ DIA (GR)",{"$f":"IF(C9=\"\",\"\",'ENLACES DATOS'!C935)","v":""},{"$f":"IF(C9=\"\",\"\",'ENLACES DATOS'!C936)","v":""}]
[null,"INGRESOS/DIA",{"$f":"IF(C24=\"\",\"\",'ENLACES DATOS'!C937)","v":""},{"$f":"IF(D24=\"\",\"\",'ENLACES DATOS'!C938)","v":""}]
[]
["PRECIO UMBRAL","KOMPLET",{"$f":"IF(C21=\"\",\"\",'ENLACES DATOS'!C944)","v":""},{"$f":"IF('ENLACES DATOS'!C947=\"\",\"\",IF('ENLACES DATOS'!C947>0,\"¡KOMPLET!\",\"¡TRADICIONAL!\"))","v":""}]
[null,"ALFALFA /FORRAJE /UNIFEED",{"$f":"IF(C16=\"\",\"\",'ENLACES DATOS'!C945)","v":""}]

{"sheet":"CHEQUEO SALA ORDEÑO","index":32,"n_rows":102,"n_cols":8,"rows_kept":102,"cut":false,"hidden":false,"merged":[[7,1,8,1],[5,0,21,0],[23,0,43,0],[45,0,50,0],[7,7,8,7],[5,5,21,5],[7,6,8,6],[23,5,43,5],[45,5,50,5]]}
[]
[]
[]
["CHEQUEO  BÁSICO SALAS DE ORDEÑO",null,null,null,null,{"$f":"A4","v":"CHEQUEO  BÁSICO SALAS DE ORDEÑO"}]
[]
["DETECCIÓN DE PROBLEMAS DE FUNCIONAMIENTO O REGLAJE","VACÍO DE ORDEÑO",null,"Kpas",{"$f":"IF(C6=\"\",\"\",IF(C6<32,\"INCORRECTO\",(IF(C6>40,\"INCORRECTO\",\"CORRECTO\"))))","v":""},"DETECCION DE PROBLEMAS DE FUNCIONAMIENTO O REGLAJE","VACÍO DE ORDEÑO",{"$f":"IF(C6=\"\",\"\",(IF(C6>40,\"Depende del nº de pulsaciones. Hasta 32 Kpa con 180 ppm en linea baja\",\"Ver tabla de equivalencias\")))","v":""}]
[null,"RESERVA DE VACÍO",null,"Kpas",{"$f":"IF(C7=\"\",\"\",(IF(C7>2,\"INCORRECTO\",\"CORRECTO\")))","v":""},null,"RESERVA DE VACÍO",{"$f":"IF(C7=\"\",\"\",(IF(C7>2,\"Ojo capacidad de bomba, regulador, fugas...\",\"Al abrir unidades el vacio no bajará más de 2 Kpas\")))","v":""}]
[null,"(Abrir nº unidades= Ordeñadores + 1",null,"Bajada",null,null,"(Abrir nº unidades= Ordeñadores + 1","COMENTARIO:"]
[null,null,null,"maxima"]
[null,"REGULADOR",null,null,null,null,"REGULADOR",{"$f":"IF(C10=\"\",\"\",(IF(C10=\"INCORRECTO\",\"Revisar regulador. Limpieza y funcionamiento\",\"Regulador funciona correctamente\")))","v":""}]
[null,"Abrir unidades y bajar vacío 2 Kpas. ¿Sigue admitiendo aire?",null,null,null,null,"Abrir unidades y bajar vacío 2 Kpas. ¿Sigue admitiendo aire?","COMENTARIO:"]
[null,"Limpieza",null,null,null,null,"Limpieza","COMENTARIO:"]
[null,"Prueba mechero: Llama hacia regulador",null,null,null,null,"Prueba mechero: Llama hacia regulador)","COMENTARIO:"]
[null,"PULSACIÓN",null,"ppm",{"$f":"IF(C14=\"\",\"\",\"Revisar si el valor coincide con el establecido\")","v":""},null,"PULSACIÓN",{"$f":"IF(C14=\"\",\"\",\"Revisar según sea OVINO O CAPRINO, y el dimensionado de la sala\")","v":""}]
[null,"FLUJO DE LECHE",null,null,null,null,"FLUJO DE LECHE",{"$f":"IF(C15=\"\",\"\",\"El flujo de leche debe ser laminar\")","v":""}]
[null,"Ver tuberias de leche. Debe ser laminar y no a borbotones.",null,null,null,null,"Ver tuberias de leche. Debe ser laminar y no a borbotones.","COMENTARIO:"]
[null,"Ver pezoneras",null,null,null,null,"Ver pezonaras","COMENTARIO:"]
[null,"Ver orificios del colector",null,null,null,null,"Ver orificios del colector","COMENTARIO:"]
[null,"LAVADO ORDEÑADORA",null,null,null,null,"LAVADO ORDEÑADORA",{"$f":"IF(C19=\"\",\"\",IF(C19=\"INCORRECTO\", \"Ver apartados más abajo\",\"Lavado correcto\"))","v":""}]
[null,"Ver turbulencias en todo el ciclo del lavado",null,null,null,null,"Ver turbulencias en todo el ciclo del lavado","COMENTARIO:"]
[null,"Temperatura agua",null,null,{"$f":"IF(C21=\"\",\"\",(IF(C21<65,\"INCORRECTO\",\"CORRECTO\")))","v":""},null,"Temperatura agua",{"$f":"IF(C21=\"\",\"\",(IF(C21<65,\"Tª correcta a más de 65ºC\",\"Se admite 40ºC al final del lavado\")))","v":""}]
[null,"Ver presión de lavado, ausencia sistemas de inyección de aire, fondos ciegos que quedan sucios",null,null,null,null,"Ver presión de lavado, ausencia sistemas de inyección de aire, fondos ciegos que quedan sucios","COMENTARIO:"]
[]
["DETECCIÓN DE ERRORES DE DISEÑO","POTENCIA DE BOMBA",null,"l/unidad",{"$f":"IF(C24=\"\",\"\",(IF(C24<110,\"INCORRECTO\",\"CORRECTO\")))","v":""},"DETECCION DE ERRORES DE DISEÑO","POTENCIA DE BOMBA",{"$f":"IF(C24=\"\",\"\",(IF(C24<110,\"Mínimo 110 litros por unidad de ordeño  a 50 Kpas\",\"Capacidad de bomba adecuada\")))","v":""}]
[null,"CONDUCCION DE AIRE",null,null,null,null,"CONDUCCION DE AIRE",{"$f":"IF(C25=\"\",\"\",IF(C25=\"INCORRECTO\", \"Ver apartados más abajo\",\"Conducción de aire correctamente dimensionada\"))","v":""}]
[null,"Diametro Interior Aire",null,"mm",{"$f":"IF(C26=\"\",\"\",(IF(C26<60,\"INCORRECTO\",\"CORRECTO\")))","v":""},null,"Diametro Interior Aire",{"$f":"IF(C26=\"\",\"\",(IF(C26<60,\"Minimo 60 mm en salas con 8 unidades. A más unidades más diámetro\",\"Comprobar diámetro necesario según unidades ordeño\")))","v":""}]
[null,"CONDUCCION LECHE",null,null,null,null,"CONDUCCION LECHE",{"$f":"IF(C27=\"\",\"\",IF(C27=\"INCORRECTO\", \"Ver apartados más abajo\",\"Conducción de leche correctamente dimensionada\"))","v":""}]
[null,"Diametro Interior Leche",null,"mm",{"$f":"IF(C28=\"\",\"\",(IF(C28<50,\"INCORRECTO\",\"CORRECTO\")))","v":""},null,"Diametro Interior Leche",{"$f":"IF(C28=\"\",\"\",(IF(C28<50,\"Minimo 60 mm para salas de hasta 12 unidades\",\"Comprobar diámetro necesario según unidades ordeño\")))","v":""}]
[null,"RECEPTOR",null,"Litros",{"$f":"IF(C29=\"\",\"\",(IF(C29<30,\"INCORRECTO\",\"CORRECTO\")))","v":""},null,"RECEPTOR",{"$f":"IF(C29=\"\",\"\",(IF(C29<30,\"Minimo 30 litros para 8 unidades. Ver referencias\",\"Comprobar capacidad recomendada según unidades de ordeño\")))","v":""}]
[null,"PURGADORES",null,null,null,null,"PURGADORES",{"$f":"IF(C30=\"\",\"\",IF(C30=\"INCORRECTO\", \"Ver apartados más abajo\",\"Purgadores correctos\"))","v":""}]
[null,"Deben estar situados en las partes declives. No se admite ausencia",null,null,null,null,"Deben nestar situados en las partes declives. No se admite ausencia","COMENTARIO:"]
[null,"PULSADORES",null,null,null,null,"PULSADORES",{"$f":"IF(C32=\"\",\"\",IF(C32=\"INCORRECTO\", \"Ver apartados más abajo\",\"Pulsadores correctos\"))","v":""}]
[null,"Ver tuberia de filtración",null,null,null,null,"Ver tuberia de filtración","COMENTARIO:"]
[null,"Maximo a 2 unidades de ordeño",null,null,null,null,"Maximo a 2 unidades de ordeño","COMENTARIO:"]
[null,"REGULADOR",null,null,null,null,"REGULADOR",{"$f":"IF(C35=\"\",\"\",IF(C35=\"INCORRECTO\", \"Ver apartados más abajo\",\"Regulador correcto\"))","v":""}]
[null,"Distancia a codo",null,"cm",{"$f":"IF(C36=\"\",\"\",(IF(C36<50,\"INCORRECTO\",\"CORRECTO\")))","v":""},null,"Distancia a codo",{"$f":"IF(C36=\"\",\"\",(IF(C36<50,\"Minimo 50 cm del codo\",\"Distancia correcta\")))","v":""}]
[null,"Caudal Nominal",null,"litros",{"$f":"IF(C37=\"\",\"\",(IF(C37<C24,\"INCORRECTO\",\"CORRECTO\")))","v":""},null,"Caudal Nominal",{"$f":"IF(C37=\"\",\"\",(IF(C37<C24,\"Caudal regulador el mismo que el de la bomba\",\"Caudal correcto\")))","v":""}]
[null,"COLECTORES",null,null,null,null,"COLECTORES",{"$f":"IF(C38=\"\",\"\",IF(C38=\"INCORRECTO\", \"Ver apartados más abajo\",\"Colectores correctos\"))","v":""}]
[null,"Capacidad",null,"cc",{"$f":"IF(C39=\"\",\"\",(IF(C39<100,\"INCORRECTO\",\"CORRECTO\")))","v":""},null,"Capacidad",{"$f":"IF(C39=\"\",\"\",IF(E39=\"INCORRECTO\", \"Comprobar capacidad de colector. Debe ser mayor de 100ml\",\"Capacidad colector adecuada\"))","v":""}]
[null,"Long tubo largo leche",null,"cm",{"$f":"IF(C40=\"\",\"\",(IF(C40<120,\"INCORRECTO\",\"CORRECTO\")))","v":""},null,"Long tubo largo leche",{"$f":"IF(C40=\"\",\"\",IF(E40=\"INCORRECTO\", \"Revisar longitud tubo largo de leche. Será mayor que 120cm\",\"Longitud tubo largo de leche adecuada\"))","v":""}]
[null,"PEZONERAS",null,null,null,null,"PEZONERAS",{"$f":"IF(C41=\"\",\"\",IF(C41=\"INCORRECTO\", \"Ver apartados más abajo\",\"Manguitos adecuados\"))","v":""}]
[null,"Nº Ordeños",null,"ordeños",{"$f":"IF(C42=\"\",\"\",(IF(C42>7000,\"INCORRECTO\",\"CORRECTO\")))","v":""},null,"Nº Ordeños",{"$f":"IF(C42=\"\",\"\",(IF(C42>7000,\"Maximo admisible 7000 ordeños\",\"Maximo admisible 7000 ordeños\")))","v":""}]
[null,"Material",null,"rpm",{"$f":"IF(C43=\"\",\"\",(IF(C43<180,\"CAUCHO O SILICONA\",\"SILICONA\")))","v":""},null,"Material",{"$f":"IF(C43=\"\",\"\",(IF(C43<180,\"Silicona en 180 ppm\",\"Silicona en 180 ppm\")))","v":""}]
[null,"Nº ORDEÑADORES",null,"unidades",{"$f":"IF(C44=\"\",\"\",(IF(C44<8,\"  1 ordeñador\",\"1 ordeñador cada 8 puntos de ordeño mínimo\")))","v":""},null,"Nº ORDEÑADORES",{"$f":"IF(C44=\"\",\"\",(IF(C44<8,\"  1 ordeñador\",\"1 ordeñador cada 8 puntos de ordeño mínimo\")))","v":""}]
[]
["ERRORES DE MANTENIMIENTO","MANTENIMIENTO",null,"vez/año",{"$f":"IF(C46=\"\",\"\",(IF(C46<1,\"INCORRECTO\",\"CORRECTO\")))","v":""},"ERRORES DE MANTENIMIENTO","MANTENIMIENTO",{"$f":"IF(C46=\"\",\"\",(IF(C46<1,\"Mínimo al menos 1 vez al año\",\"Recomendable cada 6 meses por personal especializado\")))","v":""}]
[null,"COMPONENTES DE GOMA",null,null,null,null,"COMPONENTES DE GOMA",{"$f":"IF(C47=\"\",\"\",IF(C47=\"INCORRECTO\", \"Ver apartados más abajo\",\"Manguitos adecuados\"))","v":""}]
[null,"Ver prueba del algodón o torunda.- Ennegrecido=deteriorado",null,null,null,null,"Ver prueba del algodón o torunda.- Ennegrecido=deteriorado","COMENTARIO:"]
[null,"COLECTORES OBSTRUIDOS",null,null,null,null,"COLECTORES OBSTRUIDOS",{"$f":"IF(C49=\"\",\"\",IF(C49=\"INCORRECTO\", \"Ver apartados más abajo\",\"Colectores en buen funcionamiento\"))","v":""}]
[null,"Comprobar. Limpiar al menos una vez a la semana",null,null,null,null,"Comprobar. Limpiar al menos una vez a la semana","COMENTARIO:"]
[null,"PULSADORES SUCIOS",null,null,null,null,"PULSADORES SUCIOS",{"$f":"IF(C51=\"\",\"\",IF(C51=\"INCORRECTO\", \"Limpiar y revisar pulsadores\",\"Pulsadores en buen funcionamiento\"))","v":""}]
[]
[]
[]
[]
[]
[]
[]
[]
[]
[]
[]
[]
[]
[]
[]
[]
[]
[]
[]
[]
[]
[]
[]
[]
[]
[]
[]
[]
[]
[]
[]
[]
[]
[]
[]
[]
[]
[]
[]
[]
[]
[]
[]
[]
[]
[]
[]
[]
[]
["OK"]
["INCORRECTO"]

{"sheet":"VALORACION ALIMENTOS INRA","index":33,"n_rows":42,"n_cols":8,"rows_kept":42,"cut":false,"hidden":false,"merged":[[32,0,41,0],[10,0,15,0],[17,2,17,3],[17,0,23,0],[18,1,18,2],[25,0,30,0],[29,4,31,4],[7,5,7,6],[7,1,7,2],[10,4,15,4],[17,4,23,4],[17,6,17,7],[18,5,18,6],[25,4,27,4]]}
[]
[]
[]
[]
[]
["VALORACIÓN ALIMENTOS. INRA 2007",null,null,null,{"$f":"A6","v":"VALORACIÓN ALIMENTOS. INRA 2007"}]
[]
["GANADERO",null,null,null,"GANADERO",{"$f":"IF(B8=\"\",\"\",B8)","v":""}]
[]
[]
["CONVERTIDOR FORRAJES VERDES A M.S.","MATERIA SECA",{"$f":"IF(D19=\"\",\"\",D19)","v":""},null,"CONVERTIDOR FORRAJES VERDES A M.S.","MATERIA SECA",{"$f":"C11","v":""}]
[null,null,"SSS","SSF",null,null,"SSS","SSF"]
[null,"FIBRA BRUTA",null,{"$f":"IF($D$19=\"\",\"\",(C13*$C$11))","v":""},null,"FIBRA BRUTA",{"$f":"IF(C13=\"\",\"\",C13)","v":""},{"$f":"IF(D13=\"\",\"\",D13)","v":""}]
[null,"PROTEINA BRUTA",null,{"$f":"IF($D$19=\"\",\"\",(C14*$C$11))","v":""},null,"PROTEINA BRUTA",{"$f":"IF(C14=\"\",\"\",C14)","v":""},""]
[null,"GRASA BRUTA",null,{"$f":"IF($D$19=\"\",\"\",(C15*$C$11))","v":""},null,"GRASA BRUTA","",""]
[null,"CENIZAS",null,{"$f":"IF(D19=\"\",\"\",(C16*$C$11))","v":""},null,"CENIZAS","",""]
[]
["DATOS DEL ALIMENTO","ALIMENTO A VALORAR",null,null,"DATOS DEL ALIMENTO","ALIMENTO A VALORAR",{"$f":"IF(C18=\"\",\"\",C18)","v":""}]
[null,"MATERIA SECA",null,null,null,"MATERIA SECA",null,{"$f":"IF(D19=\"\",\"\",D19)","v":""}]
[null,null,"SSS","SSF",null,null,"SSS","SSF"]
[null,"FIBRA BRUTA",{"$f":"IF($D$19=\"\",\"\",D21/$D$19)","v":""},null,null,"FIBRA BRUTA",{"$f":"IF(C21=\"\",\"\",C21)","v":""},{"$f":"IF(D21=\"\",\"\",D21)","v":""}]
[null,"PROTEINA BRUTA",{"$f":"IF($D$19=\"\",\"\",D22/$D$19)","v":""},null,null,"PROTEINA BRUTA","",""]
[null,"GRASA BRUTA",{"$f":"IF($D$19=\"\",\"\",D23/$D$19)","v":""},null,null,"GRASA BRUTA","",""]
[null,"CENIZAS",{"$f":"IF($D$19=\"\",\"\",D24/$D$19)","v":""},null,null,"CENIZAS","",""]
[]
["VALORACIÓN GENERAL DEL ALIMENTO",null,"SSS","SSF","VALORACIÓN PROTÉICA","PDIME",{"$f":"IF($C$18=\"\",\"\",'ENLACES DATOS'!C861)","v":""}]
[null,"UFL",{"$f":"IF($C$18=\"\",\"\",'ENLACES DATOS'!C800)","v":""},{"$f":"IF($C$18=\"\",\"\",'ENLACES DATOS'!D800)","v":""},null,"PDIMN",{"$f":"IF($C$18=\"\",\"\",'ENLACES DATOS'!C862)","v":""}]
[null,"UFC",{"$f":"IF($C$18=\"\",\"\",'ENLACES DATOS'!C801)","v":""},{"$f":"IF($C$18=\"\",\"\",'ENLACES DATOS'!D801)","v":""},null,"DEGRADABILIDAD TEORICA (DT)",{"$f":"IF($C$18=\"\",\"\",'ENLACES DATOS'!C867)","v":""}]
[null,"PDIE",{"$f":"IF($C$18=\"\",\"\",'ENLACES DATOS'!C857)","v":""},{"$f":"IF($C$18=\"\",\"\",'ENLACES DATOS'!D857)","v":""}]
[null,"PDIN",{"$f":"IF($C$18=\"\",\"\",'ENLACES DATOS'!C858)","v":""},{"$f":"IF($C$18=\"\",\"\",'ENLACES DATOS'!D858)","v":""},"VALORACIÓN DIGESTIBILIDAD","M.O. FERMENCESTIBLE (MOF)",{"$f":"IF($C$18=\"\",\"\",'ENLACES DATOS'!C865)","v":""}]
[null,"PDIA",{"$f":"IF($C$18=\"\",\"\",'ENLACES DATOS'!C859)","v":""},{"$f":"IF($C$18=\"\",\"\",'ENLACES DATOS'!D859)","v":""},null,"DIGESTIBILIDAD REAL (dr)",{"$f":"IF($C$18=\"\",\"\",'ENLACES DATOS'!C866)","v":""}]
[null,null,null,null,null,"DIGESTIBILIDAD M.O. (dMO)",{"$f":"IF($C$18=\"\",\"\",'ENLACES DATOS'!C868)","v":""}]
["VALORACIÓN ENERGÉTICA","ENERGIA BRUTA",{"$f":"IF($C$18=\"\",\"\",'ENLACES DATOS'!C795)","v":""}]
[null,"ENERGIA DIGESTIBLE",{"$f":"IF($C$18=\"\",\"\",'ENLACES DATOS'!C796)","v":""}]
[null,"ENERGIA METABOLIZABLE",{"$f":"IF($C$18=\"\",\"\",'ENLACES DATOS'!C797)","v":""}]
[null,"ENERGIA NETA LACTACION",{"$f":"IF($C$18=\"\",\"\",'ENLACES DATOS'!C798)","v":""}]
[null,"ENERGIA NETA MANT Y CEBO",{"$f":"IF($C$18=\"\",\"\",'ENLACES DATOS'!C799)","v":""}]
[null,"dE",{"$f":"IF($C$18=\"\",\"\",'ENLACES DATOS'!C804)","v":""}]
[null,"NA",{"$f":"IF($C$18=\"\",\"\",'ENLACES DATOS'!C805)","v":""}]
[null,"kl",{"$f":"IF($C$18=\"\",\"\",'ENLACES DATOS'!C806)","v":""}]
[null,"kmf",{"$f":"IF($C$18=\"\",\"\",'ENLACES DATOS'!C807)","v":""}]
[null,"q",{"$f":"IF($C$18=\"\",\"\",'ENLACES DATOS'!C808)","v":""}]

{"sheet":"SIMULACION DATOS PRODUCTIVOS","index":34,"n_rows":56,"n_cols":8,"rows_kept":56,"cut":false,"hidden":false,"merged":[[10,0,17,0],[19,0,25,0],[27,0,30,0],[12,5,14,5],[8,1,8,2]]}
[]
[]
[]
[]
[]
[]
["SIMULADOR  DATOS PRODUCTIVOS DE LECHE",null,null,null,null,"SIMULACIÓN ECONÓMICA"]
[]
["GANADERO",null,null,null,null,"GANADERO",{"$f":"IF(B9=\"\",\"\",B9)","v":""}]
[]
["DATOS GENERALES","ESPECIE",null,null,null,"PRECIO LECHE","PRECIO HECTOGRADO EQ"]
[null,"RAZA"]
[null,"FECHA SIMULACION",null,null,null,"INGRESOS POR ANIMAL Y DIA","INGRESO EUROS REAL",{"$f":"IF($H$11=\"\",\"\",($H$11*'ENLACES DATOS'!N27))/10000","v":{"$error":"#VALUE!"}}]
[null,"EPOCA DEL AÑO",{"$f":"IF(C13=\"\",\"\",'BUSCAR FECHA'!G2)","v":""},null,null,null,"INGRESO EUROS OBTENIDO",{"$f":"IF($H$11=\"\",\"\",($H$11*'ENLACES DATOS'!N28))/10000","v":{"$error":"#VALUE!"}}]
[null,"PRODUCCION REAL",null,null,null,null,"INGRESO EUROS CALCULADO",{"$f":"IF($H$11=\"\",\"\",($H$11*'ENLACES DATOS'!N29))/10000","v":{"$error":"#VALUE!"}}]
[null,"EQ REAL"]
[null,"PRODUCCIÓN SIMULADA"]
[null,"EQ SIMULADO"]
[]
["OBTENIDOS BBDD","PRODUCCION MEDIA",{"$f":"IF(C15=\"\",\"\",'ENLACES DATOS'!F54)","v":""}]
[null,"EQ MEDIO",{"$f":"IF(C15=\"\",\"\",'ENLACES DATOS'!G54)","v":""}]
[null,"%VARIABILIDAD",{"$f":"IF(C15=\"\",\"\",'ENLACES DATOS'!I54/'ENLACES DATOS'!H54)","v":""}]
[null,"EQ MAXIMO",{"$f":"IF(C15=\"\",\"\",'ENLACES DATOS'!G54+'ENLACES DATOS'!J54)","v":""}]
[null,"EQ MINIMO",{"$f":"IF(C15=\"\",\"\",'ENLACES DATOS'!G54-'ENLACES DATOS'!J54)","v":""}]
[null,"IC  REAL vs OBTENIDA",{"$f":"IF(C15=\"\",\"\",'ENLACES DATOS'!K54/'ENLACES DATOS'!H54)","v":""}]
[null,"Nº DATOS MENSUALES",{"$f":"IF(C15=\"\",\"\",'ENLACES DATOS'!E54)","v":""}]
[]
["CALCULADOS ECUACIONES","EQ CALCULADO",{"$f":"IF(C17=\"\",\"\",'ENLACES DATOS'!N22)","v":""}]
[null,"LITROS CALCULADOS",{"$f":"IF(C18=\"\",\"\",'ENLACES DATOS'!P22)","v":""}]
[null,"IC vs OBTENIDO",{"$f":"IF(C17=\"\",\"\",'ENLACES DATOS'!M22/'ENLACES DATOS'!H54)","v":""}]
[null,"IC vs REAL",{"$f":"IF(C17=\"\",\"\",'ENLACES DATOS'!M22/'ENLACES DATOS'!K54)","v":""}]
[]
[]
[]
[]
[]
[]
[]
[]
[]
[]
[]
[]
[]
[]
[]
[]
[]
[]
[]
["CAPRINO","FLORIDA","INVIERNO"]
["OVINO","MALAGUEÑA","TEMPLADO"]
[null,"MURCIANA","VERANO"]
[null,"ASSAF"]
[null,"LACAUNE"]
[null,"MANCHEGA"]

{"sheet":"EXPLOTACION TIPO","index":35,"n_rows":54,"n_cols":11,"rows_kept":54,"cut":false,"hidden":false,"merged":[[10,0,11,0],[13,0,14,0],[16,0,18,0],[20,0,22,0],[5,11,5,12],[8,1,8,2]]}
[]
[]
[]
[]
[]
[null,null,null,null,null,null,null,null,null,null,"INCIDENCIA"]
["DESCRIPCIÓN EXPLOTACIÓN TIPO"]
[]
["GANADERO"]
[]
["DATOS GENERALES","ESPECIE"]
[null,"MES "]
[]
["PRODUCCIÓN","PRODUCCION MEDIA",{"$f":"IF(C12=\"\",\"\",'ENLACES DATOS'!D84)","v":""}]
[null,"EQ MEDIO",{"$f":"IF(C12=\"\",\"\",'ENLACES DATOS'!E84)","v":""}]
[]
["ESTADO ANIMALES","% ANIMALES SECOS",{"$f":"IF(C12=\"\",\"\",'ENLACES DATOS'!B90)","v":""}]
[null,"% ANIMALES EN PREPARTO",{"$f":"IF(C12=\"\",\"\",'ENLACES DATOS'!C90)","v":""}]
[null,"% ANIMALES EN ORDEÑO",{"$f":"IF(C12=\"\",\"\",'ENLACES DATOS'!D90)","v":""}]
[]
["INCIDENCIAS","% ABORTOS",{"$f":"IF(C12=\"\",\"\",'ENLACES DATOS'!E90)","v":""}]
[null,"% BAJAS + ELIMINACION",{"$f":"IF(C12=\"\",\"\",'ENLACES DATOS'!F90)","v":""}]
[null,"% MAMITIS",{"$f":"IF(C12=\"\",\"\",'ENLACES DATOS'!H90)","v":""}]
[]
["REPRODUCTIVO","PARTOS/ANIMAL.AÑO",{"$f":"IF(C12=\"\",\"\",'ENLACES DATOS'!I90)","v":""}]
[]
[]
[]
[]
[]
[]
[]
[]
[]
[]
[]
[]
[]
["CAPRINO"]
["OVINO"]
[]
[]
["ENERO"]
["FEBRERO"]
["MARZO"]
["ABRIL"]
["MAYO"]
["JUNIO"]
["JULIO"]
["AGOSTO"]
["SEPTIEMBRE"]
["OCTUBRE"]
["NOVIEMBRE"]
["DICIEMBRE"]

{"sheet":"CURVA DE LACTACION CAPRINO","index":36,"n_rows":17,"n_cols":3,"rows_kept":17,"cut":false,"hidden":false,"merged":[[8,1,8,2],[10,0,13,0],[15,0,16,0]]}
[]
[]
[]
[]
[]
[]
["CURVA DE LACTACIÓN CAPRINO LECHERO"]
[]
["GANADERO"]
[]
["DATOS GENERALES","FECHA PARTO"]
[null,"FECHA CONTROL"]
[null,"LECHE CONTROL (litros/dia)"]
[null,"FECHA SIMULACION"]
[]
["SIMULACIÓN","PRODUC. RESTO LACTACION",{"$f":"IF(C13=\"\",\"\",'ENLACES DATOS'!C770)","v":""}]
[null,"PRODUCCION FECHA (DIA)",{"$f":"IF(C14=\"\",\"\",'ENLACES DATOS'!E476)","v":""}]

{"sheet":"CURVA DE LACTACION OVINO","index":37,"n_rows":18,"n_cols":3,"rows_kept":18,"cut":false,"hidden":false,"merged":[[8,1,8,2],[10,0,13,0],[15,0,17,0]]}
[]
[]
[]
[]
[]
[]
["CURVA DE LACTACIÓN OVINO LECHERO"]
[]
["GANADERO"]
[]
["DATOS GENERALES","FECHA PARTO"]
[null,"FECHA CONTROL"]
[null,"LECHE CONTROL (litros/dia)"]
[null,"FECHA SIMULACION"]
[]
["SIMULACIÓN","PRODUCCION/LACTACION",{"$f":"IF(C13=\"\",\"\",'ENLACES DATOS'!C286)","v":""}]
[null,"PRODUC. RESTO LACTACION",{"$f":"IF(C13=\"\",\"\",'ENLACES DATOS'!C466)","v":""}]
[null,"PRODUCCION FECHA (DIA)",{"$f":"IF(C14=\"\",\"\",'ENLACES DATOS'!E278)","v":""}]

{"sheet":"CURVA DE LACTACION OVINO CSIC","index":38,"n_rows":17,"n_cols":3,"rows_kept":17,"cut":false,"hidden":false,"merged":[[8,1,8,2],[10,0,13,0],[15,0,16,0]]}
[]
[]
[]
[]
[]
["CSIC"]
["CURVA DE LACTACIÓN OVINO LECHERO (CSIC)"]
[]
["GANADERO"]
[]
["DATOS GENERALES","FECHA PARTO"]
[null,"FECHA CONTROL"]
[null,"LECHE CONTROL (litros/dia)"]
[null,"FECHA SIMULACION"]
[]
["SIMULACIÓN","PRODUCCION/LACTACION",{"$f":"IF(C13=\"\",\"\",'ENLACES DATOS'!I282)","v":""}]
[null,"PRODUCCION FECHA (DIA)",{"$f":"IF(C14=\"\",\"\",'ENLACES DATOS'!M279)","v":""}]

{"sheet":"EVOLUCION PRODUCCION","index":39,"n_rows":21,"n_cols":7,"rows_kept":21,"cut":false,"hidden":false,"merged":[[20,0,39,0],[8,1,8,2],[12,0,17,0],[16,2,16,4],[17,2,17,4]]}
[]
[]
[]
[]
[]
[]
["EVOLUCIÓN PRODUCCIÓN"]
[]
["GANADERO"]
["FECHA"]
[]
[null,null,"FECHA PARTO","Nº ANIMALES","LIT/DIA","DML"]
["CÁLCULO DML Y PRODUCCION MEDIA","LOTE 1",null,null,null,{"$f":"IF($B$10=\"\",\"\",'ENLACES DATOS'!E1230)","v":""}]
[null,"LOTE 2",null,null,null,{"$f":"IF($B$10=\"\",\"\",'ENLACES DATOS'!E1231)","v":""}]
[null,"LOTE 3",null,null,null,{"$f":"IF($B$10=\"\",\"\",'ENLACES DATOS'!E1232)","v":""}]
[null,"LOTE 4",null,null,null,{"$f":"IF($B$10=\"\",\"\",'ENLACES DATOS'!E1233)","v":""}]
[null,"D.M.L.",{"$f":"IF(C13=\"\",\"\",'ENLACES DATOS'!C1236)","v":""}]
[null,"LITROS/ANIMAL",{"$f":"IF(E13=\"\",\"\",'ENLACES DATOS'!C1237)","v":""}]
[]
[null,"FECHA ENTREGA","LITROS TANQUE","ANIMALES ORDEÑO","DML","Nº ANIM","LIT TOT"]
["ENTREGAS DE LECHE",null,null,null,null,{"$f":"IF(C13=\"\",\"\",'ENLACES DATOS'!C1234)","v":""},{"$f":"IF(E13=\"\",\"\",'ENLACES DATOS'!D1234)","v":""}]

{"sheet":"MOMENTO DE SECADO","index":40,"n_rows":58,"n_cols":8,"rows_kept":58,"cut":false,"hidden":false,"merged":[[8,1,8,2],[17,0,20,0],[22,0,23,0],[25,0,27,0],[10,0,15,0]]}
[]
[]
[]
[]
[]
[]
["MOMENTO DE SECADO",null,null,null,null,{"$f":"A7","v":"MOMENTO DE SECADO"}]
[]
["GANADERO",null,null,null,null,"PARTO",null,{"$f":"IF(C12=\"\",\"\",C12)","v":""}]
[]
["DATOS GENERALES","PRECIO LECHE (E/Hctgr)",null,null,null,"CONTROL LECHERO",null,{"$f":"IF(C13=\"\",\"\",C13)","v":""}]
[null,"FECHA PARTO"]
[null,"FECHA CONTROL",null,null,null,"CUBRICION",null,{"$f":"IF(C27=\"\",\"\",H9+C27)","v":""}]
[null,"LECHE CONTROL (litros/dia)"]
[null,"EXTRACTO QUESERO (%)",null,null,null,"SECADO",null,{"$f":"IF(C13=\"\",\"\",H9+C28)","v":""}]
[null,"COSTE ANIMAL/DIA"]
[null,null,null,null,null,"SIGUIENTE PARTO",null,{"$f":"IF(C13=\"\",\"\",H13+148)","v":""}]
["DATOS PRODUCCIÓN","PRODUCCION EQ (GR/DIA)",{"$f":"IF(C15=\"\",\"\",'ENLACES DATOS'!B266)","v":""}]
[null,"INGRESOS DIARIOS",{"$f":"IF(C11=\"\",\"\",'ENLACES DATOS'!B268)","v":""}]
[null,"PRECIO LITRO LECHE",{"$f":"IF(C19=\"\",\"\",'ENLACES DATOS'!B267)","v":""}]
[null,"UMBRAL DE RENTABILIDAD (LITROS)",{"$f":"IF(C19=\"\",\"\",'ENLACES DATOS'!B269)","v":""}]
[]
["SIMULACIÓN PRODUCCIÓN","LECHE LACTACIÓN (1)",{"$f":"IF(C14=\"\",\"\",'ENLACES DATOS'!B263)","v":""}]
[null,"LECHE LACTACIÓN (2)",{"$f":"IF(C14=\"\",\"\",'ENLACES DATOS'!B264)","v":""}]
[]
["FECHAS","DIAS LACTACIÓN",{"$f":"IF(C13=\"\",\"\",'ENLACES DATOS'!B259)","v":""}]
[null,"DIAS HASTA CUBRICIÓN",{"$f":"IF(C13=\"\",\"\",'ENLACES DATOS'!B272)","v":""}]
[null,"DIAS HASTA SECADO",{"$f":"IF(C13=\"\",\"\",'ENLACES DATOS'!B271)","v":""}]
[]
[]
[]
[]
[]
[]
[]
[]
[]
[]
[]
[]
[]
[]
["CAPRINO"]
["OVINO"]
[]
[]
["ENERO"]
["FEBRERO"]
["MARZO"]
["ABRIL"]
["MAYO"]
["JUNIO"]
["JULIO"]
["AGOSTO"]
["SEPTIEMBRE"]
["OCTUBRE"]
["NOVIEMBRE"]
["DICIEMBRE"]

{"sheet":"PLAN DE EXPLOTACIÓN","index":41,"n_rows":40,"n_cols":8,"rows_kept":40,"cut":false,"hidden":false,"merged":[[8,1,8,2],[11,0,16,0],[18,0,25,0],[27,0,34,0],[36,0,39,0]]}
[]
[]
[]
[]
[]
[]
["PLAN DE EXPLOTACIÓN OVINO LECHERO"]
[]
["GANADERO",null,null,null,null,"BANDA"]
["TIPO LACTANCIA"]
[]
["DATOS GENERALES","Nº REPRODUCTORAS"]
[null,"FECHA"]
[null,"M2 NAVE",null,{"$f":"IF(C12=\"\",\"\",'ENLACES DATOS'!G219)","v":""}]
[null,"Nº PARIDERAS/AÑO",null,null,null,"SIGUIENTE CUBRICION",null,{"$f":"IF(H17=\"\",\"\",H17-145)","v":""}]
[null,"PARTOS OVEJA Y AÑO"]
[null,"% FERTILIDAD",null,null,null,"SIGUIENTE PARTO",null,{"$f":"IF(C13=\"\",\"\",'ENLACES DATOS'!C234+'PLAN DE EXPLOTACIÓN'!C20)","v":""}]
[]
["INFORMACIÓN GENERAL","CALENDARIO REPRODUCTIVO",{"$f":"IF(C15=\"\",\"\",VLOOKUP(C15,'ENLACES DATOS'!B216:C221,2,FALSE))","v":""},null,null,"SIGUIENTE CUBRICION",null,{"$f":"IF(H21=\"\",\"\",H21-145)","v":""}]
[null,"INTERVALO PARTO/PARTO",{"$f":"IF(C16=\"\",\"\",365/C16)","v":""},{"$f":"IF(C20=\"\",\"\",C20/30)","v":""},"MESES"]
[null,"DURACION LACTACION",{"$f":"IF(C20=\"\",\"\",C20-70)","v":""},{"$f":"IF(C21=\"\",\"\",C21/30)","v":""},"MESES","SIGUIENTE PARTO",null,{"$f":"IF(H17=\"\",\"\",H17+C20)","v":""}]
[null,"HORAS/OVEJA RUTINARIAS. AÑO",7]
[null,"HORAS/PARTO",1.5,null,null,"SIGUIENTE CUBRICION",null,{"$f":"IF(H25=\"\",\"\",H25-145)","v":""}]
[null,"M2 POR OVEJA EN PARTO",2]
[null,"DURACION PARIDERA",30,null,null,"SIGUIENTE PARTO",null,{"$f":"IF(H21=\"\",\"\",H21+$C$20)","v":""}]
[null,"HORAS OPERARIO POR AÑO",1785]
[null,null,null,null,null,"SIGUIENTE CUBRICION",null,{"$f":"IF(H29=\"\",\"\",H29-145)","v":""}]
["PLANIFICACIÓN EXPLOTACIÓN","Nº OVEJAS/PARIDERA",{"$f":"IF(C16=\"\",\"\",((C12*C16)/C15)*C17)","v":""}]
[null,"Nº HORAS RUTINARIAS/DIA",{"$f":"IF(C12=\"\",\"\",(C12*C22)/365)","v":""},{"$f":"IF(C29=\"\",\"\",C22*C12)","v":""},"HORAS","SIGUIENTE PARTO",null,{"$f":"IF(H25=\"\",\"\",H25+C20)","v":""}]
[null,"Nº HORAS PARTOS/DIA PARIDERA",{"$f":"IF(C28=\"\",\"\",(C28*1.5)/C25)","v":""},{"$f":"IF(C16=\"\",\"\",C23*(C12*C16))","v":""},"HORAS"]
[null,"Nº HORAS/DIA EN PARIDERA",{"$f":"IF(C29=\"\",\"\",C29+C30)","v":""},{"$f":"IF(D29=\"\",\"\",D29+D30)","v":""},"HORAS","SIGUIENTE CUBRICION",null,{"$f":"IF(H33=\"\",\"\",H33-145)","v":""}]
[null,"Nº OPERARIOS/EXPLOTACION",{"$f":"IF(C16=\"\",\"\",((C12*C22)+(C12*C16)*C23)/C26)","v":""}]
[null,"Nº OVEJAS/OPERARIO",{"$f":"IF(C32=\"\",\"\",C12/C32)","v":""},null,null,"SIGUIENTE PARTO",null,{"$f":"IF(H29=\"\",\"\",H29+$C$20)","v":""}]
[null,"M2 NECESARIOS POR PARIDERA",{"$f":"IF(C28=\"\",\"\",C28*C24)","v":""},{"$f":"IF(B10=\"\",\"\",IF(B10=\"LACTANCIA NATURAL\",'ENLACES DATOS'!G220,'PLAN DE EXPLOTACIÓN'!C14))","v":""}]
[null,"Nº PARIDERAS MINIMO",{"$f":"IF('ENLACES DATOS'!C223=\"\",\"\",'ENLACES DATOS'!D223)","v":""}]
[]
["CALENDARIO REPRODUCTIVO","SIGUIENTE PARTO",{"$f":"IF(C20=\"\",\"\",C13+C20)","v":""}]
[null,"ENTRADA EN PREPARTO",{"$f":"IF(C37=\"\",\"\",C37-45)","v":""}]
[null,"SECADO",{"$f":"IF(C21=\"\",\"\",C13+C21)","v":""}]
[null,"CUBRICIÓN",{"$f":"IF(C37=\"\",\"\",C37-145)","v":""}]

{"sheet":"CALENDARIO REPRODUCTIVO","index":42,"n_rows":32,"n_cols":3,"rows_kept":32,"cut":false,"hidden":false,"merged":[[8,1,8,2],[10,0,12,0]]}
[]
[]
[]
[]
[]
[]
["CALENDARIO REPRODUCTIVO"]
[]
["GANADERO"]
[]
["DATOS GENERALES","SISTEMA REPRODUCTIVO"]
[null,"DURACION LACTANCIA (DIAS)"]
[null,"FECHA COMIENZO"]
[]
[]
[{"$f":"IF(C11=\"ESPONJAS\",\"RETIRAR ESPONJAS\",\"MACHOS EN CUBRICION\")","v":"MACHOS EN CUBRICION"},null,{"$f":"IF(C13=\"\",\"\",'ENLACES DATOS'!D251)","v":""}]
[]
["CUBRICION",null,{"$f":"IF($C$13=\"\",\"\",'ENLACES DATOS'!E251)","v":""}]
[]
["100 DIAS GESTACION",null,{"$f":"IF($C$13=\"\",\"\",'ENLACES DATOS'!F251)","v":""}]
[]
["PARTO",null,{"$f":"IF($C$13=\"\",\"\",'ENLACES DATOS'!G251)","v":""}]
[]
["DESTETE",null,{"$f":"IF($C$13=\"\",\"\",'ENLACES DATOS'!H251)","v":""}]
[]
["DIA 1º ORDEÑO",null,{"$f":"IF($C$13=\"\",\"\",'ENLACES DATOS'!I251)","v":""}]
[]
["DIA 90 ORDEÑO",null,{"$f":"IF($C$13=\"\",\"\",'ENLACES DATOS'!J251)","v":""}]
[]
["DIA 150 ORDEÑO",null,{"$f":"IF($C$13=\"\",\"\",'ENLACES DATOS'!K251)","v":""}]
[]
["DIA 240 ORDEÑO",null,{"$f":"IF($C$13=\"\",\"\",'ENLACES DATOS'!L251)","v":""}]

{"sheet":"CALCULO THI","index":43,"n_rows":18,"n_cols":3,"rows_kept":18,"cut":false,"hidden":false,"merged":[[11,0,13,0],[17,1,17,2],[16,0,17,0],[8,1,8,2]]}
[]
[]
[]
[]
[]
[]
["CALCULO THI (Temperature Humidity Index)"]
[]
["GANADERO"]
[]
["\"MEDICIÓN A LA ALTURA DE LOS ANIMALES\""]
["DATOS GENERALES","FECHA"]
[null,"TEMPERATURA (ºC)"]
[null,"HUMEDAD (%)"]
[]
[]
["DIAGNÓSTICO","THI (INDICE Tª/HUMEDAD)",{"$f":"IF('ENLACES DATOS'!C1465=\"\",\"\",'ENLACES DATOS'!C1465)","v":""}]
[null,{"$f":"IF(C13=\"\",\"\",IF('ENLACES DATOS'!C1470=\"\",\"\",'ENLACES DATOS'!C1470))","v":""}]

{"sheet":"BIENESTAR ANIMAL","index":44,"n_rows":54,"n_cols":4,"rows_kept":54,"cut":false,"hidden":false,"merged":[[25,0,26,0],[31,0,34,0],[8,1,8,2],[12,0,15,0],[16,0,21,0],[22,0,24,0]]}
[]
[]
[]
[]
[]
[]
["EVALUACIÓN BIENESTAR ANIMAL"]
[]
["GANADERO",null,null,"RANGO CONFIANZA MAX"]
[null,null,null,"RANGO CONFIANZA MIN"]
["DATOS GENERALES","ESPECIE"]
[]
["BA AMBIENTE",{"$f":"'ENLACES DATOS'!H108","v":"TEMPERATURA"},null,{"$f":"IF($C$11=\"\",\"\",IF(C13<'ENLACES DATOS'!L108,\"¡MEJORAR BIENESTAR!\",IF(C13>'ENLACES DATOS'!K108,\"¡EXCELENTE!\",\"NORMALIZADO\")))","v":""}]
[null,{"$f":"'ENLACES DATOS'!H109","v":"CORRIENTES"},null,{"$f":"IF($C$11=\"\",\"\",IF(C14<'ENLACES DATOS'!L109,\"¡MEJORAR BIENESTAR!\",IF(C14>'ENLACES DATOS'!K109,\"¡EXCELENTE!\",\"NORMALIZADO\")))","v":""}]
[null,{"$f":"'ENLACES DATOS'!H110","v":"VENTILACION"},null,{"$f":"IF($C$11=\"\",\"\",IF(C15<'ENLACES DATOS'!L110,\"¡MEJORAR BIENESTAR!\",IF(C15>'ENLACES DATOS'!K110,\"¡EXCELENTE!\",\"NORMALIZADO\")))","v":""}]
[null,{"$f":"'ENLACES DATOS'!H111","v":"AMBIENTE"},null,{"$f":"IF($C$11=\"\",\"\",IF(C16<'ENLACES DATOS'!L111,\"¡MEJORAR BIENESTAR!\",IF(C16>'ENLACES DATOS'!K111,\"¡EXCELENTE!\",\"NORMALIZADO\")))","v":""}]
["BA MANEJO",{"$f":"'ENLACES DATOS'!H113","v":"DENSIDAD"},null,{"$f":"IF($C$11=\"\",\"\",IF(C17<'ENLACES DATOS'!L113,\"¡MEJORAR BIENESTAR!\",IF(C17>'ENLACES DATOS'!K113,\"¡EXCELENTE!\",\"NORMALIZADO\")))","v":""}]
[null,{"$f":"'ENLACES DATOS'!H114","v":"CAMA"},null,{"$f":"IF($C$11=\"\",\"\",IF(C18<'ENLACES DATOS'!L114,\"¡MEJORAR BIENESTAR!\",IF(C18>'ENLACES DATOS'!K114,\"¡EXCELENTE!\",\"NORMALIZADO\")))","v":""}]
[null,{"$f":"'ENLACES DATOS'!H115","v":"CONFORT"},null,{"$f":"IF($C$11=\"\",\"\",IF(C19<'ENLACES DATOS'!L115,\"¡MEJORAR BIENESTAR!\",IF(C19>'ENLACES DATOS'!K115,\"¡EXCELENTE!\",\"NORMALIZADO\")))","v":""}]
[null,{"$f":"'ENLACES DATOS'!H116","v":"ESTRÉS"},null,{"$f":"IF($C$11=\"\",\"\",IF(C20<'ENLACES DATOS'!L116,\"¡MEJORAR BIENESTAR!\",IF(C20>'ENLACES DATOS'!K116,\"¡EXCELENTE!\",\"NORMALIZADO\")))","v":""}]
[null,{"$f":"'ENLACES DATOS'!H117","v":"LIMPIEZA"},null,{"$f":"IF($C$11=\"\",\"\",IF(C21<'ENLACES DATOS'!L117,\"¡MEJORAR BIENESTAR!\",IF(C21>'ENLACES DATOS'!K117,\"¡EXCELENTE!\",\"NORMALIZADO\")))","v":""}]
[null,{"$f":"'ENLACES DATOS'!H112","v":"ESTADO PEZUÑAS"},null,{"$f":"IF($C$11=\"\",\"\",IF(C22<'ENLACES DATOS'!L112,\"¡MEJORAR BIENESTAR!\",IF(C22>'ENLACES DATOS'!K112,\"¡EXCELENTE!\",\"NORMALIZADO\")))","v":""}]
["BA INSTALACIONES",{"$f":"'ENLACES DATOS'!H118","v":"PIENSO"},null,{"$f":"IF($C$11=\"\",\"\",IF(C23<'ENLACES DATOS'!L118,\"¡MEJORAR BIENESTAR!\",IF(C23>'ENLACES DATOS'!K118,\"¡EXCELENTE!\",\"NORMALIZADO\")))","v":""}]
[null,{"$f":"'ENLACES DATOS'!H119","v":"PAJA"},null,{"$f":"IF($C$11=\"\",\"\",IF(C24<'ENLACES DATOS'!L119,\"¡MEJORAR BIENESTAR!\",IF(C24>'ENLACES DATOS'!K119,\"¡EXCELENTE!\",\"NORMALIZADO\")))","v":""}]
[null,{"$f":"'ENLACES DATOS'!H120","v":"BEBEDEROS"},null,{"$f":"IF($C$11=\"\",\"\",IF(C25<'ENLACES DATOS'!L120,\"¡MEJORAR BIENESTAR!\",IF(C25>'ENLACES DATOS'!K120,\"¡EXCELENTE!\",\"NORMALIZADO\")))","v":""}]
["INDICADORES ALIMENTARIOS",{"$f":"'ENLACES DATOS'!H121","v":"CONDICION CORPORAL"},null,{"$f":"IF($C$11=\"\",\"\",IF(C26<'ENLACES DATOS'!L121,\"¡AUMENTAR CC!\",IF(C26>'ENLACES DATOS'!K121,\"¡REDUCIR CC!\",\"NORMALIZADO\")))","v":""}]
[null,{"$f":"'ENLACES DATOS'!H122","v":"CONSISTENCIA HECES"},null,{"$f":"IF($C$11=\"\",\"\",IF(C27<'ENLACES DATOS'!L122,\"¡HECES DEMASIADO BLANDAS!\",IF(C27>'ENLACES DATOS'!K122,\"¡VIGILAR INGESTA!\",\"NORMALIZADO\")))","v":""}]
[null,{"$f":"'ENLACES DATOS'!H123","v":"Nº CHEQUEOS"},{"$f":"IF(C11=\"\",\"\",'ENLACES DATOS'!J123)","v":""}]
[]
[]
[]
["EVALUACIÓN BA","BA AMBIENTE",{"$f":"IF(C13=\"\",\"\",AVERAGE(C13:C16))","v":""},{"$f":"IF($C$11=\"\",\"\",IF(C32<'ENLACES DATOS'!L126,\"¡MEJORAR BIENESTAR!\",IF(C32>'ENLACES DATOS'!K126,\"¡EXCELENTE!\",\"NORMALIZADO\")))","v":""}]
[null,"BA MANEJO",{"$f":"IF(C17=\"\",\"\",AVERAGE(C17:C21))","v":""},{"$f":"IF($C$11=\"\",\"\",IF(C33<'ENLACES DATOS'!L127,\"¡MEJORAR BIENESTAR!\",IF(C33>'ENLACES DATOS'!K127,\"¡EXCELENTE!\",\"NORMALIZADO\")))","v":""}]
[null,"BA INSTALACIONES",{"$f":"IF(C23=\"\",\"\",AVERAGE(C23:C25))","v":""},{"$f":"IF($C$11=\"\",\"\",IF(C34<'ENLACES DATOS'!L128,\"¡MEJORAR BIENESTAR!\",IF(C34>'ENLACES DATOS'!K128,\"¡EXCELENTE!\",\"NORMALIZADO\")))","v":""}]
[null,"BA GLOBAL",{"$f":"IF(C13=\"\",\"\",AVERAGE(C13:C25))","v":""},{"$f":"IF($C$11=\"\",\"\",IF(C35<'ENLACES DATOS'!L129,\"¡MEJORAR BIENESTAR!\",IF(C35>'ENLACES DATOS'!K129,\"¡EXCELENTE!\",\"NORMALIZADO\")))","v":""}]
[]
[]
[]
[]
[]
[]
[]
[]
[]
[]
[]
[]
[]
[]
[]
[]
[]
["CAPRINO"]
["OVINO"]

{"sheet":"CRITERIOS BIENESTAR","index":45,"n_rows":0,"n_cols":0,"rows_kept":0,"cut":false,"hidden":false,"merged":[]}

{"sheet":"PPCC CAPRINO","index":46,"n_rows":38,"n_cols":9,"rows_kept":38,"cut":false,"hidden":false,"merged":[[27,0,31,0],[32,0,36,0],[8,6,8,8],[8,1,8,2],[12,0,16,0],[17,0,21,0],[22,0,26,0]]}
[]
[]
[]
[]
[]
[]
["AUDITORÍA/PUNTOS CRÍTICOS CAPRINO",null,null,null,null,{"$f":"A7","v":"AUDITORÍA/PUNTOS CRÍTICOS CAPRINO"}]
[]
["GANADERO",null,null,null,null,{"$f":"A9","v":"GANADERO"},{"$f":"IF(B9=\"\",\"\",B9)","v":""}]
[]
["FECHA",null,null,null,null,"POR GRUPOS ","REAL","OBTENIDO","COMENTARIO"]
[null,null,null,null,null,{"$f":"'ENLACES DATOS'!A208","v":"ALIMENTACION"},{"$f":"IF(C13=\"\",\"\",'ENLACES DATOS'!B208)","v":""},{"$f":"IF(C13=\"\",\"\",'ENLACES DATOS'!C208)","v":""},{"$f":"IF($B$11=\"\",\"\",IF('ENLACES DATOS'!B208<'ENLACES DATOS'!E208,\"MEJORAR PTO.CRITICO\",IF('ENLACES DATOS'!B208>'ENLACES DATOS'!D208,\"¡EXCELENTE!\",\"NORMALIZADO\")))","v":""}]
["PPCC ALIMENTACIÓN",{"$f":"'ENLACES DATOS'!A179","v":"Sistemas de alimentación"},null,{"$f":"IF($B$11=\"\",\"\",IF('ENLACES DATOS'!D179<'ENLACES DATOS'!K179,\"MEJORAR PTO.CRITICO\",IF('ENLACES DATOS'!D179>'ENLACES DATOS'!J179,\"¡EXCELENTE!\",\"NORMALIZADO\")))","v":""},null,{"$f":"'ENLACES DATOS'!A209","v":"SANIDAD"},{"$f":"IF(C18=\"\",\"\",'ENLACES DATOS'!B209)","v":""},{"$f":"IF(C18=\"\",\"\",'ENLACES DATOS'!C209)","v":""},{"$f":"IF($B$11=\"\",\"\",IF('ENLACES DATOS'!B209<'ENLACES DATOS'!E209,\"MEJORAR PTO.CRITICO\",IF('ENLACES DATOS'!B209>'ENLACES DATOS'!D209,\"¡EXCELENTE!\",\"NORMALIZADO\")))","v":""}]
[null,{"$f":"'ENLACES DATOS'!A180","v":"Calidad y disponibilidad e forrajes"},null,{"$f":"IF($B$11=\"\",\"\",IF('ENLACES DATOS'!D180<'ENLACES DATOS'!K180,\"MEJORAR PTO.CRITICO\",IF('ENLACES DATOS'!D180>'ENLACES DATOS'!J180,\"¡EXCELENTE!\",\"NORMALIZADO\")))","v":""},null,{"$f":"'ENLACES DATOS'!A210","v":"INSTALACIONES Y B.A."},{"$f":"IF(C23=\"\",\"\",'ENLACES DATOS'!B210)","v":""},{"$f":"IF(C23=\"\",\"\",'ENLACES DATOS'!C210)","v":""},{"$f":"IF($B$11=\"\",\"\",IF('ENLACES DATOS'!B210<'ENLACES DATOS'!E210,\"MEJORAR PTO.CRITICO\",IF('ENLACES DATOS'!B210>'ENLACES DATOS'!D210,\"¡EXCELENTE!\",\"NORMALIZADO\")))","v":""}]
[null,{"$f":"'ENLACES DATOS'!A181","v":"Lotes de alimentacion"},null,{"$f":"IF($B$11=\"\",\"\",IF('ENLACES DATOS'!D181<'ENLACES DATOS'!K181,\"MEJORAR PTO.CRITICO\",IF('ENLACES DATOS'!D181>'ENLACES DATOS'!J181,\"¡EXCELENTE!\",\"NORMALIZADO\")))","v":""},null,{"$f":"'ENLACES DATOS'!A211","v":"PRODUCCIONES-INDICES"},{"$f":"IF(C28=\"\",\"\",'ENLACES DATOS'!B211)","v":""},{"$f":"IF(C28=\"\",\"\",'ENLACES DATOS'!C211)","v":""},{"$f":"IF($B$11=\"\",\"\",IF('ENLACES DATOS'!B211<'ENLACES DATOS'!E211,\"MEJORAR PTO.CRITICO\",IF('ENLACES DATOS'!B211>'ENLACES DATOS'!D211,\"¡EXCELENTE!\",\"NORMALIZADO\")))","v":""}]
[null,{"$f":"'ENLACES DATOS'!A182","v":"Aprovechamiento recursos naturales"},null,{"$f":"IF($B$11=\"\",\"\",IF('ENLACES DATOS'!D182<'ENLACES DATOS'!K182,\"MEJORAR PTO.CRITICO\",IF('ENLACES DATOS'!D182>'ENLACES DATOS'!J182,\"¡EXCELENTE!\",\"NORMALIZADO\")))","v":""},null,{"$f":"'ENLACES DATOS'!A212","v":"CONDICIONES ECONOMICAS"},{"$f":"IF(C33=\"\",\"\",'ENLACES DATOS'!B212)","v":""},{"$f":"IF(C33=\"\",\"\",'ENLACES DATOS'!C212)","v":""},{"$f":"IF($B$11=\"\",\"\",IF('ENLACES DATOS'!B212<'ENLACES DATOS'!E212,\"MEJORAR PTO.CRITICO\",IF('ENLACES DATOS'!B212>'ENLACES DATOS'!D212,\"¡EXCELENTE!\",\"NORMALIZADO\")))","v":""}]
[null,{"$f":"'ENLACES DATOS'!A183","v":"Automatización"},null,{"$f":"IF($B$11=\"\",\"\",IF('ENLACES DATOS'!D183<'ENLACES DATOS'!K183,\"MEJORAR PTO.CRITICO\",IF('ENLACES DATOS'!D183>'ENLACES DATOS'!J183,\"¡EXCELENTE!\",\"NORMALIZADO\")))","v":""},null,"PUNTUACION GLOBAL",{"$f":"IF(B11=\"\",\"\",'ENLACES DATOS'!D204)","v":""},{"$f":"IF(B11=\"\",\"\",'ENLACES DATOS'!I204)","v":""},{"$f":"IF($B$11=\"\",\"\",IF('ENLACES DATOS'!D204<'ENLACES DATOS'!K204,\"MEJORAR  PPCC\",IF('ENLACES DATOS'!D204>'ENLACES DATOS'!J204,\"¡EXCELENTE!\",\"NORMALIZADO\")))","v":""}]
["PPCC SANIDAD",{"$f":"'ENLACES DATOS'!A184","v":"Existencia de protocolo sanitario"},null,{"$f":"IF($B$11=\"\",\"\",IF('ENLACES DATOS'!D184<'ENLACES DATOS'!K184,\"MEJORAR PTO.CRITICO\",IF('ENLACES DATOS'!D184>'ENLACES DATOS'!J184,\"¡EXCELENTE!\",\"NORMALIZADO\")))","v":""}]
[null,{"$f":"'ENLACES DATOS'!A185","v":"Mortalidad en chivos"},null,{"$f":"IF($B$11=\"\",\"\",IF('ENLACES DATOS'!D185<'ENLACES DATOS'!K185,\"MEJORAR PTO.CRITICO\",IF('ENLACES DATOS'!D185>'ENLACES DATOS'!J185,\"¡EXCELENTE!\",\"NORMALIZADO\")))","v":""}]
[null,{"$f":"'ENLACES DATOS'!A186","v":"Mortalidad en adultos"},null,{"$f":"IF($B$11=\"\",\"\",IF('ENLACES DATOS'!D186<'ENLACES DATOS'!K186,\"MEJORAR PTO.CRITICO\",IF('ENLACES DATOS'!D186>'ENLACES DATOS'!J186,\"¡EXCELENTE!\",\"NORMALIZADO\")))","v":""}]
[null,{"$f":"'ENLACES DATOS'!A187","v":"Incidencia patologia más frecuente"},null,{"$f":"IF($B$11=\"\",\"\",IF('ENLACES DATOS'!D187<'ENLACES DATOS'!K187,\"MEJORAR PTO.CRITICO\",IF('ENLACES DATOS'!D187>'ENLACES DATOS'!J187,\"¡EXCELENTE!\",\"NORMALIZADO\")))","v":""}]
[null,{"$f":"'ENLACES DATOS'!A188","v":"Porcentaje de mamitis"},null,{"$f":"IF($B$11=\"\",\"\",IF('ENLACES DATOS'!D188<'ENLACES DATOS'!K188,\"MEJORAR PTO.CRITICO\",IF('ENLACES DATOS'!D188>'ENLACES DATOS'!J188,\"¡EXCELENTE!\",\"NORMALIZADO\")))","v":""}]
["PPCC BA E INSTALACIONES",{"$f":"'ENLACES DATOS'!A189","v":"Lactancia Artificial"},null,{"$f":"IF($B$11=\"\",\"\",IF('ENLACES DATOS'!D189<'ENLACES DATOS'!K189,\"MEJORAR PTO.CRITICO\",IF('ENLACES DATOS'!D189>'ENLACES DATOS'!J189,\"¡EXCELENTE!\",\"NORMALIZADO\")))","v":""}]
[null,{"$f":"'ENLACES DATOS'!A190","v":"Tipo sala de ordeño"},null,{"$f":"IF($B$11=\"\",\"\",IF('ENLACES DATOS'!D190<'ENLACES DATOS'!K190,\"MEJORAR PTO.CRITICO\",IF('ENLACES DATOS'!D190>'ENLACES DATOS'!J190,\"¡EXCELENTE!\",\"NORMALIZADO\")))","v":""}]
[null,{"$f":"'ENLACES DATOS'!A191","v":"Control ambiental en naves"},null,{"$f":"IF($B$11=\"\",\"\",IF('ENLACES DATOS'!D191<'ENLACES DATOS'!K191,\"MEJORAR PTO.CRITICO\",IF('ENLACES DATOS'!D191>'ENLACES DATOS'!J191,\"¡EXCELENTE!\",\"NORMALIZADO\")))","v":""}]
[null,{"$f":"'ENLACES DATOS'!A192","v":"Parques por lotes"},null,{"$f":"IF($B$11=\"\",\"\",IF('ENLACES DATOS'!D192<'ENLACES DATOS'!K192,\"MEJORAR PTO.CRITICO\",IF('ENLACES DATOS'!D192>'ENLACES DATOS'!J192,\"¡EXCELENTE!\",\"NORMALIZADO\")))","v":""}]
[null,{"$f":"'ENLACES DATOS'!A193","v":"Comederos/Bebederos"},null,{"$f":"IF($B$11=\"\",\"\",IF('ENLACES DATOS'!D193<'ENLACES DATOS'!K193,\"MEJORAR PTO.CRITICO\",IF('ENLACES DATOS'!D193>'ENLACES DATOS'!J193,\"¡EXCELENTE!\",\"NORMALIZADO\")))","v":""}]
["PPCC PRODUCTIVIDAD",{"$f":"'ENLACES DATOS'!A194","v":"Porcentaje de reposición"},null,{"$f":"IF($B$11=\"\",\"\",IF('ENLACES DATOS'!D194<'ENLACES DATOS'!K194,\"MEJORAR PTO.CRITICO\",IF('ENLACES DATOS'!D194>'ENLACES DATOS'!J194,\"¡EXCELENTE!\",\"NORMALIZADO\")))","v":""}]
[null,{"$f":"'ENLACES DATOS'!A195","v":"Producción media"},null,{"$f":"IF($B$11=\"\",\"\",IF('ENLACES DATOS'!D195<'ENLACES DATOS'!K195,\"MEJORAR PTO.CRITICO\",IF('ENLACES DATOS'!D195>'ENLACES DATOS'!J195,\"¡EXCELENTE!\",\"NORMALIZADO\")))","v":""}]
[null,{"$f":"'ENLACES DATOS'!A196","v":"Calidad Media"},null,{"$f":"IF($B$11=\"\",\"\",IF('ENLACES DATOS'!D196<'ENLACES DATOS'!K196,\"MEJORAR PTO.CRITICO\",IF('ENLACES DATOS'!D196>'ENLACES DATOS'!J196,\"¡EXCELENTE!\",\"NORMALIZADO\")))","v":""}]
[null,{"$f":"'ENLACES DATOS'!A197","v":"Cabritos vendidos"},null,{"$f":"IF($B$11=\"\",\"\",IF('ENLACES DATOS'!D197<'ENLACES DATOS'!K197,\"MEJORAR PTO.CRITICO\",IF('ENLACES DATOS'!D197>'ENLACES DATOS'!J197,\"¡EXCELENTE!\",\"NORMALIZADO\")))","v":""}]
[null,{"$f":"'ENLACES DATOS'!A198","v":"Cabras por UTH"},null,{"$f":"IF($B$11=\"\",\"\",IF('ENLACES DATOS'!D198<'ENLACES DATOS'!K198,\"MEJORAR PTO.CRITICO\",IF('ENLACES DATOS'!D198>'ENLACES DATOS'!J198,\"¡EXCELENTE!\",\"NORMALIZADO\")))","v":""}]
["PPCC RESULTADOS ECONÓMICOS",{"$f":"'ENLACES DATOS'!A199","v":"Ingresos por leche"},null,{"$f":"IF($B$11=\"\",\"\",IF('ENLACES DATOS'!D199<'ENLACES DATOS'!K199,\"MEJORAR PTO.CRITICO\",IF('ENLACES DATOS'!D199>'ENLACES DATOS'!J199,\"¡EXCELENTE!\",\"NORMALIZADO\")))","v":""}]
[null,{"$f":"'ENLACES DATOS'!A200","v":"Ingresos por animales vendidos"},null,{"$f":"IF($B$11=\"\",\"\",IF('ENLACES DATOS'!D200<'ENLACES DATOS'!K200,\"MEJORAR PTO.CRITICO\",IF('ENLACES DATOS'!D200>'ENLACES DATOS'!J200,\"¡EXCELENTE!\",\"NORMALIZADO\")))","v":""}]
[null,{"$f":"'ENLACES DATOS'!A201","v":"Coste mano de obra"},null,{"$f":"IF($B$11=\"\",\"\",IF('ENLACES DATOS'!D201<'ENLACES DATOS'!K201,\"MEJORAR PTO.CRITICO\",IF('ENLACES DATOS'!D201>'ENLACES DATOS'!J201,\"¡EXCELENTE!\",\"NORMALIZADO\")))","v":""}]
[null,{"$f":"'ENLACES DATOS'!A202","v":"Coste alimentación"},null,{"$f":"IF($B$11=\"\",\"\",IF('ENLACES DATOS'!D202<'ENLACES DATOS'!K202,\"MEJORAR PTO.CRITICO\",IF('ENLACES DATOS'!D202>'ENLACES DATOS'!J202,\"¡EXCELENTE!\",\"NORMALIZADO\")))","v":""}]
[null,{"$f":"'ENLACES DATOS'!A203","v":"Amortizaciones /Subvenciones"},null,{"$f":"IF($B$11=\"\",\"\",IF('ENLACES DATOS'!D203<'ENLACES DATOS'!K203,\"MEJORAR PTO.CRITICO\",IF('ENLACES DATOS'!D203>'ENLACES DATOS'!J203,\"¡EXCELENTE!\",\"NORMALIZADO\")))","v":""}]
[null,{"$f":"'ENLACES DATOS'!A204","v":"TOTAL CHEQUEOS"},{"$f":"IF(B11=\"\",\"\",'ENLACES DATOS'!E204)","v":""}]

{"sheet":"PPCC OVINO","index":47,"n_rows":38,"n_cols":9,"rows_kept":38,"cut":false,"hidden":false,"merged":[[32,0,36,0],[8,1,8,2],[8,6,8,8],[12,0,16,0],[17,0,21,0],[22,0,26,0],[27,0,31,0]]}
[]
[]
[]
[]
[]
[]
["AUDITORÍA/PUNTOS CRÍTICOS OVINO",null,null,null,null,{"$f":"A7","v":"AUDITORÍA/PUNTOS CRÍTICOS OVINO"}]
[]
["GANADERO","EJEMPLO",null,null,null,{"$f":"A9","v":"GANADERO"},{"$f":"IF(B9=\"\",\"\",B9)","v":"EJEMPLO"}]
[]
["FECHA",null,null,null,null,"POR GRUPOS ","REAL","OBTENIDO","COMENTARIO"]
[null,null,null,null,null,{"$f":"'ENLACES DATOS'!A208","v":"ALIMENTACION"},{"$f":"IF(C13=\"\",\"\",'ENLACES DATOS'!B167)","v":""},{"$f":"IF(C13=\"\",\"\",'ENLACES DATOS'!C167)","v":""},{"$f":"IF($B$11=\"\",\"\",IF('ENLACES DATOS'!B167<'ENLACES DATOS'!E167,\"MEJORAR PTO.CRITICO\",IF('ENLACES DATOS'!B167>'ENLACES DATOS'!D167,\"¡EXCELENTE!\",\"NORMALIZADO\")))","v":""}]
["PPCC ALIMENTACIÓN",{"$f":"'ENLACES DATOS'!A138","v":"Sistemas de alimentación"},null,{"$f":"IF($B$11=\"\",\"\",IF('ENLACES DATOS'!D138<'ENLACES DATOS'!K138,\"MEJORAR PTO.CRITICO\",IF('ENLACES DATOS'!D138>'ENLACES DATOS'!J138,\"¡EXCELENTE!\",\"NORMALIZADO\")))","v":""},null,{"$f":"'ENLACES DATOS'!A209","v":"SANIDAD"},{"$f":"IF(C18=\"\",\"\",'ENLACES DATOS'!B168)","v":""},{"$f":"IF(C18=\"\",\"\",'ENLACES DATOS'!C168)","v":""},{"$f":"IF($B$11=\"\",\"\",IF('ENLACES DATOS'!B168<'ENLACES DATOS'!E168,\"MEJORAR PTO.CRITICO\",IF('ENLACES DATOS'!B168>'ENLACES DATOS'!D168,\"¡EXCELENTE!\",\"NORMALIZADO\")))","v":""}]
[null,{"$f":"'ENLACES DATOS'!A139","v":"Calidad y disponibilidad e forrajes"},null,{"$f":"IF($B$11=\"\",\"\",IF('ENLACES DATOS'!D139<'ENLACES DATOS'!K139,\"MEJORAR PTO.CRITICO\",IF('ENLACES DATOS'!D139>'ENLACES DATOS'!J139,\"¡EXCELENTE!\",\"NORMALIZADO\")))","v":""},null,{"$f":"'ENLACES DATOS'!A210","v":"INSTALACIONES Y B.A."},{"$f":"IF(C23=\"\",\"\",'ENLACES DATOS'!B169)","v":""},{"$f":"IF(C23=\"\",\"\",'ENLACES DATOS'!C169)","v":""},{"$f":"IF($B$11=\"\",\"\",IF('ENLACES DATOS'!B169<'ENLACES DATOS'!E169,\"MEJORAR PTO.CRITICO\",IF('ENLACES DATOS'!B169>'ENLACES DATOS'!D169,\"¡EXCELENTE!\",\"NORMALIZADO\")))","v":""}]
[null,{"$f":"'ENLACES DATOS'!A140","v":"Lotes de alimentacion"},null,{"$f":"IF($B$11=\"\",\"\",IF('ENLACES DATOS'!D140<'ENLACES DATOS'!K140,\"MEJORAR PTO.CRITICO\",IF('ENLACES DATOS'!D140>'ENLACES DATOS'!J140,\"¡EXCELENTE!\",\"NORMALIZADO\")))","v":""},null,{"$f":"'ENLACES DATOS'!A211","v":"PRODUCCIONES-INDICES"},{"$f":"IF(C28=\"\",\"\",'ENLACES DATOS'!B170)","v":""},{"$f":"IF(C24=\"\",\"\",'ENLACES DATOS'!C170)","v":""},{"$f":"IF($B$11=\"\",\"\",IF('ENLACES DATOS'!B170<'ENLACES DATOS'!E170,\"MEJORAR PTO.CRITICO\",IF('ENLACES DATOS'!B170>'ENLACES DATOS'!D170,\"¡EXCELENTE!\",\"NORMALIZADO\")))","v":""}]
[null,{"$f":"'ENLACES DATOS'!A141","v":"Aprovechamiento recursos naturales"},null,{"$f":"IF($B$11=\"\",\"\",IF('ENLACES DATOS'!D141<'ENLACES DATOS'!K141,\"MEJORAR PTO.CRITICO\",IF('ENLACES DATOS'!D141>'ENLACES DATOS'!J141,\"¡EXCELENTE!\",\"NORMALIZADO\")))","v":""},null,{"$f":"'ENLACES DATOS'!A212","v":"CONDICIONES ECONOMICAS"},{"$f":"IF(C33=\"\",\"\",'ENLACES DATOS'!B171)","v":""},{"$f":"IF(C33=\"\",\"\",'ENLACES DATOS'!C171)","v":""},{"$f":"IF($B$11=\"\",\"\",IF('ENLACES DATOS'!B171<'ENLACES DATOS'!E171,\"MEJORAR PTO.CRITICO\",IF('ENLACES DATOS'!B171>'ENLACES DATOS'!D171,\"¡EXCELENTE!\",\"NORMALIZADO\")))","v":""}]
[null,{"$f":"'ENLACES DATOS'!A142","v":"Automatización"},null,{"$f":"IF($B$11=\"\",\"\",IF('ENLACES DATOS'!D142<'ENLACES DATOS'!K142,\"MEJORAR PTO.CRITICO\",IF('ENLACES DATOS'!D142>'ENLACES DATOS'!J142,\"¡EXCELENTE!\",\"NORMALIZADO\")))","v":""},null,"PUNTUACION GLOBAL",{"$f":"IF(B11=\"\",\"\",'ENLACES DATOS'!D163)","v":""},{"$f":"IF(B11=\"\",\"\",'ENLACES DATOS'!I163)","v":""},{"$f":"IF($B$11=\"\",\"\",IF('ENLACES DATOS'!D163<'ENLACES DATOS'!K163,\"MEJORAR  PPCC\",IF('ENLACES DATOS'!D163>'ENLACES DATOS'!J163,\"¡EXCELENTE!\",\"NORMALIZADO\")))","v":""}]
["PPCC SANIDAD",{"$f":"'ENLACES DATOS'!A143","v":"Existencia de protocolo sanitario"},null,{"$f":"IF($B$11=\"\",\"\",IF('ENLACES DATOS'!D143<'ENLACES DATOS'!K143,\"MEJORAR PTO.CRITICO\",IF('ENLACES DATOS'!D143>'ENLACES DATOS'!J143,\"¡EXCELENTE!\",\"NORMALIZADO\")))","v":""}]
[null,{"$f":"'ENLACES DATOS'!A144","v":"Mortalidad en corderos"},null,{"$f":"IF($B$11=\"\",\"\",IF('ENLACES DATOS'!D144<'ENLACES DATOS'!K144,\"MEJORAR PTO.CRITICO\",IF('ENLACES DATOS'!D144>'ENLACES DATOS'!J144,\"¡EXCELENTE!\",\"NORMALIZADO\")))","v":""}]
[null,{"$f":"'ENLACES DATOS'!A145","v":"Mortalidad en adultos"},null,{"$f":"IF($B$11=\"\",\"\",IF('ENLACES DATOS'!D145<'ENLACES DATOS'!K145,\"MEJORAR PTO.CRITICO\",IF('ENLACES DATOS'!D145>'ENLACES DATOS'!J145,\"¡EXCELENTE!\",\"NORMALIZADO\")))","v":""}]
[null,{"$f":"'ENLACES DATOS'!A146","v":"Incidencia patologia más frecuente"},null,{"$f":"IF($B$11=\"\",\"\",IF('ENLACES DATOS'!D146<'ENLACES DATOS'!K146,\"MEJORAR PTO.CRITICO\",IF('ENLACES DATOS'!D146>'ENLACES DATOS'!J146,\"¡EXCELENTE!\",\"NORMALIZADO\")))","v":""}]
[null,{"$f":"'ENLACES DATOS'!A147","v":"Porcentaje de mamitis"},null,{"$f":"IF($B$11=\"\",\"\",IF('ENLACES DATOS'!D147<'ENLACES DATOS'!K147,\"MEJORAR PTO.CRITICO\",IF('ENLACES DATOS'!D147>'ENLACES DATOS'!J147,\"¡EXCELENTE!\",\"NORMALIZADO\")))","v":""}]
["PPCC BA E INSTALACIONES",{"$f":"'ENLACES DATOS'!A148","v":"Lactancia Artificial"},null,{"$f":"IF($B$11=\"\",\"\",IF('ENLACES DATOS'!D148<'ENLACES DATOS'!K148,\"MEJORAR PTO.CRITICO\",IF('ENLACES DATOS'!D148>'ENLACES DATOS'!J148,\"¡EXCELENTE!\",\"NORMALIZADO\")))","v":""}]
[null,{"$f":"'ENLACES DATOS'!A149","v":"Tipo sala de ordeño"},null,{"$f":"IF($B$11=\"\",\"\",IF('ENLACES DATOS'!D149<'ENLACES DATOS'!K149,\"MEJORAR PTO.CRITICO\",IF('ENLACES DATOS'!D149>'ENLACES DATOS'!J149,\"¡EXCELENTE!\",\"NORMALIZADO\")))","v":""}]
[null,{"$f":"'ENLACES DATOS'!A150","v":"Control ambiental en naves"},null,{"$f":"IF($B$11=\"\",\"\",IF('ENLACES DATOS'!D150<'ENLACES DATOS'!K150,\"MEJORAR PTO.CRITICO\",IF('ENLACES DATOS'!D150>'ENLACES DATOS'!J150,\"¡EXCELENTE!\",\"NORMALIZADO\")))","v":""}]
[null,{"$f":"'ENLACES DATOS'!A151","v":"Parques por lotes"},null,{"$f":"IF($B$11=\"\",\"\",IF('ENLACES DATOS'!D151<'ENLACES DATOS'!K151,\"MEJORAR PTO.CRITICO\",IF('ENLACES DATOS'!D151>'ENLACES DATOS'!J151,\"¡EXCELENTE!\",\"NORMALIZADO\")))","v":""}]
[null,{"$f":"'ENLACES DATOS'!A152","v":"Comederos/Bebederos"},null,{"$f":"IF($B$11=\"\",\"\",IF('ENLACES DATOS'!D152<'ENLACES DATOS'!K152,\"MEJORAR PTO.CRITICO\",IF('ENLACES DATOS'!D152>'ENLACES DATOS'!J152,\"¡EXCELENTE!\",\"NORMALIZADO\")))","v":""}]
["PPCC PRODUCTIVIDAD",{"$f":"'ENLACES DATOS'!A153","v":"Leche oveja/año"},null,{"$f":"IF($B$11=\"\",\"\",IF('ENLACES DATOS'!D153<'ENLACES DATOS'!K153,\"MEJORAR PTO.CRITICO\",IF('ENLACES DATOS'!D153>'ENLACES DATOS'!J153,\"¡EXCELENTE!\",\"NORMALIZADO\")))","v":""}]
[null,{"$f":"'ENLACES DATOS'!A154","v":"Corderos vendidos"},null,{"$f":"IF($B$11=\"\",\"\",IF('ENLACES DATOS'!D154<'ENLACES DATOS'!K154,\"MEJORAR PTO.CRITICO\",IF('ENLACES DATOS'!D154>'ENLACES DATOS'!J154,\"¡EXCELENTE!\",\"NORMALIZADO\")))","v":""}]
[null,{"$f":"'ENLACES DATOS'!A155","v":"Ovejas/UTH"},null,{"$f":"IF($B$11=\"\",\"\",IF('ENLACES DATOS'!D155<'ENLACES DATOS'!K155,\"MEJORAR PTO.CRITICO\",IF('ENLACES DATOS'!D155>'ENLACES DATOS'!J155,\"¡EXCELENTE!\",\"NORMALIZADO\")))","v":""}]
[null,{"$f":"'ENLACES DATOS'!A156","v":"Calidad de leche"},null,{"$f":"IF($B$11=\"\",\"\",IF('ENLACES DATOS'!D156<'ENLACES DATOS'!K156,\"MEJORAR PTO.CRITICO\",IF('ENLACES DATOS'!D156>'ENLACES DATOS'!J156,\"¡EXCELENTE!\",\"NORMALIZADO\")))","v":""}]
[null,{"$f":"'ENLACES DATOS'!A157","v":"Tasa de reposición"},null,{"$f":"IF($B$11=\"\",\"\",IF('ENLACES DATOS'!D157<'ENLACES DATOS'!K157,\"MEJORAR PTO.CRITICO\",IF('ENLACES DATOS'!D157>'ENLACES DATOS'!J157,\"¡EXCELENTE!\",\"NORMALIZADO\")))","v":""}]
["PPCC RESULTADOS ECONÓMICOS",{"$f":"'ENLACES DATOS'!A158","v":"Ingresos brutos por leche"},null,{"$f":"IF($B$11=\"\",\"\",IF('ENLACES DATOS'!D158<'ENLACES DATOS'!K158,\"MEJORAR PTO.CRITICO\",IF('ENLACES DATOS'!D158>'ENLACES DATOS'!J158,\"¡EXCELENTE!\",\"NORMALIZADO\")))","v":""}]
[null,{"$f":"'ENLACES DATOS'!A159","v":"Ingresos brutos por venta animales (corderos, desvieje, machos)"},null,{"$f":"IF($B$11=\"\",\"\",IF('ENLACES DATOS'!D159<'ENLACES DATOS'!K159,\"MEJORAR PTO.CRITICO\",IF('ENLACES DATOS'!D159>'ENLACES DATOS'!J159,\"¡EXCELENTE!\",\"NORMALIZADO\")))","v":""}]
[null,{"$f":"'ENLACES DATOS'!A160","v":"Gastos de alimentación (concentrados + forrajes)"},null,{"$f":"IF($B$11=\"\",\"\",IF('ENLACES DATOS'!D160<'ENLACES DATOS'!K160,\"MEJORAR PTO.CRITICO\",IF('ENLACES DATOS'!D160>'ENLACES DATOS'!J160,\"¡EXCELENTE!\",\"NORMALIZADO\")))","v":""}]
[null,{"$f":"'ENLACES DATOS'!A161","v":"Amortizaciones (maquinaria, naves...)."},null,{"$f":"IF($B$11=\"\",\"\",IF('ENLACES DATOS'!D161<'ENLACES DATOS'!K161,\"MEJORAR PTO.CRITICO\",IF('ENLACES DATOS'!D161>'ENLACES DATOS'!J161,\"¡EXCELENTE!\",\"NORMALIZADO\")))","v":""}]
[null,{"$f":"'ENLACES DATOS'!A162","v":"Mano de obra (costes por UTH)"},null,{"$f":"IF($B$11=\"\",\"\",IF('ENLACES DATOS'!D162<'ENLACES DATOS'!K162,\"MEJORAR PTO.CRITICO\",IF('ENLACES DATOS'!D162>'ENLACES DATOS'!J162,\"¡EXCELENTE!\",\"NORMALIZADO\")))","v":""}]
[null,{"$f":"'ENLACES DATOS'!A204","v":"TOTAL CHEQUEOS"},{"$f":"IF(B11=\"\",\"\",'ENLACES DATOS'!E163)","v":""}]

{"sheet":"MODULO GENERAL","index":48,"n_rows":0,"n_cols":0,"rows_kept":0,"cut":false,"hidden":false,"merged":[]}

{"sheet":"MODULO PLAN EXPLOTACION","index":49,"n_rows":0,"n_cols":0,"rows_kept":0,"cut":false,"hidden":false,"merged":[]}

{"sheet":"MODULO PRODUCCION MEJORA","index":50,"n_rows":0,"n_cols":0,"rows_kept":0,"cut":false,"hidden":false,"merged":[]}

{"sheet":"MODULO BA Y SOSTENIBILIDAD","index":51,"n_rows":0,"n_cols":0,"rows_kept":0,"cut":false,"hidden":false,"merged":[]}

{"sheet":"MODULO NUTRICION","index":52,"n_rows":0,"n_cols":0,"rows_kept":0,"cut":false,"hidden":false,"merged":[]}

{"sheet":"MODULO KOMPLET","index":53,"n_rows":0,"n_cols":0,"rows_kept":0,"cut":false,"hidden":false,"merged":[]}

{"sheet":"MODULO INSTALACIONES","index":54,"n_rows":0,"n_cols":0,"rows_kept":0,"cut":false,"hidden":false,"merged":[]}

{"sheet":"MODULO ECONOMIA","index":55,"n_rows":0,"n_cols":0,"rows_kept":0,"cut":false,"hidden":false,"merged":[]}